{"text_format":"1","workbook":"xlsx","n_sheets":44,"sheets":["GUIA PARA PREENCHIMENTO","MODELO PROPOSTA","Remunerações","Resumo","1","3","4","5","6","7","8","9","10","11","12","13","14","15","16","17","18","19","2","Dados Gerais","Encargos Sociais","Encargos Sociais - HE","Encargos Sociais - Plant","BDI - Geral","BDI - Demanda","Uniformes","EPI","SREP","NOTURNAS","EPI - N.Rel","Ferramentas","Equipamentos","Mat Consumo","Prof.N.Resid","Veículos","Serv.Adicionais","Demanda - H.Extras","Demanda - Transp. p. chamado","Materiais - Consumo","Demanda - Serviços"],"not_rendered":{"charts":0,"images":2,"macros":1,"external_links":1,"defined_names":68,"comments":2,"pivot_tables":0},"unopened":[],"bounds":{"document_bytes":16777216,"sheet_cells":100000,"rows_first":2000,"rows_last":500,"rows_between":2000,"halvings":0,"cell_chars":16384,"cell_head_chars":4096},"cells_cut":0,"cells_raw":0,"read":"whole","date_system":"1900"}

{"sheet":"GUIA PARA PREENCHIMENTO","index":0,"n_rows":5,"n_cols":1,"rows_kept":5,"cut":false,"hidden":false,"merged":[]}
["GUIA PARA PREENCHIMENTO"]
[]
["1 - Preencher apenas as guias azuis:"]
[]
["2 - Recomendamos preencher somente as células com fundo azul claro. As demais possuem fórmulas e sugerimos não alterá-las."]

{"sheet":"MODELO PROPOSTA","index":1,"n_rows":83,"n_cols":2,"rows_kept":83,"cut":false,"hidden":false,"merged":[[1,1,1,9],[4,1,4,9],[6,1,6,9],[9,1,9,9],[7,1,8,9],[10,1,10,9],[11,1,11,9],[12,1,12,9],[13,1,13,9],[15,1,15,9],[16,1,16,9],[17,1,17,2],[18,1,19,9],[20,1,20,9],[22,1,22,9],[23,1,23,9],[24,1,24,9],[26,1,26,4],[26,5,26,9],[28,1,28,4],[28,5,28,9],[27,1,27,4],[27,5,27,9],[82,1,82,9],[29,1,29,4],[29,5,29,9],[73,1,73,4],[73,5,73,9],[38,1,38,4],[38,5,38,9],[39,1,39,4],[39,5,39,9],[70,1,70,9],[71,1,71,4],[71,5,71,9],[72,5,72,9],[74,1,74,9],[77,1,77,9],[78,1,78,9],[79,1,79,9],[72,1,72,4],[47,1,47,9],[48,1,48,9],[49,1,52,9],[53,1,56,9],[57,1,60,9],[34,1,36,4],[34,5,36,9],[30,1,31,4],[30,5,31,9],[32,1,33,4],[32,5,33,9],[61,1,63,9],[64,1,66,9],[67,1,68,9],[37,1,37,4],[37,5,37,9],[40,1,40,9],[42,1,42,9],[43,1,43,9],[44,1,44,9],[46,1,46,9]]}
[]
[null,"MODELO DA PROPOSTA COMPLETA"]
[]
[null,"."]
[null,"I – FORMALIZAÇÃO"]
[]
[null,"PREGÃO ELETRÔNICO N. 90099/2025"]
[null,"OBJETO: Prestação de serviços continuados de apoio técnico para execução de atividades auxiliares, instrumentais e acessórias para a Câmara dos Deputados, a serem realizados com regime de dedicação exclusiva de mão de obra, pelo período de 24 (vinte e quatro) meses."]
[]
[null,"LICITANTE: _____________________________________________________"]
[null,"CNPJ: ________________________________________________________"]
[null,"ENDEREÇO COMPLETO: _________________________________________"]
[null,"TELEFONE:_____________________________________________________"]
[null,"E-MAIL: ________________________________________________________"]
[]
[null,"Apresentamos nossa proposta para o item único da presente licitação, de acordo com as disposições do Edital."]
[null,"Decorre do conteúdo da presente proposta a explicitação do seguinte PREÇO DE JULGAMENTO (GLOBAL) PARA O ITEM ÚNICO (24 MESES):"]
[null,{"$f":"Resumo!F74","v":47235831.600000001}]
[null,{"$f":"Extenso_Valor(B18)","v":"quarenta e sete milhões, duzentos e trinta e cinco mil, oitocentos e trinta e um reais e sessenta centavos"}]
[]
[null,"(por extenso)"]
[]
[null,"No valor proposto estão incluídos todos os custos e todas as despesas, diretas e indiretas, para a execução dos serviços objeto da licitação, em conformidade com as especificações e demais condições e exigências constantes do Edital."]
[null,"Informamos que eventuais rubricas dispostas em Acordo ou Convenção Coletiva de Trabalho que não se relacionem ao custo direto da venda do serviço, tais como “Participação nos Resultados” e “Abono substitutivo de Participação nos Resultados”, serão consideradas nos custos indiretos da proposta."]
[null,"O prazo de validade da presente proposta é de ______ (por extenso) dias. (observado o disposto no Título 4 do Edital)."]
[]
[null,"Convenção coletiva de trabalho ou a norma coletiva a que estamos obrigados:"]
[null,"Justificativa para a adoção da Convenção:"]
[null,"Data-Base:"]
[null,"Número do Registro MTE:"]
[null,"Atividade econômica preponderante (indicar conforme CNAE):"]
[]
[null,"Enquadramento Sindical (quem a representa legalmente):"]
[]
[null,"Cópia da carta ou registro sindical do sindicato ao qual ele declara ser enquadrado, em razão do regramento sindical previsto na CLT ou por força de decisão judicial:"]
[]
[]
[null,"Regime de tributação da empresa:"]
[null,"Empresa é beneficiada pela desoneração da folha de pagamento instituída pela Lei n. 12.546/2001, alterada pela Lei n. 13.161/2015 e pela Lei n. 14.973/2024?"]
[null,"Empresa adere ao PAT (Programa de Alimentação do Trabalhador)?"]
[null,"Na hipótese de adesão ao PAT e de previsão de qualquer desconto no valor do auxílio-alimentação em norma coletiva, os valores do auxílio-alimentação apresentados nesta proposta deverão corresponder aos valores líquidos efetivamente pagos pela empresa aos seus empregados."]
[]
[null,"MODALIDADE DE GARANTIA"]
[null,"De acordo com o disposto no Termo de Referência, informamos que, caso o objeto nos seja adjudicado, optaremos pela seguinte modalidade de garantia de execução do contrato (artigos 96 e seguintes da Lei 14.133/2021):"]
[]
[]
[null,"DECLARAÇÕES"]
[null,"Declaramos que:\na) Disponibilizaremos todos os itens necessários à execução dos serviços, sejam eles insumos ou materiais, bem como pessoal técnico adequado para a realização do objeto da presente licitação;"]
[null,"b) Seremos responsáveis pelo descarte ambientalmente adequado de todos os resíduos gerados durante a execução dos serviços contratados – incluindo consumíveis, peças substituídas, embalagens e demais materiais – em conformidade com a legislação ambiental vigente, especialmente a Lei n. 9.605/1998 (Lei de Crimes Ambientais), a Lei n. 12.305/2010 (Política Nacional de Resíduos Sólidos) e a NBR 10.004 (classificação de resíduos sólidos)."]
[null,"A SEREM PRESTADAS SOMENTE NA HIPÓTESE DE LICITANTE MICROEMPRESA OU EMPRESA DE PEQUENO PORTE, EM CONFORMIDADE COM OS ARTIGOS 17, 18, 30 E 31 DA LEI COMPLEMENTAR N. 123/2006, E O ACÓRDÃO TCU 2798/2010-PLENÁRIO\nDeclaramos que:\na) em se tratando dos serviços vedados descritos no artigo 17 da Lei Complementar n. 123/2006, notadamente os descritos no inciso XII (cessão ou locação de mão de obra), ressalvados os serviços listados nos § 5º-C, inciso VI, c/c § 5º-H do art. 18 ou no § 1º do art. 17 da referida Lei, a proposta apresentada não contempla qualquer benefício tributário referente ao SIMPLES NACIONAL, conforme os itens 4.20 e 4.21 do Edital;\nb) na hipótese de contratação desta Microempresa ou Empresa de Pequeno Porte inscrita no SIMPLES NACIONAL e executora de atividade vedada, ficamos sujeitos à exclusão obrigatória no SIMPLES NACIONAL a contar do mês seguinte ao da contratação, em consequência do que dispõem o artigo 17, inciso XII e o artigo 31, inciso II da Lei Complementar n, 123/2006, devendo entregar à Câmara dos Deputados, à título de comprovação, cópia de ofício – com comprovante de entrega e recebimento, que comunique a assinatura do contrato de prestação de serviços mediante cessão de mão de obra e encaminhado pela contratada à Secretaria Especial da Receita Federal do Brasil até o último dia útil do mês subsequente ao da contratação, consoante artigo 30, § 1º, inciso II da Lei Complementar n. 123/2006.\n"]
[]
[]
[]
[null,"A SEREM PRESTADAS SOMENTE NA HIPÓTESE DE LICITANTE BENEFICIADA PELA DESONERAÇÃO DA FOLHA DE PAGAMENTO INSTITUÍDA PELA LEI N. 12.546/2011, ALTERADA PELA LEI N. 13.161/2015 E PELA LEI N. 14.973/2024.\nDeclaramos, sob as penas da Lei, que:\na) recolhemos a contribuição previdenciária incidente sobre o valor da receita bruta, em substituição às contribuições previdenciárias incidentes sobre a folha de pagamento, previstas nos incisos I e III do caput do artigo 22 da Lei n. 8.212/1991, na forma do caput do artigo 9º-A da Lei n. 12.546/2011, alteradas pela Lei n. 13.161/2015 e pela Lei n. 14.973/2024;\nb) temos ciência que nossa manifestação, conforme alínea “a” anterior, será remetida à Secretaria Especial da Receita Federal do Brasil e que, em caso de constatação de falsidade, estará sujeita às sanções administrativas cabíveis, sem prejuízo do encaminhamento dos documentos ao Ministério Público para apuração de eventual responsabilidade criminal desta declarante;\nc) temos ciência de que a variação das alíquotas previstas no art. 9º-A da Lei n. 12.546/2011, incluído pela Lei n. 14.973/2024, bem como a transição gradual de reoneração da folha de pagamento, foram integralmente consideradas na formulação da presente proposta, não cabendo, em nenhuma hipótese, pedido de reequilíbrio econômico-financeiro, repactuação ou apostilamento, durante a vigência contratual ou em eventuais prorrogações, por se tratar de fato previsível e anterior à apresentação da proposta.\n"]
[]
[]
[]
[null," NOTAS EXPLICATIVAS – PREMISSAS DE CÁLCULO\n (Conforme o item 4.5.1.4 do Termo de Referência)\n Abaixo apresentamos as notas explicativas com as premissas adotadas no cálculo dos encargos sociais e tributários, especialmente quanto à aplicação da Lei n. 14.973/2024, que trata da reoneração gradual da folha de pagamento.\n As informações apresentadas visam garantir a transparência e exequibilidade da proposta, demonstrando como os efeitos da referida lei foram integralmente considerados na composição dos preços.\n ________________________________________________________________________________________________________________________________________________________________________________________________________________\n (Indicar os marcos anuais de transição das alíquotas considerados no cálculo; Descrever a metodologia de projeção dos custos até a reoneração total da folha; Confirmar que todos os impactos foram internalizados na proposta e não ensejarão pedido de reequilíbrio, repactuação ou apostilamento durante a vigência contratual ou prorrogações.)\n"]
[]
[]
[]
[null," OU\n \n A SEREM PRESTADAS SOMENTE NA HIPÓTESE DE LICITANTE NÃO BENEFICIADA PELA DESONERAÇÃO DA FOLHA DE PAGAMENTO INSTITUÍDA PELA LEI N. 12.546, DE 2011, ALTERADA PELA LEI N. 13.161, DE 2015\n \n Declaramos, sob as penas da Lei, que:\na) não recolhemos a contribuição previdenciária incidente sobre o valor da receita bruta, em substituição às contribuições previdenciárias incidentes sobre a folha de pagamento, previstas nos incisos I e III do caput do artigo 22 da Lei n. 8.212/1991, na forma do caput do artigo 7º (ou 8º) da Lei n. 12.546/2011, alterada pela Lei n. 13.161/2015;\nb) temos ciência que nossa manifestação, conforme alínea “a” anterior, será remetida à Secretaria Especial da Receita Federal do Brasil e que, em caso de constatação de falsidade, estará sujeita às sanções administrativas cabíveis, sem prejuízo do encaminhamento dos documentos ao Ministério Público para apuração de eventual responsabilidade criminal desta declarante.\n"]
[]
[]
[null,"A SEREM PRESTADAS SOMENTE PARA A LICITANTE QUE SEJA A ATUAL TITULAR DO CONTRATO QUE SERÁ SUCEDIDO PELA CONTRATAÇÃO DECORRENTE DO PREGÃO EM EPÍGRAFE, NA HIPÓTESE DE HAVER SALÁRIO(S) PRATICADO(S) NO CONTRATO VIGENTE SUPERIOR(ES) AOS MÍNIMOS FIXADOS NO EDITAL E QUE TENHA OPTADO POR TOMAR COMO BASE EM SEUS LANCES E NA PRESENTE PROPOSTA DE PREÇOS SALÁRIO(S) FIXADO(S) NESTE EDITAL:\nDeclaramos que:\na) estamos cientes de que deveremos apresentar à Câmara dos Deputados, no prazo improrrogável de 60 (sessenta) dias, contado da data de início da vigência do contrato, a convenção ou o acordo coletivo de trabalho, entabulado com a participação do sindicato dos trabalhadores, em que se autoriza a redução salarial, na forma do art. 7°, VI, da Constituição Federal, considerado, ainda, o disposto no subitem 10.10.2.1 do Título 10 da minuta do Termo de Contrato anexa;\nb) estamos cientes de que, na hipótese de não cumprirmos o disposto no teor da declaração da alínea anterior (“a”) e não logrado êxito na contratação de remanescente, sendo necessária a realização de nova licitação, caso participemos do certame, deveremos tomar como base em nossos lances e em nossa proposta de preços o(s) salário(s) maior(es), absorvendo ou acrescentando eventual diferença no BDI, sob pena de desclassificação.\n"]
[]
[]
[null,"É OBRIGATÓRIA A COMPROVAÇÃO A QUE SE REFERE O ITEM 4.3 DO TÍTULO 4 DO TERMO DE REFERÊNCIA \n(referente ao valor do Fator Acidentário de Prevenção (FAP)).\n"]
[]
[]
[null,"DADOS PARA ASSINATURA DO CONTRATO"]
[null,"Nome do signatário"]
[null,"Cargo"]
[null,"Qualificação\n(naturalidade e domicílio)"]
[null,"OBS.: O signatário deve possuir poderes de administração estabelecidos em contrato social e/ou possuir procuração com poderes para assinar contratos em nome da empresa. \nA documentação comprobatória deverá ser encaminhada quando da assinatura do contrato."]
[]
[]
[null,"Brasília,     de                     de 2025."]
[]
[null,"Assinatura do representante legal da empresa"]
[]
[]
[null,"Nome do representante legal da empresa"]

{"sheet":"Remunerações","index":2,"n_rows":51,"n_cols":11,"rows_kept":51,"cut":false,"hidden":false,"merged":[[0,1,0,10]]}
[null,"QUADRO DE REMUNERAÇÕES"]
[]
[null,null,"ITEM","POSTO DE TRABALHO","QUANTIDADE","SALÁRIO","ADICIONAL DE PERICULOSIDADE","ADICIONAL DE INSALUBRIDADE","ADICIONAL NOTURNO","SOBREAVISO OU HORA EXTRA","SALÁRIO COM ADICIONAIS"]
[null,null,1,{"$f":"HLOOKUP(C4,'Dados Gerais'!$D$6:$BI$11,6)","v":"TÉCNICO DE APOIO ADMINISTRATIVO"},{"$f":"HLOOKUP($C4,'Dados Gerais'!$D$6:$BI$15,10)","v":168},{"$f":"'1'!$F$9","v":4932.41},{"$f":"'1'!$F$10","v":0},{"$f":"'1'!$F$11","v":0},{"$f":"'1'!$F$12","v":0},{"$f":"'1'!$F$13+'1'!$F$15","v":0},{"$f":"SUM(F4:J4)","v":4932.41}]
[null,null,{"$f":"C4+1","v":2},{"$f":"HLOOKUP(C5,'Dados Gerais'!$D$6:$BI$11,6)","v":"ENCARREGADO GERAL"},{"$f":"HLOOKUP($C5,'Dados Gerais'!$D$6:$BI$15,10)","v":1},{"$f":"'2'!$F$9","v":6937.73},{"$f":"'2'!$F$10","v":0},{"$f":"'2'!$F$11","v":0},{"$f":"'2'!$F$12","v":0},{"$f":"'2'!$F$13+'2'!$F$15","v":0},6937.73]
[null,null,{"$f":"C5+1","v":3},{"$f":"HLOOKUP(C6,'Dados Gerais'!$D$6:$BI$11,6)","v":0},{"$f":"HLOOKUP($C6,'Dados Gerais'!$D$6:$BI$15,10)","v":0},{"$f":"'3'!$F$9","v":0},{"$f":"'3'!$F$10","v":0},{"$f":"'3'!$F$11","v":0},{"$f":"'3'!$F$12","v":0},{"$f":"'3'!$F$13+'3'!$F$15","v":0},0]
[null,null,4,{"$f":"HLOOKUP(C7,'Dados Gerais'!$D$6:$BI$11,6)","v":0},{"$f":"HLOOKUP($C7,'Dados Gerais'!$D$6:$BI$15,10)","v":0},{"$f":"'4'!$F$9","v":0},{"$f":"'4'!$F$10","v":0},{"$f":"'4'!$F$11","v":0},{"$f":"'4'!$F$12","v":0},{"$f":"'4'!$F$13+'4'!$F$15","v":0},{"$f":"SUM(F7:J7)","v":0}]
[null,null,5,{"$f":"HLOOKUP(C8,'Dados Gerais'!$D$6:$BI$11,6)","v":0},{"$f":"HLOOKUP($C8,'Dados Gerais'!$D$6:$BI$15,10)","v":0},{"$f":"'5'!$F$9","v":0},{"$f":"'5'!$F$10","v":0},{"$f":"'5'!$F$11","v":0},{"$f":"'5'!$F$12","v":0},{"$f":"'5'!$F$13+'5'!$F$15","v":0},0]
[null,null,6,{"$f":"HLOOKUP(C9,'Dados Gerais'!$D$6:$BI$11,6)","v":0},{"$f":"HLOOKUP($C9,'Dados Gerais'!$D$6:$BI$15,10)","v":0},{"$f":"'6'!$F$9","v":0},{"$f":"'6'!$F$10","v":0},{"$f":"'6'!$F$11","v":0},{"$f":"'6'!$F$12","v":0},{"$f":"'6'!$F$13+'6'!$F$15","v":0},0]
[null,null,7,{"$f":"HLOOKUP(C10,'Dados Gerais'!$D$6:$BI$11,6)","v":0},{"$f":"HLOOKUP($C10,'Dados Gerais'!$D$6:$BI$15,10)","v":0},{"$f":"'7'!$F$9","v":0},{"$f":"'7'!$F$10","v":0},{"$f":"'7'!$F$11","v":0},{"$f":"'7'!$F$12","v":0},{"$f":"'7'!$F$13+'7'!$F$15","v":0},0]
[null,null,8,{"$f":"HLOOKUP(C11,'Dados Gerais'!$D$6:$BI$11,6)","v":0},{"$f":"HLOOKUP($C11,'Dados Gerais'!$D$6:$BI$15,10)","v":0},{"$f":"'8'!$F$9","v":0},{"$f":"'8'!$F$10","v":0},{"$f":"'8'!$F$11","v":0},{"$f":"'8'!$F$12","v":0},{"$f":"'8'!$F$13+'8'!$F$15","v":0},0]
[null,null,9,{"$f":"HLOOKUP(C12,'Dados Gerais'!$D$6:$BI$11,6)","v":0},{"$f":"HLOOKUP($C12,'Dados Gerais'!$D$6:$BI$15,10)","v":0},{"$f":"'9'!$F$9","v":0},{"$f":"'9'!$F$10","v":0},{"$f":"'9'!$F$11","v":0},{"$f":"'9'!$F$12","v":0},{"$f":"'9'!$F$13+'9'!$F$15","v":0},0]
[null,null,10,{"$f":"HLOOKUP(C13,'Dados Gerais'!$D$6:$BI$11,6)","v":0},{"$f":"HLOOKUP($C13,'Dados Gerais'!$D$6:$BI$15,10)","v":0},{"$f":"'10'!$F$9","v":0},{"$f":"'10'!$F$10","v":0},{"$f":"'10'!$F$11","v":0},{"$f":"'10'!$F$12","v":0},{"$f":"'10'!$F$13+'10'!$F$15","v":0},0]
[null,null,11,{"$f":"HLOOKUP(C14,'Dados Gerais'!$D$6:$BI$11,6)","v":0},{"$f":"HLOOKUP($C14,'Dados Gerais'!$D$6:$BI$15,10)","v":0},{"$f":"'11'!$F$9","v":0},{"$f":"'11'!$F$10","v":0},{"$f":"'11'!$F$11","v":0},{"$f":"'11'!$F$12","v":0},{"$f":"'11'!$F$13+'11'!$F$15","v":0},0]
[null,null,12,{"$f":"HLOOKUP(C15,'Dados Gerais'!$D$6:$BI$11,6)","v":0},{"$f":"HLOOKUP($C15,'Dados Gerais'!$D$6:$BI$15,10)","v":0},{"$f":"'12'!$F$9","v":0},{"$f":"'12'!$F$10","v":0},{"$f":"'12'!$F$11","v":0},{"$f":"'12'!$F$12","v":0},{"$f":"'12'!$F$13+'12'!$F$15","v":0},0]
[null,null,13,{"$f":"HLOOKUP(C16,'Dados Gerais'!$D$6:$BI$11,6)","v":0},{"$f":"HLOOKUP($C16,'Dados Gerais'!$D$6:$BI$15,10)","v":0},{"$f":"'13'!$F$9","v":0},{"$f":"'13'!$F$10","v":0},{"$f":"'13'!$F$11","v":0},{"$f":"'13'!$F$12","v":0},{"$f":"'13'!$F$13+'13'!$F$15","v":0},0]
[null,null,14,{"$f":"HLOOKUP(C17,'Dados Gerais'!$D$6:$BI$11,6)","v":0},{"$f":"HLOOKUP($C17,'Dados Gerais'!$D$6:$BI$15,10)","v":0},{"$f":"'14'!$F$9","v":0},{"$f":"'14'!$F$10","v":0},{"$f":"'14'!$F$11","v":0},{"$f":"'14'!$F$12","v":0},{"$f":"'14'!$F$13+'14'!$F$15","v":0},0]
[null,null,15,{"$f":"HLOOKUP(C18,'Dados Gerais'!$D$6:$BI$11,6)","v":0},{"$f":"HLOOKUP($C18,'Dados Gerais'!$D$6:$BI$15,10)","v":0},{"$f":"'15'!$F$9","v":0},{"$f":"'15'!$F$10","v":0},{"$f":"'15'!$F$11","v":0},{"$f":"'15'!$F$12","v":0},{"$f":"'15'!$F$13+'15'!$F$15","v":0},0]
[null,null,16,{"$f":"HLOOKUP(C19,'Dados Gerais'!$D$6:$BI$11,6)","v":0},{"$f":"HLOOKUP($C19,'Dados Gerais'!$D$6:$BI$15,10)","v":0},{"$f":"'16'!$F$9","v":0},{"$f":"'16'!$F$10","v":0},{"$f":"'16'!$F$11","v":0},{"$f":"'16'!$F$12","v":0},{"$f":"'16'!$F$13+'16'!$F$15","v":0},0]
[null,null,17,{"$f":"HLOOKUP(C20,'Dados Gerais'!$D$6:$BI$11,6)","v":0},{"$f":"HLOOKUP($C20,'Dados Gerais'!$D$6:$BI$15,10)","v":0},{"$f":"'17'!$F$9","v":0},{"$f":"'17'!$F$10","v":0},{"$f":"'17'!$F$11","v":0},{"$f":"'17'!$F$12","v":0},{"$f":"'17'!$F$13+'17'!$F$15","v":0},0]
[null,null,18,{"$f":"HLOOKUP(C21,'Dados Gerais'!$D$6:$BI$11,6)","v":0},{"$f":"HLOOKUP($C21,'Dados Gerais'!$D$6:$BI$15,10)","v":0},{"$f":"'18'!$F$9","v":0},{"$f":"'18'!$F$10","v":0},{"$f":"'18'!$F$11","v":0},{"$f":"'18'!$F$12","v":0},{"$f":"'18'!$F$13+'18'!$F$15","v":0},0]
[null,null,19,{"$f":"HLOOKUP(C22,'Dados Gerais'!$D$6:$BI$11,6)","v":0},{"$f":"HLOOKUP($C22,'Dados Gerais'!$D$6:$BI$15,10)","v":0},{"$f":"'19'!$F$9","v":0},{"$f":"'19'!$F$10","v":0},{"$f":"'19'!$F$11","v":0},{"$f":"'19'!$F$12","v":0},{"$f":"'19'!$F$13+'19'!$F$15","v":0},0]
[null,null,{"$f":"#REF!+1","v":{"$error":"#REF!"}},{"$f":"HLOOKUP(C23,'Dados Gerais'!$D$6:$BI$11,6)","v":{"$error":"#REF!"}},{"$f":"HLOOKUP($C23,'Dados Gerais'!$D$6:$BI$15,10)","v":{"$error":"#REF!"}},{"$f":"#REF!","v":{"$error":"#REF!"}},{"$f":"#REF!","v":{"$error":"#REF!"}},{"$f":"#REF!","v":{"$error":"#REF!"}},{"$f":"#REF!","v":{"$error":"#REF!"}},{"$f":"#REF!+#REF!","v":{"$error":"#REF!"}},{"$error":"#REF!"}]
[null,null,{"$error":"#REF!"},{"$f":"HLOOKUP(C24,'Dados Gerais'!$D$6:$BI$11,6)","v":{"$error":"#REF!"}},{"$f":"HLOOKUP($C24,'Dados Gerais'!$D$6:$BI$15,10)","v":{"$error":"#REF!"}},{"$f":"#REF!","v":{"$error":"#REF!"}},{"$f":"#REF!","v":{"$error":"#REF!"}},{"$f":"#REF!","v":{"$error":"#REF!"}},{"$f":"#REF!","v":{"$error":"#REF!"}},{"$f":"#REF!+#REF!","v":{"$error":"#REF!"}},{"$error":"#REF!"}]
[null,null,{"$error":"#REF!"},{"$f":"HLOOKUP(C25,'Dados Gerais'!$D$6:$BI$11,6)","v":{"$error":"#REF!"}},{"$f":"HLOOKUP($C25,'Dados Gerais'!$D$6:$BI$15,10)","v":{"$error":"#REF!"}},{"$f":"#REF!","v":{"$error":"#REF!"}},{"$f":"#REF!","v":{"$error":"#REF!"}},{"$f":"#REF!","v":{"$error":"#REF!"}},{"$f":"#REF!","v":{"$error":"#REF!"}},{"$f":"#REF!+#REF!","v":{"$error":"#REF!"}},{"$error":"#REF!"}]
[null,null,{"$error":"#REF!"},{"$f":"HLOOKUP(C26,'Dados Gerais'!$D$6:$BI$11,6)","v":{"$error":"#REF!"}},{"$f":"HLOOKUP($C26,'Dados Gerais'!$D$6:$BI$15,10)","v":{"$error":"#REF!"}},{"$f":"#REF!","v":{"$error":"#REF!"}},{"$f":"#REF!","v":{"$error":"#REF!"}},{"$f":"#REF!","v":{"$error":"#REF!"}},{"$f":"#REF!","v":{"$error":"#REF!"}},{"$f":"#REF!+#REF!","v":{"$error":"#REF!"}},{"$error":"#REF!"}]
[null,null,{"$error":"#REF!"},{"$f":"HLOOKUP(C27,'Dados Gerais'!$D$6:$BI$11,6)","v":{"$error":"#REF!"}},{"$f":"HLOOKUP($C27,'Dados Gerais'!$D$6:$BI$15,10)","v":{"$error":"#REF!"}},{"$f":"#REF!","v":{"$error":"#REF!"}},{"$f":"#REF!","v":{"$error":"#REF!"}},{"$f":"#REF!","v":{"$error":"#REF!"}},{"$f":"#REF!","v":{"$error":"#REF!"}},{"$f":"#REF!+#REF!","v":{"$error":"#REF!"}},{"$error":"#REF!"}]
[null,null,{"$error":"#REF!"},{"$f":"HLOOKUP(C28,'Dados Gerais'!$D$6:$BI$11,6)","v":{"$error":"#REF!"}},{"$f":"HLOOKUP($C28,'Dados Gerais'!$D$6:$BI$15,10)","v":{"$error":"#REF!"}},{"$f":"#REF!","v":{"$error":"#REF!"}},{"$f":"#REF!","v":{"$error":"#REF!"}},{"$f":"#REF!","v":{"$error":"#REF!"}},{"$f":"#REF!","v":{"$error":"#REF!"}},{"$f":"#REF!+#REF!","v":{"$error":"#REF!"}},{"$error":"#REF!"}]
[null,null,{"$error":"#REF!"},{"$f":"HLOOKUP(C29,'Dados Gerais'!$D$6:$BI$11,6)","v":{"$error":"#REF!"}},{"$f":"HLOOKUP($C29,'Dados Gerais'!$D$6:$BI$15,10)","v":{"$error":"#REF!"}},{"$f":"#REF!","v":{"$error":"#REF!"}},{"$f":"#REF!","v":{"$error":"#REF!"}},{"$f":"#REF!","v":{"$error":"#REF!"}},{"$f":"#REF!","v":{"$error":"#REF!"}},{"$f":"#REF!+#REF!","v":{"$error":"#REF!"}},{"$error":"#REF!"}]
[null,null,{"$error":"#REF!"},{"$f":"HLOOKUP(C30,'Dados Gerais'!$D$6:$BI$11,6)","v":{"$error":"#REF!"}},{"$f":"HLOOKUP($C30,'Dados Gerais'!$D$6:$BI$15,10)","v":{"$error":"#REF!"}},{"$f":"#REF!","v":{"$error":"#REF!"}},{"$f":"#REF!","v":{"$error":"#REF!"}},{"$f":"#REF!","v":{"$error":"#REF!"}},{"$f":"#REF!","v":{"$error":"#REF!"}},{"$f":"#REF!+#REF!","v":{"$error":"#REF!"}},{"$error":"#REF!"}]
[null,null,{"$error":"#REF!"},{"$f":"HLOOKUP(C31,'Dados Gerais'!$D$6:$BI$11,6)","v":{"$error":"#REF!"}},{"$f":"HLOOKUP($C31,'Dados Gerais'!$D$6:$BI$15,10)","v":{"$error":"#REF!"}},{"$f":"#REF!","v":{"$error":"#REF!"}},{"$f":"#REF!","v":{"$error":"#REF!"}},{"$f":"#REF!","v":{"$error":"#REF!"}},{"$f":"#REF!","v":{"$error":"#REF!"}},{"$f":"#REF!+#REF!","v":{"$error":"#REF!"}},{"$error":"#REF!"}]
[null,null,{"$error":"#REF!"},{"$f":"HLOOKUP(C32,'Dados Gerais'!$D$6:$BI$11,6)","v":{"$error":"#REF!"}},{"$f":"HLOOKUP($C32,'Dados Gerais'!$D$6:$BI$15,10)","v":{"$error":"#REF!"}},{"$f":"#REF!","v":{"$error":"#REF!"}},{"$f":"#REF!","v":{"$error":"#REF!"}},{"$f":"#REF!","v":{"$error":"#REF!"}},{"$f":"#REF!","v":{"$error":"#REF!"}},{"$f":"#REF!+#REF!","v":{"$error":"#REF!"}},{"$error":"#REF!"}]
[null,null,{"$error":"#REF!"},{"$f":"HLOOKUP(C33,'Dados Gerais'!$D$6:$BI$11,6)","v":{"$error":"#REF!"}},{"$f":"HLOOKUP($C33,'Dados Gerais'!$D$6:$BI$15,10)","v":{"$error":"#REF!"}},{"$f":"#REF!","v":{"$error":"#REF!"}},{"$f":"#REF!","v":{"$error":"#REF!"}},{"$f":"#REF!","v":{"$error":"#REF!"}},{"$f":"#REF!","v":{"$error":"#REF!"}},{"$f":"#REF!+#REF!","v":{"$error":"#REF!"}},{"$error":"#REF!"}]
[null,null,{"$error":"#REF!"},{"$f":"HLOOKUP(C34,'Dados Gerais'!$D$6:$BI$11,6)","v":{"$error":"#REF!"}},{"$f":"HLOOKUP($C34,'Dados Gerais'!$D$6:$BI$15,10)","v":{"$error":"#REF!"}},{"$f":"#REF!","v":{"$error":"#REF!"}},{"$f":"#REF!","v":{"$error":"#REF!"}},{"$f":"#REF!","v":{"$error":"#REF!"}},{"$f":"#REF!","v":{"$error":"#REF!"}},{"$f":"#REF!+#REF!","v":{"$error":"#REF!"}},{"$error":"#REF!"}]
[null,null,{"$error":"#REF!"},{"$f":"HLOOKUP(C35,'Dados Gerais'!$D$6:$BI$11,6)","v":{"$error":"#REF!"}},{"$f":"HLOOKUP($C35,'Dados Gerais'!$D$6:$BI$15,10)","v":{"$error":"#REF!"}},{"$f":"#REF!","v":{"$error":"#REF!"}},{"$f":"#REF!","v":{"$error":"#REF!"}},{"$f":"#REF!","v":{"$error":"#REF!"}},{"$f":"#REF!","v":{"$error":"#REF!"}},{"$f":"#REF!+#REF!","v":{"$error":"#REF!"}},{"$error":"#REF!"}]
[null,null,{"$error":"#REF!"},{"$f":"HLOOKUP(C36,'Dados Gerais'!$D$6:$BI$11,6)","v":{"$error":"#REF!"}},{"$f":"HLOOKUP($C36,'Dados Gerais'!$D$6:$BI$15,10)","v":{"$error":"#REF!"}},{"$f":"#REF!","v":{"$error":"#REF!"}},{"$f":"#REF!","v":{"$error":"#REF!"}},{"$f":"#REF!","v":{"$error":"#REF!"}},{"$f":"#REF!","v":{"$error":"#REF!"}},{"$f":"#REF!+#REF!","v":{"$error":"#REF!"}},{"$error":"#REF!"}]
[null,null,{"$error":"#REF!"},{"$f":"HLOOKUP(C37,'Dados Gerais'!$D$6:$BI$11,6)","v":{"$error":"#REF!"}},{"$f":"HLOOKUP($C37,'Dados Gerais'!$D$6:$BI$15,10)","v":{"$error":"#REF!"}},{"$f":"#REF!","v":{"$error":"#REF!"}},{"$f":"#REF!","v":{"$error":"#REF!"}},{"$f":"#REF!","v":{"$error":"#REF!"}},{"$f":"#REF!","v":{"$error":"#REF!"}},{"$f":"#REF!+#REF!","v":{"$error":"#REF!"}},{"$error":"#REF!"}]
[null,null,{"$error":"#REF!"},{"$f":"HLOOKUP(C38,'Dados Gerais'!$D$6:$BI$11,6)","v":{"$error":"#REF!"}},{"$f":"HLOOKUP($C38,'Dados Gerais'!$D$6:$BI$15,10)","v":{"$error":"#REF!"}},{"$f":"#REF!","v":{"$error":"#REF!"}},{"$f":"#REF!","v":{"$error":"#REF!"}},{"$f":"#REF!","v":{"$error":"#REF!"}},{"$f":"#REF!","v":{"$error":"#REF!"}},{"$f":"#REF!+#REF!","v":{"$error":"#REF!"}},{"$error":"#REF!"}]
[null,null,{"$error":"#REF!"},{"$f":"HLOOKUP(C39,'Dados Gerais'!$D$6:$BI$11,6)","v":{"$error":"#REF!"}},{"$f":"HLOOKUP($C39,'Dados Gerais'!$D$6:$BI$15,10)","v":{"$error":"#REF!"}},{"$f":"#REF!","v":{"$error":"#REF!"}},{"$f":"#REF!","v":{"$error":"#REF!"}},{"$f":"#REF!","v":{"$error":"#REF!"}},{"$f":"#REF!","v":{"$error":"#REF!"}},{"$f":"#REF!+#REF!","v":{"$error":"#REF!"}},{"$error":"#REF!"}]
[null,null,{"$error":"#REF!"},{"$f":"HLOOKUP(C40,'Dados Gerais'!$D$6:$BI$11,6)","v":{"$error":"#REF!"}},{"$f":"HLOOKUP($C40,'Dados Gerais'!$D$6:$BI$15,10)","v":{"$error":"#REF!"}},{"$f":"#REF!","v":{"$error":"#REF!"}},{"$f":"#REF!","v":{"$error":"#REF!"}},{"$f":"#REF!","v":{"$error":"#REF!"}},{"$f":"#REF!","v":{"$error":"#REF!"}},{"$f":"#REF!+#REF!","v":{"$error":"#REF!"}},{"$error":"#REF!"}]
[null,null,{"$error":"#REF!"},{"$f":"HLOOKUP(C41,'Dados Gerais'!$D$6:$BI$11,6)","v":{"$error":"#REF!"}},{"$f":"HLOOKUP($C41,'Dados Gerais'!$D$6:$BI$15,10)","v":{"$error":"#REF!"}},{"$f":"#REF!","v":{"$error":"#REF!"}},{"$f":"#REF!","v":{"$error":"#REF!"}},{"$f":"#REF!","v":{"$error":"#REF!"}},{"$f":"#REF!","v":{"$error":"#REF!"}},{"$f":"#REF!+#REF!","v":{"$error":"#REF!"}},{"$error":"#REF!"}]
[null,null,{"$error":"#REF!"},{"$f":"HLOOKUP(C42,'Dados Gerais'!$D$6:$BI$11,6)","v":{"$error":"#REF!"}},{"$f":"HLOOKUP($C42,'Dados Gerais'!$D$6:$BI$15,10)","v":{"$error":"#REF!"}},{"$f":"#REF!","v":{"$error":"#REF!"}},{"$f":"#REF!","v":{"$error":"#REF!"}},{"$f":"#REF!","v":{"$error":"#REF!"}},{"$f":"#REF!","v":{"$error":"#REF!"}},{"$f":"#REF!+#REF!","v":{"$error":"#REF!"}},{"$error":"#REF!"}]
[null,null,{"$error":"#REF!"},{"$f":"HLOOKUP(C43,'Dados Gerais'!$D$6:$BI$11,6)","v":{"$error":"#REF!"}},{"$f":"HLOOKUP($C43,'Dados Gerais'!$D$6:$BI$15,10)","v":{"$error":"#REF!"}},{"$f":"#REF!","v":{"$error":"#REF!"}},{"$f":"#REF!","v":{"$error":"#REF!"}},{"$f":"#REF!","v":{"$error":"#REF!"}},{"$f":"#REF!","v":{"$error":"#REF!"}},{"$f":"#REF!+#REF!","v":{"$error":"#REF!"}},{"$error":"#REF!"}]
[null,null,{"$error":"#REF!"},{"$f":"HLOOKUP(C44,'Dados Gerais'!$D$6:$BI$11,6)","v":{"$error":"#REF!"}},{"$f":"HLOOKUP($C44,'Dados Gerais'!$D$6:$BI$15,10)","v":{"$error":"#REF!"}},{"$f":"#REF!","v":{"$error":"#REF!"}},{"$f":"#REF!","v":{"$error":"#REF!"}},{"$f":"#REF!","v":{"$error":"#REF!"}},{"$f":"#REF!","v":{"$error":"#REF!"}},{"$f":"#REF!+#REF!","v":{"$error":"#REF!"}},{"$error":"#REF!"}]
[null,null,{"$error":"#REF!"},{"$f":"HLOOKUP(C45,'Dados Gerais'!$D$6:$BI$11,6)","v":{"$error":"#REF!"}},{"$f":"HLOOKUP($C45,'Dados Gerais'!$D$6:$BI$15,10)","v":{"$error":"#REF!"}},{"$f":"#REF!","v":{"$error":"#REF!"}},{"$f":"#REF!","v":{"$error":"#REF!"}},{"$f":"#REF!","v":{"$error":"#REF!"}},{"$f":"#REF!","v":{"$error":"#REF!"}},{"$f":"#REF!+#REF!","v":{"$error":"#REF!"}},{"$error":"#REF!"}]
[null,null,{"$error":"#REF!"},{"$f":"HLOOKUP(C46,'Dados Gerais'!$D$6:$BI$11,6)","v":{"$error":"#REF!"}},{"$f":"HLOOKUP($C46,'Dados Gerais'!$D$6:$BI$15,10)","v":{"$error":"#REF!"}},{"$f":"#REF!","v":{"$error":"#REF!"}},{"$f":"#REF!","v":{"$error":"#REF!"}},{"$f":"#REF!","v":{"$error":"#REF!"}},{"$f":"#REF!","v":{"$error":"#REF!"}},{"$f":"#REF!+#REF!","v":{"$error":"#REF!"}},{"$error":"#REF!"}]
[null,null,{"$error":"#REF!"},{"$f":"HLOOKUP(C47,'Dados Gerais'!$D$6:$BI$11,6)","v":{"$error":"#REF!"}},{"$f":"HLOOKUP($C47,'Dados Gerais'!$D$6:$BI$15,10)","v":{"$error":"#REF!"}},{"$f":"#REF!","v":{"$error":"#REF!"}},{"$f":"#REF!","v":{"$error":"#REF!"}},{"$f":"#REF!","v":{"$error":"#REF!"}},{"$f":"#REF!","v":{"$error":"#REF!"}},{"$f":"#REF!+#REF!","v":{"$error":"#REF!"}},{"$error":"#REF!"}]
[null,null,{"$error":"#REF!"},{"$f":"HLOOKUP(C48,'Dados Gerais'!$D$6:$BI$11,6)","v":{"$error":"#REF!"}},{"$f":"HLOOKUP($C48,'Dados Gerais'!$D$6:$BI$15,10)","v":{"$error":"#REF!"}},{"$f":"#REF!","v":{"$error":"#REF!"}},{"$f":"#REF!","v":{"$error":"#REF!"}},{"$f":"#REF!","v":{"$error":"#REF!"}},{"$f":"#REF!","v":{"$error":"#REF!"}},{"$f":"#REF!+#REF!","v":{"$error":"#REF!"}},{"$error":"#REF!"}]
[null,null,{"$error":"#REF!"},{"$f":"HLOOKUP(C49,'Dados Gerais'!$D$6:$BI$11,6)","v":{"$error":"#REF!"}},{"$f":"HLOOKUP($C49,'Dados Gerais'!$D$6:$BI$15,10)","v":{"$error":"#REF!"}},{"$f":"#REF!","v":{"$error":"#REF!"}},{"$f":"#REF!","v":{"$error":"#REF!"}},{"$f":"#REF!","v":{"$error":"#REF!"}},{"$f":"#REF!","v":{"$error":"#REF!"}},{"$f":"#REF!+#REF!","v":{"$error":"#REF!"}},{"$error":"#REF!"}]
[]
[null,null,null,"TOTAL ",{"$f":"SUM(E4:E22)","v":169}]

{"sheet":"Resumo","index":3,"n_rows":89,"n_cols":9,"rows_kept":89,"cut":false,"hidden":false,"merged":[[0,1,0,6],[86,3,86,5],[43,3,43,5],[75,3,75,5],[82,3,82,5],[3,1,3,6],[71,3,71,5],[14,1,14,6],[33,1,33,6],[51,3,51,5],[55,3,55,5],[62,3,62,5],[66,3,66,5]]}
[]
[]
[]
[null,"RESUMO - TOTAIS MENSAIS - FATURA ORDINÁRIA TOTAL (SEM OS ITENS SOB DEMANDA)"]
[]
[]
[null,null,"ITEM","POSTO DE TRABALHO","QUANTIDADE","PREÇO POR EMPREGADO","PREÇO TOTAL (MENSAL)"]
[null,null,1,{"$f":"HLOOKUP(C8,'Dados Gerais'!$D$6:$BI$11,6)","v":"TÉCNICO DE APOIO ADMINISTRATIVO"},{"$f":"'Dados Gerais'!D$15","v":168},{"$f":"'1'!$E$112","v":11615.449999999999},{"$f":"F8*E8","v":1951395.5999999999}]
[null,null,2,{"$f":"HLOOKUP(C9,'Dados Gerais'!$D$6:$BI$11,6)","v":"ENCARREGADO GERAL"},{"$f":"'Dados Gerais'!E$15","v":1},{"$f":"'2'!$E$112","v":15816.55},{"$f":"F9*E9","v":15816.55}]
[]
[null,null,null,"TOTAL MENSAL - SALÁRIOS",null,null,{"$f":"SUM(G8:G10)","v":1967212.15}]
[]
[]
[]
[null,"RESUMO - TOTAIS MENSAIS - ITENS COMPLEMENTARES À FOLHA"]
[]
[]
[null,null,"ITEM","DESCRIÇÃO",null,null,"PREÇO TOTAL (MENSAL)"]
[null,null,"SREP","SISTEMA DE REGISTRO ELETRÔNICO DE PRESENÇA - SREP",null,null,{"$f":"SREP!M46","v":830.59}]
[null,null,"NOTURNAS","HORAS NOTURNAS SOB DEMANDA",null,null,116.91]
[null,null,"EPI - N.REL","EPI NÃO RELACIONADOS DIRETAMENTE A UM POSTO DE TRABALHO",null,null,{"$f":"'EPI - N.Rel'!J12","v":0}]
[null,null,"MATERIAIS - CONSUMO","MATERIAIS DE CONSUMO NÃO RELACIONADOS DIRETAMENTE A UM POSTO DE TRABALHO",null,null,{"$f":"'Materiais - Consumo'!J48","v":0}]
[null,null,"FERRAM.","FERRAMENTAS NÃO RELACIONADAS DIRETAMENTE A UM POSTO DE TRABALHO",null,null,{"$f":"Ferramentas!M240","v":0}]
[null,null,"EQUIPAM","EQUIPAMENTOS NÃO RELACIONADOS DIRETAMENTE A UM POSTO DE TRABALHO",null,null,{"$f":"Equipamentos!M43","v":0}]
[null,null,"CONSUMO","MATERIAIS DE CONSUMO",null,null,{"$f":"'Mat Consumo'!J76","v":0}]
[null,null,"PROF.NÃO.RESID","PROFISSIONAL NÃO-RESIDENTE",null,null,{"$f":"Prof.N.Resid!J11","v":0}]
[null,null,"VEÍCULOS","VEÍCULOS PARA TRANSPORTE DE COLABORADORES E DE MATERIAIS",null,null,{"$f":"Veículos!J25","v":0}]
[null,null,"SERV.ADIC","SERVIÇOS ADICIONAIS",null,null,{"$f":"Serv.Adicionais!J14","v":0}]
[]
[null,null,null,"TOTAL MENSAL - ITENS COMPLEMENTARES À FOLHA",null,null,{"$f":"SUM(G19:G29)","v":947.5}]
[]
[]
[]
[null,"RESUMO - TOTAIS MENSAIS - ITENS SOB DEMANDA"]
[]
[]
[null,null,"ITEM","DESCRIÇÃO",null,null,"PREÇO TOTAL (MENSAL)"]
[null,null,"TRANSP.","PREVISÃO DE MOVIMENTAÇÕES EM TRANSPORTE POR CHAMADO",null,null,{"$f":"'Demanda - Transp. p. chamado'!J16","v":0}]
[null,null,"DEMANDA - MATERIAIS","EPIs, MATERIAIS E UNIFORMES - SOB DEMANDA",null,null,0]
[null,null,"DEMANDA - SERVIÇOS","SERVIÇOS - SOB DEMANDA",null,null,{"$f":"'Demanda - Serviços'!J31","v":0}]
[]
[null,null,null,"TOTAL MENSAL - ITENS SOB DEMANDA",null,null,{"$f":"SUM(G38:G41)","v":0}]
[]
[null,null,null,"TOTAL MENSAL"]
[null,null,null,"DESCRIÇÃO",null,"VALOR"]
[null,null,null,"FATURA MENSAL ORDINÁRIA",null,{"$f":"G11","v":1967212.15}]
[null,null,null,"ESTIMATIVA MENSAL - ITENS COMPLEMENTARES À FOLHA",null,{"$f":"$G$30","v":947.5}]
[null,null,null,"ESTIMATIVA MENSAL - ITENS SOB DEMANDA",null,{"$f":"G42","v":0}]
[]
[null,null,null,null,"TOTAL MENSAL DA CONTRATAÇÃO",{"$f":"TRUNC(SUM(F46:F49),2)","v":1968159.65},null,null,{"$f":"Extenso_Valor(F50)","v":"um milhão, novecentos e sessenta e oito mil, cento e cinquenta e nove reais e sessenta e cinco centavos"}]
[]
[null,null,null,"TOTAL GLOBAL DA CONTRATAÇÃO - 12 MESES"]
[]
[null,null,null,null,"12 x TOTAL MENSAL",{"$f":"TRUNC(F50*12,2)","v":23617915.800000001},null,null,{"$f":"Extenso_Valor(F54)","v":"vinte e três milhões, seiscentos e dezessete mil, novecentos e quinze reais e oitenta centavos"}]
[]
[null,null,null,"TOTAL MENSAL - ITENS SOB DEMANDA"]
[null,null,null,"DESCRIÇÃO",null,"VALOR"]
[null,null,null,"Materiais não relacionados diretamente a um posto de trabalho - AQUISIÇÃO SOB DEMANDA",null,{"$f":"#REF!","v":{"$error":"#REF!"}}]
[null,null,null,"Equipamentos não relacionados diretamente a um posto de trabalho - AQUISIÇÃO SOB DEMANDA",null,{"$f":"#REF!","v":{"$error":"#REF!"}}]
[]
[null,null,null,null,null,{"$f":"SUM(F58:F60)","v":{"$error":"#REF!"}}]
[]
[null,null,null,"TOTAL ANUAL - ITENS SOB DEMANDA"]
[]
[null,null,null,null,null,{"$f":"F61*12","v":{"$error":"#REF!"}}]
[]
[null,null,null,"TOTAL ANUAL GLOBAL DA CONTRATAÇÃO"]
[]
[null,null,null,null,null,{"$f":"F65+F54","v":{"$error":"#REF!"}}]
[]
[]
[null,null,null,"TOTAL GLOBAL DA CONTRATAÇÃO - 24 MESES"]
[]
[null,null,null,null,"24 x TOTAL MENSAL",{"$f":"TRUNC(F50*24,2)","v":47235831.600000001},null,null,{"$f":"Extenso_Valor(F74)","v":"quarenta e sete milhões, duzentos e trinta e cinco mil, oitocentos e trinta e um reais e sessenta centavos"}]
[]
[null,null,null,"TOTAL MENSAL - ITENS SOB DEMANDA"]
[null,null,null,"DESCRIÇÃO",null,"VALOR"]
[null,null,null,"Materiais não relacionados diretamente a um posto de trabalho - AQUISIÇÃO SOB DEMANDA",null,{"$f":"#REF!","v":{"$error":"#REF!"}}]
[null,null,null,"Equipamentos não relacionados diretamente a um posto de trabalho - AQUISIÇÃO SOB DEMANDA",null,{"$f":"#REF!","v":{"$error":"#REF!"}}]
[]
[null,null,null,null,null,{"$f":"SUM(F78:F80)","v":{"$error":"#REF!"}}]
[]
[null,null,null,"TOTAL ANUAL - ITENS SOB DEMANDA"]
[]
[null,null,null,null,null,{"$f":"F81*12","v":{"$error":"#REF!"}}]
[]
[null,null,null,"TOTAL ANUAL GLOBAL DA CONTRATAÇÃO"]
[]
[null,null,null,null,null,{"$f":"F85+F74","v":{"$error":"#REF!"}}]

{"sheet":"1","index":4,"n_rows":112,"n_cols":8,"rows_kept":112,"cut":false,"hidden":false,"merged":[[90,1,90,3],[18,1,18,3],[1,1,1,5],[2,1,2,5],[4,1,4,2],[5,1,5,2],[7,1,7,3],[46,3,46,5],[53,1,53,3],[63,1,63,3],[75,3,75,5],[81,1,81,3]]}
[]
[null,"PLANILHA DE ESTIMATIVA DE CUSTOS"]
[null,"Padrão IN 05/2017 e IN 07/2018 - MPDG - Medição por posto presente"]
[]
[null,1,null,{"$f":"HLOOKUP($B$5,'Dados Gerais'!$D$6:$BI$22,6)","v":"TÉCNICO DE APOIO ADMINISTRATIVO"},"QUANTIDADE",{"$f":"HLOOKUP($B$5,'Dados Gerais'!$D$6:$BI$22,10)","v":168}]
[null,"CCT",null,{"$f":"HLOOKUP($B$5,'Dados Gerais'!$D$6:$BI$22,16)","v":"SEAC/DF x SINDISERVIÇOS/DF \nCCT 2025/2026 \nN.º DF000042/2025"},"DATA-BASE",{"$f":"HLOOKUP($B$5,'Dados Gerais'!$D$6:$BI$22,17)","v":"2025-01-01"}]
[]
[null,"MÓDULO 1 - COMPOSIÇÃO DA REMUNERAÇÃO",null,null,null,"Valor"]
[null,null,"A","Salário-Base",null,{"$f":"HLOOKUP($B$5,'Dados Gerais'!$D$6:$BI$22,8)","v":4932.41}]
[null,null,"B","Adicional de Periculosidade",null,{"$f":"HLOOKUP($B$5,'Dados Gerais'!$D$6:$BI$41,26)","v":0}]
[null,null,"C","Adicional de Insalubridade",null,{"$f":"HLOOKUP($B$5,'Dados Gerais'!$D$6:$BI$41,32)","v":0}]
[null,null,"D","Adicional Noturno",null,{"$f":"HLOOKUP($B$5,'Dados Gerais'!$D$6:$BI$54,49)","v":0},null,"* Nota 1 - O Módulo 1 refere-se ao valor mensal devido ao empregado pela prestação do serviço no período de 12 meses."]
[null,null,"E","Adicional de Hora Extra",null,{"$f":"HLOOKUP($B$5,'Dados Gerais'!$D$6:$BI$71,66)","v":0},null,"* Nota 2 - O adicional de hora extra no feriado trabalhado foi suprimido pela Lei 13.467/17"]
[null,null,"F","Gratificação",null,{"$f":"HLOOKUP($B$5,'Dados Gerais'!$D$6:$BI$71,34)","v":0},null,"* Nota 3 - ART. 7º, § 2º, DA LEI Nº 605/49.Sendo mensalista o obreiro, o adicional noturno pago de forma fixa já é considerado integrado para os efeitos do pagamento do repouso semanal remunerado, nos termos do art. 7º, § 2º, da Lei nº 605/49."]
[null,null,"G","Sobraviso",null,{"$f":"HLOOKUP($B$5,'Dados Gerais'!$D$6:$BI$71,36)","v":0}]
[]
[null,null,null,"TOTAL DA REMUNERAÇÃO",null,{"$f":"TRUNC(SUM(F9:F15),2)","v":4932.41}]
[]
[null,"MÓDULO 2 - ENCARGOS E BENEFÍCIOS ANUAIS, MENSAIS E DIÁRIOS",null,null,"Percentuais","Valor"]
[null,"Submódulo 2.1 - Férias e Adicional de Férias"]
[null,null,"A","13º Salário",{"$f":"'Encargos Sociais'!$E$32","v":9.0899999999999995E-2},{"$f":"ROUND(E21*F$17,2)","v":448.36},null,"* Nota 1 - O 13º salário foi calculado dividindo-se por 11, para comportar os 11 meses presentes e ainda o ausente do posto"]
[null,null,"B","Adicional de Férias",{"$f":"'Encargos Sociais'!E31","v":3.0300000000000001E-2},{"$f":"TRUNC(E22*(F$17),2)","v":149.44999999999999},null,"* Nota 2 - O adicional de férias foi calculado dividindo-se por 11, para comportar os 11 meses presentes e ainda o ausente do posto"]
[]
[null,"Submódulo 2.2 - Encargos Previdenciários (GPS), Fundo de Garantia por Tempo de Serviço (FGTS) e Outras Contribuições"]
[null,null,"A",{"$f":"'Encargos Sociais'!D14","v":"INSS (art. 22, inciso I, Lei nº 8.212/91)"},{"$f":"'Encargos Sociais'!E14","v":0.2},{"$f":"TRUNC(E25*($F$17+$F$21+$F$22+$F$80-$F$69),2)","v":1214.55},null,"* Nota 1 - Os percentuais dos encargos previdenciários, do FGTS e demais contribuições são estabelecidos por legislação vigente."]
[null,null,"B",{"$f":"'Encargos Sociais'!D15","v":"Salário Educação (art. 3º, inciso I, Decreto nº 87.043/82)"},{"$f":"'Encargos Sociais'!E15","v":2.5000000000000001E-2},{"$f":"TRUNC(E26*($F$17+$F$21+$F$22+$F$80),2)","v":151.91999999999999},null,"* Nota 2 - O SAT, a depender do grau de risco do serviço, irá variar entre 1%, para risco leve, de 2%, para risco médio, e de 3% para risco grave."]
[null,null,"C",{"$f":"'Encargos Sociais'!D16","v":"SAT/RAT (art. 22, II, Lei 8.212/91 e Anexo V, Decreto 6.042/07) - Enquadramento 8211-3/00"},{"$f":"'Encargos Sociais'!E16","v":0.01},{"$f":"TRUNC(E27*($F$17+$F$21+$F$22+$F$80),2)","v":60.77},null,"* Nota 3 - Base de cálculo - remuneração + ausências + 13º salário + terço constitucional (férias) - exceto INSS sobre ausência por acidente de trabalho"]
[null,null,"D",{"$f":"'Encargos Sociais'!D17","v":"SESC ou SESI (art. 30, Lei nº 8.036/90 e art. 1º, Lei 8.154/90)"},{"$f":"'Encargos Sociais'!E17","v":1.4999999999999999E-2},91.15]
[null,null,"E",{"$f":"'Encargos Sociais'!D18","v":"SENAI ou SENAC (Decreto nº 2.318/86)"},{"$f":"'Encargos Sociais'!E18","v":0.01},60.77]
[null,null,"F",{"$f":"'Encargos Sociais'!D19","v":"SEBRAE (§ 3º, art. 8º, Lei 8.029/90, alterada pela Lei nº 8.154/90)"},{"$f":"'Encargos Sociais'!E19","v":6.0000000000000001E-3},36.46]
[null,null,"G",{"$f":"'Encargos Sociais'!D20","v":"INCRA (art. 1º, I, Decreto Lei 1.146/70 e Lei 7.787, de 30/06/89)"},{"$f":"'Encargos Sociais'!E20","v":2E-3},12.15]
[null,null,"H",{"$f":"'Encargos Sociais'!D21","v":"FGTS (Lei Complementar nº 110/01 e art. 30, Lei nº 8.036/90)"},{"$f":"'Encargos Sociais'!E21","v":0.08},486.17]
[null,null,"I",{"$f":"'Encargos Sociais'!D22","v":"SECONCI (Convenções Coletivas de Trabalho da construção)"},{"$f":"'Encargos Sociais'!E22","v":0},0]
[]
[null,"Submódulo 2.3 - Benefícios Mensais e Diários"]
[null,null,"A","Auxílio Transporte",null,{"$f":"HLOOKUP($B$5,'Dados Gerais'!$D$6:$BI$144,85)","v":0},null,"* Nota 1 - O valor informado deverá ser o custo real do benefício (descontado o valor eventualmente pago pelo empregado)."]
[null,null,"B","Auxílio Alimentação",null,{"$f":"HLOOKUP($B$5,'Dados Gerais'!$D$6:$BI$144,96)","v":1048.3},null,"* Nota 2 - Observar a previsão dos benefícios contidos em Acordos, Convenções e Dissídios Coletivos de Trabalho e o disposto no art. 6º da IN 5/2017"]
[null,null,"C","Assistência Médica e Familiar",null,{"$f":"HLOOKUP($B$5,'Dados Gerais'!$D$6:$BI$144,104)","v":0}]
[null,null,"D","Seguro de vida / auxílio funeral",null,{"$f":"HLOOKUP($B$5,'Dados Gerais'!$D$6:$BI$144,113)","v":3.61}]
[null,null,"E","Assistência odontológica",null,{"$f":"HLOOKUP($B$5,'Dados Gerais'!$D$6:$BI$144,119)","v":0}]
[null,null,"F","Auxílio creche",null,{"$f":"HLOOKUP($B$5,'Dados Gerais'!$D$6:$BI$144,125)","v":0}]
[null,null,"G","Auxílio vestuário especial",null,{"$f":"HLOOKUP($B$5,'Dados Gerais'!$D$6:$BI$144,130)","v":0}]
[null,null,"H","Benefício social familiar",null,{"$f":"HLOOKUP($B$5,'Dados Gerais'!$D$6:$BI$144,137)","v":0}]
[null,null,"I","Outros (especificar)",null,0]
[null,null,"J","Outros (especificar)",null,0]
[]
[null,null,null,"QUADRO-RESUMO DO MÓDULO 2"]
[null,null,null,"2.1 - 13º salário e Adicional de Férias",{"$f":"SUM(E21:E22)","v":0.1212},{"$f":"F21+F22","v":597.80999999999995}]
[null,null,null,"2.2 - Encargos Previdenciários (GPS), Fundo de Garantia por Tempo de Serviço (FGTS) e Contribuições",{"$f":"SUM(E25:E33)","v":0.34800000000000003},{"$f":"SUM(F25:F33)","v":2113.94}]
[null,null,null,"2.3 - Benefícios Mensais e Diários",null,{"$f":"SUM(F36:F45)","v":1051.9099999999999}]
[]
[null,null,null,"TOTAL DOS ENCARGOS E BENEFÍCIOS",null,{"$f":"TRUNC(SUM(F48:F50),2)","v":3763.66}]
[]
[null,"MÓDULO 3 - PROVISÃO PARA RESCISÃO",null,null,"Percentuais","Valor"]
[null,null,"A",{"$f":"'Encargos Sociais'!D36","v":"Aviso Prévio Indenizado (Art. 7º, inciso XXI, da CF/1988 e arts. 477, 487, §1º, e 491 da CLT)"},{"$f":"'Encargos Sociais'!E36","v":4.1999999999999997E-3},{"$f":"TRUNC(E55*($F$17+$F$48+$F$80),2)","v":25.52},null,"* Nota 1 - Base de cálculo - remuneração + ausências + 1/3 férias + 13º"]
[null,null,"B",{"$f":"'Encargos Sociais'!D37","v":"Incidência do FGTS sobre o Aviso Prévio Indenizado (Súmula 305 TST)"},{"$f":"'Encargos Sociais'!E37","v":2.9999999999999997E-4},{"$f":"TRUNC(E56*($F$17+$F$48+$F$80),2)","v":1.82}]
[null,null,"C",{"$f":"'Encargos Sociais'!D38","v":"Multa do FGTS sobre o Aviso Prévio Indenizado (Art. 18, §1º, da Lei 8.036/1990)"},{"$f":"'Encargos Sociais'!E38","v":0},{"$f":"TRUNC(E57*($F$17+$F$48+$F$80),2)","v":0},null,"* Nota 2 - zerado pois foi considerada toda a incidência da multa do FGTS na letra F"]
[null,null,"D",{"$f":"'Encargos Sociais'!D39","v":"Aviso Prévio Trabalhado (Art. 488, parágrafo único, CLT)"},{"$f":"'Encargos Sociais'!E39","v":9.7000000000000003E-3},{"$f":"TRUNC(E58*($F$17),2)","v":47.84}]
[null,null,"E",{"$f":"'Encargos Sociais'!D40","v":"Incidência de GPS, FGTS e outras contribuições sobre o Aviso Prévio Trabalhado"},{"$f":"'Encargos Sociais'!E40","v":3.3999999999999998E-3},{"$f":"TRUNC(E59*($F$17),2)","v":16.77}]
[null,null,"F",{"$f":"'Encargos Sociais'!D41","v":"Multa do FGTS"},{"$f":"'Encargos Sociais'!E41","v":3.2000000000000001E-2},{"$f":"TRUNC(E60*($F$17+$F$48+$F$80),2)","v":194.47}]
[]
[null,null,null,"TOTAL DE PROVISÃO PARA RESCISÃO",null,{"$f":"TRUNC(SUM(F55:F60),2)","v":286.42}]
[]
[null,"MÓDULO 4 - CUSTO DO PROFISSIONAL AUSENTE",null,null,"Percentuais","Valor"]
[null,"Submódulo 4.1 - Ausências Legais"]
[null,null,"A",{"$f":"'Encargos Sociais'!D25","v":"Férias (Arts. 129 e 130, inc. I, da CLT)"},{"$f":"'Encargos Sociais'!E25","v":9.0899999999999995E-2},{"$f":"TRUNC(E66*$F$17,2)","v":448.35},null,"* Nota 1 - O Módulo 4 refere-se às previsões para custear ausências do próprio profissional (titular do cargo)"]
[null,null,"B",{"$f":"'Encargos Sociais'!D26","v":"Ausências Legais (Arts. 131 e 473 da CLT)"},{"$f":"'Encargos Sociais'!E26","v":7.9000000000000008E-3},38.96,null,"* Nota 2 - As férias foram calculadas dividindo-se por 11, para comportar os 11 meses presentes e ainda o ausente do posto"]
[null,null,"C",{"$f":"'Encargos Sociais'!D27","v":"Licença-Paternidade (Art. 7º, XIX, e art. 10, §1º, do ADCT, CF/1988 e Art. 1º, II, da Lei 11.770/2008)"},{"$f":"'Encargos Sociais'!E27","v":8.0000000000000004E-4},3.94]
[null,null,"D",{"$f":"'Encargos Sociais'!D28","v":"Ausência por Acidente de Trabalho (Art. 131, III, da CLT)"},{"$f":"'Encargos Sociais'!E28","v":8.9999999999999998E-4},4.43]
[null,null,"E",{"$f":"'Encargos Sociais'!D29","v":"Afastamento Maternidade (Art. 71 da Lei nº 8.213/1991)"},{"$f":"'Encargos Sociais'!E29","v":3.3E-3},16.27]
[null,null,"F",{"$f":"'Encargos Sociais'!D30","v":"Auxílio Enfermidade - Doença (Art. 59 da Lei nº 8.213/1991)"},{"$f":"'Encargos Sociais'!E30","v":7.1000000000000004E-3},35.020000000000003]
[]
[null,"Submódulo 4.2 - Intrajornada"]
[null,null,"A","Intervalo para repouso ou alimentação",{"$f":"'Encargos Sociais'!E33","v":0},{"$f":"ROUND(E74*$F$17,2)","v":0}]
[]
[null,null,null,"QUADRO-RESUMO DO MÓDULO 4",null,"Valor"]
[null,null,null,"4.1 - Ausências Legais",{"$f":"SUM(E66:E71)","v":0.11089999999999998},{"$f":"SUM(F66:F71)","v":546.97}]
[null,null,null,"4.2 - Intrajornada",{"$f":"E74","v":0},{"$f":"ROUND(E78*$F$17,2)","v":0}]
[]
[null,null,null,"TOTAL DE CUSTO DO PROFISSIONAL AUSENTE E INTERVALO INTRAJORNADA",null,{"$f":"TRUNC(SUM(F77:F78),2)","v":546.97}]
[]
[null,"MÓDULO 5 - INSUMOS DIVERSOS",null,null,null,"Valor"]
[null,null,"A","Uniformes - aquisição",null,{"$f":"TRUNC(HLOOKUP($B$5,Uniformes!$J$3:$DY$5,3,0)/12,2)","v":0}]
[null,null,"B","Materiais de consumo relacionados ao posto - aquisição",null,0]
[null,null,"C","Ferramentas relacionadas ao posto - remuneração da sua depreciação / manutenção",null,0]
[null,null,"D","Equipamentos relacionados ao posto - remuneração da sua depreciação / manutenção",null,0]
[null,null,"E","Equipamentos de Proteção Individual - EPI - aquisição",null,{"$f":"TRUNC(HLOOKUP($B$5,EPI!$J$3:$DX$5,3,0)/12,2)","v":0}]
[]
[null,null,null,"TOTAL DE INSUMOS DIVERSOS",null,{"$f":"SUM(F83:F88)","v":0},null,"* Nota - Valores mensais por empregado"]
[]
[null,"MÓDULO 6 - CUSTOS INDIRETOS, TRIBUTOS E LUCRO - BDI",null,null,"Percentuais","Valor"]
[null,null,"A","Custos Indiretos",{"$f":"'BDI - Geral'!E7","v":2.7000000000000003E-2}]
[null,null,"A.1","Administração Central",{"$f":"'BDI - Geral'!E8","v":2.1600000000000001E-2}]
[null,null,"A.2","Seguros, Garantias e Riscos",{"$f":"'BDI - Geral'!E9","v":5.4000000000000003E-3}]
[null,null,"B","Lucro",{"$f":"'BDI - Geral'!E11","v":3.3399999999999999E-2}]
[null,null,"C","Tributos",{"$f":"SUM(E97:E98)","v":0.124}]
[null,null,"C.1","Tributos Federais (COFINS, PIS e CPRB)",{"$f":"'BDI - Geral'!E19","v":7.3999999999999996E-2}]
[null,null,"C.2","Tributos Distritais (ISS)",{"$f":"'BDI - Geral'!E24","v":0.05}]
[null,null,"D","Despesas Financeiras",{"$f":"'BDI - Geral'!E14","v":6.1000000000000004E-3}]
[]
[null,null,null,"TOTAL DE BDI",{"$f":"'BDI - Geral'!E27","v":0.21890000000000001},{"$f":"TRUNC(E101*E109,2)","v":2085.9899999999998}]
[]
[null,null,null,"QUADRO-RESUMO DO CUSTO MENSAL POR EMPREGADO","Valor"]
[null,null,null,"Módulo 1 - Composição da Remuneração",{"$f":"F17","v":4932.41}]
[null,null,null,"Módulo 2 - Encargos e Benefícios Anuais, Mensais e Diários",{"$f":"F52","v":3763.66}]
[null,null,null,"Módulo 3 - Provisão para Rescisão",{"$f":"F62","v":286.42}]
[null,null,null,"Módulo 4 - Custo do Profissional Ausente",{"$f":"F80","v":546.97}]
[null,null,null,"Módulo 5 - Insumos Diversos",{"$f":"F89","v":0}]
[null,null,null,"SUBTOTAL (A+B+C+D+E)",{"$f":"SUM(E104:E108)","v":9529.4599999999991}]
[null,null,null,"Módulo 6 - Custos Indiretos, Tributos e Lucro",{"$f":"F101","v":2085.9899999999998}]
[]
[null,null,null,"TOTAL DO POSTO",{"$f":"SUM(E109:E110)","v":11615.449999999999}]

{"sheet":"3","index":5,"n_rows":125,"n_cols":8,"rows_kept":125,"cut":false,"hidden":true,"merged":[[113,1,113,3],[46,3,46,5],[53,1,53,3],[63,1,63,3],[75,3,75,5],[81,1,81,3],[90,1,90,3],[18,1,18,3],[1,1,1,5],[2,1,2,5],[4,1,4,2],[5,1,5,2],[7,1,7,3]]}
[]
[null,"PLANILHA DE ESTIMATIVA DE CUSTOS"]
[null,"Padrão IN 05/2017 e IN 07/2018 - MPDG - Medição por posto presente"]
[]
[null,3,null,{"$f":"HLOOKUP($B$5,'Dados Gerais'!$D$6:$BI$22,6)","v":0},"QUANTIDADE",{"$f":"HLOOKUP($B$5,'Dados Gerais'!$D$6:$BI$22,10)","v":0}]
[null,"CCT",null,{"$f":"HLOOKUP($B$5,'Dados Gerais'!$D$6:$BI$22,16)","v":0},"DATA-BASE",{"$f":"HLOOKUP($B$5,'Dados Gerais'!$D$6:$BI$22,17)","v":"00:00:00"}]
[]
[null,"MÓDULO 1 - COMPOSIÇÃO DA REMUNERAÇÃO",null,null,null,"Valor"]
[null,null,"A","Salário-Base",null,{"$f":"HLOOKUP($B$5,'Dados Gerais'!$D$6:$BI$22,8)","v":0}]
[null,null,"B","Adicional de Periculosidade",null,{"$f":"HLOOKUP($B$5,'Dados Gerais'!$D$6:$BI$41,26)","v":0}]
[null,null,"C","Adicional de Insalubridade",null,{"$f":"HLOOKUP($B$5,'Dados Gerais'!$D$6:$BI$41,32)","v":0}]
[null,null,"D","Adicional Noturno",null,{"$f":"HLOOKUP($B$5,'Dados Gerais'!$D$6:$BI$54,49)","v":0},null,"* Nota 1 - O Módulo 1 refere-se ao valor mensal devido ao empregado pela prestação do serviço no período de 12 meses."]
[null,null,"E","Adicional de Hora Extra",null,{"$f":"HLOOKUP($B$5,'Dados Gerais'!$D$6:$BI$71,66)","v":0},null,"* Nota 2 - O adicional de hora extra no feriado trabalhado foi suprimido pela Lei 13.467/17"]
[null,null,"F","Gratificação",null,{"$f":"HLOOKUP($B$5,'Dados Gerais'!$D$6:$BI$71,34)","v":0},null,"* Nota 3 - ART. 7º, § 2º, DA LEI Nº 605/49.Sendo mensalista o obreiro, o adicional noturno pago de forma fixa já é considerado integrado para os efeitos do pagamento do repouso semanal remunerado, nos termos do art. 7º, § 2º, da Lei nº 605/49."]
[null,null,"G","Sobraviso",null,{"$f":"HLOOKUP($B$5,'Dados Gerais'!$D$6:$BI$71,36)","v":0},null,"* Nota 3 - ART. 7º, § 2º, DA LEI Nº 605/49.Sendo mensalista o obreiro, o adicional noturno pago de forma fixa já é considerado integrado para os efeitos do pagamento do repouso semanal remunerado, nos termos do art. 7º, § 2º, da Lei nº 605/49."]
[]
[null,null,null,"TOTAL DA REMUNERAÇÃO",null,{"$f":"TRUNC(SUM(F9:F15),2)","v":0}]
[]
[null,"MÓDULO 2 - ENCARGOS E BENEFÍCIOS ANUAIS, MENSAIS E DIÁRIOS",null,null,"Percentuais","Valor"]
[null,"Submódulo 2.1 - 13º Salário, Férias e Adicional de Férias"]
[null,null,"A","13º Salário - Calculado no Módulo 7 - Destacado",0,{"$f":"TRUNC(E21*F$17,2)","v":0}]
[null,null,"B","Adicional de Férias",{"$f":"'Encargos Sociais'!E31","v":3.0300000000000001E-2},{"$f":"TRUNC(E22*(F$17),2)","v":0},null,"* Nota 1 - O adicional de férias foi calculado dividindo-se por 11, para comportar os 11 meses presentes e ainda o ausente do posto"]
[]
[null,"Submódulo 2.2 - Encargos Previdenciários (GPS), Fundo de Garantia por Tempo de Serviço (FGTS) e Outras Contribuições"]
[null,null,"A",{"$f":"'Encargos Sociais'!D14","v":"INSS (art. 22, inciso I, Lei nº 8.212/91)"},{"$f":"'Encargos Sociais'!E14","v":0.2},{"$f":"TRUNC(E25*($F$17+$F$80+$F$22-F69),2)","v":0},null,"* Nota 1 - Os percentuais dos encargos previdenciários, do FGTS e demais contribuições são estabelecidos por legislação vigente."]
[null,null,"B",{"$f":"'Encargos Sociais'!D15","v":"Salário Educação (art. 3º, inciso I, Decreto nº 87.043/82)"},{"$f":"'Encargos Sociais'!E15","v":2.5000000000000001E-2},{"$f":"TRUNC(E26*($F$17+$F$80+$F$22),2)","v":0},null,"* Nota 2 - O SAT, a depender do grau de risco do serviço, irá variar entre 1%, para risco leve, de 2%, para risco médio, e de 3% para risco grave."]
[null,null,"C",{"$f":"'Encargos Sociais'!D16","v":"SAT/RAT (art. 22, II, Lei 8.212/91 e Anexo V, Decreto 6.042/07) - Enquadramento 8211-3/00"},{"$f":"'Encargos Sociais'!E16","v":0.01},0,null,"* Nota 3 - Base de cálculo - remuneração + ausências + terço constitucional (férias) - exceto INSS sobre ausência por acidente de trabalho"]
[null,null,"D",{"$f":"'Encargos Sociais'!D17","v":"SESC ou SESI (art. 30, Lei nº 8.036/90 e art. 1º, Lei 8.154/90)"},{"$f":"'Encargos Sociais'!E17","v":1.4999999999999999E-2},0]
[null,null,"E",{"$f":"'Encargos Sociais'!D18","v":"SENAI ou SENAC (Decreto nº 2.318/86)"},{"$f":"'Encargos Sociais'!E18","v":0.01},0]
[null,null,"F",{"$f":"'Encargos Sociais'!D19","v":"SEBRAE (§ 3º, art. 8º, Lei 8.029/90, alterada pela Lei nº 8.154/90)"},{"$f":"'Encargos Sociais'!E19","v":6.0000000000000001E-3},0]
[null,null,"G",{"$f":"'Encargos Sociais'!D20","v":"INCRA (art. 1º, I, Decreto Lei 1.146/70 e Lei 7.787, de 30/06/89)"},{"$f":"'Encargos Sociais'!E20","v":2E-3},0]
[null,null,"H",{"$f":"'Encargos Sociais'!D21","v":"FGTS (Lei Complementar nº 110/01 e art. 30, Lei nº 8.036/90)"},{"$f":"'Encargos Sociais'!E21","v":0.08},0]
[null,null,"I",{"$f":"'Encargos Sociais'!D22","v":"SECONCI (Convenções Coletivas de Trabalho da construção)"},{"$f":"'Encargos Sociais'!E22","v":0},0]
[]
[null,"Submódulo 2.3 - Benefícios Mensais e Diários"]
[null,null,"A","Auxílio Transporte",null,{"$f":"HLOOKUP($B$5,'Dados Gerais'!$D$6:$BI$101,85)","v":0},null,"* Nota 1 - O valor informado deverá ser o custo real do benefício (descontado o valor eventualmente pago pelo empregado)."]
[null,null,"B","Auxílio Alimentação",null,{"$f":"HLOOKUP($B$5,'Dados Gerais'!$D$6:$BI$101,92)","v":0},null,"* Nota 2 - Observar a previsão dos benefícios contidos em Acordos, Convenções e Dissídios Coletivos de Trabalho e o disposto no art. 6º da IN 5/2017"]
[null,null,"C","Assistência Médica e Familiar",null,{"$f":"HLOOKUP($B$5,'Dados Gerais'!$D$6:$BI$109,100)","v":0}]
[null,null,"D","Seguro de vida / auxílio funeral",null,{"$f":"HLOOKUP($B$5,'Dados Gerais'!$D$6:$BI$145,109)","v":0}]
[null,null,"E","Assistência odontológica",null,{"$f":"HLOOKUP($B$5,'Dados Gerais'!$D$6:$BI$145,115)","v":0}]
[null,null,"F","Auxílio creche",null,{"$f":"HLOOKUP($B$5,'Dados Gerais'!$D$6:$BI$145,121)","v":0}]
[null,null,"G","Auxílio vestuário especial",null,{"$f":"HLOOKUP($B$5,'Dados Gerais'!$D$6:$BI$145,127)","v":0}]
[null,null,"H","Benefício social familiar",null,{"$f":"HLOOKUP($B$5,'Dados Gerais'!$D$6:$BI$145,133)","v":0}]
[null,null,"I","Outros (especificar)",null,{"$f":"HLOOKUP($B$5,'Dados Gerais'!$D$6:$BI$145,115)","v":0}]
[null,null,"J","Outros (especificar)",null,{"$f":"HLOOKUP($B$5,'Dados Gerais'!$D$6:$BI$145,115)","v":0}]
[]
[null,null,null,"QUADRO-RESUMO DO MÓDULO 2"]
[null,null,null,"2.1 - Adicional de Férias",{"$f":"SUM(E21:E22)","v":3.0300000000000001E-2},{"$f":"F21+F22","v":0}]
[null,null,null,"2.2 - Encargos Previdenciários (GPS), Fundo de Garantia por Tempo de Serviço (FGTS) e Contribuições",{"$f":"SUM(E25:E33)","v":0.34800000000000003},{"$f":"SUM(F25:F33)","v":0}]
[null,null,null,"2.3 - Benefícios Mensais e Diários",null,{"$f":"SUM(F36:F45)","v":0}]
[]
[null,null,null,"TOTAL DOS ENCARGOS E BENEFÍCIOS",null,{"$f":"TRUNC(SUM(F48:F50),2)","v":0}]
[]
[null,"MÓDULO 3 - PREVISÃO PARA RESCISÃO",null,null,"Percentuais","Valor"]
[null,null,"A",{"$f":"'Encargos Sociais'!D36","v":"Aviso Prévio Indenizado (Art. 7º, inciso XXI, da CF/1988 e arts. 477, 487, §1º, e 491 da CLT)"},{"$f":"'Encargos Sociais'!E36","v":4.1999999999999997E-3},{"$f":"TRUNC(E55*($F$17+$F$48+$F$80),2)","v":0},null,"* Nota 1 - Base de cálculo - remuneração + ausências + 1/3 férias"]
[null,null,"B",{"$f":"'Encargos Sociais'!D37","v":"Incidência do FGTS sobre o Aviso Prévio Indenizado (Súmula 305 TST)"},{"$f":"'Encargos Sociais'!E37","v":2.9999999999999997E-4},0]
[null,null,"C",{"$f":"'Encargos Sociais'!D38","v":"Multa do FGTS sobre o Aviso Prévio Indenizado (Art. 18, §1º, da Lei 8.036/1990)"},{"$f":"'Encargos Sociais'!E38","v":0},0]
[null,null,"D",{"$f":"'Encargos Sociais'!D39","v":"Aviso Prévio Trabalhado (Art. 488, parágrafo único, CLT)"},{"$f":"'Encargos Sociais'!E39","v":9.7000000000000003E-3},0]
[null,null,"E",{"$f":"'Encargos Sociais'!D40","v":"Incidência de GPS, FGTS e outras contribuições sobre o Aviso Prévio Trabalhado"},{"$f":"'Encargos Sociais'!E40","v":3.3999999999999998E-3},0]
[null,null,"F",{"$f":"'Encargos Sociais'!D41","v":"Multa do FGTS"},{"$f":"'Encargos Sociais'!E41","v":3.2000000000000001E-2},0]
[]
[null,null,null,"TOTAL DE PREVISÃO PARA RESCISÃO",null,{"$f":"TRUNC(SUM(F55:F60),2)","v":0}]
[]
[null,"MÓDULO 4 - CUSTO DO PROFISSIONAL AUSENTE",null,null,"Percentuais","Valor"]
[null,"Submódulo 4.1 - Ausências Legais"]
[null,null,"A",{"$f":"'Encargos Sociais'!D25","v":"Férias (Arts. 129 e 130, inc. I, da CLT)"},{"$f":"'Encargos Sociais'!E25","v":9.0899999999999995E-2},{"$f":"TRUNC(E66*$F$17,2)","v":0},null,"* Nota 1 - O Módulo 4 refere-se às previsões para custear ausências do próprio profissional (titular do cargo)"]
[null,null,"B",{"$f":"'Encargos Sociais'!D26","v":"Ausências Legais (Arts. 131 e 473 da CLT)"},{"$f":"'Encargos Sociais'!E26","v":7.9000000000000008E-3},0,null,"* Nota 2 - As férias foram calculadas dividindo-se por 11, para comportar os 11 meses presentes e ainda o ausente do posto"]
[null,null,"C",{"$f":"'Encargos Sociais'!D27","v":"Licença-Paternidade (Art. 7º, XIX, e art. 10, §1º, do ADCT, CF/1988 e Art. 1º, II, da Lei 11.770/2008)"},{"$f":"'Encargos Sociais'!E27","v":8.0000000000000004E-4},0]
[null,null,"D",{"$f":"'Encargos Sociais'!D28","v":"Ausência por Acidente de Trabalho (Art. 131, III, da CLT)"},{"$f":"'Encargos Sociais'!E28","v":8.9999999999999998E-4},0]
[null,null,"E",{"$f":"'Encargos Sociais'!D29","v":"Afastamento Maternidade (Art. 71 da Lei nº 8.213/1991)"},{"$f":"'Encargos Sociais'!E29","v":3.3E-3},0]
[null,null,"F",{"$f":"'Encargos Sociais'!D30","v":"Auxílio Enfermidade - Doença (Art. 59 da Lei nº 8.213/1991)"},{"$f":"'Encargos Sociais'!E30","v":7.1000000000000004E-3},0]
[]
[null,"Submódulo 4.2 - Intrajornada"]
[null,null,"A","Intervalo para repouso ou alimentação",{"$f":"'Encargos Sociais'!E33","v":0},{"$f":"ROUND(E74*$F$17,2)","v":0}]
[]
[null,null,null,"QUADRO-RESUMO DO MÓDULO 4",null,"Valor"]
[null,null,null,"4.1 - Ausências Legais",{"$f":"SUM(E66:E71)","v":0.11089999999999998},{"$f":"SUM(F66:F71)","v":0}]
[null,null,null,"4.2 - Intrajornada",{"$f":"E74","v":0},{"$f":"ROUND(E78*$F$17,2)","v":0}]
[]
[null,null,null,"TOTAL DE CUSTO DO PROFFIONAL AUSENTE E INTERVALO INTRAJORNADA",null,{"$f":"TRUNC(SUM(F77:F78),2)","v":0}]
[]
[null,"MÓDULO 5 - INSUMOS DIVERSOS",null,null,null,"Valor"]
[null,null,"A","Uniformes - aquisição",null,{"$f":"TRUNC(HLOOKUP($B$5,Uniformes!$J$3:$DY$5,3,0)/12,2)","v":0}]
[null,null,"B","Materiais de consumo relacionados ao posto - aquisição",null,0]
[null,null,"C","Ferramentas relacionadas ao posto - remuneração da sua depreciação / manutenção",null,0]
[null,null,"D","Equipamentos relacionados ao posto - remuneração da sua depreciação / manutenção",null,0]
[null,null,"E","Equipamentos de Proteção Individual - EPI - aquisição",null,{"$f":"TRUNC(HLOOKUP($B$5,EPI!$J$3:$DX$5,3,0)/12,2)","v":0}]
[]
[null,null,null,"TOTAL DE INSUMOS DIVERSOS",null,{"$f":"SUM(F83:F88)","v":0},null,"* Nota - Valores mensais por empregado"]
[]
[null,"MÓDULO 6 - CUSTOS INDIRETOS, TRIBUTOS E LUCRO - BDI",null,null,"Percentuais","Valor"]
[null,null,"A","Custos Indiretos",{"$f":"'BDI - Geral'!E7","v":2.7000000000000003E-2}]
[null,null,"A.1","Administração Central",{"$f":"'BDI - Geral'!E8","v":2.1600000000000001E-2}]
[null,null,"A.2","Seguros, Garantias e Riscos",{"$f":"'BDI - Geral'!E9","v":5.4000000000000003E-3}]
[null,null,"B","Lucro",{"$f":"'BDI - Geral'!E11","v":3.3399999999999999E-2}]
[null,null,"C","Tributos",{"$f":"SUM(E97:E98)","v":0.124}]
[null,null,"C.1","Tributos Federais (COFINS, PIS e CPRB)",{"$f":"'BDI - Geral'!E19","v":7.3999999999999996E-2}]
[null,null,"C.2","Tributos Distritais (ISS)",{"$f":"'BDI - Geral'!E24","v":0.05}]
[null,null,"D","Despesas Financeiras",{"$f":"'BDI - Geral'!E14","v":6.1000000000000004E-3}]
[]
[null,null,null,"TOTAL DE BDI",{"$f":"'BDI - Geral'!E27","v":0.21890000000000001},{"$f":"TRUNC(E101*E109,2)","v":0}]
[]
[null,null,null,"QUADRO-RESUMO DO CUSTO MENSAL POR EMPREGADO - SEM O 13º","Valor"]
[null,null,null,"Módulo 1 - Composição da Remuneração",{"$f":"F17","v":0}]
[null,null,null,"Módulo 2 - Encargos e Benefícios Anuais, Mensais e Diários",{"$f":"F52","v":0}]
[null,null,null,"Módulo 3 - Provisão para Rescisão",{"$f":"F62","v":0}]
[null,null,null,"Módulo 4 - Custo de Reposição do Profissional Ausente",{"$f":"F80","v":0}]
[null,null,null,"Módulo 5 - Insumos Diversos",{"$f":"F89","v":0}]
[null,null,null,"SUBTOTAL (A+B+C+D+E)",{"$f":"SUM(E104:E108)","v":0}]
[null,null,null,"Módulo 6 - Custos Indiretos, Tributos e Lucro",{"$f":"F101","v":0}]
[]
[null,null,null,"TOTAL DO POSTO",{"$f":"SUM(E109:E110)","v":0}]
[]
[null,"MÓDULO 7 - DESTAQUE DO MÓDULO 2 - 13º SALÁRIO",null,null,"Percentuais","Valor"]
[null,null,"A","13º Salário",{"$f":"'[1]Encargos Sociais'!E32*12/11","v":9.9163636363636357E-2},{"$f":"ROUND(E115*F$17,2)","v":0},null,"* Nota 1 - Incluindo-se a reincidência das férias do substituto sobre o titular"]
[null,null,"B","Encargos Sociais sobre o 13º Salário (submódulo 2.2 e módulo 3)",{"$f":"SUM($E$25:$E$33)+SUM($E$55:$E$60)","v":0.39760000000000006},{"$f":"ROUND(E116*$F$115,2)","v":0},null,"* Nota 2 - 13º e reflexos calculados à parte a fim de aprovisionamento"]
[null,null,"C","BDI sobre o 13º Salário",{"$f":"E101","v":0.21890000000000001},{"$f":"ROUND(E117*($F$115+$F$116),2)","v":0}]
[]
[null,null,null,"TOTAL DO DESTAQUE DO 13º SALÁRIO",null,{"$f":"SUM(F115:F117)","v":0}]
[]
[null,null,null,"QUADRO-RESUMO DO CUSTO MENSAL POR EMPREGADO","Valor"]
[null,null,null,"Custo total - sem o 13º Salário",{"$f":"ROUND(E112,2)","v":0}]
[null,null,null,"Destaque do 13º Salário (valor mensal)",{"$f":"ROUND(F119,2)","v":0}]
[]
[null,null,null,"TOTAL DO POSTO",{"$f":"E122+E123","v":0}]

{"sheet":"4","index":6,"n_rows":125,"n_cols":8,"rows_kept":125,"cut":false,"hidden":true,"merged":[[113,1,113,3],[46,3,46,5],[53,1,53,3],[63,1,63,3],[75,3,75,5],[81,1,81,3],[90,1,90,3],[18,1,18,3],[1,1,1,5],[2,1,2,5],[4,1,4,2],[5,1,5,2],[7,1,7,3]]}
[]
[null,"PLANILHA DE ESTIMATIVA DE CUSTOS"]
[null,"Padrão IN 05/2017 e IN 07/2018 - MPDG - Medição por posto presente"]
[]
[null,4,null,{"$f":"HLOOKUP($B$5,'Dados Gerais'!$D$6:$BI$22,6)","v":0},"QUANTIDADE",{"$f":"HLOOKUP($B$5,'Dados Gerais'!$D$6:$BI$22,10)","v":0}]
[null,"CCT",null,{"$f":"HLOOKUP($B$5,'Dados Gerais'!$D$6:$BI$22,16)","v":0},"DATA-BASE",{"$f":"HLOOKUP($B$5,'Dados Gerais'!$D$6:$BI$22,17)","v":"00:00:00"}]
[]
[null,"MÓDULO 1 - COMPOSIÇÃO DA REMUNERAÇÃO",null,null,null,"Valor"]
[null,null,"A","Salário-Base",null,{"$f":"HLOOKUP($B$5,'Dados Gerais'!$D$6:$BI$22,8)","v":0}]
[null,null,"B","Adicional de Periculosidade",null,{"$f":"HLOOKUP($B$5,'Dados Gerais'!$D$6:$BI$41,26)","v":0}]
[null,null,"C","Adicional de Insalubridade",null,{"$f":"HLOOKUP($B$5,'Dados Gerais'!$D$6:$BI$41,32)","v":0}]
[null,null,"D","Adicional Noturno",null,{"$f":"HLOOKUP($B$5,'Dados Gerais'!$D$6:$BI$54,49)","v":0},null,"* Nota 1 - O Módulo 1 refere-se ao valor mensal devido ao empregado pela prestação do serviço no período de 12 meses."]
[null,null,"E","Adicional de Hora Extra",null,{"$f":"HLOOKUP($B$5,'Dados Gerais'!$D$6:$BI$71,66)","v":0},null,"* Nota 2 - O adicional de hora extra no feriado trabalhado foi suprimido pela Lei 13.467/17"]
[null,null,"F","Gratificação",null,{"$f":"HLOOKUP($B$5,'Dados Gerais'!$D$6:$BI$71,34)","v":0},null,"* Nota 3 - ART. 7º, § 2º, DA LEI Nº 605/49.Sendo mensalista o obreiro, o adicional noturno pago de forma fixa já é considerado integrado para os efeitos do pagamento do repouso semanal remunerado, nos termos do art. 7º, § 2º, da Lei nº 605/49."]
[null,null,"G","Sobraviso",null,{"$f":"HLOOKUP($B$5,'Dados Gerais'!$D$6:$BI$71,36)","v":0},null,"* Nota 3 - ART. 7º, § 2º, DA LEI Nº 605/49.Sendo mensalista o obreiro, o adicional noturno pago de forma fixa já é considerado integrado para os efeitos do pagamento do repouso semanal remunerado, nos termos do art. 7º, § 2º, da Lei nº 605/49."]
[]
[null,null,null,"TOTAL DA REMUNERAÇÃO",null,{"$f":"TRUNC(SUM(F9:F15),2)","v":0}]
[]
[null,"MÓDULO 2 - ENCARGOS E BENEFÍCIOS ANUAIS, MENSAIS E DIÁRIOS",null,null,"Percentuais","Valor"]
[null,"Submódulo 2.1 - 13º Salário, Férias e Adicional de Férias"]
[null,null,"A","13º Salário - Calculado no Módulo 7 - Destacado",0,{"$f":"TRUNC(E21*F$17,2)","v":0}]
[null,null,"B","Adicional de Férias",{"$f":"'Encargos Sociais'!E31","v":3.0300000000000001E-2},{"$f":"TRUNC(E22*(F$17),2)","v":0},null,"* Nota 1 - O adicional de férias foi calculado dividindo-se por 11, para comportar os 11 meses presentes e ainda o ausente do posto"]
[]
[null,"Submódulo 2.2 - Encargos Previdenciários (GPS), Fundo de Garantia por Tempo de Serviço (FGTS) e Outras Contribuições"]
[null,null,"A",{"$f":"'Encargos Sociais'!D14","v":"INSS (art. 22, inciso I, Lei nº 8.212/91)"},{"$f":"'Encargos Sociais'!E14","v":0.2},{"$f":"TRUNC(E25*($F$17+$F$80+$F$22-F69),2)","v":0},null,"* Nota 1 - Os percentuais dos encargos previdenciários, do FGTS e demais contribuições são estabelecidos por legislação vigente."]
[null,null,"B",{"$f":"'Encargos Sociais'!D15","v":"Salário Educação (art. 3º, inciso I, Decreto nº 87.043/82)"},{"$f":"'Encargos Sociais'!E15","v":2.5000000000000001E-2},{"$f":"TRUNC(E26*($F$17+$F$80+$F$22),2)","v":0},null,"* Nota 2 - O SAT, a depender do grau de risco do serviço, irá variar entre 1%, para risco leve, de 2%, para risco médio, e de 3% para risco grave."]
[null,null,"C",{"$f":"'Encargos Sociais'!D16","v":"SAT/RAT (art. 22, II, Lei 8.212/91 e Anexo V, Decreto 6.042/07) - Enquadramento 8211-3/00"},{"$f":"'Encargos Sociais'!E16","v":0.01},0,null,"* Nota 3 - Base de cálculo - remuneração + ausências + terço constitucional (férias) - exceto INSS sobre ausência por acidente de trabalho"]
[null,null,"D",{"$f":"'Encargos Sociais'!D17","v":"SESC ou SESI (art. 30, Lei nº 8.036/90 e art. 1º, Lei 8.154/90)"},{"$f":"'Encargos Sociais'!E17","v":1.4999999999999999E-2},0]
[null,null,"E",{"$f":"'Encargos Sociais'!D18","v":"SENAI ou SENAC (Decreto nº 2.318/86)"},{"$f":"'Encargos Sociais'!E18","v":0.01},0]
[null,null,"F",{"$f":"'Encargos Sociais'!D19","v":"SEBRAE (§ 3º, art. 8º, Lei 8.029/90, alterada pela Lei nº 8.154/90)"},{"$f":"'Encargos Sociais'!E19","v":6.0000000000000001E-3},0]
[null,null,"G",{"$f":"'Encargos Sociais'!D20","v":"INCRA (art. 1º, I, Decreto Lei 1.146/70 e Lei 7.787, de 30/06/89)"},{"$f":"'Encargos Sociais'!E20","v":2E-3},0]
[null,null,"H",{"$f":"'Encargos Sociais'!D21","v":"FGTS (Lei Complementar nº 110/01 e art. 30, Lei nº 8.036/90)"},{"$f":"'Encargos Sociais'!E21","v":0.08},0]
[null,null,"I",{"$f":"'Encargos Sociais'!D22","v":"SECONCI (Convenções Coletivas de Trabalho da construção)"},{"$f":"'Encargos Sociais'!E22","v":0},0]
[]
[null,"Submódulo 2.3 - Benefícios Mensais e Diários"]
[null,null,"A","Auxílio Transporte",null,{"$f":"HLOOKUP($B$5,'Dados Gerais'!$D$6:$BI$101,85)","v":0},null,"* Nota 1 - O valor informado deverá ser o custo real do benefício (descontado o valor eventualmente pago pelo empregado)."]
[null,null,"B","Auxílio Alimentação",null,{"$f":"HLOOKUP($B$5,'Dados Gerais'!$D$6:$BI$101,92)","v":0},null,"* Nota 2 - Observar a previsão dos benefícios contidos em Acordos, Convenções e Dissídios Coletivos de Trabalho e o disposto no art. 6º da IN 5/2017"]
[null,null,"C","Assistência Médica e Familiar",null,{"$f":"HLOOKUP($B$5,'Dados Gerais'!$D$6:$BI$109,100)","v":0}]
[null,null,"D","Seguro de vida / auxílio funeral",null,{"$f":"HLOOKUP($B$5,'Dados Gerais'!$D$6:$BI$145,109)","v":0}]
[null,null,"E","Assistência odontológica",null,{"$f":"HLOOKUP($B$5,'Dados Gerais'!$D$6:$BI$145,115)","v":0}]
[null,null,"F","Auxílio creche",null,{"$f":"HLOOKUP($B$5,'Dados Gerais'!$D$6:$BI$145,121)","v":0}]
[null,null,"G","Auxílio vestuário especial",null,{"$f":"HLOOKUP($B$5,'Dados Gerais'!$D$6:$BI$145,127)","v":0}]
[null,null,"H","Benefício social familiar",null,{"$f":"HLOOKUP($B$5,'Dados Gerais'!$D$6:$BI$145,133)","v":0}]
[null,null,"I","Outros (especificar)",null,{"$f":"HLOOKUP($B$5,'Dados Gerais'!$D$6:$BI$145,115)","v":0}]
[null,null,"J","Outros (especificar)",null,{"$f":"HLOOKUP($B$5,'Dados Gerais'!$D$6:$BI$145,115)","v":0}]
[]
[null,null,null,"QUADRO-RESUMO DO MÓDULO 2"]
[null,null,null,"2.1 - Adicional de Férias",{"$f":"SUM(E21:E22)","v":3.0300000000000001E-2},{"$f":"F21+F22","v":0}]
[null,null,null,"2.2 - Encargos Previdenciários (GPS), Fundo de Garantia por Tempo de Serviço (FGTS) e Contribuições",{"$f":"SUM(E25:E33)","v":0.34800000000000003},{"$f":"SUM(F25:F33)","v":0}]
[null,null,null,"2.3 - Benefícios Mensais e Diários",null,{"$f":"SUM(F36:F45)","v":0}]
[]
[null,null,null,"TOTAL DOS ENCARGOS E BENEFÍCIOS",null,{"$f":"TRUNC(SUM(F48:F50),2)","v":0}]
[]
[null,"MÓDULO 3 - PREVISÃO PARA RESCISÃO",null,null,"Percentuais","Valor"]
[null,null,"A",{"$f":"'Encargos Sociais'!D36","v":"Aviso Prévio Indenizado (Art. 7º, inciso XXI, da CF/1988 e arts. 477, 487, §1º, e 491 da CLT)"},{"$f":"'Encargos Sociais'!E36","v":4.1999999999999997E-3},{"$f":"TRUNC(E55*($F$17+$F$48+$F$80),2)","v":0},null,"* Nota 1 - Base de cálculo - remuneração + ausências + 1/3 férias"]
[null,null,"B",{"$f":"'Encargos Sociais'!D37","v":"Incidência do FGTS sobre o Aviso Prévio Indenizado (Súmula 305 TST)"},{"$f":"'Encargos Sociais'!E37","v":2.9999999999999997E-4},0]
[null,null,"C",{"$f":"'Encargos Sociais'!D38","v":"Multa do FGTS sobre o Aviso Prévio Indenizado (Art. 18, §1º, da Lei 8.036/1990)"},{"$f":"'Encargos Sociais'!E38","v":0},0]
[null,null,"D",{"$f":"'Encargos Sociais'!D39","v":"Aviso Prévio Trabalhado (Art. 488, parágrafo único, CLT)"},{"$f":"'Encargos Sociais'!E39","v":9.7000000000000003E-3},0]
[null,null,"E",{"$f":"'Encargos Sociais'!D40","v":"Incidência de GPS, FGTS e outras contribuições sobre o Aviso Prévio Trabalhado"},{"$f":"'Encargos Sociais'!E40","v":3.3999999999999998E-3},0]
[null,null,"F",{"$f":"'Encargos Sociais'!D41","v":"Multa do FGTS"},{"$f":"'Encargos Sociais'!E41","v":3.2000000000000001E-2},0]
[]
[null,null,null,"TOTAL DE PREVISÃO PARA RESCISÃO",null,{"$f":"TRUNC(SUM(F55:F60),2)","v":0}]
[]
[null,"MÓDULO 4 - CUSTO DO PROFISSIONAL AUSENTE",null,null,"Percentuais","Valor"]
[null,"Submódulo 4.1 - Ausências Legais"]
[null,null,"A",{"$f":"'Encargos Sociais'!D25","v":"Férias (Arts. 129 e 130, inc. I, da CLT)"},{"$f":"'Encargos Sociais'!E25","v":9.0899999999999995E-2},{"$f":"TRUNC(E66*$F$17,2)","v":0},null,"* Nota 1 - O Módulo 4 refere-se às previsões para custear ausências do próprio profissional (titular do cargo)"]
[null,null,"B",{"$f":"'Encargos Sociais'!D26","v":"Ausências Legais (Arts. 131 e 473 da CLT)"},{"$f":"'Encargos Sociais'!E26","v":7.9000000000000008E-3},0,null,"* Nota 2 - As férias foram calculadas dividindo-se por 11, para comportar os 11 meses presentes e ainda o ausente do posto"]
[null,null,"C",{"$f":"'Encargos Sociais'!D27","v":"Licença-Paternidade (Art. 7º, XIX, e art. 10, §1º, do ADCT, CF/1988 e Art. 1º, II, da Lei 11.770/2008)"},{"$f":"'Encargos Sociais'!E27","v":8.0000000000000004E-4},0]
[null,null,"D",{"$f":"'Encargos Sociais'!D28","v":"Ausência por Acidente de Trabalho (Art. 131, III, da CLT)"},{"$f":"'Encargos Sociais'!E28","v":8.9999999999999998E-4},0]
[null,null,"E",{"$f":"'Encargos Sociais'!D29","v":"Afastamento Maternidade (Art. 71 da Lei nº 8.213/1991)"},{"$f":"'Encargos Sociais'!E29","v":3.3E-3},0]
[null,null,"F",{"$f":"'Encargos Sociais'!D30","v":"Auxílio Enfermidade - Doença (Art. 59 da Lei nº 8.213/1991)"},{"$f":"'Encargos Sociais'!E30","v":7.1000000000000004E-3},0]
[]
[null,"Submódulo 4.2 - Intrajornada"]
[null,null,"A","Intervalo para repouso ou alimentação",{"$f":"'Encargos Sociais'!E33","v":0},{"$f":"ROUND(E74*$F$17,2)","v":0}]
[]
[null,null,null,"QUADRO-RESUMO DO MÓDULO 4",null,"Valor"]
[null,null,null,"4.1 - Ausências Legais",{"$f":"SUM(E66:E71)","v":0.11089999999999998},{"$f":"SUM(F66:F71)","v":0}]
[null,null,null,"4.2 - Intrajornada",{"$f":"E74","v":0},{"$f":"ROUND(E78*$F$17,2)","v":0}]
[]
[null,null,null,"TOTAL DE CUSTO DO PROFFIONAL AUSENTE E INTERVALO INTRAJORNADA",null,{"$f":"TRUNC(SUM(F77:F78),2)","v":0}]
[]
[null,"MÓDULO 5 - INSUMOS DIVERSOS",null,null,null,"Valor"]
[null,null,"A","Uniformes - aquisição",null,{"$f":"TRUNC(HLOOKUP($B$5,Uniformes!$J$3:$DY$5,3,0)/12,2)","v":0}]
[null,null,"B","Materiais de consumo relacionados ao posto - aquisição",null,0]
[null,null,"C","Ferramentas relacionadas ao posto - remuneração da sua depreciação / manutenção",null,0]
[null,null,"D","Equipamentos relacionados ao posto - remuneração da sua depreciação / manutenção",null,0]
[null,null,"E","Equipamentos de Proteção Individual - EPI - aquisição",null,{"$f":"TRUNC(HLOOKUP($B$5,EPI!$J$3:$DX$5,3,0)/12,2)","v":0}]
[]
[null,null,null,"TOTAL DE INSUMOS DIVERSOS",null,{"$f":"SUM(F83:F88)","v":0},null,"* Nota - Valores mensais por empregado"]
[]
[null,"MÓDULO 6 - CUSTOS INDIRETOS, TRIBUTOS E LUCRO - BDI",null,null,"Percentuais","Valor"]
[null,null,"A","Custos Indiretos",{"$f":"'BDI - Geral'!E7","v":2.7000000000000003E-2}]
[null,null,"A.1","Administração Central",{"$f":"'BDI - Geral'!E8","v":2.1600000000000001E-2}]
[null,null,"A.2","Seguros, Garantias e Riscos",{"$f":"'BDI - Geral'!E9","v":5.4000000000000003E-3}]
[null,null,"B","Lucro",{"$f":"'BDI - Geral'!E11","v":3.3399999999999999E-2}]
[null,null,"C","Tributos",{"$f":"SUM(E97:E98)","v":0.124}]
[null,null,"C.1","Tributos Federais (COFINS, PIS e CPRB)",{"$f":"'BDI - Geral'!E19","v":7.3999999999999996E-2}]
[null,null,"C.2","Tributos Distritais (ISS)",{"$f":"'BDI - Geral'!E24","v":0.05}]
[null,null,"D","Despesas Financeiras",{"$f":"'BDI - Geral'!E14","v":6.1000000000000004E-3}]
[]
[null,null,null,"TOTAL DE BDI",{"$f":"'BDI - Geral'!E27","v":0.21890000000000001},{"$f":"TRUNC(E101*E109,2)","v":0}]
[]
[null,null,null,"QUADRO-RESUMO DO CUSTO MENSAL POR EMPREGADO - SEM O 13º","Valor"]
[null,null,null,"Módulo 1 - Composição da Remuneração",{"$f":"F17","v":0}]
[null,null,null,"Módulo 2 - Encargos e Benefícios Anuais, Mensais e Diários",{"$f":"F52","v":0}]
[null,null,null,"Módulo 3 - Provisão para Rescisão",{"$f":"F62","v":0}]
[null,null,null,"Módulo 4 - Custo de Reposição do Profissional Ausente",{"$f":"F80","v":0}]
[null,null,null,"Módulo 5 - Insumos Diversos",{"$f":"F89","v":0}]
[null,null,null,"SUBTOTAL (A+B+C+D+E)",{"$f":"SUM(E104:E108)","v":0}]
[null,null,null,"Módulo 6 - Custos Indiretos, Tributos e Lucro",{"$f":"F101","v":0}]
[]
[null,null,null,"TOTAL DO POSTO",{"$f":"SUM(E109:E110)","v":0}]
[]
[null,"MÓDULO 7 - DESTAQUE DO MÓDULO 2 - 13º SALÁRIO",null,null,"Percentuais","Valor"]
[null,null,"A","13º Salário",{"$f":"'[1]Encargos Sociais'!E32*12/11","v":9.9163636363636357E-2},{"$f":"ROUND(E115*F$17,2)","v":0},null,"* Nota 1 - Incluindo-se a reincidência das férias do substituto sobre o titular"]
[null,null,"B","Encargos Sociais sobre o 13º Salário (submódulo 2.2 e módulo 3)",{"$f":"SUM($E$25:$E$33)+SUM($E$55:$E$60)","v":0.39760000000000006},{"$f":"ROUND(E116*$F$115,2)","v":0},null,"* Nota 2 - 13º e reflexos calculados à parte a fim de aprovisionamento"]
[null,null,"C","BDI sobre o 13º Salário",{"$f":"E101","v":0.21890000000000001},{"$f":"ROUND(E117*($F$115+$F$116),2)","v":0}]
[]
[null,null,null,"TOTAL DO DESTAQUE DO 13º SALÁRIO",null,{"$f":"SUM(F115:F117)","v":0}]
[]
[null,null,null,"QUADRO-RESUMO DO CUSTO MENSAL POR EMPREGADO","Valor"]
[null,null,null,"Custo total - sem o 13º Salário",{"$f":"ROUND(E112,2)","v":0}]
[null,null,null,"Destaque do 13º Salário (valor mensal)",{"$f":"ROUND(F119,2)","v":0}]
[]
[null,null,null,"TOTAL DO POSTO",{"$f":"E122+E123","v":0}]

{"sheet":"5","index":7,"n_rows":125,"n_cols":8,"rows_kept":125,"cut":false,"hidden":true,"merged":[[113,1,113,3],[46,3,46,5],[53,1,53,3],[63,1,63,3],[75,3,75,5],[81,1,81,3],[90,1,90,3],[18,1,18,3],[1,1,1,5],[2,1,2,5],[4,1,4,2],[5,1,5,2],[7,1,7,3]]}
[]
[null,"PLANILHA DE ESTIMATIVA DE CUSTOS"]
[null,"Padrão IN 05/2017 e IN 07/2018 - MPDG - Medição por posto presente"]
[]
[null,5,null,{"$f":"HLOOKUP($B$5,'Dados Gerais'!$D$6:$BI$22,6)","v":0},"QUANTIDADE",{"$f":"HLOOKUP($B$5,'Dados Gerais'!$D$6:$BI$22,10)","v":0}]
[null,"CCT",null,{"$f":"HLOOKUP($B$5,'Dados Gerais'!$D$6:$BI$22,16)","v":0},"DATA-BASE",{"$f":"HLOOKUP($B$5,'Dados Gerais'!$D$6:$BI$22,17)","v":"00:00:00"}]
[]
[null,"MÓDULO 1 - COMPOSIÇÃO DA REMUNERAÇÃO",null,null,null,"Valor"]
[null,null,"A","Salário-Base",null,{"$f":"HLOOKUP($B$5,'Dados Gerais'!$D$6:$BI$22,8)","v":0}]
[null,null,"B","Adicional de Periculosidade",null,{"$f":"HLOOKUP($B$5,'Dados Gerais'!$D$6:$BI$41,26)","v":0}]
[null,null,"C","Adicional de Insalubridade",null,{"$f":"HLOOKUP($B$5,'Dados Gerais'!$D$6:$BI$41,32)","v":0}]
[null,null,"D","Adicional Noturno",null,{"$f":"HLOOKUP($B$5,'Dados Gerais'!$D$6:$BI$54,49)","v":0},null,"* Nota 1 - O Módulo 1 refere-se ao valor mensal devido ao empregado pela prestação do serviço no período de 12 meses."]
[null,null,"E","Adicional de Hora Extra",null,{"$f":"HLOOKUP($B$5,'Dados Gerais'!$D$6:$BI$71,66)","v":0},null,"* Nota 2 - O adicional de hora extra no feriado trabalhado foi suprimido pela Lei 13.467/17"]
[null,null,"F","Gratificação",null,{"$f":"HLOOKUP($B$5,'Dados Gerais'!$D$6:$BI$71,34)","v":0},null,"* Nota 3 - ART. 7º, § 2º, DA LEI Nº 605/49.Sendo mensalista o obreiro, o adicional noturno pago de forma fixa já é considerado integrado para os efeitos do pagamento do repouso semanal remunerado, nos termos do art. 7º, § 2º, da Lei nº 605/49."]
[null,null,"G","Sobraviso",null,{"$f":"HLOOKUP($B$5,'Dados Gerais'!$D$6:$BI$71,36)","v":0},null,"* Nota 3 - ART. 7º, § 2º, DA LEI Nº 605/49.Sendo mensalista o obreiro, o adicional noturno pago de forma fixa já é considerado integrado para os efeitos do pagamento do repouso semanal remunerado, nos termos do art. 7º, § 2º, da Lei nº 605/49."]
[]
[null,null,null,"TOTAL DA REMUNERAÇÃO",null,{"$f":"TRUNC(SUM(F9:F15),2)","v":0}]
[]
[null,"MÓDULO 2 - ENCARGOS E BENEFÍCIOS ANUAIS, MENSAIS E DIÁRIOS",null,null,"Percentuais","Valor"]
[null,"Submódulo 2.1 - 13º Salário, Férias e Adicional de Férias"]
[null,null,"A","13º Salário - Calculado no Módulo 7 - Destacado",0,{"$f":"TRUNC(E21*F$17,2)","v":0}]
[null,null,"B","Adicional de Férias",{"$f":"'Encargos Sociais'!E31","v":3.0300000000000001E-2},{"$f":"TRUNC(E22*(F$17),2)","v":0},null,"* Nota 1 - O adicional de férias foi calculado dividindo-se por 11, para comportar os 11 meses presentes e ainda o ausente do posto"]
[]
[null,"Submódulo 2.2 - Encargos Previdenciários (GPS), Fundo de Garantia por Tempo de Serviço (FGTS) e Outras Contribuições"]
[null,null,"A",{"$f":"'Encargos Sociais'!D14","v":"INSS (art. 22, inciso I, Lei nº 8.212/91)"},{"$f":"'Encargos Sociais'!E14","v":0.2},{"$f":"TRUNC(E25*($F$17+$F$80+$F$22-F69),2)","v":0},null,"* Nota 1 - Os percentuais dos encargos previdenciários, do FGTS e demais contribuições são estabelecidos por legislação vigente."]
[null,null,"B",{"$f":"'Encargos Sociais'!D15","v":"Salário Educação (art. 3º, inciso I, Decreto nº 87.043/82)"},{"$f":"'Encargos Sociais'!E15","v":2.5000000000000001E-2},{"$f":"TRUNC(E26*($F$17+$F$80+$F$22),2)","v":0},null,"* Nota 2 - O SAT, a depender do grau de risco do serviço, irá variar entre 1%, para risco leve, de 2%, para risco médio, e de 3% para risco grave."]
[null,null,"C",{"$f":"'Encargos Sociais'!D16","v":"SAT/RAT (art. 22, II, Lei 8.212/91 e Anexo V, Decreto 6.042/07) - Enquadramento 8211-3/00"},{"$f":"'Encargos Sociais'!E16","v":0.01},0,null,"* Nota 3 - Base de cálculo - remuneração + ausências + terço constitucional (férias) - exceto INSS sobre ausência por acidente de trabalho"]
[null,null,"D",{"$f":"'Encargos Sociais'!D17","v":"SESC ou SESI (art. 30, Lei nº 8.036/90 e art. 1º, Lei 8.154/90)"},{"$f":"'Encargos Sociais'!E17","v":1.4999999999999999E-2},0]
[null,null,"E",{"$f":"'Encargos Sociais'!D18","v":"SENAI ou SENAC (Decreto nº 2.318/86)"},{"$f":"'Encargos Sociais'!E18","v":0.01},0]
[null,null,"F",{"$f":"'Encargos Sociais'!D19","v":"SEBRAE (§ 3º, art. 8º, Lei 8.029/90, alterada pela Lei nº 8.154/90)"},{"$f":"'Encargos Sociais'!E19","v":6.0000000000000001E-3},0]
[null,null,"G",{"$f":"'Encargos Sociais'!D20","v":"INCRA (art. 1º, I, Decreto Lei 1.146/70 e Lei 7.787, de 30/06/89)"},{"$f":"'Encargos Sociais'!E20","v":2E-3},0]
[null,null,"H",{"$f":"'Encargos Sociais'!D21","v":"FGTS (Lei Complementar nº 110/01 e art. 30, Lei nº 8.036/90)"},{"$f":"'Encargos Sociais'!E21","v":0.08},0]
[null,null,"I",{"$f":"'Encargos Sociais'!D22","v":"SECONCI (Convenções Coletivas de Trabalho da construção)"},{"$f":"'Encargos Sociais'!E22","v":0},0]
[]
[null,"Submódulo 2.3 - Benefícios Mensais e Diários"]
[null,null,"A","Auxílio Transporte",null,{"$f":"HLOOKUP($B$5,'Dados Gerais'!$D$6:$BI$101,85)","v":0},null,"* Nota 1 - O valor informado deverá ser o custo real do benefício (descontado o valor eventualmente pago pelo empregado)."]
[null,null,"B","Auxílio Alimentação",null,{"$f":"HLOOKUP($B$5,'Dados Gerais'!$D$6:$BI$101,92)","v":0},null,"* Nota 2 - Observar a previsão dos benefícios contidos em Acordos, Convenções e Dissídios Coletivos de Trabalho e o disposto no art. 6º da IN 5/2017"]
[null,null,"C","Assistência Médica e Familiar",null,{"$f":"HLOOKUP($B$5,'Dados Gerais'!$D$6:$BI$109,100)","v":0}]
[null,null,"D","Seguro de vida / auxílio funeral",null,{"$f":"HLOOKUP($B$5,'Dados Gerais'!$D$6:$BI$145,109)","v":0}]
[null,null,"E","Assistência odontológica",null,{"$f":"HLOOKUP($B$5,'Dados Gerais'!$D$6:$BI$145,115)","v":0}]
[null,null,"F","Auxílio creche",null,{"$f":"HLOOKUP($B$5,'Dados Gerais'!$D$6:$BI$145,121)","v":0}]
[null,null,"G","Auxílio vestuário especial",null,{"$f":"HLOOKUP($B$5,'Dados Gerais'!$D$6:$BI$145,127)","v":0}]
[null,null,"H","Benefício social familiar",null,{"$f":"HLOOKUP($B$5,'Dados Gerais'!$D$6:$BI$145,133)","v":0}]
[null,null,"I","Outros (especificar)",null,{"$f":"HLOOKUP($B$5,'Dados Gerais'!$D$6:$BI$145,115)","v":0}]
[null,null,"J","Outros (especificar)",null,{"$f":"HLOOKUP($B$5,'Dados Gerais'!$D$6:$BI$145,115)","v":0}]
[]
[null,null,null,"QUADRO-RESUMO DO MÓDULO 2"]
[null,null,null,"2.1 - Adicional de Férias",{"$f":"SUM(E21:E22)","v":3.0300000000000001E-2},{"$f":"F21+F22","v":0}]
[null,null,null,"2.2 - Encargos Previdenciários (GPS), Fundo de Garantia por Tempo de Serviço (FGTS) e Contribuições",{"$f":"SUM(E25:E33)","v":0.34800000000000003},{"$f":"SUM(F25:F33)","v":0}]
[null,null,null,"2.3 - Benefícios Mensais e Diários",null,{"$f":"SUM(F36:F45)","v":0}]
[]
[null,null,null,"TOTAL DOS ENCARGOS E BENEFÍCIOS",null,{"$f":"TRUNC(SUM(F48:F50),2)","v":0}]
[]
[null,"MÓDULO 3 - PREVISÃO PARA RESCISÃO",null,null,"Percentuais","Valor"]
[null,null,"A",{"$f":"'Encargos Sociais'!D36","v":"Aviso Prévio Indenizado (Art. 7º, inciso XXI, da CF/1988 e arts. 477, 487, §1º, e 491 da CLT)"},{"$f":"'Encargos Sociais'!E36","v":4.1999999999999997E-3},{"$f":"TRUNC(E55*($F$17+$F$48+$F$80),2)","v":0},null,"* Nota 1 - Base de cálculo - remuneração + ausências + 1/3 férias"]
[null,null,"B",{"$f":"'Encargos Sociais'!D37","v":"Incidência do FGTS sobre o Aviso Prévio Indenizado (Súmula 305 TST)"},{"$f":"'Encargos Sociais'!E37","v":2.9999999999999997E-4},0]
[null,null,"C",{"$f":"'Encargos Sociais'!D38","v":"Multa do FGTS sobre o Aviso Prévio Indenizado (Art. 18, §1º, da Lei 8.036/1990)"},{"$f":"'Encargos Sociais'!E38","v":0},0]
[null,null,"D",{"$f":"'Encargos Sociais'!D39","v":"Aviso Prévio Trabalhado (Art. 488, parágrafo único, CLT)"},{"$f":"'Encargos Sociais'!E39","v":9.7000000000000003E-3},0]
[null,null,"E",{"$f":"'Encargos Sociais'!D40","v":"Incidência de GPS, FGTS e outras contribuições sobre o Aviso Prévio Trabalhado"},{"$f":"'Encargos Sociais'!E40","v":3.3999999999999998E-3},0]
[null,null,"F",{"$f":"'Encargos Sociais'!D41","v":"Multa do FGTS"},{"$f":"'Encargos Sociais'!E41","v":3.2000000000000001E-2},0]
[]
[null,null,null,"TOTAL DE PREVISÃO PARA RESCISÃO",null,{"$f":"TRUNC(SUM(F55:F60),2)","v":0}]
[]
[null,"MÓDULO 4 - CUSTO DO PROFISSIONAL AUSENTE",null,null,"Percentuais","Valor"]
[null,"Submódulo 4.1 - Ausências Legais"]
[null,null,"A",{"$f":"'Encargos Sociais'!D25","v":"Férias (Arts. 129 e 130, inc. I, da CLT)"},{"$f":"'Encargos Sociais'!E25","v":9.0899999999999995E-2},{"$f":"TRUNC(E66*$F$17,2)","v":0},null,"* Nota 1 - O Módulo 4 refere-se às previsões para custear ausências do próprio profissional (titular do cargo)"]
[null,null,"B",{"$f":"'Encargos Sociais'!D26","v":"Ausências Legais (Arts. 131 e 473 da CLT)"},{"$f":"'Encargos Sociais'!E26","v":7.9000000000000008E-3},0,null,"* Nota 2 - As férias foram calculadas dividindo-se por 11, para comportar os 11 meses presentes e ainda o ausente do posto"]
[null,null,"C",{"$f":"'Encargos Sociais'!D27","v":"Licença-Paternidade (Art. 7º, XIX, e art. 10, §1º, do ADCT, CF/1988 e Art. 1º, II, da Lei 11.770/2008)"},{"$f":"'Encargos Sociais'!E27","v":8.0000000000000004E-4},0]
[null,null,"D",{"$f":"'Encargos Sociais'!D28","v":"Ausência por Acidente de Trabalho (Art. 131, III, da CLT)"},{"$f":"'Encargos Sociais'!E28","v":8.9999999999999998E-4},0]
[null,null,"E",{"$f":"'Encargos Sociais'!D29","v":"Afastamento Maternidade (Art. 71 da Lei nº 8.213/1991)"},{"$f":"'Encargos Sociais'!E29","v":3.3E-3},0]
[null,null,"F",{"$f":"'Encargos Sociais'!D30","v":"Auxílio Enfermidade - Doença (Art. 59 da Lei nº 8.213/1991)"},{"$f":"'Encargos Sociais'!E30","v":7.1000000000000004E-3},0]
[]
[null,"Submódulo 4.2 - Intrajornada"]
[null,null,"A","Intervalo para repouso ou alimentação",{"$f":"'Encargos Sociais'!E33","v":0},{"$f":"ROUND(E74*$F$17,2)","v":0}]
[]
[null,null,null,"QUADRO-RESUMO DO MÓDULO 4",null,"Valor"]
[null,null,null,"4.1 - Ausências Legais",{"$f":"SUM(E66:E71)","v":0.11089999999999998},{"$f":"SUM(F66:F71)","v":0}]
[null,null,null,"4.2 - Intrajornada",{"$f":"E74","v":0},{"$f":"ROUND(E78*$F$17,2)","v":0}]
[]
[null,null,null,"TOTAL DE CUSTO DO PROFFIONAL AUSENTE E INTERVALO INTRAJORNADA",null,{"$f":"TRUNC(SUM(F77:F78),2)","v":0}]
[]
[null,"MÓDULO 5 - INSUMOS DIVERSOS",null,null,null,"Valor"]
[null,null,"A","Uniformes - aquisição",null,{"$f":"TRUNC(HLOOKUP($B$5,Uniformes!$J$3:$DY$5,3,0)/12,2)","v":0}]
[null,null,"B","Materiais de consumo relacionados ao posto - aquisição",null,0]
[null,null,"C","Ferramentas relacionadas ao posto - remuneração da sua depreciação / manutenção",null,0]
[null,null,"D","Equipamentos relacionados ao posto - remuneração da sua depreciação / manutenção",null,0]
[null,null,"E","Equipamentos de Proteção Individual - EPI - aquisição",null,{"$f":"TRUNC(HLOOKUP($B$5,EPI!$J$3:$DX$5,3,0)/12,2)","v":0}]
[]
[null,null,null,"TOTAL DE INSUMOS DIVERSOS",null,{"$f":"SUM(F83:F88)","v":0},null,"* Nota - Valores mensais por empregado"]
[]
[null,"MÓDULO 6 - CUSTOS INDIRETOS, TRIBUTOS E LUCRO - BDI",null,null,"Percentuais","Valor"]
[null,null,"A","Custos Indiretos",{"$f":"'BDI - Geral'!E7","v":2.7000000000000003E-2}]
[null,null,"A.1","Administração Central",{"$f":"'BDI - Geral'!E8","v":2.1600000000000001E-2}]
[null,null,"A.2","Seguros, Garantias e Riscos",{"$f":"'BDI - Geral'!E9","v":5.4000000000000003E-3}]
[null,null,"B","Lucro",{"$f":"'BDI - Geral'!E11","v":3.3399999999999999E-2}]
[null,null,"C","Tributos",{"$f":"SUM(E97:E98)","v":0.124}]
[null,null,"C.1","Tributos Federais (COFINS, PIS e CPRB)",{"$f":"'BDI - Geral'!E19","v":7.3999999999999996E-2}]
[null,null,"C.2","Tributos Distritais (ISS)",{"$f":"'BDI - Geral'!E24","v":0.05}]
[null,null,"D","Despesas Financeiras",{"$f":"'BDI - Geral'!E14","v":6.1000000000000004E-3}]
[]
[null,null,null,"TOTAL DE BDI",{"$f":"'BDI - Geral'!E27","v":0.21890000000000001},{"$f":"TRUNC(E101*E109,2)","v":0}]
[]
[null,null,null,"QUADRO-RESUMO DO CUSTO MENSAL POR EMPREGADO - SEM O 13º","Valor"]
[null,null,null,"Módulo 1 - Composição da Remuneração",{"$f":"F17","v":0}]
[null,null,null,"Módulo 2 - Encargos e Benefícios Anuais, Mensais e Diários",{"$f":"F52","v":0}]
[null,null,null,"Módulo 3 - Provisão para Rescisão",{"$f":"F62","v":0}]
[null,null,null,"Módulo 4 - Custo de Reposição do Profissional Ausente",{"$f":"F80","v":0}]
[null,null,null,"Módulo 5 - Insumos Diversos",{"$f":"F89","v":0}]
[null,null,null,"SUBTOTAL (A+B+C+D+E)",{"$f":"SUM(E104:E108)","v":0}]
[null,null,null,"Módulo 6 - Custos Indiretos, Tributos e Lucro",{"$f":"F101","v":0}]
[]
[null,null,null,"TOTAL DO POSTO",{"$f":"SUM(E109:E110)","v":0}]
[]
[null,"MÓDULO 7 - DESTAQUE DO MÓDULO 2 - 13º SALÁRIO",null,null,"Percentuais","Valor"]
[null,null,"A","13º Salário",{"$f":"'[1]Encargos Sociais'!E32*12/11","v":9.9163636363636357E-2},{"$f":"ROUND(E115*F$17,2)","v":0},null,"* Nota 1 - Incluindo-se a reincidência das férias do substituto sobre o titular"]
[null,null,"B","Encargos Sociais sobre o 13º Salário (submódulo 2.2 e módulo 3)",{"$f":"SUM($E$25:$E$33)+SUM($E$55:$E$60)","v":0.39760000000000006},{"$f":"ROUND(E116*$F$115,2)","v":0},null,"* Nota 2 - 13º e reflexos calculados à parte a fim de aprovisionamento"]
[null,null,"C","BDI sobre o 13º Salário",{"$f":"E101","v":0.21890000000000001},{"$f":"ROUND(E117*($F$115+$F$116),2)","v":0}]
[]
[null,null,null,"TOTAL DO DESTAQUE DO 13º SALÁRIO",null,{"$f":"SUM(F115:F117)","v":0}]
[]
[null,null,null,"QUADRO-RESUMO DO CUSTO MENSAL POR EMPREGADO","Valor"]
[null,null,null,"Custo total - sem o 13º Salário",{"$f":"ROUND(E112,2)","v":0}]
[null,null,null,"Destaque do 13º Salário (valor mensal)",{"$f":"ROUND(F119,2)","v":0}]
[]
[null,null,null,"TOTAL DO POSTO",{"$f":"E122+E123","v":0}]

{"sheet":"6","index":8,"n_rows":125,"n_cols":8,"rows_kept":125,"cut":false,"hidden":true,"merged":[[113,1,113,3],[46,3,46,5],[53,1,53,3],[63,1,63,3],[75,3,75,5],[81,1,81,3],[90,1,90,3],[18,1,18,3],[1,1,1,5],[2,1,2,5],[4,1,4,2],[5,1,5,2],[7,1,7,3]]}
[]
[null,"PLANILHA DE ESTIMATIVA DE CUSTOS"]
[null,"Padrão IN 05/2017 e IN 07/2018 - MPDG - Medição por posto presente"]
[]
[null,6,null,{"$f":"HLOOKUP($B$5,'Dados Gerais'!$D$6:$BI$22,6)","v":0},"QUANTIDADE",{"$f":"HLOOKUP($B$5,'Dados Gerais'!$D$6:$BI$22,10)","v":0}]
[null,"CCT",null,{"$f":"HLOOKUP($B$5,'Dados Gerais'!$D$6:$BI$22,16)","v":0},"DATA-BASE",{"$f":"HLOOKUP($B$5,'Dados Gerais'!$D$6:$BI$22,17)","v":"00:00:00"}]
[]
[null,"MÓDULO 1 - COMPOSIÇÃO DA REMUNERAÇÃO",null,null,null,"Valor"]
[null,null,"A","Salário-Base",null,{"$f":"HLOOKUP($B$5,'Dados Gerais'!$D$6:$BI$22,8)","v":0}]
[null,null,"B","Adicional de Periculosidade",null,{"$f":"HLOOKUP($B$5,'Dados Gerais'!$D$6:$BI$41,26)","v":0}]
[null,null,"C","Adicional de Insalubridade",null,{"$f":"HLOOKUP($B$5,'Dados Gerais'!$D$6:$BI$41,32)","v":0}]
[null,null,"D","Adicional Noturno",null,{"$f":"HLOOKUP($B$5,'Dados Gerais'!$D$6:$BI$54,49)","v":0},null,"* Nota 1 - O Módulo 1 refere-se ao valor mensal devido ao empregado pela prestação do serviço no período de 12 meses."]
[null,null,"E","Adicional de Hora Extra",null,{"$f":"HLOOKUP($B$5,'Dados Gerais'!$D$6:$BI$71,66)","v":0},null,"* Nota 2 - O adicional de hora extra no feriado trabalhado foi suprimido pela Lei 13.467/17"]
[null,null,"F","Gratificação",null,{"$f":"HLOOKUP($B$5,'Dados Gerais'!$D$6:$BI$71,34)","v":0},null,"* Nota 3 - ART. 7º, § 2º, DA LEI Nº 605/49.Sendo mensalista o obreiro, o adicional noturno pago de forma fixa já é considerado integrado para os efeitos do pagamento do repouso semanal remunerado, nos termos do art. 7º, § 2º, da Lei nº 605/49."]
[null,null,"G","Sobraviso",null,{"$f":"HLOOKUP($B$5,'Dados Gerais'!$D$6:$BI$71,36)","v":0},null,"* Nota 3 - ART. 7º, § 2º, DA LEI Nº 605/49.Sendo mensalista o obreiro, o adicional noturno pago de forma fixa já é considerado integrado para os efeitos do pagamento do repouso semanal remunerado, nos termos do art. 7º, § 2º, da Lei nº 605/49."]
[]
[null,null,null,"TOTAL DA REMUNERAÇÃO",null,{"$f":"TRUNC(SUM(F9:F15),2)","v":0}]
[]
[null,"MÓDULO 2 - ENCARGOS E BENEFÍCIOS ANUAIS, MENSAIS E DIÁRIOS",null,null,"Percentuais","Valor"]
[null,"Submódulo 2.1 - 13º Salário, Férias e Adicional de Férias"]
[null,null,"A","13º Salário - Calculado no Módulo 7 - Destacado",0,{"$f":"TRUNC(E21*F$17,2)","v":0}]
[null,null,"B","Adicional de Férias",{"$f":"'Encargos Sociais'!E31","v":3.0300000000000001E-2},{"$f":"TRUNC(E22*(F$17),2)","v":0},null,"* Nota 1 - O adicional de férias foi calculado dividindo-se por 11, para comportar os 11 meses presentes e ainda o ausente do posto"]
[]
[null,"Submódulo 2.2 - Encargos Previdenciários (GPS), Fundo de Garantia por Tempo de Serviço (FGTS) e Outras Contribuições"]
[null,null,"A",{"$f":"'Encargos Sociais'!D14","v":"INSS (art. 22, inciso I, Lei nº 8.212/91)"},{"$f":"'Encargos Sociais'!E14","v":0.2},{"$f":"TRUNC(E25*($F$17+$F$80+$F$22-F69),2)","v":0},null,"* Nota 1 - Os percentuais dos encargos previdenciários, do FGTS e demais contribuições são estabelecidos por legislação vigente."]
[null,null,"B",{"$f":"'Encargos Sociais'!D15","v":"Salário Educação (art. 3º, inciso I, Decreto nº 87.043/82)"},{"$f":"'Encargos Sociais'!E15","v":2.5000000000000001E-2},{"$f":"TRUNC(E26*($F$17+$F$80+$F$22),2)","v":0},null,"* Nota 2 - O SAT, a depender do grau de risco do serviço, irá variar entre 1%, para risco leve, de 2%, para risco médio, e de 3% para risco grave."]
[null,null,"C",{"$f":"'Encargos Sociais'!D16","v":"SAT/RAT (art. 22, II, Lei 8.212/91 e Anexo V, Decreto 6.042/07) - Enquadramento 8211-3/00"},{"$f":"'Encargos Sociais'!E16","v":0.01},0,null,"* Nota 3 - Base de cálculo - remuneração + ausências + terço constitucional (férias) - exceto INSS sobre ausência por acidente de trabalho"]
[null,null,"D",{"$f":"'Encargos Sociais'!D17","v":"SESC ou SESI (art. 30, Lei nº 8.036/90 e art. 1º, Lei 8.154/90)"},{"$f":"'Encargos Sociais'!E17","v":1.4999999999999999E-2},0]
[null,null,"E",{"$f":"'Encargos Sociais'!D18","v":"SENAI ou SENAC (Decreto nº 2.318/86)"},{"$f":"'Encargos Sociais'!E18","v":0.01},0]
[null,null,"F",{"$f":"'Encargos Sociais'!D19","v":"SEBRAE (§ 3º, art. 8º, Lei 8.029/90, alterada pela Lei nº 8.154/90)"},{"$f":"'Encargos Sociais'!E19","v":6.0000000000000001E-3},0]
[null,null,"G",{"$f":"'Encargos Sociais'!D20","v":"INCRA (art. 1º, I, Decreto Lei 1.146/70 e Lei 7.787, de 30/06/89)"},{"$f":"'Encargos Sociais'!E20","v":2E-3},0]
[null,null,"H",{"$f":"'Encargos Sociais'!D21","v":"FGTS (Lei Complementar nº 110/01 e art. 30, Lei nº 8.036/90)"},{"$f":"'Encargos Sociais'!E21","v":0.08},0]
[null,null,"I",{"$f":"'Encargos Sociais'!D22","v":"SECONCI (Convenções Coletivas de Trabalho da construção)"},{"$f":"'Encargos Sociais'!E22","v":0},0]
[]
[null,"Submódulo 2.3 - Benefícios Mensais e Diários"]
[null,null,"A","Auxílio Transporte",null,{"$f":"HLOOKUP($B$5,'Dados Gerais'!$D$6:$BI$101,85)","v":0},null,"* Nota 1 - O valor informado deverá ser o custo real do benefício (descontado o valor eventualmente pago pelo empregado)."]
[null,null,"B","Auxílio Alimentação",null,{"$f":"HLOOKUP($B$5,'Dados Gerais'!$D$6:$BI$101,92)","v":0},null,"* Nota 2 - Observar a previsão dos benefícios contidos em Acordos, Convenções e Dissídios Coletivos de Trabalho e o disposto no art. 6º da IN 5/2017"]
[null,null,"C","Assistência Médica e Familiar",null,{"$f":"HLOOKUP($B$5,'Dados Gerais'!$D$6:$BI$109,100)","v":0}]
[null,null,"D","Seguro de vida / auxílio funeral",null,{"$f":"HLOOKUP($B$5,'Dados Gerais'!$D$6:$BI$145,109)","v":0}]
[null,null,"E","Assistência odontológica",null,{"$f":"HLOOKUP($B$5,'Dados Gerais'!$D$6:$BI$145,115)","v":0}]
[null,null,"F","Auxílio creche",null,{"$f":"HLOOKUP($B$5,'Dados Gerais'!$D$6:$BI$145,121)","v":0}]
[null,null,"G","Auxílio vestuário especial",null,{"$f":"HLOOKUP($B$5,'Dados Gerais'!$D$6:$BI$145,127)","v":0}]
[null,null,"H","Benefício social familiar",null,{"$f":"HLOOKUP($B$5,'Dados Gerais'!$D$6:$BI$145,133)","v":0}]
[null,null,"I","Outros (especificar)",null,{"$f":"HLOOKUP($B$5,'Dados Gerais'!$D$6:$BI$145,115)","v":0}]
[null,null,"J","Outros (especificar)",null,{"$f":"HLOOKUP($B$5,'Dados Gerais'!$D$6:$BI$145,115)","v":0}]
[]
[null,null,null,"QUADRO-RESUMO DO MÓDULO 2"]
[null,null,null,"2.1 - Adicional de Férias",{"$f":"SUM(E21:E22)","v":3.0300000000000001E-2},{"$f":"F21+F22","v":0}]
[null,null,null,"2.2 - Encargos Previdenciários (GPS), Fundo de Garantia por Tempo de Serviço (FGTS) e Contribuições",{"$f":"SUM(E25:E33)","v":0.34800000000000003},{"$f":"SUM(F25:F33)","v":0}]
[null,null,null,"2.3 - Benefícios Mensais e Diários",null,{"$f":"SUM(F36:F45)","v":0}]
[]
[null,null,null,"TOTAL DOS ENCARGOS E BENEFÍCIOS",null,{"$f":"TRUNC(SUM(F48:F50),2)","v":0}]
[]
[null,"MÓDULO 3 - PREVISÃO PARA RESCISÃO",null,null,"Percentuais","Valor"]
[null,null,"A",{"$f":"'Encargos Sociais'!D36","v":"Aviso Prévio Indenizado (Art. 7º, inciso XXI, da CF/1988 e arts. 477, 487, §1º, e 491 da CLT)"},{"$f":"'Encargos Sociais'!E36","v":4.1999999999999997E-3},{"$f":"TRUNC(E55*($F$17+$F$48+$F$80),2)","v":0},null,"* Nota 1 - Base de cálculo - remuneração + ausências + 1/3 férias"]
[null,null,"B",{"$f":"'Encargos Sociais'!D37","v":"Incidência do FGTS sobre o Aviso Prévio Indenizado (Súmula 305 TST)"},{"$f":"'Encargos Sociais'!E37","v":2.9999999999999997E-4},0]
[null,null,"C",{"$f":"'Encargos Sociais'!D38","v":"Multa do FGTS sobre o Aviso Prévio Indenizado (Art. 18, §1º, da Lei 8.036/1990)"},{"$f":"'Encargos Sociais'!E38","v":0},0]
[null,null,"D",{"$f":"'Encargos Sociais'!D39","v":"Aviso Prévio Trabalhado (Art. 488, parágrafo único, CLT)"},{"$f":"'Encargos Sociais'!E39","v":9.7000000000000003E-3},0]
[null,null,"E",{"$f":"'Encargos Sociais'!D40","v":"Incidência de GPS, FGTS e outras contribuições sobre o Aviso Prévio Trabalhado"},{"$f":"'Encargos Sociais'!E40","v":3.3999999999999998E-3},0]
[null,null,"F",{"$f":"'Encargos Sociais'!D41","v":"Multa do FGTS"},{"$f":"'Encargos Sociais'!E41","v":3.2000000000000001E-2},0]
[]
[null,null,null,"TOTAL DE PREVISÃO PARA RESCISÃO",null,{"$f":"TRUNC(SUM(F55:F60),2)","v":0}]
[]
[null,"MÓDULO 4 - CUSTO DO PROFISSIONAL AUSENTE",null,null,"Percentuais","Valor"]
[null,"Submódulo 4.1 - Ausências Legais"]
[null,null,"A",{"$f":"'Encargos Sociais'!D25","v":"Férias (Arts. 129 e 130, inc. I, da CLT)"},{"$f":"'Encargos Sociais'!E25","v":9.0899999999999995E-2},{"$f":"TRUNC(E66*$F$17,2)","v":0},null,"* Nota 1 - O Módulo 4 refere-se às previsões para custear ausências do próprio profissional (titular do cargo)"]
[null,null,"B",{"$f":"'Encargos Sociais'!D26","v":"Ausências Legais (Arts. 131 e 473 da CLT)"},{"$f":"'Encargos Sociais'!E26","v":7.9000000000000008E-3},0,null,"* Nota 2 - As férias foram calculadas dividindo-se por 11, para comportar os 11 meses presentes e ainda o ausente do posto"]
[null,null,"C",{"$f":"'Encargos Sociais'!D27","v":"Licença-Paternidade (Art. 7º, XIX, e art. 10, §1º, do ADCT, CF/1988 e Art. 1º, II, da Lei 11.770/2008)"},{"$f":"'Encargos Sociais'!E27","v":8.0000000000000004E-4},0]
[null,null,"D",{"$f":"'Encargos Sociais'!D28","v":"Ausência por Acidente de Trabalho (Art. 131, III, da CLT)"},{"$f":"'Encargos Sociais'!E28","v":8.9999999999999998E-4},0]
[null,null,"E",{"$f":"'Encargos Sociais'!D29","v":"Afastamento Maternidade (Art. 71 da Lei nº 8.213/1991)"},{"$f":"'Encargos Sociais'!E29","v":3.3E-3},0]
[null,null,"F",{"$f":"'Encargos Sociais'!D30","v":"Auxílio Enfermidade - Doença (Art. 59 da Lei nº 8.213/1991)"},{"$f":"'Encargos Sociais'!E30","v":7.1000000000000004E-3},0]
[]
[null,"Submódulo 4.2 - Intrajornada"]
[null,null,"A","Intervalo para repouso ou alimentação",{"$f":"'Encargos Sociais'!E33","v":0},{"$f":"ROUND(E74*$F$17,2)","v":0}]
[]
[null,null,null,"QUADRO-RESUMO DO MÓDULO 4",null,"Valor"]
[null,null,null,"4.1 - Ausências Legais",{"$f":"SUM(E66:E71)","v":0.11089999999999998},{"$f":"SUM(F66:F71)","v":0}]
[null,null,null,"4.2 - Intrajornada",{"$f":"E74","v":0},{"$f":"ROUND(E78*$F$17,2)","v":0}]
[]
[null,null,null,"TOTAL DE CUSTO DO PROFFIONAL AUSENTE E INTERVALO INTRAJORNADA",null,{"$f":"TRUNC(SUM(F77:F78),2)","v":0}]
[]
[null,"MÓDULO 5 - INSUMOS DIVERSOS",null,null,null,"Valor"]
[null,null,"A","Uniformes - aquisição",null,{"$f":"TRUNC(HLOOKUP($B$5,Uniformes!$J$3:$DY$5,3,0)/12,2)","v":0}]
[null,null,"B","Materiais de consumo relacionados ao posto - aquisição",null,0]
[null,null,"C","Ferramentas relacionadas ao posto - remuneração da sua depreciação / manutenção",null,0]
[null,null,"D","Equipamentos relacionados ao posto - remuneração da sua depreciação / manutenção",null,0]
[null,null,"E","Equipamentos de Proteção Individual - EPI - aquisição",null,{"$f":"TRUNC(HLOOKUP($B$5,EPI!$J$3:$DX$5,3,0)/12,2)","v":0}]
[]
[null,null,null,"TOTAL DE INSUMOS DIVERSOS",null,{"$f":"SUM(F83:F88)","v":0},null,"* Nota - Valores mensais por empregado"]
[]
[null,"MÓDULO 6 - CUSTOS INDIRETOS, TRIBUTOS E LUCRO - BDI",null,null,"Percentuais","Valor"]
[null,null,"A","Custos Indiretos",{"$f":"'BDI - Geral'!E7","v":2.7000000000000003E-2}]
[null,null,"A.1","Administração Central",{"$f":"'BDI - Geral'!E8","v":2.1600000000000001E-2}]
[null,null,"A.2","Seguros, Garantias e Riscos",{"$f":"'BDI - Geral'!E9","v":5.4000000000000003E-3}]
[null,null,"B","Lucro",{"$f":"'BDI - Geral'!E11","v":3.3399999999999999E-2}]
[null,null,"C","Tributos",{"$f":"SUM(E97:E98)","v":0.124}]
[null,null,"C.1","Tributos Federais (COFINS, PIS e CPRB)",{"$f":"'BDI - Geral'!E19","v":7.3999999999999996E-2}]
[null,null,"C.2","Tributos Distritais (ISS)",{"$f":"'BDI - Geral'!E24","v":0.05}]
[null,null,"D","Despesas Financeiras",{"$f":"'BDI - Geral'!E14","v":6.1000000000000004E-3}]
[]
[null,null,null,"TOTAL DE BDI",{"$f":"'BDI - Geral'!E27","v":0.21890000000000001},{"$f":"TRUNC(E101*E109,2)","v":0}]
[]
[null,null,null,"QUADRO-RESUMO DO CUSTO MENSAL POR EMPREGADO - SEM O 13º","Valor"]
[null,null,null,"Módulo 1 - Composição da Remuneração",{"$f":"F17","v":0}]
[null,null,null,"Módulo 2 - Encargos e Benefícios Anuais, Mensais e Diários",{"$f":"F52","v":0}]
[null,null,null,"Módulo 3 - Provisão para Rescisão",{"$f":"F62","v":0}]
[null,null,null,"Módulo 4 - Custo de Reposição do Profissional Ausente",{"$f":"F80","v":0}]
[null,null,null,"Módulo 5 - Insumos Diversos",{"$f":"F89","v":0}]
[null,null,null,"SUBTOTAL (A+B+C+D+E)",{"$f":"SUM(E104:E108)","v":0}]
[null,null,null,"Módulo 6 - Custos Indiretos, Tributos e Lucro",{"$f":"F101","v":0}]
[]
[null,null,null,"TOTAL DO POSTO",{"$f":"SUM(E109:E110)","v":0}]
[]
[null,"MÓDULO 7 - DESTAQUE DO MÓDULO 2 - 13º SALÁRIO",null,null,"Percentuais","Valor"]
[null,null,"A","13º Salário",{"$f":"'[1]Encargos Sociais'!E32*12/11","v":9.9163636363636357E-2},{"$f":"ROUND(E115*F$17,2)","v":0},null,"* Nota 1 - Incluindo-se a reincidência das férias do substituto sobre o titular"]
[null,null,"B","Encargos Sociais sobre o 13º Salário (submódulo 2.2 e módulo 3)",{"$f":"SUM($E$25:$E$33)+SUM($E$55:$E$60)","v":0.39760000000000006},{"$f":"ROUND(E116*$F$115,2)","v":0},null,"* Nota 2 - 13º e reflexos calculados à parte a fim de aprovisionamento"]
[null,null,"C","BDI sobre o 13º Salário",{"$f":"E101","v":0.21890000000000001},{"$f":"ROUND(E117*($F$115+$F$116),2)","v":0}]
[]
[null,null,null,"TOTAL DO DESTAQUE DO 13º SALÁRIO",null,{"$f":"SUM(F115:F117)","v":0}]
[]
[null,null,null,"QUADRO-RESUMO DO CUSTO MENSAL POR EMPREGADO","Valor"]
[null,null,null,"Custo total - sem o 13º Salário",{"$f":"ROUND(E112,2)","v":0}]
[null,null,null,"Destaque do 13º Salário (valor mensal)",{"$f":"ROUND(F119,2)","v":0}]
[]
[null,null,null,"TOTAL DO POSTO",{"$f":"E122+E123","v":0}]

{"sheet":"7","index":9,"n_rows":125,"n_cols":8,"rows_kept":125,"cut":false,"hidden":true,"merged":[[113,1,113,3],[46,3,46,5],[53,1,53,3],[63,1,63,3],[75,3,75,5],[81,1,81,3],[90,1,90,3],[18,1,18,3],[1,1,1,5],[2,1,2,5],[4,1,4,2],[5,1,5,2],[7,1,7,3]]}
[]
[null,"PLANILHA DE ESTIMATIVA DE CUSTOS"]
[null,"Padrão IN 05/2017 e IN 07/2018 - MPDG - Medição por posto presente"]
[]
[null,7,null,{"$f":"HLOOKUP($B$5,'Dados Gerais'!$D$6:$BI$22,6)","v":0},"QUANTIDADE",{"$f":"HLOOKUP($B$5,'Dados Gerais'!$D$6:$BI$22,10)","v":0}]
[null,"CCT",null,{"$f":"HLOOKUP($B$5,'Dados Gerais'!$D$6:$BI$22,16)","v":0},"DATA-BASE",{"$f":"HLOOKUP($B$5,'Dados Gerais'!$D$6:$BI$22,17)","v":"00:00:00"}]
[]
[null,"MÓDULO 1 - COMPOSIÇÃO DA REMUNERAÇÃO",null,null,null,"Valor"]
[null,null,"A","Salário-Base",null,{"$f":"HLOOKUP($B$5,'Dados Gerais'!$D$6:$BI$22,8)","v":0}]
[null,null,"B","Adicional de Periculosidade",null,{"$f":"HLOOKUP($B$5,'Dados Gerais'!$D$6:$BI$41,26)","v":0}]
[null,null,"C","Adicional de Insalubridade",null,{"$f":"HLOOKUP($B$5,'Dados Gerais'!$D$6:$BI$41,32)","v":0}]
[null,null,"D","Adicional Noturno",null,{"$f":"HLOOKUP($B$5,'Dados Gerais'!$D$6:$BI$54,49)","v":0},null,"* Nota 1 - O Módulo 1 refere-se ao valor mensal devido ao empregado pela prestação do serviço no período de 12 meses."]
[null,null,"E","Adicional de Hora Extra",null,{"$f":"HLOOKUP($B$5,'Dados Gerais'!$D$6:$BI$71,66)","v":0},null,"* Nota 2 - O adicional de hora extra no feriado trabalhado foi suprimido pela Lei 13.467/17"]
[null,null,"F","Gratificação",null,{"$f":"HLOOKUP($B$5,'Dados Gerais'!$D$6:$BI$71,34)","v":0},null,"* Nota 3 - ART. 7º, § 2º, DA LEI Nº 605/49.Sendo mensalista o obreiro, o adicional noturno pago de forma fixa já é considerado integrado para os efeitos do pagamento do repouso semanal remunerado, nos termos do art. 7º, § 2º, da Lei nº 605/49."]
[null,null,"G","Sobraviso",null,{"$f":"HLOOKUP($B$5,'Dados Gerais'!$D$6:$BI$71,36)","v":0},null,"* Nota 3 - ART. 7º, § 2º, DA LEI Nº 605/49.Sendo mensalista o obreiro, o adicional noturno pago de forma fixa já é considerado integrado para os efeitos do pagamento do repouso semanal remunerado, nos termos do art. 7º, § 2º, da Lei nº 605/49."]
[]
[null,null,null,"TOTAL DA REMUNERAÇÃO",null,{"$f":"TRUNC(SUM(F9:F15),2)","v":0}]
[]
[null,"MÓDULO 2 - ENCARGOS E BENEFÍCIOS ANUAIS, MENSAIS E DIÁRIOS",null,null,"Percentuais","Valor"]
[null,"Submódulo 2.1 - 13º Salário, Férias e Adicional de Férias"]
[null,null,"A","13º Salário - Calculado no Módulo 7 - Destacado",0,{"$f":"TRUNC(E21*F$17,2)","v":0}]
[null,null,"B","Adicional de Férias",{"$f":"'Encargos Sociais'!E31","v":3.0300000000000001E-2},{"$f":"TRUNC(E22*(F$17),2)","v":0},null,"* Nota 1 - O adicional de férias foi calculado dividindo-se por 11, para comportar os 11 meses presentes e ainda o ausente do posto"]
[]
[null,"Submódulo 2.2 - Encargos Previdenciários (GPS), Fundo de Garantia por Tempo de Serviço (FGTS) e Outras Contribuições"]
[null,null,"A",{"$f":"'Encargos Sociais'!D14","v":"INSS (art. 22, inciso I, Lei nº 8.212/91)"},{"$f":"'Encargos Sociais'!E14","v":0.2},{"$f":"TRUNC(E25*($F$17+$F$80+$F$22-F69),2)","v":0},null,"* Nota 1 - Os percentuais dos encargos previdenciários, do FGTS e demais contribuições são estabelecidos por legislação vigente."]
[null,null,"B",{"$f":"'Encargos Sociais'!D15","v":"Salário Educação (art. 3º, inciso I, Decreto nº 87.043/82)"},{"$f":"'Encargos Sociais'!E15","v":2.5000000000000001E-2},{"$f":"TRUNC(E26*($F$17+$F$80+$F$22),2)","v":0},null,"* Nota 2 - O SAT, a depender do grau de risco do serviço, irá variar entre 1%, para risco leve, de 2%, para risco médio, e de 3% para risco grave."]
[null,null,"C",{"$f":"'Encargos Sociais'!D16","v":"SAT/RAT (art. 22, II, Lei 8.212/91 e Anexo V, Decreto 6.042/07) - Enquadramento 8211-3/00"},{"$f":"'Encargos Sociais'!E16","v":0.01},0,null,"* Nota 3 - Base de cálculo - remuneração + ausências + terço constitucional (férias) - exceto INSS sobre ausência por acidente de trabalho"]
[null,null,"D",{"$f":"'Encargos Sociais'!D17","v":"SESC ou SESI (art. 30, Lei nº 8.036/90 e art. 1º, Lei 8.154/90)"},{"$f":"'Encargos Sociais'!E17","v":1.4999999999999999E-2},0]
[null,null,"E",{"$f":"'Encargos Sociais'!D18","v":"SENAI ou SENAC (Decreto nº 2.318/86)"},{"$f":"'Encargos Sociais'!E18","v":0.01},0]
[null,null,"F",{"$f":"'Encargos Sociais'!D19","v":"SEBRAE (§ 3º, art. 8º, Lei 8.029/90, alterada pela Lei nº 8.154/90)"},{"$f":"'Encargos Sociais'!E19","v":6.0000000000000001E-3},0]
[null,null,"G",{"$f":"'Encargos Sociais'!D20","v":"INCRA (art. 1º, I, Decreto Lei 1.146/70 e Lei 7.787, de 30/06/89)"},{"$f":"'Encargos Sociais'!E20","v":2E-3},0]
[null,null,"H",{"$f":"'Encargos Sociais'!D21","v":"FGTS (Lei Complementar nº 110/01 e art. 30, Lei nº 8.036/90)"},{"$f":"'Encargos Sociais'!E21","v":0.08},0]
[null,null,"I",{"$f":"'Encargos Sociais'!D22","v":"SECONCI (Convenções Coletivas de Trabalho da construção)"},{"$f":"'Encargos Sociais'!E22","v":0},0]
[]
[null,"Submódulo 2.3 - Benefícios Mensais e Diários"]
[null,null,"A","Auxílio Transporte",null,{"$f":"HLOOKUP($B$5,'Dados Gerais'!$D$6:$BI$101,85)","v":0},null,"* Nota 1 - O valor informado deverá ser o custo real do benefício (descontado o valor eventualmente pago pelo empregado)."]
[null,null,"B","Auxílio Alimentação",null,{"$f":"HLOOKUP($B$5,'Dados Gerais'!$D$6:$BI$101,92)","v":0},null,"* Nota 2 - Observar a previsão dos benefícios contidos em Acordos, Convenções e Dissídios Coletivos de Trabalho e o disposto no art. 6º da IN 5/2017"]
[null,null,"C","Assistência Médica e Familiar",null,{"$f":"HLOOKUP($B$5,'Dados Gerais'!$D$6:$BI$109,100)","v":0}]
[null,null,"D","Seguro de vida / auxílio funeral",null,{"$f":"HLOOKUP($B$5,'Dados Gerais'!$D$6:$BI$145,109)","v":0}]
[null,null,"E","Assistência odontológica",null,{"$f":"HLOOKUP($B$5,'Dados Gerais'!$D$6:$BI$145,115)","v":0}]
[null,null,"F","Auxílio creche",null,{"$f":"HLOOKUP($B$5,'Dados Gerais'!$D$6:$BI$145,121)","v":0}]
[null,null,"G","Auxílio vestuário especial",null,{"$f":"HLOOKUP($B$5,'Dados Gerais'!$D$6:$BI$145,127)","v":0}]
[null,null,"H","Benefício social familiar",null,{"$f":"HLOOKUP($B$5,'Dados Gerais'!$D$6:$BI$145,133)","v":0}]
[null,null,"I","Outros (especificar)",null,{"$f":"HLOOKUP($B$5,'Dados Gerais'!$D$6:$BI$145,115)","v":0}]
[null,null,"J","Outros (especificar)",null,{"$f":"HLOOKUP($B$5,'Dados Gerais'!$D$6:$BI$145,115)","v":0}]
[]
[null,null,null,"QUADRO-RESUMO DO MÓDULO 2"]
[null,null,null,"2.1 - Adicional de Férias",{"$f":"SUM(E21:E22)","v":3.0300000000000001E-2},{"$f":"F21+F22","v":0}]
[null,null,null,"2.2 - Encargos Previdenciários (GPS), Fundo de Garantia por Tempo de Serviço (FGTS) e Contribuições",{"$f":"SUM(E25:E33)","v":0.34800000000000003},{"$f":"SUM(F25:F33)","v":0}]
[null,null,null,"2.3 - Benefícios Mensais e Diários",null,{"$f":"SUM(F36:F45)","v":0}]
[]
[null,null,null,"TOTAL DOS ENCARGOS E BENEFÍCIOS",null,{"$f":"TRUNC(SUM(F48:F50),2)","v":0}]
[]
[null,"MÓDULO 3 - PREVISÃO PARA RESCISÃO",null,null,"Percentuais","Valor"]
[null,null,"A",{"$f":"'Encargos Sociais'!D36","v":"Aviso Prévio Indenizado (Art. 7º, inciso XXI, da CF/1988 e arts. 477, 487, §1º, e 491 da CLT)"},{"$f":"'Encargos Sociais'!E36","v":4.1999999999999997E-3},{"$f":"TRUNC(E55*($F$17+$F$48+$F$80),2)","v":0},null,"* Nota 1 - Base de cálculo - remuneração + ausências + 1/3 férias"]
[null,null,"B",{"$f":"'Encargos Sociais'!D37","v":"Incidência do FGTS sobre o Aviso Prévio Indenizado (Súmula 305 TST)"},{"$f":"'Encargos Sociais'!E37","v":2.9999999999999997E-4},0]
[null,null,"C",{"$f":"'Encargos Sociais'!D38","v":"Multa do FGTS sobre o Aviso Prévio Indenizado (Art. 18, §1º, da Lei 8.036/1990)"},{"$f":"'Encargos Sociais'!E38","v":0},0]
[null,null,"D",{"$f":"'Encargos Sociais'!D39","v":"Aviso Prévio Trabalhado (Art. 488, parágrafo único, CLT)"},{"$f":"'Encargos Sociais'!E39","v":9.7000000000000003E-3},0]
[null,null,"E",{"$f":"'Encargos Sociais'!D40","v":"Incidência de GPS, FGTS e outras contribuições sobre o Aviso Prévio Trabalhado"},{"$f":"'Encargos Sociais'!E40","v":3.3999999999999998E-3},0]
[null,null,"F",{"$f":"'Encargos Sociais'!D41","v":"Multa do FGTS"},{"$f":"'Encargos Sociais'!E41","v":3.2000000000000001E-2},0]
[]
[null,null,null,"TOTAL DE PREVISÃO PARA RESCISÃO",null,{"$f":"TRUNC(SUM(F55:F60),2)","v":0}]
[]
[null,"MÓDULO 4 - CUSTO DO PROFISSIONAL AUSENTE",null,null,"Percentuais","Valor"]
[null,"Submódulo 4.1 - Ausências Legais"]
[null,null,"A",{"$f":"'Encargos Sociais'!D25","v":"Férias (Arts. 129 e 130, inc. I, da CLT)"},{"$f":"'Encargos Sociais'!E25","v":9.0899999999999995E-2},{"$f":"TRUNC(E66*$F$17,2)","v":0},null,"* Nota 1 - O Módulo 4 refere-se às previsões para custear ausências do próprio profissional (titular do cargo)"]
[null,null,"B",{"$f":"'Encargos Sociais'!D26","v":"Ausências Legais (Arts. 131 e 473 da CLT)"},{"$f":"'Encargos Sociais'!E26","v":7.9000000000000008E-3},0,null,"* Nota 2 - As férias foram calculadas dividindo-se por 11, para comportar os 11 meses presentes e ainda o ausente do posto"]
[null,null,"C",{"$f":"'Encargos Sociais'!D27","v":"Licença-Paternidade (Art. 7º, XIX, e art. 10, §1º, do ADCT, CF/1988 e Art. 1º, II, da Lei 11.770/2008)"},{"$f":"'Encargos Sociais'!E27","v":8.0000000000000004E-4},0]
[null,null,"D",{"$f":"'Encargos Sociais'!D28","v":"Ausência por Acidente de Trabalho (Art. 131, III, da CLT)"},{"$f":"'Encargos Sociais'!E28","v":8.9999999999999998E-4},0]
[null,null,"E",{"$f":"'Encargos Sociais'!D29","v":"Afastamento Maternidade (Art. 71 da Lei nº 8.213/1991)"},{"$f":"'Encargos Sociais'!E29","v":3.3E-3},0]
[null,null,"F",{"$f":"'Encargos Sociais'!D30","v":"Auxílio Enfermidade - Doença (Art. 59 da Lei nº 8.213/1991)"},{"$f":"'Encargos Sociais'!E30","v":7.1000000000000004E-3},0]
[]
[null,"Submódulo 4.2 - Intrajornada"]
[null,null,"A","Intervalo para repouso ou alimentação",{"$f":"'Encargos Sociais'!E33","v":0},{"$f":"ROUND(E74*$F$17,2)","v":0}]
[]
[null,null,null,"QUADRO-RESUMO DO MÓDULO 4",null,"Valor"]
[null,null,null,"4.1 - Ausências Legais",{"$f":"SUM(E66:E71)","v":0.11089999999999998},{"$f":"SUM(F66:F71)","v":0}]
[null,null,null,"4.2 - Intrajornada",{"$f":"E74","v":0},{"$f":"ROUND(E78*$F$17,2)","v":0}]
[]
[null,null,null,"TOTAL DE CUSTO DO PROFFIONAL AUSENTE E INTERVALO INTRAJORNADA",null,{"$f":"TRUNC(SUM(F77:F78),2)","v":0}]
[]
[null,"MÓDULO 5 - INSUMOS DIVERSOS",null,null,null,"Valor"]
[null,null,"A","Uniformes - aquisição",null,{"$f":"TRUNC(HLOOKUP($B$5,Uniformes!$J$3:$DY$5,3,0)/12,2)","v":0}]
[null,null,"B","Materiais de consumo relacionados ao posto - aquisição",null,0]
[null,null,"C","Ferramentas relacionadas ao posto - remuneração da sua depreciação / manutenção",null,0]
[null,null,"D","Equipamentos relacionados ao posto - remuneração da sua depreciação / manutenção",null,0]
[null,null,"E","Equipamentos de Proteção Individual - EPI - aquisição",null,{"$f":"TRUNC(HLOOKUP($B$5,EPI!$J$3:$DX$5,3,0)/12,2)","v":0}]
[]
[null,null,null,"TOTAL DE INSUMOS DIVERSOS",null,{"$f":"SUM(F83:F88)","v":0},null,"* Nota - Valores mensais por empregado"]
[]
[null,"MÓDULO 6 - CUSTOS INDIRETOS, TRIBUTOS E LUCRO - BDI",null,null,"Percentuais","Valor"]
[null,null,"A","Custos Indiretos",{"$f":"'BDI - Geral'!E7","v":2.7000000000000003E-2}]
[null,null,"A.1","Administração Central",{"$f":"'BDI - Geral'!E8","v":2.1600000000000001E-2}]
[null,null,"A.2","Seguros, Garantias e Riscos",{"$f":"'BDI - Geral'!E9","v":5.4000000000000003E-3}]
[null,null,"B","Lucro",{"$f":"'BDI - Geral'!E11","v":3.3399999999999999E-2}]
[null,null,"C","Tributos",{"$f":"SUM(E97:E98)","v":0.124}]
[null,null,"C.1","Tributos Federais (COFINS, PIS e CPRB)",{"$f":"'BDI - Geral'!E19","v":7.3999999999999996E-2}]
[null,null,"C.2","Tributos Distritais (ISS)",{"$f":"'BDI - Geral'!E24","v":0.05}]
[null,null,"D","Despesas Financeiras",{"$f":"'BDI - Geral'!E14","v":6.1000000000000004E-3}]
[]
[null,null,null,"TOTAL DE BDI",{"$f":"'BDI - Geral'!E27","v":0.21890000000000001},{"$f":"TRUNC(E101*E109,2)","v":0}]
[]
[null,null,null,"QUADRO-RESUMO DO CUSTO MENSAL POR EMPREGADO - SEM O 13º","Valor"]
[null,null,null,"Módulo 1 - Composição da Remuneração",{"$f":"F17","v":0}]
[null,null,null,"Módulo 2 - Encargos e Benefícios Anuais, Mensais e Diários",{"$f":"F52","v":0}]
[null,null,null,"Módulo 3 - Provisão para Rescisão",{"$f":"F62","v":0}]
[null,null,null,"Módulo 4 - Custo de Reposição do Profissional Ausente",{"$f":"F80","v":0}]
[null,null,null,"Módulo 5 - Insumos Diversos",{"$f":"F89","v":0}]
[null,null,null,"SUBTOTAL (A+B+C+D+E)",{"$f":"SUM(E104:E108)","v":0}]
[null,null,null,"Módulo 6 - Custos Indiretos, Tributos e Lucro",{"$f":"F101","v":0}]
[]
[null,null,null,"TOTAL DO POSTO",{"$f":"SUM(E109:E110)","v":0}]
[]
[null,"MÓDULO 7 - DESTAQUE DO MÓDULO 2 - 13º SALÁRIO",null,null,"Percentuais","Valor"]
[null,null,"A","13º Salário",{"$f":"'[1]Encargos Sociais'!E32*12/11","v":9.9163636363636357E-2},{"$f":"ROUND(E115*F$17,2)","v":0},null,"* Nota 1 - Incluindo-se a reincidência das férias do substituto sobre o titular"]
[null,null,"B","Encargos Sociais sobre o 13º Salário (submódulo 2.2 e módulo 3)",{"$f":"SUM($E$25:$E$33)+SUM($E$55:$E$60)","v":0.39760000000000006},{"$f":"ROUND(E116*$F$115,2)","v":0},null,"* Nota 2 - 13º e reflexos calculados à parte a fim de aprovisionamento"]
[null,null,"C","BDI sobre o 13º Salário",{"$f":"E101","v":0.21890000000000001},{"$f":"ROUND(E117*($F$115+$F$116),2)","v":0}]
[]
[null,null,null,"TOTAL DO DESTAQUE DO 13º SALÁRIO",null,{"$f":"SUM(F115:F117)","v":0}]
[]
[null,null,null,"QUADRO-RESUMO DO CUSTO MENSAL POR EMPREGADO","Valor"]
[null,null,null,"Custo total - sem o 13º Salário",{"$f":"ROUND(E112,2)","v":0}]
[null,null,null,"Destaque do 13º Salário (valor mensal)",{"$f":"ROUND(F119,2)","v":0}]
[]
[null,null,null,"TOTAL DO POSTO",{"$f":"E122+E123","v":0}]

{"sheet":"8","index":10,"n_rows":125,"n_cols":8,"rows_kept":125,"cut":false,"hidden":true,"merged":[[113,1,113,3],[46,3,46,5],[53,1,53,3],[63,1,63,3],[75,3,75,5],[81,1,81,3],[90,1,90,3],[18,1,18,3],[1,1,1,5],[2,1,2,5],[4,1,4,2],[5,1,5,2],[7,1,7,3]]}
[]
[null,"PLANILHA DE ESTIMATIVA DE CUSTOS"]
[null,"Padrão IN 05/2017 e IN 07/2018 - MPDG - Medição por posto presente"]
[]
[null,8,null,{"$f":"HLOOKUP($B$5,'Dados Gerais'!$D$6:$BI$22,6)","v":0},"QUANTIDADE",{"$f":"HLOOKUP($B$5,'Dados Gerais'!$D$6:$BI$22,10)","v":0}]
[null,"CCT",null,{"$f":"HLOOKUP($B$5,'Dados Gerais'!$D$6:$BI$22,16)","v":0},"DATA-BASE",{"$f":"HLOOKUP($B$5,'Dados Gerais'!$D$6:$BI$22,17)","v":"00:00:00"}]
[]
[null,"MÓDULO 1 - COMPOSIÇÃO DA REMUNERAÇÃO",null,null,null,"Valor"]
[null,null,"A","Salário-Base",null,{"$f":"HLOOKUP($B$5,'Dados Gerais'!$D$6:$BI$22,8)","v":0}]
[null,null,"B","Adicional de Periculosidade",null,{"$f":"HLOOKUP($B$5,'Dados Gerais'!$D$6:$BI$41,26)","v":0}]
[null,null,"C","Adicional de Insalubridade",null,{"$f":"HLOOKUP($B$5,'Dados Gerais'!$D$6:$BI$41,32)","v":0}]
[null,null,"D","Adicional Noturno",null,{"$f":"HLOOKUP($B$5,'Dados Gerais'!$D$6:$BI$54,49)","v":0},null,"* Nota 1 - O Módulo 1 refere-se ao valor mensal devido ao empregado pela prestação do serviço no período de 12 meses."]
[null,null,"E","Adicional de Hora Extra",null,{"$f":"HLOOKUP($B$5,'Dados Gerais'!$D$6:$BI$71,66)","v":0},null,"* Nota 2 - O adicional de hora extra no feriado trabalhado foi suprimido pela Lei 13.467/17"]
[null,null,"F","Gratificação",null,{"$f":"HLOOKUP($B$5,'Dados Gerais'!$D$6:$BI$71,34)","v":0},null,"* Nota 3 - ART. 7º, § 2º, DA LEI Nº 605/49.Sendo mensalista o obreiro, o adicional noturno pago de forma fixa já é considerado integrado para os efeitos do pagamento do repouso semanal remunerado, nos termos do art. 7º, § 2º, da Lei nº 605/49."]
[null,null,"G","Sobraviso",null,{"$f":"HLOOKUP($B$5,'Dados Gerais'!$D$6:$BI$71,36)","v":0},null,"* Nota 3 - ART. 7º, § 2º, DA LEI Nº 605/49.Sendo mensalista o obreiro, o adicional noturno pago de forma fixa já é considerado integrado para os efeitos do pagamento do repouso semanal remunerado, nos termos do art. 7º, § 2º, da Lei nº 605/49."]
[]
[null,null,null,"TOTAL DA REMUNERAÇÃO",null,{"$f":"TRUNC(SUM(F9:F15),2)","v":0}]
[]
[null,"MÓDULO 2 - ENCARGOS E BENEFÍCIOS ANUAIS, MENSAIS E DIÁRIOS",null,null,"Percentuais","Valor"]
[null,"Submódulo 2.1 - 13º Salário, Férias e Adicional de Férias"]
[null,null,"A","13º Salário - Calculado no Módulo 7 - Destacado",0,{"$f":"TRUNC(E21*F$17,2)","v":0}]
[null,null,"B","Adicional de Férias",{"$f":"'Encargos Sociais'!E31","v":3.0300000000000001E-2},{"$f":"TRUNC(E22*(F$17),2)","v":0},null,"* Nota 1 - O adicional de férias foi calculado dividindo-se por 11, para comportar os 11 meses presentes e ainda o ausente do posto"]
[]
[null,"Submódulo 2.2 - Encargos Previdenciários (GPS), Fundo de Garantia por Tempo de Serviço (FGTS) e Outras Contribuições"]
[null,null,"A",{"$f":"'Encargos Sociais'!D14","v":"INSS (art. 22, inciso I, Lei nº 8.212/91)"},{"$f":"'Encargos Sociais'!E14","v":0.2},{"$f":"TRUNC(E25*($F$17+$F$80+$F$22-F69),2)","v":0},null,"* Nota 1 - Os percentuais dos encargos previdenciários, do FGTS e demais contribuições são estabelecidos por legislação vigente."]
[null,null,"B",{"$f":"'Encargos Sociais'!D15","v":"Salário Educação (art. 3º, inciso I, Decreto nº 87.043/82)"},{"$f":"'Encargos Sociais'!E15","v":2.5000000000000001E-2},{"$f":"TRUNC(E26*($F$17+$F$80+$F$22),2)","v":0},null,"* Nota 2 - O SAT, a depender do grau de risco do serviço, irá variar entre 1%, para risco leve, de 2%, para risco médio, e de 3% para risco grave."]
[null,null,"C",{"$f":"'Encargos Sociais'!D16","v":"SAT/RAT (art. 22, II, Lei 8.212/91 e Anexo V, Decreto 6.042/07) - Enquadramento 8211-3/00"},{"$f":"'Encargos Sociais'!E16","v":0.01},0,null,"* Nota 3 - Base de cálculo - remuneração + ausências + terço constitucional (férias) - exceto INSS sobre ausência por acidente de trabalho"]
[null,null,"D",{"$f":"'Encargos Sociais'!D17","v":"SESC ou SESI (art. 30, Lei nº 8.036/90 e art. 1º, Lei 8.154/90)"},{"$f":"'Encargos Sociais'!E17","v":1.4999999999999999E-2},0]
[null,null,"E",{"$f":"'Encargos Sociais'!D18","v":"SENAI ou SENAC (Decreto nº 2.318/86)"},{"$f":"'Encargos Sociais'!E18","v":0.01},0]
[null,null,"F",{"$f":"'Encargos Sociais'!D19","v":"SEBRAE (§ 3º, art. 8º, Lei 8.029/90, alterada pela Lei nº 8.154/90)"},{"$f":"'Encargos Sociais'!E19","v":6.0000000000000001E-3},0]
[null,null,"G",{"$f":"'Encargos Sociais'!D20","v":"INCRA (art. 1º, I, Decreto Lei 1.146/70 e Lei 7.787, de 30/06/89)"},{"$f":"'Encargos Sociais'!E20","v":2E-3},0]
[null,null,"H",{"$f":"'Encargos Sociais'!D21","v":"FGTS (Lei Complementar nº 110/01 e art. 30, Lei nº 8.036/90)"},{"$f":"'Encargos Sociais'!E21","v":0.08},0]
[null,null,"I",{"$f":"'Encargos Sociais'!D22","v":"SECONCI (Convenções Coletivas de Trabalho da construção)"},{"$f":"'Encargos Sociais'!E22","v":0},0]
[]
[null,"Submódulo 2.3 - Benefícios Mensais e Diários"]
[null,null,"A","Auxílio Transporte",null,{"$f":"HLOOKUP($B$5,'Dados Gerais'!$D$6:$BI$101,85)","v":0},null,"* Nota 1 - O valor informado deverá ser o custo real do benefício (descontado o valor eventualmente pago pelo empregado)."]
[null,null,"B","Auxílio Alimentação",null,{"$f":"HLOOKUP($B$5,'Dados Gerais'!$D$6:$BI$101,92)","v":0},null,"* Nota 2 - Observar a previsão dos benefícios contidos em Acordos, Convenções e Dissídios Coletivos de Trabalho e o disposto no art. 6º da IN 5/2017"]
[null,null,"C","Assistência Médica e Familiar",null,{"$f":"HLOOKUP($B$5,'Dados Gerais'!$D$6:$BI$109,100)","v":0}]
[null,null,"D","Seguro de vida / auxílio funeral",null,{"$f":"HLOOKUP($B$5,'Dados Gerais'!$D$6:$BI$145,109)","v":0}]
[null,null,"E","Assistência odontológica",null,{"$f":"HLOOKUP($B$5,'Dados Gerais'!$D$6:$BI$145,115)","v":0}]
[null,null,"F","Auxílio creche",null,{"$f":"HLOOKUP($B$5,'Dados Gerais'!$D$6:$BI$145,121)","v":0}]
[null,null,"G","Auxílio vestuário especial",null,{"$f":"HLOOKUP($B$5,'Dados Gerais'!$D$6:$BI$145,127)","v":0}]
[null,null,"H","Benefício social familiar",null,{"$f":"HLOOKUP($B$5,'Dados Gerais'!$D$6:$BI$145,133)","v":0}]
[null,null,"I","Outros (especificar)",null,{"$f":"HLOOKUP($B$5,'Dados Gerais'!$D$6:$BI$145,115)","v":0}]
[null,null,"J","Outros (especificar)",null,{"$f":"HLOOKUP($B$5,'Dados Gerais'!$D$6:$BI$145,115)","v":0}]
[]
[null,null,null,"QUADRO-RESUMO DO MÓDULO 2"]
[null,null,null,"2.1 - Adicional de Férias",{"$f":"SUM(E21:E22)","v":3.0300000000000001E-2},{"$f":"F21+F22","v":0}]
[null,null,null,"2.2 - Encargos Previdenciários (GPS), Fundo de Garantia por Tempo de Serviço (FGTS) e Contribuições",{"$f":"SUM(E25:E33)","v":0.34800000000000003},{"$f":"SUM(F25:F33)","v":0}]
[null,null,null,"2.3 - Benefícios Mensais e Diários",null,{"$f":"SUM(F36:F45)","v":0}]
[]
[null,null,null,"TOTAL DOS ENCARGOS E BENEFÍCIOS",null,{"$f":"TRUNC(SUM(F48:F50),2)","v":0}]
[]
[null,"MÓDULO 3 - PREVISÃO PARA RESCISÃO",null,null,"Percentuais","Valor"]
[null,null,"A",{"$f":"'Encargos Sociais'!D36","v":"Aviso Prévio Indenizado (Art. 7º, inciso XXI, da CF/1988 e arts. 477, 487, §1º, e 491 da CLT)"},{"$f":"'Encargos Sociais'!E36","v":4.1999999999999997E-3},{"$f":"TRUNC(E55*($F$17+$F$48+$F$80),2)","v":0},null,"* Nota 1 - Base de cálculo - remuneração + ausências + 1/3 férias"]
[null,null,"B",{"$f":"'Encargos Sociais'!D37","v":"Incidência do FGTS sobre o Aviso Prévio Indenizado (Súmula 305 TST)"},{"$f":"'Encargos Sociais'!E37","v":2.9999999999999997E-4},0]
[null,null,"C",{"$f":"'Encargos Sociais'!D38","v":"Multa do FGTS sobre o Aviso Prévio Indenizado (Art. 18, §1º, da Lei 8.036/1990)"},{"$f":"'Encargos Sociais'!E38","v":0},0]
[null,null,"D",{"$f":"'Encargos Sociais'!D39","v":"Aviso Prévio Trabalhado (Art. 488, parágrafo único, CLT)"},{"$f":"'Encargos Sociais'!E39","v":9.7000000000000003E-3},0]
[null,null,"E",{"$f":"'Encargos Sociais'!D40","v":"Incidência de GPS, FGTS e outras contribuições sobre o Aviso Prévio Trabalhado"},{"$f":"'Encargos Sociais'!E40","v":3.3999999999999998E-3},0]
[null,null,"F",{"$f":"'Encargos Sociais'!D41","v":"Multa do FGTS"},{"$f":"'Encargos Sociais'!E41","v":3.2000000000000001E-2},0]
[]
[null,null,null,"TOTAL DE PREVISÃO PARA RESCISÃO",null,{"$f":"TRUNC(SUM(F55:F60),2)","v":0}]
[]
[null,"MÓDULO 4 - CUSTO DO PROFISSIONAL AUSENTE",null,null,"Percentuais","Valor"]
[null,"Submódulo 4.1 - Ausências Legais"]
[null,null,"A",{"$f":"'Encargos Sociais'!D25","v":"Férias (Arts. 129 e 130, inc. I, da CLT)"},{"$f":"'Encargos Sociais'!E25","v":9.0899999999999995E-2},{"$f":"TRUNC(E66*$F$17,2)","v":0},null,"* Nota 1 - O Módulo 4 refere-se às previsões para custear ausências do próprio profissional (titular do cargo)"]
[null,null,"B",{"$f":"'Encargos Sociais'!D26","v":"Ausências Legais (Arts. 131 e 473 da CLT)"},{"$f":"'Encargos Sociais'!E26","v":7.9000000000000008E-3},0,null,"* Nota 2 - As férias foram calculadas dividindo-se por 11, para comportar os 11 meses presentes e ainda o ausente do posto"]
[null,null,"C",{"$f":"'Encargos Sociais'!D27","v":"Licença-Paternidade (Art. 7º, XIX, e art. 10, §1º, do ADCT, CF/1988 e Art. 1º, II, da Lei 11.770/2008)"},{"$f":"'Encargos Sociais'!E27","v":8.0000000000000004E-4},0]
[null,null,"D",{"$f":"'Encargos Sociais'!D28","v":"Ausência por Acidente de Trabalho (Art. 131, III, da CLT)"},{"$f":"'Encargos Sociais'!E28","v":8.9999999999999998E-4},0]
[null,null,"E",{"$f":"'Encargos Sociais'!D29","v":"Afastamento Maternidade (Art. 71 da Lei nº 8.213/1991)"},{"$f":"'Encargos Sociais'!E29","v":3.3E-3},0]
[null,null,"F",{"$f":"'Encargos Sociais'!D30","v":"Auxílio Enfermidade - Doença (Art. 59 da Lei nº 8.213/1991)"},{"$f":"'Encargos Sociais'!E30","v":7.1000000000000004E-3},0]
[]
[null,"Submódulo 4.2 - Intrajornada"]
[null,null,"A","Intervalo para repouso ou alimentação",{"$f":"'Encargos Sociais'!E33","v":0},{"$f":"ROUND(E74*$F$17,2)","v":0}]
[]
[null,null,null,"QUADRO-RESUMO DO MÓDULO 4",null,"Valor"]
[null,null,null,"4.1 - Ausências Legais",{"$f":"SUM(E66:E71)","v":0.11089999999999998},{"$f":"SUM(F66:F71)","v":0}]
[null,null,null,"4.2 - Intrajornada",{"$f":"E74","v":0},{"$f":"ROUND(E78*$F$17,2)","v":0}]
[]
[null,null,null,"TOTAL DE CUSTO DO PROFFIONAL AUSENTE E INTERVALO INTRAJORNADA",null,{"$f":"TRUNC(SUM(F77:F78),2)","v":0}]
[]
[null,"MÓDULO 5 - INSUMOS DIVERSOS",null,null,null,"Valor"]
[null,null,"A","Uniformes - aquisição",null,{"$f":"TRUNC(HLOOKUP($B$5,Uniformes!$J$3:$DY$5,3,0)/12,2)","v":0}]
[null,null,"B","Materiais de consumo relacionados ao posto - aquisição",null,0]
[null,null,"C","Ferramentas relacionadas ao posto - remuneração da sua depreciação / manutenção",null,0]
[null,null,"D","Equipamentos relacionados ao posto - remuneração da sua depreciação / manutenção",null,0]
[null,null,"E","Equipamentos de Proteção Individual - EPI - aquisição",null,{"$f":"TRUNC(HLOOKUP($B$5,EPI!$J$3:$DX$5,3,0)/12,2)","v":0}]
[]
[null,null,null,"TOTAL DE INSUMOS DIVERSOS",null,{"$f":"SUM(F83:F88)","v":0},null,"* Nota - Valores mensais por empregado"]
[]
[null,"MÓDULO 6 - CUSTOS INDIRETOS, TRIBUTOS E LUCRO - BDI",null,null,"Percentuais","Valor"]
[null,null,"A","Custos Indiretos",{"$f":"'BDI - Geral'!E7","v":2.7000000000000003E-2}]
[null,null,"A.1","Administração Central",{"$f":"'BDI - Geral'!E8","v":2.1600000000000001E-2}]
[null,null,"A.2","Seguros, Garantias e Riscos",{"$f":"'BDI - Geral'!E9","v":5.4000000000000003E-3}]
[null,null,"B","Lucro",{"$f":"'BDI - Geral'!E11","v":3.3399999999999999E-2}]
[null,null,"C","Tributos",{"$f":"SUM(E97:E98)","v":0.124}]
[null,null,"C.1","Tributos Federais (COFINS, PIS e CPRB)",{"$f":"'BDI - Geral'!E19","v":7.3999999999999996E-2}]
[null,null,"C.2","Tributos Distritais (ISS)",{"$f":"'BDI - Geral'!E24","v":0.05}]
[null,null,"D","Despesas Financeiras",{"$f":"'BDI - Geral'!E14","v":6.1000000000000004E-3}]
[]
[null,null,null,"TOTAL DE BDI",{"$f":"'BDI - Geral'!E27","v":0.21890000000000001},{"$f":"TRUNC(E101*E109,2)","v":0}]
[]
[null,null,null,"QUADRO-RESUMO DO CUSTO MENSAL POR EMPREGADO - SEM O 13º","Valor"]
[null,null,null,"Módulo 1 - Composição da Remuneração",{"$f":"F17","v":0}]
[null,null,null,"Módulo 2 - Encargos e Benefícios Anuais, Mensais e Diários",{"$f":"F52","v":0}]
[null,null,null,"Módulo 3 - Provisão para Rescisão",{"$f":"F62","v":0}]
[null,null,null,"Módulo 4 - Custo de Reposição do Profissional Ausente",{"$f":"F80","v":0}]
[null,null,null,"Módulo 5 - Insumos Diversos",{"$f":"F89","v":0}]
[null,null,null,"SUBTOTAL (A+B+C+D+E)",{"$f":"SUM(E104:E108)","v":0}]
[null,null,null,"Módulo 6 - Custos Indiretos, Tributos e Lucro",{"$f":"F101","v":0}]
[]
[null,null,null,"TOTAL DO POSTO",{"$f":"SUM(E109:E110)","v":0}]
[]
[null,"MÓDULO 7 - DESTAQUE DO MÓDULO 2 - 13º SALÁRIO",null,null,"Percentuais","Valor"]
[null,null,"A","13º Salário",{"$f":"'[1]Encargos Sociais'!E32*12/11","v":9.9163636363636357E-2},{"$f":"ROUND(E115*F$17,2)","v":0},null,"* Nota 1 - Incluindo-se a reincidência das férias do substituto sobre o titular"]
[null,null,"B","Encargos Sociais sobre o 13º Salário (submódulo 2.2 e módulo 3)",{"$f":"SUM($E$25:$E$33)+SUM($E$55:$E$60)","v":0.39760000000000006},{"$f":"ROUND(E116*$F$115,2)","v":0},null,"* Nota 2 - 13º e reflexos calculados à parte a fim de aprovisionamento"]
[null,null,"C","BDI sobre o 13º Salário",{"$f":"E101","v":0.21890000000000001},{"$f":"ROUND(E117*($F$115+$F$116),2)","v":0}]
[]
[null,null,null,"TOTAL DO DESTAQUE DO 13º SALÁRIO",null,{"$f":"SUM(F115:F117)","v":0}]
[]
[null,null,null,"QUADRO-RESUMO DO CUSTO MENSAL POR EMPREGADO","Valor"]
[null,null,null,"Custo total - sem o 13º Salário",{"$f":"ROUND(E112,2)","v":0}]
[null,null,null,"Destaque do 13º Salário (valor mensal)",{"$f":"ROUND(F119,2)","v":0}]
[]
[null,null,null,"TOTAL DO POSTO",{"$f":"E122+E123","v":0}]

{"sheet":"9","index":11,"n_rows":125,"n_cols":8,"rows_kept":125,"cut":false,"hidden":true,"merged":[[113,1,113,3],[46,3,46,5],[53,1,53,3],[63,1,63,3],[75,3,75,5],[81,1,81,3],[90,1,90,3],[18,1,18,3],[1,1,1,5],[2,1,2,5],[4,1,4,2],[5,1,5,2],[7,1,7,3]]}
[]
[null,"PLANILHA DE ESTIMATIVA DE CUSTOS"]
[null,"Padrão IN 05/2017 e IN 07/2018 - MPDG - Medição por posto presente"]
[]
[null,9,null,{"$f":"HLOOKUP($B$5,'Dados Gerais'!$D$6:$BI$22,6)","v":0},"QUANTIDADE",{"$f":"HLOOKUP($B$5,'Dados Gerais'!$D$6:$BI$22,10)","v":0}]
[null,"CCT",null,{"$f":"HLOOKUP($B$5,'Dados Gerais'!$D$6:$BI$22,16)","v":0},"DATA-BASE",{"$f":"HLOOKUP($B$5,'Dados Gerais'!$D$6:$BI$22,17)","v":"00:00:00"}]
[]
[null,"MÓDULO 1 - COMPOSIÇÃO DA REMUNERAÇÃO",null,null,null,"Valor"]
[null,null,"A","Salário-Base",null,{"$f":"HLOOKUP($B$5,'Dados Gerais'!$D$6:$BI$22,8)","v":0}]
[null,null,"B","Adicional de Periculosidade",null,{"$f":"HLOOKUP($B$5,'Dados Gerais'!$D$6:$BI$41,26)","v":0}]
[null,null,"C","Adicional de Insalubridade",null,{"$f":"HLOOKUP($B$5,'Dados Gerais'!$D$6:$BI$41,32)","v":0}]
[null,null,"D","Adicional Noturno",null,{"$f":"HLOOKUP($B$5,'Dados Gerais'!$D$6:$BI$54,49)","v":0},null,"* Nota 1 - O Módulo 1 refere-se ao valor mensal devido ao empregado pela prestação do serviço no período de 12 meses."]
[null,null,"E","Adicional de Hora Extra",null,{"$f":"HLOOKUP($B$5,'Dados Gerais'!$D$6:$BI$71,66)","v":0},null,"* Nota 2 - O adicional de hora extra no feriado trabalhado foi suprimido pela Lei 13.467/17"]
[null,null,"F","Gratificação",null,{"$f":"HLOOKUP($B$5,'Dados Gerais'!$D$6:$BI$71,34)","v":0},null,"* Nota 3 - ART. 7º, § 2º, DA LEI Nº 605/49.Sendo mensalista o obreiro, o adicional noturno pago de forma fixa já é considerado integrado para os efeitos do pagamento do repouso semanal remunerado, nos termos do art. 7º, § 2º, da Lei nº 605/49."]
[null,null,"G","Sobraviso",null,{"$f":"HLOOKUP($B$5,'Dados Gerais'!$D$6:$BI$71,36)","v":0},null,"* Nota 3 - ART. 7º, § 2º, DA LEI Nº 605/49.Sendo mensalista o obreiro, o adicional noturno pago de forma fixa já é considerado integrado para os efeitos do pagamento do repouso semanal remunerado, nos termos do art. 7º, § 2º, da Lei nº 605/49."]
[]
[null,null,null,"TOTAL DA REMUNERAÇÃO",null,{"$f":"TRUNC(SUM(F9:F15),2)","v":0}]
[]
[null,"MÓDULO 2 - ENCARGOS E BENEFÍCIOS ANUAIS, MENSAIS E DIÁRIOS",null,null,"Percentuais","Valor"]
[null,"Submódulo 2.1 - 13º Salário, Férias e Adicional de Férias"]
[null,null,"A","13º Salário - Calculado no Módulo 7 - Destacado",0,{"$f":"TRUNC(E21*F$17,2)","v":0}]
[null,null,"B","Adicional de Férias",{"$f":"'Encargos Sociais'!E31","v":3.0300000000000001E-2},{"$f":"TRUNC(E22*(F$17),2)","v":0},null,"* Nota 1 - O adicional de férias foi calculado dividindo-se por 11, para comportar os 11 meses presentes e ainda o ausente do posto"]
[]
[null,"Submódulo 2.2 - Encargos Previdenciários (GPS), Fundo de Garantia por Tempo de Serviço (FGTS) e Outras Contribuições"]
[null,null,"A",{"$f":"'Encargos Sociais'!D14","v":"INSS (art. 22, inciso I, Lei nº 8.212/91)"},{"$f":"'Encargos Sociais'!E14","v":0.2},{"$f":"TRUNC(E25*($F$17+$F$80+$F$22-F69),2)","v":0},null,"* Nota 1 - Os percentuais dos encargos previdenciários, do FGTS e demais contribuições são estabelecidos por legislação vigente."]
[null,null,"B",{"$f":"'Encargos Sociais'!D15","v":"Salário Educação (art. 3º, inciso I, Decreto nº 87.043/82)"},{"$f":"'Encargos Sociais'!E15","v":2.5000000000000001E-2},{"$f":"TRUNC(E26*($F$17+$F$80+$F$22),2)","v":0},null,"* Nota 2 - O SAT, a depender do grau de risco do serviço, irá variar entre 1%, para risco leve, de 2%, para risco médio, e de 3% para risco grave."]
[null,null,"C",{"$f":"'Encargos Sociais'!D16","v":"SAT/RAT (art. 22, II, Lei 8.212/91 e Anexo V, Decreto 6.042/07) - Enquadramento 8211-3/00"},{"$f":"'Encargos Sociais'!E16","v":0.01},0,null,"* Nota 3 - Base de cálculo - remuneração + ausências + terço constitucional (férias) - exceto INSS sobre ausência por acidente de trabalho"]
[null,null,"D",{"$f":"'Encargos Sociais'!D17","v":"SESC ou SESI (art. 30, Lei nº 8.036/90 e art. 1º, Lei 8.154/90)"},{"$f":"'Encargos Sociais'!E17","v":1.4999999999999999E-2},0]
[null,null,"E",{"$f":"'Encargos Sociais'!D18","v":"SENAI ou SENAC (Decreto nº 2.318/86)"},{"$f":"'Encargos Sociais'!E18","v":0.01},0]
[null,null,"F",{"$f":"'Encargos Sociais'!D19","v":"SEBRAE (§ 3º, art. 8º, Lei 8.029/90, alterada pela Lei nº 8.154/90)"},{"$f":"'Encargos Sociais'!E19","v":6.0000000000000001E-3},0]
[null,null,"G",{"$f":"'Encargos Sociais'!D20","v":"INCRA (art. 1º, I, Decreto Lei 1.146/70 e Lei 7.787, de 30/06/89)"},{"$f":"'Encargos Sociais'!E20","v":2E-3},0]
[null,null,"H",{"$f":"'Encargos Sociais'!D21","v":"FGTS (Lei Complementar nº 110/01 e art. 30, Lei nº 8.036/90)"},{"$f":"'Encargos Sociais'!E21","v":0.08},0]
[null,null,"I",{"$f":"'Encargos Sociais'!D22","v":"SECONCI (Convenções Coletivas de Trabalho da construção)"},{"$f":"'Encargos Sociais'!E22","v":0},0]
[]
[null,"Submódulo 2.3 - Benefícios Mensais e Diários"]
[null,null,"A","Auxílio Transporte",null,{"$f":"HLOOKUP($B$5,'Dados Gerais'!$D$6:$BI$101,85)","v":0},null,"* Nota 1 - O valor informado deverá ser o custo real do benefício (descontado o valor eventualmente pago pelo empregado)."]
[null,null,"B","Auxílio Alimentação",null,{"$f":"HLOOKUP($B$5,'Dados Gerais'!$D$6:$BI$101,92)","v":0},null,"* Nota 2 - Observar a previsão dos benefícios contidos em Acordos, Convenções e Dissídios Coletivos de Trabalho e o disposto no art. 6º da IN 5/2017"]
[null,null,"C","Assistência Médica e Familiar",null,{"$f":"HLOOKUP($B$5,'Dados Gerais'!$D$6:$BI$109,100)","v":0}]
[null,null,"D","Seguro de vida / auxílio funeral",null,{"$f":"HLOOKUP($B$5,'Dados Gerais'!$D$6:$BI$145,109)","v":0}]
[null,null,"E","Assistência odontológica",null,{"$f":"HLOOKUP($B$5,'Dados Gerais'!$D$6:$BI$145,115)","v":0}]
[null,null,"F","Auxílio creche",null,{"$f":"HLOOKUP($B$5,'Dados Gerais'!$D$6:$BI$145,121)","v":0}]
[null,null,"G","Auxílio vestuário especial",null,{"$f":"HLOOKUP($B$5,'Dados Gerais'!$D$6:$BI$145,127)","v":0}]
[null,null,"H","Benefício social familiar",null,{"$f":"HLOOKUP($B$5,'Dados Gerais'!$D$6:$BI$145,133)","v":0}]
[null,null,"I","Outros (especificar)",null,{"$f":"HLOOKUP($B$5,'Dados Gerais'!$D$6:$BI$145,115)","v":0}]
[null,null,"J","Outros (especificar)",null,{"$f":"HLOOKUP($B$5,'Dados Gerais'!$D$6:$BI$145,115)","v":0}]
[]
[null,null,null,"QUADRO-RESUMO DO MÓDULO 2"]
[null,null,null,"2.1 - Adicional de Férias",{"$f":"SUM(E21:E22)","v":3.0300000000000001E-2},{"$f":"F21+F22","v":0}]
[null,null,null,"2.2 - Encargos Previdenciários (GPS), Fundo de Garantia por Tempo de Serviço (FGTS) e Contribuições",{"$f":"SUM(E25:E33)","v":0.34800000000000003},{"$f":"SUM(F25:F33)","v":0}]
[null,null,null,"2.3 - Benefícios Mensais e Diários",null,{"$f":"SUM(F36:F45)","v":0}]
[]
[null,null,null,"TOTAL DOS ENCARGOS E BENEFÍCIOS",null,{"$f":"TRUNC(SUM(F48:F50),2)","v":0}]
[]
[null,"MÓDULO 3 - PREVISÃO PARA RESCISÃO",null,null,"Percentuais","Valor"]
[null,null,"A",{"$f":"'Encargos Sociais'!D36","v":"Aviso Prévio Indenizado (Art. 7º, inciso XXI, da CF/1988 e arts. 477, 487, §1º, e 491 da CLT)"},{"$f":"'Encargos Sociais'!E36","v":4.1999999999999997E-3},{"$f":"TRUNC(E55*($F$17+$F$48+$F$80),2)","v":0},null,"* Nota 1 - Base de cálculo - remuneração + ausências + 1/3 férias"]
[null,null,"B",{"$f":"'Encargos Sociais'!D37","v":"Incidência do FGTS sobre o Aviso Prévio Indenizado (Súmula 305 TST)"},{"$f":"'Encargos Sociais'!E37","v":2.9999999999999997E-4},0]
[null,null,"C",{"$f":"'Encargos Sociais'!D38","v":"Multa do FGTS sobre o Aviso Prévio Indenizado (Art. 18, §1º, da Lei 8.036/1990)"},{"$f":"'Encargos Sociais'!E38","v":0},0]
[null,null,"D",{"$f":"'Encargos Sociais'!D39","v":"Aviso Prévio Trabalhado (Art. 488, parágrafo único, CLT)"},{"$f":"'Encargos Sociais'!E39","v":9.7000000000000003E-3},0]
[null,null,"E",{"$f":"'Encargos Sociais'!D40","v":"Incidência de GPS, FGTS e outras contribuições sobre o Aviso Prévio Trabalhado"},{"$f":"'Encargos Sociais'!E40","v":3.3999999999999998E-3},0]
[null,null,"F",{"$f":"'Encargos Sociais'!D41","v":"Multa do FGTS"},{"$f":"'Encargos Sociais'!E41","v":3.2000000000000001E-2},0]
[]
[null,null,null,"TOTAL DE PREVISÃO PARA RESCISÃO",null,{"$f":"TRUNC(SUM(F55:F60),2)","v":0}]
[]
[null,"MÓDULO 4 - CUSTO DO PROFISSIONAL AUSENTE",null,null,"Percentuais","Valor"]
[null,"Submódulo 4.1 - Ausências Legais"]
[null,null,"A",{"$f":"'Encargos Sociais'!D25","v":"Férias (Arts. 129 e 130, inc. I, da CLT)"},{"$f":"'Encargos Sociais'!E25","v":9.0899999999999995E-2},{"$f":"TRUNC(E66*$F$17,2)","v":0},null,"* Nota 1 - O Módulo 4 refere-se às previsões para custear ausências do próprio profissional (titular do cargo)"]
[null,null,"B",{"$f":"'Encargos Sociais'!D26","v":"Ausências Legais (Arts. 131 e 473 da CLT)"},{"$f":"'Encargos Sociais'!E26","v":7.9000000000000008E-3},0,null,"* Nota 2 - As férias foram calculadas dividindo-se por 11, para comportar os 11 meses presentes e ainda o ausente do posto"]
[null,null,"C",{"$f":"'Encargos Sociais'!D27","v":"Licença-Paternidade (Art. 7º, XIX, e art. 10, §1º, do ADCT, CF/1988 e Art. 1º, II, da Lei 11.770/2008)"},{"$f":"'Encargos Sociais'!E27","v":8.0000000000000004E-4},0]
[null,null,"D",{"$f":"'Encargos Sociais'!D28","v":"Ausência por Acidente de Trabalho (Art. 131, III, da CLT)"},{"$f":"'Encargos Sociais'!E28","v":8.9999999999999998E-4},0]
[null,null,"E",{"$f":"'Encargos Sociais'!D29","v":"Afastamento Maternidade (Art. 71 da Lei nº 8.213/1991)"},{"$f":"'Encargos Sociais'!E29","v":3.3E-3},0]
[null,null,"F",{"$f":"'Encargos Sociais'!D30","v":"Auxílio Enfermidade - Doença (Art. 59 da Lei nº 8.213/1991)"},{"$f":"'Encargos Sociais'!E30","v":7.1000000000000004E-3},0]
[]
[null,"Submódulo 4.2 - Intrajornada"]
[null,null,"A","Intervalo para repouso ou alimentação",{"$f":"'Encargos Sociais'!E33","v":0},{"$f":"ROUND(E74*$F$17,2)","v":0}]
[]
[null,null,null,"QUADRO-RESUMO DO MÓDULO 4",null,"Valor"]
[null,null,null,"4.1 - Ausências Legais",{"$f":"SUM(E66:E71)","v":0.11089999999999998},{"$f":"SUM(F66:F71)","v":0}]
[null,null,null,"4.2 - Intrajornada",{"$f":"E74","v":0},{"$f":"ROUND(E78*$F$17,2)","v":0}]
[]
[null,null,null,"TOTAL DE CUSTO DO PROFFIONAL AUSENTE E INTERVALO INTRAJORNADA",null,{"$f":"TRUNC(SUM(F77:F78),2)","v":0}]
[]
[null,"MÓDULO 5 - INSUMOS DIVERSOS",null,null,null,"Valor"]
[null,null,"A","Uniformes - aquisição",null,{"$f":"TRUNC(HLOOKUP($B$5,Uniformes!$J$3:$DY$5,3,0)/12,2)","v":0}]
[null,null,"B","Materiais de consumo relacionados ao posto - aquisição",null,0]
[null,null,"C","Ferramentas relacionadas ao posto - remuneração da sua depreciação / manutenção",null,0]
[null,null,"D","Equipamentos relacionados ao posto - remuneração da sua depreciação / manutenção",null,0]
[null,null,"E","Equipamentos de Proteção Individual - EPI - aquisição",null,{"$f":"TRUNC(HLOOKUP($B$5,EPI!$J$3:$DX$5,3,0)/12,2)","v":0}]
[]
[null,null,null,"TOTAL DE INSUMOS DIVERSOS",null,{"$f":"SUM(F83:F88)","v":0},null,"* Nota - Valores mensais por empregado"]
[]
[null,"MÓDULO 6 - CUSTOS INDIRETOS, TRIBUTOS E LUCRO - BDI",null,null,"Percentuais","Valor"]
[null,null,"A","Custos Indiretos",{"$f":"'BDI - Geral'!E7","v":2.7000000000000003E-2}]
[null,null,"A.1","Administração Central",{"$f":"'BDI - Geral'!E8","v":2.1600000000000001E-2}]
[null,null,"A.2","Seguros, Garantias e Riscos",{"$f":"'BDI - Geral'!E9","v":5.4000000000000003E-3}]
[null,null,"B","Lucro",{"$f":"'BDI - Geral'!E11","v":3.3399999999999999E-2}]
[null,null,"C","Tributos",{"$f":"SUM(E97:E98)","v":0.124}]
[null,null,"C.1","Tributos Federais (COFINS, PIS e CPRB)",{"$f":"'BDI - Geral'!E19","v":7.3999999999999996E-2}]
[null,null,"C.2","Tributos Distritais (ISS)",{"$f":"'BDI - Geral'!E24","v":0.05}]
[null,null,"D","Despesas Financeiras",{"$f":"'BDI - Geral'!E14","v":6.1000000000000004E-3}]
[]
[null,null,null,"TOTAL DE BDI",{"$f":"'BDI - Geral'!E27","v":0.21890000000000001},{"$f":"TRUNC(E101*E109,2)","v":0}]
[]
[null,null,null,"QUADRO-RESUMO DO CUSTO MENSAL POR EMPREGADO - SEM O 13º","Valor"]
[null,null,null,"Módulo 1 - Composição da Remuneração",{"$f":"F17","v":0}]
[null,null,null,"Módulo 2 - Encargos e Benefícios Anuais, Mensais e Diários",{"$f":"F52","v":0}]
[null,null,null,"Módulo 3 - Provisão para Rescisão",{"$f":"F62","v":0}]
[null,null,null,"Módulo 4 - Custo de Reposição do Profissional Ausente",{"$f":"F80","v":0}]
[null,null,null,"Módulo 5 - Insumos Diversos",{"$f":"F89","v":0}]
[null,null,null,"SUBTOTAL (A+B+C+D+E)",{"$f":"SUM(E104:E108)","v":0}]
[null,null,null,"Módulo 6 - Custos Indiretos, Tributos e Lucro",{"$f":"F101","v":0}]
[]
[null,null,null,"TOTAL DO POSTO",{"$f":"SUM(E109:E110)","v":0}]
[]
[null,"MÓDULO 7 - DESTAQUE DO MÓDULO 2 - 13º SALÁRIO",null,null,"Percentuais","Valor"]
[null,null,"A","13º Salário",{"$f":"'[1]Encargos Sociais'!E32*12/11","v":9.9163636363636357E-2},{"$f":"ROUND(E115*F$17,2)","v":0},null,"* Nota 1 - Incluindo-se a reincidência das férias do substituto sobre o titular"]
[null,null,"B","Encargos Sociais sobre o 13º Salário (submódulo 2.2 e módulo 3)",{"$f":"SUM($E$25:$E$33)+SUM($E$55:$E$60)","v":0.39760000000000006},{"$f":"ROUND(E116*$F$115,2)","v":0},null,"* Nota 2 - 13º e reflexos calculados à parte a fim de aprovisionamento"]
[null,null,"C","BDI sobre o 13º Salário",{"$f":"E101","v":0.21890000000000001},{"$f":"ROUND(E117*($F$115+$F$116),2)","v":0}]
[]
[null,null,null,"TOTAL DO DESTAQUE DO 13º SALÁRIO",null,{"$f":"SUM(F115:F117)","v":0}]
[]
[null,null,null,"QUADRO-RESUMO DO CUSTO MENSAL POR EMPREGADO","Valor"]
[null,null,null,"Custo total - sem o 13º Salário",{"$f":"ROUND(E112,2)","v":0}]
[null,null,null,"Destaque do 13º Salário (valor mensal)",{"$f":"ROUND(F119,2)","v":0}]
[]
[null,null,null,"TOTAL DO POSTO",{"$f":"E122+E123","v":0}]

{"sheet":"10","index":12,"n_rows":125,"n_cols":8,"rows_kept":125,"cut":false,"hidden":true,"merged":[[113,1,113,3],[46,3,46,5],[53,1,53,3],[63,1,63,3],[75,3,75,5],[81,1,81,3],[90,1,90,3],[18,1,18,3],[1,1,1,5],[2,1,2,5],[4,1,4,2],[5,1,5,2],[7,1,7,3]]}
[]
[null,"PLANILHA DE ESTIMATIVA DE CUSTOS"]
[null,"Padrão IN 05/2017 e IN 07/2018 - MPDG - Medição por posto presente"]
[]
[null,10,null,{"$f":"HLOOKUP($B$5,'Dados Gerais'!$D$6:$BI$22,6)","v":0},"QUANTIDADE",{"$f":"HLOOKUP($B$5,'Dados Gerais'!$D$6:$BI$22,10)","v":0}]
[null,"CCT",null,{"$f":"HLOOKUP($B$5,'Dados Gerais'!$D$6:$BI$22,16)","v":0},"DATA-BASE",{"$f":"HLOOKUP($B$5,'Dados Gerais'!$D$6:$BI$22,17)","v":"00:00:00"}]
[]
[null,"MÓDULO 1 - COMPOSIÇÃO DA REMUNERAÇÃO",null,null,null,"Valor"]
[null,null,"A","Salário-Base",null,{"$f":"HLOOKUP($B$5,'Dados Gerais'!$D$6:$BI$22,8)","v":0}]
[null,null,"B","Adicional de Periculosidade",null,{"$f":"HLOOKUP($B$5,'Dados Gerais'!$D$6:$BI$41,26)","v":0}]
[null,null,"C","Adicional de Insalubridade",null,{"$f":"HLOOKUP($B$5,'Dados Gerais'!$D$6:$BI$41,32)","v":0}]
[null,null,"D","Adicional Noturno",null,{"$f":"HLOOKUP($B$5,'Dados Gerais'!$D$6:$BI$54,49)","v":0},null,"* Nota 1 - O Módulo 1 refere-se ao valor mensal devido ao empregado pela prestação do serviço no período de 12 meses."]
[null,null,"E","Adicional de Hora Extra",null,{"$f":"HLOOKUP($B$5,'Dados Gerais'!$D$6:$BI$71,66)","v":0},null,"* Nota 2 - O adicional de hora extra no feriado trabalhado foi suprimido pela Lei 13.467/17"]
[null,null,"F","Gratificação",null,{"$f":"HLOOKUP($B$5,'Dados Gerais'!$D$6:$BI$71,34)","v":0},null,"* Nota 3 - ART. 7º, § 2º, DA LEI Nº 605/49.Sendo mensalista o obreiro, o adicional noturno pago de forma fixa já é considerado integrado para os efeitos do pagamento do repouso semanal remunerado, nos termos do art. 7º, § 2º, da Lei nº 605/49."]
[null,null,"G","Sobraviso",null,{"$f":"HLOOKUP($B$5,'Dados Gerais'!$D$6:$BI$71,36)","v":0},null,"* Nota 3 - ART. 7º, § 2º, DA LEI Nº 605/49.Sendo mensalista o obreiro, o adicional noturno pago de forma fixa já é considerado integrado para os efeitos do pagamento do repouso semanal remunerado, nos termos do art. 7º, § 2º, da Lei nº 605/49."]
[]
[null,null,null,"TOTAL DA REMUNERAÇÃO",null,{"$f":"TRUNC(SUM(F9:F15),2)","v":0}]
[]
[null,"MÓDULO 2 - ENCARGOS E BENEFÍCIOS ANUAIS, MENSAIS E DIÁRIOS",null,null,"Percentuais","Valor"]
[null,"Submódulo 2.1 - 13º Salário, Férias e Adicional de Férias"]
[null,null,"A","13º Salário - Calculado no Módulo 7 - Destacado",0,{"$f":"TRUNC(E21*F$17,2)","v":0}]
[null,null,"B","Adicional de Férias",{"$f":"'Encargos Sociais'!E31","v":3.0300000000000001E-2},{"$f":"TRUNC(E22*(F$17),2)","v":0},null,"* Nota 1 - O adicional de férias foi calculado dividindo-se por 11, para comportar os 11 meses presentes e ainda o ausente do posto"]
[]
[null,"Submódulo 2.2 - Encargos Previdenciários (GPS), Fundo de Garantia por Tempo de Serviço (FGTS) e Outras Contribuições"]
[null,null,"A",{"$f":"'Encargos Sociais'!D14","v":"INSS (art. 22, inciso I, Lei nº 8.212/91)"},{"$f":"'Encargos Sociais'!E14","v":0.2},{"$f":"TRUNC(E25*($F$17+$F$80+$F$22-F69),2)","v":0},null,"* Nota 1 - Os percentuais dos encargos previdenciários, do FGTS e demais contribuições são estabelecidos por legislação vigente."]
[null,null,"B",{"$f":"'Encargos Sociais'!D15","v":"Salário Educação (art. 3º, inciso I, Decreto nº 87.043/82)"},{"$f":"'Encargos Sociais'!E15","v":2.5000000000000001E-2},{"$f":"TRUNC(E26*($F$17+$F$80+$F$22),2)","v":0},null,"* Nota 2 - O SAT, a depender do grau de risco do serviço, irá variar entre 1%, para risco leve, de 2%, para risco médio, e de 3% para risco grave."]
[null,null,"C",{"$f":"'Encargos Sociais'!D16","v":"SAT/RAT (art. 22, II, Lei 8.212/91 e Anexo V, Decreto 6.042/07) - Enquadramento 8211-3/00"},{"$f":"'Encargos Sociais'!E16","v":0.01},0,null,"* Nota 3 - Base de cálculo - remuneração + ausências + terço constitucional (férias) - exceto INSS sobre ausência por acidente de trabalho"]
[null,null,"D",{"$f":"'Encargos Sociais'!D17","v":"SESC ou SESI (art. 30, Lei nº 8.036/90 e art. 1º, Lei 8.154/90)"},{"$f":"'Encargos Sociais'!E17","v":1.4999999999999999E-2},0]
[null,null,"E",{"$f":"'Encargos Sociais'!D18","v":"SENAI ou SENAC (Decreto nº 2.318/86)"},{"$f":"'Encargos Sociais'!E18","v":0.01},0]
[null,null,"F",{"$f":"'Encargos Sociais'!D19","v":"SEBRAE (§ 3º, art. 8º, Lei 8.029/90, alterada pela Lei nº 8.154/90)"},{"$f":"'Encargos Sociais'!E19","v":6.0000000000000001E-3},0]
[null,null,"G",{"$f":"'Encargos Sociais'!D20","v":"INCRA (art. 1º, I, Decreto Lei 1.146/70 e Lei 7.787, de 30/06/89)"},{"$f":"'Encargos Sociais'!E20","v":2E-3},0]
[null,null,"H",{"$f":"'Encargos Sociais'!D21","v":"FGTS (Lei Complementar nº 110/01 e art. 30, Lei nº 8.036/90)"},{"$f":"'Encargos Sociais'!E21","v":0.08},0]
[null,null,"I",{"$f":"'Encargos Sociais'!D22","v":"SECONCI (Convenções Coletivas de Trabalho da construção)"},{"$f":"'Encargos Sociais'!E22","v":0},0]
[]
[null,"Submódulo 2.3 - Benefícios Mensais e Diários"]
[null,null,"A","Auxílio Transporte",null,{"$f":"HLOOKUP($B$5,'Dados Gerais'!$D$6:$BI$101,85)","v":0},null,"* Nota 1 - O valor informado deverá ser o custo real do benefício (descontado o valor eventualmente pago pelo empregado)."]
[null,null,"B","Auxílio Alimentação",null,{"$f":"HLOOKUP($B$5,'Dados Gerais'!$D$6:$BI$101,92)","v":0},null,"* Nota 2 - Observar a previsão dos benefícios contidos em Acordos, Convenções e Dissídios Coletivos de Trabalho e o disposto no art. 6º da IN 5/2017"]
[null,null,"C","Assistência Médica e Familiar",null,{"$f":"HLOOKUP($B$5,'Dados Gerais'!$D$6:$BI$109,100)","v":0}]
[null,null,"D","Seguro de vida / auxílio funeral",null,{"$f":"HLOOKUP($B$5,'Dados Gerais'!$D$6:$BI$145,109)","v":0}]
[null,null,"E","Assistência odontológica",null,{"$f":"HLOOKUP($B$5,'Dados Gerais'!$D$6:$BI$145,115)","v":0}]
[null,null,"F","Auxílio creche",null,{"$f":"HLOOKUP($B$5,'Dados Gerais'!$D$6:$BI$145,121)","v":0}]
[null,null,"G","Auxílio vestuário especial",null,{"$f":"HLOOKUP($B$5,'Dados Gerais'!$D$6:$BI$145,127)","v":0}]
[null,null,"H","Benefício social familiar",null,{"$f":"HLOOKUP($B$5,'Dados Gerais'!$D$6:$BI$145,133)","v":0}]
[null,null,"I","Outros (especificar)",null,{"$f":"HLOOKUP($B$5,'Dados Gerais'!$D$6:$BI$145,115)","v":0}]
[null,null,"J","Outros (especificar)",null,{"$f":"HLOOKUP($B$5,'Dados Gerais'!$D$6:$BI$145,115)","v":0}]
[]
[null,null,null,"QUADRO-RESUMO DO MÓDULO 2"]
[null,null,null,"2.1 - Adicional de Férias",{"$f":"SUM(E21:E22)","v":3.0300000000000001E-2},{"$f":"F21+F22","v":0}]
[null,null,null,"2.2 - Encargos Previdenciários (GPS), Fundo de Garantia por Tempo de Serviço (FGTS) e Contribuições",{"$f":"SUM(E25:E33)","v":0.34800000000000003},{"$f":"SUM(F25:F33)","v":0}]
[null,null,null,"2.3 - Benefícios Mensais e Diários",null,{"$f":"SUM(F36:F45)","v":0}]
[]
[null,null,null,"TOTAL DOS ENCARGOS E BENEFÍCIOS",null,{"$f":"TRUNC(SUM(F48:F50),2)","v":0}]
[]
[null,"MÓDULO 3 - PREVISÃO PARA RESCISÃO",null,null,"Percentuais","Valor"]
[null,null,"A",{"$f":"'Encargos Sociais'!D36","v":"Aviso Prévio Indenizado (Art. 7º, inciso XXI, da CF/1988 e arts. 477, 487, §1º, e 491 da CLT)"},{"$f":"'Encargos Sociais'!E36","v":4.1999999999999997E-3},{"$f":"TRUNC(E55*($F$17+$F$48+$F$80),2)","v":0},null,"* Nota 1 - Base de cálculo - remuneração + ausências + 1/3 férias"]
[null,null,"B",{"$f":"'Encargos Sociais'!D37","v":"Incidência do FGTS sobre o Aviso Prévio Indenizado (Súmula 305 TST)"},{"$f":"'Encargos Sociais'!E37","v":2.9999999999999997E-4},0]
[null,null,"C",{"$f":"'Encargos Sociais'!D38","v":"Multa do FGTS sobre o Aviso Prévio Indenizado (Art. 18, §1º, da Lei 8.036/1990)"},{"$f":"'Encargos Sociais'!E38","v":0},0]
[null,null,"D",{"$f":"'Encargos Sociais'!D39","v":"Aviso Prévio Trabalhado (Art. 488, parágrafo único, CLT)"},{"$f":"'Encargos Sociais'!E39","v":9.7000000000000003E-3},0]
[null,null,"E",{"$f":"'Encargos Sociais'!D40","v":"Incidência de GPS, FGTS e outras contribuições sobre o Aviso Prévio Trabalhado"},{"$f":"'Encargos Sociais'!E40","v":3.3999999999999998E-3},0]
[null,null,"F",{"$f":"'Encargos Sociais'!D41","v":"Multa do FGTS"},{"$f":"'Encargos Sociais'!E41","v":3.2000000000000001E-2},0]
[]
[null,null,null,"TOTAL DE PREVISÃO PARA RESCISÃO",null,{"$f":"TRUNC(SUM(F55:F60),2)","v":0}]
[]
[null,"MÓDULO 4 - CUSTO DO PROFISSIONAL AUSENTE",null,null,"Percentuais","Valor"]
[null,"Submódulo 4.1 - Ausências Legais"]
[null,null,"A",{"$f":"'Encargos Sociais'!D25","v":"Férias (Arts. 129 e 130, inc. I, da CLT)"},{"$f":"'Encargos Sociais'!E25","v":9.0899999999999995E-2},{"$f":"TRUNC(E66*$F$17,2)","v":0},null,"* Nota 1 - O Módulo 4 refere-se às previsões para custear ausências do próprio profissional (titular do cargo)"]
[null,null,"B",{"$f":"'Encargos Sociais'!D26","v":"Ausências Legais (Arts. 131 e 473 da CLT)"},{"$f":"'Encargos Sociais'!E26","v":7.9000000000000008E-3},0,null,"* Nota 2 - As férias foram calculadas dividindo-se por 11, para comportar os 11 meses presentes e ainda o ausente do posto"]
[null,null,"C",{"$f":"'Encargos Sociais'!D27","v":"Licença-Paternidade (Art. 7º, XIX, e art. 10, §1º, do ADCT, CF/1988 e Art. 1º, II, da Lei 11.770/2008)"},{"$f":"'Encargos Sociais'!E27","v":8.0000000000000004E-4},0]
[null,null,"D",{"$f":"'Encargos Sociais'!D28","v":"Ausência por Acidente de Trabalho (Art. 131, III, da CLT)"},{"$f":"'Encargos Sociais'!E28","v":8.9999999999999998E-4},0]
[null,null,"E",{"$f":"'Encargos Sociais'!D29","v":"Afastamento Maternidade (Art. 71 da Lei nº 8.213/1991)"},{"$f":"'Encargos Sociais'!E29","v":3.3E-3},0]
[null,null,"F",{"$f":"'Encargos Sociais'!D30","v":"Auxílio Enfermidade - Doença (Art. 59 da Lei nº 8.213/1991)"},{"$f":"'Encargos Sociais'!E30","v":7.1000000000000004E-3},0]
[]
[null,"Submódulo 4.2 - Intrajornada"]
[null,null,"A","Intervalo para repouso ou alimentação",{"$f":"'Encargos Sociais'!E33","v":0},{"$f":"ROUND(E74*$F$17,2)","v":0}]
[]
[null,null,null,"QUADRO-RESUMO DO MÓDULO 4",null,"Valor"]
[null,null,null,"4.1 - Ausências Legais",{"$f":"SUM(E66:E71)","v":0.11089999999999998},{"$f":"SUM(F66:F71)","v":0}]
[null,null,null,"4.2 - Intrajornada",{"$f":"E74","v":0},{"$f":"ROUND(E78*$F$17,2)","v":0}]
[]
[null,null,null,"TOTAL DE CUSTO DO PROFFIONAL AUSENTE E INTERVALO INTRAJORNADA",null,{"$f":"TRUNC(SUM(F77:F78),2)","v":0}]
[]
[null,"MÓDULO 5 - INSUMOS DIVERSOS",null,null,null,"Valor"]
[null,null,"A","Uniformes - aquisição",null,{"$f":"TRUNC(HLOOKUP($B$5,Uniformes!$J$3:$DY$5,3,0)/12,2)","v":0}]
[null,null,"B","Materiais de consumo relacionados ao posto - aquisição",null,0]
[null,null,"C","Ferramentas relacionadas ao posto - remuneração da sua depreciação / manutenção",null,0]
[null,null,"D","Equipamentos relacionados ao posto - remuneração da sua depreciação / manutenção",null,0]
[null,null,"E","Equipamentos de Proteção Individual - EPI - aquisição",null,{"$f":"TRUNC(HLOOKUP($B$5,EPI!$J$3:$DX$5,3,0)/12,2)","v":0}]
[]
[null,null,null,"TOTAL DE INSUMOS DIVERSOS",null,{"$f":"SUM(F83:F88)","v":0},null,"* Nota - Valores mensais por empregado"]
[]
[null,"MÓDULO 6 - CUSTOS INDIRETOS, TRIBUTOS E LUCRO - BDI",null,null,"Percentuais","Valor"]
[null,null,"A","Custos Indiretos",{"$f":"'BDI - Geral'!E7","v":2.7000000000000003E-2}]
[null,null,"A.1","Administração Central",{"$f":"'BDI - Geral'!E8","v":2.1600000000000001E-2}]
[null,null,"A.2","Seguros, Garantias e Riscos",{"$f":"'BDI - Geral'!E9","v":5.4000000000000003E-3}]
[null,null,"B","Lucro",{"$f":"'BDI - Geral'!E11","v":3.3399999999999999E-2}]
[null,null,"C","Tributos",{"$f":"SUM(E97:E98)","v":0.124}]
[null,null,"C.1","Tributos Federais (COFINS, PIS e CPRB)",{"$f":"'BDI - Geral'!E19","v":7.3999999999999996E-2}]
[null,null,"C.2","Tributos Distritais (ISS)",{"$f":"'BDI - Geral'!E24","v":0.05}]
[null,null,"D","Despesas Financeiras",{"$f":"'BDI - Geral'!E14","v":6.1000000000000004E-3}]
[]
[null,null,null,"TOTAL DE BDI",{"$f":"'BDI - Geral'!E27","v":0.21890000000000001},{"$f":"TRUNC(E101*E109,2)","v":0}]
[]
[null,null,null,"QUADRO-RESUMO DO CUSTO MENSAL POR EMPREGADO - SEM O 13º","Valor"]
[null,null,null,"Módulo 1 - Composição da Remuneração",{"$f":"F17","v":0}]
[null,null,null,"Módulo 2 - Encargos e Benefícios Anuais, Mensais e Diários",{"$f":"F52","v":0}]
[null,null,null,"Módulo 3 - Provisão para Rescisão",{"$f":"F62","v":0}]
[null,null,null,"Módulo 4 - Custo de Reposição do Profissional Ausente",{"$f":"F80","v":0}]
[null,null,null,"Módulo 5 - Insumos Diversos",{"$f":"F89","v":0}]
[null,null,null,"SUBTOTAL (A+B+C+D+E)",{"$f":"SUM(E104:E108)","v":0}]
[null,null,null,"Módulo 6 - Custos Indiretos, Tributos e Lucro",{"$f":"F101","v":0}]
[]
[null,null,null,"TOTAL DO POSTO",{"$f":"SUM(E109:E110)","v":0}]
[]
[null,"MÓDULO 7 - DESTAQUE DO MÓDULO 2 - 13º SALÁRIO",null,null,"Percentuais","Valor"]
[null,null,"A","13º Salário",{"$f":"'[1]Encargos Sociais'!E32*12/11","v":9.9163636363636357E-2},{"$f":"ROUND(E115*F$17,2)","v":0},null,"* Nota 1 - Incluindo-se a reincidência das férias do substituto sobre o titular"]
[null,null,"B","Encargos Sociais sobre o 13º Salário (submódulo 2.2 e módulo 3)",{"$f":"SUM($E$25:$E$33)+SUM($E$55:$E$60)","v":0.39760000000000006},{"$f":"ROUND(E116*$F$115,2)","v":0},null,"* Nota 2 - 13º e reflexos calculados à parte a fim de aprovisionamento"]
[null,null,"C","BDI sobre o 13º Salário",{"$f":"E101","v":0.21890000000000001},{"$f":"ROUND(E117*($F$115+$F$116),2)","v":0}]
[]
[null,null,null,"TOTAL DO DESTAQUE DO 13º SALÁRIO",null,{"$f":"SUM(F115:F117)","v":0}]
[]
[null,null,null,"QUADRO-RESUMO DO CUSTO MENSAL POR EMPREGADO","Valor"]
[null,null,null,"Custo total - sem o 13º Salário",{"$f":"ROUND(E112,2)","v":0}]
[null,null,null,"Destaque do 13º Salário (valor mensal)",{"$f":"ROUND(F119,2)","v":0}]
[]
[null,null,null,"TOTAL DO POSTO",{"$f":"E122+E123","v":0}]

{"sheet":"11","index":13,"n_rows":125,"n_cols":8,"rows_kept":125,"cut":false,"hidden":true,"merged":[[113,1,113,3],[46,3,46,5],[53,1,53,3],[63,1,63,3],[75,3,75,5],[81,1,81,3],[90,1,90,3],[18,1,18,3],[1,1,1,5],[2,1,2,5],[4,1,4,2],[5,1,5,2],[7,1,7,3]]}
[]
[null,"PLANILHA DE ESTIMATIVA DE CUSTOS"]
[null,"Padrão IN 05/2017 e IN 07/2018 - MPDG - Medição por posto presente"]
[]
[null,11,null,{"$f":"HLOOKUP($B$5,'Dados Gerais'!$D$6:$BI$22,6)","v":0},"QUANTIDADE",{"$f":"HLOOKUP($B$5,'Dados Gerais'!$D$6:$BI$22,10)","v":0}]
[null,"CCT",null,{"$f":"HLOOKUP($B$5,'Dados Gerais'!$D$6:$BI$22,16)","v":0},"DATA-BASE",{"$f":"HLOOKUP($B$5,'Dados Gerais'!$D$6:$BI$22,17)","v":"00:00:00"}]
[]
[null,"MÓDULO 1 - COMPOSIÇÃO DA REMUNERAÇÃO",null,null,null,"Valor"]
[null,null,"A","Salário-Base",null,{"$f":"HLOOKUP($B$5,'Dados Gerais'!$D$6:$BI$22,8)","v":0}]
[null,null,"B","Adicional de Periculosidade",null,{"$f":"HLOOKUP($B$5,'Dados Gerais'!$D$6:$BI$41,26)","v":0}]
[null,null,"C","Adicional de Insalubridade",null,{"$f":"HLOOKUP($B$5,'Dados Gerais'!$D$6:$BI$41,32)","v":0}]
[null,null,"D","Adicional Noturno",null,{"$f":"HLOOKUP($B$5,'Dados Gerais'!$D$6:$BI$54,49)","v":0},null,"* Nota 1 - O Módulo 1 refere-se ao valor mensal devido ao empregado pela prestação do serviço no período de 12 meses."]
[null,null,"E","Adicional de Hora Extra",null,{"$f":"HLOOKUP($B$5,'Dados Gerais'!$D$6:$BI$71,66)","v":0},null,"* Nota 2 - O adicional de hora extra no feriado trabalhado foi suprimido pela Lei 13.467/17"]
[null,null,"F","Gratificação",null,{"$f":"HLOOKUP($B$5,'Dados Gerais'!$D$6:$BI$71,34)","v":0},null,"* Nota 3 - ART. 7º, § 2º, DA LEI Nº 605/49.Sendo mensalista o obreiro, o adicional noturno pago de forma fixa já é considerado integrado para os efeitos do pagamento do repouso semanal remunerado, nos termos do art. 7º, § 2º, da Lei nº 605/49."]
[null,null,"G","Sobraviso",null,{"$f":"HLOOKUP($B$5,'Dados Gerais'!$D$6:$BI$71,36)","v":0},null,"* Nota 3 - ART. 7º, § 2º, DA LEI Nº 605/49.Sendo mensalista o obreiro, o adicional noturno pago de forma fixa já é considerado integrado para os efeitos do pagamento do repouso semanal remunerado, nos termos do art. 7º, § 2º, da Lei nº 605/49."]
[]
[null,null,null,"TOTAL DA REMUNERAÇÃO",null,{"$f":"TRUNC(SUM(F9:F15),2)","v":0}]
[]
[null,"MÓDULO 2 - ENCARGOS E BENEFÍCIOS ANUAIS, MENSAIS E DIÁRIOS",null,null,"Percentuais","Valor"]
[null,"Submódulo 2.1 - 13º Salário, Férias e Adicional de Férias"]
[null,null,"A","13º Salário - Calculado no Módulo 7 - Destacado",0,{"$f":"TRUNC(E21*F$17,2)","v":0}]
[null,null,"B","Adicional de Férias",{"$f":"'Encargos Sociais'!E31","v":3.0300000000000001E-2},{"$f":"TRUNC(E22*(F$17),2)","v":0},null,"* Nota 1 - O adicional de férias foi calculado dividindo-se por 11, para comportar os 11 meses presentes e ainda o ausente do posto"]
[]
[null,"Submódulo 2.2 - Encargos Previdenciários (GPS), Fundo de Garantia por Tempo de Serviço (FGTS) e Outras Contribuições"]
[null,null,"A",{"$f":"'Encargos Sociais'!D14","v":"INSS (art. 22, inciso I, Lei nº 8.212/91)"},{"$f":"'Encargos Sociais'!E14","v":0.2},{"$f":"TRUNC(E25*($F$17+$F$80+$F$22-F69),2)","v":0},null,"* Nota 1 - Os percentuais dos encargos previdenciários, do FGTS e demais contribuições são estabelecidos por legislação vigente."]
[null,null,"B",{"$f":"'Encargos Sociais'!D15","v":"Salário Educação (art. 3º, inciso I, Decreto nº 87.043/82)"},{"$f":"'Encargos Sociais'!E15","v":2.5000000000000001E-2},{"$f":"TRUNC(E26*($F$17+$F$80+$F$22),2)","v":0},null,"* Nota 2 - O SAT, a depender do grau de risco do serviço, irá variar entre 1%, para risco leve, de 2%, para risco médio, e de 3% para risco grave."]
[null,null,"C",{"$f":"'Encargos Sociais'!D16","v":"SAT/RAT (art. 22, II, Lei 8.212/91 e Anexo V, Decreto 6.042/07) - Enquadramento 8211-3/00"},{"$f":"'Encargos Sociais'!E16","v":0.01},0,null,"* Nota 3 - Base de cálculo - remuneração + ausências + terço constitucional (férias) - exceto INSS sobre ausência por acidente de trabalho"]
[null,null,"D",{"$f":"'Encargos Sociais'!D17","v":"SESC ou SESI (art. 30, Lei nº 8.036/90 e art. 1º, Lei 8.154/90)"},{"$f":"'Encargos Sociais'!E17","v":1.4999999999999999E-2},0]
[null,null,"E",{"$f":"'Encargos Sociais'!D18","v":"SENAI ou SENAC (Decreto nº 2.318/86)"},{"$f":"'Encargos Sociais'!E18","v":0.01},0]
[null,null,"F",{"$f":"'Encargos Sociais'!D19","v":"SEBRAE (§ 3º, art. 8º, Lei 8.029/90, alterada pela Lei nº 8.154/90)"},{"$f":"'Encargos Sociais'!E19","v":6.0000000000000001E-3},0]
[null,null,"G",{"$f":"'Encargos Sociais'!D20","v":"INCRA (art. 1º, I, Decreto Lei 1.146/70 e Lei 7.787, de 30/06/89)"},{"$f":"'Encargos Sociais'!E20","v":2E-3},0]
[null,null,"H",{"$f":"'Encargos Sociais'!D21","v":"FGTS (Lei Complementar nº 110/01 e art. 30, Lei nº 8.036/90)"},{"$f":"'Encargos Sociais'!E21","v":0.08},0]
[null,null,"I",{"$f":"'Encargos Sociais'!D22","v":"SECONCI (Convenções Coletivas de Trabalho da construção)"},{"$f":"'Encargos Sociais'!E22","v":0},0]
[]
[null,"Submódulo 2.3 - Benefícios Mensais e Diários"]
[null,null,"A","Auxílio Transporte",null,{"$f":"HLOOKUP($B$5,'Dados Gerais'!$D$6:$BI$101,85)","v":0},null,"* Nota 1 - O valor informado deverá ser o custo real do benefício (descontado o valor eventualmente pago pelo empregado)."]
[null,null,"B","Auxílio Alimentação",null,{"$f":"HLOOKUP($B$5,'Dados Gerais'!$D$6:$BI$101,92)","v":0},null,"* Nota 2 - Observar a previsão dos benefícios contidos em Acordos, Convenções e Dissídios Coletivos de Trabalho e o disposto no art. 6º da IN 5/2017"]
[null,null,"C","Assistência Médica e Familiar",null,{"$f":"HLOOKUP($B$5,'Dados Gerais'!$D$6:$BI$109,100)","v":0}]
[null,null,"D","Seguro de vida / auxílio funeral",null,{"$f":"HLOOKUP($B$5,'Dados Gerais'!$D$6:$BI$145,109)","v":0}]
[null,null,"E","Assistência odontológica",null,{"$f":"HLOOKUP($B$5,'Dados Gerais'!$D$6:$BI$145,115)","v":0}]
[null,null,"F","Auxílio creche",null,{"$f":"HLOOKUP($B$5,'Dados Gerais'!$D$6:$BI$145,121)","v":0}]
[null,null,"G","Auxílio vestuário especial",null,{"$f":"HLOOKUP($B$5,'Dados Gerais'!$D$6:$BI$145,127)","v":0}]
[null,null,"H","Benefício social familiar",null,{"$f":"HLOOKUP($B$5,'Dados Gerais'!$D$6:$BI$145,133)","v":0}]
[null,null,"I","Outros (especificar)",null,{"$f":"HLOOKUP($B$5,'Dados Gerais'!$D$6:$BI$145,115)","v":0}]
[null,null,"J","Outros (especificar)",null,{"$f":"HLOOKUP($B$5,'Dados Gerais'!$D$6:$BI$145,115)","v":0}]
[]
[null,null,null,"QUADRO-RESUMO DO MÓDULO 2"]
[null,null,null,"2.1 - Adicional de Férias",{"$f":"SUM(E21:E22)","v":3.0300000000000001E-2},{"$f":"F21+F22","v":0}]
[null,null,null,"2.2 - Encargos Previdenciários (GPS), Fundo de Garantia por Tempo de Serviço (FGTS) e Contribuições",{"$f":"SUM(E25:E33)","v":0.34800000000000003},{"$f":"SUM(F25:F33)","v":0}]
[null,null,null,"2.3 - Benefícios Mensais e Diários",null,{"$f":"SUM(F36:F45)","v":0}]
[]
[null,null,null,"TOTAL DOS ENCARGOS E BENEFÍCIOS",null,{"$f":"TRUNC(SUM(F48:F50),2)","v":0}]
[]
[null,"MÓDULO 3 - PREVISÃO PARA RESCISÃO",null,null,"Percentuais","Valor"]
[null,null,"A",{"$f":"'Encargos Sociais'!D36","v":"Aviso Prévio Indenizado (Art. 7º, inciso XXI, da CF/1988 e arts. 477, 487, §1º, e 491 da CLT)"},{"$f":"'Encargos Sociais'!E36","v":4.1999999999999997E-3},{"$f":"TRUNC(E55*($F$17+$F$48+$F$80),2)","v":0},null,"* Nota 1 - Base de cálculo - remuneração + ausências + 1/3 férias"]
[null,null,"B",{"$f":"'Encargos Sociais'!D37","v":"Incidência do FGTS sobre o Aviso Prévio Indenizado (Súmula 305 TST)"},{"$f":"'Encargos Sociais'!E37","v":2.9999999999999997E-4},0]
[null,null,"C",{"$f":"'Encargos Sociais'!D38","v":"Multa do FGTS sobre o Aviso Prévio Indenizado (Art. 18, §1º, da Lei 8.036/1990)"},{"$f":"'Encargos Sociais'!E38","v":0},0]
[null,null,"D",{"$f":"'Encargos Sociais'!D39","v":"Aviso Prévio Trabalhado (Art. 488, parágrafo único, CLT)"},{"$f":"'Encargos Sociais'!E39","v":9.7000000000000003E-3},0]
[null,null,"E",{"$f":"'Encargos Sociais'!D40","v":"Incidência de GPS, FGTS e outras contribuições sobre o Aviso Prévio Trabalhado"},{"$f":"'Encargos Sociais'!E40","v":3.3999999999999998E-3},0]
[null,null,"F",{"$f":"'Encargos Sociais'!D41","v":"Multa do FGTS"},{"$f":"'Encargos Sociais'!E41","v":3.2000000000000001E-2},0]
[]
[null,null,null,"TOTAL DE PREVISÃO PARA RESCISÃO",null,{"$f":"TRUNC(SUM(F55:F60),2)","v":0}]
[]
[null,"MÓDULO 4 - CUSTO DO PROFISSIONAL AUSENTE",null,null,"Percentuais","Valor"]
[null,"Submódulo 4.1 - Ausências Legais"]
[null,null,"A",{"$f":"'Encargos Sociais'!D25","v":"Férias (Arts. 129 e 130, inc. I, da CLT)"},{"$f":"'Encargos Sociais'!E25","v":9.0899999999999995E-2},{"$f":"TRUNC(E66*$F$17,2)","v":0},null,"* Nota 1 - O Módulo 4 refere-se às previsões para custear ausências do próprio profissional (titular do cargo)"]
[null,null,"B",{"$f":"'Encargos Sociais'!D26","v":"Ausências Legais (Arts. 131 e 473 da CLT)"},{"$f":"'Encargos Sociais'!E26","v":7.9000000000000008E-3},0,null,"* Nota 2 - As férias foram calculadas dividindo-se por 11, para comportar os 11 meses presentes e ainda o ausente do posto"]
[null,null,"C",{"$f":"'Encargos Sociais'!D27","v":"Licença-Paternidade (Art. 7º, XIX, e art. 10, §1º, do ADCT, CF/1988 e Art. 1º, II, da Lei 11.770/2008)"},{"$f":"'Encargos Sociais'!E27","v":8.0000000000000004E-4},0]
[null,null,"D",{"$f":"'Encargos Sociais'!D28","v":"Ausência por Acidente de Trabalho (Art. 131, III, da CLT)"},{"$f":"'Encargos Sociais'!E28","v":8.9999999999999998E-4},0]
[null,null,"E",{"$f":"'Encargos Sociais'!D29","v":"Afastamento Maternidade (Art. 71 da Lei nº 8.213/1991)"},{"$f":"'Encargos Sociais'!E29","v":3.3E-3},0]
[null,null,"F",{"$f":"'Encargos Sociais'!D30","v":"Auxílio Enfermidade - Doença (Art. 59 da Lei nº 8.213/1991)"},{"$f":"'Encargos Sociais'!E30","v":7.1000000000000004E-3},0]
[]
[null,"Submódulo 4.2 - Intrajornada"]
[null,null,"A","Intervalo para repouso ou alimentação",{"$f":"'Encargos Sociais'!E33","v":0},{"$f":"ROUND(E74*$F$17,2)","v":0}]
[]
[null,null,null,"QUADRO-RESUMO DO MÓDULO 4",null,"Valor"]
[null,null,null,"4.1 - Ausências Legais",{"$f":"SUM(E66:E71)","v":0.11089999999999998},{"$f":"SUM(F66:F71)","v":0}]
[null,null,null,"4.2 - Intrajornada",{"$f":"E74","v":0},{"$f":"ROUND(E78*$F$17,2)","v":0}]
[]
[null,null,null,"TOTAL DE CUSTO DO PROFFIONAL AUSENTE E INTERVALO INTRAJORNADA",null,{"$f":"TRUNC(SUM(F77:F78),2)","v":0}]
[]
[null,"MÓDULO 5 - INSUMOS DIVERSOS",null,null,null,"Valor"]
[null,null,"A","Uniformes - aquisição",null,{"$f":"TRUNC(HLOOKUP($B$5,Uniformes!$J$3:$DY$5,3,0)/12,2)","v":0}]
[null,null,"B","Materiais de consumo relacionados ao posto - aquisição",null,0]
[null,null,"C","Ferramentas relacionadas ao posto - remuneração da sua depreciação / manutenção",null,0]
[null,null,"D","Equipamentos relacionados ao posto - remuneração da sua depreciação / manutenção",null,0]
[null,null,"E","Equipamentos de Proteção Individual - EPI - aquisição",null,{"$f":"TRUNC(HLOOKUP($B$5,EPI!$J$3:$DX$5,3,0)/12,2)","v":0}]
[]
[null,null,null,"TOTAL DE INSUMOS DIVERSOS",null,{"$f":"SUM(F83:F88)","v":0},null,"* Nota - Valores mensais por empregado"]
[]
[null,"MÓDULO 6 - CUSTOS INDIRETOS, TRIBUTOS E LUCRO - BDI",null,null,"Percentuais","Valor"]
[null,null,"A","Custos Indiretos",{"$f":"'BDI - Geral'!E7","v":2.7000000000000003E-2}]
[null,null,"A.1","Administração Central",{"$f":"'BDI - Geral'!E8","v":2.1600000000000001E-2}]
[null,null,"A.2","Seguros, Garantias e Riscos",{"$f":"'BDI - Geral'!E9","v":5.4000000000000003E-3}]
[null,null,"B","Lucro",{"$f":"'BDI - Geral'!E11","v":3.3399999999999999E-2}]
[null,null,"C","Tributos",{"$f":"SUM(E97:E98)","v":0.124}]
[null,null,"C.1","Tributos Federais (COFINS, PIS e CPRB)",{"$f":"'BDI - Geral'!E19","v":7.3999999999999996E-2}]
[null,null,"C.2","Tributos Distritais (ISS)",{"$f":"'BDI - Geral'!E24","v":0.05}]
[null,null,"D","Despesas Financeiras",{"$f":"'BDI - Geral'!E14","v":6.1000000000000004E-3}]
[]
[null,null,null,"TOTAL DE BDI",{"$f":"'BDI - Geral'!E27","v":0.21890000000000001},{"$f":"TRUNC(E101*E109,2)","v":0}]
[]
[null,null,null,"QUADRO-RESUMO DO CUSTO MENSAL POR EMPREGADO - SEM O 13º","Valor"]
[null,null,null,"Módulo 1 - Composição da Remuneração",{"$f":"F17","v":0}]
[null,null,null,"Módulo 2 - Encargos e Benefícios Anuais, Mensais e Diários",{"$f":"F52","v":0}]
[null,null,null,"Módulo 3 - Provisão para Rescisão",{"$f":"F62","v":0}]
[null,null,null,"Módulo 4 - Custo de Reposição do Profissional Ausente",{"$f":"F80","v":0}]
[null,null,null,"Módulo 5 - Insumos Diversos",{"$f":"F89","v":0}]
[null,null,null,"SUBTOTAL (A+B+C+D+E)",{"$f":"SUM(E104:E108)","v":0}]
[null,null,null,"Módulo 6 - Custos Indiretos, Tributos e Lucro",{"$f":"F101","v":0}]
[]
[null,null,null,"TOTAL DO POSTO",{"$f":"SUM(E109:E110)","v":0}]
[]
[null,"MÓDULO 7 - DESTAQUE DO MÓDULO 2 - 13º SALÁRIO",null,null,"Percentuais","Valor"]
[null,null,"A","13º Salário",{"$f":"'[1]Encargos Sociais'!E32*12/11","v":9.9163636363636357E-2},{"$f":"ROUND(E115*F$17,2)","v":0},null,"* Nota 1 - Incluindo-se a reincidência das férias do substituto sobre o titular"]
[null,null,"B","Encargos Sociais sobre o 13º Salário (submódulo 2.2 e módulo 3)",{"$f":"SUM($E$25:$E$33)+SUM($E$55:$E$60)","v":0.39760000000000006},{"$f":"ROUND(E116*$F$115,2)","v":0},null,"* Nota 2 - 13º e reflexos calculados à parte a fim de aprovisionamento"]
[null,null,"C","BDI sobre o 13º Salário",{"$f":"E101","v":0.21890000000000001},{"$f":"ROUND(E117*($F$115+$F$116),2)","v":0}]
[]
[null,null,null,"TOTAL DO DESTAQUE DO 13º SALÁRIO",null,{"$f":"SUM(F115:F117)","v":0}]
[]
[null,null,null,"QUADRO-RESUMO DO CUSTO MENSAL POR EMPREGADO","Valor"]
[null,null,null,"Custo total - sem o 13º Salário",{"$f":"ROUND(E112,2)","v":0}]
[null,null,null,"Destaque do 13º Salário (valor mensal)",{"$f":"ROUND(F119,2)","v":0}]
[]
[null,null,null,"TOTAL DO POSTO",{"$f":"E122+E123","v":0}]

{"sheet":"12","index":14,"n_rows":125,"n_cols":8,"rows_kept":125,"cut":false,"hidden":true,"merged":[[113,1,113,3],[46,3,46,5],[53,1,53,3],[63,1,63,3],[75,3,75,5],[81,1,81,3],[90,1,90,3],[18,1,18,3],[1,1,1,5],[2,1,2,5],[4,1,4,2],[5,1,5,2],[7,1,7,3]]}
[]
[null,"PLANILHA DE ESTIMATIVA DE CUSTOS"]
[null,"Padrão IN 05/2017 e IN 07/2018 - MPDG - Medição por posto presente"]
[]
[null,12,null,{"$f":"HLOOKUP($B$5,'Dados Gerais'!$D$6:$BI$22,6)","v":0},"QUANTIDADE",{"$f":"HLOOKUP($B$5,'Dados Gerais'!$D$6:$BI$22,10)","v":0}]
[null,"CCT",null,{"$f":"HLOOKUP($B$5,'Dados Gerais'!$D$6:$BI$22,16)","v":0},"DATA-BASE",{"$f":"HLOOKUP($B$5,'Dados Gerais'!$D$6:$BI$22,17)","v":"00:00:00"}]
[]
[null,"MÓDULO 1 - COMPOSIÇÃO DA REMUNERAÇÃO",null,null,null,"Valor"]
[null,null,"A","Salário-Base",null,{"$f":"HLOOKUP($B$5,'Dados Gerais'!$D$6:$BI$22,8)","v":0}]
[null,null,"B","Adicional de Periculosidade",null,{"$f":"HLOOKUP($B$5,'Dados Gerais'!$D$6:$BI$41,26)","v":0}]
[null,null,"C","Adicional de Insalubridade",null,{"$f":"HLOOKUP($B$5,'Dados Gerais'!$D$6:$BI$41,32)","v":0}]
[null,null,"D","Adicional Noturno",null,{"$f":"HLOOKUP($B$5,'Dados Gerais'!$D$6:$BI$54,49)","v":0},null,"* Nota 1 - O Módulo 1 refere-se ao valor mensal devido ao empregado pela prestação do serviço no período de 12 meses."]
[null,null,"E","Adicional de Hora Extra",null,{"$f":"HLOOKUP($B$5,'Dados Gerais'!$D$6:$BI$71,66)","v":0},null,"* Nota 2 - O adicional de hora extra no feriado trabalhado foi suprimido pela Lei 13.467/17"]
[null,null,"F","Gratificação",null,{"$f":"HLOOKUP($B$5,'Dados Gerais'!$D$6:$BI$71,34)","v":0},null,"* Nota 3 - ART. 7º, § 2º, DA LEI Nº 605/49.Sendo mensalista o obreiro, o adicional noturno pago de forma fixa já é considerado integrado para os efeitos do pagamento do repouso semanal remunerado, nos termos do art. 7º, § 2º, da Lei nº 605/49."]
[null,null,"G","Sobraviso",null,{"$f":"HLOOKUP($B$5,'Dados Gerais'!$D$6:$BI$71,36)","v":0},null,"* Nota 3 - ART. 7º, § 2º, DA LEI Nº 605/49.Sendo mensalista o obreiro, o adicional noturno pago de forma fixa já é considerado integrado para os efeitos do pagamento do repouso semanal remunerado, nos termos do art. 7º, § 2º, da Lei nº 605/49."]
[]
[null,null,null,"TOTAL DA REMUNERAÇÃO",null,{"$f":"TRUNC(SUM(F9:F15),2)","v":0}]
[]
[null,"MÓDULO 2 - ENCARGOS E BENEFÍCIOS ANUAIS, MENSAIS E DIÁRIOS",null,null,"Percentuais","Valor"]
[null,"Submódulo 2.1 - 13º Salário, Férias e Adicional de Férias"]
[null,null,"A","13º Salário - Calculado no Módulo 7 - Destacado",0,{"$f":"TRUNC(E21*F$17,2)","v":0}]
[null,null,"B","Adicional de Férias",{"$f":"'Encargos Sociais'!E31","v":3.0300000000000001E-2},{"$f":"TRUNC(E22*(F$17),2)","v":0},null,"* Nota 1 - O adicional de férias foi calculado dividindo-se por 11, para comportar os 11 meses presentes e ainda o ausente do posto"]
[]
[null,"Submódulo 2.2 - Encargos Previdenciários (GPS), Fundo de Garantia por Tempo de Serviço (FGTS) e Outras Contribuições"]
[null,null,"A",{"$f":"'Encargos Sociais'!D14","v":"INSS (art. 22, inciso I, Lei nº 8.212/91)"},{"$f":"'Encargos Sociais'!E14","v":0.2},{"$f":"TRUNC(E25*($F$17+$F$80+$F$22-F69),2)","v":0},null,"* Nota 1 - Os percentuais dos encargos previdenciários, do FGTS e demais contribuições são estabelecidos por legislação vigente."]
[null,null,"B",{"$f":"'Encargos Sociais'!D15","v":"Salário Educação (art. 3º, inciso I, Decreto nº 87.043/82)"},{"$f":"'Encargos Sociais'!E15","v":2.5000000000000001E-2},{"$f":"TRUNC(E26*($F$17+$F$80+$F$22),2)","v":0},null,"* Nota 2 - O SAT, a depender do grau de risco do serviço, irá variar entre 1%, para risco leve, de 2%, para risco médio, e de 3% para risco grave."]
[null,null,"C",{"$f":"'Encargos Sociais'!D16","v":"SAT/RAT (art. 22, II, Lei 8.212/91 e Anexo V, Decreto 6.042/07) - Enquadramento 8211-3/00"},{"$f":"'Encargos Sociais'!E16","v":0.01},0,null,"* Nota 3 - Base de cálculo - remuneração + ausências + terço constitucional (férias) - exceto INSS sobre ausência por acidente de trabalho"]
[null,null,"D",{"$f":"'Encargos Sociais'!D17","v":"SESC ou SESI (art. 30, Lei nº 8.036/90 e art. 1º, Lei 8.154/90)"},{"$f":"'Encargos Sociais'!E17","v":1.4999999999999999E-2},0]
[null,null,"E",{"$f":"'Encargos Sociais'!D18","v":"SENAI ou SENAC (Decreto nº 2.318/86)"},{"$f":"'Encargos Sociais'!E18","v":0.01},0]
[null,null,"F",{"$f":"'Encargos Sociais'!D19","v":"SEBRAE (§ 3º, art. 8º, Lei 8.029/90, alterada pela Lei nº 8.154/90)"},{"$f":"'Encargos Sociais'!E19","v":6.0000000000000001E-3},0]
[null,null,"G",{"$f":"'Encargos Sociais'!D20","v":"INCRA (art. 1º, I, Decreto Lei 1.146/70 e Lei 7.787, de 30/06/89)"},{"$f":"'Encargos Sociais'!E20","v":2E-3},0]
[null,null,"H",{"$f":"'Encargos Sociais'!D21","v":"FGTS (Lei Complementar nº 110/01 e art. 30, Lei nº 8.036/90)"},{"$f":"'Encargos Sociais'!E21","v":0.08},0]
[null,null,"I",{"$f":"'Encargos Sociais'!D22","v":"SECONCI (Convenções Coletivas de Trabalho da construção)"},{"$f":"'Encargos Sociais'!E22","v":0},0]
[]
[null,"Submódulo 2.3 - Benefícios Mensais e Diários"]
[null,null,"A","Auxílio Transporte",null,{"$f":"HLOOKUP($B$5,'Dados Gerais'!$D$6:$BI$101,85)","v":0},null,"* Nota 1 - O valor informado deverá ser o custo real do benefício (descontado o valor eventualmente pago pelo empregado)."]
[null,null,"B","Auxílio Alimentação",null,{"$f":"HLOOKUP($B$5,'Dados Gerais'!$D$6:$BI$101,92)","v":0},null,"* Nota 2 - Observar a previsão dos benefícios contidos em Acordos, Convenções e Dissídios Coletivos de Trabalho e o disposto no art. 6º da IN 5/2017"]
[null,null,"C","Assistência Médica e Familiar",null,{"$f":"HLOOKUP($B$5,'Dados Gerais'!$D$6:$BI$109,100)","v":0}]
[null,null,"D","Seguro de vida / auxílio funeral",null,{"$f":"HLOOKUP($B$5,'Dados Gerais'!$D$6:$BI$145,109)","v":0}]
[null,null,"E","Assistência odontológica",null,{"$f":"HLOOKUP($B$5,'Dados Gerais'!$D$6:$BI$145,115)","v":0}]
[null,null,"F","Auxílio creche",null,{"$f":"HLOOKUP($B$5,'Dados Gerais'!$D$6:$BI$145,121)","v":0}]
[null,null,"G","Auxílio vestuário especial",null,{"$f":"HLOOKUP($B$5,'Dados Gerais'!$D$6:$BI$145,127)","v":0}]
[null,null,"H","Benefício social familiar",null,{"$f":"HLOOKUP($B$5,'Dados Gerais'!$D$6:$BI$145,133)","v":0}]
[null,null,"I","Outros (especificar)",null,{"$f":"HLOOKUP($B$5,'Dados Gerais'!$D$6:$BI$145,115)","v":0}]
[null,null,"J","Outros (especificar)",null,{"$f":"HLOOKUP($B$5,'Dados Gerais'!$D$6:$BI$145,115)","v":0}]
[]
[null,null,null,"QUADRO-RESUMO DO MÓDULO 2"]
[null,null,null,"2.1 - Adicional de Férias",{"$f":"SUM(E21:E22)","v":3.0300000000000001E-2},{"$f":"F21+F22","v":0}]
[null,null,null,"2.2 - Encargos Previdenciários (GPS), Fundo de Garantia por Tempo de Serviço (FGTS) e Contribuições",{"$f":"SUM(E25:E33)","v":0.34800000000000003},{"$f":"SUM(F25:F33)","v":0}]
[null,null,null,"2.3 - Benefícios Mensais e Diários",null,{"$f":"SUM(F36:F45)","v":0}]
[]
[null,null,null,"TOTAL DOS ENCARGOS E BENEFÍCIOS",null,{"$f":"TRUNC(SUM(F48:F50),2)","v":0}]
[]
[null,"MÓDULO 3 - PREVISÃO PARA RESCISÃO",null,null,"Percentuais","Valor"]
[null,null,"A",{"$f":"'Encargos Sociais'!D36","v":"Aviso Prévio Indenizado (Art. 7º, inciso XXI, da CF/1988 e arts. 477, 487, §1º, e 491 da CLT)"},{"$f":"'Encargos Sociais'!E36","v":4.1999999999999997E-3},{"$f":"TRUNC(E55*($F$17+$F$48+$F$80),2)","v":0},null,"* Nota 1 - Base de cálculo - remuneração + ausências + 1/3 férias"]
[null,null,"B",{"$f":"'Encargos Sociais'!D37","v":"Incidência do FGTS sobre o Aviso Prévio Indenizado (Súmula 305 TST)"},{"$f":"'Encargos Sociais'!E37","v":2.9999999999999997E-4},0]
[null,null,"C",{"$f":"'Encargos Sociais'!D38","v":"Multa do FGTS sobre o Aviso Prévio Indenizado (Art. 18, §1º, da Lei 8.036/1990)"},{"$f":"'Encargos Sociais'!E38","v":0},0]
[null,null,"D",{"$f":"'Encargos Sociais'!D39","v":"Aviso Prévio Trabalhado (Art. 488, parágrafo único, CLT)"},{"$f":"'Encargos Sociais'!E39","v":9.7000000000000003E-3},0]
[null,null,"E",{"$f":"'Encargos Sociais'!D40","v":"Incidência de GPS, FGTS e outras contribuições sobre o Aviso Prévio Trabalhado"},{"$f":"'Encargos Sociais'!E40","v":3.3999999999999998E-3},0]
[null,null,"F",{"$f":"'Encargos Sociais'!D41","v":"Multa do FGTS"},{"$f":"'Encargos Sociais'!E41","v":3.2000000000000001E-2},0]
[]
[null,null,null,"TOTAL DE PREVISÃO PARA RESCISÃO",null,{"$f":"TRUNC(SUM(F55:F60),2)","v":0}]
[]
[null,"MÓDULO 4 - CUSTO DO PROFISSIONAL AUSENTE",null,null,"Percentuais","Valor"]
[null,"Submódulo 4.1 - Ausências Legais"]
[null,null,"A",{"$f":"'Encargos Sociais'!D25","v":"Férias (Arts. 129 e 130, inc. I, da CLT)"},{"$f":"'Encargos Sociais'!E25","v":9.0899999999999995E-2},{"$f":"TRUNC(E66*$F$17,2)","v":0},null,"* Nota 1 - O Módulo 4 refere-se às previsões para custear ausências do próprio profissional (titular do cargo)"]
[null,null,"B",{"$f":"'Encargos Sociais'!D26","v":"Ausências Legais (Arts. 131 e 473 da CLT)"},{"$f":"'Encargos Sociais'!E26","v":7.9000000000000008E-3},0,null,"* Nota 2 - As férias foram calculadas dividindo-se por 11, para comportar os 11 meses presentes e ainda o ausente do posto"]
[null,null,"C",{"$f":"'Encargos Sociais'!D27","v":"Licença-Paternidade (Art. 7º, XIX, e art. 10, §1º, do ADCT, CF/1988 e Art. 1º, II, da Lei 11.770/2008)"},{"$f":"'Encargos Sociais'!E27","v":8.0000000000000004E-4},0]
[null,null,"D",{"$f":"'Encargos Sociais'!D28","v":"Ausência por Acidente de Trabalho (Art. 131, III, da CLT)"},{"$f":"'Encargos Sociais'!E28","v":8.9999999999999998E-4},0]
[null,null,"E",{"$f":"'Encargos Sociais'!D29","v":"Afastamento Maternidade (Art. 71 da Lei nº 8.213/1991)"},{"$f":"'Encargos Sociais'!E29","v":3.3E-3},0]
[null,null,"F",{"$f":"'Encargos Sociais'!D30","v":"Auxílio Enfermidade - Doença (Art. 59 da Lei nº 8.213/1991)"},{"$f":"'Encargos Sociais'!E30","v":7.1000000000000004E-3},0]
[]
[null,"Submódulo 4.2 - Intrajornada"]
[null,null,"A","Intervalo para repouso ou alimentação",{"$f":"'Encargos Sociais'!E33","v":0},{"$f":"ROUND(E74*$F$17,2)","v":0}]
[]
[null,null,null,"QUADRO-RESUMO DO MÓDULO 4",null,"Valor"]
[null,null,null,"4.1 - Ausências Legais",{"$f":"SUM(E66:E71)","v":0.11089999999999998},{"$f":"SUM(F66:F71)","v":0}]
[null,null,null,"4.2 - Intrajornada",{"$f":"E74","v":0},{"$f":"ROUND(E78*$F$17,2)","v":0}]
[]
[null,null,null,"TOTAL DE CUSTO DO PROFFIONAL AUSENTE E INTERVALO INTRAJORNADA",null,{"$f":"TRUNC(SUM(F77:F78),2)","v":0}]
[]
[null,"MÓDULO 5 - INSUMOS DIVERSOS",null,null,null,"Valor"]
[null,null,"A","Uniformes - aquisição",null,{"$f":"TRUNC(HLOOKUP($B$5,Uniformes!$J$3:$DY$5,3,0)/12,2)","v":0}]
[null,null,"B","Materiais de consumo relacionados ao posto - aquisição",null,0]
[null,null,"C","Ferramentas relacionadas ao posto - remuneração da sua depreciação / manutenção",null,0]
[null,null,"D","Equipamentos relacionados ao posto - remuneração da sua depreciação / manutenção",null,0]
[null,null,"E","Equipamentos de Proteção Individual - EPI - aquisição",null,{"$f":"TRUNC(HLOOKUP($B$5,EPI!$J$3:$DX$5,3,0)/12,2)","v":0}]
[]
[null,null,null,"TOTAL DE INSUMOS DIVERSOS",null,{"$f":"SUM(F83:F88)","v":0},null,"* Nota - Valores mensais por empregado"]
[]
[null,"MÓDULO 6 - CUSTOS INDIRETOS, TRIBUTOS E LUCRO - BDI",null,null,"Percentuais","Valor"]
[null,null,"A","Custos Indiretos",{"$f":"'BDI - Geral'!E7","v":2.7000000000000003E-2}]
[null,null,"A.1","Administração Central",{"$f":"'BDI - Geral'!E8","v":2.1600000000000001E-2}]
[null,null,"A.2","Seguros, Garantias e Riscos",{"$f":"'BDI - Geral'!E9","v":5.4000000000000003E-3}]
[null,null,"B","Lucro",{"$f":"'BDI - Geral'!E11","v":3.3399999999999999E-2}]
[null,null,"C","Tributos",{"$f":"SUM(E97:E98)","v":0.124}]
[null,null,"C.1","Tributos Federais (COFINS, PIS e CPRB)",{"$f":"'BDI - Geral'!E19","v":7.3999999999999996E-2}]
[null,null,"C.2","Tributos Distritais (ISS)",{"$f":"'BDI - Geral'!E24","v":0.05}]
[null,null,"D","Despesas Financeiras",{"$f":"'BDI - Geral'!E14","v":6.1000000000000004E-3}]
[]
[null,null,null,"TOTAL DE BDI",{"$f":"'BDI - Geral'!E27","v":0.21890000000000001},{"$f":"TRUNC(E101*E109,2)","v":0}]
[]
[null,null,null,"QUADRO-RESUMO DO CUSTO MENSAL POR EMPREGADO - SEM O 13º","Valor"]
[null,null,null,"Módulo 1 - Composição da Remuneração",{"$f":"F17","v":0}]
[null,null,null,"Módulo 2 - Encargos e Benefícios Anuais, Mensais e Diários",{"$f":"F52","v":0}]
[null,null,null,"Módulo 3 - Provisão para Rescisão",{"$f":"F62","v":0}]
[null,null,null,"Módulo 4 - Custo de Reposição do Profissional Ausente",{"$f":"F80","v":0}]
[null,null,null,"Módulo 5 - Insumos Diversos",{"$f":"F89","v":0}]
[null,null,null,"SUBTOTAL (A+B+C+D+E)",{"$f":"SUM(E104:E108)","v":0}]
[null,null,null,"Módulo 6 - Custos Indiretos, Tributos e Lucro",{"$f":"F101","v":0}]
[]
[null,null,null,"TOTAL DO POSTO",{"$f":"SUM(E109:E110)","v":0}]
[]
[null,"MÓDULO 7 - DESTAQUE DO MÓDULO 2 - 13º SALÁRIO",null,null,"Percentuais","Valor"]
[null,null,"A","13º Salário",{"$f":"'[1]Encargos Sociais'!E32*12/11","v":9.9163636363636357E-2},{"$f":"ROUND(E115*F$17,2)","v":0},null,"* Nota 1 - Incluindo-se a reincidência das férias do substituto sobre o titular"]
[null,null,"B","Encargos Sociais sobre o 13º Salário (submódulo 2.2 e módulo 3)",{"$f":"SUM($E$25:$E$33)+SUM($E$55:$E$60)","v":0.39760000000000006},{"$f":"ROUND(E116*$F$115,2)","v":0},null,"* Nota 2 - 13º e reflexos calculados à parte a fim de aprovisionamento"]
[null,null,"C","BDI sobre o 13º Salário",{"$f":"E101","v":0.21890000000000001},{"$f":"ROUND(E117*($F$115+$F$116),2)","v":0}]
[]
[null,null,null,"TOTAL DO DESTAQUE DO 13º SALÁRIO",null,{"$f":"SUM(F115:F117)","v":0}]
[]
[null,null,null,"QUADRO-RESUMO DO CUSTO MENSAL POR EMPREGADO","Valor"]
[null,null,null,"Custo total - sem o 13º Salário",{"$f":"ROUND(E112,2)","v":0}]
[null,null,null,"Destaque do 13º Salário (valor mensal)",{"$f":"ROUND(F119,2)","v":0}]
[]
[null,null,null,"TOTAL DO POSTO",{"$f":"E122+E123","v":0}]

{"sheet":"13","index":15,"n_rows":125,"n_cols":8,"rows_kept":125,"cut":false,"hidden":true,"merged":[[113,1,113,3],[46,3,46,5],[53,1,53,3],[63,1,63,3],[75,3,75,5],[81,1,81,3],[90,1,90,3],[18,1,18,3],[1,1,1,5],[2,1,2,5],[4,1,4,2],[5,1,5,2],[7,1,7,3]]}
[]
[null,"PLANILHA DE ESTIMATIVA DE CUSTOS"]
[null,"Padrão IN 05/2017 e IN 07/2018 - MPDG - Medição por posto presente"]
[]
[null,13,null,{"$f":"HLOOKUP($B$5,'Dados Gerais'!$D$6:$BI$22,6)","v":0},"QUANTIDADE",{"$f":"HLOOKUP($B$5,'Dados Gerais'!$D$6:$BI$22,10)","v":0}]
[null,"CCT",null,{"$f":"HLOOKUP($B$5,'Dados Gerais'!$D$6:$BI$22,16)","v":0},"DATA-BASE",{"$f":"HLOOKUP($B$5,'Dados Gerais'!$D$6:$BI$22,17)","v":"00:00:00"}]
[]
[null,"MÓDULO 1 - COMPOSIÇÃO DA REMUNERAÇÃO",null,null,null,"Valor"]
[null,null,"A","Salário-Base",null,{"$f":"HLOOKUP($B$5,'Dados Gerais'!$D$6:$BI$22,8)","v":0}]
[null,null,"B","Adicional de Periculosidade",null,{"$f":"HLOOKUP($B$5,'Dados Gerais'!$D$6:$BI$41,26)","v":0}]
[null,null,"C","Adicional de Insalubridade",null,{"$f":"HLOOKUP($B$5,'Dados Gerais'!$D$6:$BI$41,32)","v":0}]
[null,null,"D","Adicional Noturno",null,{"$f":"HLOOKUP($B$5,'Dados Gerais'!$D$6:$BI$54,49)","v":0},null,"* Nota 1 - O Módulo 1 refere-se ao valor mensal devido ao empregado pela prestação do serviço no período de 12 meses."]
[null,null,"E","Adicional de Hora Extra",null,{"$f":"HLOOKUP($B$5,'Dados Gerais'!$D$6:$BI$71,66)","v":0},null,"* Nota 2 - O adicional de hora extra no feriado trabalhado foi suprimido pela Lei 13.467/17"]
[null,null,"F","Gratificação",null,{"$f":"HLOOKUP($B$5,'Dados Gerais'!$D$6:$BI$71,34)","v":0},null,"* Nota 3 - ART. 7º, § 2º, DA LEI Nº 605/49.Sendo mensalista o obreiro, o adicional noturno pago de forma fixa já é considerado integrado para os efeitos do pagamento do repouso semanal remunerado, nos termos do art. 7º, § 2º, da Lei nº 605/49."]
[null,null,"G","Sobraviso",null,{"$f":"HLOOKUP($B$5,'Dados Gerais'!$D$6:$BI$71,36)","v":0},null,"* Nota 3 - ART. 7º, § 2º, DA LEI Nº 605/49.Sendo mensalista o obreiro, o adicional noturno pago de forma fixa já é considerado integrado para os efeitos do pagamento do repouso semanal remunerado, nos termos do art. 7º, § 2º, da Lei nº 605/49."]
[]
[null,null,null,"TOTAL DA REMUNERAÇÃO",null,{"$f":"TRUNC(SUM(F9:F15),2)","v":0}]
[]
[null,"MÓDULO 2 - ENCARGOS E BENEFÍCIOS ANUAIS, MENSAIS E DIÁRIOS",null,null,"Percentuais","Valor"]
[null,"Submódulo 2.1 - 13º Salário, Férias e Adicional de Férias"]
[null,null,"A","13º Salário - Calculado no Módulo 7 - Destacado",0,{"$f":"TRUNC(E21*F$17,2)","v":0}]
[null,null,"B","Adicional de Férias",{"$f":"'Encargos Sociais'!E31","v":3.0300000000000001E-2},{"$f":"TRUNC(E22*(F$17),2)","v":0},null,"* Nota 1 - O adicional de férias foi calculado dividindo-se por 11, para comportar os 11 meses presentes e ainda o ausente do posto"]
[]
[null,"Submódulo 2.2 - Encargos Previdenciários (GPS), Fundo de Garantia por Tempo de Serviço (FGTS) e Outras Contribuições"]
[null,null,"A",{"$f":"'Encargos Sociais'!D14","v":"INSS (art. 22, inciso I, Lei nº 8.212/91)"},{"$f":"'Encargos Sociais'!E14","v":0.2},{"$f":"TRUNC(E25*($F$17+$F$80+$F$22-F69),2)","v":0},null,"* Nota 1 - Os percentuais dos encargos previdenciários, do FGTS e demais contribuições são estabelecidos por legislação vigente."]
[null,null,"B",{"$f":"'Encargos Sociais'!D15","v":"Salário Educação (art. 3º, inciso I, Decreto nº 87.043/82)"},{"$f":"'Encargos Sociais'!E15","v":2.5000000000000001E-2},{"$f":"TRUNC(E26*($F$17+$F$80+$F$22),2)","v":0},null,"* Nota 2 - O SAT, a depender do grau de risco do serviço, irá variar entre 1%, para risco leve, de 2%, para risco médio, e de 3% para risco grave."]
[null,null,"C",{"$f":"'Encargos Sociais'!D16","v":"SAT/RAT (art. 22, II, Lei 8.212/91 e Anexo V, Decreto 6.042/07) - Enquadramento 8211-3/00"},{"$f":"'Encargos Sociais'!E16","v":0.01},0,null,"* Nota 3 - Base de cálculo - remuneração + ausências + terço constitucional (férias) - exceto INSS sobre ausência por acidente de trabalho"]
[null,null,"D",{"$f":"'Encargos Sociais'!D17","v":"SESC ou SESI (art. 30, Lei nº 8.036/90 e art. 1º, Lei 8.154/90)"},{"$f":"'Encargos Sociais'!E17","v":1.4999999999999999E-2},0]
[null,null,"E",{"$f":"'Encargos Sociais'!D18","v":"SENAI ou SENAC (Decreto nº 2.318/86)"},{"$f":"'Encargos Sociais'!E18","v":0.01},0]
[null,null,"F",{"$f":"'Encargos Sociais'!D19","v":"SEBRAE (§ 3º, art. 8º, Lei 8.029/90, alterada pela Lei nº 8.154/90)"},{"$f":"'Encargos Sociais'!E19","v":6.0000000000000001E-3},0]
[null,null,"G",{"$f":"'Encargos Sociais'!D20","v":"INCRA (art. 1º, I, Decreto Lei 1.146/70 e Lei 7.787, de 30/06/89)"},{"$f":"'Encargos Sociais'!E20","v":2E-3},0]
[null,null,"H",{"$f":"'Encargos Sociais'!D21","v":"FGTS (Lei Complementar nº 110/01 e art. 30, Lei nº 8.036/90)"},{"$f":"'Encargos Sociais'!E21","v":0.08},0]
[null,null,"I",{"$f":"'Encargos Sociais'!D22","v":"SECONCI (Convenções Coletivas de Trabalho da construção)"},{"$f":"'Encargos Sociais'!E22","v":0},0]
[]
[null,"Submódulo 2.3 - Benefícios Mensais e Diários"]
[null,null,"A","Auxílio Transporte",null,{"$f":"HLOOKUP($B$5,'Dados Gerais'!$D$6:$BI$101,85)","v":0},null,"* Nota 1 - O valor informado deverá ser o custo real do benefício (descontado o valor eventualmente pago pelo empregado)."]
[null,null,"B","Auxílio Alimentação",null,{"$f":"HLOOKUP($B$5,'Dados Gerais'!$D$6:$BI$101,92)","v":0},null,"* Nota 2 - Observar a previsão dos benefícios contidos em Acordos, Convenções e Dissídios Coletivos de Trabalho e o disposto no art. 6º da IN 5/2017"]
[null,null,"C","Assistência Médica e Familiar",null,{"$f":"HLOOKUP($B$5,'Dados Gerais'!$D$6:$BI$109,100)","v":0}]
[null,null,"D","Seguro de vida / auxílio funeral",null,{"$f":"HLOOKUP($B$5,'Dados Gerais'!$D$6:$BI$145,109)","v":0}]
[null,null,"E","Assistência odontológica",null,{"$f":"HLOOKUP($B$5,'Dados Gerais'!$D$6:$BI$145,115)","v":0}]
[null,null,"F","Auxílio creche",null,{"$f":"HLOOKUP($B$5,'Dados Gerais'!$D$6:$BI$145,121)","v":0}]
[null,null,"G","Auxílio vestuário especial",null,{"$f":"HLOOKUP($B$5,'Dados Gerais'!$D$6:$BI$145,127)","v":0}]
[null,null,"H","Benefício social familiar",null,{"$f":"HLOOKUP($B$5,'Dados Gerais'!$D$6:$BI$145,133)","v":0}]
[null,null,"I","Outros (especificar)",null,{"$f":"HLOOKUP($B$5,'Dados Gerais'!$D$6:$BI$145,115)","v":0}]
[null,null,"J","Outros (especificar)",null,{"$f":"HLOOKUP($B$5,'Dados Gerais'!$D$6:$BI$145,115)","v":0}]
[]
[null,null,null,"QUADRO-RESUMO DO MÓDULO 2"]
[null,null,null,"2.1 - Adicional de Férias",{"$f":"SUM(E21:E22)","v":3.0300000000000001E-2},{"$f":"F21+F22","v":0}]
[null,null,null,"2.2 - Encargos Previdenciários (GPS), Fundo de Garantia por Tempo de Serviço (FGTS) e Contribuições",{"$f":"SUM(E25:E33)","v":0.34800000000000003},{"$f":"SUM(F25:F33)","v":0}]
[null,null,null,"2.3 - Benefícios Mensais e Diários",null,{"$f":"SUM(F36:F45)","v":0}]
[]
[null,null,null,"TOTAL DOS ENCARGOS E BENEFÍCIOS",null,{"$f":"TRUNC(SUM(F48:F50),2)","v":0}]
[]
[null,"MÓDULO 3 - PREVISÃO PARA RESCISÃO",null,null,"Percentuais","Valor"]
[null,null,"A",{"$f":"'Encargos Sociais'!D36","v":"Aviso Prévio Indenizado (Art. 7º, inciso XXI, da CF/1988 e arts. 477, 487, §1º, e 491 da CLT)"},{"$f":"'Encargos Sociais'!E36","v":4.1999999999999997E-3},{"$f":"TRUNC(E55*($F$17+$F$48+$F$80),2)","v":0},null,"* Nota 1 - Base de cálculo - remuneração + ausências + 1/3 férias"]
[null,null,"B",{"$f":"'Encargos Sociais'!D37","v":"Incidência do FGTS sobre o Aviso Prévio Indenizado (Súmula 305 TST)"},{"$f":"'Encargos Sociais'!E37","v":2.9999999999999997E-4},0]
[null,null,"C",{"$f":"'Encargos Sociais'!D38","v":"Multa do FGTS sobre o Aviso Prévio Indenizado (Art. 18, §1º, da Lei 8.036/1990)"},{"$f":"'Encargos Sociais'!E38","v":0},0]
[null,null,"D",{"$f":"'Encargos Sociais'!D39","v":"Aviso Prévio Trabalhado (Art. 488, parágrafo único, CLT)"},{"$f":"'Encargos Sociais'!E39","v":9.7000000000000003E-3},0]
[null,null,"E",{"$f":"'Encargos Sociais'!D40","v":"Incidência de GPS, FGTS e outras contribuições sobre o Aviso Prévio Trabalhado"},{"$f":"'Encargos Sociais'!E40","v":3.3999999999999998E-3},0]
[null,null,"F",{"$f":"'Encargos Sociais'!D41","v":"Multa do FGTS"},{"$f":"'Encargos Sociais'!E41","v":3.2000000000000001E-2},0]
[]
[null,null,null,"TOTAL DE PREVISÃO PARA RESCISÃO",null,{"$f":"TRUNC(SUM(F55:F60),2)","v":0}]
[]
[null,"MÓDULO 4 - CUSTO DO PROFISSIONAL AUSENTE",null,null,"Percentuais","Valor"]
[null,"Submódulo 4.1 - Ausências Legais"]
[null,null,"A",{"$f":"'Encargos Sociais'!D25","v":"Férias (Arts. 129 e 130, inc. I, da CLT)"},{"$f":"'Encargos Sociais'!E25","v":9.0899999999999995E-2},{"$f":"TRUNC(E66*$F$17,2)","v":0},null,"* Nota 1 - O Módulo 4 refere-se às previsões para custear ausências do próprio profissional (titular do cargo)"]
[null,null,"B",{"$f":"'Encargos Sociais'!D26","v":"Ausências Legais (Arts. 131 e 473 da CLT)"},{"$f":"'Encargos Sociais'!E26","v":7.9000000000000008E-3},0,null,"* Nota 2 - As férias foram calculadas dividindo-se por 11, para comportar os 11 meses presentes e ainda o ausente do posto"]
[null,null,"C",{"$f":"'Encargos Sociais'!D27","v":"Licença-Paternidade (Art. 7º, XIX, e art. 10, §1º, do ADCT, CF/1988 e Art. 1º, II, da Lei 11.770/2008)"},{"$f":"'Encargos Sociais'!E27","v":8.0000000000000004E-4},0]
[null,null,"D",{"$f":"'Encargos Sociais'!D28","v":"Ausência por Acidente de Trabalho (Art. 131, III, da CLT)"},{"$f":"'Encargos Sociais'!E28","v":8.9999999999999998E-4},0]
[null,null,"E",{"$f":"'Encargos Sociais'!D29","v":"Afastamento Maternidade (Art. 71 da Lei nº 8.213/1991)"},{"$f":"'Encargos Sociais'!E29","v":3.3E-3},0]
[null,null,"F",{"$f":"'Encargos Sociais'!D30","v":"Auxílio Enfermidade - Doença (Art. 59 da Lei nº 8.213/1991)"},{"$f":"'Encargos Sociais'!E30","v":7.1000000000000004E-3},0]
[]
[null,"Submódulo 4.2 - Intrajornada"]
[null,null,"A","Intervalo para repouso ou alimentação",{"$f":"'Encargos Sociais'!E33","v":0},{"$f":"ROUND(E74*$F$17,2)","v":0}]
[]
[null,null,null,"QUADRO-RESUMO DO MÓDULO 4",null,"Valor"]
[null,null,null,"4.1 - Ausências Legais",{"$f":"SUM(E66:E71)","v":0.11089999999999998},{"$f":"SUM(F66:F71)","v":0}]
[null,null,null,"4.2 - Intrajornada",{"$f":"E74","v":0},{"$f":"ROUND(E78*$F$17,2)","v":0}]
[]
[null,null,null,"TOTAL DE CUSTO DO PROFFIONAL AUSENTE E INTERVALO INTRAJORNADA",null,{"$f":"TRUNC(SUM(F77:F78),2)","v":0}]
[]
[null,"MÓDULO 5 - INSUMOS DIVERSOS",null,null,null,"Valor"]
[null,null,"A","Uniformes - aquisição",null,{"$f":"TRUNC(HLOOKUP($B$5,Uniformes!$J$3:$DY$5,3,0)/12,2)","v":0}]
[null,null,"B","Materiais de consumo relacionados ao posto - aquisição",null,0]
[null,null,"C","Ferramentas relacionadas ao posto - remuneração da sua depreciação / manutenção",null,0]
[null,null,"D","Equipamentos relacionados ao posto - remuneração da sua depreciação / manutenção",null,0]
[null,null,"E","Equipamentos de Proteção Individual - EPI - aquisição",null,{"$f":"TRUNC(HLOOKUP($B$5,EPI!$J$3:$DX$5,3,0)/12,2)","v":0}]
[]
[null,null,null,"TOTAL DE INSUMOS DIVERSOS",null,{"$f":"SUM(F83:F88)","v":0},null,"* Nota - Valores mensais por empregado"]
[]
[null,"MÓDULO 6 - CUSTOS INDIRETOS, TRIBUTOS E LUCRO - BDI",null,null,"Percentuais","Valor"]
[null,null,"A","Custos Indiretos",{"$f":"'BDI - Geral'!E7","v":2.7000000000000003E-2}]
[null,null,"A.1","Administração Central",{"$f":"'BDI - Geral'!E8","v":2.1600000000000001E-2}]
[null,null,"A.2","Seguros, Garantias e Riscos",{"$f":"'BDI - Geral'!E9","v":5.4000000000000003E-3}]
[null,null,"B","Lucro",{"$f":"'BDI - Geral'!E11","v":3.3399999999999999E-2}]
[null,null,"C","Tributos",{"$f":"SUM(E97:E98)","v":0.124}]
[null,null,"C.1","Tributos Federais (COFINS, PIS e CPRB)",{"$f":"'BDI - Geral'!E19","v":7.3999999999999996E-2}]
[null,null,"C.2","Tributos Distritais (ISS)",{"$f":"'BDI - Geral'!E24","v":0.05}]
[null,null,"D","Despesas Financeiras",{"$f":"'BDI - Geral'!E14","v":6.1000000000000004E-3}]
[]
[null,null,null,"TOTAL DE BDI",{"$f":"'BDI - Geral'!E27","v":0.21890000000000001},{"$f":"TRUNC(E101*E109,2)","v":0}]
[]
[null,null,null,"QUADRO-RESUMO DO CUSTO MENSAL POR EMPREGADO - SEM O 13º","Valor"]
[null,null,null,"Módulo 1 - Composição da Remuneração",{"$f":"F17","v":0}]
[null,null,null,"Módulo 2 - Encargos e Benefícios Anuais, Mensais e Diários",{"$f":"F52","v":0}]
[null,null,null,"Módulo 3 - Provisão para Rescisão",{"$f":"F62","v":0}]
[null,null,null,"Módulo 4 - Custo de Reposição do Profissional Ausente",{"$f":"F80","v":0}]
[null,null,null,"Módulo 5 - Insumos Diversos",{"$f":"F89","v":0}]
[null,null,null,"SUBTOTAL (A+B+C+D+E)",{"$f":"SUM(E104:E108)","v":0}]
[null,null,null,"Módulo 6 - Custos Indiretos, Tributos e Lucro",{"$f":"F101","v":0}]
[]
[null,null,null,"TOTAL DO POSTO",{"$f":"SUM(E109:E110)","v":0}]
[]
[null,"MÓDULO 7 - DESTAQUE DO MÓDULO 2 - 13º SALÁRIO",null,null,"Percentuais","Valor"]
[null,null,"A","13º Salário",{"$f":"'[1]Encargos Sociais'!E32*12/11","v":9.9163636363636357E-2},{"$f":"ROUND(E115*F$17,2)","v":0},null,"* Nota 1 - Incluindo-se a reincidência das férias do substituto sobre o titular"]
[null,null,"B","Encargos Sociais sobre o 13º Salário (submódulo 2.2 e módulo 3)",{"$f":"SUM($E$25:$E$33)+SUM($E$55:$E$60)","v":0.39760000000000006},{"$f":"ROUND(E116*$F$115,2)","v":0},null,"* Nota 2 - 13º e reflexos calculados à parte a fim de aprovisionamento"]
[null,null,"C","BDI sobre o 13º Salário",{"$f":"E101","v":0.21890000000000001},{"$f":"ROUND(E117*($F$115+$F$116),2)","v":0}]
[]
[null,null,null,"TOTAL DO DESTAQUE DO 13º SALÁRIO",null,{"$f":"SUM(F115:F117)","v":0}]
[]
[null,null,null,"QUADRO-RESUMO DO CUSTO MENSAL POR EMPREGADO","Valor"]
[null,null,null,"Custo total - sem o 13º Salário",{"$f":"ROUND(E112,2)","v":0}]
[null,null,null,"Destaque do 13º Salário (valor mensal)",{"$f":"ROUND(F119,2)","v":0}]
[]
[null,null,null,"TOTAL DO POSTO",{"$f":"E122+E123","v":0}]

{"sheet":"14","index":16,"n_rows":125,"n_cols":8,"rows_kept":125,"cut":false,"hidden":true,"merged":[[113,1,113,3],[46,3,46,5],[53,1,53,3],[63,1,63,3],[75,3,75,5],[81,1,81,3],[90,1,90,3],[18,1,18,3],[1,1,1,5],[2,1,2,5],[4,1,4,2],[5,1,5,2],[7,1,7,3]]}
[]
[null,"PLANILHA DE ESTIMATIVA DE CUSTOS"]
[null,"Padrão IN 05/2017 e IN 07/2018 - MPDG - Medição por posto presente"]
[]
[null,14,null,{"$f":"HLOOKUP($B$5,'Dados Gerais'!$D$6:$BI$22,6)","v":0},"QUANTIDADE",{"$f":"HLOOKUP($B$5,'Dados Gerais'!$D$6:$BI$22,10)","v":0}]
[null,"CCT",null,{"$f":"HLOOKUP($B$5,'Dados Gerais'!$D$6:$BI$22,16)","v":0},"DATA-BASE",{"$f":"HLOOKUP($B$5,'Dados Gerais'!$D$6:$BI$22,17)","v":"00:00:00"}]
[]
[null,"MÓDULO 1 - COMPOSIÇÃO DA REMUNERAÇÃO",null,null,null,"Valor"]
[null,null,"A","Salário-Base",null,{"$f":"HLOOKUP($B$5,'Dados Gerais'!$D$6:$BI$22,8)","v":0}]
[null,null,"B","Adicional de Periculosidade",null,{"$f":"HLOOKUP($B$5,'Dados Gerais'!$D$6:$BI$41,26)","v":0}]
[null,null,"C","Adicional de Insalubridade",null,{"$f":"HLOOKUP($B$5,'Dados Gerais'!$D$6:$BI$41,32)","v":0}]
[null,null,"D","Adicional Noturno",null,{"$f":"HLOOKUP($B$5,'Dados Gerais'!$D$6:$BI$54,49)","v":0},null,"* Nota 1 - O Módulo 1 refere-se ao valor mensal devido ao empregado pela prestação do serviço no período de 12 meses."]
[null,null,"E","Adicional de Hora Extra",null,{"$f":"HLOOKUP($B$5,'Dados Gerais'!$D$6:$BI$71,66)","v":0},null,"* Nota 2 - O adicional de hora extra no feriado trabalhado foi suprimido pela Lei 13.467/17"]
[null,null,"F","Gratificação",null,{"$f":"HLOOKUP($B$5,'Dados Gerais'!$D$6:$BI$71,34)","v":0},null,"* Nota 3 - ART. 7º, § 2º, DA LEI Nº 605/49.Sendo mensalista o obreiro, o adicional noturno pago de forma fixa já é considerado integrado para os efeitos do pagamento do repouso semanal remunerado, nos termos do art. 7º, § 2º, da Lei nº 605/49."]
[null,null,"G","Sobraviso",null,{"$f":"HLOOKUP($B$5,'Dados Gerais'!$D$6:$BI$71,36)","v":0},null,"* Nota 3 - ART. 7º, § 2º, DA LEI Nº 605/49.Sendo mensalista o obreiro, o adicional noturno pago de forma fixa já é considerado integrado para os efeitos do pagamento do repouso semanal remunerado, nos termos do art. 7º, § 2º, da Lei nº 605/49."]
[]
[null,null,null,"TOTAL DA REMUNERAÇÃO",null,{"$f":"TRUNC(SUM(F9:F15),2)","v":0}]
[]
[null,"MÓDULO 2 - ENCARGOS E BENEFÍCIOS ANUAIS, MENSAIS E DIÁRIOS",null,null,"Percentuais","Valor"]
[null,"Submódulo 2.1 - 13º Salário, Férias e Adicional de Férias"]
[null,null,"A","13º Salário - Calculado no Módulo 7 - Destacado",0,{"$f":"TRUNC(E21*F$17,2)","v":0}]
[null,null,"B","Adicional de Férias",{"$f":"'Encargos Sociais'!E31","v":3.0300000000000001E-2},{"$f":"TRUNC(E22*(F$17),2)","v":0},null,"* Nota 1 - O adicional de férias foi calculado dividindo-se por 11, para comportar os 11 meses presentes e ainda o ausente do posto"]
[]
[null,"Submódulo 2.2 - Encargos Previdenciários (GPS), Fundo de Garantia por Tempo de Serviço (FGTS) e Outras Contribuições"]
[null,null,"A",{"$f":"'Encargos Sociais'!D14","v":"INSS (art. 22, inciso I, Lei nº 8.212/91)"},{"$f":"'Encargos Sociais'!E14","v":0.2},{"$f":"TRUNC(E25*($F$17+$F$80+$F$22-F69),2)","v":0},null,"* Nota 1 - Os percentuais dos encargos previdenciários, do FGTS e demais contribuições são estabelecidos por legislação vigente."]
[null,null,"B",{"$f":"'Encargos Sociais'!D15","v":"Salário Educação (art. 3º, inciso I, Decreto nº 87.043/82)"},{"$f":"'Encargos Sociais'!E15","v":2.5000000000000001E-2},{"$f":"TRUNC(E26*($F$17+$F$80+$F$22),2)","v":0},null,"* Nota 2 - O SAT, a depender do grau de risco do serviço, irá variar entre 1%, para risco leve, de 2%, para risco médio, e de 3% para risco grave."]
[null,null,"C",{"$f":"'Encargos Sociais'!D16","v":"SAT/RAT (art. 22, II, Lei 8.212/91 e Anexo V, Decreto 6.042/07) - Enquadramento 8211-3/00"},{"$f":"'Encargos Sociais'!E16","v":0.01},0,null,"* Nota 3 - Base de cálculo - remuneração + ausências + terço constitucional (férias) - exceto INSS sobre ausência por acidente de trabalho"]
[null,null,"D",{"$f":"'Encargos Sociais'!D17","v":"SESC ou SESI (art. 30, Lei nº 8.036/90 e art. 1º, Lei 8.154/90)"},{"$f":"'Encargos Sociais'!E17","v":1.4999999999999999E-2},0]
[null,null,"E",{"$f":"'Encargos Sociais'!D18","v":"SENAI ou SENAC (Decreto nº 2.318/86)"},{"$f":"'Encargos Sociais'!E18","v":0.01},0]
[null,null,"F",{"$f":"'Encargos Sociais'!D19","v":"SEBRAE (§ 3º, art. 8º, Lei 8.029/90, alterada pela Lei nº 8.154/90)"},{"$f":"'Encargos Sociais'!E19","v":6.0000000000000001E-3},0]
[null,null,"G",{"$f":"'Encargos Sociais'!D20","v":"INCRA (art. 1º, I, Decreto Lei 1.146/70 e Lei 7.787, de 30/06/89)"},{"$f":"'Encargos Sociais'!E20","v":2E-3},0]
[null,null,"H",{"$f":"'Encargos Sociais'!D21","v":"FGTS (Lei Complementar nº 110/01 e art. 30, Lei nº 8.036/90)"},{"$f":"'Encargos Sociais'!E21","v":0.08},0]
[null,null,"I",{"$f":"'Encargos Sociais'!D22","v":"SECONCI (Convenções Coletivas de Trabalho da construção)"},{"$f":"'Encargos Sociais'!E22","v":0},0]
[]
[null,"Submódulo 2.3 - Benefícios Mensais e Diários"]
[null,null,"A","Auxílio Transporte",null,{"$f":"HLOOKUP($B$5,'Dados Gerais'!$D$6:$BI$101,85)","v":0},null,"* Nota 1 - O valor informado deverá ser o custo real do benefício (descontado o valor eventualmente pago pelo empregado)."]
[null,null,"B","Auxílio Alimentação",null,{"$f":"HLOOKUP($B$5,'Dados Gerais'!$D$6:$BI$101,92)","v":0},null,"* Nota 2 - Observar a previsão dos benefícios contidos em Acordos, Convenções e Dissídios Coletivos de Trabalho e o disposto no art. 6º da IN 5/2017"]
[null,null,"C","Assistência Médica e Familiar",null,{"$f":"HLOOKUP($B$5,'Dados Gerais'!$D$6:$BI$109,100)","v":0}]
[null,null,"D","Seguro de vida / auxílio funeral",null,{"$f":"HLOOKUP($B$5,'Dados Gerais'!$D$6:$BI$145,109)","v":0}]
[null,null,"E","Assistência odontológica",null,{"$f":"HLOOKUP($B$5,'Dados Gerais'!$D$6:$BI$145,115)","v":0}]
[null,null,"F","Auxílio creche",null,{"$f":"HLOOKUP($B$5,'Dados Gerais'!$D$6:$BI$145,121)","v":0}]
[null,null,"G","Auxílio vestuário especial",null,{"$f":"HLOOKUP($B$5,'Dados Gerais'!$D$6:$BI$145,127)","v":0}]
[null,null,"H","Benefício social familiar",null,{"$f":"HLOOKUP($B$5,'Dados Gerais'!$D$6:$BI$145,133)","v":0}]
[null,null,"I","Outros (especificar)",null,{"$f":"HLOOKUP($B$5,'Dados Gerais'!$D$6:$BI$145,115)","v":0}]
[null,null,"J","Outros (especificar)",null,{"$f":"HLOOKUP($B$5,'Dados Gerais'!$D$6:$BI$145,115)","v":0}]
[]
[null,null,null,"QUADRO-RESUMO DO MÓDULO 2"]
[null,null,null,"2.1 - Adicional de Férias",{"$f":"SUM(E21:E22)","v":3.0300000000000001E-2},{"$f":"F21+F22","v":0}]
[null,null,null,"2.2 - Encargos Previdenciários (GPS), Fundo de Garantia por Tempo de Serviço (FGTS) e Contribuições",{"$f":"SUM(E25:E33)","v":0.34800000000000003},{"$f":"SUM(F25:F33)","v":0}]
[null,null,null,"2.3 - Benefícios Mensais e Diários",null,{"$f":"SUM(F36:F45)","v":0}]
[]
[null,null,null,"TOTAL DOS ENCARGOS E BENEFÍCIOS",null,{"$f":"TRUNC(SUM(F48:F50),2)","v":0}]
[]
[null,"MÓDULO 3 - PREVISÃO PARA RESCISÃO",null,null,"Percentuais","Valor"]
[null,null,"A",{"$f":"'Encargos Sociais'!D36","v":"Aviso Prévio Indenizado (Art. 7º, inciso XXI, da CF/1988 e arts. 477, 487, §1º, e 491 da CLT)"},{"$f":"'Encargos Sociais'!E36","v":4.1999999999999997E-3},{"$f":"TRUNC(E55*($F$17+$F$48+$F$80),2)","v":0},null,"* Nota 1 - Base de cálculo - remuneração + ausências + 1/3 férias"]
[null,null,"B",{"$f":"'Encargos Sociais'!D37","v":"Incidência do FGTS sobre o Aviso Prévio Indenizado (Súmula 305 TST)"},{"$f":"'Encargos Sociais'!E37","v":2.9999999999999997E-4},0]
[null,null,"C",{"$f":"'Encargos Sociais'!D38","v":"Multa do FGTS sobre o Aviso Prévio Indenizado (Art. 18, §1º, da Lei 8.036/1990)"},{"$f":"'Encargos Sociais'!E38","v":0},0]
[null,null,"D",{"$f":"'Encargos Sociais'!D39","v":"Aviso Prévio Trabalhado (Art. 488, parágrafo único, CLT)"},{"$f":"'Encargos Sociais'!E39","v":9.7000000000000003E-3},0]
[null,null,"E",{"$f":"'Encargos Sociais'!D40","v":"Incidência de GPS, FGTS e outras contribuições sobre o Aviso Prévio Trabalhado"},{"$f":"'Encargos Sociais'!E40","v":3.3999999999999998E-3},0]
[null,null,"F",{"$f":"'Encargos Sociais'!D41","v":"Multa do FGTS"},{"$f":"'Encargos Sociais'!E41","v":3.2000000000000001E-2},0]
[]
[null,null,null,"TOTAL DE PREVISÃO PARA RESCISÃO",null,{"$f":"TRUNC(SUM(F55:F60),2)","v":0}]
[]
[null,"MÓDULO 4 - CUSTO DO PROFISSIONAL AUSENTE",null,null,"Percentuais","Valor"]
[null,"Submódulo 4.1 - Ausências Legais"]
[null,null,"A",{"$f":"'Encargos Sociais'!D25","v":"Férias (Arts. 129 e 130, inc. I, da CLT)"},{"$f":"'Encargos Sociais'!E25","v":9.0899999999999995E-2},{"$f":"TRUNC(E66*$F$17,2)","v":0},null,"* Nota 1 - O Módulo 4 refere-se às previsões para custear ausências do próprio profissional (titular do cargo)"]
[null,null,"B",{"$f":"'Encargos Sociais'!D26","v":"Ausências Legais (Arts. 131 e 473 da CLT)"},{"$f":"'Encargos Sociais'!E26","v":7.9000000000000008E-3},0,null,"* Nota 2 - As férias foram calculadas dividindo-se por 11, para comportar os 11 meses presentes e ainda o ausente do posto"]
[null,null,"C",{"$f":"'Encargos Sociais'!D27","v":"Licença-Paternidade (Art. 7º, XIX, e art. 10, §1º, do ADCT, CF/1988 e Art. 1º, II, da Lei 11.770/2008)"},{"$f":"'Encargos Sociais'!E27","v":8.0000000000000004E-4},0]
[null,null,"D",{"$f":"'Encargos Sociais'!D28","v":"Ausência por Acidente de Trabalho (Art. 131, III, da CLT)"},{"$f":"'Encargos Sociais'!E28","v":8.9999999999999998E-4},0]
[null,null,"E",{"$f":"'Encargos Sociais'!D29","v":"Afastamento Maternidade (Art. 71 da Lei nº 8.213/1991)"},{"$f":"'Encargos Sociais'!E29","v":3.3E-3},0]
[null,null,"F",{"$f":"'Encargos Sociais'!D30","v":"Auxílio Enfermidade - Doença (Art. 59 da Lei nº 8.213/1991)"},{"$f":"'Encargos Sociais'!E30","v":7.1000000000000004E-3},0]
[]
[null,"Submódulo 4.2 - Intrajornada"]
[null,null,"A","Intervalo para repouso ou alimentação",{"$f":"'Encargos Sociais'!E33","v":0},{"$f":"ROUND(E74*$F$17,2)","v":0}]
[]
[null,null,null,"QUADRO-RESUMO DO MÓDULO 4",null,"Valor"]
[null,null,null,"4.1 - Ausências Legais",{"$f":"SUM(E66:E71)","v":0.11089999999999998},{"$f":"SUM(F66:F71)","v":0}]
[null,null,null,"4.2 - Intrajornada",{"$f":"E74","v":0},{"$f":"ROUND(E78*$F$17,2)","v":0}]
[]
[null,null,null,"TOTAL DE CUSTO DO PROFFIONAL AUSENTE E INTERVALO INTRAJORNADA",null,{"$f":"TRUNC(SUM(F77:F78),2)","v":0}]
[]
[null,"MÓDULO 5 - INSUMOS DIVERSOS",null,null,null,"Valor"]
[null,null,"A","Uniformes - aquisição",null,{"$f":"TRUNC(HLOOKUP($B$5,Uniformes!$J$3:$DY$5,3,0)/12,2)","v":0}]
[null,null,"B","Materiais de consumo relacionados ao posto - aquisição",null,0]
[null,null,"C","Ferramentas relacionadas ao posto - remuneração da sua depreciação / manutenção",null,0]
[null,null,"D","Equipamentos relacionados ao posto - remuneração da sua depreciação / manutenção",null,0]
[null,null,"E","Equipamentos de Proteção Individual - EPI - aquisição",null,{"$f":"TRUNC(HLOOKUP($B$5,EPI!$J$3:$DX$5,3,0)/12,2)","v":0}]
[]
[null,null,null,"TOTAL DE INSUMOS DIVERSOS",null,{"$f":"SUM(F83:F88)","v":0},null,"* Nota - Valores mensais por empregado"]
[]
[null,"MÓDULO 6 - CUSTOS INDIRETOS, TRIBUTOS E LUCRO - BDI",null,null,"Percentuais","Valor"]
[null,null,"A","Custos Indiretos",{"$f":"'BDI - Geral'!E7","v":2.7000000000000003E-2}]
[null,null,"A.1","Administração Central",{"$f":"'BDI - Geral'!E8","v":2.1600000000000001E-2}]
[null,null,"A.2","Seguros, Garantias e Riscos",{"$f":"'BDI - Geral'!E9","v":5.4000000000000003E-3}]
[null,null,"B","Lucro",{"$f":"'BDI - Geral'!E11","v":3.3399999999999999E-2}]
[null,null,"C","Tributos",{"$f":"SUM(E97:E98)","v":0.124}]
[null,null,"C.1","Tributos Federais (COFINS, PIS e CPRB)",{"$f":"'BDI - Geral'!E19","v":7.3999999999999996E-2}]
[null,null,"C.2","Tributos Distritais (ISS)",{"$f":"'BDI - Geral'!E24","v":0.05}]
[null,null,"D","Despesas Financeiras",{"$f":"'BDI - Geral'!E14","v":6.1000000000000004E-3}]
[]
[null,null,null,"TOTAL DE BDI",{"$f":"'BDI - Geral'!E27","v":0.21890000000000001},{"$f":"TRUNC(E101*E109,2)","v":0}]
[]
[null,null,null,"QUADRO-RESUMO DO CUSTO MENSAL POR EMPREGADO - SEM O 13º","Valor"]
[null,null,null,"Módulo 1 - Composição da Remuneração",{"$f":"F17","v":0}]
[null,null,null,"Módulo 2 - Encargos e Benefícios Anuais, Mensais e Diários",{"$f":"F52","v":0}]
[null,null,null,"Módulo 3 - Provisão para Rescisão",{"$f":"F62","v":0}]
[null,null,null,"Módulo 4 - Custo de Reposição do Profissional Ausente",{"$f":"F80","v":0}]
[null,null,null,"Módulo 5 - Insumos Diversos",{"$f":"F89","v":0}]
[null,null,null,"SUBTOTAL (A+B+C+D+E)",{"$f":"SUM(E104:E108)","v":0}]
[null,null,null,"Módulo 6 - Custos Indiretos, Tributos e Lucro",{"$f":"F101","v":0}]
[]
[null,null,null,"TOTAL DO POSTO",{"$f":"SUM(E109:E110)","v":0}]
[]
[null,"MÓDULO 7 - DESTAQUE DO MÓDULO 2 - 13º SALÁRIO",null,null,"Percentuais","Valor"]
[null,null,"A","13º Salário",{"$f":"'[1]Encargos Sociais'!E32*12/11","v":9.9163636363636357E-2},{"$f":"ROUND(E115*F$17,2)","v":0},null,"* Nota 1 - Incluindo-se a reincidência das férias do substituto sobre o titular"]
[null,null,"B","Encargos Sociais sobre o 13º Salário (submódulo 2.2 e módulo 3)",{"$f":"SUM($E$25:$E$33)+SUM($E$55:$E$60)","v":0.39760000000000006},{"$f":"ROUND(E116*$F$115,2)","v":0},null,"* Nota 2 - 13º e reflexos calculados à parte a fim de aprovisionamento"]
[null,null,"C","BDI sobre o 13º Salário",{"$f":"E101","v":0.21890000000000001},{"$f":"ROUND(E117*($F$115+$F$116),2)","v":0}]
[]
[null,null,null,"TOTAL DO DESTAQUE DO 13º SALÁRIO",null,{"$f":"SUM(F115:F117)","v":0}]
[]
[null,null,null,"QUADRO-RESUMO DO CUSTO MENSAL POR EMPREGADO","Valor"]
[null,null,null,"Custo total - sem o 13º Salário",{"$f":"ROUND(E112,2)","v":0}]
[null,null,null,"Destaque do 13º Salário (valor mensal)",{"$f":"ROUND(F119,2)","v":0}]
[]
[null,null,null,"TOTAL DO POSTO",{"$f":"E122+E123","v":0}]

{"sheet":"15","index":17,"n_rows":125,"n_cols":8,"rows_kept":125,"cut":false,"hidden":true,"merged":[[113,1,113,3],[46,3,46,5],[53,1,53,3],[63,1,63,3],[75,3,75,5],[81,1,81,3],[90,1,90,3],[18,1,18,3],[1,1,1,5],[2,1,2,5],[4,1,4,2],[5,1,5,2],[7,1,7,3]]}
[]
[null,"PLANILHA DE ESTIMATIVA DE CUSTOS"]
[null,"Padrão IN 05/2017 e IN 07/2018 - MPDG - Medição por posto presente"]
[]
[null,15,null,{"$f":"HLOOKUP($B$5,'Dados Gerais'!$D$6:$BI$22,6)","v":0},"QUANTIDADE",{"$f":"HLOOKUP($B$5,'Dados Gerais'!$D$6:$BI$22,10)","v":0}]
[null,"CCT",null,{"$f":"HLOOKUP($B$5,'Dados Gerais'!$D$6:$BI$22,16)","v":0},"DATA-BASE",{"$f":"HLOOKUP($B$5,'Dados Gerais'!$D$6:$BI$22,17)","v":"00:00:00"}]
[]
[null,"MÓDULO 1 - COMPOSIÇÃO DA REMUNERAÇÃO",null,null,null,"Valor"]
[null,null,"A","Salário-Base",null,{"$f":"HLOOKUP($B$5,'Dados Gerais'!$D$6:$BI$22,8)","v":0}]
[null,null,"B","Adicional de Periculosidade",null,{"$f":"HLOOKUP($B$5,'Dados Gerais'!$D$6:$BI$41,26)","v":0}]
[null,null,"C","Adicional de Insalubridade",null,{"$f":"HLOOKUP($B$5,'Dados Gerais'!$D$6:$BI$41,32)","v":0}]
[null,null,"D","Adicional Noturno",null,{"$f":"HLOOKUP($B$5,'Dados Gerais'!$D$6:$BI$54,49)","v":0},null,"* Nota 1 - O Módulo 1 refere-se ao valor mensal devido ao empregado pela prestação do serviço no período de 12 meses."]
[null,null,"E","Adicional de Hora Extra",null,{"$f":"HLOOKUP($B$5,'Dados Gerais'!$D$6:$BI$71,66)","v":0},null,"* Nota 2 - O adicional de hora extra no feriado trabalhado foi suprimido pela Lei 13.467/17"]
[null,null,"F","Gratificação",null,{"$f":"HLOOKUP($B$5,'Dados Gerais'!$D$6:$BI$71,34)","v":0},null,"* Nota 3 - ART. 7º, § 2º, DA LEI Nº 605/49.Sendo mensalista o obreiro, o adicional noturno pago de forma fixa já é considerado integrado para os efeitos do pagamento do repouso semanal remunerado, nos termos do art. 7º, § 2º, da Lei nº 605/49."]
[null,null,"G","Sobraviso",null,{"$f":"HLOOKUP($B$5,'Dados Gerais'!$D$6:$BI$71,36)","v":0},null,"* Nota 3 - ART. 7º, § 2º, DA LEI Nº 605/49.Sendo mensalista o obreiro, o adicional noturno pago de forma fixa já é considerado integrado para os efeitos do pagamento do repouso semanal remunerado, nos termos do art. 7º, § 2º, da Lei nº 605/49."]
[]
[null,null,null,"TOTAL DA REMUNERAÇÃO",null,{"$f":"TRUNC(SUM(F9:F15),2)","v":0}]
[]
[null,"MÓDULO 2 - ENCARGOS E BENEFÍCIOS ANUAIS, MENSAIS E DIÁRIOS",null,null,"Percentuais","Valor"]
[null,"Submódulo 2.1 - 13º Salário, Férias e Adicional de Férias"]
[null,null,"A","13º Salário - Calculado no Módulo 7 - Destacado",0,{"$f":"TRUNC(E21*F$17,2)","v":0}]
[null,null,"B","Adicional de Férias",{"$f":"'Encargos Sociais'!E31","v":3.0300000000000001E-2},{"$f":"TRUNC(E22*(F$17),2)","v":0},null,"* Nota 1 - O adicional de férias foi calculado dividindo-se por 11, para comportar os 11 meses presentes e ainda o ausente do posto"]
[]
[null,"Submódulo 2.2 - Encargos Previdenciários (GPS), Fundo de Garantia por Tempo de Serviço (FGTS) e Outras Contribuições"]
[null,null,"A",{"$f":"'Encargos Sociais'!D14","v":"INSS (art. 22, inciso I, Lei nº 8.212/91)"},{"$f":"'Encargos Sociais'!E14","v":0.2},{"$f":"TRUNC(E25*($F$17+$F$80+$F$22-F69),2)","v":0},null,"* Nota 1 - Os percentuais dos encargos previdenciários, do FGTS e demais contribuições são estabelecidos por legislação vigente."]
[null,null,"B",{"$f":"'Encargos Sociais'!D15","v":"Salário Educação (art. 3º, inciso I, Decreto nº 87.043/82)"},{"$f":"'Encargos Sociais'!E15","v":2.5000000000000001E-2},{"$f":"TRUNC(E26*($F$17+$F$80+$F$22),2)","v":0},null,"* Nota 2 - O SAT, a depender do grau de risco do serviço, irá variar entre 1%, para risco leve, de 2%, para risco médio, e de 3% para risco grave."]
[null,null,"C",{"$f":"'Encargos Sociais'!D16","v":"SAT/RAT (art. 22, II, Lei 8.212/91 e Anexo V, Decreto 6.042/07) - Enquadramento 8211-3/00"},{"$f":"'Encargos Sociais'!E16","v":0.01},0,null,"* Nota 3 - Base de cálculo - remuneração + ausências + terço constitucional (férias) - exceto INSS sobre ausência por acidente de trabalho"]
[null,null,"D",{"$f":"'Encargos Sociais'!D17","v":"SESC ou SESI (art. 30, Lei nº 8.036/90 e art. 1º, Lei 8.154/90)"},{"$f":"'Encargos Sociais'!E17","v":1.4999999999999999E-2},0]
[null,null,"E",{"$f":"'Encargos Sociais'!D18","v":"SENAI ou SENAC (Decreto nº 2.318/86)"},{"$f":"'Encargos Sociais'!E18","v":0.01},0]
[null,null,"F",{"$f":"'Encargos Sociais'!D19","v":"SEBRAE (§ 3º, art. 8º, Lei 8.029/90, alterada pela Lei nº 8.154/90)"},{"$f":"'Encargos Sociais'!E19","v":6.0000000000000001E-3},0]
[null,null,"G",{"$f":"'Encargos Sociais'!D20","v":"INCRA (art. 1º, I, Decreto Lei 1.146/70 e Lei 7.787, de 30/06/89)"},{"$f":"'Encargos Sociais'!E20","v":2E-3},0]
[null,null,"H",{"$f":"'Encargos Sociais'!D21","v":"FGTS (Lei Complementar nº 110/01 e art. 30, Lei nº 8.036/90)"},{"$f":"'Encargos Sociais'!E21","v":0.08},0]
[null,null,"I",{"$f":"'Encargos Sociais'!D22","v":"SECONCI (Convenções Coletivas de Trabalho da construção)"},{"$f":"'Encargos Sociais'!E22","v":0},0]
[]
[null,"Submódulo 2.3 - Benefícios Mensais e Diários"]
[null,null,"A","Auxílio Transporte",null,{"$f":"HLOOKUP($B$5,'Dados Gerais'!$D$6:$BI$101,85)","v":0},null,"* Nota 1 - O valor informado deverá ser o custo real do benefício (descontado o valor eventualmente pago pelo empregado)."]
[null,null,"B","Auxílio Alimentação",null,{"$f":"HLOOKUP($B$5,'Dados Gerais'!$D$6:$BI$101,92)","v":0},null,"* Nota 2 - Observar a previsão dos benefícios contidos em Acordos, Convenções e Dissídios Coletivos de Trabalho e o disposto no art. 6º da IN 5/2017"]
[null,null,"C","Assistência Médica e Familiar",null,{"$f":"HLOOKUP($B$5,'Dados Gerais'!$D$6:$BI$109,100)","v":0}]
[null,null,"D","Seguro de vida / auxílio funeral",null,{"$f":"HLOOKUP($B$5,'Dados Gerais'!$D$6:$BI$145,109)","v":0}]
[null,null,"E","Assistência odontológica",null,{"$f":"HLOOKUP($B$5,'Dados Gerais'!$D$6:$BI$145,115)","v":0}]
[null,null,"F","Auxílio creche",null,{"$f":"HLOOKUP($B$5,'Dados Gerais'!$D$6:$BI$145,121)","v":0}]
[null,null,"G","Auxílio vestuário especial",null,{"$f":"HLOOKUP($B$5,'Dados Gerais'!$D$6:$BI$145,127)","v":0}]
[null,null,"H","Benefício social familiar",null,{"$f":"HLOOKUP($B$5,'Dados Gerais'!$D$6:$BI$145,133)","v":0}]
[null,null,"I","Outros (especificar)",null,{"$f":"HLOOKUP($B$5,'Dados Gerais'!$D$6:$BI$145,115)","v":0}]
[null,null,"J","Outros (especificar)",null,{"$f":"HLOOKUP($B$5,'Dados Gerais'!$D$6:$BI$145,115)","v":0}]
[]
[null,null,null,"QUADRO-RESUMO DO MÓDULO 2"]
[null,null,null,"2.1 - Adicional de Férias",{"$f":"SUM(E21:E22)","v":3.0300000000000001E-2},{"$f":"F21+F22","v":0}]
[null,null,null,"2.2 - Encargos Previdenciários (GPS), Fundo de Garantia por Tempo de Serviço (FGTS) e Contribuições",{"$f":"SUM(E25:E33)","v":0.34800000000000003},{"$f":"SUM(F25:F33)","v":0}]
[null,null,null,"2.3 - Benefícios Mensais e Diários",null,{"$f":"SUM(F36:F45)","v":0}]
[]
[null,null,null,"TOTAL DOS ENCARGOS E BENEFÍCIOS",null,{"$f":"TRUNC(SUM(F48:F50),2)","v":0}]
[]
[null,"MÓDULO 3 - PREVISÃO PARA RESCISÃO",null,null,"Percentuais","Valor"]
[null,null,"A",{"$f":"'Encargos Sociais'!D36","v":"Aviso Prévio Indenizado (Art. 7º, inciso XXI, da CF/1988 e arts. 477, 487, §1º, e 491 da CLT)"},{"$f":"'Encargos Sociais'!E36","v":4.1999999999999997E-3},{"$f":"TRUNC(E55*($F$17+$F$48+$F$80),2)","v":0},null,"* Nota 1 - Base de cálculo - remuneração + ausências + 1/3 férias"]
[null,null,"B",{"$f":"'Encargos Sociais'!D37","v":"Incidência do FGTS sobre o Aviso Prévio Indenizado (Súmula 305 TST)"},{"$f":"'Encargos Sociais'!E37","v":2.9999999999999997E-4},0]
[null,null,"C",{"$f":"'Encargos Sociais'!D38","v":"Multa do FGTS sobre o Aviso Prévio Indenizado (Art. 18, §1º, da Lei 8.036/1990)"},{"$f":"'Encargos Sociais'!E38","v":0},0]
[null,null,"D",{"$f":"'Encargos Sociais'!D39","v":"Aviso Prévio Trabalhado (Art. 488, parágrafo único, CLT)"},{"$f":"'Encargos Sociais'!E39","v":9.7000000000000003E-3},0]
[null,null,"E",{"$f":"'Encargos Sociais'!D40","v":"Incidência de GPS, FGTS e outras contribuições sobre o Aviso Prévio Trabalhado"},{"$f":"'Encargos Sociais'!E40","v":3.3999999999999998E-3},0]
[null,null,"F",{"$f":"'Encargos Sociais'!D41","v":"Multa do FGTS"},{"$f":"'Encargos Sociais'!E41","v":3.2000000000000001E-2},0]
[]
[null,null,null,"TOTAL DE PREVISÃO PARA RESCISÃO",null,{"$f":"TRUNC(SUM(F55:F60),2)","v":0}]
[]
[null,"MÓDULO 4 - CUSTO DO PROFISSIONAL AUSENTE",null,null,"Percentuais","Valor"]
[null,"Submódulo 4.1 - Ausências Legais"]
[null,null,"A",{"$f":"'Encargos Sociais'!D25","v":"Férias (Arts. 129 e 130, inc. I, da CLT)"},{"$f":"'Encargos Sociais'!E25","v":9.0899999999999995E-2},{"$f":"TRUNC(E66*$F$17,2)","v":0},null,"* Nota 1 - O Módulo 4 refere-se às previsões para custear ausências do próprio profissional (titular do cargo)"]
[null,null,"B",{"$f":"'Encargos Sociais'!D26","v":"Ausências Legais (Arts. 131 e 473 da CLT)"},{"$f":"'Encargos Sociais'!E26","v":7.9000000000000008E-3},0,null,"* Nota 2 - As férias foram calculadas dividindo-se por 11, para comportar os 11 meses presentes e ainda o ausente do posto"]
[null,null,"C",{"$f":"'Encargos Sociais'!D27","v":"Licença-Paternidade (Art. 7º, XIX, e art. 10, §1º, do ADCT, CF/1988 e Art. 1º, II, da Lei 11.770/2008)"},{"$f":"'Encargos Sociais'!E27","v":8.0000000000000004E-4},0]
[null,null,"D",{"$f":"'Encargos Sociais'!D28","v":"Ausência por Acidente de Trabalho (Art. 131, III, da CLT)"},{"$f":"'Encargos Sociais'!E28","v":8.9999999999999998E-4},0]
[null,null,"E",{"$f":"'Encargos Sociais'!D29","v":"Afastamento Maternidade (Art. 71 da Lei nº 8.213/1991)"},{"$f":"'Encargos Sociais'!E29","v":3.3E-3},0]
[null,null,"F",{"$f":"'Encargos Sociais'!D30","v":"Auxílio Enfermidade - Doença (Art. 59 da Lei nº 8.213/1991)"},{"$f":"'Encargos Sociais'!E30","v":7.1000000000000004E-3},0]
[]
[null,"Submódulo 4.2 - Intrajornada"]
[null,null,"A","Intervalo para repouso ou alimentação",{"$f":"'Encargos Sociais'!E33","v":0},{"$f":"ROUND(E74*$F$17,2)","v":0}]
[]
[null,null,null,"QUADRO-RESUMO DO MÓDULO 4",null,"Valor"]
[null,null,null,"4.1 - Ausências Legais",{"$f":"SUM(E66:E71)","v":0.11089999999999998},{"$f":"SUM(F66:F71)","v":0}]
[null,null,null,"4.2 - Intrajornada",{"$f":"E74","v":0},{"$f":"ROUND(E78*$F$17,2)","v":0}]
[]
[null,null,null,"TOTAL DE CUSTO DO PROFFIONAL AUSENTE E INTERVALO INTRAJORNADA",null,{"$f":"TRUNC(SUM(F77:F78),2)","v":0}]
[]
[null,"MÓDULO 5 - INSUMOS DIVERSOS",null,null,null,"Valor"]
[null,null,"A","Uniformes - aquisição",null,{"$f":"TRUNC(HLOOKUP($B$5,Uniformes!$J$3:$DY$5,3,0)/12,2)","v":0}]
[null,null,"B","Materiais de consumo relacionados ao posto - aquisição",null,0]
[null,null,"C","Ferramentas relacionadas ao posto - remuneração da sua depreciação / manutenção",null,0]
[null,null,"D","Equipamentos relacionados ao posto - remuneração da sua depreciação / manutenção",null,0]
[null,null,"E","Equipamentos de Proteção Individual - EPI - aquisição",null,{"$f":"TRUNC(HLOOKUP($B$5,EPI!$J$3:$DX$5,3,0)/12,2)","v":0}]
[]
[null,null,null,"TOTAL DE INSUMOS DIVERSOS",null,{"$f":"SUM(F83:F88)","v":0},null,"* Nota - Valores mensais por empregado"]
[]
[null,"MÓDULO 6 - CUSTOS INDIRETOS, TRIBUTOS E LUCRO - BDI",null,null,"Percentuais","Valor"]
[null,null,"A","Custos Indiretos",{"$f":"'BDI - Geral'!E7","v":2.7000000000000003E-2}]
[null,null,"A.1","Administração Central",{"$f":"'BDI - Geral'!E8","v":2.1600000000000001E-2}]
[null,null,"A.2","Seguros, Garantias e Riscos",{"$f":"'BDI - Geral'!E9","v":5.4000000000000003E-3}]
[null,null,"B","Lucro",{"$f":"'BDI - Geral'!E11","v":3.3399999999999999E-2}]
[null,null,"C","Tributos",{"$f":"SUM(E97:E98)","v":0.124}]
[null,null,"C.1","Tributos Federais (COFINS, PIS e CPRB)",{"$f":"'BDI - Geral'!E19","v":7.3999999999999996E-2}]
[null,null,"C.2","Tributos Distritais (ISS)",{"$f":"'BDI - Geral'!E24","v":0.05}]
[null,null,"D","Despesas Financeiras",{"$f":"'BDI - Geral'!E14","v":6.1000000000000004E-3}]
[]
[null,null,null,"TOTAL DE BDI",{"$f":"'BDI - Geral'!E27","v":0.21890000000000001},{"$f":"TRUNC(E101*E109,2)","v":0}]
[]
[null,null,null,"QUADRO-RESUMO DO CUSTO MENSAL POR EMPREGADO - SEM O 13º","Valor"]
[null,null,null,"Módulo 1 - Composição da Remuneração",{"$f":"F17","v":0}]
[null,null,null,"Módulo 2 - Encargos e Benefícios Anuais, Mensais e Diários",{"$f":"F52","v":0}]
[null,null,null,"Módulo 3 - Provisão para Rescisão",{"$f":"F62","v":0}]
[null,null,null,"Módulo 4 - Custo de Reposição do Profissional Ausente",{"$f":"F80","v":0}]
[null,null,null,"Módulo 5 - Insumos Diversos",{"$f":"F89","v":0}]
[null,null,null,"SUBTOTAL (A+B+C+D+E)",{"$f":"SUM(E104:E108)","v":0}]
[null,null,null,"Módulo 6 - Custos Indiretos, Tributos e Lucro",{"$f":"F101","v":0}]
[]
[null,null,null,"TOTAL DO POSTO",{"$f":"SUM(E109:E110)","v":0}]
[]
[null,"MÓDULO 7 - DESTAQUE DO MÓDULO 2 - 13º SALÁRIO",null,null,"Percentuais","Valor"]
[null,null,"A","13º Salário",{"$f":"'[1]Encargos Sociais'!E32*12/11","v":9.9163636363636357E-2},{"$f":"ROUND(E115*F$17,2)","v":0},null,"* Nota 1 - Incluindo-se a reincidência das férias do substituto sobre o titular"]
[null,null,"B","Encargos Sociais sobre o 13º Salário (submódulo 2.2 e módulo 3)",{"$f":"SUM($E$25:$E$33)+SUM($E$55:$E$60)","v":0.39760000000000006},{"$f":"ROUND(E116*$F$115,2)","v":0},null,"* Nota 2 - 13º e reflexos calculados à parte a fim de aprovisionamento"]
[null,null,"C","BDI sobre o 13º Salário",{"$f":"E101","v":0.21890000000000001},{"$f":"ROUND(E117*($F$115+$F$116),2)","v":0}]
[]
[null,null,null,"TOTAL DO DESTAQUE DO 13º SALÁRIO",null,{"$f":"SUM(F115:F117)","v":0}]
[]
[null,null,null,"QUADRO-RESUMO DO CUSTO MENSAL POR EMPREGADO","Valor"]
[null,null,null,"Custo total - sem o 13º Salário",{"$f":"ROUND(E112,2)","v":0}]
[null,null,null,"Destaque do 13º Salário (valor mensal)",{"$f":"ROUND(F119,2)","v":0}]
[]
[null,null,null,"TOTAL DO POSTO",{"$f":"E122+E123","v":0}]

{"sheet":"16","index":18,"n_rows":125,"n_cols":8,"rows_kept":125,"cut":false,"hidden":true,"merged":[[113,1,113,3],[46,3,46,5],[53,1,53,3],[63,1,63,3],[75,3,75,5],[81,1,81,3],[90,1,90,3],[18,1,18,3],[1,1,1,5],[2,1,2,5],[4,1,4,2],[5,1,5,2],[7,1,7,3]]}
[]
[null,"PLANILHA DE ESTIMATIVA DE CUSTOS"]
[null,"Padrão IN 05/2017 e IN 07/2018 - MPDG - Medição por posto presente"]
[]
[null,16,null,{"$f":"HLOOKUP($B$5,'Dados Gerais'!$D$6:$BI$22,6)","v":0},"QUANTIDADE",{"$f":"HLOOKUP($B$5,'Dados Gerais'!$D$6:$BI$22,10)","v":0}]
[null,"CCT",null,{"$f":"HLOOKUP($B$5,'Dados Gerais'!$D$6:$BI$22,16)","v":0},"DATA-BASE",{"$f":"HLOOKUP($B$5,'Dados Gerais'!$D$6:$BI$22,17)","v":"00:00:00"}]
[]
[null,"MÓDULO 1 - COMPOSIÇÃO DA REMUNERAÇÃO",null,null,null,"Valor"]
[null,null,"A","Salário-Base",null,{"$f":"HLOOKUP($B$5,'Dados Gerais'!$D$6:$BI$22,8)","v":0}]
[null,null,"B","Adicional de Periculosidade",null,{"$f":"HLOOKUP($B$5,'Dados Gerais'!$D$6:$BI$41,26)","v":0}]
[null,null,"C","Adicional de Insalubridade",null,{"$f":"HLOOKUP($B$5,'Dados Gerais'!$D$6:$BI$41,32)","v":0}]
[null,null,"D","Adicional Noturno",null,{"$f":"HLOOKUP($B$5,'Dados Gerais'!$D$6:$BI$54,49)","v":0},null,"* Nota 1 - O Módulo 1 refere-se ao valor mensal devido ao empregado pela prestação do serviço no período de 12 meses."]
[null,null,"E","Adicional de Hora Extra",null,{"$f":"HLOOKUP($B$5,'Dados Gerais'!$D$6:$BI$71,66)","v":0},null,"* Nota 2 - O adicional de hora extra no feriado trabalhado foi suprimido pela Lei 13.467/17"]
[null,null,"F","Gratificação",null,{"$f":"HLOOKUP($B$5,'Dados Gerais'!$D$6:$BI$71,34)","v":0},null,"* Nota 3 - ART. 7º, § 2º, DA LEI Nº 605/49.Sendo mensalista o obreiro, o adicional noturno pago de forma fixa já é considerado integrado para os efeitos do pagamento do repouso semanal remunerado, nos termos do art. 7º, § 2º, da Lei nº 605/49."]
[null,null,"G","Sobraviso",null,{"$f":"HLOOKUP($B$5,'Dados Gerais'!$D$6:$BI$71,36)","v":0},null,"* Nota 3 - ART. 7º, § 2º, DA LEI Nº 605/49.Sendo mensalista o obreiro, o adicional noturno pago de forma fixa já é considerado integrado para os efeitos do pagamento do repouso semanal remunerado, nos termos do art. 7º, § 2º, da Lei nº 605/49."]
[]
[null,null,null,"TOTAL DA REMUNERAÇÃO",null,{"$f":"TRUNC(SUM(F9:F15),2)","v":0}]
[]
[null,"MÓDULO 2 - ENCARGOS E BENEFÍCIOS ANUAIS, MENSAIS E DIÁRIOS",null,null,"Percentuais","Valor"]
[null,"Submódulo 2.1 - 13º Salário, Férias e Adicional de Férias"]
[null,null,"A","13º Salário - Calculado no Módulo 7 - Destacado",0,{"$f":"TRUNC(E21*F$17,2)","v":0}]
[null,null,"B","Adicional de Férias",{"$f":"'Encargos Sociais'!E31","v":3.0300000000000001E-2},{"$f":"TRUNC(E22*(F$17),2)","v":0},null,"* Nota 1 - O adicional de férias foi calculado dividindo-se por 11, para comportar os 11 meses presentes e ainda o ausente do posto"]
[]
[null,"Submódulo 2.2 - Encargos Previdenciários (GPS), Fundo de Garantia por Tempo de Serviço (FGTS) e Outras Contribuições"]
[null,null,"A",{"$f":"'Encargos Sociais'!D14","v":"INSS (art. 22, inciso I, Lei nº 8.212/91)"},{"$f":"'Encargos Sociais'!E14","v":0.2},{"$f":"TRUNC(E25*($F$17+$F$80+$F$22-F69),2)","v":0},null,"* Nota 1 - Os percentuais dos encargos previdenciários, do FGTS e demais contribuições são estabelecidos por legislação vigente."]
[null,null,"B",{"$f":"'Encargos Sociais'!D15","v":"Salário Educação (art. 3º, inciso I, Decreto nº 87.043/82)"},{"$f":"'Encargos Sociais'!E15","v":2.5000000000000001E-2},{"$f":"TRUNC(E26*($F$17+$F$80+$F$22),2)","v":0},null,"* Nota 2 - O SAT, a depender do grau de risco do serviço, irá variar entre 1%, para risco leve, de 2%, para risco médio, e de 3% para risco grave."]
[null,null,"C",{"$f":"'Encargos Sociais'!D16","v":"SAT/RAT (art. 22, II, Lei 8.212/91 e Anexo V, Decreto 6.042/07) - Enquadramento 8211-3/00"},{"$f":"'Encargos Sociais'!E16","v":0.01},0,null,"* Nota 3 - Base de cálculo - remuneração + ausências + terço constitucional (férias) - exceto INSS sobre ausência por acidente de trabalho"]
[null,null,"D",{"$f":"'Encargos Sociais'!D17","v":"SESC ou SESI (art. 30, Lei nº 8.036/90 e art. 1º, Lei 8.154/90)"},{"$f":"'Encargos Sociais'!E17","v":1.4999999999999999E-2},0]
[null,null,"E",{"$f":"'Encargos Sociais'!D18","v":"SENAI ou SENAC (Decreto nº 2.318/86)"},{"$f":"'Encargos Sociais'!E18","v":0.01},0]
[null,null,"F",{"$f":"'Encargos Sociais'!D19","v":"SEBRAE (§ 3º, art. 8º, Lei 8.029/90, alterada pela Lei nº 8.154/90)"},{"$f":"'Encargos Sociais'!E19","v":6.0000000000000001E-3},0]
[null,null,"G",{"$f":"'Encargos Sociais'!D20","v":"INCRA (art. 1º, I, Decreto Lei 1.146/70 e Lei 7.787, de 30/06/89)"},{"$f":"'Encargos Sociais'!E20","v":2E-3},0]
[null,null,"H",{"$f":"'Encargos Sociais'!D21","v":"FGTS (Lei Complementar nº 110/01 e art. 30, Lei nº 8.036/90)"},{"$f":"'Encargos Sociais'!E21","v":0.08},0]
[null,null,"I",{"$f":"'Encargos Sociais'!D22","v":"SECONCI (Convenções Coletivas de Trabalho da construção)"},{"$f":"'Encargos Sociais'!E22","v":0},0]
[]
[null,"Submódulo 2.3 - Benefícios Mensais e Diários"]
[null,null,"A","Auxílio Transporte",null,{"$f":"HLOOKUP($B$5,'Dados Gerais'!$D$6:$BI$101,85)","v":0},null,"* Nota 1 - O valor informado deverá ser o custo real do benefício (descontado o valor eventualmente pago pelo empregado)."]
[null,null,"B","Auxílio Alimentação",null,{"$f":"HLOOKUP($B$5,'Dados Gerais'!$D$6:$BI$101,92)","v":0},null,"* Nota 2 - Observar a previsão dos benefícios contidos em Acordos, Convenções e Dissídios Coletivos de Trabalho e o disposto no art. 6º da IN 5/2017"]
[null,null,"C","Assistência Médica e Familiar",null,{"$f":"HLOOKUP($B$5,'Dados Gerais'!$D$6:$BI$109,100)","v":0}]
[null,null,"D","Seguro de vida / auxílio funeral",null,{"$f":"HLOOKUP($B$5,'Dados Gerais'!$D$6:$BI$145,109)","v":0}]
[null,null,"E","Assistência odontológica",null,{"$f":"HLOOKUP($B$5,'Dados Gerais'!$D$6:$BI$145,115)","v":0}]
[null,null,"F","Auxílio creche",null,{"$f":"HLOOKUP($B$5,'Dados Gerais'!$D$6:$BI$145,121)","v":0}]
[null,null,"G","Auxílio vestuário especial",null,{"$f":"HLOOKUP($B$5,'Dados Gerais'!$D$6:$BI$145,127)","v":0}]
[null,null,"H","Benefício social familiar",null,{"$f":"HLOOKUP($B$5,'Dados Gerais'!$D$6:$BI$145,133)","v":0}]
[null,null,"I","Outros (especificar)",null,{"$f":"HLOOKUP($B$5,'Dados Gerais'!$D$6:$BI$145,115)","v":0}]
[null,null,"J","Outros (especificar)",null,{"$f":"HLOOKUP($B$5,'Dados Gerais'!$D$6:$BI$145,115)","v":0}]
[]
[null,null,null,"QUADRO-RESUMO DO MÓDULO 2"]
[null,null,null,"2.1 - Adicional de Férias",{"$f":"SUM(E21:E22)","v":3.0300000000000001E-2},{"$f":"F21+F22","v":0}]
[null,null,null,"2.2 - Encargos Previdenciários (GPS), Fundo de Garantia por Tempo de Serviço (FGTS) e Contribuições",{"$f":"SUM(E25:E33)","v":0.34800000000000003},{"$f":"SUM(F25:F33)","v":0}]
[null,null,null,"2.3 - Benefícios Mensais e Diários",null,{"$f":"SUM(F36:F45)","v":0}]
[]
[null,null,null,"TOTAL DOS ENCARGOS E BENEFÍCIOS",null,{"$f":"TRUNC(SUM(F48:F50),2)","v":0}]
[]
[null,"MÓDULO 3 - PREVISÃO PARA RESCISÃO",null,null,"Percentuais","Valor"]
[null,null,"A",{"$f":"'Encargos Sociais'!D36","v":"Aviso Prévio Indenizado (Art. 7º, inciso XXI, da CF/1988 e arts. 477, 487, §1º, e 491 da CLT)"},{"$f":"'Encargos Sociais'!E36","v":4.1999999999999997E-3},{"$f":"TRUNC(E55*($F$17+$F$48+$F$80),2)","v":0},null,"* Nota 1 - Base de cálculo - remuneração + ausências + 1/3 férias"]
[null,null,"B",{"$f":"'Encargos Sociais'!D37","v":"Incidência do FGTS sobre o Aviso Prévio Indenizado (Súmula 305 TST)"},{"$f":"'Encargos Sociais'!E37","v":2.9999999999999997E-4},0]
[null,null,"C",{"$f":"'Encargos Sociais'!D38","v":"Multa do FGTS sobre o Aviso Prévio Indenizado (Art. 18, §1º, da Lei 8.036/1990)"},{"$f":"'Encargos Sociais'!E38","v":0},0]
[null,null,"D",{"$f":"'Encargos Sociais'!D39","v":"Aviso Prévio Trabalhado (Art. 488, parágrafo único, CLT)"},{"$f":"'Encargos Sociais'!E39","v":9.7000000000000003E-3},0]
[null,null,"E",{"$f":"'Encargos Sociais'!D40","v":"Incidência de GPS, FGTS e outras contribuições sobre o Aviso Prévio Trabalhado"},{"$f":"'Encargos Sociais'!E40","v":3.3999999999999998E-3},0]
[null,null,"F",{"$f":"'Encargos Sociais'!D41","v":"Multa do FGTS"},{"$f":"'Encargos Sociais'!E41","v":3.2000000000000001E-2},0]
[]
[null,null,null,"TOTAL DE PREVISÃO PARA RESCISÃO",null,{"$f":"TRUNC(SUM(F55:F60),2)","v":0}]
[]
[null,"MÓDULO 4 - CUSTO DO PROFISSIONAL AUSENTE",null,null,"Percentuais","Valor"]
[null,"Submódulo 4.1 - Ausências Legais"]
[null,null,"A",{"$f":"'Encargos Sociais'!D25","v":"Férias (Arts. 129 e 130, inc. I, da CLT)"},{"$f":"'Encargos Sociais'!E25","v":9.0899999999999995E-2},{"$f":"TRUNC(E66*$F$17,2)","v":0},null,"* Nota 1 - O Módulo 4 refere-se às previsões para custear ausências do próprio profissional (titular do cargo)"]
[null,null,"B",{"$f":"'Encargos Sociais'!D26","v":"Ausências Legais (Arts. 131 e 473 da CLT)"},{"$f":"'Encargos Sociais'!E26","v":7.9000000000000008E-3},0,null,"* Nota 2 - As férias foram calculadas dividindo-se por 11, para comportar os 11 meses presentes e ainda o ausente do posto"]
[null,null,"C",{"$f":"'Encargos Sociais'!D27","v":"Licença-Paternidade (Art. 7º, XIX, e art. 10, §1º, do ADCT, CF/1988 e Art. 1º, II, da Lei 11.770/2008)"},{"$f":"'Encargos Sociais'!E27","v":8.0000000000000004E-4},0]
[null,null,"D",{"$f":"'Encargos Sociais'!D28","v":"Ausência por Acidente de Trabalho (Art. 131, III, da CLT)"},{"$f":"'Encargos Sociais'!E28","v":8.9999999999999998E-4},0]
[null,null,"E",{"$f":"'Encargos Sociais'!D29","v":"Afastamento Maternidade (Art. 71 da Lei nº 8.213/1991)"},{"$f":"'Encargos Sociais'!E29","v":3.3E-3},0]
[null,null,"F",{"$f":"'Encargos Sociais'!D30","v":"Auxílio Enfermidade - Doença (Art. 59 da Lei nº 8.213/1991)"},{"$f":"'Encargos Sociais'!E30","v":7.1000000000000004E-3},0]
[]
[null,"Submódulo 4.2 - Intrajornada"]
[null,null,"A","Intervalo para repouso ou alimentação",{"$f":"'Encargos Sociais'!E33","v":0},{"$f":"ROUND(E74*$F$17,2)","v":0}]
[]
[null,null,null,"QUADRO-RESUMO DO MÓDULO 4",null,"Valor"]
[null,null,null,"4.1 - Ausências Legais",{"$f":"SUM(E66:E71)","v":0.11089999999999998},{"$f":"SUM(F66:F71)","v":0}]
[null,null,null,"4.2 - Intrajornada",{"$f":"E74","v":0},{"$f":"ROUND(E78*$F$17,2)","v":0}]
[]
[null,null,null,"TOTAL DE CUSTO DO PROFFIONAL AUSENTE E INTERVALO INTRAJORNADA",null,{"$f":"TRUNC(SUM(F77:F78),2)","v":0}]
[]
[null,"MÓDULO 5 - INSUMOS DIVERSOS",null,null,null,"Valor"]
[null,null,"A","Uniformes - aquisição",null,{"$f":"TRUNC(HLOOKUP($B$5,Uniformes!$J$3:$DY$5,3,0)/12,2)","v":0}]
[null,null,"B","Materiais de consumo relacionados ao posto - aquisição",null,0]
[null,null,"C","Ferramentas relacionadas ao posto - remuneração da sua depreciação / manutenção",null,0]
[null,null,"D","Equipamentos relacionados ao posto - remuneração da sua depreciação / manutenção",null,0]
[null,null,"E","Equipamentos de Proteção Individual - EPI - aquisição",null,{"$f":"TRUNC(HLOOKUP($B$5,EPI!$J$3:$DX$5,3,0)/12,2)","v":0}]
[]
[null,null,null,"TOTAL DE INSUMOS DIVERSOS",null,{"$f":"SUM(F83:F88)","v":0},null,"* Nota - Valores mensais por empregado"]
[]
[null,"MÓDULO 6 - CUSTOS INDIRETOS, TRIBUTOS E LUCRO - BDI",null,null,"Percentuais","Valor"]
[null,null,"A","Custos Indiretos",{"$f":"'BDI - Geral'!E7","v":2.7000000000000003E-2}]
[null,null,"A.1","Administração Central",{"$f":"'BDI - Geral'!E8","v":2.1600000000000001E-2}]
[null,null,"A.2","Seguros, Garantias e Riscos",{"$f":"'BDI - Geral'!E9","v":5.4000000000000003E-3}]
[null,null,"B","Lucro",{"$f":"'BDI - Geral'!E11","v":3.3399999999999999E-2}]
[null,null,"C","Tributos",{"$f":"SUM(E97:E98)","v":0.124}]
[null,null,"C.1","Tributos Federais (COFINS, PIS e CPRB)",{"$f":"'BDI - Geral'!E19","v":7.3999999999999996E-2}]
[null,null,"C.2","Tributos Distritais (ISS)",{"$f":"'BDI - Geral'!E24","v":0.05}]
[null,null,"D","Despesas Financeiras",{"$f":"'BDI - Geral'!E14","v":6.1000000000000004E-3}]
[]
[null,null,null,"TOTAL DE BDI",{"$f":"'BDI - Geral'!E27","v":0.21890000000000001},{"$f":"TRUNC(E101*E109,2)","v":0}]
[]
[null,null,null,"QUADRO-RESUMO DO CUSTO MENSAL POR EMPREGADO - SEM O 13º","Valor"]
[null,null,null,"Módulo 1 - Composição da Remuneração",{"$f":"F17","v":0}]
[null,null,null,"Módulo 2 - Encargos e Benefícios Anuais, Mensais e Diários",{"$f":"F52","v":0}]
[null,null,null,"Módulo 3 - Provisão para Rescisão",{"$f":"F62","v":0}]
[null,null,null,"Módulo 4 - Custo de Reposição do Profissional Ausente",{"$f":"F80","v":0}]
[null,null,null,"Módulo 5 - Insumos Diversos",{"$f":"F89","v":0}]
[null,null,null,"SUBTOTAL (A+B+C+D+E)",{"$f":"SUM(E104:E108)","v":0}]
[null,null,null,"Módulo 6 - Custos Indiretos, Tributos e Lucro",{"$f":"F101","v":0}]
[]
[null,null,null,"TOTAL DO POSTO",{"$f":"SUM(E109:E110)","v":0}]
[]
[null,"MÓDULO 7 - DESTAQUE DO MÓDULO 2 - 13º SALÁRIO",null,null,"Percentuais","Valor"]
[null,null,"A","13º Salário",{"$f":"'[1]Encargos Sociais'!E32*12/11","v":9.9163636363636357E-2},{"$f":"ROUND(E115*F$17,2)","v":0},null,"* Nota 1 - Incluindo-se a reincidência das férias do substituto sobre o titular"]
[null,null,"B","Encargos Sociais sobre o 13º Salário (submódulo 2.2 e módulo 3)",{"$f":"SUM($E$25:$E$33)+SUM($E$55:$E$60)","v":0.39760000000000006},{"$f":"ROUND(E116*$F$115,2)","v":0},null,"* Nota 2 - 13º e reflexos calculados à parte a fim de aprovisionamento"]
[null,null,"C","BDI sobre o 13º Salário",{"$f":"E101","v":0.21890000000000001},{"$f":"ROUND(E117*($F$115+$F$116),2)","v":0}]
[]
[null,null,null,"TOTAL DO DESTAQUE DO 13º SALÁRIO",null,{"$f":"SUM(F115:F117)","v":0}]
[]
[null,null,null,"QUADRO-RESUMO DO CUSTO MENSAL POR EMPREGADO","Valor"]
[null,null,null,"Custo total - sem o 13º Salário",{"$f":"ROUND(E112,2)","v":0}]
[null,null,null,"Destaque do 13º Salário (valor mensal)",{"$f":"ROUND(F119,2)","v":0}]
[]
[null,null,null,"TOTAL DO POSTO",{"$f":"E122+E123","v":0}]

{"sheet":"17","index":19,"n_rows":125,"n_cols":8,"rows_kept":125,"cut":false,"hidden":true,"merged":[[113,1,113,3],[46,3,46,5],[53,1,53,3],[63,1,63,3],[75,3,75,5],[81,1,81,3],[90,1,90,3],[18,1,18,3],[1,1,1,5],[2,1,2,5],[4,1,4,2],[5,1,5,2],[7,1,7,3]]}
[]
[null,"PLANILHA DE ESTIMATIVA DE CUSTOS"]
[null,"Padrão IN 05/2017 e IN 07/2018 - MPDG - Medição por posto presente"]
[]
[null,17,null,{"$f":"HLOOKUP($B$5,'Dados Gerais'!$D$6:$BI$22,6)","v":0},"QUANTIDADE",{"$f":"HLOOKUP($B$5,'Dados Gerais'!$D$6:$BI$22,10)","v":0}]
[null,"CCT",null,{"$f":"HLOOKUP($B$5,'Dados Gerais'!$D$6:$BI$22,16)","v":0},"DATA-BASE",{"$f":"HLOOKUP($B$5,'Dados Gerais'!$D$6:$BI$22,17)","v":"00:00:00"}]
[]
[null,"MÓDULO 1 - COMPOSIÇÃO DA REMUNERAÇÃO",null,null,null,"Valor"]
[null,null,"A","Salário-Base",null,{"$f":"HLOOKUP($B$5,'Dados Gerais'!$D$6:$BI$22,8)","v":0}]
[null,null,"B","Adicional de Periculosidade",null,{"$f":"HLOOKUP($B$5,'Dados Gerais'!$D$6:$BI$41,26)","v":0}]
[null,null,"C","Adicional de Insalubridade",null,{"$f":"HLOOKUP($B$5,'Dados Gerais'!$D$6:$BI$41,32)","v":0}]
[null,null,"D","Adicional Noturno",null,{"$f":"HLOOKUP($B$5,'Dados Gerais'!$D$6:$BI$54,49)","v":0},null,"* Nota 1 - O Módulo 1 refere-se ao valor mensal devido ao empregado pela prestação do serviço no período de 12 meses."]
[null,null,"E","Adicional de Hora Extra",null,{"$f":"HLOOKUP($B$5,'Dados Gerais'!$D$6:$BI$71,66)","v":0},null,"* Nota 2 - O adicional de hora extra no feriado trabalhado foi suprimido pela Lei 13.467/17"]
[null,null,"F","Gratificação",null,{"$f":"HLOOKUP($B$5,'Dados Gerais'!$D$6:$BI$71,34)","v":0},null,"* Nota 3 - ART. 7º, § 2º, DA LEI Nº 605/49.Sendo mensalista o obreiro, o adicional noturno pago de forma fixa já é considerado integrado para os efeitos do pagamento do repouso semanal remunerado, nos termos do art. 7º, § 2º, da Lei nº 605/49."]
[null,null,"G","Sobraviso",null,{"$f":"HLOOKUP($B$5,'Dados Gerais'!$D$6:$BI$71,36)","v":0},null,"* Nota 3 - ART. 7º, § 2º, DA LEI Nº 605/49.Sendo mensalista o obreiro, o adicional noturno pago de forma fixa já é considerado integrado para os efeitos do pagamento do repouso semanal remunerado, nos termos do art. 7º, § 2º, da Lei nº 605/49."]
[]
[null,null,null,"TOTAL DA REMUNERAÇÃO",null,{"$f":"TRUNC(SUM(F9:F15),2)","v":0}]
[]
[null,"MÓDULO 2 - ENCARGOS E BENEFÍCIOS ANUAIS, MENSAIS E DIÁRIOS",null,null,"Percentuais","Valor"]
[null,"Submódulo 2.1 - 13º Salário, Férias e Adicional de Férias"]
[null,null,"A","13º Salário - Calculado no Módulo 7 - Destacado",0,{"$f":"TRUNC(E21*F$17,2)","v":0}]
[null,null,"B","Adicional de Férias",{"$f":"'Encargos Sociais'!E31","v":3.0300000000000001E-2},{"$f":"TRUNC(E22*(F$17),2)","v":0},null,"* Nota 1 - O adicional de férias foi calculado dividindo-se por 11, para comportar os 11 meses presentes e ainda o ausente do posto"]
[]
[null,"Submódulo 2.2 - Encargos Previdenciários (GPS), Fundo de Garantia por Tempo de Serviço (FGTS) e Outras Contribuições"]
[null,null,"A",{"$f":"'Encargos Sociais'!D14","v":"INSS (art. 22, inciso I, Lei nº 8.212/91)"},{"$f":"'Encargos Sociais'!E14","v":0.2},{"$f":"TRUNC(E25*($F$17+$F$80+$F$22-F69),2)","v":0},null,"* Nota 1 - Os percentuais dos encargos previdenciários, do FGTS e demais contribuições são estabelecidos por legislação vigente."]
[null,null,"B",{"$f":"'Encargos Sociais'!D15","v":"Salário Educação (art. 3º, inciso I, Decreto nº 87.043/82)"},{"$f":"'Encargos Sociais'!E15","v":2.5000000000000001E-2},{"$f":"TRUNC(E26*($F$17+$F$80+$F$22),2)","v":0},null,"* Nota 2 - O SAT, a depender do grau de risco do serviço, irá variar entre 1%, para risco leve, de 2%, para risco médio, e de 3% para risco grave."]
[null,null,"C",{"$f":"'Encargos Sociais'!D16","v":"SAT/RAT (art. 22, II, Lei 8.212/91 e Anexo V, Decreto 6.042/07) - Enquadramento 8211-3/00"},{"$f":"'Encargos Sociais'!E16","v":0.01},0,null,"* Nota 3 - Base de cálculo - remuneração + ausências + terço constitucional (férias) - exceto INSS sobre ausência por acidente de trabalho"]
[null,null,"D",{"$f":"'Encargos Sociais'!D17","v":"SESC ou SESI (art. 30, Lei nº 8.036/90 e art. 1º, Lei 8.154/90)"},{"$f":"'Encargos Sociais'!E17","v":1.4999999999999999E-2},0]
[null,null,"E",{"$f":"'Encargos Sociais'!D18","v":"SENAI ou SENAC (Decreto nº 2.318/86)"},{"$f":"'Encargos Sociais'!E18","v":0.01},0]
[null,null,"F",{"$f":"'Encargos Sociais'!D19","v":"SEBRAE (§ 3º, art. 8º, Lei 8.029/90, alterada pela Lei nº 8.154/90)"},{"$f":"'Encargos Sociais'!E19","v":6.0000000000000001E-3},0]
[null,null,"G",{"$f":"'Encargos Sociais'!D20","v":"INCRA (art. 1º, I, Decreto Lei 1.146/70 e Lei 7.787, de 30/06/89)"},{"$f":"'Encargos Sociais'!E20","v":2E-3},0]
[null,null,"H",{"$f":"'Encargos Sociais'!D21","v":"FGTS (Lei Complementar nº 110/01 e art. 30, Lei nº 8.036/90)"},{"$f":"'Encargos Sociais'!E21","v":0.08},0]
[null,null,"I",{"$f":"'Encargos Sociais'!D22","v":"SECONCI (Convenções Coletivas de Trabalho da construção)"},{"$f":"'Encargos Sociais'!E22","v":0},0]
[]
[null,"Submódulo 2.3 - Benefícios Mensais e Diários"]
[null,null,"A","Auxílio Transporte",null,{"$f":"HLOOKUP($B$5,'Dados Gerais'!$D$6:$BI$101,85)","v":0},null,"* Nota 1 - O valor informado deverá ser o custo real do benefício (descontado o valor eventualmente pago pelo empregado)."]
[null,null,"B","Auxílio Alimentação",null,{"$f":"HLOOKUP($B$5,'Dados Gerais'!$D$6:$BI$101,92)","v":0},null,"* Nota 2 - Observar a previsão dos benefícios contidos em Acordos, Convenções e Dissídios Coletivos de Trabalho e o disposto no art. 6º da IN 5/2017"]
[null,null,"C","Assistência Médica e Familiar",null,{"$f":"HLOOKUP($B$5,'Dados Gerais'!$D$6:$BI$109,100)","v":0}]
[null,null,"D","Seguro de vida / auxílio funeral",null,{"$f":"HLOOKUP($B$5,'Dados Gerais'!$D$6:$BI$145,109)","v":0}]
[null,null,"E","Assistência odontológica",null,{"$f":"HLOOKUP($B$5,'Dados Gerais'!$D$6:$BI$145,115)","v":0}]
[null,null,"F","Auxílio creche",null,{"$f":"HLOOKUP($B$5,'Dados Gerais'!$D$6:$BI$145,121)","v":0}]
[null,null,"G","Auxílio vestuário especial",null,{"$f":"HLOOKUP($B$5,'Dados Gerais'!$D$6:$BI$145,127)","v":0}]
[null,null,"H","Benefício social familiar",null,{"$f":"HLOOKUP($B$5,'Dados Gerais'!$D$6:$BI$145,133)","v":0}]
[null,null,"I","Outros (especificar)",null,{"$f":"HLOOKUP($B$5,'Dados Gerais'!$D$6:$BI$145,115)","v":0}]
[null,null,"J","Outros (especificar)",null,{"$f":"HLOOKUP($B$5,'Dados Gerais'!$D$6:$BI$145,115)","v":0}]
[]
[null,null,null,"QUADRO-RESUMO DO MÓDULO 2"]
[null,null,null,"2.1 - Adicional de Férias",{"$f":"SUM(E21:E22)","v":3.0300000000000001E-2},{"$f":"F21+F22","v":0}]
[null,null,null,"2.2 - Encargos Previdenciários (GPS), Fundo de Garantia por Tempo de Serviço (FGTS) e Contribuições",{"$f":"SUM(E25:E33)","v":0.34800000000000003},{"$f":"SUM(F25:F33)","v":0}]
[null,null,null,"2.3 - Benefícios Mensais e Diários",null,{"$f":"SUM(F36:F45)","v":0}]
[]
[null,null,null,"TOTAL DOS ENCARGOS E BENEFÍCIOS",null,{"$f":"TRUNC(SUM(F48:F50),2)","v":0}]
[]
[null,"MÓDULO 3 - PREVISÃO PARA RESCISÃO",null,null,"Percentuais","Valor"]
[null,null,"A",{"$f":"'Encargos Sociais'!D36","v":"Aviso Prévio Indenizado (Art. 7º, inciso XXI, da CF/1988 e arts. 477, 487, §1º, e 491 da CLT)"},{"$f":"'Encargos Sociais'!E36","v":4.1999999999999997E-3},{"$f":"TRUNC(E55*($F$17+$F$48+$F$80),2)","v":0},null,"* Nota 1 - Base de cálculo - remuneração + ausências + 1/3 férias"]
[null,null,"B",{"$f":"'Encargos Sociais'!D37","v":"Incidência do FGTS sobre o Aviso Prévio Indenizado (Súmula 305 TST)"},{"$f":"'Encargos Sociais'!E37","v":2.9999999999999997E-4},0]
[null,null,"C",{"$f":"'Encargos Sociais'!D38","v":"Multa do FGTS sobre o Aviso Prévio Indenizado (Art. 18, §1º, da Lei 8.036/1990)"},{"$f":"'Encargos Sociais'!E38","v":0},0]
[null,null,"D",{"$f":"'Encargos Sociais'!D39","v":"Aviso Prévio Trabalhado (Art. 488, parágrafo único, CLT)"},{"$f":"'Encargos Sociais'!E39","v":9.7000000000000003E-3},0]
[null,null,"E",{"$f":"'Encargos Sociais'!D40","v":"Incidência de GPS, FGTS e outras contribuições sobre o Aviso Prévio Trabalhado"},{"$f":"'Encargos Sociais'!E40","v":3.3999999999999998E-3},0]
[null,null,"F",{"$f":"'Encargos Sociais'!D41","v":"Multa do FGTS"},{"$f":"'Encargos Sociais'!E41","v":3.2000000000000001E-2},0]
[]
[null,null,null,"TOTAL DE PREVISÃO PARA RESCISÃO",null,{"$f":"TRUNC(SUM(F55:F60),2)","v":0}]
[]
[null,"MÓDULO 4 - CUSTO DO PROFISSIONAL AUSENTE",null,null,"Percentuais","Valor"]
[null,"Submódulo 4.1 - Ausências Legais"]
[null,null,"A",{"$f":"'Encargos Sociais'!D25","v":"Férias (Arts. 129 e 130, inc. I, da CLT)"},{"$f":"'Encargos Sociais'!E25","v":9.0899999999999995E-2},{"$f":"TRUNC(E66*$F$17,2)","v":0},null,"* Nota 1 - O Módulo 4 refere-se às previsões para custear ausências do próprio profissional (titular do cargo)"]
[null,null,"B",{"$f":"'Encargos Sociais'!D26","v":"Ausências Legais (Arts. 131 e 473 da CLT)"},{"$f":"'Encargos Sociais'!E26","v":7.9000000000000008E-3},0,null,"* Nota 2 - As férias foram calculadas dividindo-se por 11, para comportar os 11 meses presentes e ainda o ausente do posto"]
[null,null,"C",{"$f":"'Encargos Sociais'!D27","v":"Licença-Paternidade (Art. 7º, XIX, e art. 10, §1º, do ADCT, CF/1988 e Art. 1º, II, da Lei 11.770/2008)"},{"$f":"'Encargos Sociais'!E27","v":8.0000000000000004E-4},0]
[null,null,"D",{"$f":"'Encargos Sociais'!D28","v":"Ausência por Acidente de Trabalho (Art. 131, III, da CLT)"},{"$f":"'Encargos Sociais'!E28","v":8.9999999999999998E-4},0]
[null,null,"E",{"$f":"'Encargos Sociais'!D29","v":"Afastamento Maternidade (Art. 71 da Lei nº 8.213/1991)"},{"$f":"'Encargos Sociais'!E29","v":3.3E-3},0]
[null,null,"F",{"$f":"'Encargos Sociais'!D30","v":"Auxílio Enfermidade - Doença (Art. 59 da Lei nº 8.213/1991)"},{"$f":"'Encargos Sociais'!E30","v":7.1000000000000004E-3},0]
[]
[null,"Submódulo 4.2 - Intrajornada"]
[null,null,"A","Intervalo para repouso ou alimentação",{"$f":"'Encargos Sociais'!E33","v":0},{"$f":"ROUND(E74*$F$17,2)","v":0}]
[]
[null,null,null,"QUADRO-RESUMO DO MÓDULO 4",null,"Valor"]
[null,null,null,"4.1 - Ausências Legais",{"$f":"SUM(E66:E71)","v":0.11089999999999998},{"$f":"SUM(F66:F71)","v":0}]
[null,null,null,"4.2 - Intrajornada",{"$f":"E74","v":0},{"$f":"ROUND(E78*$F$17,2)","v":0}]
[]
[null,null,null,"TOTAL DE CUSTO DO PROFFIONAL AUSENTE E INTERVALO INTRAJORNADA",null,{"$f":"TRUNC(SUM(F77:F78),2)","v":0}]
[]
[null,"MÓDULO 5 - INSUMOS DIVERSOS",null,null,null,"Valor"]
[null,null,"A","Uniformes - aquisição",null,{"$f":"TRUNC(HLOOKUP($B$5,Uniformes!$J$3:$DY$5,3,0)/12,2)","v":0}]
[null,null,"B","Materiais de consumo relacionados ao posto - aquisição",null,0]
[null,null,"C","Ferramentas relacionadas ao posto - remuneração da sua depreciação / manutenção",null,0]
[null,null,"D","Equipamentos relacionados ao posto - remuneração da sua depreciação / manutenção",null,0]
[null,null,"E","Equipamentos de Proteção Individual - EPI - aquisição",null,{"$f":"TRUNC(HLOOKUP($B$5,EPI!$J$3:$DX$5,3,0)/12,2)","v":0}]
[]
[null,null,null,"TOTAL DE INSUMOS DIVERSOS",null,{"$f":"SUM(F83:F88)","v":0},null,"* Nota - Valores mensais por empregado"]
[]
[null,"MÓDULO 6 - CUSTOS INDIRETOS, TRIBUTOS E LUCRO - BDI",null,null,"Percentuais","Valor"]
[null,null,"A","Custos Indiretos",{"$f":"'BDI - Geral'!E7","v":2.7000000000000003E-2}]
[null,null,"A.1","Administração Central",{"$f":"'BDI - Geral'!E8","v":2.1600000000000001E-2}]
[null,null,"A.2","Seguros, Garantias e Riscos",{"$f":"'BDI - Geral'!E9","v":5.4000000000000003E-3}]
[null,null,"B","Lucro",{"$f":"'BDI - Geral'!E11","v":3.3399999999999999E-2}]
[null,null,"C","Tributos",{"$f":"SUM(E97:E98)","v":0.124}]
[null,null,"C.1","Tributos Federais (COFINS, PIS e CPRB)",{"$f":"'BDI - Geral'!E19","v":7.3999999999999996E-2}]
[null,null,"C.2","Tributos Distritais (ISS)",{"$f":"'BDI - Geral'!E24","v":0.05}]
[null,null,"D","Despesas Financeiras",{"$f":"'BDI - Geral'!E14","v":6.1000000000000004E-3}]
[]
[null,null,null,"TOTAL DE BDI",{"$f":"'BDI - Geral'!E27","v":0.21890000000000001},{"$f":"TRUNC(E101*E109,2)","v":0}]
[]
[null,null,null,"QUADRO-RESUMO DO CUSTO MENSAL POR EMPREGADO - SEM O 13º","Valor"]
[null,null,null,"Módulo 1 - Composição da Remuneração",{"$f":"F17","v":0}]
[null,null,null,"Módulo 2 - Encargos e Benefícios Anuais, Mensais e Diários",{"$f":"F52","v":0}]
[null,null,null,"Módulo 3 - Provisão para Rescisão",{"$f":"F62","v":0}]
[null,null,null,"Módulo 4 - Custo de Reposição do Profissional Ausente",{"$f":"F80","v":0}]
[null,null,null,"Módulo 5 - Insumos Diversos",{"$f":"F89","v":0}]
[null,null,null,"SUBTOTAL (A+B+C+D+E)",{"$f":"SUM(E104:E108)","v":0}]
[null,null,null,"Módulo 6 - Custos Indiretos, Tributos e Lucro",{"$f":"F101","v":0}]
[]
[null,null,null,"TOTAL DO POSTO",{"$f":"SUM(E109:E110)","v":0}]
[]
[null,"MÓDULO 7 - DESTAQUE DO MÓDULO 2 - 13º SALÁRIO",null,null,"Percentuais","Valor"]
[null,null,"A","13º Salário",{"$f":"'[1]Encargos Sociais'!E32*12/11","v":9.9163636363636357E-2},{"$f":"ROUND(E115*F$17,2)","v":0},null,"* Nota 1 - Incluindo-se a reincidência das férias do substituto sobre o titular"]
[null,null,"B","Encargos Sociais sobre o 13º Salário (submódulo 2.2 e módulo 3)",{"$f":"SUM($E$25:$E$33)+SUM($E$55:$E$60)","v":0.39760000000000006},{"$f":"ROUND(E116*$F$115,2)","v":0},null,"* Nota 2 - 13º e reflexos calculados à parte a fim de aprovisionamento"]
[null,null,"C","BDI sobre o 13º Salário",{"$f":"E101","v":0.21890000000000001},{"$f":"ROUND(E117*($F$115+$F$116),2)","v":0}]
[]
[null,null,null,"TOTAL DO DESTAQUE DO 13º SALÁRIO",null,{"$f":"SUM(F115:F117)","v":0}]
[]
[null,null,null,"QUADRO-RESUMO DO CUSTO MENSAL POR EMPREGADO","Valor"]
[null,null,null,"Custo total - sem o 13º Salário",{"$f":"ROUND(E112,2)","v":0}]
[null,null,null,"Destaque do 13º Salário (valor mensal)",{"$f":"ROUND(F119,2)","v":0}]
[]
[null,null,null,"TOTAL DO POSTO",{"$f":"E122+E123","v":0}]

{"sheet":"18","index":20,"n_rows":125,"n_cols":8,"rows_kept":125,"cut":false,"hidden":true,"merged":[[113,1,113,3],[46,3,46,5],[53,1,53,3],[63,1,63,3],[75,3,75,5],[81,1,81,3],[90,1,90,3],[18,1,18,3],[1,1,1,5],[2,1,2,5],[4,1,4,2],[5,1,5,2],[7,1,7,3]]}
[]
[null,"PLANILHA DE ESTIMATIVA DE CUSTOS"]
[null,"Padrão IN 05/2017 e IN 07/2018 - MPDG - Medição por posto presente"]
[]
[null,18,null,{"$f":"HLOOKUP($B$5,'Dados Gerais'!$D$6:$BI$22,6)","v":0},"QUANTIDADE",{"$f":"HLOOKUP($B$5,'Dados Gerais'!$D$6:$BI$22,10)","v":0}]
[null,"CCT",null,{"$f":"HLOOKUP($B$5,'Dados Gerais'!$D$6:$BI$22,16)","v":0},"DATA-BASE",{"$f":"HLOOKUP($B$5,'Dados Gerais'!$D$6:$BI$22,17)","v":"00:00:00"}]
[]
[null,"MÓDULO 1 - COMPOSIÇÃO DA REMUNERAÇÃO",null,null,null,"Valor"]
[null,null,"A","Salário-Base",null,{"$f":"HLOOKUP($B$5,'Dados Gerais'!$D$6:$BI$22,8)","v":0}]
[null,null,"B","Adicional de Periculosidade",null,{"$f":"HLOOKUP($B$5,'Dados Gerais'!$D$6:$BI$41,26)","v":0}]
[null,null,"C","Adicional de Insalubridade",null,{"$f":"HLOOKUP($B$5,'Dados Gerais'!$D$6:$BI$41,32)","v":0}]
[null,null,"D","Adicional Noturno",null,{"$f":"HLOOKUP($B$5,'Dados Gerais'!$D$6:$BI$54,49)","v":0},null,"* Nota 1 - O Módulo 1 refere-se ao valor mensal devido ao empregado pela prestação do serviço no período de 12 meses."]
[null,null,"E","Adicional de Hora Extra",null,{"$f":"HLOOKUP($B$5,'Dados Gerais'!$D$6:$BI$71,66)","v":0},null,"* Nota 2 - O adicional de hora extra no feriado trabalhado foi suprimido pela Lei 13.467/17"]
[null,null,"F","Gratificação",null,{"$f":"HLOOKUP($B$5,'Dados Gerais'!$D$6:$BI$71,34)","v":0},null,"* Nota 3 - ART. 7º, § 2º, DA LEI Nº 605/49.Sendo mensalista o obreiro, o adicional noturno pago de forma fixa já é considerado integrado para os efeitos do pagamento do repouso semanal remunerado, nos termos do art. 7º, § 2º, da Lei nº 605/49."]
[null,null,"G","Sobraviso",null,{"$f":"HLOOKUP($B$5,'Dados Gerais'!$D$6:$BI$71,36)","v":0},null,"* Nota 3 - ART. 7º, § 2º, DA LEI Nº 605/49.Sendo mensalista o obreiro, o adicional noturno pago de forma fixa já é considerado integrado para os efeitos do pagamento do repouso semanal remunerado, nos termos do art. 7º, § 2º, da Lei nº 605/49."]
[]
[null,null,null,"TOTAL DA REMUNERAÇÃO",null,{"$f":"TRUNC(SUM(F9:F15),2)","v":0}]
[]
[null,"MÓDULO 2 - ENCARGOS E BENEFÍCIOS ANUAIS, MENSAIS E DIÁRIOS",null,null,"Percentuais","Valor"]
[null,"Submódulo 2.1 - 13º Salário, Férias e Adicional de Férias"]
[null,null,"A","13º Salário - Calculado no Módulo 7 - Destacado",0,{"$f":"TRUNC(E21*F$17,2)","v":0}]
[null,null,"B","Adicional de Férias",{"$f":"'Encargos Sociais'!E31","v":3.0300000000000001E-2},{"$f":"TRUNC(E22*(F$17),2)","v":0},null,"* Nota 1 - O adicional de férias foi calculado dividindo-se por 11, para comportar os 11 meses presentes e ainda o ausente do posto"]
[]
[null,"Submódulo 2.2 - Encargos Previdenciários (GPS), Fundo de Garantia por Tempo de Serviço (FGTS) e Outras Contribuições"]
[null,null,"A",{"$f":"'Encargos Sociais'!D14","v":"INSS (art. 22, inciso I, Lei nº 8.212/91)"},{"$f":"'Encargos Sociais'!E14","v":0.2},{"$f":"TRUNC(E25*($F$17+$F$80+$F$22-F69),2)","v":0},null,"* Nota 1 - Os percentuais dos encargos previdenciários, do FGTS e demais contribuições são estabelecidos por legislação vigente."]
[null,null,"B",{"$f":"'Encargos Sociais'!D15","v":"Salário Educação (art. 3º, inciso I, Decreto nº 87.043/82)"},{"$f":"'Encargos Sociais'!E15","v":2.5000000000000001E-2},{"$f":"TRUNC(E26*($F$17+$F$80+$F$22),2)","v":0},null,"* Nota 2 - O SAT, a depender do grau de risco do serviço, irá variar entre 1%, para risco leve, de 2%, para risco médio, e de 3% para risco grave."]
[null,null,"C",{"$f":"'Encargos Sociais'!D16","v":"SAT/RAT (art. 22, II, Lei 8.212/91 e Anexo V, Decreto 6.042/07) - Enquadramento 8211-3/00"},{"$f":"'Encargos Sociais'!E16","v":0.01},0,null,"* Nota 3 - Base de cálculo - remuneração + ausências + terço constitucional (férias) - exceto INSS sobre ausência por acidente de trabalho"]
[null,null,"D",{"$f":"'Encargos Sociais'!D17","v":"SESC ou SESI (art. 30, Lei nº 8.036/90 e art. 1º, Lei 8.154/90)"},{"$f":"'Encargos Sociais'!E17","v":1.4999999999999999E-2},0]
[null,null,"E",{"$f":"'Encargos Sociais'!D18","v":"SENAI ou SENAC (Decreto nº 2.318/86)"},{"$f":"'Encargos Sociais'!E18","v":0.01},0]
[null,null,"F",{"$f":"'Encargos Sociais'!D19","v":"SEBRAE (§ 3º, art. 8º, Lei 8.029/90, alterada pela Lei nº 8.154/90)"},{"$f":"'Encargos Sociais'!E19","v":6.0000000000000001E-3},0]
[null,null,"G",{"$f":"'Encargos Sociais'!D20","v":"INCRA (art. 1º, I, Decreto Lei 1.146/70 e Lei 7.787, de 30/06/89)"},{"$f":"'Encargos Sociais'!E20","v":2E-3},0]
[null,null,"H",{"$f":"'Encargos Sociais'!D21","v":"FGTS (Lei Complementar nº 110/01 e art. 30, Lei nº 8.036/90)"},{"$f":"'Encargos Sociais'!E21","v":0.08},0]
[null,null,"I",{"$f":"'Encargos Sociais'!D22","v":"SECONCI (Convenções Coletivas de Trabalho da construção)"},{"$f":"'Encargos Sociais'!E22","v":0},0]
[]
[null,"Submódulo 2.3 - Benefícios Mensais e Diários"]
[null,null,"A","Auxílio Transporte",null,{"$f":"HLOOKUP($B$5,'Dados Gerais'!$D$6:$BI$101,85)","v":0},null,"* Nota 1 - O valor informado deverá ser o custo real do benefício (descontado o valor eventualmente pago pelo empregado)."]
[null,null,"B","Auxílio Alimentação",null,{"$f":"HLOOKUP($B$5,'Dados Gerais'!$D$6:$BI$101,92)","v":0},null,"* Nota 2 - Observar a previsão dos benefícios contidos em Acordos, Convenções e Dissídios Coletivos de Trabalho e o disposto no art. 6º da IN 5/2017"]
[null,null,"C","Assistência Médica e Familiar",null,{"$f":"HLOOKUP($B$5,'Dados Gerais'!$D$6:$BI$109,100)","v":0}]
[null,null,"D","Seguro de vida / auxílio funeral",null,{"$f":"HLOOKUP($B$5,'Dados Gerais'!$D$6:$BI$145,109)","v":0}]
[null,null,"E","Assistência odontológica",null,{"$f":"HLOOKUP($B$5,'Dados Gerais'!$D$6:$BI$145,115)","v":0}]
[null,null,"F","Auxílio creche",null,{"$f":"HLOOKUP($B$5,'Dados Gerais'!$D$6:$BI$145,121)","v":0}]
[null,null,"G","Auxílio vestuário especial",null,{"$f":"HLOOKUP($B$5,'Dados Gerais'!$D$6:$BI$145,127)","v":0}]
[null,null,"H","Benefício social familiar",null,{"$f":"HLOOKUP($B$5,'Dados Gerais'!$D$6:$BI$145,133)","v":0}]
[null,null,"I","Outros (especificar)",null,{"$f":"HLOOKUP($B$5,'Dados Gerais'!$D$6:$BI$145,115)","v":0}]
[null,null,"J","Outros (especificar)",null,{"$f":"HLOOKUP($B$5,'Dados Gerais'!$D$6:$BI$145,115)","v":0}]
[]
[null,null,null,"QUADRO-RESUMO DO MÓDULO 2"]
[null,null,null,"2.1 - Adicional de Férias",{"$f":"SUM(E21:E22)","v":3.0300000000000001E-2},{"$f":"F21+F22","v":0}]
[null,null,null,"2.2 - Encargos Previdenciários (GPS), Fundo de Garantia por Tempo de Serviço (FGTS) e Contribuições",{"$f":"SUM(E25:E33)","v":0.34800000000000003},{"$f":"SUM(F25:F33)","v":0}]
[null,null,null,"2.3 - Benefícios Mensais e Diários",null,{"$f":"SUM(F36:F45)","v":0}]
[]
[null,null,null,"TOTAL DOS ENCARGOS E BENEFÍCIOS",null,{"$f":"TRUNC(SUM(F48:F50),2)","v":0}]
[]
[null,"MÓDULO 3 - PREVISÃO PARA RESCISÃO",null,null,"Percentuais","Valor"]
[null,null,"A",{"$f":"'Encargos Sociais'!D36","v":"Aviso Prévio Indenizado (Art. 7º, inciso XXI, da CF/1988 e arts. 477, 487, §1º, e 491 da CLT)"},{"$f":"'Encargos Sociais'!E36","v":4.1999999999999997E-3},{"$f":"TRUNC(E55*($F$17+$F$48+$F$80),2)","v":0},null,"* Nota 1 - Base de cálculo - remuneração + ausências + 1/3 férias"]
[null,null,"B",{"$f":"'Encargos Sociais'!D37","v":"Incidência do FGTS sobre o Aviso Prévio Indenizado (Súmula 305 TST)"},{"$f":"'Encargos Sociais'!E37","v":2.9999999999999997E-4},0]
[null,null,"C",{"$f":"'Encargos Sociais'!D38","v":"Multa do FGTS sobre o Aviso Prévio Indenizado (Art. 18, §1º, da Lei 8.036/1990)"},{"$f":"'Encargos Sociais'!E38","v":0},0]
[null,null,"D",{"$f":"'Encargos Sociais'!D39","v":"Aviso Prévio Trabalhado (Art. 488, parágrafo único, CLT)"},{"$f":"'Encargos Sociais'!E39","v":9.7000000000000003E-3},0]
[null,null,"E",{"$f":"'Encargos Sociais'!D40","v":"Incidência de GPS, FGTS e outras contribuições sobre o Aviso Prévio Trabalhado"},{"$f":"'Encargos Sociais'!E40","v":3.3999999999999998E-3},0]
[null,null,"F",{"$f":"'Encargos Sociais'!D41","v":"Multa do FGTS"},{"$f":"'Encargos Sociais'!E41","v":3.2000000000000001E-2},0]
[]
[null,null,null,"TOTAL DE PREVISÃO PARA RESCISÃO",null,{"$f":"TRUNC(SUM(F55:F60),2)","v":0}]
[]
[null,"MÓDULO 4 - CUSTO DO PROFISSIONAL AUSENTE",null,null,"Percentuais","Valor"]
[null,"Submódulo 4.1 - Ausências Legais"]
[null,null,"A",{"$f":"'Encargos Sociais'!D25","v":"Férias (Arts. 129 e 130, inc. I, da CLT)"},{"$f":"'Encargos Sociais'!E25","v":9.0899999999999995E-2},{"$f":"TRUNC(E66*$F$17,2)","v":0},null,"* Nota 1 - O Módulo 4 refere-se às previsões para custear ausências do próprio profissional (titular do cargo)"]
[null,null,"B",{"$f":"'Encargos Sociais'!D26","v":"Ausências Legais (Arts. 131 e 473 da CLT)"},{"$f":"'Encargos Sociais'!E26","v":7.9000000000000008E-3},0,null,"* Nota 2 - As férias foram calculadas dividindo-se por 11, para comportar os 11 meses presentes e ainda o ausente do posto"]
[null,null,"C",{"$f":"'Encargos Sociais'!D27","v":"Licença-Paternidade (Art. 7º, XIX, e art. 10, §1º, do ADCT, CF/1988 e Art. 1º, II, da Lei 11.770/2008)"},{"$f":"'Encargos Sociais'!E27","v":8.0000000000000004E-4},0]
[null,null,"D",{"$f":"'Encargos Sociais'!D28","v":"Ausência por Acidente de Trabalho (Art. 131, III, da CLT)"},{"$f":"'Encargos Sociais'!E28","v":8.9999999999999998E-4},0]
[null,null,"E",{"$f":"'Encargos Sociais'!D29","v":"Afastamento Maternidade (Art. 71 da Lei nº 8.213/1991)"},{"$f":"'Encargos Sociais'!E29","v":3.3E-3},0]
[null,null,"F",{"$f":"'Encargos Sociais'!D30","v":"Auxílio Enfermidade - Doença (Art. 59 da Lei nº 8.213/1991)"},{"$f":"'Encargos Sociais'!E30","v":7.1000000000000004E-3},0]
[]
[null,"Submódulo 4.2 - Intrajornada"]
[null,null,"A","Intervalo para repouso ou alimentação",{"$f":"'Encargos Sociais'!E33","v":0},{"$f":"ROUND(E74*$F$17,2)","v":0}]
[]
[null,null,null,"QUADRO-RESUMO DO MÓDULO 4",null,"Valor"]
[null,null,null,"4.1 - Ausências Legais",{"$f":"SUM(E66:E71)","v":0.11089999999999998},{"$f":"SUM(F66:F71)","v":0}]
[null,null,null,"4.2 - Intrajornada",{"$f":"E74","v":0},{"$f":"ROUND(E78*$F$17,2)","v":0}]
[]
[null,null,null,"TOTAL DE CUSTO DO PROFFIONAL AUSENTE E INTERVALO INTRAJORNADA",null,{"$f":"TRUNC(SUM(F77:F78),2)","v":0}]
[]
[null,"MÓDULO 5 - INSUMOS DIVERSOS",null,null,null,"Valor"]
[null,null,"A","Uniformes - aquisição",null,{"$f":"TRUNC(HLOOKUP($B$5,Uniformes!$J$3:$DY$5,3,0)/12,2)","v":0}]
[null,null,"B","Materiais de consumo relacionados ao posto - aquisição",null,0]
[null,null,"C","Ferramentas relacionadas ao posto - remuneração da sua depreciação / manutenção",null,0]
[null,null,"D","Equipamentos relacionados ao posto - remuneração da sua depreciação / manutenção",null,0]
[null,null,"E","Equipamentos de Proteção Individual - EPI - aquisição",null,{"$f":"TRUNC(HLOOKUP($B$5,EPI!$J$3:$DX$5,3,0)/12,2)","v":0}]
[]
[null,null,null,"TOTAL DE INSUMOS DIVERSOS",null,{"$f":"SUM(F83:F88)","v":0},null,"* Nota - Valores mensais por empregado"]
[]
[null,"MÓDULO 6 - CUSTOS INDIRETOS, TRIBUTOS E LUCRO - BDI",null,null,"Percentuais","Valor"]
[null,null,"A","Custos Indiretos",{"$f":"'BDI - Geral'!E7","v":2.7000000000000003E-2}]
[null,null,"A.1","Administração Central",{"$f":"'BDI - Geral'!E8","v":2.1600000000000001E-2}]
[null,null,"A.2","Seguros, Garantias e Riscos",{"$f":"'BDI - Geral'!E9","v":5.4000000000000003E-3}]
[null,null,"B","Lucro",{"$f":"'BDI - Geral'!E11","v":3.3399999999999999E-2}]
[null,null,"C","Tributos",{"$f":"SUM(E97:E98)","v":0.124}]
[null,null,"C.1","Tributos Federais (COFINS, PIS e CPRB)",{"$f":"'BDI - Geral'!E19","v":7.3999999999999996E-2}]
[null,null,"C.2","Tributos Distritais (ISS)",{"$f":"'BDI - Geral'!E24","v":0.05}]
[null,null,"D","Despesas Financeiras",{"$f":"'BDI - Geral'!E14","v":6.1000000000000004E-3}]
[]
[null,null,null,"TOTAL DE BDI",{"$f":"'BDI - Geral'!E27","v":0.21890000000000001},{"$f":"TRUNC(E101*E109,2)","v":0}]
[]
[null,null,null,"QUADRO-RESUMO DO CUSTO MENSAL POR EMPREGADO - SEM O 13º","Valor"]
[null,null,null,"Módulo 1 - Composição da Remuneração",{"$f":"F17","v":0}]
[null,null,null,"Módulo 2 - Encargos e Benefícios Anuais, Mensais e Diários",{"$f":"F52","v":0}]
[null,null,null,"Módulo 3 - Provisão para Rescisão",{"$f":"F62","v":0}]
[null,null,null,"Módulo 4 - Custo de Reposição do Profissional Ausente",{"$f":"F80","v":0}]
[null,null,null,"Módulo 5 - Insumos Diversos",{"$f":"F89","v":0}]
[null,null,null,"SUBTOTAL (A+B+C+D+E)",{"$f":"SUM(E104:E108)","v":0}]
[null,null,null,"Módulo 6 - Custos Indiretos, Tributos e Lucro",{"$f":"F101","v":0}]
[]
[null,null,null,"TOTAL DO POSTO",{"$f":"SUM(E109:E110)","v":0}]
[]
[null,"MÓDULO 7 - DESTAQUE DO MÓDULO 2 - 13º SALÁRIO",null,null,"Percentuais","Valor"]
[null,null,"A","13º Salário",{"$f":"'[1]Encargos Sociais'!E32*12/11","v":9.9163636363636357E-2},{"$f":"ROUND(E115*F$17,2)","v":0},null,"* Nota 1 - Incluindo-se a reincidência das férias do substituto sobre o titular"]
[null,null,"B","Encargos Sociais sobre o 13º Salário (submódulo 2.2 e módulo 3)",{"$f":"SUM($E$25:$E$33)+SUM($E$55:$E$60)","v":0.39760000000000006},{"$f":"ROUND(E116*$F$115,2)","v":0},null,"* Nota 2 - 13º e reflexos calculados à parte a fim de aprovisionamento"]
[null,null,"C","BDI sobre o 13º Salário",{"$f":"E101","v":0.21890000000000001},{"$f":"ROUND(E117*($F$115+$F$116),2)","v":0}]
[]
[null,null,null,"TOTAL DO DESTAQUE DO 13º SALÁRIO",null,{"$f":"SUM(F115:F117)","v":0}]
[]
[null,null,null,"QUADRO-RESUMO DO CUSTO MENSAL POR EMPREGADO","Valor"]
[null,null,null,"Custo total - sem o 13º Salário",{"$f":"ROUND(E112,2)","v":0}]
[null,null,null,"Destaque do 13º Salário (valor mensal)",{"$f":"ROUND(F119,2)","v":0}]
[]
[null,null,null,"TOTAL DO POSTO",{"$f":"E122+E123","v":0}]

{"sheet":"19","index":21,"n_rows":125,"n_cols":8,"rows_kept":125,"cut":false,"hidden":true,"merged":[[113,1,113,3],[46,3,46,5],[53,1,53,3],[63,1,63,3],[75,3,75,5],[81,1,81,3],[90,1,90,3],[18,1,18,3],[1,1,1,5],[2,1,2,5],[4,1,4,2],[5,1,5,2],[7,1,7,3]]}
[]
[null,"PLANILHA DE ESTIMATIVA DE CUSTOS"]
[null,"Padrão IN 05/2017 e IN 07/2018 - MPDG - Medição por posto presente"]
[]
[null,19,null,{"$f":"HLOOKUP($B$5,'Dados Gerais'!$D$6:$BI$22,6)","v":0},"QUANTIDADE",{"$f":"HLOOKUP($B$5,'Dados Gerais'!$D$6:$BI$22,10)","v":0}]
[null,"CCT",null,{"$f":"HLOOKUP($B$5,'Dados Gerais'!$D$6:$BI$22,16)","v":0},"DATA-BASE",{"$f":"HLOOKUP($B$5,'Dados Gerais'!$D$6:$BI$22,17)","v":"00:00:00"}]
[]
[null,"MÓDULO 1 - COMPOSIÇÃO DA REMUNERAÇÃO",null,null,null,"Valor"]
[null,null,"A","Salário-Base",null,{"$f":"HLOOKUP($B$5,'Dados Gerais'!$D$6:$BI$22,8)","v":0}]
[null,null,"B","Adicional de Periculosidade",null,{"$f":"HLOOKUP($B$5,'Dados Gerais'!$D$6:$BI$41,26)","v":0}]
[null,null,"C","Adicional de Insalubridade",null,{"$f":"HLOOKUP($B$5,'Dados Gerais'!$D$6:$BI$41,32)","v":0}]
[null,null,"D","Adicional Noturno",null,{"$f":"HLOOKUP($B$5,'Dados Gerais'!$D$6:$BI$54,49)","v":0},null,"* Nota 1 - O Módulo 1 refere-se ao valor mensal devido ao empregado pela prestação do serviço no período de 12 meses."]
[null,null,"E","Adicional de Hora Extra",null,{"$f":"HLOOKUP($B$5,'Dados Gerais'!$D$6:$BI$71,66)","v":0},null,"* Nota 2 - O adicional de hora extra no feriado trabalhado foi suprimido pela Lei 13.467/17"]
[null,null,"F","Gratificação",null,{"$f":"HLOOKUP($B$5,'Dados Gerais'!$D$6:$BI$71,34)","v":0},null,"* Nota 3 - ART. 7º, § 2º, DA LEI Nº 605/49.Sendo mensalista o obreiro, o adicional noturno pago de forma fixa já é considerado integrado para os efeitos do pagamento do repouso semanal remunerado, nos termos do art. 7º, § 2º, da Lei nº 605/49."]
[null,null,"G","Sobraviso",null,{"$f":"HLOOKUP($B$5,'Dados Gerais'!$D$6:$BI$71,36)","v":0},null,"* Nota 3 - ART. 7º, § 2º, DA LEI Nº 605/49.Sendo mensalista o obreiro, o adicional noturno pago de forma fixa já é considerado integrado para os efeitos do pagamento do repouso semanal remunerado, nos termos do art. 7º, § 2º, da Lei nº 605/49."]
[]
[null,null,null,"TOTAL DA REMUNERAÇÃO",null,{"$f":"TRUNC(SUM(F9:F15),2)","v":0}]
[]
[null,"MÓDULO 2 - ENCARGOS E BENEFÍCIOS ANUAIS, MENSAIS E DIÁRIOS",null,null,"Percentuais","Valor"]
[null,"Submódulo 2.1 - 13º Salário, Férias e Adicional de Férias"]
[null,null,"A","13º Salário - Calculado no Módulo 7 - Destacado",0,{"$f":"TRUNC(E21*F$17,2)","v":0}]
[null,null,"B","Adicional de Férias",{"$f":"'Encargos Sociais'!E31","v":3.0300000000000001E-2},{"$f":"TRUNC(E22*(F$17),2)","v":0},null,"* Nota 1 - O adicional de férias foi calculado dividindo-se por 11, para comportar os 11 meses presentes e ainda o ausente do posto"]
[]
[null,"Submódulo 2.2 - Encargos Previdenciários (GPS), Fundo de Garantia por Tempo de Serviço (FGTS) e Outras Contribuições"]
[null,null,"A",{"$f":"'Encargos Sociais'!D14","v":"INSS (art. 22, inciso I, Lei nº 8.212/91)"},{"$f":"'Encargos Sociais'!E14","v":0.2},{"$f":"TRUNC(E25*($F$17+$F$80+$F$22-F69),2)","v":0},null,"* Nota 1 - Os percentuais dos encargos previdenciários, do FGTS e demais contribuições são estabelecidos por legislação vigente."]
[null,null,"B",{"$f":"'Encargos Sociais'!D15","v":"Salário Educação (art. 3º, inciso I, Decreto nº 87.043/82)"},{"$f":"'Encargos Sociais'!E15","v":2.5000000000000001E-2},{"$f":"TRUNC(E26*($F$17+$F$80+$F$22),2)","v":0},null,"* Nota 2 - O SAT, a depender do grau de risco do serviço, irá variar entre 1%, para risco leve, de 2%, para risco médio, e de 3% para risco grave."]
[null,null,"C",{"$f":"'Encargos Sociais'!D16","v":"SAT/RAT (art. 22, II, Lei 8.212/91 e Anexo V, Decreto 6.042/07) - Enquadramento 8211-3/00"},{"$f":"'Encargos Sociais'!E16","v":0.01},0,null,"* Nota 3 - Base de cálculo - remuneração + ausências + terço constitucional (férias) - exceto INSS sobre ausência por acidente de trabalho"]
[null,null,"D",{"$f":"'Encargos Sociais'!D17","v":"SESC ou SESI (art. 30, Lei nº 8.036/90 e art. 1º, Lei 8.154/90)"},{"$f":"'Encargos Sociais'!E17","v":1.4999999999999999E-2},0]
[null,null,"E",{"$f":"'Encargos Sociais'!D18","v":"SENAI ou SENAC (Decreto nº 2.318/86)"},{"$f":"'Encargos Sociais'!E18","v":0.01},0]
[null,null,"F",{"$f":"'Encargos Sociais'!D19","v":"SEBRAE (§ 3º, art. 8º, Lei 8.029/90, alterada pela Lei nº 8.154/90)"},{"$f":"'Encargos Sociais'!E19","v":6.0000000000000001E-3},0]
[null,null,"G",{"$f":"'Encargos Sociais'!D20","v":"INCRA (art. 1º, I, Decreto Lei 1.146/70 e Lei 7.787, de 30/06/89)"},{"$f":"'Encargos Sociais'!E20","v":2E-3},0]
[null,null,"H",{"$f":"'Encargos Sociais'!D21","v":"FGTS (Lei Complementar nº 110/01 e art. 30, Lei nº 8.036/90)"},{"$f":"'Encargos Sociais'!E21","v":0.08},0]
[null,null,"I",{"$f":"'Encargos Sociais'!D22","v":"SECONCI (Convenções Coletivas de Trabalho da construção)"},{"$f":"'Encargos Sociais'!E22","v":0},0]
[]
[null,"Submódulo 2.3 - Benefícios Mensais e Diários"]
[null,null,"A","Auxílio Transporte",null,{"$f":"HLOOKUP($B$5,'Dados Gerais'!$D$6:$BI$101,85)","v":0},null,"* Nota 1 - O valor informado deverá ser o custo real do benefício (descontado o valor eventualmente pago pelo empregado)."]
[null,null,"B","Auxílio Alimentação",null,{"$f":"HLOOKUP($B$5,'Dados Gerais'!$D$6:$BI$101,92)","v":0},null,"* Nota 2 - Observar a previsão dos benefícios contidos em Acordos, Convenções e Dissídios Coletivos de Trabalho e o disposto no art. 6º da IN 5/2017"]
[null,null,"C","Assistência Médica e Familiar",null,{"$f":"HLOOKUP($B$5,'Dados Gerais'!$D$6:$BI$109,100)","v":0}]
[null,null,"D","Seguro de vida / auxílio funeral",null,{"$f":"HLOOKUP($B$5,'Dados Gerais'!$D$6:$BI$145,109)","v":0}]
[null,null,"E","Assistência odontológica",null,{"$f":"HLOOKUP($B$5,'Dados Gerais'!$D$6:$BI$145,115)","v":0}]
[null,null,"F","Auxílio creche",null,{"$f":"HLOOKUP($B$5,'Dados Gerais'!$D$6:$BI$145,121)","v":0}]
[null,null,"G","Auxílio vestuário especial",null,{"$f":"HLOOKUP($B$5,'Dados Gerais'!$D$6:$BI$145,127)","v":0}]
[null,null,"H","Benefício social familiar",null,{"$f":"HLOOKUP($B$5,'Dados Gerais'!$D$6:$BI$145,133)","v":0}]
[null,null,"I","Outros (especificar)",null,{"$f":"HLOOKUP($B$5,'Dados Gerais'!$D$6:$BI$145,115)","v":0}]
[null,null,"J","Outros (especificar)",null,{"$f":"HLOOKUP($B$5,'Dados Gerais'!$D$6:$BI$145,115)","v":0}]
[]
[null,null,null,"QUADRO-RESUMO DO MÓDULO 2"]
[null,null,null,"2.1 - Adicional de Férias",{"$f":"SUM(E21:E22)","v":3.0300000000000001E-2},{"$f":"F21+F22","v":0}]
[null,null,null,"2.2 - Encargos Previdenciários (GPS), Fundo de Garantia por Tempo de Serviço (FGTS) e Contribuições",{"$f":"SUM(E25:E33)","v":0.34800000000000003},{"$f":"SUM(F25:F33)","v":0}]
[null,null,null,"2.3 - Benefícios Mensais e Diários",null,{"$f":"SUM(F36:F45)","v":0}]
[]
[null,null,null,"TOTAL DOS ENCARGOS E BENEFÍCIOS",null,{"$f":"TRUNC(SUM(F48:F50),2)","v":0}]
[]
[null,"MÓDULO 3 - PREVISÃO PARA RESCISÃO",null,null,"Percentuais","Valor"]
[null,null,"A",{"$f":"'Encargos Sociais'!D36","v":"Aviso Prévio Indenizado (Art. 7º, inciso XXI, da CF/1988 e arts. 477, 487, §1º, e 491 da CLT)"},{"$f":"'Encargos Sociais'!E36","v":4.1999999999999997E-3},{"$f":"TRUNC(E55*($F$17+$F$48+$F$80),2)","v":0},null,"* Nota 1 - Base de cálculo - remuneração + ausências + 1/3 férias"]
[null,null,"B",{"$f":"'Encargos Sociais'!D37","v":"Incidência do FGTS sobre o Aviso Prévio Indenizado (Súmula 305 TST)"},{"$f":"'Encargos Sociais'!E37","v":2.9999999999999997E-4},0]
[null,null,"C",{"$f":"'Encargos Sociais'!D38","v":"Multa do FGTS sobre o Aviso Prévio Indenizado (Art. 18, §1º, da Lei 8.036/1990)"},{"$f":"'Encargos Sociais'!E38","v":0},0]
[null,null,"D",{"$f":"'Encargos Sociais'!D39","v":"Aviso Prévio Trabalhado (Art. 488, parágrafo único, CLT)"},{"$f":"'Encargos Sociais'!E39","v":9.7000000000000003E-3},0]
[null,null,"E",{"$f":"'Encargos Sociais'!D40","v":"Incidência de GPS, FGTS e outras contribuições sobre o Aviso Prévio Trabalhado"},{"$f":"'Encargos Sociais'!E40","v":3.3999999999999998E-3},0]
[null,null,"F",{"$f":"'Encargos Sociais'!D41","v":"Multa do FGTS"},{"$f":"'Encargos Sociais'!E41","v":3.2000000000000001E-2},0]
[]
[null,null,null,"TOTAL DE PREVISÃO PARA RESCISÃO",null,{"$f":"TRUNC(SUM(F55:F60),2)","v":0}]
[]
[null,"MÓDULO 4 - CUSTO DO PROFISSIONAL AUSENTE",null,null,"Percentuais","Valor"]
[null,"Submódulo 4.1 - Ausências Legais"]
[null,null,"A",{"$f":"'Encargos Sociais'!D25","v":"Férias (Arts. 129 e 130, inc. I, da CLT)"},{"$f":"'Encargos Sociais'!E25","v":9.0899999999999995E-2},{"$f":"TRUNC(E66*$F$17,2)","v":0},null,"* Nota 1 - O Módulo 4 refere-se às previsões para custear ausências do próprio profissional (titular do cargo)"]
[null,null,"B",{"$f":"'Encargos Sociais'!D26","v":"Ausências Legais (Arts. 131 e 473 da CLT)"},{"$f":"'Encargos Sociais'!E26","v":7.9000000000000008E-3},0,null,"* Nota 2 - As férias foram calculadas dividindo-se por 11, para comportar os 11 meses presentes e ainda o ausente do posto"]
[null,null,"C",{"$f":"'Encargos Sociais'!D27","v":"Licença-Paternidade (Art. 7º, XIX, e art. 10, §1º, do ADCT, CF/1988 e Art. 1º, II, da Lei 11.770/2008)"},{"$f":"'Encargos Sociais'!E27","v":8.0000000000000004E-4},0]
[null,null,"D",{"$f":"'Encargos Sociais'!D28","v":"Ausência por Acidente de Trabalho (Art. 131, III, da CLT)"},{"$f":"'Encargos Sociais'!E28","v":8.9999999999999998E-4},0]
[null,null,"E",{"$f":"'Encargos Sociais'!D29","v":"Afastamento Maternidade (Art. 71 da Lei nº 8.213/1991)"},{"$f":"'Encargos Sociais'!E29","v":3.3E-3},0]
[null,null,"F",{"$f":"'Encargos Sociais'!D30","v":"Auxílio Enfermidade - Doença (Art. 59 da Lei nº 8.213/1991)"},{"$f":"'Encargos Sociais'!E30","v":7.1000000000000004E-3},0]
[]
[null,"Submódulo 4.2 - Intrajornada"]
[null,null,"A","Intervalo para repouso ou alimentação",{"$f":"'Encargos Sociais'!E33","v":0},{"$f":"ROUND(E74*$F$17,2)","v":0}]
[]
[null,null,null,"QUADRO-RESUMO DO MÓDULO 4",null,"Valor"]
[null,null,null,"4.1 - Ausências Legais",{"$f":"SUM(E66:E71)","v":0.11089999999999998},{"$f":"SUM(F66:F71)","v":0}]
[null,null,null,"4.2 - Intrajornada",{"$f":"E74","v":0},{"$f":"ROUND(E78*$F$17,2)","v":0}]
[]
[null,null,null,"TOTAL DE CUSTO DO PROFFIONAL AUSENTE E INTERVALO INTRAJORNADA",null,{"$f":"TRUNC(SUM(F77:F78),2)","v":0}]
[]
[null,"MÓDULO 5 - INSUMOS DIVERSOS",null,null,null,"Valor"]
[null,null,"A","Uniformes - aquisição",null,{"$f":"TRUNC(HLOOKUP($B$5,Uniformes!$J$3:$DY$5,3,0)/12,2)","v":0}]
[null,null,"B","Materiais de consumo relacionados ao posto - aquisição",null,0]
[null,null,"C","Ferramentas relacionadas ao posto - remuneração da sua depreciação / manutenção",null,0]
[null,null,"D","Equipamentos relacionados ao posto - remuneração da sua depreciação / manutenção",null,0]
[null,null,"E","Equipamentos de Proteção Individual - EPI - aquisição",null,{"$f":"TRUNC(HLOOKUP($B$5,EPI!$J$3:$DX$5,3,0)/12,2)","v":0}]
[]
[null,null,null,"TOTAL DE INSUMOS DIVERSOS",null,{"$f":"SUM(F83:F88)","v":0},null,"* Nota - Valores mensais por empregado"]
[]
[null,"MÓDULO 6 - CUSTOS INDIRETOS, TRIBUTOS E LUCRO - BDI",null,null,"Percentuais","Valor"]
[null,null,"A","Custos Indiretos",{"$f":"'BDI - Geral'!E7","v":2.7000000000000003E-2}]
[null,null,"A.1","Administração Central",{"$f":"'BDI - Geral'!E8","v":2.1600000000000001E-2}]
[null,null,"A.2","Seguros, Garantias e Riscos",{"$f":"'BDI - Geral'!E9","v":5.4000000000000003E-3}]
[null,null,"B","Lucro",{"$f":"'BDI - Geral'!E11","v":3.3399999999999999E-2}]
[null,null,"C","Tributos",{"$f":"SUM(E97:E98)","v":0.124}]
[null,null,"C.1","Tributos Federais (COFINS, PIS e CPRB)",{"$f":"'BDI - Geral'!E19","v":7.3999999999999996E-2}]
[null,null,"C.2","Tributos Distritais (ISS)",{"$f":"'BDI - Geral'!E24","v":0.05}]
[null,null,"D","Despesas Financeiras",{"$f":"'BDI - Geral'!E14","v":6.1000000000000004E-3}]
[]
[null,null,null,"TOTAL DE BDI",{"$f":"'BDI - Geral'!E27","v":0.21890000000000001},{"$f":"TRUNC(E101*E109,2)","v":0}]
[]
[null,null,null,"QUADRO-RESUMO DO CUSTO MENSAL POR EMPREGADO - SEM O 13º","Valor"]
[null,null,null,"Módulo 1 - Composição da Remuneração",{"$f":"F17","v":0}]
[null,null,null,"Módulo 2 - Encargos e Benefícios Anuais, Mensais e Diários",{"$f":"F52","v":0}]
[null,null,null,"Módulo 3 - Provisão para Rescisão",{"$f":"F62","v":0}]
[null,null,null,"Módulo 4 - Custo de Reposição do Profissional Ausente",{"$f":"F80","v":0}]
[null,null,null,"Módulo 5 - Insumos Diversos",{"$f":"F89","v":0}]
[null,null,null,"SUBTOTAL (A+B+C+D+E)",{"$f":"SUM(E104:E108)","v":0}]
[null,null,null,"Módulo 6 - Custos Indiretos, Tributos e Lucro",{"$f":"F101","v":0}]
[]
[null,null,null,"TOTAL DO POSTO",{"$f":"SUM(E109:E110)","v":0}]
[]
[null,"MÓDULO 7 - DESTAQUE DO MÓDULO 2 - 13º SALÁRIO",null,null,"Percentuais","Valor"]
[null,null,"A","13º Salário",{"$f":"'[1]Encargos Sociais'!E32*12/11","v":9.9163636363636357E-2},{"$f":"ROUND(E115*F$17,2)","v":0},null,"* Nota 1 - Incluindo-se a reincidência das férias do substituto sobre o titular"]
[null,null,"B","Encargos Sociais sobre o 13º Salário (submódulo 2.2 e módulo 3)",{"$f":"SUM($E$25:$E$33)+SUM($E$55:$E$60)","v":0.39760000000000006},{"$f":"ROUND(E116*$F$115,2)","v":0},null,"* Nota 2 - 13º e reflexos calculados à parte a fim de aprovisionamento"]
[null,null,"C","BDI sobre o 13º Salário",{"$f":"E101","v":0.21890000000000001},{"$f":"ROUND(E117*($F$115+$F$116),2)","v":0}]
[]
[null,null,null,"TOTAL DO DESTAQUE DO 13º SALÁRIO",null,{"$f":"SUM(F115:F117)","v":0}]
[]
[null,null,null,"QUADRO-RESUMO DO CUSTO MENSAL POR EMPREGADO","Valor"]
[null,null,null,"Custo total - sem o 13º Salário",{"$f":"ROUND(E112,2)","v":0}]
[null,null,null,"Destaque do 13º Salário (valor mensal)",{"$f":"ROUND(F119,2)","v":0}]
[]
[null,null,null,"TOTAL DO POSTO",{"$f":"E122+E123","v":0}]

{"sheet":"2","index":22,"n_rows":112,"n_cols":8,"rows_kept":112,"cut":false,"hidden":false,"merged":[[18,1,18,3],[1,1,1,5],[2,1,2,5],[4,1,4,2],[5,1,5,2],[7,1,7,3],[90,1,90,3],[46,3,46,5],[53,1,53,3],[63,1,63,3],[75,3,75,5],[81,1,81,3]]}
[]
[null,"PLANILHA DE ESTIMATIVA DE CUSTOS"]
[null,"Padrão IN 05/2017 e IN 07/2018 - MPDG - Medição por posto presente"]
[]
[null,2,null,{"$f":"HLOOKUP($B$5,'Dados Gerais'!$D$6:$BI$22,6)","v":"ENCARREGADO GERAL"},"QUANTIDADE",{"$f":"HLOOKUP($B$5,'Dados Gerais'!$D$6:$BI$22,10)","v":1}]
[null,"CCT",null,{"$f":"HLOOKUP($B$5,'Dados Gerais'!$D$6:$BI$22,16)","v":"SEAC/DF x SINDISERVIÇOS/DF \nCCT 2025/2026 \nN.º DF000042/2025"},"DATA-BASE",{"$f":"HLOOKUP($B$5,'Dados Gerais'!$D$6:$BI$22,17)","v":"2025-01-01"}]
[]
[null,"MÓDULO 1 - COMPOSIÇÃO DA REMUNERAÇÃO",null,null,null,"Valor"]
[null,null,"A","Salário-Base",null,{"$f":"HLOOKUP($B$5,'Dados Gerais'!$D$6:$BI$22,8)","v":6937.73}]
[null,null,"B","Adicional de Periculosidade",null,{"$f":"HLOOKUP($B$5,'Dados Gerais'!$D$6:$BI$41,26)","v":0}]
[null,null,"C","Adicional de Insalubridade",null,{"$f":"HLOOKUP($B$5,'Dados Gerais'!$D$6:$BI$41,32)","v":0}]
[null,null,"D","Adicional Noturno",null,{"$f":"HLOOKUP($B$5,'Dados Gerais'!$D$6:$BI$54,49)","v":0},null,"* Nota 1 - O Módulo 1 refere-se ao valor mensal devido ao empregado pela prestação do serviço no período de 12 meses."]
[null,null,"E","Adicional de Hora Extra",null,{"$f":"HLOOKUP($B$5,'Dados Gerais'!$D$6:$BI$71,66)","v":0},null,"* Nota 2 - O adicional de hora extra no feriado trabalhado foi suprimido pela Lei 13.467/17"]
[null,null,"F","Gratificação",null,{"$f":"HLOOKUP($B$5,'Dados Gerais'!$D$6:$BI$71,34)","v":0},null,"* Nota 3 - ART. 7º, § 2º, DA LEI Nº 605/49.Sendo mensalista o obreiro, o adicional noturno pago de forma fixa já é considerado integrado para os efeitos do pagamento do repouso semanal remunerado, nos termos do art. 7º, § 2º, da Lei nº 605/49."]
[null,null,"G","Sobraviso",null,{"$f":"HLOOKUP($B$5,'Dados Gerais'!$D$6:$BI$71,36)","v":0}]
[]
[null,null,null,"TOTAL DA REMUNERAÇÃO",null,{"$f":"TRUNC(SUM(F9:F15),2)","v":6937.73}]
[]
[null,"MÓDULO 2 - ENCARGOS E BENEFÍCIOS ANUAIS, MENSAIS E DIÁRIOS",null,null,"Percentuais","Valor"]
[null,"Submódulo 2.1 - Férias e Adicional de Férias"]
[null,null,"A","13º Salário",{"$f":"'Encargos Sociais'!$E$32","v":9.0899999999999995E-2},{"$f":"ROUND(E21*F$17,2)","v":630.64},null,"* Nota 1 - O 13º salário foi calculado dividindo-se por 11, para comportar os 11 meses presentes e ainda o ausente do posto"]
[null,null,"B","Adicional de Férias",{"$f":"'Encargos Sociais'!E31","v":3.0300000000000001E-2},{"$f":"TRUNC(E22*(F$17),2)","v":210.21},null,"* Nota 2 - O adicional de férias foi calculado dividindo-se por 11, para comportar os 11 meses presentes e ainda o ausente do posto"]
[]
[null,"Submódulo 2.2 - Encargos Previdenciários (GPS), Fundo de Garantia por Tempo de Serviço (FGTS) e Outras Contribuições"]
[null,null,"A",{"$f":"'Encargos Sociais'!D14","v":"INSS (art. 22, inciso I, Lei nº 8.212/91)"},{"$f":"'Encargos Sociais'!E14","v":0.2},{"$f":"TRUNC(E25*($F$17+$F$21+$F$22+$F$80-$F$69),2)","v":1708.34},null,"* Nota 1 - Os percentuais dos encargos previdenciários, do FGTS e demais contribuições são estabelecidos por legislação vigente."]
[null,null,"B",{"$f":"'Encargos Sociais'!D15","v":"Salário Educação (art. 3º, inciso I, Decreto nº 87.043/82)"},{"$f":"'Encargos Sociais'!E15","v":2.5000000000000001E-2},{"$f":"TRUNC(E26*($F$17+$F$21+$F$22+$F$80),2)","v":213.69},null,"* Nota 2 - O SAT, a depender do grau de risco do serviço, irá variar entre 1%, para risco leve, de 2%, para risco médio, e de 3% para risco grave."]
[null,null,"C",{"$f":"'Encargos Sociais'!D16","v":"SAT/RAT (art. 22, II, Lei 8.212/91 e Anexo V, Decreto 6.042/07) - Enquadramento 8211-3/00"},{"$f":"'Encargos Sociais'!E16","v":0.01},{"$f":"TRUNC(E27*($F$17+$F$21+$F$22+$F$80),2)","v":85.47},null,"* Nota 3 - Base de cálculo - remuneração + ausências + 13º salário + terço constitucional (férias) - exceto INSS sobre ausência por acidente de trabalho"]
[null,null,"D",{"$f":"'Encargos Sociais'!D17","v":"SESC ou SESI (art. 30, Lei nº 8.036/90 e art. 1º, Lei 8.154/90)"},{"$f":"'Encargos Sociais'!E17","v":1.4999999999999999E-2},128.21]
[null,null,"E",{"$f":"'Encargos Sociais'!D18","v":"SENAI ou SENAC (Decreto nº 2.318/86)"},{"$f":"'Encargos Sociais'!E18","v":0.01},85.47]
[null,null,"F",{"$f":"'Encargos Sociais'!D19","v":"SEBRAE (§ 3º, art. 8º, Lei 8.029/90, alterada pela Lei nº 8.154/90)"},{"$f":"'Encargos Sociais'!E19","v":6.0000000000000001E-3},51.28]
[null,null,"G",{"$f":"'Encargos Sociais'!D20","v":"INCRA (art. 1º, I, Decreto Lei 1.146/70 e Lei 7.787, de 30/06/89)"},{"$f":"'Encargos Sociais'!E20","v":2E-3},17.09]
[null,null,"H",{"$f":"'Encargos Sociais'!D21","v":"FGTS (Lei Complementar nº 110/01 e art. 30, Lei nº 8.036/90)"},{"$f":"'Encargos Sociais'!E21","v":0.08},683.83]
[null,null,"I",{"$f":"'Encargos Sociais'!D22","v":"SECONCI (Convenções Coletivas de Trabalho da construção)"},{"$f":"'Encargos Sociais'!E22","v":0},0]
[]
[null,"Submódulo 2.3 - Benefícios Mensais e Diários"]
[null,null,"A","Auxílio Transporte",null,{"$f":"HLOOKUP($B$5,'Dados Gerais'!$D$6:$BI$144,85)","v":0},null,"* Nota 1 - O valor informado deverá ser o custo real do benefício (descontado o valor eventualmente pago pelo empregado)."]
[null,null,"B","Auxílio Alimentação",null,{"$f":"HLOOKUP($B$5,'Dados Gerais'!$D$6:$BI$144,96)","v":1048.3},null,"* Nota 2 - Observar a previsão dos benefícios contidos em Acordos, Convenções e Dissídios Coletivos de Trabalho e o disposto no art. 6º da IN 5/2017"]
[null,null,"C","Assistência Médica e Familiar",null,{"$f":"HLOOKUP($B$5,'Dados Gerais'!$D$6:$BI$144,104)","v":0}]
[null,null,"D","Seguro de vida / auxílio funeral",null,{"$f":"HLOOKUP($B$5,'Dados Gerais'!$D$6:$BI$144,113)","v":3.61}]
[null,null,"E","Assistência odontológica",null,{"$f":"HLOOKUP($B$5,'Dados Gerais'!$D$6:$BI$144,119)","v":0}]
[null,null,"F","Auxílio creche",null,{"$f":"HLOOKUP($B$5,'Dados Gerais'!$D$6:$BI$144,125)","v":0}]
[null,null,"G","Auxílio vestuário especial",null,{"$f":"HLOOKUP($B$5,'Dados Gerais'!$D$6:$BI$144,130)","v":0}]
[null,null,"H","Benefício social familiar",null,{"$f":"HLOOKUP($B$5,'Dados Gerais'!$D$6:$BI$144,137)","v":0}]
[null,null,"I","Outros (especificar)",null,0]
[null,null,"J","Outros (especificar)",null,0]
[]
[null,null,null,"QUADRO-RESUMO DO MÓDULO 2"]
[null,null,null,"2.1 - 13º salário e Adicional de Férias",{"$f":"SUM(E21:E22)","v":0.1212},{"$f":"F21+F22","v":840.85}]
[null,null,null,"2.2 - Encargos Previdenciários (GPS), Fundo de Garantia por Tempo de Serviço (FGTS) e Contribuições",{"$f":"SUM(E25:E33)","v":0.34800000000000003},{"$f":"SUM(F25:F33)","v":2973.38}]
[null,null,null,"2.3 - Benefícios Mensais e Diários",null,{"$f":"SUM(F36:F45)","v":1051.9099999999999}]
[]
[null,null,null,"TOTAL DOS ENCARGOS E BENEFÍCIOS",null,{"$f":"TRUNC(SUM(F48:F50),2)","v":4866.1400000000003}]
[]
[null,"MÓDULO 3 - PROVISÃO PARA RESCISÃO",null,null,"Percentuais","Valor"]
[null,null,"A",{"$f":"'Encargos Sociais'!D36","v":"Aviso Prévio Indenizado (Art. 7º, inciso XXI, da CF/1988 e arts. 477, 487, §1º, e 491 da CLT)"},{"$f":"'Encargos Sociais'!E36","v":4.1999999999999997E-3},{"$f":"TRUNC(E55*($F$17+$F$48+$F$80),2)","v":35.9},null,"* Nota 1 - Base de cálculo - remuneração + ausências + 1/3 férias + 13º"]
[null,null,"B",{"$f":"'Encargos Sociais'!D37","v":"Incidência do FGTS sobre o Aviso Prévio Indenizado (Súmula 305 TST)"},{"$f":"'Encargos Sociais'!E37","v":2.9999999999999997E-4},{"$f":"TRUNC(E56*($F$17+$F$48+$F$80),2)","v":2.56}]
[null,null,"C",{"$f":"'Encargos Sociais'!D38","v":"Multa do FGTS sobre o Aviso Prévio Indenizado (Art. 18, §1º, da Lei 8.036/1990)"},{"$f":"'Encargos Sociais'!E38","v":0},{"$f":"TRUNC(E57*($F$17+$F$48+$F$80),2)","v":0},null,"* Nota 2 - zerado pois foi considerada toda a incidência da multa do FGTS na letra F"]
[null,null,"D",{"$f":"'Encargos Sociais'!D39","v":"Aviso Prévio Trabalhado (Art. 488, parágrafo único, CLT)"},{"$f":"'Encargos Sociais'!E39","v":9.7000000000000003E-3},{"$f":"TRUNC(E58*($F$17),2)","v":67.290000000000006}]
[null,null,"E",{"$f":"'Encargos Sociais'!D40","v":"Incidência de GPS, FGTS e outras contribuições sobre o Aviso Prévio Trabalhado"},{"$f":"'Encargos Sociais'!E40","v":3.3999999999999998E-3},{"$f":"TRUNC(E59*($F$17),2)","v":23.58}]
[null,null,"F",{"$f":"'Encargos Sociais'!D41","v":"Multa do FGTS"},{"$f":"'Encargos Sociais'!E41","v":3.2000000000000001E-2},{"$f":"TRUNC(E60*($F$17+$F$48+$F$80),2)","v":273.52999999999997}]
[]
[null,null,null,"TOTAL DE PROVISÃO PARA RESCISÃO",null,{"$f":"TRUNC(SUM(F55:F60),2)","v":402.86}]
[]
[null,"MÓDULO 4 - CUSTO DO PROFISSIONAL AUSENTE",null,null,"Percentuais","Valor"]
[null,"Submódulo 4.1 - Ausências Legais"]
[null,null,"A",{"$f":"'Encargos Sociais'!D25","v":"Férias (Arts. 129 e 130, inc. I, da CLT)"},{"$f":"'Encargos Sociais'!E25","v":9.0899999999999995E-2},{"$f":"TRUNC(E66*$F$17,2)","v":630.63},null,"* Nota 1 - O Módulo 4 refere-se às previsões para custear ausências do próprio profissional (titular do cargo)"]
[null,null,"B",{"$f":"'Encargos Sociais'!D26","v":"Ausências Legais (Arts. 131 e 473 da CLT)"},{"$f":"'Encargos Sociais'!E26","v":7.9000000000000008E-3},54.8,null,"* Nota 2 - As férias foram calculadas dividindo-se por 11, para comportar os 11 meses presentes e ainda o ausente do posto"]
[null,null,"C",{"$f":"'Encargos Sociais'!D27","v":"Licença-Paternidade (Art. 7º, XIX, e art. 10, §1º, do ADCT, CF/1988 e Art. 1º, II, da Lei 11.770/2008)"},{"$f":"'Encargos Sociais'!E27","v":8.0000000000000004E-4},5.55]
[null,null,"D",{"$f":"'Encargos Sociais'!D28","v":"Ausência por Acidente de Trabalho (Art. 131, III, da CLT)"},{"$f":"'Encargos Sociais'!E28","v":8.9999999999999998E-4},6.24]
[null,null,"E",{"$f":"'Encargos Sociais'!D29","v":"Afastamento Maternidade (Art. 71 da Lei nº 8.213/1991)"},{"$f":"'Encargos Sociais'!E29","v":3.3E-3},22.89]
[null,null,"F",{"$f":"'Encargos Sociais'!D30","v":"Auxílio Enfermidade - Doença (Art. 59 da Lei nº 8.213/1991)"},{"$f":"'Encargos Sociais'!E30","v":7.1000000000000004E-3},49.25]
[]
[null,"Submódulo 4.2 - Intrajornada"]
[null,null,"A","Intervalo para repouso ou alimentação",{"$f":"'Encargos Sociais'!E33","v":0},{"$f":"ROUND(E74*$F$17,2)","v":0}]
[]
[null,null,null,"QUADRO-RESUMO DO MÓDULO 4",null,"Valor"]
[null,null,null,"4.1 - Ausências Legais",{"$f":"SUM(E66:E71)","v":0.11089999999999998},{"$f":"SUM(F66:F71)","v":769.3599999999999}]
[null,null,null,"4.2 - Intrajornada",{"$f":"E74","v":0},{"$f":"ROUND(E78*$F$17,2)","v":0}]
[]
[null,null,null,"TOTAL DE CUSTO DO PROFISSIONAL AUSENTE E INTERVALO INTRAJORNADA",null,{"$f":"TRUNC(SUM(F77:F78),2)","v":769.36}]
[]
[null,"MÓDULO 5 - INSUMOS DIVERSOS",null,null,null,"Valor"]
[null,null,"A","Uniformes - aquisição",null,{"$f":"TRUNC(HLOOKUP($B$5,Uniformes!$J$3:$DY$5,3,0)/12,2)","v":0}]
[null,null,"B","Materiais de consumo relacionados ao posto - aquisição",null,0]
[null,null,"C","Ferramentas relacionadas ao posto - remuneração da sua depreciação / manutenção",null,0]
[null,null,"D","Equipamentos relacionados ao posto - remuneração da sua depreciação / manutenção",null,0]
[null,null,"E","Equipamentos de Proteção Individual - EPI - aquisição",null,{"$f":"TRUNC(HLOOKUP($B$5,EPI!$J$3:$DX$5,3,0)/12,2)","v":0}]
[]
[null,null,null,"TOTAL DE INSUMOS DIVERSOS",null,{"$f":"SUM(F83:F88)","v":0},null,"* Nota - Valores mensais por empregado"]
[]
[null,"MÓDULO 6 - CUSTOS INDIRETOS, TRIBUTOS E LUCRO - BDI",null,null,"Percentuais","Valor"]
[null,null,"A","Custos Indiretos",{"$f":"'BDI - Geral'!E7","v":2.7000000000000003E-2}]
[null,null,"A.1","Administração Central",{"$f":"'BDI - Geral'!E8","v":2.1600000000000001E-2}]
[null,null,"A.2","Seguros, Garantias e Riscos",{"$f":"'BDI - Geral'!E9","v":5.4000000000000003E-3}]
[null,null,"B","Lucro",{"$f":"'BDI - Geral'!E11","v":3.3399999999999999E-2}]
[null,null,"C","Tributos",{"$f":"SUM(E97:E98)","v":0.124}]
[null,null,"C.1","Tributos Federais (COFINS, PIS e CPRB)",{"$f":"'BDI - Geral'!E19","v":7.3999999999999996E-2}]
[null,null,"C.2","Tributos Distritais (ISS)",{"$f":"'BDI - Geral'!E24","v":0.05}]
[null,null,"D","Despesas Financeiras",{"$f":"'BDI - Geral'!E14","v":6.1000000000000004E-3}]
[]
[null,null,null,"TOTAL DE BDI",{"$f":"'BDI - Geral'!E27","v":0.21890000000000001},{"$f":"TRUNC(E101*E109,2)","v":2840.46}]
[]
[null,null,null,"QUADRO-RESUMO DO CUSTO MENSAL POR EMPREGADO","Valor"]
[null,null,null,"Módulo 1 - Composição da Remuneração",{"$f":"F17","v":6937.73}]
[null,null,null,"Módulo 2 - Encargos e Benefícios Anuais, Mensais e Diários",{"$f":"F52","v":4866.1400000000003}]
[null,null,null,"Módulo 3 - Provisão para Rescisão",{"$f":"F62","v":402.86}]
[null,null,null,"Módulo 4 - Custo do Profissional Ausente",{"$f":"F80","v":769.36}]
[null,null,null,"Módulo 5 - Insumos Diversos",{"$f":"F89","v":0}]
[null,null,null,"SUBTOTAL (A+B+C+D+E)",{"$f":"SUM(E104:E108)","v":12976.09}]
[null,null,null,"Módulo 6 - Custos Indiretos, Tributos e Lucro",{"$f":"F101","v":2840.46}]
[]
[null,null,null,"TOTAL DO POSTO",{"$f":"SUM(E109:E110)","v":15816.55}]

{"sheet":"Dados Gerais","index":23,"n_rows":144,"n_cols":61,"rows_kept":144,"cut":false,"hidden":false,"merged":[[3,1,3,2]]}
[]
[]
[]
[null,"INFORMAÇÕES DE ENTRADA"]
[]
[null,null,null,1,2,3,4,5,6,7,8,9,10,11,12,13,14,15,16,17,18,19,20,null,null,null,null,null,null,null,null,null,null,null,null,null,null,null,null,null,null,null,null,null,null,null,null,null,null,null,null,null,null,null,54,55,56,57,58,59,60]
[null,"",null,"CARGO 1","CARGO 2","CARGO 3","CARGO 4","CARGO 5","CARGO 6","CARGO 7","CARGO 8","CARGO 9","CARGO 10","CARGO 11","CARGO 12","CARGO 13","CARGO 14","CARGO 15","CARGO 16","CARGO 17","CARGO 18","CARGO 19","CARGO 20",null,null,null,null,null,null,null,null,null,null,null,null,null,null,null,null,null,null,null,null,null,null,null,null,null,null,null,null,null,null,null,"CARGO 54","CARGO 55","CARGO 56","CARGO 57","CARGO 58","CARGO 59","CARGO 60"]
[null,"INFORMAÇÕES BÁSICAS"]
[]
[null,"DESCRIÇÃO DOS POSTOS DE SERVIÇO"]
[null,null,null,"TÉCNICO DE APOIO ADMINISTRATIVO","ENCARREGADO GERAL"]
[null,"REMUNERAÇÕES"]
[null,null,null,4932.41,6937.73]
[null,"QUANTIDADE DE POSTOS"]
[null,null,null,{"$f":"133+15+20","v":168},1]
[null,"JORNADA"]
[null,null,"HORAS/DIA","08:00:00","08:00:00"]
[null,null,"DIAS/MÊS",22,22]
[null,null,"HORAS/MÊS",{"$f":"44*5","v":220},{"$f":"44*5","v":220}]
[null,"CCT UTILIZADA"]
[null,null,"SINDICATOS E REFERÊNCIA","SEAC/DF x SINDISERVIÇOS/DF \nCCT 2025/2026 \nN.º DF000042/2025","SEAC/DF x SINDISERVIÇOS/DF \nCCT 2025/2026 \nN.º DF000042/2025"]
[null,null,"DATA-BASE","2025-01-01","2025-01-01"]
[]
[null,"ADICIONAIS LEGAIS E GRATIFICAÇÕES"]
[]
[null,"PERICULOSIDADE (PERCENTUAL)"]
[null,null,null,0,0]
[null,"BASE DE CÁLCULO DO ADICIONAL DE PERICULOSIDADE (SALÁRIO BÁSICO)"]
[null,null,null,{"$f":"D13","v":4932.41},{"$f":"E13","v":6937.73}]
[null,"VALOR MENSAL DO ADICIONAL DE PERICULOSIDADE"]
[null,null,null,{"$f":"ROUND(D27*D13,2)","v":0},{"$f":"ROUND(E27*E13,2)","v":0}]
[null,"INSALUBRIDADE (PERCENTUAL)"]
[null,null,null,0,0]
[null,"BASE DE CÁLCULO DO ADICIONAL DE INSALUBRIDADE (SALÁRIO MÍNIMO LEGAL)"]
[null,null,null,1518,1518]
[null,"VALOR MENSAL DO ADICIONAL DE INSALUBRIDADE"]
[null,null,null,{"$f":"ROUND(D33*D35,2)","v":0},{"$f":"ROUND(E33*E35,2)","v":0}]
[null,"GRATIFICAÇÃO - VALOR MENSAL (R$)"]
[null,null,null,0,0]
[null,"SOBREAVISO - VALOR MENSAL (R$)"]
[null,null,null,0,0]
[]
[null,"ADICIONAL NOTURNO"]
[]
[null,"INCIDÊNCIA (PERCENTUAL)"]
[null,null,"*conforme cláusula décima da CCT",0.2,0.2]
[null,"HORAS REAIS POR DIA"]
[null,null,"*considerando 1 hora de intervalo para alimentação",0,0]
[null,"HORAS FICTAS POR DIA"]
[null,null,null,{"$f":"D48*8/7","v":0},{"$f":"E48*8/7","v":0}]
[null,"BASE DE CÁLCULO DO ADICIONAL NOTURNO (INCLUINDO ADICIONAIS E GRATIFICAÇÕES)"]
[null,null,null,{"$f":"D13+D31+D37+D41","v":4932.41},{"$f":"E13+E31+E37+E41","v":6937.73}]
[null,"VALOR MENSAL DO ADICIONAL NOTURNO (HORA NORMAL + HORA REDUZIDA) - POR POSTO"]
[null,null,null,{"$f":"ROUND(D50*D18*D46*D52/D19,2)","v":0},{"$f":"ROUND(E50*E18*E46*E52/E19,2)","v":0}]
[]
[null,"ADICIONAL DE HORA EXTRA"]
[]
[null,"INCIDÊNCIA (PERCENTUAL 1)"]
[null,null,null,0.5,0.5]
[null,"HORAS EXTRAS POR MÊS (PERCENTUAL 1)"]
[null,null,null,0,0]
[null,"VALOR MENSAL DO ADICIONAL DE HORAS EXTRAS (PERCENTUAL 1) - POR POSTO"]
[null,null,null,{"$f":"ROUND(D61*D59*D13/D19,2)","v":0},{"$f":"ROUND(E61*E59*E13/E19,2)","v":0}]
[null,"INCIDÊNCIA (PERCENTUAL 2)"]
[null,null,null,1,1]
[null,"HORAS EXTRAS POR MÊS (PERCENTUAL 2)"]
[null,null,null,0,0]
[null,"VALOR MENSAL DO ADICIONAL DE HORAS EXTRAS (PERCENTUAL 2) - POR POSTO"]
[null,null,null,{"$f":"ROUND(D67*D65*D13/D19,2)","v":0},{"$f":"ROUND(E67*E65*E13/E19,2)","v":0}]
[null,"TOTAL MENSAL DOS ADICIONAIS DE HORAS EXTRAS - POR POSTO"]
[null,null,null,{"$f":"D69+D63","v":0},{"$f":"E69+E63","v":0}]
[]
[null,"BENEFÍCIOS COMUNS - AUXÍLIO TRANSPORTE"]
[]
[null,"DISTRIBUIÇÃO ESTIMADA DE PROCEDÊNCIA"]
[null,null,"Cidade-satélite",{"$f":"100%-D77","v":0.94669999999999999},{"$f":"100%-E77","v":0.94669999999999999}]
[null,null,"Região do entorno (média ponderada do contrato atual)",{"$f":"ROUND(9/SUM($D$15:$V$15),4)","v":5.33E-2},{"$f":"ROUND(9/SUM($D$15:$V$15),4)","v":5.33E-2}]
[null,null,"Esplanada - apenas para os que vêm do entorno",{"$f":"D77","v":5.33E-2},{"$f":"E77","v":5.33E-2}]
[null,"VALORES DOS VALES"]
[null,null,"Cidade-satélite",5.5,5.5]
[null,null,"Região do entorno (média ponderada do contrato atual)",10.35,10.35]
[null,null,"Esplanada",2.75,2.75]
[null,"VALOR MENSAL BRUTO DE PAGAMENTO - POR POSTO"]
[null,null,null,{"$f":"ROUND((D76*D80+D77*D81+D78*D82)*2*D18,2)","v":259.82},{"$f":"ROUND((E76*E80+E77*E81+E78*E82)*2*E18,2)","v":259.82}]
[null,"PERCENTUAL DE DESCONTO"]
[null,null,null,0.06,0.06]
[null,"VALOR MENSAL DO DESCONTO - POR POSTO"]
[null,null,null,{"$f":"ROUND(D86*D13,2)","v":295.94},{"$f":"ROUND(E86*E13,2)","v":416.26}]
[null,"VALOR MENSAL LÍQUIDO DO VALE TRANSPORTE - POR POSTO"]
[null,null,null,{"$f":"IF(D84>D88,D84-D88,0)","v":0},{"$f":"IF(E84>E88,E84-E88,0)","v":0}]
[null,null,null,{"$f":"D90*D15","v":0},{"$f":"E90*E15","v":0}]
[null,"BENEFÍCIOS COMUNS - AUXÍLIO ALIMENTAÇÃO"]
[]
[null,null,"VALOR CCT",44.3,44.3]
[null,null,"VALOR CD",47.65,{"$f":"D95","v":47.65}]
[null,"VALOR MENSAL DO AUXÍLIO ALIMENTAÇÃO - POR POSTO"]
[null,null,null,{"$f":"ROUND(LARGE($D$94:$D$95,1)*$D$18,2)","v":1048.3},{"$f":"ROUND(LARGE($D$94:$D$95,1)*$D$18,2)","v":1048.3}]
[null,"VALOR MENSAL DO AUXÍLIO ALIMENTAÇÃO FÉRIAS - POR POSTO - CCT - 1/11 avos"]
[null,null,null,0,0]
[null,"VALOR TOTAL MENSAL DO AUXÍLIO ALIMENTAÇÃO INCLUSIVE FÉRIAS - POR POSTO"]
[null,null,null,{"$f":"D97+D99","v":1048.3},{"$f":"E97+E99","v":1048.3}]
[null,null,null,{"$f":"D101*D15","v":176114.4},{"$f":"E101*E15","v":1048.3}]
[null,"BENEFÍCIOS ESPECIAIS - ASSISTÊNCIA MÉDICA E FAMILIAR"]
[]
[null,null,"OBRIGAÇÃO DE PAGTO","NÃO","NÃO"]
[null,null,"VALOR CCT"]
[null,null,"VALOR MERCADO "]
[null,"VALOR MENSAL DO AUXÍLIO ESPECIAL - ASSISTÊNCIA MÉDICA E FAMILIAR - POR POSTO"]
[null,null,null,{"$f":"IF(D105=\"SIM\",ROUND(SMALL(D106:D107,1),2),0)","v":0},{"$f":"IF(E105=\"SIM\",ROUND(SMALL(E106:E107,1),2),0)","v":0}]
[]
[null,"BENEFÍCIOS ESPECIAIS - SEGURO DE VIDA E AUXÍLIO-FUNERAL, AUX ODONT, AUX CRECHE"]
[]
[null,"SEGURO DE VIDA E AUXÍLIO FUNERAL"]
[null,null,"OBRIGAÇÃO DE PAGTO","SIM","SIM",null,null,null,null,null,null,null,null,null,null,null,null,null,null,null,null,null,{"$f":"V114","v":0},null,null,null,null,null,null,null,null,null,null,null,null,null,null,null,null,null,null,null,null,null,null,null,null,null,null,null,null,null,null,null,0,0,0,0,0,0,0]
[null,null,"VALOR CCT",3.61,3.61,null,null,null,null,null,null,null,null,null,null,null,null,null,null,null,null,null,0,null,null,null,null,null,null,null,null,null,null,null,null,null,null,null,null,null,null,null,null,null,null,null,null,null,null,null,null,null,null,null,0,0,0,0,0,0,0]
[null,null,"VALOR MERCADO",null,null,null,null,null,null,null,null,null,null,null,null,null,null,null,null,null,null,null,0,null,null,null,null,null,null,null,null,null,null,null,null,null,null,null,null,null,null,null,null,null,null,null,null,null,null,null,null,null,null,null,0,0,0,0,0,0,0]
[null,"VALOR MENSAL DO AUXÍLIO ESPECIAL - SEGURO DE VIDA E AUXÍLIO FUNERAL - POR POSTO"]
[null,null,null,{"$f":"IF(D114=\"SIM\",ROUND(SMALL(D115:D116,1),2),0)","v":3.61},3.61,null,null,null,null,null,null,null,null,null,null,null,null,null,null,null,null,null,{"$f":"V118","v":0},null,null,null,null,null,null,null,null,null,null,null,null,null,null,null,null,null,null,null,null,null,null,null,null,null,null,null,null,null,null,null,0,0,0,0,0,0,0]
[null,"AUXÍLIO ODONTOLÓGICO"]
[null,null,"OBRIGAÇÃO DE PAGTO","NÃO","NÃO",null,null,null,null,null,null,null,null,null,null,null,null,null,null,null,null,null,{"$f":"V120","v":0},null,null,null,null,null,null,null,null,null,null,null,null,null,null,null,null,null,null,null,null,null,null,null,null,null,null,null,null,null,null,null,0,0,0,0,0,0,0]
[null,null,"VALOR CCT",0,0,null,null,null,null,null,null,null,null,null,null,null,null,null,null,null,null,null,0,null,null,null,null,null,null,null,null,null,null,null,null,null,null,null,null,null,null,null,null,null,null,null,null,null,null,null,null,null,null,null,0,0,0,0,0,0,0]
[null,null,"VALOR MERCADO",0,0,null,null,null,null,null,null,null,null,null,null,null,null,null,null,null,null,null,0,null,null,null,null,null,null,null,null,null,null,null,null,null,null,null,null,null,null,null,null,null,null,null,null,null,null,null,null,null,null,null,0,0,0,0,0,0,0]
[null,"VALOR MENSAL DO AUXÍLIO ESPECIAL - AUXILIO ODONTOLOGICO - POR POSTO"]
[null,null,null,{"$f":"IF(D120=\"SIM\",ROUND(SMALL(D121:D122,1),2),0)","v":0},0,null,null,null,null,null,null,null,null,null,null,null,null,null,null,null,null,null,{"$f":"V124","v":0},null,null,null,null,null,null,null,null,null,null,null,null,null,null,null,null,null,null,null,null,null,null,null,null,null,null,null,null,null,null,null,0,0,0,0,0,0,0]
[null,"REEMBOLSO CRECHE"]
[null,null,"OBRIGAÇÃO DE PAGTO","NÃO","NÃO",null,null,null,null,null,null,null,null,null,null,null,null,null,null,null,null,null,{"$f":"V126","v":0},null,null,null,null,null,null,null,null,null,null,null,null,null,null,null,null,null,null,null,null,null,null,null,null,null,null,null,null,null,null,null,0,0,0,0,0,0,0]
[null,null,"VALOR CCT",0,0,null,null,null,null,null,null,null,null,null,null,null,null,null,null,null,null,null,0,null,null,null,null,null,null,null,null,null,null,null,null,null,null,null,null,null,null,null,null,null,null,null,null,null,null,null,null,null,null,null,0,0,0,0,0,0,0]
[null,null,"VALOR CALCULADO - % PESSOAS COM CRIANCAS ATE 6A - 20%",0,0,null,null,null,null,null,null,null,null,null,null,null,null,null,null,null,null,null,0,null,null,null,null,null,null,null,null,null,null,null,null,null,null,null,null,null,null,null,null,null,null,null,null,null,null,null,null,null,null,null,0,0,0,0,0,0,0]
[null,"VALOR MENSAL DO AUXÍLIO ESPECIAL - REEMBOLSO CRECHE - POR POSTO"]
[null,null,null,{"$f":"IF(D126=\"SIM\",ROUND(SMALL(D127:D128,1),2),0)","v":0},{"$f":"IF(E126=\"SIM\",ROUND(SMALL(E127:E128,1),2),0)","v":0},null,null,null,null,null,null,null,null,null,null,null,null,null,null,null,null,null,{"$f":"V130","v":0},null,null,null,null,null,null,null,null,null,null,null,null,null,null,null,null,null,null,null,null,null,null,null,null,null,null,null,null,null,null,null,0,0,0,0,0,0,0]
[null,"AUXÍLIO VESTUÁRIO ESPECIAL"]
[null,null,"OBRIGAÇÃO DE PAGTO","NÃO","NÃO",null,null,null,null,null,null,null,null,null,null,null,null,null,null,null,null,null,{"$f":"V132","v":0},null,null,null,null,null,null,null,null,null,null,null,null,null,null,null,null,null,null,null,null,null,null,null,null,null,null,null,null,null,null,null,0,0,0,0,0,0,0]
[null,null,"VALOR CCT",0,0,null,null,null,null,null,null,null,null,null,null,null,null,null,null,null,null,null,0,null,null,null,null,null,null,null,null,null,null,null,null,null,null,null,null,null,null,null,null,null,null,null,null,null,null,null,null,null,null,null,0,0,0,0,0,0,0]
[null,null,"VALOR MERCADO",0,0,null,null,null,null,null,null,null,null,null,null,null,null,null,null,null,null,null,0,null,null,null,null,null,null,null,null,null,null,null,null,null,null,null,null,null,null,null,null,null,null,null,null,null,null,null,null,null,null,null,0,0,0,0,0,0,0]
[null,"VALOR MENSAL DO AUXÍLIO ESPECIAL - VESTUTUÁRIO - POR POSTO"]
[null,null,null,{"$f":"IF(D132=\"SIM\",ROUND(SMALL(D133:D134,1),2),0)","v":0},{"$f":"IF(E132=\"SIM\",ROUND(SMALL(E133:E134,1),2),0)","v":0},null,null,null,null,null,null,null,null,null,null,null,null,null,null,null,null,null,{"$f":"V136","v":0},null,null,null,null,null,null,null,null,null,null,null,null,null,null,null,null,null,null,null,null,null,null,null,null,null,null,null,null,null,null,null,0,0,0,0,0,0,0]
[null,"BENEFÍCIO SOCIAL FAMILAR (§2º e §16º da CLÁUSULA 18ª DA CCT - obrigatório para empresas com menos de 100 empregados)"]
[null,null,"OBRIGAÇÃO DE PAGTO","NÃO","NÃO",null,null,null,null,null,null,null,null,null,null,null,null,null,null,null,null,null,{"$f":"V138","v":0},null,null,null,null,null,null,null,null,null,null,null,null,null,null,null,null,null,null,null,null,null,null,null,null,null,null,null,null,null,null,null,0,0,0,0,0,0,0]
[null,null,"VALOR CCT",null,null,null,null,null,null,null,null,null,null,null,null,null,null,null,null,null,null,null,0,null,null,null,null,null,null,null,null,null,null,null,null,null,null,null,null,null,null,null,null,null,null,null,null,null,null,null,null,null,null,null,0,0,0,0,0,0,0]
[null,null,"VALOR MERCADO",0,0,null,null,null,null,null,null,null,null,null,null,null,null,null,null,null,null,null,0,null,null,null,null,null,null,null,null,null,null,null,null,null,null,null,null,null,null,null,null,null,null,null,null,null,null,null,null,null,null,null,0,0,0,0,0,0,0]
[null,"VALOR MENSAL DO AUXÍLIO ESPECIAL - BENEFÍCIO SOCIAL FAMILIAR - POR POSTO"]
[null,null,null,{"$f":"IF(D138=\"SIM\",ROUND(SMALL(D139:D140,1),2),0)","v":0},{"$f":"IF(E138=\"SIM\",ROUND(SMALL(E139:E140,1),2),0)","v":0},null,null,null,null,null,null,null,null,null,null,null,null,null,null,null,null,null,{"$f":"V142","v":0},null,null,null,null,null,null,null,null,null,null,null,null,null,null,null,null,null,null,null,null,null,null,null,null,null,null,null,null,null,null,null,0,0,0,0,0,0,0]
[null,"TOTAL MENSAL DOS AUXÍLIOS ESPECIAIS - POR POSTO"]
[null,null,null,{"$f":"+D118+D124+D130+D136+D142","v":3.61},{"$f":"+E118+E124+E130+E136+E142","v":3.61},null,null,null,null,null,null,null,null,null,null,null,null,null,null,null,null,null,{"$f":"V144","v":0},null,null,null,null,null,null,null,null,null,null,null,null,null,null,null,null,null,null,null,null,null,null,null,null,null,null,null,null,null,null,null,0,0,0,0,0,0,0]

{"sheet":"Encargos Sociais","index":24,"n_rows":56,"n_cols":7,"rows_kept":56,"cut":false,"hidden":false,"merged":[[2,1,2,3],[3,1,3,4]]}
[]
[]
[]
[null,"ENCARGOS SOCIAIS SOBRE A MÃO DE OBRA"]
[null,null,null,null,"Percentuais"]
[]
[null,"Referência:"]
[null,null,"SINAPI/MPU"]
[]
[null,"Categorias:"]
[null,null,"TODAS, EXCETO PLANTONISTAS"]
[]
[null,"GRUPO A: Encargos Sociais Básicos - Previdenciários (GPS), Fundo de Garantia por Tempo de Serviço (FGTS) e Outras Contribuições",null,null,{"$f":"ROUND(SUM(E14:E22),4)","v":0.34799999999999998}]
[null,null,"A","INSS (art. 22, inciso I, Lei nº 8.212/91)",0.2]
[null,null,"B","Salário Educação (art. 3º, inciso I, Decreto nº 87.043/82)",2.5000000000000001E-2,null,"* Nota 1 - Os percentuais dos encargos previdenciários, do FGTS e demais contribuições são estabelecidos por legislação vigente."]
[null,null,"C","SAT/RAT (art. 22, II, Lei 8.212/91 e Anexo V, Decreto 6.042/07) - Enquadramento 8211-3/00",0.01,null,"* Nota 2 - O SAT, a depender do grau de risco do serviço, irá variar entre 1%, para risco leve, de 2%, para risco médio, e de 3% para risco grave."]
[null,null,"D","SESC ou SESI (art. 30, Lei nº 8.036/90 e art. 1º, Lei 8.154/90)",1.4999999999999999E-2,null,"* Nota 3 - Os percentuais do Submódulo 2.2 incidem sobre o Módulo 1, o Submódulo 2.1, o Módulo 3, o Módulo 4 e o Módulo 6."]
[null,null,"E","SENAI ou SENAC (Decreto nº 2.318/86)",0.01]
[null,null,"F","SEBRAE (§ 3º, art. 8º, Lei 8.029/90, alterada pela Lei nº 8.154/90)",6.0000000000000001E-3]
[null,null,"G","INCRA (art. 1º, I, Decreto Lei 1.146/70 e Lei 7.787, de 30/06/89)",2E-3]
[null,null,"H","FGTS (Lei Complementar nº 110/01 e art. 30, Lei nº 8.036/90)",0.08]
[null,null,"I","SECONCI (Convenções Coletivas de Trabalho da construção)",0]
[]
[null,"GRUPO B: Encargos Sociais Relacionados ao Custo do Profissional Ausente - Ausências Legais",null,null,{"$f":"ROUND(SUM(E25:E33),4)","v":0.2321}]
[null,null,"A","Férias (Arts. 129 e 130, inc. I, da CLT)",{"$f":"ROUND(1/11,4)","v":9.0899999999999995E-2},null,"* Nota 1 - As alíneas “A” a “F” referem-se somente ao custo que será pago ao repositor pelos dias \ntrabalhados quando da necessidade de substituir a mão de obra alocada na prestação do serviço."]
[null,null,"B","Ausências Legais (Arts. 131 e 473 da CLT)",{"$f":"ROUND(2/252,4)","v":7.9000000000000008E-3},null,"* Nota 2 - Adotou-se a estimativa do SINAPI de 2 dias por ano. Em 252 dias úteis por ano."]
[null,null,"C","Licença-Paternidade (Art. 7º, XIX, e art. 10, §1º, do ADCT, CF/1988 e Art. 1º, II, da Lei 11.770/2008)",{"$f":"ROUND((5/(30*12))*0.0596,4)","v":8.0000000000000004E-4},null,"* Nota 3 - Utilizada a a estimativa de 5 dias de afastamento e a probabilidade de um trabalhador requerer a Licença Paternidade em 5,96%, conforme SINAPI (Anuário Estatístico da Previdência Social - 2017)"]
[null,null,"D","Ausência por Acidente de Trabalho (Art. 131, III, da CLT)",{"$f":"ROUND(0.0205*15/360,4)","v":8.9999999999999998E-4},null,"* Nota 4 - Utilzada a estatística de 2,05% dos contribuintes beneficiados com a emissão do auxílio, conforme Anuário Estatístico da Previdência Social. Afastamento de 15 dias a cargo da empresa."]
[null,null,"E","Afastamento Maternidade (Art. 71 da Lei nº 8.213/1991)",{"$f":"ROUND(0.0508*(120/360)*(30+30*4/3)/360,4)","v":3.3E-3},null,"* Nota 5 - Utilizada a estimativa de 120 dias de afastamento, e a probabilidade de uma trabalhadora requerer a Licença Maternidade em 5,08%, conforme SINAPI (citando dados do IBGE 2017) - A própria previdência paga o benefício pelos 120 dias, contudo o empregador arca com o 13º e com as férias"]
[null,null,"F","Auxílio Enfermidade - Doença (Art. 59 da Lei nº 8.213/1991)",{"$f":"ROUND(((0.0376*15)+2)/360,4)","v":7.1000000000000004E-3},null,"* Nota 6 - Utilizada a estatística de 3,76% dos contribuintes beneficiados com o auxílio, conforme Anuário Estatístico da Previdência Social de 2016 (acrescidos de 2 dias ao ano, para os quais o trabalhador nem requer o benefício da Previdência - conforme SINAPI)"]
[null,null,"G","Adicional de Férias (componente do Submódulo 2.1)",{"$f":"ROUND(1/3*1/11,4)","v":3.0300000000000001E-2},null,"* Nota 7 - O adicional de férias contido no Submódulo 2.1 corresponde a 1/3 da remuneração que, por sua vez, é dividida por 11 contome Nota 1."]
[null,null,"H","13º Salário (destacado na planilha de custos)",{"$f":"ROUND(1/11,4)","v":9.0899999999999995E-2},null,"* Nota 8 - Provisiona-se, mensalmente, o proporcional a 1/11 dos valores referentes a gratificação natalina"]
[null,null,"I","Intervalo para repouso ou alimentação (componente do Submódulo 4.2)",0]
[]
[null,"GRUPO C: Encargos Sociais Relacionados à Previsão para Rescisão Trabalhista",null,null,{"$f":"ROUND(SUM(E36:E41),4)","v":4.9599999999999998E-2}]
[null,null,"A","Aviso Prévio Indenizado (Art. 7º, inciso XXI, da CF/1988 e arts. 477, 487, §1º, e 491 da CLT)",{"$f":"ROUND(D54*30/360,4)","v":4.1999999999999997E-3},null,"* Nota 1 - Considerou-se 5% de demitidos sem justa causa ao ano e recebendo aviso indenizado (30 dias de aviso prévio / 360 dias ao ano)"]
[null,null,"B","Incidência do FGTS sobre o Aviso Prévio Indenizado (Súmula 305 TST)",{"$f":"ROUND(E21*E36,4)","v":2.9999999999999997E-4}]
[null,null,"C","Multa do FGTS sobre o Aviso Prévio Indenizado (Art. 18, §1º, da Lei 8.036/1990)",0,null,"* Nota 2 - como 100% da multa do FGTS está incidindo sobre o APT que será paga ao final do contrato, não é necessário prever a multa no API"]
[null,null,"D","Aviso Prévio Trabalhado (Art. 488, parágrafo único, CLT)",{"$f":"ROUND((7)*100%/(D56*30),4)","v":9.7000000000000003E-3},null,"* Nota 3 - Considerou-se demissões de 100% ao final do prazo do contrato. Assim, calcula-se 7 dias de aviso prévio trabalhado dividido pelo prazo do contrato."]
[null,null,"E","Incidência de GPS, FGTS e outras contribuições sobre o Aviso Prévio Trabalhado",{"$f":"ROUND(E39*E13,4)","v":3.3999999999999998E-3}]
[null,null,"F","Multa do FGTS",{"$f":"ROUND((0.4*E21),4)","v":3.2000000000000001E-2},null,"* Nota 4 -  40% multa para o empregador x 8% FGTS"]
[]
[null,"GRUPO D: Reincidências",null,null,{"$f":"ROUND(SUM(E44:E44),4)","v":8.0799999999999997E-2}]
[null,null,"A","Reincidência do Grupo A sobre o Grupo B",{"$f":"ROUND(E13*E24,4)","v":8.0799999999999997E-2}]
[]
[null,null,null,"SOMATÓRIO - ENCARGOS SOCIAIS SOBRE A MÃO DE OBRA",{"$f":"E43+E35+E24+E13","v":0.71049999999999991}]
[]
[]
[]
[null,null,"ENCARGOS SEM O 13º"]
[null,null,null,{"$f":"E46-E32-E32*E13","v":0.5879667999999999}]
[]
[null,null,"% DEMITIDOS AO LONGO DO ANO"]
[null,null,null,0.05]
[null,null,"PRAZO DO CONTRATO (EM MESES)"]
[null,null,null,24]

{"sheet":"Encargos Sociais - HE","index":25,"n_rows":56,"n_cols":7,"rows_kept":56,"cut":false,"hidden":true,"merged":[[2,1,2,3],[3,1,3,4]]}
[]
[]
[]
[null,"ENCARGOS SOCIAIS SOBRE A MÃO DE OBRA"]
[null,null,null,null,"Percentuais"]
[]
[null,"Referência:"]
[null,null,"SINAPI/MPU"]
[]
[null,"Categorias:"]
[null,null,"TODAS, EXCETO PLANTONISTAS"]
[]
[null,"GRUPO A: Encargos Sociais Básicos - Previdenciários (GPS), Fundo de Garantia por Tempo de Serviço (FGTS) e Outras Contribuições",null,null,{"$f":"ROUND(SUM(E14:E22),4)","v":0.34799999999999998}]
[null,null,{"$f":"'Encargos Sociais'!C14","v":"A"},{"$f":"'Encargos Sociais'!D14","v":"INSS (art. 22, inciso I, Lei nº 8.212/91)"},{"$f":"'Encargos Sociais'!E14","v":0.2}]
[null,null,{"$f":"'Encargos Sociais'!C15","v":"B"},{"$f":"'Encargos Sociais'!D15","v":"Salário Educação (art. 3º, inciso I, Decreto nº 87.043/82)"},{"$f":"'Encargos Sociais'!E15","v":2.5000000000000001E-2},null,"* Nota 1 - Os percentuais dos encargos previdenciários, do FGTS e demais contribuições são estabelecidos por legislação vigente."]
[null,null,{"$f":"'Encargos Sociais'!C16","v":"C"},{"$f":"'Encargos Sociais'!D16","v":"SAT/RAT (art. 22, II, Lei 8.212/91 e Anexo V, Decreto 6.042/07) - Enquadramento 8211-3/00"},{"$f":"'Encargos Sociais'!E16","v":0.01},null,"* Nota 2 - O SAT, a depender do grau de risco do serviço, irá variar entre 1%, para risco leve, de 2%, para risco médio, e de 3% para risco grave."]
[null,null,{"$f":"'Encargos Sociais'!C17","v":"D"},{"$f":"'Encargos Sociais'!D17","v":"SESC ou SESI (art. 30, Lei nº 8.036/90 e art. 1º, Lei 8.154/90)"},{"$f":"'Encargos Sociais'!E17","v":1.4999999999999999E-2},null,"* Nota 3 - Os percentuais do Submódulo 2.2 incidem sobre o Módulo 1, o Submódulo 2.1, o Módulo 3, o Módulo 4 e o Módulo 6."]
[null,null,{"$f":"'Encargos Sociais'!C18","v":"E"},{"$f":"'Encargos Sociais'!D18","v":"SENAI ou SENAC (Decreto nº 2.318/86)"},{"$f":"'Encargos Sociais'!E18","v":0.01}]
[null,null,{"$f":"'Encargos Sociais'!C19","v":"F"},{"$f":"'Encargos Sociais'!D19","v":"SEBRAE (§ 3º, art. 8º, Lei 8.029/90, alterada pela Lei nº 8.154/90)"},{"$f":"'Encargos Sociais'!E19","v":6.0000000000000001E-3}]
[null,null,{"$f":"'Encargos Sociais'!C20","v":"G"},{"$f":"'Encargos Sociais'!D20","v":"INCRA (art. 1º, I, Decreto Lei 1.146/70 e Lei 7.787, de 30/06/89)"},{"$f":"'Encargos Sociais'!E20","v":2E-3}]
[null,null,{"$f":"'Encargos Sociais'!C21","v":"H"},{"$f":"'Encargos Sociais'!D21","v":"FGTS (Lei Complementar nº 110/01 e art. 30, Lei nº 8.036/90)"},{"$f":"'Encargos Sociais'!E21","v":0.08}]
[null,null,{"$f":"'Encargos Sociais'!C22","v":"I"},{"$f":"'Encargos Sociais'!D22","v":"SECONCI (Convenções Coletivas de Trabalho da construção)"},{"$f":"'Encargos Sociais'!E22","v":0}]
[]
[null,"GRUPO B: Encargos Sociais Relacionados ao Custo do Profissional Ausente - Ausências Legais",null,null,{"$f":"ROUND(SUM(E25:E33),4)","v":0.39879999999999999}]
[null,null,{"$f":"'Encargos Sociais'!C25","v":"A"},{"$f":"'Encargos Sociais'!D25","v":"Férias (Arts. 129 e 130, inc. I, da CLT)"},{"$f":"'Encargos Sociais'!E25","v":9.0899999999999995E-2},null,"* Nota 1 - As alíneas “A” a “F” referem-se somente ao custo que será pago ao repositor pelos dias \ntrabalhados quando da necessidade de substituir a mão de obra alocada na prestação do serviço."]
[null,null,{"$f":"'Encargos Sociais'!C26","v":"B"},{"$f":"'Encargos Sociais'!D26","v":"Ausências Legais (Arts. 131 e 473 da CLT)"},{"$f":"'Encargos Sociais'!E26","v":7.9000000000000008E-3},null,"* Nota 2 - Adotou-se a estimativa do SINAPI de 2 dias por ano. Em 252 dias úteis por ano."]
[null,null,{"$f":"'Encargos Sociais'!C27","v":"C"},{"$f":"'Encargos Sociais'!D27","v":"Licença-Paternidade (Art. 7º, XIX, e art. 10, §1º, do ADCT, CF/1988 e Art. 1º, II, da Lei 11.770/2008)"},{"$f":"'Encargos Sociais'!E27","v":8.0000000000000004E-4},null,"* Nota 3 - Utilizada a proporção de 50% para homens, 5 dias de afastamento, e a probabilidade de um trabalhador requerer a Licença Paternidade em 5,96%, conforme SINAPI (Anuário Estatístico da Previdência Social - 2017)"]
[null,null,{"$f":"'Encargos Sociais'!C28","v":"D"},{"$f":"'Encargos Sociais'!D28","v":"Ausência por Acidente de Trabalho (Art. 131, III, da CLT)"},{"$f":"'Encargos Sociais'!E28","v":8.9999999999999998E-4},null,"* Nota 4 - Utilzada a estatística de 2,05% dos contribuintes beneficiados com a emissão do auxílio, conforme Anuário Estatístico da Previdência Social. Afastamento de 15 dias a cargo da empresa."]
[null,null,{"$f":"'Encargos Sociais'!C29","v":"E"},{"$f":"'Encargos Sociais'!D29","v":"Afastamento Maternidade (Art. 71 da Lei nº 8.213/1991)"},{"$f":"'Encargos Sociais'!E29","v":3.3E-3},null,"* Nota 5 - Utilizada a estimativa de 120 dias de afastamento, e a probabilidade de uma trabalhadora requerer a Licença Maternidade em 5,08%, conforme SINAPI (citando dados do IBGE 2017) - A própria previdência paga o benefício pelos 120 dias, contudo o empregador arca com o 13º e com as férias"]
[null,null,{"$f":"'Encargos Sociais'!C30","v":"F"},{"$f":"'Encargos Sociais'!D30","v":"Auxílio Enfermidade - Doença (Art. 59 da Lei nº 8.213/1991)"},{"$f":"'Encargos Sociais'!E30","v":7.1000000000000004E-3},null,"* Nota 6 - Utilizada a estatística de 3,76% dos contribuintes beneficiados com o auxílio, conforme Anuário Estatístico da Previdência Social de 2016 (acrescidos de 2 dias ao ano, para os quais o trabalhador nem requer o benefício da Previdência - conforme SINAPI)"]
[null,null,{"$f":"'Encargos Sociais'!C31","v":"G"},{"$f":"'Encargos Sociais'!D31","v":"Adicional de Férias (componente do Submódulo 2.1)"},{"$f":"'Encargos Sociais'!E31","v":3.0300000000000001E-2},null,"* Nota 7 - O adicional de férias contido no Submódulo 2.1 corresponde a 1/3 da remuneração que, por sua vez, é dividida por 11 contome Nota 1."]
[null,null,{"$f":"'Encargos Sociais'!C32","v":"H"},{"$f":"'Encargos Sociais'!D32","v":"13º Salário (destacado na planilha de custos)"},{"$f":"'Encargos Sociais'!E32","v":9.0899999999999995E-2},null,"* Nota 8 - Provisiona-se, mensalmente, o proporcional a 1/12 dos valores referentes a gratificação natalina e adicional de férias."]
[null,null,"I","Repouso Semanal Remunerado (DSR)",{"$f":"5/30","v":0.16666666666666666}]
[]
[null,"GRUPO C: Encargos Sociais Relacionados à Previsão para Rescisão Trabalhista",null,null,{"$f":"ROUND(SUM(E36:E41),4)","v":4.9599999999999998E-2}]
[null,null,{"$f":"'Encargos Sociais'!C36","v":"A"},{"$f":"'Encargos Sociais'!D36","v":"Aviso Prévio Indenizado (Art. 7º, inciso XXI, da CF/1988 e arts. 477, 487, §1º, e 491 da CLT)"},{"$f":"'Encargos Sociais'!E36","v":4.1999999999999997E-3},null,"* Nota 1 - Considerou-se 5% de demitidos sem justa causa ao ano e recebendo aviso indenizado (30 dias de aviso prévio / 360 dias ao ano)"]
[null,null,{"$f":"'Encargos Sociais'!C37","v":"B"},{"$f":"'Encargos Sociais'!D37","v":"Incidência do FGTS sobre o Aviso Prévio Indenizado (Súmula 305 TST)"},{"$f":"'Encargos Sociais'!E37","v":2.9999999999999997E-4}]
[null,null,{"$f":"'Encargos Sociais'!C38","v":"C"},{"$f":"'Encargos Sociais'!D38","v":"Multa do FGTS sobre o Aviso Prévio Indenizado (Art. 18, §1º, da Lei 8.036/1990)"},{"$f":"'Encargos Sociais'!E38","v":0},null,"* Nota 2 - Incide sobre a Remuneração + 13º salário (1/12) + Férias (1/12) + Adicional de Férias (1/36) x 40% multa para o empregador x 8% FGTS x taxa de rotatividade estimada 5%"]
[null,null,{"$f":"'Encargos Sociais'!C39","v":"D"},{"$f":"'Encargos Sociais'!D39","v":"Aviso Prévio Trabalhado (Art. 488, parágrafo único, CLT)"},{"$f":"'Encargos Sociais'!E39","v":9.7000000000000003E-3},null,"* Nota 3 - Considerou-se demissões de 100% ao final do prazo do contrato. Assim, calcula-se 7 dias de aviso prévio trabalhado dividido pelo prazo do contrato."]
[null,null,{"$f":"'Encargos Sociais'!C40","v":"E"},{"$f":"'Encargos Sociais'!D40","v":"Incidência de GPS, FGTS e outras contribuições sobre o Aviso Prévio Trabalhado"},{"$f":"'Encargos Sociais'!E40","v":3.3999999999999998E-3}]
[null,null,{"$f":"'Encargos Sociais'!C41","v":"F"},{"$f":"'Encargos Sociais'!D41","v":"Multa do FGTS"},{"$f":"'Encargos Sociais'!E41","v":3.2000000000000001E-2},null,"* Nota 4 - Incide sobre a Remuneração + 13º salário (1/12) + Férias (1/12) + Adicional de Férias (1/36) x 40% multa para o empregador x 8% FGTS"]
[]
[null,"GRUPO D: Reincidências",null,null,{"$f":"ROUND(SUM(E44:E44),4)","v":0.13880000000000001}]
[null,null,"A","Reincidência do Grupo A sobre o Grupo B",{"$f":"ROUND(E13*E24,4)","v":0.13880000000000001}]
[]
[null,null,null,"SOMATÓRIO - ENCARGOS SOCIAIS SOBRE A MÃO DE OBRA",{"$f":"E43+E35+E24+E13","v":0.93519999999999992}]
[]
[]
[]
[null,null,"ENCARGOS SEM O 13º"]
[null,null,null,{"$f":"E46-E32-E32*E13","v":0.81266679999999991}]
[]
[null,null,"% DEMITIDOS AO LONGO DO ANO"]
[null,null,null,0.05]
[null,null,"PRAZO DO CONTRATO (EM MESES)"]
[null,null,null,30]

{"sheet":"Encargos Sociais - Plant","index":26,"n_rows":46,"n_cols":7,"rows_kept":46,"cut":false,"hidden":true,"merged":[[2,1,2,3],[3,1,3,4]]}
[]
[]
[]
[null,"ENCARGOS SOCIAIS SOBRE A MÃO DE OBRA"]
[null,null,null,null,"Percentuais"]
[]
[null,"Referência:"]
[null,null,"SINAPI/MPU"]
[]
[null,"Categorias:"]
[null,null,"8, 9, 13, 14"]
[]
[null,"GRUPO A: Encargos Sociais Básicos - Previdenciários (GPS), Fundo de Garantia por Tempo de Serviço (FGTS) e Outras Contribuições",null,null,{"$f":"ROUND(SUM(E14:E22),4)","v":0.35799999999999998}]
[null,null,"A","INSS (art. 22, inciso I, Lei nº 8.212/91)",0.2]
[null,null,"B","Salário Educação (art. 3º, inciso I, Decreto nº 87.043/82)",2.5000000000000001E-2,null,"* Nota 1 - Os percentuais dos encargos previdenciários, do FGTS e demais contribuições são estabelecidos por legislação vigente."]
[null,null,"C","SAT/RAT (art. 22, II, Lei 8.212/91 e Anexo V, Decreto 6.042/07) - Enquadramento 9103-1/00",0.01,null,"* Nota 2 - O SAT, a depender do grau de risco do serviço, irá variar entre 1%, para risco leve, de 2%, para risco médio, e de 3% para risco grave."]
[null,null,"D","SESC ou SESI (art. 30, Lei nº 8.036/90 e art. 1º, Lei 8.154/90)",1.4999999999999999E-2,null,"* Nota 3 - Os percentuais do Submódulo 2.2 incidem sobre o Módulo 1, o Submódulo 2.1, o Módulo 3, o Módulo 4 e o Módulo 6."]
[null,null,"E","SENAI ou SENAC (Decreto nº 2.318/86)",0.01]
[null,null,"F","SEBRAE (§ 3º, art. 8º, Lei 8.029/90, alterada pela Lei nº 8.154/90)",6.0000000000000001E-3]
[null,null,"G","INCRA (art. 1º, I, Decreto Lei 1.146/70 e Lei 7.787, de 30/06/89)",2E-3]
[null,null,"H","FGTS (Lei Complementar nº 110/01 e art. 30, Lei nº 8.036/90)",0.08]
[null,null,"I","SECONCI (Convenções Coletivas de Trabalho da construção)",0.01]
[]
[null,"GRUPO B: Encargos Sociais Relacionados ao Custo do Profissional Ausente - Ausências Legais",null,null,{"$f":"ROUND(SUM(E25:E33),4)","v":0.25779999999999997}]
[null,null,"A","Férias (Arts. 129 e 130, inc. I, da CLT)",{"$f":"ROUND(1/11,4)","v":9.0899999999999995E-2},null,"* Nota 1 - As alíneas “A” a “F” referem-se somente ao custo que será pago ao repositor pelos dias \ntrabalhados quando da necessidade de substituir a mão de obra alocada na prestação do serviço."]
[null,null,"B","Ausências Legais (Arts. 131 e 473 da CLT)",{"$f":"ROUND(2/252,4)","v":7.9000000000000008E-3},null,"* Nota 2 - Adotou-se a estimativa do SINAPI de 2 dias por ano. Em 252 dias úteis por ano."]
[null,null,"C","Licença-Paternidade (Art. 7º, XIX, e art. 10, §1º, do ADCT, CF/1988 e Art. 1º, II, da Lei 11.770/2008)",{"$f":"ROUND((5/(30*12))*0.0596,4)","v":8.0000000000000004E-4},null,"* Nota 3 - Utilizada a proporção de 50% para homens, 5 dias de afastamento, e a probabilidade de um trabalhador requerer a Licença Paternidade em 5,96%, conforme SINAPI (Anuário Estatístico da Previdência Social - 2017)"]
[null,null,"D","Ausência por Acidente de Trabalho (Art. 131, III, da CLT)",{"$f":"ROUND(0.0205*15/360,4)","v":8.9999999999999998E-4},null,"* Nota 4 - Utilzada a estatística de 2,05% dos contribuintes beneficiados com a emissão do auxílio, conforme Anuário Estatístico da Previdência Social. Afastamento de 15 dias a cargo da empresa."]
[null,null,"E","Afastamento Maternidade (Art. 71 da Lei nº 8.213/1991)",{"$f":"ROUND(0.0508*(120/360)*(30+30*4/3)/360,4)","v":3.3E-3},null,"* Nota 5 - Utilizada a estimativa de 120 dias de afastamento, e a probabilidade de uma trabalhadora requerer a Licença Maternidade em 5,08%, conforme SINAPI (citando dados do IBGE 2017) - A própria previdência paga o benefício pelos 120 dias, contudo o empregador arca com o 13º e com as férias"]
[null,null,"F","Auxílio Enfermidade - Doença (Art. 59 da Lei nº 8.213/1991)",{"$f":"ROUND(((0.0376*15)+2)/360,4)","v":7.1000000000000004E-3},null,"* Nota 6 - Utilizada a estatística de 3,76% dos contribuintes beneficiados com o auxílio, conforme Anuário Estatístico da Previdência Social de 2016 (acrescidos de 2 dias ao ano, para os quais o trabalhador nem requer o benefício da Previdência - conforme SINAPI)"]
[null,null,"G","Adicional de Férias (componente do Submódulo 2.1)",{"$f":"ROUND(1/3*1/11,4)","v":3.0300000000000001E-2},null,"* Nota 7 - O adicional de férias contido no Submódulo 2.1 corresponde a 1/3 da remuneração que, por sua vez, é dividida por 12 contome Nota 1."]
[null,null,"H","13º Salário (destacado na planilha de custos)",8.3299999999999999E-2,null,"* Nota 8 - Provisiona-se, mensalmente, o proporcional a 1/12 dos valores referentes a gratificação natalina e adicional de férias."]
[null,null,"I","Feriados remunerados (plantonistas)",{"$f":"12/360","v":3.3333333333333333E-2},null,"* Nota 9 - Em média, 12 feriados anuais"]
[]
[null,"GRUPO C: Encargos Sociais Relacionados à Previsão para Rescisão Trabalhista",null,null,{"$f":"ROUND(SUM(E36:E41),4)","v":4.6399999999999997E-2}]
[null,null,"A","Aviso Prévio Indenizado (Art. 7º, inciso XXI, da CF/1988 e arts. 477, 487, §1º, e 491 da CLT)",{"$f":"ROUND(0.035*30/300,4)","v":3.5000000000000001E-3},null,"* Nota 1 - Considerou-se 3,5% de demitidos sem justa causa ao ano e recebendo aviso indenizado"]
[null,null,"B","Incidência do FGTS sobre o Aviso Prévio Indenizado (Súmula 305 TST)",{"$f":"ROUND(E21*E36,4)","v":2.9999999999999997E-4}]
[null,null,"C","Multa do FGTS e Contribuição Social sobre o Aviso Prévio Indenizado (Art. 18, §1º, da Lei 8.036/1990 e art. 1º da LC nº 110/2001)",{"$f":"ROUND(0.4*E21*0.035,4)","v":1.1000000000000001E-3},null,"* Nota 2 - Incide sobre a Remuneração + 13º salário (1/12) + Férias (1/12) + Adicional de Férias (1/36) x 40% multa para o empregador x 8% FGTS x taxa de rotatividade estimada 3,5%"]
[null,null,"D","Aviso Prévio Trabalhado (Art. 488, parágrafo único, CLT)",{"$f":"ROUND((7/360)*12/30,4)","v":7.7999999999999996E-3},null,"* Nota 3 - Considerou-se demissões de 100% ao final do contrato, com um prazo médio estimado de 30 meses"]
[null,null,"E","Incidência de GPS, FGTS e outras contribuições sobre o Aviso Prévio Trabalhado",{"$f":"ROUND(E39*E13,4)","v":2.8E-3}]
[null,null,"F","Multa do FGTS e Contribuição Social sobre o Aviso Prévio Trabalhado",{"$f":"ROUND((0.4*E21*(1-0.035)),4)","v":3.09E-2},null,"* Nota 4 - Incide sobre a Remuneração + 13º salário (1/12) + Férias (1/12) + Adicional de Férias (1/36) x 40% multa para o empregador x 8% FGTS x (1- taxa de rotatividade estimada Nota2)"]
[]
[null,"GRUPO D: Reincidências",null,null,{"$f":"ROUND(SUM(E44:E44),4)","v":9.2299999999999993E-2}]
[null,null,"A","Reincidência do Grupo A sobre o Grupo B",{"$f":"ROUND(E13*E24,4)","v":9.2299999999999993E-2}]
[]
[null,null,null,"SOMATÓRIO - ENCARGOS SOCIAIS SOBRE A MÃO DE OBRA",{"$f":"E43+E35+E24+E13","v":0.75449999999999995}]

{"sheet":"BDI - Geral","index":27,"n_rows":27,"n_cols":7,"rows_kept":27,"cut":false,"hidden":false,"merged":[[2,1,2,3],[3,1,3,4],[4,1,4,3]]}
[]
[]
[]
[null,"COMPOSIÇÃO DA TAXA DE CUSTOS INDIRETOS, TRIBUTOS E LUCRO - BDI"]
[null,"APLICAÇÃO: MÃO DE OBRA, 13º, HORAS EXTRAS (SOB DEMANDA), SREP, EPI, UNIFORMES, FERRAMENTAS, EQUIPAMENTOS, MATERIAIS DE CONSUMO,PROFISSIONAIS NÃO RESIDENTES, VEÍCULOS E SERVIÇOS ADICIONAIS",null,null,"Percentuais"]
[]
[null,"Custos Indiretos da Contratada",null,null,{"$f":"SUM(E8:E9)","v":2.7000000000000003E-2}]
[null,null,"A","Administração Central - Inclui despesas para o atendimento às exigências da NR-04",2.1600000000000001E-2,null,"* Nota 1 - O Somatório da Administração Central com o Lucro deve ser inferior a 12%"]
[null,null,"B","Seguros, Garantias e Riscos",{"$f":"0.34%+0.2%","v":5.4000000000000003E-3},null,"* Nota 2 - O risco previsto para o porte do contrato majorado em mais 0,20% devido ao não pagamento dos insumos componentes do custo do posto quando da ausência do mesmo."]
[]
[null,"Lucro",null,null,{"$f":"SUM(E12:E12)","v":3.3399999999999999E-2}]
[null,null,"A","Lucro Real sobre os Custos Administrados",3.3399999999999999E-2]
[]
[null,"Despesas Financeiras",null,null,{"$f":"E15","v":6.1000000000000004E-3}]
[null,null,"A","Cálculo Baseado no Prazo para a Restituição dos Desembolsos Realizados pelo Contratado e na Taxa de Retorno Arbitrada",{"$f":"ROUND((1+E17)^(E16/252)-1,4)","v":6.1000000000000004E-3},null,"* Nota 1 - DF = [(1+TR)^(DU/252)]/100"]
[null,null,"A.1","Dias Úteis Considerados",11,null,"* Nota 2 - Diferença de dias entre o desembolso, pelo contratado, e o pagamento, pela Câmara"]
[null,null,"A.2","Taxa de Retorno",0.15,null,"* Nota 3 - A taxa sugerida é a meta da SELIC"]
[]
[null,"Impostos - Tributos Federais",null,null,{"$f":"SUM(E20:E22)","v":7.3999999999999996E-2}]
[null,null,"A","Contribuição para o Financiamento da Seguridade Social - COFINS",{"$f":"ROUND(0.8*7.6%,4)","v":6.08E-2},null,"* Nota 1 - Redução de 20% considerando as deduções permitidas em Lei, conforme SENGE, citado pelo TCU - Acórdão 2622/2013"]
[null,null,"B","Programa de Integração Social - PIS",{"$f":"ROUND(0.8*1.65%,4)","v":1.32E-2},null,"* Nota 2 - Redução de 20% considerando as deduções permitidas em Lei, conforme SENGE, citado pelo TCU - Acórdão 2622/2013"]
[null,null,"C","Contribuição Previdenciária sobre a Receita Bruta - CPRB",0,null,"* Nota 3 - Lei 12.546/2011 - Verificar atualizações e setores beneficiados"]
[]
[null,"Impostos - Tributos Distritais",null,null,{"$f":"SUM(E25:E25)","v":0.05}]
[null,null,"A","Imposto sobre Serviço de Qualquer Natureza - ISS",0.05,null,"* Nota 1 - Adotada a alíquota de 5% considerando o enquadramento como fornecimento de mão de obra contratada pelo prestador, serviço previsto no item 17.05 do Manual do Substitutivo Tributário do ISS/DF e artigo 27 do Decreto 25.508/2005 do GDF"]
[]
[null,null,null,"SOMATÓRIO - BDI",{"$f":"ROUND((((1+E7)*(1+E11)*(1+E14)/(1-E19-E24))-1),4)","v":0.21890000000000001},null,"* Nota 1 - [(1+AC+SGR)*(1+L)*(1+DF)/(1-CONFINS-PIS-CPRB-ISS)]-1"]

{"sheet":"BDI - Demanda","index":28,"n_rows":27,"n_cols":7,"rows_kept":27,"cut":false,"hidden":true,"merged":[[2,1,2,3],[3,1,3,4],[4,1,4,3]]}
[]
[]
[]
[null,"COMPOSIÇÃO DA TAXA DE CUSTOS INDIRETOS, TRIBUTOS E LUCRO - BDI"]
[null,"APLICAÇÃO: TRANSPORTE POR CHAMADO (SOB DEMANDA), MATERIAIS E SERVIÇOS PARA INSTALAÇÃO (SOB DEMANDA), MATERIAIS E SERVIÇOS PARA MANUTENÇÃO CORRETIVA (SOB DEMANDA)",null,null,"Percentuais"]
[]
[null,"Custos Indiretos da Contratada",null,null,{"$f":"SUM(E8:E9)","v":2.5000000000000001E-2}]
[null,null,"A","Administração Central - Inclui despesas para o atendimento às exigências da NR-04",2.1600000000000001E-2,null,"* Nota 1 - O Somatório da Administração Central com o Lucro deve ser inferior a 12%"]
[null,null,"B","Seguros, Garantias e Riscos",{"$f":"0.34%","v":3.4000000000000002E-3}]
[]
[null,"Lucro",null,null,{"$f":"SUM(E12:E12)","v":3.3399999999999999E-2}]
[null,null,"A","Lucro Real sobre os Custos Administrados",3.3399999999999999E-2]
[]
[null,"Despesas Financeiras",null,null,{"$f":"E15","v":5.7999999999999996E-3}]
[null,null,"A","Cálculo Baseado no Prazo para a Restituição dos Desembolsos Realizados pelo Contratado e na Taxa de Retorno Arbitrada",{"$f":"ROUND((1+E17)^(E16/252)-1,4)","v":5.7999999999999996E-3},null,"* Nota 1 - DF = [(1+TR)^(DU/252)]/100"]
[null,null,"A.1","Dias Úteis Considerados",11,null,"* Nota 2 - Diferença de dias entre o desembolso, pelo contratado, e o pagamento, pela Câmara"]
[null,null,"A.2","Taxa de Retorno",0.14249999999999999,null,"* Nota 3 - A taxa sugerida é a meta da SELIC"]
[]
[null,"Impostos - Tributos Federais",null,null,{"$f":"SUM(E20:E22)","v":4.5299999999999993E-2}]
[null,null,"A","Contribuição para o Financiamento da Seguridade Social - COFINS",{"$f":"ROUND(7.6%*10%,4)","v":7.6E-3},null,"* Nota 1 - Redução da base de cálculo para 10%, equivalente à estimativa de valor agregado sobre os itens sob demanda."]
[null,null,"B","Programa de Integração Social - PIS",{"$f":"ROUND(1.65%*10%,4)","v":1.6999999999999999E-3},null,"* Nota 2 - Redução da base de cálculo para 10%, equivalente à estimativa de valor agregado sobre os itens sob demanda."]
[null,null,"C","Contribuição Previdenciária sobre a Receita Bruta - CPRB",{"$f":"80%*4.5%","v":3.5999999999999997E-2},null,"* Nota 3 - Lei 12.546/2011 - Verificar atualizações e setores beneficiados"]
[]
[null,"Impostos - Tributos Distritais",null,null,{"$f":"SUM(E25:E25)","v":0.05}]
[null,null,"A","Imposto sobre Serviço de Qualquer Natureza - ISS",0.05,null,"* Nota 1 - Adotada a alíquota de 5% considerando o enquadramento como fornecimento de mão de obra contratada pelo prestador, serviço previsto no item 17.05 do Manual do Substitutivo Tributário do ISS/DF e artigo 27 do Decreto 25.508/2005 do GDF"]
[]
[null,null,null,"SOMATÓRIO - BDI",{"$f":"ROUND((((1+E7)*(1+E11)*(1+E14)/(1-E19-E24))-1),4)","v":0.17760000000000001},null,"* Nota 1 - [(1+AC+SGR)*(1+L)*(1+DF)/(1-CONFINS-PIS-CPRB-ISS)]-1"]

{"sheet":"Uniformes","index":29,"n_rows":267,"n_cols":129,"rows_kept":267,"cut":false,"hidden":true,"merged":[[1,1,1,3],[2,1,2,6]]}
[]
[]
[null,"UNIFORMES - AQUISIÇÃO",null,null,null,null,null,null,null,1,null,{"$f":"J3+1","v":2},null,{"$f":"L3+1","v":3},null,{"$f":"N3+1","v":4},null,{"$f":"P3+1","v":5},null,{"$f":"R3+1","v":6},null,{"$f":"T3+1","v":7},null,{"$f":"V3+1","v":8},null,{"$f":"X3+1","v":9},null,{"$f":"Z3+1","v":10},null,{"$f":"AB3+1","v":11},null,{"$f":"AD3+1","v":12},null,{"$f":"AF3+1","v":13},null,{"$f":"AH3+1","v":14},null,{"$f":"AJ3+1","v":15},null,{"$f":"AL3+1","v":16},null,{"$f":"AN3+1","v":17},null,{"$f":"AP3+1","v":18},null,{"$f":"AR3+1","v":19},null,{"$f":"AT3+1","v":20},null,{"$f":"AV3+1","v":21},null,{"$f":"AX3+1","v":22},null,{"$f":"AZ3+1","v":23},null,{"$f":"BB3+1","v":24},null,{"$f":"BD3+1","v":25},null,{"$f":"BF3+1","v":26},null,{"$f":"BH3+1","v":27},null,{"$f":"BJ3+1","v":28},null,{"$f":"BL3+1","v":29},null,{"$f":"BN3+1","v":30},null,{"$f":"BP3+1","v":31},null,{"$f":"BR3+1","v":32},null,{"$f":"BT3+1","v":33},null,{"$f":"BV3+1","v":34},null,{"$f":"BX3+1","v":35},null,{"$f":"BZ3+1","v":36},null,{"$f":"CB3+1","v":37},null,{"$f":"CD3+1","v":38},null,{"$f":"CF3+1","v":39},null,{"$f":"CH3+1","v":40},null,{"$f":"CJ3+1","v":41},null,{"$f":"CL3+1","v":42},null,{"$f":"CN3+1","v":43},null,{"$f":"CP3+1","v":44},null,{"$f":"CR3+1","v":45},null,{"$f":"CT3+1","v":46},null,{"$f":"CV3+1","v":47},null,{"$f":"CX3+1","v":48},null,{"$f":"CZ3+1","v":49},null,{"$f":"DB3+1","v":50},null,{"$f":"DD3+1","v":51},null,{"$f":"DF3+1","v":52},null,{"$f":"DH3+1","v":53},null,{"$f":"DJ3+1","v":54},null,{"$f":"DL3+1","v":55},null,{"$f":"DN3+1","v":56},null,{"$f":"DP3+1","v":57},null,{"$f":"DR3+1","v":58},null,{"$f":"DT3+1","v":59},null,{"$f":"DV3+1","v":60}]
[]
[null,null,null,null,null,null,null,null,null,{"$f":"TRUNC(SUM(K4:K267),2)","v":0},null,{"$f":"TRUNC(SUM(M4:M267),2)","v":0},null,{"$f":"TRUNC(SUM(O4:O267),2)","v":0},null,{"$f":"TRUNC(SUM(Q4:Q267),2)","v":0},null,{"$f":"TRUNC(SUM(S4:S267),2)","v":0},null,{"$f":"TRUNC(SUM(U4:U267),2)","v":0},null,{"$f":"TRUNC(SUM(W4:W267),2)","v":0},null,{"$f":"TRUNC(SUM(Y4:Y267),2)","v":0},null,{"$f":"TRUNC(SUM(AA4:AA267),2)","v":0},null,{"$f":"TRUNC(SUM(AC4:AC267),2)","v":0},null,{"$f":"TRUNC(SUM(AE4:AE267),2)","v":0},null,{"$f":"TRUNC(SUM(AG4:AG267),2)","v":0},null,{"$f":"TRUNC(SUM(AI4:AI267),2)","v":0},null,{"$f":"TRUNC(SUM(AK4:AK267),2)","v":0},null,{"$f":"TRUNC(SUM(AM4:AM267),2)","v":0},null,{"$f":"TRUNC(SUM(AO4:AO267),2)","v":0},null,{"$f":"TRUNC(SUM(AQ4:AQ267),2)","v":0},null,{"$f":"TRUNC(SUM(AS4:AS267),2)","v":0},null,{"$f":"TRUNC(SUM(AU4:AU267),2)","v":0},null,{"$f":"TRUNC(SUM(AW4:AW267),2)","v":0},null,{"$f":"TRUNC(SUM(AY4:AY267),2)","v":0},null,{"$f":"TRUNC(SUM(BA4:BA267),2)","v":0},null,{"$f":"TRUNC(SUM(BC4:BC267),2)","v":0},null,{"$f":"TRUNC(SUM(BE4:BE267),2)","v":0},null,{"$f":"TRUNC(SUM(BG4:BG267),2)","v":0},null,{"$f":"TRUNC(SUM(BI4:BI267),2)","v":0},null,{"$f":"TRUNC(SUM(BK4:BK267),2)","v":0},null,{"$f":"TRUNC(SUM(BM4:BM267),2)","v":0},null,{"$f":"TRUNC(SUM(BO4:BO267),2)","v":0},null,{"$f":"TRUNC(SUM(BQ4:BQ267),2)","v":0},null,{"$f":"TRUNC(SUM(BS4:BS267),2)","v":0},null,{"$f":"TRUNC(SUM(BU4:BU267),2)","v":0},null,{"$f":"TRUNC(SUM(BW4:BW267),2)","v":0},null,{"$f":"TRUNC(SUM(BY4:BY267),2)","v":0},null,{"$f":"TRUNC(SUM(CA4:CA267),2)","v":0},null,{"$f":"TRUNC(SUM(CC4:CC267),2)","v":0},null,{"$f":"TRUNC(SUM(CE4:CE267),2)","v":0},null,{"$f":"TRUNC(SUM(CG4:CG267),2)","v":0},null,{"$f":"TRUNC(SUM(CI4:CI267),2)","v":0},null,{"$f":"TRUNC(SUM(CK4:CK267),2)","v":0},null,{"$f":"TRUNC(SUM(CM4:CM267),2)","v":0},null,{"$f":"TRUNC(SUM(CO4:CO267),2)","v":0},null,{"$f":"TRUNC(SUM(CQ4:CQ267),2)","v":0},null,{"$f":"TRUNC(SUM(CS4:CS267),2)","v":0},null,{"$f":"TRUNC(SUM(CU4:CU267),2)","v":0},null,{"$f":"TRUNC(SUM(CW4:CW267),2)","v":0},null,{"$f":"TRUNC(SUM(CY4:CY267),2)","v":0},null,{"$f":"TRUNC(SUM(DA4:DA267),2)","v":0},null,{"$f":"TRUNC(SUM(DC4:DC267),2)","v":0},null,{"$f":"TRUNC(SUM(DE4:DE267),2)","v":0},null,{"$f":"TRUNC(SUM(DG4:DG267),2)","v":0},null,{"$f":"TRUNC(SUM(DI4:DI267),2)","v":0},null,{"$f":"TRUNC(SUM(DK4:DK267),2)","v":0},null,{"$f":"TRUNC(SUM(DM4:DM267),2)","v":0},null,{"$f":"TRUNC(SUM(DO4:DO267),2)","v":0},null,{"$f":"TRUNC(SUM(DQ4:DQ267),2)","v":0},null,{"$f":"TRUNC(SUM(DS4:DS267),2)","v":0},null,{"$f":"TRUNC(SUM(DU4:DU267),2)","v":0},null,{"$f":"TRUNC(SUM(DW4:DW267),2)","v":0},null,{"$f":"TRUNC(SUM(DY4:DY267),2)","v":0}]
[null,null,"CATEGORIAS",null,null,null,"QUANTIDADE"]
[null,null,null,null,null,null,null,null,null,{"$f":"IF($C7=J$3,1,0)","v":0},null,{"$f":"IF($C7=L$3,1,0)","v":0},null,{"$f":"IF($C7=N$3,1,0)","v":0},null,{"$f":"IF($C7=P$3,1,0)","v":0},null,{"$f":"IF($C7=R$3,1,0)","v":0},null,{"$f":"IF($C7=T$3,1,0)","v":0},null,{"$f":"IF($C7=V$3,1,0)","v":0},null,{"$f":"IF($C7=X$3,1,0)","v":0},null,{"$f":"IF($C7=Z$3,1,0)","v":0},null,{"$f":"IF($C7=AB$3,1,0)","v":0},null,{"$f":"IF($C7=AD$3,1,0)","v":0},null,{"$f":"IF($C7=AF$3,1,0)","v":0},null,{"$f":"IF($C7=AH$3,1,0)","v":0},null,{"$f":"IF($C7=AJ$3,1,0)","v":0},null,{"$f":"IF($C7=AL$3,1,0)","v":0},null,{"$f":"IF($C7=AN$3,1,0)","v":0},null,{"$f":"IF($C7=AP$3,1,0)","v":0},null,{"$f":"IF($C7=AR$3,1,0)","v":0},null,{"$f":"IF($C7=AT$3,1,0)","v":0},null,{"$f":"IF($C7=AV$3,1,0)","v":0},null,{"$f":"IF($C7=AX$3,1,0)","v":0},null,{"$f":"IF($C7=AZ$3,1,0)","v":0},null,{"$f":"IF($C7=BB$3,1,0)","v":0},null,{"$f":"IF($C7=BD$3,1,0)","v":0},null,{"$f":"IF($C7=BF$3,1,0)","v":0},null,{"$f":"IF($C7=BH$3,1,0)","v":0},null,{"$f":"IF($C7=BJ$3,1,0)","v":0},null,{"$f":"IF($C7=BL$3,1,0)","v":0},null,{"$f":"IF($C7=BN$3,1,0)","v":0},null,{"$f":"IF($C7=BP$3,1,0)","v":0},null,{"$f":"IF($C7=BR$3,1,0)","v":0},null,{"$f":"IF($C7=BT$3,1,0)","v":0},null,{"$f":"IF($C7=BV$3,1,0)","v":0},null,{"$f":"IF($C7=BX$3,1,0)","v":0},null,{"$f":"IF($C7=BZ$3,1,0)","v":0},null,{"$f":"IF($C7=CB$3,1,0)","v":0},null,{"$f":"IF($C7=CD$3,1,0)","v":0},null,{"$f":"IF($C7=CF$3,1,0)","v":0},null,{"$f":"IF($C7=CH$3,1,0)","v":0},null,{"$f":"IF($C7=CJ$3,1,0)","v":0},null,{"$f":"IF($C7=CL$3,1,0)","v":0},null,{"$f":"IF($C7=CN$3,1,0)","v":0},null,{"$f":"IF($C7=CP$3,1,0)","v":0},null,{"$f":"IF($C7=CR$3,1,0)","v":0},null,{"$f":"IF($C7=CT$3,1,0)","v":0},null,{"$f":"IF($C7=CV$3,1,0)","v":0},null,{"$f":"IF($C7=CX$3,1,0)","v":0},null,{"$f":"IF($C7=CZ$3,1,0)","v":0},null,{"$f":"IF($C7=DB$3,1,0)","v":0},null,{"$f":"IF($C7=DD$3,1,0)","v":0},null,{"$f":"IF($C7=DF$3,1,0)","v":0},null,{"$f":"IF($C7=DH$3,1,0)","v":0},null,{"$f":"IF($C7=DJ$3,1,0)","v":0},null,{"$f":"IF($C7=DL$3,1,0)","v":0},null,{"$f":"IF($C7=DN$3,1,0)","v":0},null,{"$f":"IF($C7=DP$3,1,0)","v":0},null,{"$f":"IF($C7=DR$3,1,0)","v":0},null,{"$f":"IF($C7=DT$3,1,0)","v":0},null,{"$f":"IF($C7=DV$3,1,0)","v":0},null,{"$f":"IF($C7=DX$3,1,0)","v":0}]
[null,null,null,{"$f":"HLOOKUP($C8,'Dados Gerais'!$D$6:$V$11,6,0)","v":{"$error":"#N/A"}},null,null,{"$f":"HLOOKUP($C8,'Dados Gerais'!$D$6:$V$15,10,0)","v":{"$error":"#N/A"}},null,null,{"$f":"IF($C8=J$3,1,0)","v":0},null,0,null,0,null,0,null,0,null,0,null,0,null,0,null,0,null,0,null,0,null,0,null,0,null,0,null,0,null,0,null,0,null,0,null,0,null,0,null,0,null,0,null,0,null,0,null,0,null,0,null,0,null,0,null,0,null,0,null,0,null,0,null,0,null,0,null,0,null,0,null,0,null,0,null,0,null,0,null,0,null,0,null,0,null,0,null,0,null,0,null,0,null,0,null,0,null,0,null,0,null,0,null,0,null,0,null,0,null,0,null,0,null,0,null,0,null,0]
[null,null,null,null,null,null,null,null,null,{"$f":"IF($C9=J$3,1,0)","v":0},null,0,null,0,null,0,null,0,null,0,null,0,null,0,null,0,null,0,null,0,null,0,null,0,null,0,null,0,null,0,null,0,null,0,null,0,null,0,null,0,null,0,null,0,null,0,null,0,null,0,null,0,null,0,null,0,null,0,null,0,null,0,null,0,null,0,null,0,null,0,null,0,null,0,null,0,null,0,null,0,null,0,null,0,null,0,null,0,null,0,null,0,null,0,null,0,null,0,null,0,null,0,null,0,null,0,null,0,null,0,null,0,null,0,null,0,null,0]
[]
[null,null,"ITEM","DESCRIÇÃO","QUANTIDADE POR TRABALHADOR/ANO","UNIDADE","VALOR"]
[]
[null,null,1,"Terno masculino completo na cor azul noite, em microfibra",3,"UNID",377.54,null,null,null,{"$f":"IF(SUM(J$7:J$9)>0,$E13*$G13,0)","v":0},null,{"$f":"IF(SUM(L$7:L$9)>0,$E13*$G13,0)","v":0},null,{"$f":"IF(SUM(N$7:N$9)>0,$E13*$G13,0)","v":0},null,{"$f":"IF(SUM(P$7:P$9)>0,$E13*$G13,0)","v":0},null,{"$f":"IF(SUM(R$7:R$9)>0,$E13*$G13,0)","v":0},null,{"$f":"IF(SUM(T$7:T$9)>0,$E13*$G13,0)","v":0},null,{"$f":"IF(SUM(V$7:V$9)>0,$E13*$G13,0)","v":0},null,{"$f":"IF(SUM(X$7:X$9)>0,$E13*$G13,0)","v":0},null,{"$f":"IF(SUM(Z$7:Z$9)>0,$E13*$G13,0)","v":0},null,{"$f":"IF(SUM(AB$7:AB$9)>0,$E13*$G13,0)","v":0},null,{"$f":"IF(SUM(AD$7:AD$9)>0,$E13*$G13,0)","v":0},null,{"$f":"IF(SUM(AF$7:AF$9)>0,$E13*$G13,0)","v":0},null,{"$f":"IF(SUM(AH$7:AH$9)>0,$E13*$G13,0)","v":0},null,{"$f":"IF(SUM(AJ$7:AJ$9)>0,$E13*$G13,0)","v":0},null,{"$f":"IF(SUM(AL$7:AL$9)>0,$E13*$G13,0)","v":0},null,{"$f":"IF(SUM(AN$7:AN$9)>0,$E13*$G13,0)","v":0},null,{"$f":"IF(SUM(AP$7:AP$9)>0,$E13*$G13,0)","v":0},null,{"$f":"IF(SUM(AR$7:AR$9)>0,$E13*$G13,0)","v":0},null,{"$f":"IF(SUM(AT$7:AT$9)>0,$E13*$G13,0)","v":0},null,{"$f":"IF(SUM(AV$7:AV$9)>0,$E13*$G13,0)","v":0},null,{"$f":"IF(SUM(AX$7:AX$9)>0,$E13*$G13,0)","v":0},null,{"$f":"IF(SUM(AZ$7:AZ$9)>0,$E13*$G13,0)","v":0},null,{"$f":"IF(SUM(BB$7:BB$9)>0,$E13*$G13,0)","v":0},null,{"$f":"IF(SUM(BD$7:BD$9)>0,$E13*$G13,0)","v":0},null,{"$f":"IF(SUM(BF$7:BF$9)>0,$E13*$G13,0)","v":0},null,{"$f":"IF(SUM(BH$7:BH$9)>0,$E13*$G13,0)","v":0},null,{"$f":"IF(SUM(BJ$7:BJ$9)>0,$E13*$G13,0)","v":0},null,{"$f":"IF(SUM(BL$7:BL$9)>0,$E13*$G13,0)","v":0},null,{"$f":"IF(SUM(BN$7:BN$9)>0,$E13*$G13,0)","v":0},null,{"$f":"IF(SUM(BP$7:BP$9)>0,$E13*$G13,0)","v":0},null,{"$f":"IF(SUM(BR$7:BR$9)>0,$E13*$G13,0)","v":0},null,{"$f":"IF(SUM(BT$7:BT$9)>0,$E13*$G13,0)","v":0},null,{"$f":"IF(SUM(BV$7:BV$9)>0,$E13*$G13,0)","v":0},null,{"$f":"IF(SUM(BX$7:BX$9)>0,$E13*$G13,0)","v":0},null,{"$f":"IF(SUM(BZ$7:BZ$9)>0,$E13*$G13,0)","v":0},null,{"$f":"IF(SUM(CB$7:CB$9)>0,$E13*$G13,0)","v":0},null,{"$f":"IF(SUM(CD$7:CD$9)>0,$E13*$G13,0)","v":0},null,{"$f":"IF(SUM(CF$7:CF$9)>0,$E13*$G13,0)","v":0},null,{"$f":"IF(SUM(CH$7:CH$9)>0,$E13*$G13,0)","v":0},null,{"$f":"IF(SUM(CJ$7:CJ$9)>0,$E13*$G13,0)","v":0},null,{"$f":"IF(SUM(CL$7:CL$9)>0,$E13*$G13,0)","v":0},null,{"$f":"IF(SUM(CN$7:CN$9)>0,$E13*$G13,0)","v":0},null,{"$f":"IF(SUM(CP$7:CP$9)>0,$E13*$G13,0)","v":0},null,{"$f":"IF(SUM(CR$7:CR$9)>0,$E13*$G13,0)","v":0},null,{"$f":"IF(SUM(CT$7:CT$9)>0,$E13*$G13,0)","v":0},null,{"$f":"IF(SUM(CV$7:CV$9)>0,$E13*$G13,0)","v":0},null,{"$f":"IF(SUM(CX$7:CX$9)>0,$E13*$G13,0)","v":0},null,{"$f":"IF(SUM(CZ$7:CZ$9)>0,$E13*$G13,0)","v":0},null,{"$f":"IF(SUM(DB$7:DB$9)>0,$E13*$G13,0)","v":0},null,{"$f":"IF(SUM(DD$7:DD$9)>0,$E13*$G13,0)","v":0},null,{"$f":"IF(SUM(DF$7:DF$9)>0,$E13*$G13,0)","v":0},null,{"$f":"IF(SUM(DH$7:DH$9)>0,$E13*$G13,0)","v":0},null,{"$f":"IF(SUM(DJ$7:DJ$9)>0,$E13*$G13,0)","v":0},null,{"$f":"IF(SUM(DL$7:DL$9)>0,$E13*$G13,0)","v":0},null,{"$f":"IF(SUM(DN$7:DN$9)>0,$E13*$G13,0)","v":0},null,{"$f":"IF(SUM(DP$7:DP$9)>0,$E13*$G13,0)","v":0},null,{"$f":"IF(SUM(DR$7:DR$9)>0,$E13*$G13,0)","v":0},null,{"$f":"IF(SUM(DT$7:DT$9)>0,$E13*$G13,0)","v":0},null,{"$f":"IF(SUM(DV$7:DV$9)>0,$E13*$G13,0)","v":0},null,{"$f":"IF(SUM(DX$7:DX$9)>0,$E13*$G13,0)","v":0}]
[null,null,2,"Camisa na cor branca, 100% algodão",4,"UNID",118.3,null,null,null,{"$f":"IF(SUM(J$7:J$9)>0,$E14*$G14,0)","v":0},null,{"$f":"IF(SUM(L$7:L$9)>0,$E14*$G14,0)","v":0},null,{"$f":"IF(SUM(N$7:N$9)>0,$E14*$G14,0)","v":0},null,{"$f":"IF(SUM(P$7:P$9)>0,$E14*$G14,0)","v":0},null,{"$f":"IF(SUM(R$7:R$9)>0,$E14*$G14,0)","v":0},null,{"$f":"IF(SUM(T$7:T$9)>0,$E14*$G14,0)","v":0},null,{"$f":"IF(SUM(V$7:V$9)>0,$E14*$G14,0)","v":0},null,{"$f":"IF(SUM(X$7:X$9)>0,$E14*$G14,0)","v":0},null,{"$f":"IF(SUM(Z$7:Z$9)>0,$E14*$G14,0)","v":0},null,{"$f":"IF(SUM(AB$7:AB$9)>0,$E14*$G14,0)","v":0},null,{"$f":"IF(SUM(AD$7:AD$9)>0,$E14*$G14,0)","v":0},null,{"$f":"IF(SUM(AF$7:AF$9)>0,$E14*$G14,0)","v":0},null,{"$f":"IF(SUM(AH$7:AH$9)>0,$E14*$G14,0)","v":0},null,{"$f":"IF(SUM(AJ$7:AJ$9)>0,$E14*$G14,0)","v":0},null,{"$f":"IF(SUM(AL$7:AL$9)>0,$E14*$G14,0)","v":0},null,{"$f":"IF(SUM(AN$7:AN$9)>0,$E14*$G14,0)","v":0},null,{"$f":"IF(SUM(AP$7:AP$9)>0,$E14*$G14,0)","v":0},null,{"$f":"IF(SUM(AR$7:AR$9)>0,$E14*$G14,0)","v":0},null,{"$f":"IF(SUM(AT$7:AT$9)>0,$E14*$G14,0)","v":0},null,{"$f":"IF(SUM(AV$7:AV$9)>0,$E14*$G14,0)","v":0},null,{"$f":"IF(SUM(AX$7:AX$9)>0,$E14*$G14,0)","v":0},null,{"$f":"IF(SUM(AZ$7:AZ$9)>0,$E14*$G14,0)","v":0},null,{"$f":"IF(SUM(BB$7:BB$9)>0,$E14*$G14,0)","v":0},null,{"$f":"IF(SUM(BD$7:BD$9)>0,$E14*$G14,0)","v":0},null,{"$f":"IF(SUM(BF$7:BF$9)>0,$E14*$G14,0)","v":0},null,{"$f":"IF(SUM(BH$7:BH$9)>0,$E14*$G14,0)","v":0},null,{"$f":"IF(SUM(BJ$7:BJ$9)>0,$E14*$G14,0)","v":0},null,{"$f":"IF(SUM(BL$7:BL$9)>0,$E14*$G14,0)","v":0},null,{"$f":"IF(SUM(BN$7:BN$9)>0,$E14*$G14,0)","v":0},null,{"$f":"IF(SUM(BP$7:BP$9)>0,$E14*$G14,0)","v":0},null,{"$f":"IF(SUM(BR$7:BR$9)>0,$E14*$G14,0)","v":0},null,{"$f":"IF(SUM(BT$7:BT$9)>0,$E14*$G14,0)","v":0},null,{"$f":"IF(SUM(BV$7:BV$9)>0,$E14*$G14,0)","v":0},null,{"$f":"IF(SUM(BX$7:BX$9)>0,$E14*$G14,0)","v":0},null,{"$f":"IF(SUM(BZ$7:BZ$9)>0,$E14*$G14,0)","v":0},null,{"$f":"IF(SUM(CB$7:CB$9)>0,$E14*$G14,0)","v":0},null,{"$f":"IF(SUM(CD$7:CD$9)>0,$E14*$G14,0)","v":0},null,{"$f":"IF(SUM(CF$7:CF$9)>0,$E14*$G14,0)","v":0},null,{"$f":"IF(SUM(CH$7:CH$9)>0,$E14*$G14,0)","v":0},null,{"$f":"IF(SUM(CJ$7:CJ$9)>0,$E14*$G14,0)","v":0},null,{"$f":"IF(SUM(CL$7:CL$9)>0,$E14*$G14,0)","v":0},null,{"$f":"IF(SUM(CN$7:CN$9)>0,$E14*$G14,0)","v":0},null,{"$f":"IF(SUM(CP$7:CP$9)>0,$E14*$G14,0)","v":0},null,{"$f":"IF(SUM(CR$7:CR$9)>0,$E14*$G14,0)","v":0},null,{"$f":"IF(SUM(CT$7:CT$9)>0,$E14*$G14,0)","v":0},null,{"$f":"IF(SUM(CV$7:CV$9)>0,$E14*$G14,0)","v":0},null,{"$f":"IF(SUM(CX$7:CX$9)>0,$E14*$G14,0)","v":0},null,{"$f":"IF(SUM(CZ$7:CZ$9)>0,$E14*$G14,0)","v":0},null,{"$f":"IF(SUM(DB$7:DB$9)>0,$E14*$G14,0)","v":0},null,{"$f":"IF(SUM(DD$7:DD$9)>0,$E14*$G14,0)","v":0},null,{"$f":"IF(SUM(DF$7:DF$9)>0,$E14*$G14,0)","v":0},null,{"$f":"IF(SUM(DH$7:DH$9)>0,$E14*$G14,0)","v":0},null,{"$f":"IF(SUM(DJ$7:DJ$9)>0,$E14*$G14,0)","v":0},null,{"$f":"IF(SUM(DL$7:DL$9)>0,$E14*$G14,0)","v":0},null,{"$f":"IF(SUM(DN$7:DN$9)>0,$E14*$G14,0)","v":0},null,{"$f":"IF(SUM(DP$7:DP$9)>0,$E14*$G14,0)","v":0},null,{"$f":"IF(SUM(DR$7:DR$9)>0,$E14*$G14,0)","v":0},null,{"$f":"IF(SUM(DT$7:DT$9)>0,$E14*$G14,0)","v":0},null,{"$f":"IF(SUM(DV$7:DV$9)>0,$E14*$G14,0)","v":0},null,0]
[null,null,3,"Gravata preta",3,"UNID",36.53,null,null,null,{"$f":"IF(SUM(J$7:J$9)>0,$E15*$G15,0)","v":0},null,{"$f":"IF(SUM(L$7:L$9)>0,$E15*$G15,0)","v":0},null,{"$f":"IF(SUM(N$7:N$9)>0,$E15*$G15,0)","v":0},null,{"$f":"IF(SUM(P$7:P$9)>0,$E15*$G15,0)","v":0},null,{"$f":"IF(SUM(R$7:R$9)>0,$E15*$G15,0)","v":0},null,{"$f":"IF(SUM(T$7:T$9)>0,$E15*$G15,0)","v":0},null,{"$f":"IF(SUM(V$7:V$9)>0,$E15*$G15,0)","v":0},null,{"$f":"IF(SUM(X$7:X$9)>0,$E15*$G15,0)","v":0},null,{"$f":"IF(SUM(Z$7:Z$9)>0,$E15*$G15,0)","v":0},null,{"$f":"IF(SUM(AB$7:AB$9)>0,$E15*$G15,0)","v":0},null,{"$f":"IF(SUM(AD$7:AD$9)>0,$E15*$G15,0)","v":0},null,{"$f":"IF(SUM(AF$7:AF$9)>0,$E15*$G15,0)","v":0},null,{"$f":"IF(SUM(AH$7:AH$9)>0,$E15*$G15,0)","v":0},null,{"$f":"IF(SUM(AJ$7:AJ$9)>0,$E15*$G15,0)","v":0},null,{"$f":"IF(SUM(AL$7:AL$9)>0,$E15*$G15,0)","v":0},null,{"$f":"IF(SUM(AN$7:AN$9)>0,$E15*$G15,0)","v":0},null,{"$f":"IF(SUM(AP$7:AP$9)>0,$E15*$G15,0)","v":0},null,{"$f":"IF(SUM(AR$7:AR$9)>0,$E15*$G15,0)","v":0},null,{"$f":"IF(SUM(AT$7:AT$9)>0,$E15*$G15,0)","v":0},null,{"$f":"IF(SUM(AV$7:AV$9)>0,$E15*$G15,0)","v":0},null,{"$f":"IF(SUM(AX$7:AX$9)>0,$E15*$G15,0)","v":0},null,{"$f":"IF(SUM(AZ$7:AZ$9)>0,$E15*$G15,0)","v":0},null,{"$f":"IF(SUM(BB$7:BB$9)>0,$E15*$G15,0)","v":0},null,{"$f":"IF(SUM(BD$7:BD$9)>0,$E15*$G15,0)","v":0},null,{"$f":"IF(SUM(BF$7:BF$9)>0,$E15*$G15,0)","v":0},null,{"$f":"IF(SUM(BH$7:BH$9)>0,$E15*$G15,0)","v":0},null,{"$f":"IF(SUM(BJ$7:BJ$9)>0,$E15*$G15,0)","v":0},null,{"$f":"IF(SUM(BL$7:BL$9)>0,$E15*$G15,0)","v":0},null,{"$f":"IF(SUM(BN$7:BN$9)>0,$E15*$G15,0)","v":0},null,{"$f":"IF(SUM(BP$7:BP$9)>0,$E15*$G15,0)","v":0},null,{"$f":"IF(SUM(BR$7:BR$9)>0,$E15*$G15,0)","v":0},null,{"$f":"IF(SUM(BT$7:BT$9)>0,$E15*$G15,0)","v":0},null,{"$f":"IF(SUM(BV$7:BV$9)>0,$E15*$G15,0)","v":0},null,{"$f":"IF(SUM(BX$7:BX$9)>0,$E15*$G15,0)","v":0},null,{"$f":"IF(SUM(BZ$7:BZ$9)>0,$E15*$G15,0)","v":0},null,{"$f":"IF(SUM(CB$7:CB$9)>0,$E15*$G15,0)","v":0},null,{"$f":"IF(SUM(CD$7:CD$9)>0,$E15*$G15,0)","v":0},null,{"$f":"IF(SUM(CF$7:CF$9)>0,$E15*$G15,0)","v":0},null,{"$f":"IF(SUM(CH$7:CH$9)>0,$E15*$G15,0)","v":0},null,{"$f":"IF(SUM(CJ$7:CJ$9)>0,$E15*$G15,0)","v":0},null,{"$f":"IF(SUM(CL$7:CL$9)>0,$E15*$G15,0)","v":0},null,{"$f":"IF(SUM(CN$7:CN$9)>0,$E15*$G15,0)","v":0},null,{"$f":"IF(SUM(CP$7:CP$9)>0,$E15*$G15,0)","v":0},null,{"$f":"IF(SUM(CR$7:CR$9)>0,$E15*$G15,0)","v":0},null,{"$f":"IF(SUM(CT$7:CT$9)>0,$E15*$G15,0)","v":0},null,{"$f":"IF(SUM(CV$7:CV$9)>0,$E15*$G15,0)","v":0},null,{"$f":"IF(SUM(CX$7:CX$9)>0,$E15*$G15,0)","v":0},null,{"$f":"IF(SUM(CZ$7:CZ$9)>0,$E15*$G15,0)","v":0},null,{"$f":"IF(SUM(DB$7:DB$9)>0,$E15*$G15,0)","v":0},null,{"$f":"IF(SUM(DD$7:DD$9)>0,$E15*$G15,0)","v":0},null,{"$f":"IF(SUM(DF$7:DF$9)>0,$E15*$G15,0)","v":0},null,{"$f":"IF(SUM(DH$7:DH$9)>0,$E15*$G15,0)","v":0},null,{"$f":"IF(SUM(DJ$7:DJ$9)>0,$E15*$G15,0)","v":0},null,{"$f":"IF(SUM(DL$7:DL$9)>0,$E15*$G15,0)","v":0},null,{"$f":"IF(SUM(DN$7:DN$9)>0,$E15*$G15,0)","v":0},null,{"$f":"IF(SUM(DP$7:DP$9)>0,$E15*$G15,0)","v":0},null,{"$f":"IF(SUM(DR$7:DR$9)>0,$E15*$G15,0)","v":0},null,{"$f":"IF(SUM(DT$7:DT$9)>0,$E15*$G15,0)","v":0},null,{"$f":"IF(SUM(DV$7:DV$9)>0,$E15*$G15,0)","v":0},null,0]
[null,null,4,"Cinto de couro preto",2,"UNID",54.63,null,null,null,{"$f":"IF(SUM(J$7:J$9)>0,$E16*$G16,0)","v":0},null,{"$f":"IF(SUM(L$7:L$9)>0,$E16*$G16,0)","v":0},null,{"$f":"IF(SUM(N$7:N$9)>0,$E16*$G16,0)","v":0},null,{"$f":"IF(SUM(P$7:P$9)>0,$E16*$G16,0)","v":0},null,{"$f":"IF(SUM(R$7:R$9)>0,$E16*$G16,0)","v":0},null,{"$f":"IF(SUM(T$7:T$9)>0,$E16*$G16,0)","v":0},null,{"$f":"IF(SUM(V$7:V$9)>0,$E16*$G16,0)","v":0},null,{"$f":"IF(SUM(X$7:X$9)>0,$E16*$G16,0)","v":0},null,{"$f":"IF(SUM(Z$7:Z$9)>0,$E16*$G16,0)","v":0},null,{"$f":"IF(SUM(AB$7:AB$9)>0,$E16*$G16,0)","v":0},null,{"$f":"IF(SUM(AD$7:AD$9)>0,$E16*$G16,0)","v":0},null,{"$f":"IF(SUM(AF$7:AF$9)>0,$E16*$G16,0)","v":0},null,{"$f":"IF(SUM(AH$7:AH$9)>0,$E16*$G16,0)","v":0},null,{"$f":"IF(SUM(AJ$7:AJ$9)>0,$E16*$G16,0)","v":0},null,{"$f":"IF(SUM(AL$7:AL$9)>0,$E16*$G16,0)","v":0},null,{"$f":"IF(SUM(AN$7:AN$9)>0,$E16*$G16,0)","v":0},null,{"$f":"IF(SUM(AP$7:AP$9)>0,$E16*$G16,0)","v":0},null,{"$f":"IF(SUM(AR$7:AR$9)>0,$E16*$G16,0)","v":0},null,{"$f":"IF(SUM(AT$7:AT$9)>0,$E16*$G16,0)","v":0},null,{"$f":"IF(SUM(AV$7:AV$9)>0,$E16*$G16,0)","v":0},null,{"$f":"IF(SUM(AX$7:AX$9)>0,$E16*$G16,0)","v":0},null,{"$f":"IF(SUM(AZ$7:AZ$9)>0,$E16*$G16,0)","v":0},null,{"$f":"IF(SUM(BB$7:BB$9)>0,$E16*$G16,0)","v":0},null,{"$f":"IF(SUM(BD$7:BD$9)>0,$E16*$G16,0)","v":0},null,{"$f":"IF(SUM(BF$7:BF$9)>0,$E16*$G16,0)","v":0},null,{"$f":"IF(SUM(BH$7:BH$9)>0,$E16*$G16,0)","v":0},null,{"$f":"IF(SUM(BJ$7:BJ$9)>0,$E16*$G16,0)","v":0},null,{"$f":"IF(SUM(BL$7:BL$9)>0,$E16*$G16,0)","v":0},null,{"$f":"IF(SUM(BN$7:BN$9)>0,$E16*$G16,0)","v":0},null,{"$f":"IF(SUM(BP$7:BP$9)>0,$E16*$G16,0)","v":0},null,{"$f":"IF(SUM(BR$7:BR$9)>0,$E16*$G16,0)","v":0},null,{"$f":"IF(SUM(BT$7:BT$9)>0,$E16*$G16,0)","v":0},null,{"$f":"IF(SUM(BV$7:BV$9)>0,$E16*$G16,0)","v":0},null,{"$f":"IF(SUM(BX$7:BX$9)>0,$E16*$G16,0)","v":0},null,{"$f":"IF(SUM(BZ$7:BZ$9)>0,$E16*$G16,0)","v":0},null,{"$f":"IF(SUM(CB$7:CB$9)>0,$E16*$G16,0)","v":0},null,{"$f":"IF(SUM(CD$7:CD$9)>0,$E16*$G16,0)","v":0},null,{"$f":"IF(SUM(CF$7:CF$9)>0,$E16*$G16,0)","v":0},null,{"$f":"IF(SUM(CH$7:CH$9)>0,$E16*$G16,0)","v":0},null,{"$f":"IF(SUM(CJ$7:CJ$9)>0,$E16*$G16,0)","v":0},null,{"$f":"IF(SUM(CL$7:CL$9)>0,$E16*$G16,0)","v":0},null,{"$f":"IF(SUM(CN$7:CN$9)>0,$E16*$G16,0)","v":0},null,{"$f":"IF(SUM(CP$7:CP$9)>0,$E16*$G16,0)","v":0},null,{"$f":"IF(SUM(CR$7:CR$9)>0,$E16*$G16,0)","v":0},null,{"$f":"IF(SUM(CT$7:CT$9)>0,$E16*$G16,0)","v":0},null,{"$f":"IF(SUM(CV$7:CV$9)>0,$E16*$G16,0)","v":0},null,{"$f":"IF(SUM(CX$7:CX$9)>0,$E16*$G16,0)","v":0},null,{"$f":"IF(SUM(CZ$7:CZ$9)>0,$E16*$G16,0)","v":0},null,{"$f":"IF(SUM(DB$7:DB$9)>0,$E16*$G16,0)","v":0},null,{"$f":"IF(SUM(DD$7:DD$9)>0,$E16*$G16,0)","v":0},null,{"$f":"IF(SUM(DF$7:DF$9)>0,$E16*$G16,0)","v":0},null,{"$f":"IF(SUM(DH$7:DH$9)>0,$E16*$G16,0)","v":0},null,{"$f":"IF(SUM(DJ$7:DJ$9)>0,$E16*$G16,0)","v":0},null,{"$f":"IF(SUM(DL$7:DL$9)>0,$E16*$G16,0)","v":0},null,{"$f":"IF(SUM(DN$7:DN$9)>0,$E16*$G16,0)","v":0},null,{"$f":"IF(SUM(DP$7:DP$9)>0,$E16*$G16,0)","v":0},null,{"$f":"IF(SUM(DR$7:DR$9)>0,$E16*$G16,0)","v":0},null,{"$f":"IF(SUM(DT$7:DT$9)>0,$E16*$G16,0)","v":0},null,{"$f":"IF(SUM(DV$7:DV$9)>0,$E16*$G16,0)","v":0},null,0]
[null,null,5,"Meia preta",4,"PAR",17.329999999999998,null,null,null,{"$f":"IF(SUM(J$7:J$9)>0,$E17*$G17,0)","v":0},null,{"$f":"IF(SUM(L$7:L$9)>0,$E17*$G17,0)","v":0},null,{"$f":"IF(SUM(N$7:N$9)>0,$E17*$G17,0)","v":0},null,{"$f":"IF(SUM(P$7:P$9)>0,$E17*$G17,0)","v":0},null,{"$f":"IF(SUM(R$7:R$9)>0,$E17*$G17,0)","v":0},null,{"$f":"IF(SUM(T$7:T$9)>0,$E17*$G17,0)","v":0},null,{"$f":"IF(SUM(V$7:V$9)>0,$E17*$G17,0)","v":0},null,{"$f":"IF(SUM(X$7:X$9)>0,$E17*$G17,0)","v":0},null,{"$f":"IF(SUM(Z$7:Z$9)>0,$E17*$G17,0)","v":0},null,{"$f":"IF(SUM(AB$7:AB$9)>0,$E17*$G17,0)","v":0},null,{"$f":"IF(SUM(AD$7:AD$9)>0,$E17*$G17,0)","v":0},null,{"$f":"IF(SUM(AF$7:AF$9)>0,$E17*$G17,0)","v":0},null,{"$f":"IF(SUM(AH$7:AH$9)>0,$E17*$G17,0)","v":0},null,{"$f":"IF(SUM(AJ$7:AJ$9)>0,$E17*$G17,0)","v":0},null,{"$f":"IF(SUM(AL$7:AL$9)>0,$E17*$G17,0)","v":0},null,{"$f":"IF(SUM(AN$7:AN$9)>0,$E17*$G17,0)","v":0},null,{"$f":"IF(SUM(AP$7:AP$9)>0,$E17*$G17,0)","v":0},null,{"$f":"IF(SUM(AR$7:AR$9)>0,$E17*$G17,0)","v":0},null,{"$f":"IF(SUM(AT$7:AT$9)>0,$E17*$G17,0)","v":0},null,{"$f":"IF(SUM(AV$7:AV$9)>0,$E17*$G17,0)","v":0},null,{"$f":"IF(SUM(AX$7:AX$9)>0,$E17*$G17,0)","v":0},null,{"$f":"IF(SUM(AZ$7:AZ$9)>0,$E17*$G17,0)","v":0},null,{"$f":"IF(SUM(BB$7:BB$9)>0,$E17*$G17,0)","v":0},null,{"$f":"IF(SUM(BD$7:BD$9)>0,$E17*$G17,0)","v":0},null,{"$f":"IF(SUM(BF$7:BF$9)>0,$E17*$G17,0)","v":0},null,{"$f":"IF(SUM(BH$7:BH$9)>0,$E17*$G17,0)","v":0},null,{"$f":"IF(SUM(BJ$7:BJ$9)>0,$E17*$G17,0)","v":0},null,{"$f":"IF(SUM(BL$7:BL$9)>0,$E17*$G17,0)","v":0},null,{"$f":"IF(SUM(BN$7:BN$9)>0,$E17*$G17,0)","v":0},null,{"$f":"IF(SUM(BP$7:BP$9)>0,$E17*$G17,0)","v":0},null,{"$f":"IF(SUM(BR$7:BR$9)>0,$E17*$G17,0)","v":0},null,{"$f":"IF(SUM(BT$7:BT$9)>0,$E17*$G17,0)","v":0},null,{"$f":"IF(SUM(BV$7:BV$9)>0,$E17*$G17,0)","v":0},null,{"$f":"IF(SUM(BX$7:BX$9)>0,$E17*$G17,0)","v":0},null,{"$f":"IF(SUM(BZ$7:BZ$9)>0,$E17*$G17,0)","v":0},null,{"$f":"IF(SUM(CB$7:CB$9)>0,$E17*$G17,0)","v":0},null,{"$f":"IF(SUM(CD$7:CD$9)>0,$E17*$G17,0)","v":0},null,{"$f":"IF(SUM(CF$7:CF$9)>0,$E17*$G17,0)","v":0},null,{"$f":"IF(SUM(CH$7:CH$9)>0,$E17*$G17,0)","v":0},null,{"$f":"IF(SUM(CJ$7:CJ$9)>0,$E17*$G17,0)","v":0},null,{"$f":"IF(SUM(CL$7:CL$9)>0,$E17*$G17,0)","v":0},null,{"$f":"IF(SUM(CN$7:CN$9)>0,$E17*$G17,0)","v":0},null,{"$f":"IF(SUM(CP$7:CP$9)>0,$E17*$G17,0)","v":0},null,{"$f":"IF(SUM(CR$7:CR$9)>0,$E17*$G17,0)","v":0},null,{"$f":"IF(SUM(CT$7:CT$9)>0,$E17*$G17,0)","v":0},null,{"$f":"IF(SUM(CV$7:CV$9)>0,$E17*$G17,0)","v":0},null,{"$f":"IF(SUM(CX$7:CX$9)>0,$E17*$G17,0)","v":0},null,{"$f":"IF(SUM(CZ$7:CZ$9)>0,$E17*$G17,0)","v":0},null,{"$f":"IF(SUM(DB$7:DB$9)>0,$E17*$G17,0)","v":0},null,{"$f":"IF(SUM(DD$7:DD$9)>0,$E17*$G17,0)","v":0},null,{"$f":"IF(SUM(DF$7:DF$9)>0,$E17*$G17,0)","v":0},null,{"$f":"IF(SUM(DH$7:DH$9)>0,$E17*$G17,0)","v":0},null,{"$f":"IF(SUM(DJ$7:DJ$9)>0,$E17*$G17,0)","v":0},null,{"$f":"IF(SUM(DL$7:DL$9)>0,$E17*$G17,0)","v":0},null,{"$f":"IF(SUM(DN$7:DN$9)>0,$E17*$G17,0)","v":0},null,{"$f":"IF(SUM(DP$7:DP$9)>0,$E17*$G17,0)","v":0},null,{"$f":"IF(SUM(DR$7:DR$9)>0,$E17*$G17,0)","v":0},null,{"$f":"IF(SUM(DT$7:DT$9)>0,$E17*$G17,0)","v":0},null,{"$f":"IF(SUM(DV$7:DV$9)>0,$E17*$G17,0)","v":0},null,0]
[]
[]
[null,null,"CATEGORIAS",null,null,null,"QUANTIDADE"]
[null,null,null,null,null,null,null,null,null,{"$f":"IF($C21=J$3,1,0)","v":0},null,{"$f":"IF($C21=L$3,1,0)","v":0},null,{"$f":"IF($C21=N$3,1,0)","v":0},null,{"$f":"IF($C21=P$3,1,0)","v":0},null,{"$f":"IF($C21=R$3,1,0)","v":0},null,{"$f":"IF($C21=T$3,1,0)","v":0},null,{"$f":"IF($C21=V$3,1,0)","v":0},null,{"$f":"IF($C21=X$3,1,0)","v":0},null,{"$f":"IF($C21=Z$3,1,0)","v":0},null,{"$f":"IF($C21=AB$3,1,0)","v":0},null,{"$f":"IF($C21=AD$3,1,0)","v":0},null,{"$f":"IF($C21=AF$3,1,0)","v":0},null,{"$f":"IF($C21=AH$3,1,0)","v":0},null,{"$f":"IF($C21=AJ$3,1,0)","v":0},null,{"$f":"IF($C21=AL$3,1,0)","v":0},null,{"$f":"IF($C21=AN$3,1,0)","v":0},null,{"$f":"IF($C21=AP$3,1,0)","v":0},null,{"$f":"IF($C21=AR$3,1,0)","v":0},null,{"$f":"IF($C21=AT$3,1,0)","v":0},null,{"$f":"IF($C21=AV$3,1,0)","v":0},null,{"$f":"IF($C21=AX$3,1,0)","v":0},null,{"$f":"IF($C21=AZ$3,1,0)","v":0},null,{"$f":"IF($C21=BB$3,1,0)","v":0},null,{"$f":"IF($C21=BD$3,1,0)","v":0},null,{"$f":"IF($C21=BF$3,1,0)","v":0},null,{"$f":"IF($C21=BH$3,1,0)","v":0},null,{"$f":"IF($C21=BJ$3,1,0)","v":0},null,{"$f":"IF($C21=BL$3,1,0)","v":0},null,{"$f":"IF($C21=BN$3,1,0)","v":0},null,{"$f":"IF($C21=BP$3,1,0)","v":0},null,{"$f":"IF($C21=BR$3,1,0)","v":0},null,{"$f":"IF($C21=BT$3,1,0)","v":0},null,{"$f":"IF($C21=BV$3,1,0)","v":0},null,{"$f":"IF($C21=BX$3,1,0)","v":0},null,{"$f":"IF($C21=BZ$3,1,0)","v":0},null,{"$f":"IF($C21=CB$3,1,0)","v":0},null,{"$f":"IF($C21=CD$3,1,0)","v":0},null,{"$f":"IF($C21=CF$3,1,0)","v":0},null,{"$f":"IF($C21=CH$3,1,0)","v":0},null,{"$f":"IF($C21=CJ$3,1,0)","v":0},null,{"$f":"IF($C21=CL$3,1,0)","v":0},null,{"$f":"IF($C21=CN$3,1,0)","v":0},null,{"$f":"IF($C21=CP$3,1,0)","v":0},null,{"$f":"IF($C21=CR$3,1,0)","v":0},null,{"$f":"IF($C21=CT$3,1,0)","v":0},null,{"$f":"IF($C21=CV$3,1,0)","v":0},null,{"$f":"IF($C21=CX$3,1,0)","v":0},null,{"$f":"IF($C21=CZ$3,1,0)","v":0},null,{"$f":"IF($C21=DB$3,1,0)","v":0},null,{"$f":"IF($C21=DD$3,1,0)","v":0},null,{"$f":"IF($C21=DF$3,1,0)","v":0},null,{"$f":"IF($C21=DH$3,1,0)","v":0},null,{"$f":"IF($C21=DJ$3,1,0)","v":0},null,{"$f":"IF($C21=DL$3,1,0)","v":0},null,{"$f":"IF($C21=DN$3,1,0)","v":0},null,{"$f":"IF($C21=DP$3,1,0)","v":0},null,{"$f":"IF($C21=DR$3,1,0)","v":0},null,{"$f":"IF($C21=DT$3,1,0)","v":0},null,{"$f":"IF($C21=DV$3,1,0)","v":0},null,{"$f":"IF($C21=DX$3,1,0)","v":0}]
[null,null,null,{"$f":"HLOOKUP($C22,'Dados Gerais'!$D$6:$V$11,6,0)","v":{"$error":"#N/A"}},null,null,{"$f":"HLOOKUP($C22,'Dados Gerais'!$D$6:$V$15,10,0)","v":{"$error":"#N/A"}},null,null,{"$f":"IF($C22=J$3,1,0)","v":0},null,0,null,0,null,0,null,0,null,0,null,0,null,0,null,0,null,0,null,0,null,0,null,0,null,0,null,0,null,0,null,0,null,0,null,0,null,0,null,0,null,0,null,0,null,0,null,0,null,0,null,0,null,0,null,0,null,0,null,0,null,0,null,0,null,0,null,0,null,0,null,0,null,0,null,0,null,0,null,0,null,0,null,0,null,0,null,0,null,0,null,0,null,0,null,0,null,0,null,0,null,0,null,0,null,0,null,0,null,0,null,0,null,0,null,0,null,0]
[null,null,null,null,null,null,null,null,null,{"$f":"IF($C23=J$3,1,0)","v":0},null,0,null,0,null,0,null,0,null,0,null,0,null,0,null,0,null,0,null,0,null,0,null,0,null,0,null,0,null,0,null,0,null,0,null,0,null,0,null,0,null,0,null,0,null,0,null,0,null,0,null,0,null,0,null,0,null,0,null,0,null,0,null,0,null,0,null,0,null,0,null,0,null,0,null,0,null,0,null,0,null,0,null,0,null,0,null,0,null,0,null,0,null,0,null,0,null,0,null,0,null,0,null,0,null,0,null,0,null,0,null,0,null,0,null,0,null,0]
[]
[null,null,"ITEM","DESCRIÇÃO","QUANTIDADE POR TRABALHADOR/ANO","UNIDADE","VALOR"]
[]
[null,null,1,"Terninho feminino completo na cor azul noite, em microfibra",3,"UNID",375.23,null,null,null,{"$f":"IF(SUM(J$21:J$23)>0,$E27*$G27,0)","v":0},null,{"$f":"IF(SUM(L$21:L$23)>0,$E27*$G27,0)","v":0},null,{"$f":"IF(SUM(N$21:N$23)>0,$E27*$G27,0)","v":0},null,{"$f":"IF(SUM(P$21:P$23)>0,$E27*$G27,0)","v":0},null,{"$f":"IF(SUM(R$21:R$23)>0,$E27*$G27,0)","v":0},null,{"$f":"IF(SUM(T$21:T$23)>0,$E27*$G27,0)","v":0},null,{"$f":"IF(SUM(V$21:V$23)>0,$E27*$G27,0)","v":0},null,{"$f":"IF(SUM(X$21:X$23)>0,$E27*$G27,0)","v":0},null,{"$f":"IF(SUM(Z$21:Z$23)>0,$E27*$G27,0)","v":0},null,{"$f":"IF(SUM(AB$21:AB$23)>0,$E27*$G27,0)","v":0},null,{"$f":"IF(SUM(AD$21:AD$23)>0,$E27*$G27,0)","v":0},null,{"$f":"IF(SUM(AF$21:AF$23)>0,$E27*$G27,0)","v":0},null,{"$f":"IF(SUM(AH$21:AH$23)>0,$E27*$G27,0)","v":0},null,{"$f":"IF(SUM(AJ$21:AJ$23)>0,$E27*$G27,0)","v":0},null,{"$f":"IF(SUM(AL$21:AL$23)>0,$E27*$G27,0)","v":0},null,{"$f":"IF(SUM(AN$21:AN$23)>0,$E27*$G27,0)","v":0},null,{"$f":"IF(SUM(AP$21:AP$23)>0,$E27*$G27,0)","v":0},null,{"$f":"IF(SUM(AR$21:AR$23)>0,$E27*$G27,0)","v":0},null,{"$f":"IF(SUM(AT$21:AT$23)>0,$E27*$G27,0)","v":0},null,{"$f":"IF(SUM(AV$21:AV$23)>0,$E27*$G27,0)","v":0},null,{"$f":"IF(SUM(AX$21:AX$23)>0,$E27*$G27,0)","v":0},null,{"$f":"IF(SUM(AZ$21:AZ$23)>0,$E27*$G27,0)","v":0},null,{"$f":"IF(SUM(BB$21:BB$23)>0,$E27*$G27,0)","v":0},null,{"$f":"IF(SUM(BD$21:BD$23)>0,$E27*$G27,0)","v":0},null,{"$f":"IF(SUM(BF$21:BF$23)>0,$E27*$G27,0)","v":0},null,{"$f":"IF(SUM(BH$21:BH$23)>0,$E27*$G27,0)","v":0},null,{"$f":"IF(SUM(BJ$21:BJ$23)>0,$E27*$G27,0)","v":0},null,{"$f":"IF(SUM(BL$21:BL$23)>0,$E27*$G27,0)","v":0},null,{"$f":"IF(SUM(BN$21:BN$23)>0,$E27*$G27,0)","v":0},null,{"$f":"IF(SUM(BP$21:BP$23)>0,$E27*$G27,0)","v":0},null,{"$f":"IF(SUM(BR$21:BR$23)>0,$E27*$G27,0)","v":0},null,{"$f":"IF(SUM(BT$21:BT$23)>0,$E27*$G27,0)","v":0},null,{"$f":"IF(SUM(BV$21:BV$23)>0,$E27*$G27,0)","v":0},null,{"$f":"IF(SUM(BX$21:BX$23)>0,$E27*$G27,0)","v":0},null,{"$f":"IF(SUM(BZ$21:BZ$23)>0,$E27*$G27,0)","v":0},null,{"$f":"IF(SUM(CB$21:CB$23)>0,$E27*$G27,0)","v":0},null,{"$f":"IF(SUM(CD$21:CD$23)>0,$E27*$G27,0)","v":0},null,{"$f":"IF(SUM(CF$21:CF$23)>0,$E27*$G27,0)","v":0},null,{"$f":"IF(SUM(CH$21:CH$23)>0,$E27*$G27,0)","v":0},null,{"$f":"IF(SUM(CJ$21:CJ$23)>0,$E27*$G27,0)","v":0},null,{"$f":"IF(SUM(CL$21:CL$23)>0,$E27*$G27,0)","v":0},null,{"$f":"IF(SUM(CN$21:CN$23)>0,$E27*$G27,0)","v":0},null,{"$f":"IF(SUM(CP$21:CP$23)>0,$E27*$G27,0)","v":0},null,{"$f":"IF(SUM(CR$21:CR$23)>0,$E27*$G27,0)","v":0},null,{"$f":"IF(SUM(CT$21:CT$23)>0,$E27*$G27,0)","v":0},null,{"$f":"IF(SUM(CV$21:CV$23)>0,$E27*$G27,0)","v":0},null,{"$f":"IF(SUM(CX$21:CX$23)>0,$E27*$G27,0)","v":0},null,{"$f":"IF(SUM(CZ$21:CZ$23)>0,$E27*$G27,0)","v":0},null,{"$f":"IF(SUM(DB$21:DB$23)>0,$E27*$G27,0)","v":0},null,{"$f":"IF(SUM(DD$21:DD$23)>0,$E27*$G27,0)","v":0},null,{"$f":"IF(SUM(DF$21:DF$23)>0,$E27*$G27,0)","v":0},null,{"$f":"IF(SUM(DH$21:DH$23)>0,$E27*$G27,0)","v":0},null,{"$f":"IF(SUM(DJ$21:DJ$23)>0,$E27*$G27,0)","v":0},null,{"$f":"IF(SUM(DL$21:DL$23)>0,$E27*$G27,0)","v":0},null,{"$f":"IF(SUM(DN$21:DN$23)>0,$E27*$G27,0)","v":0},null,{"$f":"IF(SUM(DP$21:DP$23)>0,$E27*$G27,0)","v":0},null,{"$f":"IF(SUM(DR$21:DR$23)>0,$E27*$G27,0)","v":0},null,{"$f":"IF(SUM(DT$21:DT$23)>0,$E27*$G27,0)","v":0},null,{"$f":"IF(SUM(DV$21:DV$23)>0,$E27*$G27,0)","v":0},null,{"$f":"IF(SUM(DX$21:DX$23)>0,$E27*$G27,0)","v":0}]
[null,null,2,"Blusa na cor branca em tecido tricoline, 68% de algodão, 27% poliéster, 5% elastano",4,"UNID",118.95,null,null,null,{"$f":"IF(SUM(J$21:J$23)>0,$E28*$G28,0)","v":0},null,0,null,0,null,0,null,0,null,0,null,0,null,0,null,0,null,0,null,0,null,0,null,0,null,0,null,0,null,0,null,0,null,0,null,0,null,0,null,0,null,0,null,0,null,0,null,0,null,0,null,0,null,0,null,0,null,0,null,0,null,0,null,0,null,0,null,0,null,0,null,0,null,0,null,0,null,0,null,0,null,0,null,0,null,0,null,0,null,0,null,0,null,0,null,0,null,0,null,0,null,0,null,0,null,0,null,0,null,0,null,0,null,0,null,0,null,0]
[null,null,3,"Lenço para usar no pescoço, na cor preta",3,"UNID",46.08,null,null,null,0,null,{"$f":"IF(SUM(L$21:L$23)>0,$E29*$G29,0)","v":0},null,0,null,0,null,0,null,0,null,0,null,0,null,0,null,0,null,0,null,0,null,0,null,0,null,0,null,0,null,0,null,0,null,0,null,0,null,0,null,0,null,0,null,0,null,0,null,0,null,0,null,0,null,0,null,0,null,0,null,0,null,0,null,0,null,0,null,0,null,0,null,0,null,0,null,0,null,0,null,0,null,0,null,0,null,0,null,0,null,0,null,0,null,0,null,0,null,0,null,0,null,0,null,0,null,0,null,0,null,0,null,0,null,0,null,0]
[null,null,4,"Meia preta",4,"PAR",17.329999999999998,null,null,null,0,null,0,null,0,null,0,null,0,null,0,null,0,null,0,null,0,null,0,null,0,null,0,null,0,null,0,null,0,null,0,null,0,null,0,null,0,null,0,null,0,null,0,null,0,null,0,null,0,null,0,null,0,null,0,null,0,null,0,null,0,null,0,null,0,null,0,null,0,null,0,null,0,null,0,null,0,null,0,null,0,null,0,null,0,null,0,null,0,null,0,null,0,null,0,null,0,null,0,null,0,null,0,null,0,null,0,null,0,null,0,null,0,null,0,null,0,null,0]
[]
[]
[null,null,"CATEGORIAS",null,null,null,"QUANTIDADE"]
[null,null,null,null,null,null,null,null,null,{"$f":"IF($C34=J$3,1,0)","v":0},null,{"$f":"IF($C34=L$3,1,0)","v":0},null,{"$f":"IF($C34=N$3,1,0)","v":0},null,{"$f":"IF($C34=P$3,1,0)","v":0},null,{"$f":"IF($C34=R$3,1,0)","v":0},null,{"$f":"IF($C34=T$3,1,0)","v":0},null,{"$f":"IF($C34=V$3,1,0)","v":0},null,{"$f":"IF($C34=X$3,1,0)","v":0},null,{"$f":"IF($C34=Z$3,1,0)","v":0},null,{"$f":"IF($C34=AB$3,1,0)","v":0},null,{"$f":"IF($C34=AD$3,1,0)","v":0},null,{"$f":"IF($C34=AF$3,1,0)","v":0},null,{"$f":"IF($C34=AH$3,1,0)","v":0},null,{"$f":"IF($C34=AJ$3,1,0)","v":0},null,{"$f":"IF($C34=AL$3,1,0)","v":0},null,{"$f":"IF($C34=AN$3,1,0)","v":0},null,{"$f":"IF($C34=AP$3,1,0)","v":0},null,{"$f":"IF($C34=AR$3,1,0)","v":0},null,{"$f":"IF($C34=AT$3,1,0)","v":0},null,{"$f":"IF($C34=AV$3,1,0)","v":0},null,{"$f":"IF($C34=AX$3,1,0)","v":0},null,{"$f":"IF($C34=AZ$3,1,0)","v":0},null,{"$f":"IF($C34=BB$3,1,0)","v":0},null,{"$f":"IF($C34=BD$3,1,0)","v":0},null,{"$f":"IF($C34=BF$3,1,0)","v":0},null,{"$f":"IF($C34=BH$3,1,0)","v":0},null,{"$f":"IF($C34=BJ$3,1,0)","v":0},null,{"$f":"IF($C34=BL$3,1,0)","v":0},null,{"$f":"IF($C34=BN$3,1,0)","v":0},null,{"$f":"IF($C34=BP$3,1,0)","v":0},null,{"$f":"IF($C34=BR$3,1,0)","v":0},null,{"$f":"IF($C34=BT$3,1,0)","v":0},null,{"$f":"IF($C34=BV$3,1,0)","v":0},null,{"$f":"IF($C34=BX$3,1,0)","v":0},null,{"$f":"IF($C34=BZ$3,1,0)","v":0},null,{"$f":"IF($C34=CB$3,1,0)","v":0},null,{"$f":"IF($C34=CD$3,1,0)","v":0},null,{"$f":"IF($C34=CF$3,1,0)","v":0},null,{"$f":"IF($C34=CH$3,1,0)","v":0},null,{"$f":"IF($C34=CJ$3,1,0)","v":0},null,{"$f":"IF($C34=CL$3,1,0)","v":0},null,{"$f":"IF($C34=CN$3,1,0)","v":0},null,{"$f":"IF($C34=CP$3,1,0)","v":0},null,{"$f":"IF($C34=CR$3,1,0)","v":0},null,{"$f":"IF($C34=CT$3,1,0)","v":0},null,{"$f":"IF($C34=CV$3,1,0)","v":0},null,{"$f":"IF($C34=CX$3,1,0)","v":0},null,{"$f":"IF($C34=CZ$3,1,0)","v":0},null,{"$f":"IF($C34=DB$3,1,0)","v":0},null,{"$f":"IF($C34=DD$3,1,0)","v":0},null,{"$f":"IF($C34=DF$3,1,0)","v":0},null,{"$f":"IF($C34=DH$3,1,0)","v":0},null,{"$f":"IF($C34=DJ$3,1,0)","v":0},null,{"$f":"IF($C34=DL$3,1,0)","v":0},null,{"$f":"IF($C34=DN$3,1,0)","v":0},null,{"$f":"IF($C34=DP$3,1,0)","v":0},null,{"$f":"IF($C34=DR$3,1,0)","v":0},null,{"$f":"IF($C34=DT$3,1,0)","v":0},null,{"$f":"IF($C34=DV$3,1,0)","v":0},null,{"$f":"IF($C34=DX$3,1,0)","v":0}]
[null,null,null,{"$f":"HLOOKUP($C35,'Dados Gerais'!$D$6:$V$11,6,0)","v":{"$error":"#N/A"}},null,null,{"$f":"HLOOKUP($C35,'Dados Gerais'!$D$6:$V$15,10,0)","v":{"$error":"#N/A"}},null,null,{"$f":"IF($C35=J$3,1,0)","v":0},null,0,null,0,null,0,null,0,null,0,null,0,null,0,null,0,null,0,null,0,null,0,null,0,null,0,null,0,null,0,null,0,null,0,null,0,null,0,null,0,null,0,null,0,null,0,null,0,null,0,null,0,null,0,null,0,null,0,null,0,null,0,null,0,null,0,null,0,null,0,null,0,null,0,null,0,null,0,null,0,null,0,null,0,null,0,null,0,null,0,null,0,null,0,null,0,null,0,null,0,null,0,null,0,null,0,null,0,null,0,null,0,null,0,null,0,null,0]
[]
[]
[null,null,"ITEM","DESCRIÇÃO","QUANTIDADE POR TRABALHADOR/ANO","UNIDADE","VALOR"]
[]
[null,null,1,"Blusa na cor branca em tecido tricoline, 68% de algodão, 27% poliéster, 5% elastano",4,"UNID",118.95,null,null,null,{"$f":"IF(SUM(J$34:J$36)>0,$E40*$G40,0)","v":0},null,{"$f":"IF(SUM(L$34:L$36)>0,$E40*$G40,0)","v":0},null,{"$f":"IF(SUM(N$34:N$36)>0,$E40*$G40,0)","v":0},null,{"$f":"IF(SUM(P$34:P$36)>0,$E40*$G40,0)","v":0},null,{"$f":"IF(SUM(R$34:R$36)>0,$E40*$G40,0)","v":0},null,{"$f":"IF(SUM(T$34:T$36)>0,$E40*$G40,0)","v":0},null,{"$f":"IF(SUM(V$34:V$36)>0,$E40*$G40,0)","v":0},null,{"$f":"IF(SUM(X$34:X$36)>0,$E40*$G40,0)","v":0},null,{"$f":"IF(SUM(Z$34:Z$36)>0,$E40*$G40,0)","v":0},null,{"$f":"IF(SUM(AB$34:AB$36)>0,$E40*$G40,0)","v":0},null,{"$f":"IF(SUM(AD$34:AD$36)>0,$E40*$G40,0)","v":0},null,{"$f":"IF(SUM(AF$34:AF$36)>0,$E40*$G40,0)","v":0},null,{"$f":"IF(SUM(AH$34:AH$36)>0,$E40*$G40,0)","v":0},null,{"$f":"IF(SUM(AJ$34:AJ$36)>0,$E40*$G40,0)","v":0},null,{"$f":"IF(SUM(AL$34:AL$36)>0,$E40*$G40,0)","v":0},null,{"$f":"IF(SUM(AN$34:AN$36)>0,$E40*$G40,0)","v":0},null,{"$f":"IF(SUM(AP$34:AP$36)>0,$E40*$G40,0)","v":0},null,{"$f":"IF(SUM(AR$34:AR$36)>0,$E40*$G40,0)","v":0},null,{"$f":"IF(SUM(AT$34:AT$36)>0,$E40*$G40,0)","v":0},null,{"$f":"IF(SUM(AV$34:AV$36)>0,$E40*$G40,0)","v":0},null,{"$f":"IF(SUM(AX$34:AX$36)>0,$E40*$G40,0)","v":0},null,{"$f":"IF(SUM(AZ$34:AZ$36)>0,$E40*$G40,0)","v":0},null,{"$f":"IF(SUM(BB$34:BB$36)>0,$E40*$G40,0)","v":0},null,{"$f":"IF(SUM(BD$34:BD$36)>0,$E40*$G40,0)","v":0},null,{"$f":"IF(SUM(BF$34:BF$36)>0,$E40*$G40,0)","v":0},null,{"$f":"IF(SUM(BH$34:BH$36)>0,$E40*$G40,0)","v":0},null,{"$f":"IF(SUM(BJ$34:BJ$36)>0,$E40*$G40,0)","v":0},null,{"$f":"IF(SUM(BL$34:BL$36)>0,$E40*$G40,0)","v":0},null,{"$f":"IF(SUM(BN$34:BN$36)>0,$E40*$G40,0)","v":0},null,{"$f":"IF(SUM(BP$34:BP$36)>0,$E40*$G40,0)","v":0},null,{"$f":"IF(SUM(BR$34:BR$36)>0,$E40*$G40,0)","v":0},null,{"$f":"IF(SUM(BT$34:BT$36)>0,$E40*$G40,0)","v":0},null,{"$f":"IF(SUM(BV$34:BV$36)>0,$E40*$G40,0)","v":0},null,{"$f":"IF(SUM(BX$34:BX$36)>0,$E40*$G40,0)","v":0},null,{"$f":"IF(SUM(BZ$34:BZ$36)>0,$E40*$G40,0)","v":0},null,{"$f":"IF(SUM(CB$34:CB$36)>0,$E40*$G40,0)","v":0},null,{"$f":"IF(SUM(CD$34:CD$36)>0,$E40*$G40,0)","v":0},null,{"$f":"IF(SUM(CF$34:CF$36)>0,$E40*$G40,0)","v":0},null,{"$f":"IF(SUM(CH$34:CH$36)>0,$E40*$G40,0)","v":0},null,{"$f":"IF(SUM(CJ$34:CJ$36)>0,$E40*$G40,0)","v":0},null,{"$f":"IF(SUM(CL$34:CL$36)>0,$E40*$G40,0)","v":0},null,{"$f":"IF(SUM(CN$34:CN$36)>0,$E40*$G40,0)","v":0},null,{"$f":"IF(SUM(CP$34:CP$36)>0,$E40*$G40,0)","v":0},null,{"$f":"IF(SUM(CR$34:CR$36)>0,$E40*$G40,0)","v":0},null,{"$f":"IF(SUM(CT$34:CT$36)>0,$E40*$G40,0)","v":0},null,{"$f":"IF(SUM(CV$34:CV$36)>0,$E40*$G40,0)","v":0},null,{"$f":"IF(SUM(CX$34:CX$36)>0,$E40*$G40,0)","v":0},null,{"$f":"IF(SUM(CZ$34:CZ$36)>0,$E40*$G40,0)","v":0},null,{"$f":"IF(SUM(DB$34:DB$36)>0,$E40*$G40,0)","v":0},null,{"$f":"IF(SUM(DD$34:DD$36)>0,$E40*$G40,0)","v":0},null,{"$f":"IF(SUM(DF$34:DF$36)>0,$E40*$G40,0)","v":0},null,{"$f":"IF(SUM(DH$34:DH$36)>0,$E40*$G40,0)","v":0},null,{"$f":"IF(SUM(DJ$34:DJ$36)>0,$E40*$G40,0)","v":0},null,{"$f":"IF(SUM(DL$34:DL$36)>0,$E40*$G40,0)","v":0},null,{"$f":"IF(SUM(DN$34:DN$36)>0,$E40*$G40,0)","v":0},null,{"$f":"IF(SUM(DP$34:DP$36)>0,$E40*$G40,0)","v":0},null,{"$f":"IF(SUM(DR$34:DR$36)>0,$E40*$G40,0)","v":0},null,{"$f":"IF(SUM(DT$34:DT$36)>0,$E40*$G40,0)","v":0},null,{"$f":"IF(SUM(DV$34:DV$36)>0,$E40*$G40,0)","v":0},null,{"$f":"IF(SUM(DX$34:DX$36)>0,$E40*$G40,0)","v":0}]
[null,null,2,"Saia ou calça na cor azul noite, em tecido gabardine, 70% de poliester, 30% de algodão",3,"UNID",124.95,null,null,null,{"$f":"IF(SUM(J$34:J$36)>0,$E41*$G41,0)","v":0},null,0,null,0,null,0,null,0,null,0,null,0,null,0,null,0,null,0,null,0,null,0,null,0,null,0,null,0,null,0,null,0,null,0,null,0,null,0,null,0,null,0,null,0,null,0,null,0,null,0,null,0,null,0,null,0,null,0,null,0,null,0,null,0,null,0,null,0,null,0,null,0,null,0,null,0,null,0,null,0,null,0,null,0,null,0,null,0,null,0,null,0,null,0,null,0,null,0,null,0,null,0,null,0,null,0,null,0,null,0,null,0,null,0,null,0,null,0]
[null,null,3,"Meia preta",2,"PAR",17.329999999999998,null,null,null,0,null,{"$f":"IF(SUM(L$34:L$36)>0,$E42*$G42,0)","v":0},null,0,null,0,null,0,null,0,null,0,null,0,null,0,null,0,null,0,null,0,null,0,null,0,null,0,null,0,null,0,null,0,null,0,null,0,null,0,null,0,null,0,null,0,null,0,null,0,null,0,null,0,null,0,null,0,null,0,null,0,null,0,null,0,null,0,null,0,null,0,null,0,null,0,null,0,null,0,null,0,null,0,null,0,null,0,null,0,null,0,null,0,null,0,null,0,null,0,null,0,null,0,null,0,null,0,null,0,null,0,null,0,null,0,null,0]
[null,null,null,null,null,null,null,null,null,null,0,null,0,null,0,null,0,null,0,null,0,null,0,null,0,null,0,null,0,null,0,null,0,null,0,null,0,null,0,null,0,null,0,null,0,null,0,null,0,null,0,null,0,null,0,null,0,null,0,null,0,null,0,null,0,null,0,null,0,null,0,null,0,null,0,null,0,null,0,null,0,null,0,null,0,null,0,null,0,null,0,null,0,null,0,null,0,null,0,null,0,null,0,null,0,null,0,null,0,null,0,null,0,null,0,null,0,null,0,null,0,null,0,null,0,null,0,null,0]
[]
[null,null,"CATEGORIAS",null,null,null,"QUANTIDADE"]
[null,null,null,null,null,null,null,null,null,{"$f":"IF($C46=J$3,1,0)","v":0},null,{"$f":"IF($C46=L$3,1,0)","v":0},null,{"$f":"IF($C46=N$3,1,0)","v":0},null,{"$f":"IF($C46=P$3,1,0)","v":0},null,{"$f":"IF($C46=R$3,1,0)","v":0},null,{"$f":"IF($C46=T$3,1,0)","v":0},null,{"$f":"IF($C46=V$3,1,0)","v":0},null,{"$f":"IF($C46=X$3,1,0)","v":0},null,{"$f":"IF($C46=Z$3,1,0)","v":0},null,{"$f":"IF($C46=AB$3,1,0)","v":0},null,{"$f":"IF($C46=AD$3,1,0)","v":0},null,{"$f":"IF($C46=AF$3,1,0)","v":0},null,{"$f":"IF($C46=AH$3,1,0)","v":0},null,{"$f":"IF($C46=AJ$3,1,0)","v":0},null,{"$f":"IF($C46=AL$3,1,0)","v":0},null,{"$f":"IF($C46=AN$3,1,0)","v":0},null,{"$f":"IF($C46=AP$3,1,0)","v":0},null,{"$f":"IF($C46=AR$3,1,0)","v":0},null,{"$f":"IF($C46=AT$3,1,0)","v":0},null,{"$f":"IF($C46=AV$3,1,0)","v":0},null,{"$f":"IF($C46=AX$3,1,0)","v":0},null,{"$f":"IF($C46=AZ$3,1,0)","v":0},null,{"$f":"IF($C46=BB$3,1,0)","v":0},null,{"$f":"IF($C46=BD$3,1,0)","v":0},null,{"$f":"IF($C46=BF$3,1,0)","v":0},null,{"$f":"IF($C46=BH$3,1,0)","v":0},null,{"$f":"IF($C46=BJ$3,1,0)","v":0},null,{"$f":"IF($C46=BL$3,1,0)","v":0},null,{"$f":"IF($C46=BN$3,1,0)","v":0},null,{"$f":"IF($C46=BP$3,1,0)","v":0},null,{"$f":"IF($C46=BR$3,1,0)","v":0},null,{"$f":"IF($C46=BT$3,1,0)","v":0},null,{"$f":"IF($C46=BV$3,1,0)","v":0},null,{"$f":"IF($C46=BX$3,1,0)","v":0},null,{"$f":"IF($C46=BZ$3,1,0)","v":0},null,{"$f":"IF($C46=CB$3,1,0)","v":0},null,{"$f":"IF($C46=CD$3,1,0)","v":0},null,{"$f":"IF($C46=CF$3,1,0)","v":0},null,{"$f":"IF($C46=CH$3,1,0)","v":0},null,{"$f":"IF($C46=CJ$3,1,0)","v":0},null,{"$f":"IF($C46=CL$3,1,0)","v":0},null,{"$f":"IF($C46=CN$3,1,0)","v":0},null,{"$f":"IF($C46=CP$3,1,0)","v":0},null,{"$f":"IF($C46=CR$3,1,0)","v":0},null,{"$f":"IF($C46=CT$3,1,0)","v":0},null,{"$f":"IF($C46=CV$3,1,0)","v":0},null,{"$f":"IF($C46=CX$3,1,0)","v":0},null,{"$f":"IF($C46=CZ$3,1,0)","v":0},null,{"$f":"IF($C46=DB$3,1,0)","v":0},null,{"$f":"IF($C46=DD$3,1,0)","v":0},null,{"$f":"IF($C46=DF$3,1,0)","v":0},null,{"$f":"IF($C46=DH$3,1,0)","v":0},null,{"$f":"IF($C46=DJ$3,1,0)","v":0},null,{"$f":"IF($C46=DL$3,1,0)","v":0},null,{"$f":"IF($C46=DN$3,1,0)","v":0},null,{"$f":"IF($C46=DP$3,1,0)","v":0},null,{"$f":"IF($C46=DR$3,1,0)","v":0},null,{"$f":"IF($C46=DT$3,1,0)","v":0},null,{"$f":"IF($C46=DV$3,1,0)","v":0},null,{"$f":"IF($C46=DX$3,1,0)","v":0}]
[null,null,null,{"$f":"HLOOKUP($C47,'Dados Gerais'!$D$6:$V$11,6,0)","v":{"$error":"#N/A"}},null,null,{"$f":"HLOOKUP($C47,'Dados Gerais'!$D$6:$V$15,10,0)","v":{"$error":"#N/A"}},null,null,{"$f":"IF($C47=J$3,1,0)","v":0},null,0,null,0,null,0,null,0,null,0,null,0,null,0,null,0,null,0,null,0,null,0,null,0,null,0,null,0,null,0,null,0,null,0,null,0,null,0,null,0,null,0,null,0,null,0,null,0,null,0,null,0,null,0,null,0,null,0,null,0,null,0,null,0,null,0,null,0,null,0,null,0,null,0,null,0,null,0,null,0,null,0,null,0,null,0,null,0,null,0,null,0,null,0,null,0,null,0,null,0,null,0,null,0,null,0,null,0,null,0,null,0,null,0,null,0,null,0]
[]
[]
[null,null,"ITEM","DESCRIÇÃO","QUANTIDADE POR TRABALHADOR/ANO","UNIDADE","VALOR"]
[]
[null,null,1,"Camisa azul claro, em tecido tricoline 100% algodão",4,"UNID",107.42,null,null,null,{"$f":"IF(SUM(J$46:J$48)>0,$E52*$G52,0)","v":0},null,{"$f":"IF(SUM(L$46:L$48)>0,$E52*$G52,0)","v":0},null,{"$f":"IF(SUM(N$46:N$48)>0,$E52*$G52,0)","v":0},null,{"$f":"IF(SUM(P$46:P$48)>0,$E52*$G52,0)","v":0},null,{"$f":"IF(SUM(R$46:R$48)>0,$E52*$G52,0)","v":0},null,{"$f":"IF(SUM(T$46:T$48)>0,$E52*$G52,0)","v":0},null,{"$f":"IF(SUM(V$46:V$48)>0,$E52*$G52,0)","v":0},null,{"$f":"IF(SUM(X$46:X$48)>0,$E52*$G52,0)","v":0},null,{"$f":"IF(SUM(Z$46:Z$48)>0,$E52*$G52,0)","v":0},null,{"$f":"IF(SUM(AB$46:AB$48)>0,$E52*$G52,0)","v":0},null,{"$f":"IF(SUM(AD$46:AD$48)>0,$E52*$G52,0)","v":0},null,{"$f":"IF(SUM(AF$46:AF$48)>0,$E52*$G52,0)","v":0},null,{"$f":"IF(SUM(AH$46:AH$48)>0,$E52*$G52,0)","v":0},null,{"$f":"IF(SUM(AJ$46:AJ$48)>0,$E52*$G52,0)","v":0},null,{"$f":"IF(SUM(AL$46:AL$48)>0,$E52*$G52,0)","v":0},null,{"$f":"IF(SUM(AN$46:AN$48)>0,$E52*$G52,0)","v":0},null,{"$f":"IF(SUM(AP$46:AP$48)>0,$E52*$G52,0)","v":0},null,{"$f":"IF(SUM(AR$46:AR$48)>0,$E52*$G52,0)","v":0},null,{"$f":"IF(SUM(AT$46:AT$48)>0,$E52*$G52,0)","v":0},null,{"$f":"IF(SUM(AV$46:AV$48)>0,$E52*$G52,0)","v":0},null,{"$f":"IF(SUM(AX$46:AX$48)>0,$E52*$G52,0)","v":0},null,{"$f":"IF(SUM(AZ$46:AZ$48)>0,$E52*$G52,0)","v":0},null,{"$f":"IF(SUM(BB$46:BB$48)>0,$E52*$G52,0)","v":0},null,{"$f":"IF(SUM(BD$46:BD$48)>0,$E52*$G52,0)","v":0},null,{"$f":"IF(SUM(BF$46:BF$48)>0,$E52*$G52,0)","v":0},null,{"$f":"IF(SUM(BH$46:BH$48)>0,$E52*$G52,0)","v":0},null,{"$f":"IF(SUM(BJ$46:BJ$48)>0,$E52*$G52,0)","v":0},null,{"$f":"IF(SUM(BL$46:BL$48)>0,$E52*$G52,0)","v":0},null,{"$f":"IF(SUM(BN$46:BN$48)>0,$E52*$G52,0)","v":0},null,{"$f":"IF(SUM(BP$46:BP$48)>0,$E52*$G52,0)","v":0},null,{"$f":"IF(SUM(BR$46:BR$48)>0,$E52*$G52,0)","v":0},null,{"$f":"IF(SUM(BT$46:BT$48)>0,$E52*$G52,0)","v":0},null,{"$f":"IF(SUM(BV$46:BV$48)>0,$E52*$G52,0)","v":0},null,{"$f":"IF(SUM(BX$46:BX$48)>0,$E52*$G52,0)","v":0},null,{"$f":"IF(SUM(BZ$46:BZ$48)>0,$E52*$G52,0)","v":0},null,{"$f":"IF(SUM(CB$46:CB$48)>0,$E52*$G52,0)","v":0},null,{"$f":"IF(SUM(CD$46:CD$48)>0,$E52*$G52,0)","v":0},null,{"$f":"IF(SUM(CF$46:CF$48)>0,$E52*$G52,0)","v":0},null,{"$f":"IF(SUM(CH$46:CH$48)>0,$E52*$G52,0)","v":0},null,{"$f":"IF(SUM(CJ$46:CJ$48)>0,$E52*$G52,0)","v":0},null,{"$f":"IF(SUM(CL$46:CL$48)>0,$E52*$G52,0)","v":0},null,{"$f":"IF(SUM(CN$46:CN$48)>0,$E52*$G52,0)","v":0},null,{"$f":"IF(SUM(CP$46:CP$48)>0,$E52*$G52,0)","v":0},null,{"$f":"IF(SUM(CR$46:CR$48)>0,$E52*$G52,0)","v":0},null,{"$f":"IF(SUM(CT$46:CT$48)>0,$E52*$G52,0)","v":0},null,{"$f":"IF(SUM(CV$46:CV$48)>0,$E52*$G52,0)","v":0},null,{"$f":"IF(SUM(CX$46:CX$48)>0,$E52*$G52,0)","v":0},null,{"$f":"IF(SUM(CZ$46:CZ$48)>0,$E52*$G52,0)","v":0},null,{"$f":"IF(SUM(DB$46:DB$48)>0,$E52*$G52,0)","v":0},null,{"$f":"IF(SUM(DD$46:DD$48)>0,$E52*$G52,0)","v":0},null,{"$f":"IF(SUM(DF$46:DF$48)>0,$E52*$G52,0)","v":0},null,{"$f":"IF(SUM(DH$46:DH$48)>0,$E52*$G52,0)","v":0},null,{"$f":"IF(SUM(DJ$46:DJ$48)>0,$E52*$G52,0)","v":0},null,{"$f":"IF(SUM(DL$46:DL$48)>0,$E52*$G52,0)","v":0},null,{"$f":"IF(SUM(DN$46:DN$48)>0,$E52*$G52,0)","v":0},null,{"$f":"IF(SUM(DP$46:DP$48)>0,$E52*$G52,0)","v":0},null,{"$f":"IF(SUM(DR$46:DR$48)>0,$E52*$G52,0)","v":0},null,{"$f":"IF(SUM(DT$46:DT$48)>0,$E52*$G52,0)","v":0},null,{"$f":"IF(SUM(DV$46:DV$48)>0,$E52*$G52,0)","v":0},null,{"$f":"IF(SUM(DX$46:DX$48)>0,$E52*$G52,0)","v":0}]
[null,null,2,"Colete na cor azul noite, em tecido gabardine, 70% poliester, 30% algodão",3,"UNID",147.18,null,null,null,{"$f":"IF(SUM(J$46:J$48)>0,$E53*$G53,0)","v":0},null,0,null,0,null,0,null,0,null,0,null,0,null,0,null,0,null,0,null,0,null,0,null,0,null,0,null,0,null,0,null,0,null,0,null,0,null,0,null,0,null,0,null,0,null,0,null,0,null,0,null,0,null,0,null,0,null,0,null,0,null,0,null,0,null,0,null,0,null,0,null,0,null,0,null,0,null,0,null,0,null,0,null,0,null,0,null,0,null,0,null,0,null,0,null,0,null,0,null,0,null,0,null,0,null,0,null,0,null,0,null,0,null,0,null,0,null,0]
[null,null,3,"Gravata preta, estilo borboleta, em cetim bucol, 100% poliester",3,"UNID",35.97,null,null,null,0,null,{"$f":"IF(SUM(L$46:L$48)>0,$E54*$G54,0)","v":0},null,0,null,0,null,0,null,0,null,0,null,0,null,0,null,0,null,0,null,0,null,0,null,0,null,0,null,0,null,0,null,0,null,0,null,0,null,0,null,0,null,0,null,0,null,0,null,0,null,0,null,0,null,0,null,0,null,0,null,0,null,0,null,0,null,0,null,0,null,0,null,0,null,0,null,0,null,0,null,0,null,0,null,0,null,0,null,0,null,0,null,0,null,0,null,0,null,0,null,0,null,0,null,0,null,0,null,0,null,0,null,0,null,0,null,0]
[null,null,4,"Calça na cor azul noite, em tecido gabardine, 70% poliester, 30% algodão",3,"UNID",109.43,null,null,null,0,null,0,null,0,null,0,null,0,null,0,null,0,null,0,null,0,null,0,null,0,null,0,null,0,null,0,null,0,null,0,null,0,null,0,null,0,null,0,null,0,null,0,null,0,null,0,null,0,null,0,null,0,null,0,null,0,null,0,null,0,null,0,null,0,null,0,null,0,null,0,null,0,null,0,null,0,null,0,null,0,null,0,null,0,null,0,null,0,null,0,null,0,null,0,null,0,null,0,null,0,null,0,null,0,null,0,null,0,null,0,null,0,null,0,null,0,null,0]
[null,null,5,"Cinto de couro preto",2,"UNID",54.63,null,null,null,0,null,0,null,0,null,0,null,0,null,0,null,0,null,0,null,0,null,0,null,0,null,0,null,0,null,0,null,0,null,0,null,0,null,0,null,0,null,0,null,0,null,0,null,0,null,0,null,0,null,0,null,0,null,0,null,0,null,0,null,0,null,0,null,0,null,0,null,0,null,0,null,0,null,0,null,0,null,0,null,0,null,0,null,0,null,0,null,0,null,0,null,0,null,0,null,0,null,0,null,0,null,0,null,0,null,0,null,0,null,0,null,0,null,0,null,0,null,0]
[null,null,6,"Meia preta",4,"PAR",17.329999999999998,null,null,null,0,null,0,null,0,null,0,null,0,null,0,null,0,null,0,null,0,null,0,null,0,null,0,null,0,null,0,null,0,null,0,null,0,null,0,null,0,null,0,null,0,null,0,null,0,null,0,null,0,null,0,null,0,null,0,null,0,null,0,null,0,null,0,null,0,null,0,null,0,null,0,null,0,null,0,null,0,null,0,null,0,null,0,null,0,null,0,null,0,null,0,null,0,null,0,null,0,null,0,null,0,null,0,null,0,null,0,null,0,null,0,null,0,null,0,null,0,null,0]
[]
[]
[null,null,"CATEGORIAS",null,null,null,"QUANTIDADE"]
[null,null,null,null,null,null,null,null,null,{"$f":"IF($C61=J$3,1,0)","v":0},null,{"$f":"IF($C61=L$3,1,0)","v":0},null,{"$f":"IF($C61=N$3,1,0)","v":0},null,{"$f":"IF($C61=P$3,1,0)","v":0},null,{"$f":"IF($C61=R$3,1,0)","v":0},null,{"$f":"IF($C61=T$3,1,0)","v":0},null,{"$f":"IF($C61=V$3,1,0)","v":0},null,{"$f":"IF($C61=X$3,1,0)","v":0},null,{"$f":"IF($C61=Z$3,1,0)","v":0},null,{"$f":"IF($C61=AB$3,1,0)","v":0},null,{"$f":"IF($C61=AD$3,1,0)","v":0},null,{"$f":"IF($C61=AF$3,1,0)","v":0},null,{"$f":"IF($C61=AH$3,1,0)","v":0},null,{"$f":"IF($C61=AJ$3,1,0)","v":0},null,{"$f":"IF($C61=AL$3,1,0)","v":0},null,{"$f":"IF($C61=AN$3,1,0)","v":0},null,{"$f":"IF($C61=AP$3,1,0)","v":0},null,{"$f":"IF($C61=AR$3,1,0)","v":0},null,{"$f":"IF($C61=AT$3,1,0)","v":0},null,{"$f":"IF($C61=AV$3,1,0)","v":0},null,{"$f":"IF($C61=AX$3,1,0)","v":0},null,{"$f":"IF($C61=AZ$3,1,0)","v":0},null,{"$f":"IF($C61=BB$3,1,0)","v":0},null,{"$f":"IF($C61=BD$3,1,0)","v":0},null,{"$f":"IF($C61=BF$3,1,0)","v":0},null,{"$f":"IF($C61=BH$3,1,0)","v":0},null,{"$f":"IF($C61=BJ$3,1,0)","v":0},null,{"$f":"IF($C61=BL$3,1,0)","v":0},null,{"$f":"IF($C61=BN$3,1,0)","v":0},null,{"$f":"IF($C61=BP$3,1,0)","v":0},null,{"$f":"IF($C61=BR$3,1,0)","v":0},null,{"$f":"IF($C61=BT$3,1,0)","v":0},null,{"$f":"IF($C61=BV$3,1,0)","v":0},null,{"$f":"IF($C61=BX$3,1,0)","v":0},null,{"$f":"IF($C61=BZ$3,1,0)","v":0},null,{"$f":"IF($C61=CB$3,1,0)","v":0},null,{"$f":"IF($C61=CD$3,1,0)","v":0},null,{"$f":"IF($C61=CF$3,1,0)","v":0},null,{"$f":"IF($C61=CH$3,1,0)","v":0},null,{"$f":"IF($C61=CJ$3,1,0)","v":0},null,{"$f":"IF($C61=CL$3,1,0)","v":0},null,{"$f":"IF($C61=CN$3,1,0)","v":0},null,{"$f":"IF($C61=CP$3,1,0)","v":0},null,{"$f":"IF($C61=CR$3,1,0)","v":0},null,{"$f":"IF($C61=CT$3,1,0)","v":0},null,{"$f":"IF($C61=CV$3,1,0)","v":0},null,{"$f":"IF($C61=CX$3,1,0)","v":0},null,{"$f":"IF($C61=CZ$3,1,0)","v":0},null,{"$f":"IF($C61=DB$3,1,0)","v":0},null,{"$f":"IF($C61=DD$3,1,0)","v":0},null,{"$f":"IF($C61=DF$3,1,0)","v":0},null,{"$f":"IF($C61=DH$3,1,0)","v":0},null,{"$f":"IF($C61=DJ$3,1,0)","v":0},null,{"$f":"IF($C61=DL$3,1,0)","v":0},null,{"$f":"IF($C61=DN$3,1,0)","v":0},null,{"$f":"IF($C61=DP$3,1,0)","v":0},null,{"$f":"IF($C61=DR$3,1,0)","v":0},null,{"$f":"IF($C61=DT$3,1,0)","v":0},null,{"$f":"IF($C61=DV$3,1,0)","v":0},null,{"$f":"IF($C61=DX$3,1,0)","v":0}]
[null,null,null,{"$f":"HLOOKUP($C62,'Dados Gerais'!$D$6:$V$11,6,0)","v":{"$error":"#N/A"}},null,null,{"$f":"HLOOKUP($C62,'Dados Gerais'!$D$6:$V$15,10,0)","v":{"$error":"#N/A"}},null,null,{"$f":"IF($C62=J$3,1,0)","v":0},null,0,null,0,null,0,null,0,null,0,null,0,null,0,null,0,null,0,null,0,null,0,null,0,null,0,null,0,null,0,null,0,null,0,null,0,null,0,null,0,null,0,null,0,null,0,null,0,null,0,null,0,null,0,null,0,null,0,null,0,null,0,null,0,null,0,null,0,null,0,null,0,null,0,null,0,null,0,null,0,null,0,null,0,null,0,null,0,null,0,null,0,null,0,null,0,null,0,null,0,null,0,null,0,null,0,null,0,null,0,null,0,null,0,null,0,null,0]
[]
[]
[null,null,"ITEM","DESCRIÇÃO","QUANTIDADE POR TRABALHADOR/ANO","UNIDADE","VALOR"]
[]
[null,null,1,"Terninho completo na cor preta, em tecido gabardine, 70% poliester e 30% algodão, detalhes em cetim bucol, 100% poliester, na cor preta",3,"UNID",304.92,null,null,null,{"$f":"IF(SUM(J$61:J$63)>0,$E67*$G67,0)","v":0},null,{"$f":"IF(SUM(L$61:L$63)>0,$E67*$G67,0)","v":0},null,{"$f":"IF(SUM(N$61:N$63)>0,$E67*$G67,0)","v":0},null,{"$f":"IF(SUM(P$61:P$63)>0,$E67*$G67,0)","v":0},null,{"$f":"IF(SUM(R$61:R$63)>0,$E67*$G67,0)","v":0},null,{"$f":"IF(SUM(T$61:T$63)>0,$E67*$G67,0)","v":0},null,{"$f":"IF(SUM(V$61:V$63)>0,$E67*$G67,0)","v":0},null,{"$f":"IF(SUM(X$61:X$63)>0,$E67*$G67,0)","v":0},null,{"$f":"IF(SUM(Z$61:Z$63)>0,$E67*$G67,0)","v":0},null,{"$f":"IF(SUM(AB$61:AB$63)>0,$E67*$G67,0)","v":0},null,{"$f":"IF(SUM(AD$61:AD$63)>0,$E67*$G67,0)","v":0},null,{"$f":"IF(SUM(AF$61:AF$63)>0,$E67*$G67,0)","v":0},null,{"$f":"IF(SUM(AH$61:AH$63)>0,$E67*$G67,0)","v":0},null,{"$f":"IF(SUM(AJ$61:AJ$63)>0,$E67*$G67,0)","v":0},null,{"$f":"IF(SUM(AL$61:AL$63)>0,$E67*$G67,0)","v":0},null,{"$f":"IF(SUM(AN$61:AN$63)>0,$E67*$G67,0)","v":0},null,{"$f":"IF(SUM(AP$61:AP$63)>0,$E67*$G67,0)","v":0},null,{"$f":"IF(SUM(AR$61:AR$63)>0,$E67*$G67,0)","v":0},null,{"$f":"IF(SUM(AT$61:AT$63)>0,$E67*$G67,0)","v":0},null,{"$f":"IF(SUM(AV$61:AV$63)>0,$E67*$G67,0)","v":0},null,{"$f":"IF(SUM(AX$61:AX$63)>0,$E67*$G67,0)","v":0},null,{"$f":"IF(SUM(AZ$61:AZ$63)>0,$E67*$G67,0)","v":0},null,{"$f":"IF(SUM(BB$61:BB$63)>0,$E67*$G67,0)","v":0},null,{"$f":"IF(SUM(BD$61:BD$63)>0,$E67*$G67,0)","v":0},null,{"$f":"IF(SUM(BF$61:BF$63)>0,$E67*$G67,0)","v":0},null,{"$f":"IF(SUM(BH$61:BH$63)>0,$E67*$G67,0)","v":0},null,{"$f":"IF(SUM(BJ$61:BJ$63)>0,$E67*$G67,0)","v":0},null,{"$f":"IF(SUM(BL$61:BL$63)>0,$E67*$G67,0)","v":0},null,{"$f":"IF(SUM(BN$61:BN$63)>0,$E67*$G67,0)","v":0},null,{"$f":"IF(SUM(BP$61:BP$63)>0,$E67*$G67,0)","v":0},null,{"$f":"IF(SUM(BR$61:BR$63)>0,$E67*$G67,0)","v":0},null,{"$f":"IF(SUM(BT$61:BT$63)>0,$E67*$G67,0)","v":0},null,{"$f":"IF(SUM(BV$61:BV$63)>0,$E67*$G67,0)","v":0},null,{"$f":"IF(SUM(BX$61:BX$63)>0,$E67*$G67,0)","v":0},null,{"$f":"IF(SUM(BZ$61:BZ$63)>0,$E67*$G67,0)","v":0},null,{"$f":"IF(SUM(CB$61:CB$63)>0,$E67*$G67,0)","v":0},null,{"$f":"IF(SUM(CD$61:CD$63)>0,$E67*$G67,0)","v":0},null,{"$f":"IF(SUM(CF$61:CF$63)>0,$E67*$G67,0)","v":0},null,{"$f":"IF(SUM(CH$61:CH$63)>0,$E67*$G67,0)","v":0},null,{"$f":"IF(SUM(CJ$61:CJ$63)>0,$E67*$G67,0)","v":0},null,{"$f":"IF(SUM(CL$61:CL$63)>0,$E67*$G67,0)","v":0},null,{"$f":"IF(SUM(CN$61:CN$63)>0,$E67*$G67,0)","v":0},null,{"$f":"IF(SUM(CP$61:CP$63)>0,$E67*$G67,0)","v":0},null,{"$f":"IF(SUM(CR$61:CR$63)>0,$E67*$G67,0)","v":0},null,{"$f":"IF(SUM(CT$61:CT$63)>0,$E67*$G67,0)","v":0},null,{"$f":"IF(SUM(CV$61:CV$63)>0,$E67*$G67,0)","v":0},null,{"$f":"IF(SUM(CX$61:CX$63)>0,$E67*$G67,0)","v":0},null,{"$f":"IF(SUM(CZ$61:CZ$63)>0,$E67*$G67,0)","v":0},null,{"$f":"IF(SUM(DB$61:DB$63)>0,$E67*$G67,0)","v":0},null,{"$f":"IF(SUM(DD$61:DD$63)>0,$E67*$G67,0)","v":0},null,{"$f":"IF(SUM(DF$61:DF$63)>0,$E67*$G67,0)","v":0},null,{"$f":"IF(SUM(DH$61:DH$63)>0,$E67*$G67,0)","v":0},null,{"$f":"IF(SUM(DJ$61:DJ$63)>0,$E67*$G67,0)","v":0},null,{"$f":"IF(SUM(DL$61:DL$63)>0,$E67*$G67,0)","v":0},null,{"$f":"IF(SUM(DN$61:DN$63)>0,$E67*$G67,0)","v":0},null,{"$f":"IF(SUM(DP$61:DP$63)>0,$E67*$G67,0)","v":0},null,{"$f":"IF(SUM(DR$61:DR$63)>0,$E67*$G67,0)","v":0},null,{"$f":"IF(SUM(DT$61:DT$63)>0,$E67*$G67,0)","v":0},null,{"$f":"IF(SUM(DV$61:DV$63)>0,$E67*$G67,0)","v":0},null,{"$f":"IF(SUM(DX$61:DX$63)>0,$E67*$G67,0)","v":0}]
[null,null,2,"Blusa na cor branca em tecido tricoline, 100% de algodão",4,"UNID",115.3,null,null,null,{"$f":"IF(SUM(J$61:J$63)>0,$E68*$G68,0)","v":0},null,0,null,0,null,0,null,0,null,0,null,0,null,0,null,0,null,0,null,0,null,0,null,0,null,0,null,0,null,0,null,0,null,0,null,0,null,0,null,0,null,0,null,0,null,0,null,0,null,0,null,0,null,0,null,0,null,0,null,0,null,0,null,0,null,0,null,0,null,0,null,0,null,0,null,0,null,0,null,0,null,0,null,0,null,0,null,0,null,0,null,0,null,0,null,0,null,0,null,0,null,0,null,0,null,0,null,0,null,0,null,0,null,0,null,0,null,0]
[null,null,3,"Gravata preta, estilo borboleta, em cetim bucol, 100% poliester",3,"UNID",35.97,null,null,null,0,null,{"$f":"IF(SUM(L$61:L$63)>0,$E69*$G69,0)","v":0},null,0,null,0,null,0,null,0,null,0,null,0,null,0,null,0,null,0,null,0,null,0,null,0,null,0,null,0,null,0,null,0,null,0,null,0,null,0,null,0,null,0,null,0,null,0,null,0,null,0,null,0,null,0,null,0,null,0,null,0,null,0,null,0,null,0,null,0,null,0,null,0,null,0,null,0,null,0,null,0,null,0,null,0,null,0,null,0,null,0,null,0,null,0,null,0,null,0,null,0,null,0,null,0,null,0,null,0,null,0,null,0,null,0,null,0]
[null,null,4,"Meia preta",4,"PAR",17.329999999999998,null,null,null,0,null,0,null,0,null,0,null,0,null,0,null,0,null,0,null,0,null,0,null,0,null,0,null,0,null,0,null,0,null,0,null,0,null,0,null,0,null,0,null,0,null,0,null,0,null,0,null,0,null,0,null,0,null,0,null,0,null,0,null,0,null,0,null,0,null,0,null,0,null,0,null,0,null,0,null,0,null,0,null,0,null,0,null,0,null,0,null,0,null,0,null,0,null,0,null,0,null,0,null,0,null,0,null,0,null,0,null,0,null,0,null,0,null,0,null,0,null,0]
[]
[]
[null,null,"CATEGORIAS",null,null,null,"QUANTIDADE"]
[null,null,null,null,null,null,null,null,null,{"$f":"IF($C74=J$3,1,0)","v":0},null,{"$f":"IF($C74=L$3,1,0)","v":0},null,{"$f":"IF($C74=N$3,1,0)","v":0},null,{"$f":"IF($C74=P$3,1,0)","v":0},null,{"$f":"IF($C74=R$3,1,0)","v":0},null,{"$f":"IF($C74=T$3,1,0)","v":0},null,{"$f":"IF($C74=V$3,1,0)","v":0},null,{"$f":"IF($C74=X$3,1,0)","v":0},null,{"$f":"IF($C74=Z$3,1,0)","v":0},null,{"$f":"IF($C74=AB$3,1,0)","v":0},null,{"$f":"IF($C74=AD$3,1,0)","v":0},null,{"$f":"IF($C74=AF$3,1,0)","v":0},null,{"$f":"IF($C74=AH$3,1,0)","v":0},null,{"$f":"IF($C74=AJ$3,1,0)","v":0},null,{"$f":"IF($C74=AL$3,1,0)","v":0},null,{"$f":"IF($C74=AN$3,1,0)","v":0},null,{"$f":"IF($C74=AP$3,1,0)","v":0},null,{"$f":"IF($C74=AR$3,1,0)","v":0},null,{"$f":"IF($C74=AT$3,1,0)","v":0},null,{"$f":"IF($C74=AV$3,1,0)","v":0},null,{"$f":"IF($C74=AX$3,1,0)","v":0},null,{"$f":"IF($C74=AZ$3,1,0)","v":0},null,{"$f":"IF($C74=BB$3,1,0)","v":0},null,{"$f":"IF($C74=BD$3,1,0)","v":0},null,{"$f":"IF($C74=BF$3,1,0)","v":0},null,{"$f":"IF($C74=BH$3,1,0)","v":0},null,{"$f":"IF($C74=BJ$3,1,0)","v":0},null,{"$f":"IF($C74=BL$3,1,0)","v":0},null,{"$f":"IF($C74=BN$3,1,0)","v":0},null,{"$f":"IF($C74=BP$3,1,0)","v":0},null,{"$f":"IF($C74=BR$3,1,0)","v":0},null,{"$f":"IF($C74=BT$3,1,0)","v":0},null,{"$f":"IF($C74=BV$3,1,0)","v":0},null,{"$f":"IF($C74=BX$3,1,0)","v":0},null,{"$f":"IF($C74=BZ$3,1,0)","v":0},null,{"$f":"IF($C74=CB$3,1,0)","v":0},null,{"$f":"IF($C74=CD$3,1,0)","v":0},null,{"$f":"IF($C74=CF$3,1,0)","v":0},null,{"$f":"IF($C74=CH$3,1,0)","v":0},null,{"$f":"IF($C74=CJ$3,1,0)","v":0},null,{"$f":"IF($C74=CL$3,1,0)","v":0},null,{"$f":"IF($C74=CN$3,1,0)","v":0},null,{"$f":"IF($C74=CP$3,1,0)","v":0},null,{"$f":"IF($C74=CR$3,1,0)","v":0},null,{"$f":"IF($C74=CT$3,1,0)","v":0},null,{"$f":"IF($C74=CV$3,1,0)","v":0},null,{"$f":"IF($C74=CX$3,1,0)","v":0},null,{"$f":"IF($C74=CZ$3,1,0)","v":0},null,{"$f":"IF($C74=DB$3,1,0)","v":0},null,{"$f":"IF($C74=DD$3,1,0)","v":0},null,{"$f":"IF($C74=DF$3,1,0)","v":0},null,{"$f":"IF($C74=DH$3,1,0)","v":0},null,{"$f":"IF($C74=DJ$3,1,0)","v":0},null,{"$f":"IF($C74=DL$3,1,0)","v":0},null,{"$f":"IF($C74=DN$3,1,0)","v":0},null,{"$f":"IF($C74=DP$3,1,0)","v":0},null,{"$f":"IF($C74=DR$3,1,0)","v":0},null,{"$f":"IF($C74=DT$3,1,0)","v":0},null,{"$f":"IF($C74=DV$3,1,0)","v":0},null,{"$f":"IF($C74=DX$3,1,0)","v":0}]
[null,null,null,{"$f":"HLOOKUP($C75,'Dados Gerais'!$D$6:$V$11,6,0)","v":{"$error":"#N/A"}},null,null,{"$f":"HLOOKUP($C75,'Dados Gerais'!$D$6:$V$15,10,0)","v":{"$error":"#N/A"}},null,null,{"$f":"IF($C75=J$3,1,0)","v":0},null,0,null,0,null,0,null,0,null,0,null,0,null,0,null,0,null,0,null,0,null,0,null,0,null,0,null,0,null,0,null,0,null,0,null,0,null,0,null,0,null,0,null,0,null,0,null,0,null,0,null,0,null,0,null,0,null,0,null,0,null,0,null,0,null,0,null,0,null,0,null,0,null,0,null,0,null,0,null,0,null,0,null,0,null,0,null,0,null,0,null,0,null,0,null,0,null,0,null,0,null,0,null,0,null,0,null,0,null,0,null,0,null,0,null,0,null,0]
[]
[]
[null,null,"ITEM","DESCRIÇÃO","QUANTIDADE POR TRABALHADOR/ANO","UNIDADE","VALOR"]
[]
[null,null,1,"Terninho completo na cor preta, em tecido gabardine, 70% poliester e 30% algodão, detalhes em cetim bucol, 100% poliester, na cor preta",3,"UNID",304.92,null,null,null,{"$f":"IF(SUM(J$74:J$76)>0,$E80*$G80,0)","v":0},null,{"$f":"IF(SUM(L$74:L$76)>0,$E80*$G80,0)","v":0},null,{"$f":"IF(SUM(N$74:N$76)>0,$E80*$G80,0)","v":0},null,{"$f":"IF(SUM(P$74:P$76)>0,$E80*$G80,0)","v":0},null,{"$f":"IF(SUM(R$74:R$76)>0,$E80*$G80,0)","v":0},null,{"$f":"IF(SUM(T$74:T$76)>0,$E80*$G80,0)","v":0},null,{"$f":"IF(SUM(V$74:V$76)>0,$E80*$G80,0)","v":0},null,{"$f":"IF(SUM(X$74:X$76)>0,$E80*$G80,0)","v":0},null,{"$f":"IF(SUM(Z$74:Z$76)>0,$E80*$G80,0)","v":0},null,{"$f":"IF(SUM(AB$74:AB$76)>0,$E80*$G80,0)","v":0},null,{"$f":"IF(SUM(AD$74:AD$76)>0,$E80*$G80,0)","v":0},null,{"$f":"IF(SUM(AF$74:AF$76)>0,$E80*$G80,0)","v":0},null,{"$f":"IF(SUM(AH$74:AH$76)>0,$E80*$G80,0)","v":0},null,{"$f":"IF(SUM(AJ$74:AJ$76)>0,$E80*$G80,0)","v":0},null,{"$f":"IF(SUM(AL$74:AL$76)>0,$E80*$G80,0)","v":0},null,{"$f":"IF(SUM(AN$74:AN$76)>0,$E80*$G80,0)","v":0},null,{"$f":"IF(SUM(AP$74:AP$76)>0,$E80*$G80,0)","v":0},null,{"$f":"IF(SUM(AR$74:AR$76)>0,$E80*$G80,0)","v":0},null,{"$f":"IF(SUM(AT$74:AT$76)>0,$E80*$G80,0)","v":0},null,{"$f":"IF(SUM(AV$74:AV$76)>0,$E80*$G80,0)","v":0},null,{"$f":"IF(SUM(AX$74:AX$76)>0,$E80*$G80,0)","v":0},null,{"$f":"IF(SUM(AZ$74:AZ$76)>0,$E80*$G80,0)","v":0},null,{"$f":"IF(SUM(BB$74:BB$76)>0,$E80*$G80,0)","v":0},null,{"$f":"IF(SUM(BD$74:BD$76)>0,$E80*$G80,0)","v":0},null,{"$f":"IF(SUM(BF$74:BF$76)>0,$E80*$G80,0)","v":0},null,{"$f":"IF(SUM(BH$74:BH$76)>0,$E80*$G80,0)","v":0},null,{"$f":"IF(SUM(BJ$74:BJ$76)>0,$E80*$G80,0)","v":0},null,{"$f":"IF(SUM(BL$74:BL$76)>0,$E80*$G80,0)","v":0},null,{"$f":"IF(SUM(BN$74:BN$76)>0,$E80*$G80,0)","v":0},null,{"$f":"IF(SUM(BP$74:BP$76)>0,$E80*$G80,0)","v":0},null,{"$f":"IF(SUM(BR$74:BR$76)>0,$E80*$G80,0)","v":0},null,{"$f":"IF(SUM(BT$74:BT$76)>0,$E80*$G80,0)","v":0},null,{"$f":"IF(SUM(BV$74:BV$76)>0,$E80*$G80,0)","v":0},null,{"$f":"IF(SUM(BX$74:BX$76)>0,$E80*$G80,0)","v":0},null,{"$f":"IF(SUM(BZ$74:BZ$76)>0,$E80*$G80,0)","v":0},null,{"$f":"IF(SUM(CB$74:CB$76)>0,$E80*$G80,0)","v":0},null,{"$f":"IF(SUM(CD$74:CD$76)>0,$E80*$G80,0)","v":0},null,{"$f":"IF(SUM(CF$74:CF$76)>0,$E80*$G80,0)","v":0},null,{"$f":"IF(SUM(CH$74:CH$76)>0,$E80*$G80,0)","v":0},null,{"$f":"IF(SUM(CJ$74:CJ$76)>0,$E80*$G80,0)","v":0},null,{"$f":"IF(SUM(CL$74:CL$76)>0,$E80*$G80,0)","v":0},null,{"$f":"IF(SUM(CN$74:CN$76)>0,$E80*$G80,0)","v":0},null,{"$f":"IF(SUM(CP$74:CP$76)>0,$E80*$G80,0)","v":0},null,{"$f":"IF(SUM(CR$74:CR$76)>0,$E80*$G80,0)","v":0},null,{"$f":"IF(SUM(CT$74:CT$76)>0,$E80*$G80,0)","v":0},null,{"$f":"IF(SUM(CV$74:CV$76)>0,$E80*$G80,0)","v":0},null,{"$f":"IF(SUM(CX$74:CX$76)>0,$E80*$G80,0)","v":0},null,{"$f":"IF(SUM(CZ$74:CZ$76)>0,$E80*$G80,0)","v":0},null,{"$f":"IF(SUM(DB$74:DB$76)>0,$E80*$G80,0)","v":0},null,{"$f":"IF(SUM(DD$74:DD$76)>0,$E80*$G80,0)","v":0},null,{"$f":"IF(SUM(DF$74:DF$76)>0,$E80*$G80,0)","v":0},null,{"$f":"IF(SUM(DH$74:DH$76)>0,$E80*$G80,0)","v":0},null,{"$f":"IF(SUM(DJ$74:DJ$76)>0,$E80*$G80,0)","v":0},null,{"$f":"IF(SUM(DL$74:DL$76)>0,$E80*$G80,0)","v":0},null,{"$f":"IF(SUM(DN$74:DN$76)>0,$E80*$G80,0)","v":0},null,{"$f":"IF(SUM(DP$74:DP$76)>0,$E80*$G80,0)","v":0},null,{"$f":"IF(SUM(DR$74:DR$76)>0,$E80*$G80,0)","v":0},null,{"$f":"IF(SUM(DT$74:DT$76)>0,$E80*$G80,0)","v":0},null,{"$f":"IF(SUM(DV$74:DV$76)>0,$E80*$G80,0)","v":0},null,{"$f":"IF(SUM(DX$74:DX$76)>0,$E80*$G80,0)","v":0}]
[null,null,2,"Camisa branca em tecido tricoline, 100% algodão",4,"UNID",121.95,null,null,null,{"$f":"IF(SUM(J$74:J$76)>0,$E81*$G81,0)","v":0},null,0,null,0,null,0,null,0,null,0,null,0,null,0,null,0,null,0,null,0,null,0,null,0,null,0,null,0,null,0,null,0,null,0,null,0,null,0,null,0,null,0,null,0,null,0,null,0,null,0,null,0,null,0,null,0,null,0,null,0,null,0,null,0,null,0,null,0,null,0,null,0,null,0,null,0,null,0,null,0,null,0,null,0,null,0,null,0,null,0,null,0,null,0,null,0,null,0,null,0,null,0,null,0,null,0,null,0,null,0,null,0,null,0,null,0,null,0]
[null,null,3,"Cinto de couro preto",2,"UNID",54.63,null,null,null,0,null,{"$f":"IF(SUM(L$74:L$76)>0,$E82*$G82,0)","v":0},null,0,null,0,null,0,null,0,null,0,null,0,null,0,null,0,null,0,null,0,null,0,null,0,null,0,null,0,null,0,null,0,null,0,null,0,null,0,null,0,null,0,null,0,null,0,null,0,null,0,null,0,null,0,null,0,null,0,null,0,null,0,null,0,null,0,null,0,null,0,null,0,null,0,null,0,null,0,null,0,null,0,null,0,null,0,null,0,null,0,null,0,null,0,null,0,null,0,null,0,null,0,null,0,null,0,null,0,null,0,null,0,null,0,null,0]
[null,null,4,"Gravata preta, estilo borboleta, em cetim bucol, 100% poliester",3,"UNID",35.97,null,null,null,0,null,0,null,0,null,0,null,0,null,0,null,0,null,0,null,0,null,0,null,0,null,0,null,0,null,0,null,0,null,0,null,0,null,0,null,0,null,0,null,0,null,0,null,0,null,0,null,0,null,0,null,0,null,0,null,0,null,0,null,0,null,0,null,0,null,0,null,0,null,0,null,0,null,0,null,0,null,0,null,0,null,0,null,0,null,0,null,0,null,0,null,0,null,0,null,0,null,0,null,0,null,0,null,0,null,0,null,0,null,0,null,0,null,0,null,0,null,0]
[null,null,5,"Meia preta",4,"PAR",17.329999999999998,null,null,null,0,null,0,null,0,null,0,null,0,null,0,null,0,null,0,null,0,null,0,null,0,null,0,null,0,null,0,null,0,null,0,null,0,null,0,null,0,null,0,null,0,null,0,null,0,null,0,null,0,null,0,null,0,null,0,null,0,null,0,null,0,null,0,null,0,null,0,null,0,null,0,null,0,null,0,null,0,null,0,null,0,null,0,null,0,null,0,null,0,null,0,null,0,null,0,null,0,null,0,null,0,null,0,null,0,null,0,null,0,null,0,null,0,null,0,null,0,null,0]
[]
[]
[null,null,"CATEGORIAS",null,null,null,"QUANTIDADE"]
[null,null,null,null,null,null,null,null,null,{"$f":"IF($C88=J$3,1,0)","v":0},null,{"$f":"IF($C88=L$3,1,0)","v":0},null,{"$f":"IF($C88=N$3,1,0)","v":0},null,{"$f":"IF($C88=P$3,1,0)","v":0},null,{"$f":"IF($C88=R$3,1,0)","v":0},null,{"$f":"IF($C88=T$3,1,0)","v":0},null,{"$f":"IF($C88=V$3,1,0)","v":0},null,{"$f":"IF($C88=X$3,1,0)","v":0},null,{"$f":"IF($C88=Z$3,1,0)","v":0},null,{"$f":"IF($C88=AB$3,1,0)","v":0},null,{"$f":"IF($C88=AD$3,1,0)","v":0},null,{"$f":"IF($C88=AF$3,1,0)","v":0},null,{"$f":"IF($C88=AH$3,1,0)","v":0},null,{"$f":"IF($C88=AJ$3,1,0)","v":0},null,{"$f":"IF($C88=AL$3,1,0)","v":0},null,{"$f":"IF($C88=AN$3,1,0)","v":0},null,{"$f":"IF($C88=AP$3,1,0)","v":0},null,{"$f":"IF($C88=AR$3,1,0)","v":0},null,{"$f":"IF($C88=AT$3,1,0)","v":0},null,{"$f":"IF($C88=AV$3,1,0)","v":0},null,{"$f":"IF($C88=AX$3,1,0)","v":0},null,{"$f":"IF($C88=AZ$3,1,0)","v":0},null,{"$f":"IF($C88=BB$3,1,0)","v":0},null,{"$f":"IF($C88=BD$3,1,0)","v":0},null,{"$f":"IF($C88=BF$3,1,0)","v":0},null,{"$f":"IF($C88=BH$3,1,0)","v":0},null,{"$f":"IF($C88=BJ$3,1,0)","v":0},null,{"$f":"IF($C88=BL$3,1,0)","v":0},null,{"$f":"IF($C88=BN$3,1,0)","v":0},null,{"$f":"IF($C88=BP$3,1,0)","v":0},null,{"$f":"IF($C88=BR$3,1,0)","v":0},null,{"$f":"IF($C88=BT$3,1,0)","v":0},null,{"$f":"IF($C88=BV$3,1,0)","v":0},null,{"$f":"IF($C88=BX$3,1,0)","v":0},null,{"$f":"IF($C88=BZ$3,1,0)","v":0},null,{"$f":"IF($C88=CB$3,1,0)","v":0},null,{"$f":"IF($C88=CD$3,1,0)","v":0},null,{"$f":"IF($C88=CF$3,1,0)","v":0},null,{"$f":"IF($C88=CH$3,1,0)","v":0},null,{"$f":"IF($C88=CJ$3,1,0)","v":0},null,{"$f":"IF($C88=CL$3,1,0)","v":0},null,{"$f":"IF($C88=CN$3,1,0)","v":0},null,{"$f":"IF($C88=CP$3,1,0)","v":0},null,{"$f":"IF($C88=CR$3,1,0)","v":0},null,{"$f":"IF($C88=CT$3,1,0)","v":0},null,{"$f":"IF($C88=CV$3,1,0)","v":0},null,{"$f":"IF($C88=CX$3,1,0)","v":0},null,{"$f":"IF($C88=CZ$3,1,0)","v":0},null,{"$f":"IF($C88=DB$3,1,0)","v":0},null,{"$f":"IF($C88=DD$3,1,0)","v":0},null,{"$f":"IF($C88=DF$3,1,0)","v":0},null,{"$f":"IF($C88=DH$3,1,0)","v":0},null,{"$f":"IF($C88=DJ$3,1,0)","v":0},null,{"$f":"IF($C88=DL$3,1,0)","v":0},null,{"$f":"IF($C88=DN$3,1,0)","v":0},null,{"$f":"IF($C88=DP$3,1,0)","v":0},null,{"$f":"IF($C88=DR$3,1,0)","v":0},null,{"$f":"IF($C88=DT$3,1,0)","v":0},null,{"$f":"IF($C88=DV$3,1,0)","v":0},null,{"$f":"IF($C88=DX$3,1,0)","v":0}]
[null,null,null,{"$f":"HLOOKUP($C89,'Dados Gerais'!$D$6:$V$11,6,0)","v":{"$error":"#N/A"}},null,null,{"$f":"HLOOKUP($C89,'Dados Gerais'!$D$6:$V$15,10,0)","v":{"$error":"#N/A"}},null,null,{"$f":"IF($C89=J$3,1,0)","v":0},null,0,null,0,null,0,null,0,null,0,null,0,null,0,null,0,null,0,null,0,null,0,null,0,null,0,null,0,null,0,null,0,null,0,null,0,null,0,null,0,null,0,null,0,null,0,null,0,null,0,null,0,null,0,null,0,null,0,null,0,null,0,null,0,null,0,null,0,null,0,null,0,null,0,null,0,null,0,null,0,null,0,null,0,null,0,null,0,null,0,null,0,null,0,null,0,null,0,null,0,null,0,null,0,null,0,null,0,null,0,null,0,null,0,null,0,null,0]
[]
[]
[null,null,"ITEM","DESCRIÇÃO","QUANTIDADE POR TRABALHADOR/ANO","UNIDADE","VALOR"]
[]
[null,null,1,"Terninho feminino completo na cor azul noite, em microfibra",3,"UNID",375.23,null,null,null,{"$f":"IF(SUM(J$88:J$90)>0,$E94*$G94,0)","v":0},null,{"$f":"IF(SUM(L$88:L$90)>0,$E94*$G94,0)","v":0},null,{"$f":"IF(SUM(N$88:N$90)>0,$E94*$G94,0)","v":0},null,{"$f":"IF(SUM(P$88:P$90)>0,$E94*$G94,0)","v":0},null,{"$f":"IF(SUM(R$88:R$90)>0,$E94*$G94,0)","v":0},null,{"$f":"IF(SUM(T$88:T$90)>0,$E94*$G94,0)","v":0},null,{"$f":"IF(SUM(V$88:V$90)>0,$E94*$G94,0)","v":0},null,{"$f":"IF(SUM(X$88:X$90)>0,$E94*$G94,0)","v":0},null,{"$f":"IF(SUM(Z$88:Z$90)>0,$E94*$G94,0)","v":0},null,{"$f":"IF(SUM(AB$88:AB$90)>0,$E94*$G94,0)","v":0},null,{"$f":"IF(SUM(AD$88:AD$90)>0,$E94*$G94,0)","v":0},null,{"$f":"IF(SUM(AF$88:AF$90)>0,$E94*$G94,0)","v":0},null,{"$f":"IF(SUM(AH$88:AH$90)>0,$E94*$G94,0)","v":0},null,{"$f":"IF(SUM(AJ$88:AJ$90)>0,$E94*$G94,0)","v":0},null,{"$f":"IF(SUM(AL$88:AL$90)>0,$E94*$G94,0)","v":0},null,{"$f":"IF(SUM(AN$88:AN$90)>0,$E94*$G94,0)","v":0},null,{"$f":"IF(SUM(AP$88:AP$90)>0,$E94*$G94,0)","v":0},null,{"$f":"IF(SUM(AR$88:AR$90)>0,$E94*$G94,0)","v":0},null,{"$f":"IF(SUM(AT$88:AT$90)>0,$E94*$G94,0)","v":0},null,{"$f":"IF(SUM(AV$88:AV$90)>0,$E94*$G94,0)","v":0},null,{"$f":"IF(SUM(AX$88:AX$90)>0,$E94*$G94,0)","v":0},null,{"$f":"IF(SUM(AZ$88:AZ$90)>0,$E94*$G94,0)","v":0},null,{"$f":"IF(SUM(BB$88:BB$90)>0,$E94*$G94,0)","v":0},null,{"$f":"IF(SUM(BD$88:BD$90)>0,$E94*$G94,0)","v":0},null,{"$f":"IF(SUM(BF$88:BF$90)>0,$E94*$G94,0)","v":0},null,{"$f":"IF(SUM(BH$88:BH$90)>0,$E94*$G94,0)","v":0},null,{"$f":"IF(SUM(BJ$88:BJ$90)>0,$E94*$G94,0)","v":0},null,{"$f":"IF(SUM(BL$88:BL$90)>0,$E94*$G94,0)","v":0},null,{"$f":"IF(SUM(BN$88:BN$90)>0,$E94*$G94,0)","v":0},null,{"$f":"IF(SUM(BP$88:BP$90)>0,$E94*$G94,0)","v":0},null,{"$f":"IF(SUM(BR$88:BR$90)>0,$E94*$G94,0)","v":0},null,{"$f":"IF(SUM(BT$88:BT$90)>0,$E94*$G94,0)","v":0},null,{"$f":"IF(SUM(BV$88:BV$90)>0,$E94*$G94,0)","v":0},null,{"$f":"IF(SUM(BX$88:BX$90)>0,$E94*$G94,0)","v":0},null,{"$f":"IF(SUM(BZ$88:BZ$90)>0,$E94*$G94,0)","v":0},null,{"$f":"IF(SUM(CB$88:CB$90)>0,$E94*$G94,0)","v":0},null,{"$f":"IF(SUM(CD$88:CD$90)>0,$E94*$G94,0)","v":0},null,{"$f":"IF(SUM(CF$88:CF$90)>0,$E94*$G94,0)","v":0},null,{"$f":"IF(SUM(CH$88:CH$90)>0,$E94*$G94,0)","v":0},null,{"$f":"IF(SUM(CJ$88:CJ$90)>0,$E94*$G94,0)","v":0},null,{"$f":"IF(SUM(CL$88:CL$90)>0,$E94*$G94,0)","v":0},null,{"$f":"IF(SUM(CN$88:CN$90)>0,$E94*$G94,0)","v":0},null,{"$f":"IF(SUM(CP$88:CP$90)>0,$E94*$G94,0)","v":0},null,{"$f":"IF(SUM(CR$88:CR$90)>0,$E94*$G94,0)","v":0},null,{"$f":"IF(SUM(CT$88:CT$90)>0,$E94*$G94,0)","v":0},null,{"$f":"IF(SUM(CV$88:CV$90)>0,$E94*$G94,0)","v":0},null,{"$f":"IF(SUM(CX$88:CX$90)>0,$E94*$G94,0)","v":0},null,{"$f":"IF(SUM(CZ$88:CZ$90)>0,$E94*$G94,0)","v":0},null,{"$f":"IF(SUM(DB$88:DB$90)>0,$E94*$G94,0)","v":0},null,{"$f":"IF(SUM(DD$88:DD$90)>0,$E94*$G94,0)","v":0},null,{"$f":"IF(SUM(DF$88:DF$90)>0,$E94*$G94,0)","v":0},null,{"$f":"IF(SUM(DH$88:DH$90)>0,$E94*$G94,0)","v":0},null,{"$f":"IF(SUM(DJ$88:DJ$90)>0,$E94*$G94,0)","v":0},null,{"$f":"IF(SUM(DL$88:DL$90)>0,$E94*$G94,0)","v":0},null,{"$f":"IF(SUM(DN$88:DN$90)>0,$E94*$G94,0)","v":0},null,{"$f":"IF(SUM(DP$88:DP$90)>0,$E94*$G94,0)","v":0},null,{"$f":"IF(SUM(DR$88:DR$90)>0,$E94*$G94,0)","v":0},null,{"$f":"IF(SUM(DT$88:DT$90)>0,$E94*$G94,0)","v":0},null,{"$f":"IF(SUM(DV$88:DV$90)>0,$E94*$G94,0)","v":0},null,{"$f":"IF(SUM(DX$88:DX$90)>0,$E94*$G94,0)","v":0}]
[null,null,2,"Blusa na cor branca em tecido tricoline, 68% de algodão, 27% poliéster, 5% elastano",4,"UNID",118.95,null,null,null,{"$f":"IF(SUM(J$88:J$90)>0,$E95*$G95,0)","v":0},null,0,null,0,null,0,null,0,null,0,null,0,null,0,null,0,null,0,null,0,null,0,null,0,null,0,null,0,null,0,null,0,null,0,null,0,null,0,null,0,null,0,null,0,null,0,null,0,null,0,null,0,null,0,null,0,null,0,null,0,null,0,null,0,null,0,null,0,null,0,null,0,null,0,null,0,null,0,null,0,null,0,null,0,null,0,null,0,null,0,null,0,null,0,null,0,null,0,null,0,null,0,null,0,null,0,null,0,null,0,null,0,null,0,null,0,null,0]
[null,null,3,"Lenço para usar no pescoço, na cor preta",3,"UNID",46.08,null,null,null,0,null,{"$f":"IF(SUM(L$88:L$90)>0,$E96*$G96,0)","v":0},null,0,null,0,null,0,null,0,null,0,null,0,null,0,null,0,null,0,null,0,null,0,null,0,null,0,null,0,null,0,null,0,null,0,null,0,null,0,null,0,null,0,null,0,null,0,null,0,null,0,null,0,null,0,null,0,null,0,null,0,null,0,null,0,null,0,null,0,null,0,null,0,null,0,null,0,null,0,null,0,null,0,null,0,null,0,null,0,null,0,null,0,null,0,null,0,null,0,null,0,null,0,null,0,null,0,null,0,null,0,null,0,null,0,null,0]
[null,null,4,"Meia preta",4,"PAR",17.329999999999998,null,null,null,{"$f":"IF(SUM(J$88:J$90)>0,$E97*$G97,0)","v":0},null,{"$f":"IF(SUM(L$88:L$90)>0,$E97*$G97,0)","v":0},null,{"$f":"IF(SUM(N$88:N$90)>0,$E97*$G97,0)","v":0},null,{"$f":"IF(SUM(P$88:P$90)>0,$E97*$G97,0)","v":0},null,{"$f":"IF(SUM(R$88:R$90)>0,$E97*$G97,0)","v":0},null,{"$f":"IF(SUM(T$88:T$90)>0,$E97*$G97,0)","v":0},null,{"$f":"IF(SUM(V$88:V$90)>0,$E97*$G97,0)","v":0},null,{"$f":"IF(SUM(X$88:X$90)>0,$E97*$G97,0)","v":0},null,{"$f":"IF(SUM(Z$88:Z$90)>0,$E97*$G97,0)","v":0},null,{"$f":"IF(SUM(AB$88:AB$90)>0,$E97*$G97,0)","v":0},null,{"$f":"IF(SUM(AD$88:AD$90)>0,$E97*$G97,0)","v":0},null,{"$f":"IF(SUM(AF$88:AF$90)>0,$E97*$G97,0)","v":0},null,{"$f":"IF(SUM(AH$88:AH$90)>0,$E97*$G97,0)","v":0},null,{"$f":"IF(SUM(AJ$88:AJ$90)>0,$E97*$G97,0)","v":0},null,{"$f":"IF(SUM(AL$88:AL$90)>0,$E97*$G97,0)","v":0},null,{"$f":"IF(SUM(AN$88:AN$90)>0,$E97*$G97,0)","v":0},null,{"$f":"IF(SUM(AP$88:AP$90)>0,$E97*$G97,0)","v":0},null,{"$f":"IF(SUM(AR$88:AR$90)>0,$E97*$G97,0)","v":0},null,{"$f":"IF(SUM(AT$88:AT$90)>0,$E97*$G97,0)","v":0},null,{"$f":"IF(SUM(AV$88:AV$90)>0,$E97*$G97,0)","v":0},null,{"$f":"IF(SUM(AX$88:AX$90)>0,$E97*$G97,0)","v":0},null,{"$f":"IF(SUM(AZ$88:AZ$90)>0,$E97*$G97,0)","v":0},null,{"$f":"IF(SUM(BB$88:BB$90)>0,$E97*$G97,0)","v":0},null,{"$f":"IF(SUM(BD$88:BD$90)>0,$E97*$G97,0)","v":0},null,{"$f":"IF(SUM(BF$88:BF$90)>0,$E97*$G97,0)","v":0},null,{"$f":"IF(SUM(BH$88:BH$90)>0,$E97*$G97,0)","v":0},null,{"$f":"IF(SUM(BJ$88:BJ$90)>0,$E97*$G97,0)","v":0},null,{"$f":"IF(SUM(BL$88:BL$90)>0,$E97*$G97,0)","v":0},null,{"$f":"IF(SUM(BN$88:BN$90)>0,$E97*$G97,0)","v":0},null,{"$f":"IF(SUM(BP$88:BP$90)>0,$E97*$G97,0)","v":0},null,{"$f":"IF(SUM(BR$88:BR$90)>0,$E97*$G97,0)","v":0},null,{"$f":"IF(SUM(BT$88:BT$90)>0,$E97*$G97,0)","v":0},null,{"$f":"IF(SUM(BV$88:BV$90)>0,$E97*$G97,0)","v":0},null,{"$f":"IF(SUM(BX$88:BX$90)>0,$E97*$G97,0)","v":0},null,{"$f":"IF(SUM(BZ$88:BZ$90)>0,$E97*$G97,0)","v":0},null,{"$f":"IF(SUM(CB$88:CB$90)>0,$E97*$G97,0)","v":0},null,{"$f":"IF(SUM(CD$88:CD$90)>0,$E97*$G97,0)","v":0},null,{"$f":"IF(SUM(CF$88:CF$90)>0,$E97*$G97,0)","v":0},null,{"$f":"IF(SUM(CH$88:CH$90)>0,$E97*$G97,0)","v":0},null,{"$f":"IF(SUM(CJ$88:CJ$90)>0,$E97*$G97,0)","v":0},null,{"$f":"IF(SUM(CL$88:CL$90)>0,$E97*$G97,0)","v":0},null,{"$f":"IF(SUM(CN$88:CN$90)>0,$E97*$G97,0)","v":0},null,{"$f":"IF(SUM(CP$88:CP$90)>0,$E97*$G97,0)","v":0},null,{"$f":"IF(SUM(CR$88:CR$90)>0,$E97*$G97,0)","v":0},null,{"$f":"IF(SUM(CT$88:CT$90)>0,$E97*$G97,0)","v":0},null,{"$f":"IF(SUM(CV$88:CV$90)>0,$E97*$G97,0)","v":0},null,{"$f":"IF(SUM(CX$88:CX$90)>0,$E97*$G97,0)","v":0},null,{"$f":"IF(SUM(CZ$88:CZ$90)>0,$E97*$G97,0)","v":0},null,{"$f":"IF(SUM(DB$88:DB$90)>0,$E97*$G97,0)","v":0},null,{"$f":"IF(SUM(DD$88:DD$90)>0,$E97*$G97,0)","v":0},null,{"$f":"IF(SUM(DF$88:DF$90)>0,$E97*$G97,0)","v":0},null,{"$f":"IF(SUM(DH$88:DH$90)>0,$E97*$G97,0)","v":0},null,{"$f":"IF(SUM(DJ$88:DJ$90)>0,$E97*$G97,0)","v":0},null,{"$f":"IF(SUM(DL$88:DL$90)>0,$E97*$G97,0)","v":0},null,{"$f":"IF(SUM(DN$88:DN$90)>0,$E97*$G97,0)","v":0},null,{"$f":"IF(SUM(DP$88:DP$90)>0,$E97*$G97,0)","v":0},null,{"$f":"IF(SUM(DR$88:DR$90)>0,$E97*$G97,0)","v":0},null,{"$f":"IF(SUM(DT$88:DT$90)>0,$E97*$G97,0)","v":0},null,{"$f":"IF(SUM(DV$88:DV$90)>0,$E97*$G97,0)","v":0},null,{"$f":"IF(SUM(DX$88:DX$90)>0,$E97*$G97,0)","v":0}]
[]
[]
[null,null,"CATEGORIAS",null,null,null,"QUANTIDADE"]
[null,null,null,null,null,null,null,null,null,{"$f":"IF($C101=J$3,1,0)","v":0},null,{"$f":"IF($C101=L$3,1,0)","v":0},null,{"$f":"IF($C101=N$3,1,0)","v":0},null,{"$f":"IF($C101=P$3,1,0)","v":0},null,{"$f":"IF($C101=R$3,1,0)","v":0},null,{"$f":"IF($C101=T$3,1,0)","v":0},null,{"$f":"IF($C101=V$3,1,0)","v":0},null,{"$f":"IF($C101=X$3,1,0)","v":0},null,{"$f":"IF($C101=Z$3,1,0)","v":0},null,{"$f":"IF($C101=AB$3,1,0)","v":0},null,{"$f":"IF($C101=AD$3,1,0)","v":0},null,{"$f":"IF($C101=AF$3,1,0)","v":0},null,{"$f":"IF($C101=AH$3,1,0)","v":0},null,{"$f":"IF($C101=AJ$3,1,0)","v":0},null,{"$f":"IF($C101=AL$3,1,0)","v":0},null,{"$f":"IF($C101=AN$3,1,0)","v":0},null,{"$f":"IF($C101=AP$3,1,0)","v":0},null,{"$f":"IF($C101=AR$3,1,0)","v":0},null,{"$f":"IF($C101=AT$3,1,0)","v":0},null,{"$f":"IF($C101=AV$3,1,0)","v":0},null,{"$f":"IF($C101=AX$3,1,0)","v":0},null,{"$f":"IF($C101=AZ$3,1,0)","v":0},null,{"$f":"IF($C101=BB$3,1,0)","v":0},null,{"$f":"IF($C101=BD$3,1,0)","v":0},null,{"$f":"IF($C101=BF$3,1,0)","v":0},null,{"$f":"IF($C101=BH$3,1,0)","v":0},null,{"$f":"IF($C101=BJ$3,1,0)","v":0},null,{"$f":"IF($C101=BL$3,1,0)","v":0},null,{"$f":"IF($C101=BN$3,1,0)","v":0},null,{"$f":"IF($C101=BP$3,1,0)","v":0},null,{"$f":"IF($C101=BR$3,1,0)","v":0},null,{"$f":"IF($C101=BT$3,1,0)","v":0},null,{"$f":"IF($C101=BV$3,1,0)","v":0},null,{"$f":"IF($C101=BX$3,1,0)","v":0},null,{"$f":"IF($C101=BZ$3,1,0)","v":0},null,{"$f":"IF($C101=CB$3,1,0)","v":0},null,{"$f":"IF($C101=CD$3,1,0)","v":0},null,{"$f":"IF($C101=CF$3,1,0)","v":0},null,{"$f":"IF($C101=CH$3,1,0)","v":0},null,{"$f":"IF($C101=CJ$3,1,0)","v":0},null,{"$f":"IF($C101=CL$3,1,0)","v":0},null,{"$f":"IF($C101=CN$3,1,0)","v":0},null,{"$f":"IF($C101=CP$3,1,0)","v":0},null,{"$f":"IF($C101=CR$3,1,0)","v":0},null,{"$f":"IF($C101=CT$3,1,0)","v":0},null,{"$f":"IF($C101=CV$3,1,0)","v":0},null,{"$f":"IF($C101=CX$3,1,0)","v":0},null,{"$f":"IF($C101=CZ$3,1,0)","v":0},null,{"$f":"IF($C101=DB$3,1,0)","v":0},null,{"$f":"IF($C101=DD$3,1,0)","v":0},null,{"$f":"IF($C101=DF$3,1,0)","v":0},null,{"$f":"IF($C101=DH$3,1,0)","v":0},null,{"$f":"IF($C101=DJ$3,1,0)","v":0},null,{"$f":"IF($C101=DL$3,1,0)","v":0},null,{"$f":"IF($C101=DN$3,1,0)","v":0},null,{"$f":"IF($C101=DP$3,1,0)","v":0},null,{"$f":"IF($C101=DR$3,1,0)","v":0},null,{"$f":"IF($C101=DT$3,1,0)","v":0},null,{"$f":"IF($C101=DV$3,1,0)","v":0},null,{"$f":"IF($C101=DX$3,1,0)","v":0}]
[null,null,null,{"$f":"HLOOKUP($C102,'Dados Gerais'!$D$6:$V$11,6,0)","v":{"$error":"#N/A"}},null,null,{"$f":"HLOOKUP($C102,'Dados Gerais'!$D$6:$V$15,10,0)","v":{"$error":"#N/A"}},null,null,{"$f":"IF($C102=J$3,1,0)","v":0},null,0,null,0,null,0,null,0,null,0,null,0,null,0,null,0,null,0,null,0,null,0,null,0,null,0,null,0,null,0,null,0,null,0,null,0,null,0,null,0,null,0,null,0,null,0,null,0,null,0,null,0,null,0,null,0,null,0,null,0,null,0,null,0,null,0,null,0,null,0,null,0,null,0,null,0,null,0,null,0,null,0,null,0,null,0,null,0,null,0,null,0,null,0,null,0,null,0,null,0,null,0,null,0,null,0,null,0,null,0,null,0,null,0,null,0,null,0]
[]
[]
[null,null,"ITEM","DESCRIÇÃO","QUANTIDADE POR TRABALHADOR/ANO","UNIDADE","VALOR"]
[]
[null,null,1,"Terninho completo na cor preta, em tecido gabardine, 70% poliester e 30% algodão, detalhes em cetim bucol, 100% poliester, na cor preta",3,"UNID",304.92,null,null,null,{"$f":"IF(SUM(J$101:J$103)>0,$E107*$G107,0)","v":0},null,{"$f":"IF(SUM(L$101:L$103)>0,$E107*$G107,0)","v":0},null,{"$f":"IF(SUM(N$101:N$103)>0,$E107*$G107,0)","v":0},null,{"$f":"IF(SUM(P$101:P$103)>0,$E107*$G107,0)","v":0},null,{"$f":"IF(SUM(R$101:R$103)>0,$E107*$G107,0)","v":0},null,{"$f":"IF(SUM(T$101:T$103)>0,$E107*$G107,0)","v":0},null,{"$f":"IF(SUM(V$101:V$103)>0,$E107*$G107,0)","v":0},null,{"$f":"IF(SUM(X$101:X$103)>0,$E107*$G107,0)","v":0},null,{"$f":"IF(SUM(Z$101:Z$103)>0,$E107*$G107,0)","v":0},null,{"$f":"IF(SUM(AB$101:AB$103)>0,$E107*$G107,0)","v":0},null,{"$f":"IF(SUM(AD$101:AD$103)>0,$E107*$G107,0)","v":0},null,{"$f":"IF(SUM(AF$101:AF$103)>0,$E107*$G107,0)","v":0},null,{"$f":"IF(SUM(AH$101:AH$103)>0,$E107*$G107,0)","v":0},null,{"$f":"IF(SUM(AJ$101:AJ$103)>0,$E107*$G107,0)","v":0},null,{"$f":"IF(SUM(AL$101:AL$103)>0,$E107*$G107,0)","v":0},null,{"$f":"IF(SUM(AN$101:AN$103)>0,$E107*$G107,0)","v":0},null,{"$f":"IF(SUM(AP$101:AP$103)>0,$E107*$G107,0)","v":0},null,{"$f":"IF(SUM(AR$101:AR$103)>0,$E107*$G107,0)","v":0},null,{"$f":"IF(SUM(AT$101:AT$103)>0,$E107*$G107,0)","v":0},null,{"$f":"IF(SUM(AV$101:AV$103)>0,$E107*$G107,0)","v":0},null,{"$f":"IF(SUM(AX$101:AX$103)>0,$E107*$G107,0)","v":0},null,{"$f":"IF(SUM(AZ$101:AZ$103)>0,$E107*$G107,0)","v":0},null,{"$f":"IF(SUM(BB$101:BB$103)>0,$E107*$G107,0)","v":0},null,{"$f":"IF(SUM(BD$101:BD$103)>0,$E107*$G107,0)","v":0},null,{"$f":"IF(SUM(BF$101:BF$103)>0,$E107*$G107,0)","v":0},null,{"$f":"IF(SUM(BH$101:BH$103)>0,$E107*$G107,0)","v":0},null,{"$f":"IF(SUM(BJ$101:BJ$103)>0,$E107*$G107,0)","v":0},null,{"$f":"IF(SUM(BL$101:BL$103)>0,$E107*$G107,0)","v":0},null,{"$f":"IF(SUM(BN$101:BN$103)>0,$E107*$G107,0)","v":0},null,{"$f":"IF(SUM(BP$101:BP$103)>0,$E107*$G107,0)","v":0},null,{"$f":"IF(SUM(BR$101:BR$103)>0,$E107*$G107,0)","v":0},null,{"$f":"IF(SUM(BT$101:BT$103)>0,$E107*$G107,0)","v":0},null,{"$f":"IF(SUM(BV$101:BV$103)>0,$E107*$G107,0)","v":0},null,{"$f":"IF(SUM(BX$101:BX$103)>0,$E107*$G107,0)","v":0},null,{"$f":"IF(SUM(BZ$101:BZ$103)>0,$E107*$G107,0)","v":0},null,{"$f":"IF(SUM(CB$101:CB$103)>0,$E107*$G107,0)","v":0},null,{"$f":"IF(SUM(CD$101:CD$103)>0,$E107*$G107,0)","v":0},null,{"$f":"IF(SUM(CF$101:CF$103)>0,$E107*$G107,0)","v":0},null,{"$f":"IF(SUM(CH$101:CH$103)>0,$E107*$G107,0)","v":0},null,{"$f":"IF(SUM(CJ$101:CJ$103)>0,$E107*$G107,0)","v":0},null,{"$f":"IF(SUM(CL$101:CL$103)>0,$E107*$G107,0)","v":0},null,{"$f":"IF(SUM(CN$101:CN$103)>0,$E107*$G107,0)","v":0},null,{"$f":"IF(SUM(CP$101:CP$103)>0,$E107*$G107,0)","v":0},null,{"$f":"IF(SUM(CR$101:CR$103)>0,$E107*$G107,0)","v":0},null,{"$f":"IF(SUM(CT$101:CT$103)>0,$E107*$G107,0)","v":0},null,{"$f":"IF(SUM(CV$101:CV$103)>0,$E107*$G107,0)","v":0},null,{"$f":"IF(SUM(CX$101:CX$103)>0,$E107*$G107,0)","v":0},null,{"$f":"IF(SUM(CZ$101:CZ$103)>0,$E107*$G107,0)","v":0},null,{"$f":"IF(SUM(DB$101:DB$103)>0,$E107*$G107,0)","v":0},null,{"$f":"IF(SUM(DD$101:DD$103)>0,$E107*$G107,0)","v":0},null,{"$f":"IF(SUM(DF$101:DF$103)>0,$E107*$G107,0)","v":0},null,{"$f":"IF(SUM(DH$101:DH$103)>0,$E107*$G107,0)","v":0},null,{"$f":"IF(SUM(DJ$101:DJ$103)>0,$E107*$G107,0)","v":0},null,{"$f":"IF(SUM(DL$101:DL$103)>0,$E107*$G107,0)","v":0},null,{"$f":"IF(SUM(DN$101:DN$103)>0,$E107*$G107,0)","v":0},null,{"$f":"IF(SUM(DP$101:DP$103)>0,$E107*$G107,0)","v":0},null,{"$f":"IF(SUM(DR$101:DR$103)>0,$E107*$G107,0)","v":0},null,{"$f":"IF(SUM(DT$101:DT$103)>0,$E107*$G107,0)","v":0},null,{"$f":"IF(SUM(DV$101:DV$103)>0,$E107*$G107,0)","v":0},null,{"$f":"IF(SUM(DX$101:DX$103)>0,$E107*$G107,0)","v":0}]
[null,null,2,"Blusa na cor branca em tecido tricoline, 100% de algodão",4,"UNID",115.3,null,null,null,{"$f":"IF(SUM(J$101:J$103)>0,$E108*$G108,0)","v":0},null,0,null,0,null,0,null,0,null,0,null,0,null,0,null,0,null,0,null,0,null,0,null,0,null,0,null,0,null,0,null,0,null,0,null,0,null,0,null,0,null,0,null,0,null,0,null,0,null,0,null,0,null,0,null,0,null,0,null,0,null,0,null,0,null,0,null,0,null,0,null,0,null,0,null,0,null,0,null,0,null,0,null,0,null,0,null,0,null,0,null,0,null,0,null,0,null,0,null,0,null,0,null,0,null,0,null,0,null,0,null,0,null,0,null,0,null,0]
[null,null,3,"Gravata preta, estilo borboleta, em cetim bucol, 100% poliester",3,"UNID",35.97,null,null,null,0,null,{"$f":"IF(SUM(L$101:L$103)>0,$E109*$G109,0)","v":0},null,0,null,0,null,0,null,0,null,0,null,0,null,0,null,0,null,0,null,0,null,0,null,0,null,0,null,0,null,0,null,0,null,0,null,0,null,0,null,0,null,0,null,0,null,0,null,0,null,0,null,0,null,0,null,0,null,0,null,0,null,0,null,0,null,0,null,0,null,0,null,0,null,0,null,0,null,0,null,0,null,0,null,0,null,0,null,0,null,0,null,0,null,0,null,0,null,0,null,0,null,0,null,0,null,0,null,0,null,0,null,0,null,0,null,0]
[null,null,4,"Meia preta",4,"PAR",17.329999999999998,null,null,null,{"$f":"IF(SUM(J$101:J$103)>0,$E110*$G110,0)","v":0},null,{"$f":"IF(SUM(L$101:L$103)>0,$E110*$G110,0)","v":0},null,{"$f":"IF(SUM(N$101:N$103)>0,$E110*$G110,0)","v":0},null,{"$f":"IF(SUM(P$101:P$103)>0,$E110*$G110,0)","v":0},null,{"$f":"IF(SUM(R$101:R$103)>0,$E110*$G110,0)","v":0},null,{"$f":"IF(SUM(T$101:T$103)>0,$E110*$G110,0)","v":0},null,{"$f":"IF(SUM(V$101:V$103)>0,$E110*$G110,0)","v":0},null,{"$f":"IF(SUM(X$101:X$103)>0,$E110*$G110,0)","v":0},null,{"$f":"IF(SUM(Z$101:Z$103)>0,$E110*$G110,0)","v":0},null,{"$f":"IF(SUM(AB$101:AB$103)>0,$E110*$G110,0)","v":0},null,{"$f":"IF(SUM(AD$101:AD$103)>0,$E110*$G110,0)","v":0},null,{"$f":"IF(SUM(AF$101:AF$103)>0,$E110*$G110,0)","v":0},null,{"$f":"IF(SUM(AH$101:AH$103)>0,$E110*$G110,0)","v":0},null,{"$f":"IF(SUM(AJ$101:AJ$103)>0,$E110*$G110,0)","v":0},null,{"$f":"IF(SUM(AL$101:AL$103)>0,$E110*$G110,0)","v":0},null,{"$f":"IF(SUM(AN$101:AN$103)>0,$E110*$G110,0)","v":0},null,{"$f":"IF(SUM(AP$101:AP$103)>0,$E110*$G110,0)","v":0},null,{"$f":"IF(SUM(AR$101:AR$103)>0,$E110*$G110,0)","v":0},null,{"$f":"IF(SUM(AT$101:AT$103)>0,$E110*$G110,0)","v":0},null,{"$f":"IF(SUM(AV$101:AV$103)>0,$E110*$G110,0)","v":0},null,{"$f":"IF(SUM(AX$101:AX$103)>0,$E110*$G110,0)","v":0},null,{"$f":"IF(SUM(AZ$101:AZ$103)>0,$E110*$G110,0)","v":0},null,{"$f":"IF(SUM(BB$101:BB$103)>0,$E110*$G110,0)","v":0},null,{"$f":"IF(SUM(BD$101:BD$103)>0,$E110*$G110,0)","v":0},null,{"$f":"IF(SUM(BF$101:BF$103)>0,$E110*$G110,0)","v":0},null,{"$f":"IF(SUM(BH$101:BH$103)>0,$E110*$G110,0)","v":0},null,{"$f":"IF(SUM(BJ$101:BJ$103)>0,$E110*$G110,0)","v":0},null,{"$f":"IF(SUM(BL$101:BL$103)>0,$E110*$G110,0)","v":0},null,{"$f":"IF(SUM(BN$101:BN$103)>0,$E110*$G110,0)","v":0},null,{"$f":"IF(SUM(BP$101:BP$103)>0,$E110*$G110,0)","v":0},null,{"$f":"IF(SUM(BR$101:BR$103)>0,$E110*$G110,0)","v":0},null,{"$f":"IF(SUM(BT$101:BT$103)>0,$E110*$G110,0)","v":0},null,{"$f":"IF(SUM(BV$101:BV$103)>0,$E110*$G110,0)","v":0},null,{"$f":"IF(SUM(BX$101:BX$103)>0,$E110*$G110,0)","v":0},null,{"$f":"IF(SUM(BZ$101:BZ$103)>0,$E110*$G110,0)","v":0},null,{"$f":"IF(SUM(CB$101:CB$103)>0,$E110*$G110,0)","v":0},null,{"$f":"IF(SUM(CD$101:CD$103)>0,$E110*$G110,0)","v":0},null,{"$f":"IF(SUM(CF$101:CF$103)>0,$E110*$G110,0)","v":0},null,{"$f":"IF(SUM(CH$101:CH$103)>0,$E110*$G110,0)","v":0},null,{"$f":"IF(SUM(CJ$101:CJ$103)>0,$E110*$G110,0)","v":0},null,{"$f":"IF(SUM(CL$101:CL$103)>0,$E110*$G110,0)","v":0},null,{"$f":"IF(SUM(CN$101:CN$103)>0,$E110*$G110,0)","v":0},null,{"$f":"IF(SUM(CP$101:CP$103)>0,$E110*$G110,0)","v":0},null,{"$f":"IF(SUM(CR$101:CR$103)>0,$E110*$G110,0)","v":0},null,{"$f":"IF(SUM(CT$101:CT$103)>0,$E110*$G110,0)","v":0},null,{"$f":"IF(SUM(CV$101:CV$103)>0,$E110*$G110,0)","v":0},null,{"$f":"IF(SUM(CX$101:CX$103)>0,$E110*$G110,0)","v":0},null,{"$f":"IF(SUM(CZ$101:CZ$103)>0,$E110*$G110,0)","v":0},null,{"$f":"IF(SUM(DB$101:DB$103)>0,$E110*$G110,0)","v":0},null,{"$f":"IF(SUM(DD$101:DD$103)>0,$E110*$G110,0)","v":0},null,{"$f":"IF(SUM(DF$101:DF$103)>0,$E110*$G110,0)","v":0},null,{"$f":"IF(SUM(DH$101:DH$103)>0,$E110*$G110,0)","v":0},null,{"$f":"IF(SUM(DJ$101:DJ$103)>0,$E110*$G110,0)","v":0},null,{"$f":"IF(SUM(DL$101:DL$103)>0,$E110*$G110,0)","v":0},null,{"$f":"IF(SUM(DN$101:DN$103)>0,$E110*$G110,0)","v":0},null,{"$f":"IF(SUM(DP$101:DP$103)>0,$E110*$G110,0)","v":0},null,{"$f":"IF(SUM(DR$101:DR$103)>0,$E110*$G110,0)","v":0},null,{"$f":"IF(SUM(DT$101:DT$103)>0,$E110*$G110,0)","v":0},null,{"$f":"IF(SUM(DV$101:DV$103)>0,$E110*$G110,0)","v":0},null,{"$f":"IF(SUM(DX$101:DX$103)>0,$E110*$G110,0)","v":0}]
[]
[]
[null,null,"CATEGORIAS",null,null,null,"QUANTIDADE"]
[null,null,null,null,null,null,null,null,null,{"$f":"IF($C114=J$3,1,0)","v":0},null,{"$f":"IF($C114=L$3,1,0)","v":0},null,{"$f":"IF($C114=N$3,1,0)","v":0},null,{"$f":"IF($C114=P$3,1,0)","v":0},null,{"$f":"IF($C114=R$3,1,0)","v":0},null,{"$f":"IF($C114=T$3,1,0)","v":0},null,{"$f":"IF($C114=V$3,1,0)","v":0},null,{"$f":"IF($C114=X$3,1,0)","v":0},null,{"$f":"IF($C114=Z$3,1,0)","v":0},null,{"$f":"IF($C114=AB$3,1,0)","v":0},null,{"$f":"IF($C114=AD$3,1,0)","v":0},null,{"$f":"IF($C114=AF$3,1,0)","v":0},null,{"$f":"IF($C114=AH$3,1,0)","v":0},null,{"$f":"IF($C114=AJ$3,1,0)","v":0},null,{"$f":"IF($C114=AL$3,1,0)","v":0},null,{"$f":"IF($C114=AN$3,1,0)","v":0},null,{"$f":"IF($C114=AP$3,1,0)","v":0},null,{"$f":"IF($C114=AR$3,1,0)","v":0},null,{"$f":"IF($C114=AT$3,1,0)","v":0},null,{"$f":"IF($C114=AV$3,1,0)","v":0},null,{"$f":"IF($C114=AX$3,1,0)","v":0},null,{"$f":"IF($C114=AZ$3,1,0)","v":0},null,{"$f":"IF($C114=BB$3,1,0)","v":0},null,{"$f":"IF($C114=BD$3,1,0)","v":0},null,{"$f":"IF($C114=BF$3,1,0)","v":0},null,{"$f":"IF($C114=BH$3,1,0)","v":0},null,{"$f":"IF($C114=BJ$3,1,0)","v":0},null,{"$f":"IF($C114=BL$3,1,0)","v":0},null,{"$f":"IF($C114=BN$3,1,0)","v":0},null,{"$f":"IF($C114=BP$3,1,0)","v":0},null,{"$f":"IF($C114=BR$3,1,0)","v":0},null,{"$f":"IF($C114=BT$3,1,0)","v":0},null,{"$f":"IF($C114=BV$3,1,0)","v":0},null,{"$f":"IF($C114=BX$3,1,0)","v":0},null,{"$f":"IF($C114=BZ$3,1,0)","v":0},null,{"$f":"IF($C114=CB$3,1,0)","v":0},null,{"$f":"IF($C114=CD$3,1,0)","v":0},null,{"$f":"IF($C114=CF$3,1,0)","v":0},null,{"$f":"IF($C114=CH$3,1,0)","v":0},null,{"$f":"IF($C114=CJ$3,1,0)","v":0},null,{"$f":"IF($C114=CL$3,1,0)","v":0},null,{"$f":"IF($C114=CN$3,1,0)","v":0},null,{"$f":"IF($C114=CP$3,1,0)","v":0},null,{"$f":"IF($C114=CR$3,1,0)","v":0},null,{"$f":"IF($C114=CT$3,1,0)","v":0},null,{"$f":"IF($C114=CV$3,1,0)","v":0},null,{"$f":"IF($C114=CX$3,1,0)","v":0},null,{"$f":"IF($C114=CZ$3,1,0)","v":0},null,{"$f":"IF($C114=DB$3,1,0)","v":0},null,{"$f":"IF($C114=DD$3,1,0)","v":0},null,{"$f":"IF($C114=DF$3,1,0)","v":0},null,{"$f":"IF($C114=DH$3,1,0)","v":0},null,{"$f":"IF($C114=DJ$3,1,0)","v":0},null,{"$f":"IF($C114=DL$3,1,0)","v":0},null,{"$f":"IF($C114=DN$3,1,0)","v":0},null,{"$f":"IF($C114=DP$3,1,0)","v":0},null,{"$f":"IF($C114=DR$3,1,0)","v":0},null,{"$f":"IF($C114=DT$3,1,0)","v":0},null,{"$f":"IF($C114=DV$3,1,0)","v":0},null,{"$f":"IF($C114=DX$3,1,0)","v":0}]
[null,null,null,{"$f":"HLOOKUP($C115,'Dados Gerais'!$D$6:$V$11,6,0)","v":{"$error":"#N/A"}},null,null,{"$f":"HLOOKUP($C115,'Dados Gerais'!$D$6:$V$15,10,0)","v":{"$error":"#N/A"}},null,null,{"$f":"IF($C115=J$3,1,0)","v":0},null,0,null,0,null,0,null,0,null,0,null,0,null,0,null,0,null,0,null,0,null,0,null,0,null,0,null,0,null,0,null,0,null,0,null,0,null,0,null,0,null,0,null,0,null,0,null,0,null,0,null,0,null,0,null,0,null,0,null,0,null,0,null,0,null,0,null,0,null,0,null,0,null,0,null,0,null,0,null,0,null,0,null,0,null,0,null,0,null,0,null,0,null,0,null,0,null,0,null,0,null,0,null,0,null,0,null,0,null,0,null,0,null,0,null,0,null,0]
[]
[]
[null,null,"ITEM","DESCRIÇÃO","QUANTIDADE POR TRABALHADOR/ANO","UNIDADE","VALOR"]
[]
[null,null,1,"Terninho completo na cor preta, em tecido gabardine, 70% poliester e 30% algodão, detalhes em cetim bucol, 100% poliester, na cor preta",3,"UNID",304.92,null,null,null,{"$f":"IF(SUM(J$114:J$116)>0,$E120*$G120,0)","v":0},null,{"$f":"IF(SUM(L$114:L$116)>0,$E120*$G120,0)","v":0},null,{"$f":"IF(SUM(N$114:N$116)>0,$E120*$G120,0)","v":0},null,{"$f":"IF(SUM(P$114:P$116)>0,$E120*$G120,0)","v":0},null,{"$f":"IF(SUM(R$114:R$116)>0,$E120*$G120,0)","v":0},null,{"$f":"IF(SUM(T$114:T$116)>0,$E120*$G120,0)","v":0},null,{"$f":"IF(SUM(V$114:V$116)>0,$E120*$G120,0)","v":0},null,{"$f":"IF(SUM(X$114:X$116)>0,$E120*$G120,0)","v":0},null,{"$f":"IF(SUM(Z$114:Z$116)>0,$E120*$G120,0)","v":0},null,{"$f":"IF(SUM(AB$114:AB$116)>0,$E120*$G120,0)","v":0},null,{"$f":"IF(SUM(AD$114:AD$116)>0,$E120*$G120,0)","v":0},null,{"$f":"IF(SUM(AF$114:AF$116)>0,$E120*$G120,0)","v":0},null,{"$f":"IF(SUM(AH$114:AH$116)>0,$E120*$G120,0)","v":0},null,{"$f":"IF(SUM(AJ$114:AJ$116)>0,$E120*$G120,0)","v":0},null,{"$f":"IF(SUM(AL$114:AL$116)>0,$E120*$G120,0)","v":0},null,{"$f":"IF(SUM(AN$114:AN$116)>0,$E120*$G120,0)","v":0},null,{"$f":"IF(SUM(AP$114:AP$116)>0,$E120*$G120,0)","v":0},null,{"$f":"IF(SUM(AR$114:AR$116)>0,$E120*$G120,0)","v":0},null,{"$f":"IF(SUM(AT$114:AT$116)>0,$E120*$G120,0)","v":0},null,{"$f":"IF(SUM(AV$114:AV$116)>0,$E120*$G120,0)","v":0},null,{"$f":"IF(SUM(AX$114:AX$116)>0,$E120*$G120,0)","v":0},null,{"$f":"IF(SUM(AZ$114:AZ$116)>0,$E120*$G120,0)","v":0},null,{"$f":"IF(SUM(BB$114:BB$116)>0,$E120*$G120,0)","v":0},null,{"$f":"IF(SUM(BD$114:BD$116)>0,$E120*$G120,0)","v":0},null,{"$f":"IF(SUM(BF$114:BF$116)>0,$E120*$G120,0)","v":0},null,{"$f":"IF(SUM(BH$114:BH$116)>0,$E120*$G120,0)","v":0},null,{"$f":"IF(SUM(BJ$114:BJ$116)>0,$E120*$G120,0)","v":0},null,{"$f":"IF(SUM(BL$114:BL$116)>0,$E120*$G120,0)","v":0},null,{"$f":"IF(SUM(BN$114:BN$116)>0,$E120*$G120,0)","v":0},null,{"$f":"IF(SUM(BP$114:BP$116)>0,$E120*$G120,0)","v":0},null,{"$f":"IF(SUM(BR$114:BR$116)>0,$E120*$G120,0)","v":0},null,{"$f":"IF(SUM(BT$114:BT$116)>0,$E120*$G120,0)","v":0},null,{"$f":"IF(SUM(BV$114:BV$116)>0,$E120*$G120,0)","v":0},null,{"$f":"IF(SUM(BX$114:BX$116)>0,$E120*$G120,0)","v":0},null,{"$f":"IF(SUM(BZ$114:BZ$116)>0,$E120*$G120,0)","v":0},null,{"$f":"IF(SUM(CB$114:CB$116)>0,$E120*$G120,0)","v":0},null,{"$f":"IF(SUM(CD$114:CD$116)>0,$E120*$G120,0)","v":0},null,{"$f":"IF(SUM(CF$114:CF$116)>0,$E120*$G120,0)","v":0},null,{"$f":"IF(SUM(CH$114:CH$116)>0,$E120*$G120,0)","v":0},null,{"$f":"IF(SUM(CJ$114:CJ$116)>0,$E120*$G120,0)","v":0},null,{"$f":"IF(SUM(CL$114:CL$116)>0,$E120*$G120,0)","v":0},null,{"$f":"IF(SUM(CN$114:CN$116)>0,$E120*$G120,0)","v":0},null,{"$f":"IF(SUM(CP$114:CP$116)>0,$E120*$G120,0)","v":0},null,{"$f":"IF(SUM(CR$114:CR$116)>0,$E120*$G120,0)","v":0},null,{"$f":"IF(SUM(CT$114:CT$116)>0,$E120*$G120,0)","v":0},null,{"$f":"IF(SUM(CV$114:CV$116)>0,$E120*$G120,0)","v":0},null,{"$f":"IF(SUM(CX$114:CX$116)>0,$E120*$G120,0)","v":0},null,{"$f":"IF(SUM(CZ$114:CZ$116)>0,$E120*$G120,0)","v":0},null,{"$f":"IF(SUM(DB$114:DB$116)>0,$E120*$G120,0)","v":0},null,{"$f":"IF(SUM(DD$114:DD$116)>0,$E120*$G120,0)","v":0},null,{"$f":"IF(SUM(DF$114:DF$116)>0,$E120*$G120,0)","v":0},null,{"$f":"IF(SUM(DH$114:DH$116)>0,$E120*$G120,0)","v":0},null,{"$f":"IF(SUM(DJ$114:DJ$116)>0,$E120*$G120,0)","v":0},null,{"$f":"IF(SUM(DL$114:DL$116)>0,$E120*$G120,0)","v":0},null,{"$f":"IF(SUM(DN$114:DN$116)>0,$E120*$G120,0)","v":0},null,{"$f":"IF(SUM(DP$114:DP$116)>0,$E120*$G120,0)","v":0},null,{"$f":"IF(SUM(DR$114:DR$116)>0,$E120*$G120,0)","v":0},null,{"$f":"IF(SUM(DT$114:DT$116)>0,$E120*$G120,0)","v":0},null,{"$f":"IF(SUM(DV$114:DV$116)>0,$E120*$G120,0)","v":0},null,{"$f":"IF(SUM(DX$114:DX$116)>0,$E120*$G120,0)","v":0}]
[null,null,2,"Blusa na cor branca em tecido tricoline, 100% de algodão",4,"UNID",115.3,null,null,null,{"$f":"IF(SUM(J$114:J$116)>0,$E121*$G121,0)","v":0},null,0,null,0,null,0,null,0,null,0,null,0,null,0,null,0,null,0,null,0,null,0,null,0,null,0,null,0,null,0,null,0,null,0,null,0,null,0,null,0,null,0,null,0,null,0,null,0,null,0,null,0,null,0,null,0,null,0,null,0,null,0,null,0,null,0,null,0,null,0,null,0,null,0,null,0,null,0,null,0,null,0,null,0,null,0,null,0,null,0,null,0,null,0,null,0,null,0,null,0,null,0,null,0,null,0,null,0,null,0,null,0,null,0,null,0,null,0]
[null,null,3,"Gravata preta, estilo borboleta, em cetim bucol, 100% poliester",3,"UNID",35.97,null,null,null,0,null,{"$f":"IF(SUM(L$114:L$116)>0,$E122*$G122,0)","v":0},null,0,null,0,null,0,null,0,null,0,null,0,null,0,null,0,null,0,null,0,null,0,null,0,null,0,null,0,null,0,null,0,null,0,null,0,null,0,null,0,null,0,null,0,null,0,null,0,null,0,null,0,null,0,null,0,null,0,null,0,null,0,null,0,null,0,null,0,null,0,null,0,null,0,null,0,null,0,null,0,null,0,null,0,null,0,null,0,null,0,null,0,null,0,null,0,null,0,null,0,null,0,null,0,null,0,null,0,null,0,null,0,null,0,null,0]
[null,null,4,"Meia preta",4,"PAR",17.329999999999998,null,null,null,{"$f":"IF(SUM(J$114:J$116)>0,$E123*$G123,0)","v":0},null,{"$f":"IF(SUM(L$114:L$116)>0,$E123*$G123,0)","v":0},null,{"$f":"IF(SUM(N$114:N$116)>0,$E123*$G123,0)","v":0},null,{"$f":"IF(SUM(P$114:P$116)>0,$E123*$G123,0)","v":0},null,{"$f":"IF(SUM(R$114:R$116)>0,$E123*$G123,0)","v":0},null,{"$f":"IF(SUM(T$114:T$116)>0,$E123*$G123,0)","v":0},null,{"$f":"IF(SUM(V$114:V$116)>0,$E123*$G123,0)","v":0},null,{"$f":"IF(SUM(X$114:X$116)>0,$E123*$G123,0)","v":0},null,{"$f":"IF(SUM(Z$114:Z$116)>0,$E123*$G123,0)","v":0},null,{"$f":"IF(SUM(AB$114:AB$116)>0,$E123*$G123,0)","v":0},null,{"$f":"IF(SUM(AD$114:AD$116)>0,$E123*$G123,0)","v":0},null,{"$f":"IF(SUM(AF$114:AF$116)>0,$E123*$G123,0)","v":0},null,{"$f":"IF(SUM(AH$114:AH$116)>0,$E123*$G123,0)","v":0},null,{"$f":"IF(SUM(AJ$114:AJ$116)>0,$E123*$G123,0)","v":0},null,{"$f":"IF(SUM(AL$114:AL$116)>0,$E123*$G123,0)","v":0},null,{"$f":"IF(SUM(AN$114:AN$116)>0,$E123*$G123,0)","v":0},null,{"$f":"IF(SUM(AP$114:AP$116)>0,$E123*$G123,0)","v":0},null,{"$f":"IF(SUM(AR$114:AR$116)>0,$E123*$G123,0)","v":0},null,{"$f":"IF(SUM(AT$114:AT$116)>0,$E123*$G123,0)","v":0},null,{"$f":"IF(SUM(AV$114:AV$116)>0,$E123*$G123,0)","v":0},null,{"$f":"IF(SUM(AX$114:AX$116)>0,$E123*$G123,0)","v":0},null,{"$f":"IF(SUM(AZ$114:AZ$116)>0,$E123*$G123,0)","v":0},null,{"$f":"IF(SUM(BB$114:BB$116)>0,$E123*$G123,0)","v":0},null,{"$f":"IF(SUM(BD$114:BD$116)>0,$E123*$G123,0)","v":0},null,{"$f":"IF(SUM(BF$114:BF$116)>0,$E123*$G123,0)","v":0},null,{"$f":"IF(SUM(BH$114:BH$116)>0,$E123*$G123,0)","v":0},null,{"$f":"IF(SUM(BJ$114:BJ$116)>0,$E123*$G123,0)","v":0},null,{"$f":"IF(SUM(BL$114:BL$116)>0,$E123*$G123,0)","v":0},null,{"$f":"IF(SUM(BN$114:BN$116)>0,$E123*$G123,0)","v":0},null,{"$f":"IF(SUM(BP$114:BP$116)>0,$E123*$G123,0)","v":0},null,{"$f":"IF(SUM(BR$114:BR$116)>0,$E123*$G123,0)","v":0},null,{"$f":"IF(SUM(BT$114:BT$116)>0,$E123*$G123,0)","v":0},null,{"$f":"IF(SUM(BV$114:BV$116)>0,$E123*$G123,0)","v":0},null,{"$f":"IF(SUM(BX$114:BX$116)>0,$E123*$G123,0)","v":0},null,{"$f":"IF(SUM(BZ$114:BZ$116)>0,$E123*$G123,0)","v":0},null,{"$f":"IF(SUM(CB$114:CB$116)>0,$E123*$G123,0)","v":0},null,{"$f":"IF(SUM(CD$114:CD$116)>0,$E123*$G123,0)","v":0},null,{"$f":"IF(SUM(CF$114:CF$116)>0,$E123*$G123,0)","v":0},null,{"$f":"IF(SUM(CH$114:CH$116)>0,$E123*$G123,0)","v":0},null,{"$f":"IF(SUM(CJ$114:CJ$116)>0,$E123*$G123,0)","v":0},null,{"$f":"IF(SUM(CL$114:CL$116)>0,$E123*$G123,0)","v":0},null,{"$f":"IF(SUM(CN$114:CN$116)>0,$E123*$G123,0)","v":0},null,{"$f":"IF(SUM(CP$114:CP$116)>0,$E123*$G123,0)","v":0},null,{"$f":"IF(SUM(CR$114:CR$116)>0,$E123*$G123,0)","v":0},null,{"$f":"IF(SUM(CT$114:CT$116)>0,$E123*$G123,0)","v":0},null,{"$f":"IF(SUM(CV$114:CV$116)>0,$E123*$G123,0)","v":0},null,{"$f":"IF(SUM(CX$114:CX$116)>0,$E123*$G123,0)","v":0},null,{"$f":"IF(SUM(CZ$114:CZ$116)>0,$E123*$G123,0)","v":0},null,{"$f":"IF(SUM(DB$114:DB$116)>0,$E123*$G123,0)","v":0},null,{"$f":"IF(SUM(DD$114:DD$116)>0,$E123*$G123,0)","v":0},null,{"$f":"IF(SUM(DF$114:DF$116)>0,$E123*$G123,0)","v":0},null,{"$f":"IF(SUM(DH$114:DH$116)>0,$E123*$G123,0)","v":0},null,{"$f":"IF(SUM(DJ$114:DJ$116)>0,$E123*$G123,0)","v":0},null,{"$f":"IF(SUM(DL$114:DL$116)>0,$E123*$G123,0)","v":0},null,{"$f":"IF(SUM(DN$114:DN$116)>0,$E123*$G123,0)","v":0},null,{"$f":"IF(SUM(DP$114:DP$116)>0,$E123*$G123,0)","v":0},null,{"$f":"IF(SUM(DR$114:DR$116)>0,$E123*$G123,0)","v":0},null,{"$f":"IF(SUM(DT$114:DT$116)>0,$E123*$G123,0)","v":0},null,{"$f":"IF(SUM(DV$114:DV$116)>0,$E123*$G123,0)","v":0},null,{"$f":"IF(SUM(DX$114:DX$116)>0,$E123*$G123,0)","v":0}]
[]
[]
[null,null,"CATEGORIAS",null,null,null,"QUANTIDADE"]
[null,null,null,null,null,null,null,null,null,{"$f":"IF($C127=J$3,1,0)","v":0},null,{"$f":"IF($C127=L$3,1,0)","v":0},null,{"$f":"IF($C127=N$3,1,0)","v":0},null,{"$f":"IF($C127=P$3,1,0)","v":0},null,{"$f":"IF($C127=R$3,1,0)","v":0},null,{"$f":"IF($C127=T$3,1,0)","v":0},null,{"$f":"IF($C127=V$3,1,0)","v":0},null,{"$f":"IF($C127=X$3,1,0)","v":0},null,{"$f":"IF($C127=Z$3,1,0)","v":0},null,{"$f":"IF($C127=AB$3,1,0)","v":0},null,{"$f":"IF($C127=AD$3,1,0)","v":0},null,{"$f":"IF($C127=AF$3,1,0)","v":0},null,{"$f":"IF($C127=AH$3,1,0)","v":0},null,{"$f":"IF($C127=AJ$3,1,0)","v":0},null,{"$f":"IF($C127=AL$3,1,0)","v":0},null,{"$f":"IF($C127=AN$3,1,0)","v":0},null,{"$f":"IF($C127=AP$3,1,0)","v":0},null,{"$f":"IF($C127=AR$3,1,0)","v":0},null,{"$f":"IF($C127=AT$3,1,0)","v":0},null,{"$f":"IF($C127=AV$3,1,0)","v":0},null,{"$f":"IF($C127=AX$3,1,0)","v":0},null,{"$f":"IF($C127=AZ$3,1,0)","v":0},null,{"$f":"IF($C127=BB$3,1,0)","v":0},null,{"$f":"IF($C127=BD$3,1,0)","v":0},null,{"$f":"IF($C127=BF$3,1,0)","v":0},null,{"$f":"IF($C127=BH$3,1,0)","v":0},null,{"$f":"IF($C127=BJ$3,1,0)","v":0},null,{"$f":"IF($C127=BL$3,1,0)","v":0},null,{"$f":"IF($C127=BN$3,1,0)","v":0},null,{"$f":"IF($C127=BP$3,1,0)","v":0},null,{"$f":"IF($C127=BR$3,1,0)","v":0},null,{"$f":"IF($C127=BT$3,1,0)","v":0},null,{"$f":"IF($C127=BV$3,1,0)","v":0},null,{"$f":"IF($C127=BX$3,1,0)","v":0},null,{"$f":"IF($C127=BZ$3,1,0)","v":0},null,{"$f":"IF($C127=CB$3,1,0)","v":0},null,{"$f":"IF($C127=CD$3,1,0)","v":0},null,{"$f":"IF($C127=CF$3,1,0)","v":0},null,{"$f":"IF($C127=CH$3,1,0)","v":0},null,{"$f":"IF($C127=CJ$3,1,0)","v":0},null,{"$f":"IF($C127=CL$3,1,0)","v":0},null,{"$f":"IF($C127=CN$3,1,0)","v":0},null,{"$f":"IF($C127=CP$3,1,0)","v":0},null,{"$f":"IF($C127=CR$3,1,0)","v":0},null,{"$f":"IF($C127=CT$3,1,0)","v":0},null,{"$f":"IF($C127=CV$3,1,0)","v":0},null,{"$f":"IF($C127=CX$3,1,0)","v":0},null,{"$f":"IF($C127=CZ$3,1,0)","v":0},null,{"$f":"IF($C127=DB$3,1,0)","v":0},null,{"$f":"IF($C127=DD$3,1,0)","v":0},null,{"$f":"IF($C127=DF$3,1,0)","v":0},null,{"$f":"IF($C127=DH$3,1,0)","v":0},null,{"$f":"IF($C127=DJ$3,1,0)","v":0},null,{"$f":"IF($C127=DL$3,1,0)","v":0},null,{"$f":"IF($C127=DN$3,1,0)","v":0},null,{"$f":"IF($C127=DP$3,1,0)","v":0},null,{"$f":"IF($C127=DR$3,1,0)","v":0},null,{"$f":"IF($C127=DT$3,1,0)","v":0},null,{"$f":"IF($C127=DV$3,1,0)","v":0},null,{"$f":"IF($C127=DX$3,1,0)","v":0}]
[null,null,null,{"$f":"HLOOKUP($C128,'Dados Gerais'!$D$6:$V$11,6,0)","v":{"$error":"#N/A"}},null,null,{"$f":"HLOOKUP($C128,'Dados Gerais'!$D$6:$V$15,10,0)","v":{"$error":"#N/A"}},null,null,{"$f":"IF($C128=J$3,1,0)","v":0},null,0,null,0,null,0,null,0,null,0,null,0,null,0,null,0,null,0,null,0,null,0,null,0,null,0,null,0,null,0,null,0,null,0,null,0,null,0,null,0,null,0,null,0,null,0,null,0,null,0,null,0,null,0,null,0,null,0,null,0,null,0,null,0,null,0,null,0,null,0,null,0,null,0,null,0,null,0,null,0,null,0,null,0,null,0,null,0,null,0,null,0,null,0,null,0,null,0,null,0,null,0,null,0,null,0,null,0,null,0,null,0,null,0,null,0,null,0]
[]
[]
[null,null,"ITEM","DESCRIÇÃO","QUANTIDADE POR TRABALHADOR/ANO","UNIDADE","VALOR"]
[]
[null,null,1,"Calça feminina comprida preta, em tecido microfibra",4,"UNID",126.93,null,null,null,{"$f":"IF(SUM(J$127:J$129)>0,$E133*$G133,0)","v":0},null,{"$f":"IF(SUM(L$127:L$129)>0,$E133*$G133,0)","v":0},null,{"$f":"IF(SUM(N$127:N$129)>0,$E133*$G133,0)","v":0},null,{"$f":"IF(SUM(P$127:P$129)>0,$E133*$G133,0)","v":0},null,{"$f":"IF(SUM(R$127:R$129)>0,$E133*$G133,0)","v":0},null,{"$f":"IF(SUM(T$127:T$129)>0,$E133*$G133,0)","v":0},null,{"$f":"IF(SUM(V$127:V$129)>0,$E133*$G133,0)","v":0},null,{"$f":"IF(SUM(X$127:X$129)>0,$E133*$G133,0)","v":0},null,{"$f":"IF(SUM(Z$127:Z$129)>0,$E133*$G133,0)","v":0},null,{"$f":"IF(SUM(AB$127:AB$129)>0,$E133*$G133,0)","v":0},null,{"$f":"IF(SUM(AD$127:AD$129)>0,$E133*$G133,0)","v":0},null,{"$f":"IF(SUM(AF$127:AF$129)>0,$E133*$G133,0)","v":0},null,{"$f":"IF(SUM(AH$127:AH$129)>0,$E133*$G133,0)","v":0},null,{"$f":"IF(SUM(AJ$127:AJ$129)>0,$E133*$G133,0)","v":0},null,{"$f":"IF(SUM(AL$127:AL$129)>0,$E133*$G133,0)","v":0},null,{"$f":"IF(SUM(AN$127:AN$129)>0,$E133*$G133,0)","v":0},null,{"$f":"IF(SUM(AP$127:AP$129)>0,$E133*$G133,0)","v":0},null,{"$f":"IF(SUM(AR$127:AR$129)>0,$E133*$G133,0)","v":0},null,{"$f":"IF(SUM(AT$127:AT$129)>0,$E133*$G133,0)","v":0},null,{"$f":"IF(SUM(AV$127:AV$129)>0,$E133*$G133,0)","v":0},null,{"$f":"IF(SUM(AX$127:AX$129)>0,$E133*$G133,0)","v":0},null,{"$f":"IF(SUM(AZ$127:AZ$129)>0,$E133*$G133,0)","v":0},null,{"$f":"IF(SUM(BB$127:BB$129)>0,$E133*$G133,0)","v":0},null,{"$f":"IF(SUM(BD$127:BD$129)>0,$E133*$G133,0)","v":0},null,{"$f":"IF(SUM(BF$127:BF$129)>0,$E133*$G133,0)","v":0},null,{"$f":"IF(SUM(BH$127:BH$129)>0,$E133*$G133,0)","v":0},null,{"$f":"IF(SUM(BJ$127:BJ$129)>0,$E133*$G133,0)","v":0},null,{"$f":"IF(SUM(BL$127:BL$129)>0,$E133*$G133,0)","v":0},null,{"$f":"IF(SUM(BN$127:BN$129)>0,$E133*$G133,0)","v":0},null,{"$f":"IF(SUM(BP$127:BP$129)>0,$E133*$G133,0)","v":0},null,{"$f":"IF(SUM(BR$127:BR$129)>0,$E133*$G133,0)","v":0},null,{"$f":"IF(SUM(BT$127:BT$129)>0,$E133*$G133,0)","v":0},null,{"$f":"IF(SUM(BV$127:BV$129)>0,$E133*$G133,0)","v":0},null,{"$f":"IF(SUM(BX$127:BX$129)>0,$E133*$G133,0)","v":0},null,{"$f":"IF(SUM(BZ$127:BZ$129)>0,$E133*$G133,0)","v":0},null,{"$f":"IF(SUM(CB$127:CB$129)>0,$E133*$G133,0)","v":0},null,{"$f":"IF(SUM(CD$127:CD$129)>0,$E133*$G133,0)","v":0},null,{"$f":"IF(SUM(CF$127:CF$129)>0,$E133*$G133,0)","v":0},null,{"$f":"IF(SUM(CH$127:CH$129)>0,$E133*$G133,0)","v":0},null,{"$f":"IF(SUM(CJ$127:CJ$129)>0,$E133*$G133,0)","v":0},null,{"$f":"IF(SUM(CL$127:CL$129)>0,$E133*$G133,0)","v":0},null,{"$f":"IF(SUM(CN$127:CN$129)>0,$E133*$G133,0)","v":0},null,{"$f":"IF(SUM(CP$127:CP$129)>0,$E133*$G133,0)","v":0},null,{"$f":"IF(SUM(CR$127:CR$129)>0,$E133*$G133,0)","v":0},null,{"$f":"IF(SUM(CT$127:CT$129)>0,$E133*$G133,0)","v":0},null,{"$f":"IF(SUM(CV$127:CV$129)>0,$E133*$G133,0)","v":0},null,{"$f":"IF(SUM(CX$127:CX$129)>0,$E133*$G133,0)","v":0},null,{"$f":"IF(SUM(CZ$127:CZ$129)>0,$E133*$G133,0)","v":0},null,{"$f":"IF(SUM(DB$127:DB$129)>0,$E133*$G133,0)","v":0},null,{"$f":"IF(SUM(DD$127:DD$129)>0,$E133*$G133,0)","v":0},null,{"$f":"IF(SUM(DF$127:DF$129)>0,$E133*$G133,0)","v":0},null,{"$f":"IF(SUM(DH$127:DH$129)>0,$E133*$G133,0)","v":0},null,{"$f":"IF(SUM(DJ$127:DJ$129)>0,$E133*$G133,0)","v":0},null,{"$f":"IF(SUM(DL$127:DL$129)>0,$E133*$G133,0)","v":0},null,{"$f":"IF(SUM(DN$127:DN$129)>0,$E133*$G133,0)","v":0},null,{"$f":"IF(SUM(DP$127:DP$129)>0,$E133*$G133,0)","v":0},null,{"$f":"IF(SUM(DR$127:DR$129)>0,$E133*$G133,0)","v":0},null,{"$f":"IF(SUM(DT$127:DT$129)>0,$E133*$G133,0)","v":0},null,{"$f":"IF(SUM(DV$127:DV$129)>0,$E133*$G133,0)","v":0},null,{"$f":"IF(SUM(DX$127:DX$129)>0,$E133*$G133,0)","v":0}]
[null,null,2,"Blazer feminino longo, na cor preta, em microfibra",2,"UNID",199.67,null,null,null,{"$f":"IF(SUM(J$127:J$129)>0,$E134*$G134,0)","v":0},null,{"$f":"IF(SUM(L$127:L$129)>0,$E134*$G134,0)","v":0},null,{"$f":"IF(SUM(N$127:N$129)>0,$E134*$G134,0)","v":0},null,{"$f":"IF(SUM(P$127:P$129)>0,$E134*$G134,0)","v":0},null,{"$f":"IF(SUM(R$127:R$129)>0,$E134*$G134,0)","v":0},null,{"$f":"IF(SUM(T$127:T$129)>0,$E134*$G134,0)","v":0},null,{"$f":"IF(SUM(V$127:V$129)>0,$E134*$G134,0)","v":0},null,{"$f":"IF(SUM(X$127:X$129)>0,$E134*$G134,0)","v":0},null,{"$f":"IF(SUM(Z$127:Z$129)>0,$E134*$G134,0)","v":0},null,{"$f":"IF(SUM(AB$127:AB$129)>0,$E134*$G134,0)","v":0},null,{"$f":"IF(SUM(AD$127:AD$129)>0,$E134*$G134,0)","v":0},null,{"$f":"IF(SUM(AF$127:AF$129)>0,$E134*$G134,0)","v":0},null,{"$f":"IF(SUM(AH$127:AH$129)>0,$E134*$G134,0)","v":0},null,{"$f":"IF(SUM(AJ$127:AJ$129)>0,$E134*$G134,0)","v":0},null,{"$f":"IF(SUM(AL$127:AL$129)>0,$E134*$G134,0)","v":0},null,{"$f":"IF(SUM(AN$127:AN$129)>0,$E134*$G134,0)","v":0},null,{"$f":"IF(SUM(AP$127:AP$129)>0,$E134*$G134,0)","v":0},null,{"$f":"IF(SUM(AR$127:AR$129)>0,$E134*$G134,0)","v":0},null,{"$f":"IF(SUM(AT$127:AT$129)>0,$E134*$G134,0)","v":0},null,{"$f":"IF(SUM(AV$127:AV$129)>0,$E134*$G134,0)","v":0},null,{"$f":"IF(SUM(AX$127:AX$129)>0,$E134*$G134,0)","v":0},null,{"$f":"IF(SUM(AZ$127:AZ$129)>0,$E134*$G134,0)","v":0},null,{"$f":"IF(SUM(BB$127:BB$129)>0,$E134*$G134,0)","v":0},null,{"$f":"IF(SUM(BD$127:BD$129)>0,$E134*$G134,0)","v":0},null,{"$f":"IF(SUM(BF$127:BF$129)>0,$E134*$G134,0)","v":0},null,{"$f":"IF(SUM(BH$127:BH$129)>0,$E134*$G134,0)","v":0},null,{"$f":"IF(SUM(BJ$127:BJ$129)>0,$E134*$G134,0)","v":0},null,{"$f":"IF(SUM(BL$127:BL$129)>0,$E134*$G134,0)","v":0},null,{"$f":"IF(SUM(BN$127:BN$129)>0,$E134*$G134,0)","v":0},null,{"$f":"IF(SUM(BP$127:BP$129)>0,$E134*$G134,0)","v":0},null,{"$f":"IF(SUM(BR$127:BR$129)>0,$E134*$G134,0)","v":0},null,{"$f":"IF(SUM(BT$127:BT$129)>0,$E134*$G134,0)","v":0},null,{"$f":"IF(SUM(BV$127:BV$129)>0,$E134*$G134,0)","v":0},null,{"$f":"IF(SUM(BX$127:BX$129)>0,$E134*$G134,0)","v":0},null,{"$f":"IF(SUM(BZ$127:BZ$129)>0,$E134*$G134,0)","v":0},null,{"$f":"IF(SUM(CB$127:CB$129)>0,$E134*$G134,0)","v":0},null,{"$f":"IF(SUM(CD$127:CD$129)>0,$E134*$G134,0)","v":0},null,{"$f":"IF(SUM(CF$127:CF$129)>0,$E134*$G134,0)","v":0},null,{"$f":"IF(SUM(CH$127:CH$129)>0,$E134*$G134,0)","v":0},null,{"$f":"IF(SUM(CJ$127:CJ$129)>0,$E134*$G134,0)","v":0},null,{"$f":"IF(SUM(CL$127:CL$129)>0,$E134*$G134,0)","v":0},null,{"$f":"IF(SUM(CN$127:CN$129)>0,$E134*$G134,0)","v":0},null,{"$f":"IF(SUM(CP$127:CP$129)>0,$E134*$G134,0)","v":0},null,{"$f":"IF(SUM(CR$127:CR$129)>0,$E134*$G134,0)","v":0},null,{"$f":"IF(SUM(CT$127:CT$129)>0,$E134*$G134,0)","v":0},null,{"$f":"IF(SUM(CV$127:CV$129)>0,$E134*$G134,0)","v":0},null,{"$f":"IF(SUM(CX$127:CX$129)>0,$E134*$G134,0)","v":0},null,{"$f":"IF(SUM(CZ$127:CZ$129)>0,$E134*$G134,0)","v":0},null,{"$f":"IF(SUM(DB$127:DB$129)>0,$E134*$G134,0)","v":0},null,{"$f":"IF(SUM(DD$127:DD$129)>0,$E134*$G134,0)","v":0},null,{"$f":"IF(SUM(DF$127:DF$129)>0,$E134*$G134,0)","v":0},null,{"$f":"IF(SUM(DH$127:DH$129)>0,$E134*$G134,0)","v":0},null,{"$f":"IF(SUM(DJ$127:DJ$129)>0,$E134*$G134,0)","v":0},null,{"$f":"IF(SUM(DL$127:DL$129)>0,$E134*$G134,0)","v":0},null,{"$f":"IF(SUM(DN$127:DN$129)>0,$E134*$G134,0)","v":0},null,{"$f":"IF(SUM(DP$127:DP$129)>0,$E134*$G134,0)","v":0},null,{"$f":"IF(SUM(DR$127:DR$129)>0,$E134*$G134,0)","v":0},null,{"$f":"IF(SUM(DT$127:DT$129)>0,$E134*$G134,0)","v":0},null,{"$f":"IF(SUM(DV$127:DV$129)>0,$E134*$G134,0)","v":0},null,0]
[null,null,3,"Blusa branca, modelo social, com manga 3/4, tecido microfibra de seda",4,"UNID",119.7,null,null,null,{"$f":"IF(SUM(J$127:J$129)>0,$E135*$G135,0)","v":0},null,{"$f":"IF(SUM(L$127:L$129)>0,$E135*$G135,0)","v":0},null,{"$f":"IF(SUM(N$127:N$129)>0,$E135*$G135,0)","v":0},null,{"$f":"IF(SUM(P$127:P$129)>0,$E135*$G135,0)","v":0},null,{"$f":"IF(SUM(R$127:R$129)>0,$E135*$G135,0)","v":0},null,{"$f":"IF(SUM(T$127:T$129)>0,$E135*$G135,0)","v":0},null,{"$f":"IF(SUM(V$127:V$129)>0,$E135*$G135,0)","v":0},null,{"$f":"IF(SUM(X$127:X$129)>0,$E135*$G135,0)","v":0},null,{"$f":"IF(SUM(Z$127:Z$129)>0,$E135*$G135,0)","v":0},null,{"$f":"IF(SUM(AB$127:AB$129)>0,$E135*$G135,0)","v":0},null,{"$f":"IF(SUM(AD$127:AD$129)>0,$E135*$G135,0)","v":0},null,{"$f":"IF(SUM(AF$127:AF$129)>0,$E135*$G135,0)","v":0},null,{"$f":"IF(SUM(AH$127:AH$129)>0,$E135*$G135,0)","v":0},null,{"$f":"IF(SUM(AJ$127:AJ$129)>0,$E135*$G135,0)","v":0},null,{"$f":"IF(SUM(AL$127:AL$129)>0,$E135*$G135,0)","v":0},null,{"$f":"IF(SUM(AN$127:AN$129)>0,$E135*$G135,0)","v":0},null,{"$f":"IF(SUM(AP$127:AP$129)>0,$E135*$G135,0)","v":0},null,{"$f":"IF(SUM(AR$127:AR$129)>0,$E135*$G135,0)","v":0},null,{"$f":"IF(SUM(AT$127:AT$129)>0,$E135*$G135,0)","v":0},null,{"$f":"IF(SUM(AV$127:AV$129)>0,$E135*$G135,0)","v":0},null,{"$f":"IF(SUM(AX$127:AX$129)>0,$E135*$G135,0)","v":0},null,{"$f":"IF(SUM(AZ$127:AZ$129)>0,$E135*$G135,0)","v":0},null,{"$f":"IF(SUM(BB$127:BB$129)>0,$E135*$G135,0)","v":0},null,{"$f":"IF(SUM(BD$127:BD$129)>0,$E135*$G135,0)","v":0},null,{"$f":"IF(SUM(BF$127:BF$129)>0,$E135*$G135,0)","v":0},null,{"$f":"IF(SUM(BH$127:BH$129)>0,$E135*$G135,0)","v":0},null,{"$f":"IF(SUM(BJ$127:BJ$129)>0,$E135*$G135,0)","v":0},null,{"$f":"IF(SUM(BL$127:BL$129)>0,$E135*$G135,0)","v":0},null,{"$f":"IF(SUM(BN$127:BN$129)>0,$E135*$G135,0)","v":0},null,{"$f":"IF(SUM(BP$127:BP$129)>0,$E135*$G135,0)","v":0},null,{"$f":"IF(SUM(BR$127:BR$129)>0,$E135*$G135,0)","v":0},null,{"$f":"IF(SUM(BT$127:BT$129)>0,$E135*$G135,0)","v":0},null,{"$f":"IF(SUM(BV$127:BV$129)>0,$E135*$G135,0)","v":0},null,{"$f":"IF(SUM(BX$127:BX$129)>0,$E135*$G135,0)","v":0},null,{"$f":"IF(SUM(BZ$127:BZ$129)>0,$E135*$G135,0)","v":0},null,{"$f":"IF(SUM(CB$127:CB$129)>0,$E135*$G135,0)","v":0},null,{"$f":"IF(SUM(CD$127:CD$129)>0,$E135*$G135,0)","v":0},null,{"$f":"IF(SUM(CF$127:CF$129)>0,$E135*$G135,0)","v":0},null,{"$f":"IF(SUM(CH$127:CH$129)>0,$E135*$G135,0)","v":0},null,{"$f":"IF(SUM(CJ$127:CJ$129)>0,$E135*$G135,0)","v":0},null,{"$f":"IF(SUM(CL$127:CL$129)>0,$E135*$G135,0)","v":0},null,{"$f":"IF(SUM(CN$127:CN$129)>0,$E135*$G135,0)","v":0},null,{"$f":"IF(SUM(CP$127:CP$129)>0,$E135*$G135,0)","v":0},null,{"$f":"IF(SUM(CR$127:CR$129)>0,$E135*$G135,0)","v":0},null,{"$f":"IF(SUM(CT$127:CT$129)>0,$E135*$G135,0)","v":0},null,{"$f":"IF(SUM(CV$127:CV$129)>0,$E135*$G135,0)","v":0},null,{"$f":"IF(SUM(CX$127:CX$129)>0,$E135*$G135,0)","v":0},null,{"$f":"IF(SUM(CZ$127:CZ$129)>0,$E135*$G135,0)","v":0},null,{"$f":"IF(SUM(DB$127:DB$129)>0,$E135*$G135,0)","v":0},null,{"$f":"IF(SUM(DD$127:DD$129)>0,$E135*$G135,0)","v":0},null,{"$f":"IF(SUM(DF$127:DF$129)>0,$E135*$G135,0)","v":0},null,{"$f":"IF(SUM(DH$127:DH$129)>0,$E135*$G135,0)","v":0},null,{"$f":"IF(SUM(DJ$127:DJ$129)>0,$E135*$G135,0)","v":0},null,{"$f":"IF(SUM(DL$127:DL$129)>0,$E135*$G135,0)","v":0},null,{"$f":"IF(SUM(DN$127:DN$129)>0,$E135*$G135,0)","v":0},null,{"$f":"IF(SUM(DP$127:DP$129)>0,$E135*$G135,0)","v":0},null,{"$f":"IF(SUM(DR$127:DR$129)>0,$E135*$G135,0)","v":0},null,{"$f":"IF(SUM(DT$127:DT$129)>0,$E135*$G135,0)","v":0},null,{"$f":"IF(SUM(DV$127:DV$129)>0,$E135*$G135,0)","v":0},null,0]
[null,null,4,"Meia preta",4,"PAR",17.329999999999998,null,null,null,{"$f":"IF(SUM(J$127:J$129)>0,$E136*$G136,0)","v":0},null,{"$f":"IF(SUM(L$127:L$129)>0,$E136*$G136,0)","v":0},null,{"$f":"IF(SUM(N$127:N$129)>0,$E136*$G136,0)","v":0},null,{"$f":"IF(SUM(P$127:P$129)>0,$E136*$G136,0)","v":0},null,{"$f":"IF(SUM(R$127:R$129)>0,$E136*$G136,0)","v":0},null,{"$f":"IF(SUM(T$127:T$129)>0,$E136*$G136,0)","v":0},null,{"$f":"IF(SUM(V$127:V$129)>0,$E136*$G136,0)","v":0},null,{"$f":"IF(SUM(X$127:X$129)>0,$E136*$G136,0)","v":0},null,{"$f":"IF(SUM(Z$127:Z$129)>0,$E136*$G136,0)","v":0},null,{"$f":"IF(SUM(AB$127:AB$129)>0,$E136*$G136,0)","v":0},null,{"$f":"IF(SUM(AD$127:AD$129)>0,$E136*$G136,0)","v":0},null,{"$f":"IF(SUM(AF$127:AF$129)>0,$E136*$G136,0)","v":0},null,{"$f":"IF(SUM(AH$127:AH$129)>0,$E136*$G136,0)","v":0},null,{"$f":"IF(SUM(AJ$127:AJ$129)>0,$E136*$G136,0)","v":0},null,{"$f":"IF(SUM(AL$127:AL$129)>0,$E136*$G136,0)","v":0},null,{"$f":"IF(SUM(AN$127:AN$129)>0,$E136*$G136,0)","v":0},null,{"$f":"IF(SUM(AP$127:AP$129)>0,$E136*$G136,0)","v":0},null,{"$f":"IF(SUM(AR$127:AR$129)>0,$E136*$G136,0)","v":0},null,{"$f":"IF(SUM(AT$127:AT$129)>0,$E136*$G136,0)","v":0},null,{"$f":"IF(SUM(AV$127:AV$129)>0,$E136*$G136,0)","v":0},null,{"$f":"IF(SUM(AX$127:AX$129)>0,$E136*$G136,0)","v":0},null,{"$f":"IF(SUM(AZ$127:AZ$129)>0,$E136*$G136,0)","v":0},null,{"$f":"IF(SUM(BB$127:BB$129)>0,$E136*$G136,0)","v":0},null,{"$f":"IF(SUM(BD$127:BD$129)>0,$E136*$G136,0)","v":0},null,{"$f":"IF(SUM(BF$127:BF$129)>0,$E136*$G136,0)","v":0},null,{"$f":"IF(SUM(BH$127:BH$129)>0,$E136*$G136,0)","v":0},null,{"$f":"IF(SUM(BJ$127:BJ$129)>0,$E136*$G136,0)","v":0},null,{"$f":"IF(SUM(BL$127:BL$129)>0,$E136*$G136,0)","v":0},null,{"$f":"IF(SUM(BN$127:BN$129)>0,$E136*$G136,0)","v":0},null,{"$f":"IF(SUM(BP$127:BP$129)>0,$E136*$G136,0)","v":0},null,{"$f":"IF(SUM(BR$127:BR$129)>0,$E136*$G136,0)","v":0},null,{"$f":"IF(SUM(BT$127:BT$129)>0,$E136*$G136,0)","v":0},null,{"$f":"IF(SUM(BV$127:BV$129)>0,$E136*$G136,0)","v":0},null,{"$f":"IF(SUM(BX$127:BX$129)>0,$E136*$G136,0)","v":0},null,{"$f":"IF(SUM(BZ$127:BZ$129)>0,$E136*$G136,0)","v":0},null,{"$f":"IF(SUM(CB$127:CB$129)>0,$E136*$G136,0)","v":0},null,{"$f":"IF(SUM(CD$127:CD$129)>0,$E136*$G136,0)","v":0},null,{"$f":"IF(SUM(CF$127:CF$129)>0,$E136*$G136,0)","v":0},null,{"$f":"IF(SUM(CH$127:CH$129)>0,$E136*$G136,0)","v":0},null,{"$f":"IF(SUM(CJ$127:CJ$129)>0,$E136*$G136,0)","v":0},null,{"$f":"IF(SUM(CL$127:CL$129)>0,$E136*$G136,0)","v":0},null,{"$f":"IF(SUM(CN$127:CN$129)>0,$E136*$G136,0)","v":0},null,{"$f":"IF(SUM(CP$127:CP$129)>0,$E136*$G136,0)","v":0},null,{"$f":"IF(SUM(CR$127:CR$129)>0,$E136*$G136,0)","v":0},null,{"$f":"IF(SUM(CT$127:CT$129)>0,$E136*$G136,0)","v":0},null,{"$f":"IF(SUM(CV$127:CV$129)>0,$E136*$G136,0)","v":0},null,{"$f":"IF(SUM(CX$127:CX$129)>0,$E136*$G136,0)","v":0},null,{"$f":"IF(SUM(CZ$127:CZ$129)>0,$E136*$G136,0)","v":0},null,{"$f":"IF(SUM(DB$127:DB$129)>0,$E136*$G136,0)","v":0},null,{"$f":"IF(SUM(DD$127:DD$129)>0,$E136*$G136,0)","v":0},null,{"$f":"IF(SUM(DF$127:DF$129)>0,$E136*$G136,0)","v":0},null,{"$f":"IF(SUM(DH$127:DH$129)>0,$E136*$G136,0)","v":0},null,{"$f":"IF(SUM(DJ$127:DJ$129)>0,$E136*$G136,0)","v":0},null,{"$f":"IF(SUM(DL$127:DL$129)>0,$E136*$G136,0)","v":0},null,{"$f":"IF(SUM(DN$127:DN$129)>0,$E136*$G136,0)","v":0},null,{"$f":"IF(SUM(DP$127:DP$129)>0,$E136*$G136,0)","v":0},null,{"$f":"IF(SUM(DR$127:DR$129)>0,$E136*$G136,0)","v":0},null,{"$f":"IF(SUM(DT$127:DT$129)>0,$E136*$G136,0)","v":0},null,{"$f":"IF(SUM(DV$127:DV$129)>0,$E136*$G136,0)","v":0},null,0]
[]
[]
[null,null,"CATEGORIAS",null,null,null,"QUANTIDADE"]
[null,null,null,null,null,null,null,null,null,{"$f":"IF($C140=J$3,1,0)","v":0},null,{"$f":"IF($C140=L$3,1,0)","v":0},null,{"$f":"IF($C140=N$3,1,0)","v":0},null,{"$f":"IF($C140=P$3,1,0)","v":0},null,{"$f":"IF($C140=R$3,1,0)","v":0},null,{"$f":"IF($C140=T$3,1,0)","v":0},null,{"$f":"IF($C140=V$3,1,0)","v":0},null,{"$f":"IF($C140=X$3,1,0)","v":0},null,{"$f":"IF($C140=Z$3,1,0)","v":0},null,{"$f":"IF($C140=AB$3,1,0)","v":0},null,{"$f":"IF($C140=AD$3,1,0)","v":0},null,{"$f":"IF($C140=AF$3,1,0)","v":0},null,{"$f":"IF($C140=AH$3,1,0)","v":0},null,{"$f":"IF($C140=AJ$3,1,0)","v":0},null,{"$f":"IF($C140=AL$3,1,0)","v":0},null,{"$f":"IF($C140=AN$3,1,0)","v":0},null,{"$f":"IF($C140=AP$3,1,0)","v":0},null,{"$f":"IF($C140=AR$3,1,0)","v":0},null,{"$f":"IF($C140=AT$3,1,0)","v":0},null,{"$f":"IF($C140=AV$3,1,0)","v":0},null,{"$f":"IF($C140=AX$3,1,0)","v":0},null,{"$f":"IF($C140=AZ$3,1,0)","v":0},null,{"$f":"IF($C140=BB$3,1,0)","v":0},null,{"$f":"IF($C140=BD$3,1,0)","v":0},null,{"$f":"IF($C140=BF$3,1,0)","v":0},null,{"$f":"IF($C140=BH$3,1,0)","v":0},null,{"$f":"IF($C140=BJ$3,1,0)","v":0},null,{"$f":"IF($C140=BL$3,1,0)","v":0},null,{"$f":"IF($C140=BN$3,1,0)","v":0},null,{"$f":"IF($C140=BP$3,1,0)","v":0},null,{"$f":"IF($C140=BR$3,1,0)","v":0},null,{"$f":"IF($C140=BT$3,1,0)","v":0},null,{"$f":"IF($C140=BV$3,1,0)","v":0},null,{"$f":"IF($C140=BX$3,1,0)","v":0},null,{"$f":"IF($C140=BZ$3,1,0)","v":0},null,{"$f":"IF($C140=CB$3,1,0)","v":0},null,{"$f":"IF($C140=CD$3,1,0)","v":0},null,{"$f":"IF($C140=CF$3,1,0)","v":0},null,{"$f":"IF($C140=CH$3,1,0)","v":0},null,{"$f":"IF($C140=CJ$3,1,0)","v":0},null,{"$f":"IF($C140=CL$3,1,0)","v":0},null,{"$f":"IF($C140=CN$3,1,0)","v":0},null,{"$f":"IF($C140=CP$3,1,0)","v":0},null,{"$f":"IF($C140=CR$3,1,0)","v":0},null,{"$f":"IF($C140=CT$3,1,0)","v":0},null,{"$f":"IF($C140=CV$3,1,0)","v":0},null,{"$f":"IF($C140=CX$3,1,0)","v":0},null,{"$f":"IF($C140=CZ$3,1,0)","v":0},null,{"$f":"IF($C140=DB$3,1,0)","v":0},null,{"$f":"IF($C140=DD$3,1,0)","v":0},null,{"$f":"IF($C140=DF$3,1,0)","v":0},null,{"$f":"IF($C140=DH$3,1,0)","v":0},null,{"$f":"IF($C140=DJ$3,1,0)","v":0},null,{"$f":"IF($C140=DL$3,1,0)","v":0},null,{"$f":"IF($C140=DN$3,1,0)","v":0},null,{"$f":"IF($C140=DP$3,1,0)","v":0},null,{"$f":"IF($C140=DR$3,1,0)","v":0},null,{"$f":"IF($C140=DT$3,1,0)","v":0},null,{"$f":"IF($C140=DV$3,1,0)","v":0},null,{"$f":"IF($C140=DX$3,1,0)","v":0}]
[null,null,null,{"$f":"HLOOKUP($C141,'Dados Gerais'!$D$6:$V$11,6,0)","v":{"$error":"#N/A"}},null,null,{"$f":"HLOOKUP($C141,'Dados Gerais'!$D$6:$V$15,10,0)","v":{"$error":"#N/A"}},null,null,{"$f":"IF($C141=J$3,1,0)","v":0},null,0,null,0,null,0,null,0,null,0,null,0,null,0,null,0,null,0,null,0,null,0,null,0,null,0,null,0,null,0,null,0,null,0,null,0,null,0,null,0,null,0,null,0,null,0,null,0,null,0,null,0,null,0,null,0,null,0,null,0,null,0,null,0,null,0,null,0,null,0,null,0,null,0,null,0,null,0,null,0,null,0,null,0,null,0,null,0,null,0,null,0,null,0,null,0,null,0,null,0,null,0,null,0,null,0,null,0,null,0,null,0,null,0,null,0,null,0]
[null,null,null,null,null,null,null,null,null,{"$f":"IF($C142=J$3,1,0)","v":0},null,0,null,0,null,0,null,0,null,0,null,0,null,0,null,0,null,0,null,0,null,0,null,0,null,0,null,0,null,0,null,0,null,0,null,0,null,0,null,0,null,0,null,0,null,0,null,0,null,0,null,0,null,0,null,0,null,0,null,0,null,0,null,0,null,0,null,0,null,0,null,0,null,0,null,0,null,0,null,0,null,0,null,0,null,0,null,0,null,0,null,0,null,0,null,0,null,0,null,0,null,0,null,0,null,0,null,0,null,0,null,0,null,0,null,0,null,0]
[]
[null,null,"ITEM","DESCRIÇÃO","QUANTIDADE POR TRABALHADOR/ANO","UNIDADE","VALOR"]
[null,null,null,null,null,null,null,null,null,null,{"$f":"IF(SUM(J$7:J$9)>0,$E145*$G145,0)","v":0},null,{"$f":"IF(SUM(L$7:L$9)>0,$E145*$G145,0)","v":0},null,{"$f":"IF(SUM(N$7:N$9)>0,$E145*$G145,0)","v":0},null,{"$f":"IF(SUM(P$7:P$9)>0,$E145*$G145,0)","v":0},null,{"$f":"IF(SUM(R$7:R$9)>0,$E145*$G145,0)","v":0},null,{"$f":"IF(SUM(T$7:T$9)>0,$E145*$G145,0)","v":0},null,{"$f":"IF(SUM(V$7:V$9)>0,$E145*$G145,0)","v":0},null,{"$f":"IF(SUM(X$7:X$9)>0,$E145*$G145,0)","v":0},null,{"$f":"IF(SUM(Z$7:Z$9)>0,$E145*$G145,0)","v":0},null,{"$f":"IF(SUM(AB$7:AB$9)>0,$E145*$G145,0)","v":0},null,{"$f":"IF(SUM(AD$7:AD$9)>0,$E145*$G145,0)","v":0},null,{"$f":"IF(SUM(AF$7:AF$9)>0,$E145*$G145,0)","v":0},null,{"$f":"IF(SUM(AH$7:AH$9)>0,$E145*$G145,0)","v":0},null,{"$f":"IF(SUM(AJ$7:AJ$9)>0,$E145*$G145,0)","v":0},null,{"$f":"IF(SUM(AL$7:AL$9)>0,$E145*$G145,0)","v":0},null,{"$f":"IF(SUM(AN$7:AN$9)>0,$E145*$G145,0)","v":0},null,{"$f":"IF(SUM(AP$7:AP$9)>0,$E145*$G145,0)","v":0},null,{"$f":"IF(SUM(AR$7:AR$9)>0,$E145*$G145,0)","v":0},null,{"$f":"IF(SUM(AT$7:AT$9)>0,$E145*$G145,0)","v":0},null,{"$f":"IF(SUM(AV$7:AV$9)>0,$E145*$G145,0)","v":0},null,{"$f":"IF(SUM(AX$7:AX$9)>0,$E145*$G145,0)","v":0},null,{"$f":"IF(SUM(AZ$7:AZ$9)>0,$E145*$G145,0)","v":0},null,{"$f":"IF(SUM(BB$7:BB$9)>0,$E145*$G145,0)","v":0},null,{"$f":"IF(SUM(BD$7:BD$9)>0,$E145*$G145,0)","v":0},null,{"$f":"IF(SUM(BF$7:BF$9)>0,$E145*$G145,0)","v":0},null,{"$f":"IF(SUM(BH$7:BH$9)>0,$E145*$G145,0)","v":0},null,{"$f":"IF(SUM(BJ$7:BJ$9)>0,$E145*$G145,0)","v":0},null,{"$f":"IF(SUM(BL$7:BL$9)>0,$E145*$G145,0)","v":0},null,{"$f":"IF(SUM(BN$7:BN$9)>0,$E145*$G145,0)","v":0},null,{"$f":"IF(SUM(BP$7:BP$9)>0,$E145*$G145,0)","v":0},null,{"$f":"IF(SUM(BR$7:BR$9)>0,$E145*$G145,0)","v":0},null,{"$f":"IF(SUM(BT$7:BT$9)>0,$E145*$G145,0)","v":0},null,{"$f":"IF(SUM(BV$7:BV$9)>0,$E145*$G145,0)","v":0},null,{"$f":"IF(SUM(BX$7:BX$9)>0,$E145*$G145,0)","v":0},null,{"$f":"IF(SUM(BZ$7:BZ$9)>0,$E145*$G145,0)","v":0},null,{"$f":"IF(SUM(CB$7:CB$9)>0,$E145*$G145,0)","v":0},null,{"$f":"IF(SUM(CD$7:CD$9)>0,$E145*$G145,0)","v":0},null,{"$f":"IF(SUM(CF$7:CF$9)>0,$E145*$G145,0)","v":0},null,{"$f":"IF(SUM(CH$7:CH$9)>0,$E145*$G145,0)","v":0},null,{"$f":"IF(SUM(CJ$7:CJ$9)>0,$E145*$G145,0)","v":0},null,{"$f":"IF(SUM(CL$7:CL$9)>0,$E145*$G145,0)","v":0},null,{"$f":"IF(SUM(CN$7:CN$9)>0,$E145*$G145,0)","v":0},null,{"$f":"IF(SUM(CP$7:CP$9)>0,$E145*$G145,0)","v":0},null,{"$f":"IF(SUM(CR$7:CR$9)>0,$E145*$G145,0)","v":0},null,{"$f":"IF(SUM(CT$7:CT$9)>0,$E145*$G145,0)","v":0},null,{"$f":"IF(SUM(CV$7:CV$9)>0,$E145*$G145,0)","v":0},null,{"$f":"IF(SUM(CX$7:CX$9)>0,$E145*$G145,0)","v":0},null,{"$f":"IF(SUM(CZ$7:CZ$9)>0,$E145*$G145,0)","v":0},null,{"$f":"IF(SUM(DB$7:DB$9)>0,$E145*$G145,0)","v":0},null,{"$f":"IF(SUM(DD$7:DD$9)>0,$E145*$G145,0)","v":0},null,{"$f":"IF(SUM(DF$7:DF$9)>0,$E145*$G145,0)","v":0},null,{"$f":"IF(SUM(DH$7:DH$9)>0,$E145*$G145,0)","v":0},null,{"$f":"IF(SUM(DJ$7:DJ$9)>0,$E145*$G145,0)","v":0},null,{"$f":"IF(SUM(DL$7:DL$9)>0,$E145*$G145,0)","v":0},null,{"$f":"IF(SUM(DN$7:DN$9)>0,$E145*$G145,0)","v":0},null,{"$f":"IF(SUM(DP$7:DP$9)>0,$E145*$G145,0)","v":0},null,{"$f":"IF(SUM(DR$7:DR$9)>0,$E145*$G145,0)","v":0},null,{"$f":"IF(SUM(DT$7:DT$9)>0,$E145*$G145,0)","v":0},null,{"$f":"IF(SUM(DV$7:DV$9)>0,$E145*$G145,0)","v":0},null,{"$f":"IF(SUM(DX$7:DX$9)>0,$E145*$G145,0)","v":0}]
[null,null,1,"Calça nas cores preto e branco, xadrez tipo \"pied de poule\", com bolsos embutidos, elástico atrás, com zíper",4,"UND",97.28,null,null,null,{"$f":"IF(SUM(J$140:J$142)>0,$E146*$G146,0)","v":0},null,{"$f":"IF(SUM(L$140:L$142)>0,$E146*$G146,0)","v":0},null,{"$f":"IF(SUM(N$140:N$142)>0,$E146*$G146,0)","v":0},null,{"$f":"IF(SUM(P$140:P$142)>0,$E146*$G146,0)","v":0},null,{"$f":"IF(SUM(R$140:R$142)>0,$E146*$G146,0)","v":0},null,{"$f":"IF(SUM(T$140:T$142)>0,$E146*$G146,0)","v":0},null,{"$f":"IF(SUM(V$140:V$142)>0,$E146*$G146,0)","v":0},null,{"$f":"IF(SUM(X$140:X$142)>0,$E146*$G146,0)","v":0},null,{"$f":"IF(SUM(Z$140:Z$142)>0,$E146*$G146,0)","v":0},null,{"$f":"IF(SUM(AB$140:AB$142)>0,$E146*$G146,0)","v":0},null,{"$f":"IF(SUM(AD$140:AD$142)>0,$E146*$G146,0)","v":0},null,{"$f":"IF(SUM(AF$140:AF$142)>0,$E146*$G146,0)","v":0},null,{"$f":"IF(SUM(AH$140:AH$142)>0,$E146*$G146,0)","v":0},null,{"$f":"IF(SUM(AJ$140:AJ$142)>0,$E146*$G146,0)","v":0},null,{"$f":"IF(SUM(AL$140:AL$142)>0,$E146*$G146,0)","v":0},null,{"$f":"IF(SUM(AN$140:AN$142)>0,$E146*$G146,0)","v":0},null,{"$f":"IF(SUM(AP$140:AP$142)>0,$E146*$G146,0)","v":0},null,{"$f":"IF(SUM(AR$140:AR$142)>0,$E146*$G146,0)","v":0},null,{"$f":"IF(SUM(AT$140:AT$142)>0,$E146*$G146,0)","v":0},null,{"$f":"IF(SUM(AV$140:AV$142)>0,$E146*$G146,0)","v":0},null,{"$f":"IF(SUM(AX$140:AX$142)>0,$E146*$G146,0)","v":0},null,{"$f":"IF(SUM(AZ$140:AZ$142)>0,$E146*$G146,0)","v":0},null,{"$f":"IF(SUM(BB$140:BB$142)>0,$E146*$G146,0)","v":0},null,{"$f":"IF(SUM(BD$140:BD$142)>0,$E146*$G146,0)","v":0},null,{"$f":"IF(SUM(BF$140:BF$142)>0,$E146*$G146,0)","v":0},null,{"$f":"IF(SUM(BH$140:BH$142)>0,$E146*$G146,0)","v":0},null,{"$f":"IF(SUM(BJ$140:BJ$142)>0,$E146*$G146,0)","v":0},null,{"$f":"IF(SUM(BL$140:BL$142)>0,$E146*$G146,0)","v":0},null,{"$f":"IF(SUM(BN$140:BN$142)>0,$E146*$G146,0)","v":0},null,{"$f":"IF(SUM(BP$140:BP$142)>0,$E146*$G146,0)","v":0},null,{"$f":"IF(SUM(BR$140:BR$142)>0,$E146*$G146,0)","v":0},null,{"$f":"IF(SUM(BT$140:BT$142)>0,$E146*$G146,0)","v":0},null,{"$f":"IF(SUM(BV$140:BV$142)>0,$E146*$G146,0)","v":0},null,{"$f":"IF(SUM(BX$140:BX$142)>0,$E146*$G146,0)","v":0},null,{"$f":"IF(SUM(BZ$140:BZ$142)>0,$E146*$G146,0)","v":0},null,{"$f":"IF(SUM(CB$140:CB$142)>0,$E146*$G146,0)","v":0},null,{"$f":"IF(SUM(CD$140:CD$142)>0,$E146*$G146,0)","v":0},null,{"$f":"IF(SUM(CF$140:CF$142)>0,$E146*$G146,0)","v":0},null,{"$f":"IF(SUM(CH$140:CH$142)>0,$E146*$G146,0)","v":0},null,{"$f":"IF(SUM(CJ$140:CJ$142)>0,$E146*$G146,0)","v":0},null,{"$f":"IF(SUM(CL$140:CL$142)>0,$E146*$G146,0)","v":0},null,{"$f":"IF(SUM(CN$140:CN$142)>0,$E146*$G146,0)","v":0},null,{"$f":"IF(SUM(CP$140:CP$142)>0,$E146*$G146,0)","v":0},null,{"$f":"IF(SUM(CR$140:CR$142)>0,$E146*$G146,0)","v":0},null,{"$f":"IF(SUM(CT$140:CT$142)>0,$E146*$G146,0)","v":0},null,{"$f":"IF(SUM(CV$140:CV$142)>0,$E146*$G146,0)","v":0},null,{"$f":"IF(SUM(CX$140:CX$142)>0,$E146*$G146,0)","v":0},null,{"$f":"IF(SUM(CZ$140:CZ$142)>0,$E146*$G146,0)","v":0},null,{"$f":"IF(SUM(DB$140:DB$142)>0,$E146*$G146,0)","v":0},null,{"$f":"IF(SUM(DD$140:DD$142)>0,$E146*$G146,0)","v":0},null,{"$f":"IF(SUM(DF$140:DF$142)>0,$E146*$G146,0)","v":0},null,{"$f":"IF(SUM(DH$140:DH$142)>0,$E146*$G146,0)","v":0},null,{"$f":"IF(SUM(DJ$140:DJ$142)>0,$E146*$G146,0)","v":0},null,{"$f":"IF(SUM(DL$140:DL$142)>0,$E146*$G146,0)","v":0},null,{"$f":"IF(SUM(DN$140:DN$142)>0,$E146*$G146,0)","v":0},null,{"$f":"IF(SUM(DP$140:DP$142)>0,$E146*$G146,0)","v":0},null,{"$f":"IF(SUM(DR$140:DR$142)>0,$E146*$G146,0)","v":0},null,{"$f":"IF(SUM(DT$140:DT$142)>0,$E146*$G146,0)","v":0},null,{"$f":"IF(SUM(DV$140:DV$142)>0,$E146*$G146,0)","v":0},null,{"$f":"IF(SUM(DX$140:DX$142)>0,$E146*$G146,0)","v":0}]
[null,null,2,"Dólmã na cor branca, mangas 3/4, com viés em xadrez tipo \"pied de poule\"",4,"UND",145.69999999999999,null,null,null,{"$f":"IF(SUM(J$140:J$142)>0,$E147*$G147,0)","v":0},null,0,null,0,null,0,null,0,null,0,null,0,null,0,null,0,null,0,null,0,null,0,null,0,null,0,null,0,null,0,null,0,null,0,null,0,null,0,null,0,null,0,null,0,null,0,null,0,null,0,null,0,null,0,null,0,null,0,null,0,null,0,null,0,null,0,null,0,null,0,null,0,null,0,null,0,null,0,null,0,null,0,null,0,null,0,null,0,null,0,null,0,null,0,null,0,null,0,null,0,null,0,null,0,null,0,null,0,null,0,null,0,null,0,null,0,null,0]
[null,null,3,"Camisa/blusa em tecido leve, 100% algodão, na cor branca",4,"UND",129.44999999999999,null,null,null,0,null,0,null,0,null,0,null,0,null,0,null,0,null,0,null,0,null,0,null,0,null,0,null,0,null,0,null,0,null,0,null,0,null,0,null,0,null,0,null,0,null,0,null,0,null,0,null,0,null,0,null,0,null,0,null,0,null,0,null,0,null,0,null,0,null,0,null,0,null,0,null,0,null,0,null,0,null,0,null,0,null,0,null,0,null,0,null,0,null,0,null,0,null,0,null,0,null,0,null,0,null,0,null,0,null,0,null,0,null,0,null,0,null,0,null,0,null,0]
[null,null,4,"Touca em tecido de tela, na cor preta",4,"UND",25.07,null,null,null,0,null,0,null,0,null,0,null,0,null,0,null,0,null,0,null,0,null,0,null,0,null,0,null,0,null,0,null,0,null,0,null,0,null,0,null,0,null,0,null,0,null,0,null,0,null,0,null,0,null,0,null,0,null,0,null,0,null,0,null,0,null,0,null,0,null,0,null,0,null,0,null,0,null,0,null,0,null,0,null,0,null,0,null,0,null,0,null,0,null,0,null,0,null,0,null,0,null,0,null,0,null,0,null,0,null,0,null,0,null,0,null,0,null,0,null,0,null,0]
[null,null,5,"Avental nas cores preto e branco, xadrez tipo \"pied de poule\"",4,"UND",64.08,null,null,null,0,null,0,null,0,null,0,null,0,null,0,null,0,null,0,null,0,null,0,null,0,null,0,null,0,null,0,null,0,null,0,null,0,null,0,null,0,null,0,null,0,null,0,null,0,null,0,null,0,null,0,null,0,null,0,null,0,null,0,null,0,null,0,null,0,null,0,null,0,null,0,null,0,null,0,null,0,null,0,null,0,null,0,null,0,null,0,null,0,null,0,null,0,null,0,null,0,null,0,null,0,null,0,null,0,null,0,null,0,null,0,null,0,null,0,null,0,null,0]
[null,null,6,"Meia preta",4,"PAR",17.329999999999998,null,null,null,{"$f":"IF(SUM(J$140:J$142)>0,$E151*$G151,0)","v":0},null,{"$f":"IF(SUM(L$140:L$142)>0,$E151*$G151,0)","v":0},null,{"$f":"IF(SUM(N$140:N$142)>0,$E151*$G151,0)","v":0},null,{"$f":"IF(SUM(P$140:P$142)>0,$E151*$G151,0)","v":0},null,{"$f":"IF(SUM(R$140:R$142)>0,$E151*$G151,0)","v":0},null,{"$f":"IF(SUM(T$140:T$142)>0,$E151*$G151,0)","v":0},null,{"$f":"IF(SUM(V$140:V$142)>0,$E151*$G151,0)","v":0},null,{"$f":"IF(SUM(X$140:X$142)>0,$E151*$G151,0)","v":0},null,{"$f":"IF(SUM(Z$140:Z$142)>0,$E151*$G151,0)","v":0},null,{"$f":"IF(SUM(AB$140:AB$142)>0,$E151*$G151,0)","v":0},null,{"$f":"IF(SUM(AD$140:AD$142)>0,$E151*$G151,0)","v":0},null,{"$f":"IF(SUM(AF$140:AF$142)>0,$E151*$G151,0)","v":0},null,{"$f":"IF(SUM(AH$140:AH$142)>0,$E151*$G151,0)","v":0},null,{"$f":"IF(SUM(AJ$140:AJ$142)>0,$E151*$G151,0)","v":0},null,{"$f":"IF(SUM(AL$140:AL$142)>0,$E151*$G151,0)","v":0},null,{"$f":"IF(SUM(AN$140:AN$142)>0,$E151*$G151,0)","v":0},null,{"$f":"IF(SUM(AP$140:AP$142)>0,$E151*$G151,0)","v":0},null,{"$f":"IF(SUM(AR$140:AR$142)>0,$E151*$G151,0)","v":0},null,{"$f":"IF(SUM(AT$140:AT$142)>0,$E151*$G151,0)","v":0},null,{"$f":"IF(SUM(AV$140:AV$142)>0,$E151*$G151,0)","v":0},null,{"$f":"IF(SUM(AX$140:AX$142)>0,$E151*$G151,0)","v":0},null,{"$f":"IF(SUM(AZ$140:AZ$142)>0,$E151*$G151,0)","v":0},null,{"$f":"IF(SUM(BB$140:BB$142)>0,$E151*$G151,0)","v":0},null,{"$f":"IF(SUM(BD$140:BD$142)>0,$E151*$G151,0)","v":0},null,{"$f":"IF(SUM(BF$140:BF$142)>0,$E151*$G151,0)","v":0},null,{"$f":"IF(SUM(BH$140:BH$142)>0,$E151*$G151,0)","v":0},null,{"$f":"IF(SUM(BJ$140:BJ$142)>0,$E151*$G151,0)","v":0},null,{"$f":"IF(SUM(BL$140:BL$142)>0,$E151*$G151,0)","v":0},null,{"$f":"IF(SUM(BN$140:BN$142)>0,$E151*$G151,0)","v":0},null,{"$f":"IF(SUM(BP$140:BP$142)>0,$E151*$G151,0)","v":0},null,{"$f":"IF(SUM(BR$140:BR$142)>0,$E151*$G151,0)","v":0},null,{"$f":"IF(SUM(BT$140:BT$142)>0,$E151*$G151,0)","v":0},null,{"$f":"IF(SUM(BV$140:BV$142)>0,$E151*$G151,0)","v":0},null,{"$f":"IF(SUM(BX$140:BX$142)>0,$E151*$G151,0)","v":0},null,{"$f":"IF(SUM(BZ$140:BZ$142)>0,$E151*$G151,0)","v":0},null,{"$f":"IF(SUM(CB$140:CB$142)>0,$E151*$G151,0)","v":0},null,{"$f":"IF(SUM(CD$140:CD$142)>0,$E151*$G151,0)","v":0},null,{"$f":"IF(SUM(CF$140:CF$142)>0,$E151*$G151,0)","v":0},null,{"$f":"IF(SUM(CH$140:CH$142)>0,$E151*$G151,0)","v":0},null,{"$f":"IF(SUM(CJ$140:CJ$142)>0,$E151*$G151,0)","v":0},null,{"$f":"IF(SUM(CL$140:CL$142)>0,$E151*$G151,0)","v":0},null,{"$f":"IF(SUM(CN$140:CN$142)>0,$E151*$G151,0)","v":0},null,{"$f":"IF(SUM(CP$140:CP$142)>0,$E151*$G151,0)","v":0},null,{"$f":"IF(SUM(CR$140:CR$142)>0,$E151*$G151,0)","v":0},null,{"$f":"IF(SUM(CT$140:CT$142)>0,$E151*$G151,0)","v":0},null,{"$f":"IF(SUM(CV$140:CV$142)>0,$E151*$G151,0)","v":0},null,{"$f":"IF(SUM(CX$140:CX$142)>0,$E151*$G151,0)","v":0},null,{"$f":"IF(SUM(CZ$140:CZ$142)>0,$E151*$G151,0)","v":0},null,{"$f":"IF(SUM(DB$140:DB$142)>0,$E151*$G151,0)","v":0},null,{"$f":"IF(SUM(DD$140:DD$142)>0,$E151*$G151,0)","v":0},null,{"$f":"IF(SUM(DF$140:DF$142)>0,$E151*$G151,0)","v":0},null,{"$f":"IF(SUM(DH$140:DH$142)>0,$E151*$G151,0)","v":0},null,{"$f":"IF(SUM(DJ$140:DJ$142)>0,$E151*$G151,0)","v":0},null,{"$f":"IF(SUM(DL$140:DL$142)>0,$E151*$G151,0)","v":0},null,{"$f":"IF(SUM(DN$140:DN$142)>0,$E151*$G151,0)","v":0},null,{"$f":"IF(SUM(DP$140:DP$142)>0,$E151*$G151,0)","v":0},null,{"$f":"IF(SUM(DR$140:DR$142)>0,$E151*$G151,0)","v":0},null,{"$f":"IF(SUM(DT$140:DT$142)>0,$E151*$G151,0)","v":0},null,{"$f":"IF(SUM(DV$140:DV$142)>0,$E151*$G151,0)","v":0},null,0]
[]
[]
[null,null,"CATEGORIAS",null,null,null,"QUANTIDADE"]
[null,null,null,null,null,null,null,null,null,{"$f":"IF($C155=J$3,1,0)","v":0},null,{"$f":"IF($C155=L$3,1,0)","v":0},null,{"$f":"IF($C155=N$3,1,0)","v":0},null,{"$f":"IF($C155=P$3,1,0)","v":0},null,{"$f":"IF($C155=R$3,1,0)","v":0},null,{"$f":"IF($C155=T$3,1,0)","v":0},null,{"$f":"IF($C155=V$3,1,0)","v":0},null,{"$f":"IF($C155=X$3,1,0)","v":0},null,{"$f":"IF($C155=Z$3,1,0)","v":0},null,{"$f":"IF($C155=AB$3,1,0)","v":0},null,{"$f":"IF($C155=AD$3,1,0)","v":0},null,{"$f":"IF($C155=AF$3,1,0)","v":0},null,{"$f":"IF($C155=AH$3,1,0)","v":0},null,{"$f":"IF($C155=AJ$3,1,0)","v":0},null,{"$f":"IF($C155=AL$3,1,0)","v":0},null,{"$f":"IF($C155=AN$3,1,0)","v":0},null,{"$f":"IF($C155=AP$3,1,0)","v":0},null,{"$f":"IF($C155=AR$3,1,0)","v":0},null,{"$f":"IF($C155=AT$3,1,0)","v":0},null,{"$f":"IF($C155=AV$3,1,0)","v":0},null,{"$f":"IF($C155=AX$3,1,0)","v":0},null,{"$f":"IF($C155=AZ$3,1,0)","v":0},null,{"$f":"IF($C155=BB$3,1,0)","v":0},null,{"$f":"IF($C155=BD$3,1,0)","v":0},null,{"$f":"IF($C155=BF$3,1,0)","v":0},null,{"$f":"IF($C155=BH$3,1,0)","v":0},null,{"$f":"IF($C155=BJ$3,1,0)","v":0},null,{"$f":"IF($C155=BL$3,1,0)","v":0},null,{"$f":"IF($C155=BN$3,1,0)","v":0},null,{"$f":"IF($C155=BP$3,1,0)","v":0},null,{"$f":"IF($C155=BR$3,1,0)","v":0},null,{"$f":"IF($C155=BT$3,1,0)","v":0},null,{"$f":"IF($C155=BV$3,1,0)","v":0},null,{"$f":"IF($C155=BX$3,1,0)","v":0},null,{"$f":"IF($C155=BZ$3,1,0)","v":0},null,{"$f":"IF($C155=CB$3,1,0)","v":0},null,{"$f":"IF($C155=CD$3,1,0)","v":0},null,{"$f":"IF($C155=CF$3,1,0)","v":0},null,{"$f":"IF($C155=CH$3,1,0)","v":0},null,{"$f":"IF($C155=CJ$3,1,0)","v":0},null,{"$f":"IF($C155=CL$3,1,0)","v":0},null,{"$f":"IF($C155=CN$3,1,0)","v":0},null,{"$f":"IF($C155=CP$3,1,0)","v":0},null,{"$f":"IF($C155=CR$3,1,0)","v":0},null,{"$f":"IF($C155=CT$3,1,0)","v":0},null,{"$f":"IF($C155=CV$3,1,0)","v":0},null,{"$f":"IF($C155=CX$3,1,0)","v":0},null,{"$f":"IF($C155=CZ$3,1,0)","v":0},null,{"$f":"IF($C155=DB$3,1,0)","v":0},null,{"$f":"IF($C155=DD$3,1,0)","v":0},null,{"$f":"IF($C155=DF$3,1,0)","v":0},null,{"$f":"IF($C155=DH$3,1,0)","v":0},null,{"$f":"IF($C155=DJ$3,1,0)","v":0},null,{"$f":"IF($C155=DL$3,1,0)","v":0},null,{"$f":"IF($C155=DN$3,1,0)","v":0},null,{"$f":"IF($C155=DP$3,1,0)","v":0},null,{"$f":"IF($C155=DR$3,1,0)","v":0},null,{"$f":"IF($C155=DT$3,1,0)","v":0},null,{"$f":"IF($C155=DV$3,1,0)","v":0},null,{"$f":"IF($C155=DX$3,1,0)","v":0}]
[null,null,null,{"$f":"HLOOKUP($C156,'Dados Gerais'!$D$6:$V$11,6,0)","v":{"$error":"#N/A"}},null,null,{"$f":"HLOOKUP($C156,'Dados Gerais'!$D$6:$V$15,10,0)","v":{"$error":"#N/A"}},null,null,{"$f":"IF($C156=J$3,1,0)","v":0},null,0,null,0,null,0,null,0,null,0,null,0,null,0,null,0,null,0,null,0,null,0,null,0,null,0,null,0,null,0,null,0,null,0,null,0,null,0,null,0,null,0,null,0,null,0,null,0,null,0,null,0,null,0,null,0,null,0,null,0,null,0,null,0,null,0,null,0,null,0,null,0,null,0,null,0,null,0,null,0,null,0,null,0,null,0,null,0,null,0,null,0,null,0,null,0,null,0,null,0,null,0,null,0,null,0,null,0,null,0,null,0,null,0,null,0,null,0]
[null,null,null,null,null,null,null,null,null,{"$f":"IF($C157=J$3,1,0)","v":0},null,0,null,0,null,0,null,0,null,0,null,0,null,0,null,0,null,0,null,0,null,0,null,0,null,0,null,0,null,0,null,0,null,0,null,0,null,0,null,0,null,0,null,0,null,0,null,0,null,0,null,0,null,0,null,0,null,0,null,0,null,0,null,0,null,0,null,0,null,0,null,0,null,0,null,0,null,0,null,0,null,0,null,0,null,0,null,0,null,0,null,0,null,0,null,0,null,0,null,0,null,0,null,0,null,0,null,0,null,0,null,0,null,0,null,0,null,0]
[]
[null,null,"ITEM","DESCRIÇÃO","QUANTIDADE POR TRABALHADOR/ANO","UNIDADE","VALOR"]
[null,null,null,null,null,null,null,null,null,null,{"$f":"IF(SUM(J$7:J$9)>0,$E160*$G160,0)","v":0},null,{"$f":"IF(SUM(L$7:L$9)>0,$E160*$G160,0)","v":0},null,{"$f":"IF(SUM(N$7:N$9)>0,$E160*$G160,0)","v":0},null,{"$f":"IF(SUM(P$7:P$9)>0,$E160*$G160,0)","v":0},null,{"$f":"IF(SUM(R$7:R$9)>0,$E160*$G160,0)","v":0},null,{"$f":"IF(SUM(T$7:T$9)>0,$E160*$G160,0)","v":0},null,{"$f":"IF(SUM(V$7:V$9)>0,$E160*$G160,0)","v":0},null,{"$f":"IF(SUM(X$7:X$9)>0,$E160*$G160,0)","v":0},null,{"$f":"IF(SUM(Z$7:Z$9)>0,$E160*$G160,0)","v":0},null,{"$f":"IF(SUM(AB$7:AB$9)>0,$E160*$G160,0)","v":0},null,{"$f":"IF(SUM(AD$7:AD$9)>0,$E160*$G160,0)","v":0},null,{"$f":"IF(SUM(AF$7:AF$9)>0,$E160*$G160,0)","v":0},null,{"$f":"IF(SUM(AH$7:AH$9)>0,$E160*$G160,0)","v":0},null,{"$f":"IF(SUM(AJ$7:AJ$9)>0,$E160*$G160,0)","v":0},null,{"$f":"IF(SUM(AL$7:AL$9)>0,$E160*$G160,0)","v":0},null,{"$f":"IF(SUM(AN$7:AN$9)>0,$E160*$G160,0)","v":0},null,{"$f":"IF(SUM(AP$7:AP$9)>0,$E160*$G160,0)","v":0},null,{"$f":"IF(SUM(AR$7:AR$9)>0,$E160*$G160,0)","v":0},null,{"$f":"IF(SUM(AT$7:AT$9)>0,$E160*$G160,0)","v":0},null,{"$f":"IF(SUM(AV$7:AV$9)>0,$E160*$G160,0)","v":0},null,{"$f":"IF(SUM(AX$7:AX$9)>0,$E160*$G160,0)","v":0},null,{"$f":"IF(SUM(AZ$7:AZ$9)>0,$E160*$G160,0)","v":0},null,{"$f":"IF(SUM(BB$7:BB$9)>0,$E160*$G160,0)","v":0},null,{"$f":"IF(SUM(BD$7:BD$9)>0,$E160*$G160,0)","v":0},null,{"$f":"IF(SUM(BF$7:BF$9)>0,$E160*$G160,0)","v":0},null,{"$f":"IF(SUM(BH$7:BH$9)>0,$E160*$G160,0)","v":0},null,{"$f":"IF(SUM(BJ$7:BJ$9)>0,$E160*$G160,0)","v":0},null,{"$f":"IF(SUM(BL$7:BL$9)>0,$E160*$G160,0)","v":0},null,{"$f":"IF(SUM(BN$7:BN$9)>0,$E160*$G160,0)","v":0},null,{"$f":"IF(SUM(BP$7:BP$9)>0,$E160*$G160,0)","v":0},null,{"$f":"IF(SUM(BR$7:BR$9)>0,$E160*$G160,0)","v":0},null,{"$f":"IF(SUM(BT$7:BT$9)>0,$E160*$G160,0)","v":0},null,{"$f":"IF(SUM(BV$7:BV$9)>0,$E160*$G160,0)","v":0},null,{"$f":"IF(SUM(BX$7:BX$9)>0,$E160*$G160,0)","v":0},null,{"$f":"IF(SUM(BZ$7:BZ$9)>0,$E160*$G160,0)","v":0},null,{"$f":"IF(SUM(CB$7:CB$9)>0,$E160*$G160,0)","v":0},null,{"$f":"IF(SUM(CD$7:CD$9)>0,$E160*$G160,0)","v":0},null,{"$f":"IF(SUM(CF$7:CF$9)>0,$E160*$G160,0)","v":0},null,{"$f":"IF(SUM(CH$7:CH$9)>0,$E160*$G160,0)","v":0},null,{"$f":"IF(SUM(CJ$7:CJ$9)>0,$E160*$G160,0)","v":0},null,{"$f":"IF(SUM(CL$7:CL$9)>0,$E160*$G160,0)","v":0},null,{"$f":"IF(SUM(CN$7:CN$9)>0,$E160*$G160,0)","v":0},null,{"$f":"IF(SUM(CP$7:CP$9)>0,$E160*$G160,0)","v":0},null,{"$f":"IF(SUM(CR$7:CR$9)>0,$E160*$G160,0)","v":0},null,{"$f":"IF(SUM(CT$7:CT$9)>0,$E160*$G160,0)","v":0},null,{"$f":"IF(SUM(CV$7:CV$9)>0,$E160*$G160,0)","v":0},null,{"$f":"IF(SUM(CX$7:CX$9)>0,$E160*$G160,0)","v":0},null,{"$f":"IF(SUM(CZ$7:CZ$9)>0,$E160*$G160,0)","v":0},null,{"$f":"IF(SUM(DB$7:DB$9)>0,$E160*$G160,0)","v":0},null,{"$f":"IF(SUM(DD$7:DD$9)>0,$E160*$G160,0)","v":0},null,{"$f":"IF(SUM(DF$7:DF$9)>0,$E160*$G160,0)","v":0},null,{"$f":"IF(SUM(DH$7:DH$9)>0,$E160*$G160,0)","v":0},null,{"$f":"IF(SUM(DJ$7:DJ$9)>0,$E160*$G160,0)","v":0},null,{"$f":"IF(SUM(DL$7:DL$9)>0,$E160*$G160,0)","v":0},null,{"$f":"IF(SUM(DN$7:DN$9)>0,$E160*$G160,0)","v":0},null,{"$f":"IF(SUM(DP$7:DP$9)>0,$E160*$G160,0)","v":0},null,{"$f":"IF(SUM(DR$7:DR$9)>0,$E160*$G160,0)","v":0},null,{"$f":"IF(SUM(DT$7:DT$9)>0,$E160*$G160,0)","v":0},null,{"$f":"IF(SUM(DV$7:DV$9)>0,$E160*$G160,0)","v":0},null,{"$f":"IF(SUM(DX$7:DX$9)>0,$E160*$G160,0)","v":0}]
[null,null,1,"Calça nas cores preto e branco, xadrez tipo \"pied de poule\", com bolsos embutidos, elástico atrás, com zíper",4,"UND",97.28,null,null,null,{"$f":"IF(SUM(J$155:J$157)>0,$E161*$G161,0)","v":0},null,{"$f":"IF(SUM(L$155:L$157)>0,$E161*$G161,0)","v":0},null,{"$f":"IF(SUM(N$155:N$157)>0,$E161*$G161,0)","v":0},null,{"$f":"IF(SUM(P$155:P$157)>0,$E161*$G161,0)","v":0},null,{"$f":"IF(SUM(R$155:R$157)>0,$E161*$G161,0)","v":0},null,{"$f":"IF(SUM(T$155:T$157)>0,$E161*$G161,0)","v":0},null,{"$f":"IF(SUM(V$155:V$157)>0,$E161*$G161,0)","v":0},null,{"$f":"IF(SUM(X$155:X$157)>0,$E161*$G161,0)","v":0},null,{"$f":"IF(SUM(Z$155:Z$157)>0,$E161*$G161,0)","v":0},null,{"$f":"IF(SUM(AB$155:AB$157)>0,$E161*$G161,0)","v":0},null,{"$f":"IF(SUM(AD$155:AD$157)>0,$E161*$G161,0)","v":0},null,{"$f":"IF(SUM(AF$155:AF$157)>0,$E161*$G161,0)","v":0},null,{"$f":"IF(SUM(AH$155:AH$157)>0,$E161*$G161,0)","v":0},null,{"$f":"IF(SUM(AJ$155:AJ$157)>0,$E161*$G161,0)","v":0},null,{"$f":"IF(SUM(AL$155:AL$157)>0,$E161*$G161,0)","v":0},null,{"$f":"IF(SUM(AN$155:AN$157)>0,$E161*$G161,0)","v":0},null,{"$f":"IF(SUM(AP$155:AP$157)>0,$E161*$G161,0)","v":0},null,{"$f":"IF(SUM(AR$155:AR$157)>0,$E161*$G161,0)","v":0},null,{"$f":"IF(SUM(AT$155:AT$157)>0,$E161*$G161,0)","v":0},null,{"$f":"IF(SUM(AV$155:AV$157)>0,$E161*$G161,0)","v":0},null,{"$f":"IF(SUM(AX$155:AX$157)>0,$E161*$G161,0)","v":0},null,{"$f":"IF(SUM(AZ$155:AZ$157)>0,$E161*$G161,0)","v":0},null,{"$f":"IF(SUM(BB$155:BB$157)>0,$E161*$G161,0)","v":0},null,{"$f":"IF(SUM(BD$155:BD$157)>0,$E161*$G161,0)","v":0},null,{"$f":"IF(SUM(BF$155:BF$157)>0,$E161*$G161,0)","v":0},null,{"$f":"IF(SUM(BH$155:BH$157)>0,$E161*$G161,0)","v":0},null,{"$f":"IF(SUM(BJ$155:BJ$157)>0,$E161*$G161,0)","v":0},null,{"$f":"IF(SUM(BL$155:BL$157)>0,$E161*$G161,0)","v":0},null,{"$f":"IF(SUM(BN$155:BN$157)>0,$E161*$G161,0)","v":0},null,{"$f":"IF(SUM(BP$155:BP$157)>0,$E161*$G161,0)","v":0},null,{"$f":"IF(SUM(BR$155:BR$157)>0,$E161*$G161,0)","v":0},null,{"$f":"IF(SUM(BT$155:BT$157)>0,$E161*$G161,0)","v":0},null,{"$f":"IF(SUM(BV$155:BV$157)>0,$E161*$G161,0)","v":0},null,{"$f":"IF(SUM(BX$155:BX$157)>0,$E161*$G161,0)","v":0},null,{"$f":"IF(SUM(BZ$155:BZ$157)>0,$E161*$G161,0)","v":0},null,{"$f":"IF(SUM(CB$155:CB$157)>0,$E161*$G161,0)","v":0},null,{"$f":"IF(SUM(CD$155:CD$157)>0,$E161*$G161,0)","v":0},null,{"$f":"IF(SUM(CF$155:CF$157)>0,$E161*$G161,0)","v":0},null,{"$f":"IF(SUM(CH$155:CH$157)>0,$E161*$G161,0)","v":0},null,{"$f":"IF(SUM(CJ$155:CJ$157)>0,$E161*$G161,0)","v":0},null,{"$f":"IF(SUM(CL$155:CL$157)>0,$E161*$G161,0)","v":0},null,{"$f":"IF(SUM(CN$155:CN$157)>0,$E161*$G161,0)","v":0},null,{"$f":"IF(SUM(CP$155:CP$157)>0,$E161*$G161,0)","v":0},null,{"$f":"IF(SUM(CR$155:CR$157)>0,$E161*$G161,0)","v":0},null,{"$f":"IF(SUM(CT$155:CT$157)>0,$E161*$G161,0)","v":0},null,{"$f":"IF(SUM(CV$155:CV$157)>0,$E161*$G161,0)","v":0},null,{"$f":"IF(SUM(CX$155:CX$157)>0,$E161*$G161,0)","v":0},null,{"$f":"IF(SUM(CZ$155:CZ$157)>0,$E161*$G161,0)","v":0},null,{"$f":"IF(SUM(DB$155:DB$157)>0,$E161*$G161,0)","v":0},null,{"$f":"IF(SUM(DD$155:DD$157)>0,$E161*$G161,0)","v":0},null,{"$f":"IF(SUM(DF$155:DF$157)>0,$E161*$G161,0)","v":0},null,{"$f":"IF(SUM(DH$155:DH$157)>0,$E161*$G161,0)","v":0},null,{"$f":"IF(SUM(DJ$155:DJ$157)>0,$E161*$G161,0)","v":0},null,{"$f":"IF(SUM(DL$155:DL$157)>0,$E161*$G161,0)","v":0},null,{"$f":"IF(SUM(DN$155:DN$157)>0,$E161*$G161,0)","v":0},null,{"$f":"IF(SUM(DP$155:DP$157)>0,$E161*$G161,0)","v":0},null,{"$f":"IF(SUM(DR$155:DR$157)>0,$E161*$G161,0)","v":0},null,{"$f":"IF(SUM(DT$155:DT$157)>0,$E161*$G161,0)","v":0},null,{"$f":"IF(SUM(DV$155:DV$157)>0,$E161*$G161,0)","v":0},null,{"$f":"IF(SUM(DX$155:DX$157)>0,$E161*$G161,0)","v":0}]
[null,null,2,"Dólmã na cor branca, mangas 3/4, com viés em xadrez tipo \"pied de poule\"",4,"UND",145.69999999999999,null,null,null,{"$f":"IF(SUM(J$155:J$157)>0,$E162*$G162,0)","v":0},null,0,null,0,null,0,null,0,null,0,null,0,null,0,null,0,null,0,null,0,null,0,null,0,null,0,null,0,null,0,null,0,null,0,null,0,null,0,null,0,null,0,null,0,null,0,null,0,null,0,null,0,null,0,null,0,null,0,null,0,null,0,null,0,null,0,null,0,null,0,null,0,null,0,null,0,null,0,null,0,null,0,null,0,null,0,null,0,null,0,null,0,null,0,null,0,null,0,null,0,null,0,null,0,null,0,null,0,null,0,null,0,null,0,null,0,null,0]
[null,null,3,"Camisa/blusa em tecido leve, 100% algodão, na cor branca",4,"UND",129.44999999999999,null,null,null,0,null,0,null,0,null,0,null,0,null,0,null,0,null,0,null,0,null,0,null,0,null,0,null,0,null,0,null,0,null,0,null,0,null,0,null,0,null,0,null,0,null,0,null,0,null,0,null,0,null,0,null,0,null,0,null,0,null,0,null,0,null,0,null,0,null,0,null,0,null,0,null,0,null,0,null,0,null,0,null,0,null,0,null,0,null,0,null,0,null,0,null,0,null,0,null,0,null,0,null,0,null,0,null,0,null,0,null,0,null,0,null,0,null,0,null,0,null,0]
[null,null,4,"Touca em tecido de tela, na cor preta",4,"UND",25.07,null,null,null,0,null,0,null,0,null,0,null,0,null,0,null,0,null,0,null,0,null,0,null,0,null,0,null,0,null,0,null,0,null,0,null,0,null,0,null,0,null,0,null,0,null,0,null,0,null,0,null,0,null,0,null,0,null,0,null,0,null,0,null,0,null,0,null,0,null,0,null,0,null,0,null,0,null,0,null,0,null,0,null,0,null,0,null,0,null,0,null,0,null,0,null,0,null,0,null,0,null,0,null,0,null,0,null,0,null,0,null,0,null,0,null,0,null,0,null,0,null,0]
[null,null,5,"Avental nas cores preto e branco, xadrez tipo \"pied de poule\"",4,"UND",64.08,null,null,null,0,null,0,null,0,null,0,null,0,null,0,null,0,null,0,null,0,null,0,null,0,null,0,null,0,null,0,null,0,null,0,null,0,null,0,null,0,null,0,null,0,null,0,null,0,null,0,null,0,null,0,null,0,null,0,null,0,null,0,null,0,null,0,null,0,null,0,null,0,null,0,null,0,null,0,null,0,null,0,null,0,null,0,null,0,null,0,null,0,null,0,null,0,null,0,null,0,null,0,null,0,null,0,null,0,null,0,null,0,null,0,null,0,null,0,null,0,null,0]
[null,null,6,"Meia preta",4,"PAR",17.329999999999998,null,null,null,{"$f":"IF(SUM(J$155:J$157)>0,$E166*$G166,0)","v":0},null,{"$f":"IF(SUM(L$155:L$157)>0,$E166*$G166,0)","v":0},null,{"$f":"IF(SUM(N$155:N$157)>0,$E166*$G166,0)","v":0},null,{"$f":"IF(SUM(P$155:P$157)>0,$E166*$G166,0)","v":0},null,{"$f":"IF(SUM(R$155:R$157)>0,$E166*$G166,0)","v":0},null,{"$f":"IF(SUM(T$155:T$157)>0,$E166*$G166,0)","v":0},null,{"$f":"IF(SUM(V$155:V$157)>0,$E166*$G166,0)","v":0},null,{"$f":"IF(SUM(X$155:X$157)>0,$E166*$G166,0)","v":0},null,{"$f":"IF(SUM(Z$155:Z$157)>0,$E166*$G166,0)","v":0},null,{"$f":"IF(SUM(AB$155:AB$157)>0,$E166*$G166,0)","v":0},null,{"$f":"IF(SUM(AD$155:AD$157)>0,$E166*$G166,0)","v":0},null,{"$f":"IF(SUM(AF$155:AF$157)>0,$E166*$G166,0)","v":0},null,{"$f":"IF(SUM(AH$155:AH$157)>0,$E166*$G166,0)","v":0},null,{"$f":"IF(SUM(AJ$155:AJ$157)>0,$E166*$G166,0)","v":0},null,{"$f":"IF(SUM(AL$155:AL$157)>0,$E166*$G166,0)","v":0},null,{"$f":"IF(SUM(AN$155:AN$157)>0,$E166*$G166,0)","v":0},null,{"$f":"IF(SUM(AP$155:AP$157)>0,$E166*$G166,0)","v":0},null,{"$f":"IF(SUM(AR$155:AR$157)>0,$E166*$G166,0)","v":0},null,{"$f":"IF(SUM(AT$155:AT$157)>0,$E166*$G166,0)","v":0},null,{"$f":"IF(SUM(AV$155:AV$157)>0,$E166*$G166,0)","v":0},null,{"$f":"IF(SUM(AX$155:AX$157)>0,$E166*$G166,0)","v":0},null,{"$f":"IF(SUM(AZ$155:AZ$157)>0,$E166*$G166,0)","v":0},null,{"$f":"IF(SUM(BB$155:BB$157)>0,$E166*$G166,0)","v":0},null,{"$f":"IF(SUM(BD$155:BD$157)>0,$E166*$G166,0)","v":0},null,{"$f":"IF(SUM(BF$155:BF$157)>0,$E166*$G166,0)","v":0},null,{"$f":"IF(SUM(BH$155:BH$157)>0,$E166*$G166,0)","v":0},null,{"$f":"IF(SUM(BJ$155:BJ$157)>0,$E166*$G166,0)","v":0},null,{"$f":"IF(SUM(BL$155:BL$157)>0,$E166*$G166,0)","v":0},null,{"$f":"IF(SUM(BN$155:BN$157)>0,$E166*$G166,0)","v":0},null,{"$f":"IF(SUM(BP$155:BP$157)>0,$E166*$G166,0)","v":0},null,{"$f":"IF(SUM(BR$155:BR$157)>0,$E166*$G166,0)","v":0},null,{"$f":"IF(SUM(BT$155:BT$157)>0,$E166*$G166,0)","v":0},null,{"$f":"IF(SUM(BV$155:BV$157)>0,$E166*$G166,0)","v":0},null,{"$f":"IF(SUM(BX$155:BX$157)>0,$E166*$G166,0)","v":0},null,{"$f":"IF(SUM(BZ$155:BZ$157)>0,$E166*$G166,0)","v":0},null,{"$f":"IF(SUM(CB$155:CB$157)>0,$E166*$G166,0)","v":0},null,{"$f":"IF(SUM(CD$155:CD$157)>0,$E166*$G166,0)","v":0},null,{"$f":"IF(SUM(CF$155:CF$157)>0,$E166*$G166,0)","v":0},null,{"$f":"IF(SUM(CH$155:CH$157)>0,$E166*$G166,0)","v":0},null,{"$f":"IF(SUM(CJ$155:CJ$157)>0,$E166*$G166,0)","v":0},null,{"$f":"IF(SUM(CL$155:CL$157)>0,$E166*$G166,0)","v":0},null,{"$f":"IF(SUM(CN$155:CN$157)>0,$E166*$G166,0)","v":0},null,{"$f":"IF(SUM(CP$155:CP$157)>0,$E166*$G166,0)","v":0},null,{"$f":"IF(SUM(CR$155:CR$157)>0,$E166*$G166,0)","v":0},null,{"$f":"IF(SUM(CT$155:CT$157)>0,$E166*$G166,0)","v":0},null,{"$f":"IF(SUM(CV$155:CV$157)>0,$E166*$G166,0)","v":0},null,{"$f":"IF(SUM(CX$155:CX$157)>0,$E166*$G166,0)","v":0},null,{"$f":"IF(SUM(CZ$155:CZ$157)>0,$E166*$G166,0)","v":0},null,{"$f":"IF(SUM(DB$155:DB$157)>0,$E166*$G166,0)","v":0},null,{"$f":"IF(SUM(DD$155:DD$157)>0,$E166*$G166,0)","v":0},null,{"$f":"IF(SUM(DF$155:DF$157)>0,$E166*$G166,0)","v":0},null,{"$f":"IF(SUM(DH$155:DH$157)>0,$E166*$G166,0)","v":0},null,{"$f":"IF(SUM(DJ$155:DJ$157)>0,$E166*$G166,0)","v":0},null,{"$f":"IF(SUM(DL$155:DL$157)>0,$E166*$G166,0)","v":0},null,{"$f":"IF(SUM(DN$155:DN$157)>0,$E166*$G166,0)","v":0},null,{"$f":"IF(SUM(DP$155:DP$157)>0,$E166*$G166,0)","v":0},null,{"$f":"IF(SUM(DR$155:DR$157)>0,$E166*$G166,0)","v":0},null,{"$f":"IF(SUM(DT$155:DT$157)>0,$E166*$G166,0)","v":0},null,{"$f":"IF(SUM(DV$155:DV$157)>0,$E166*$G166,0)","v":0},null,0]
[]
[]
[null,null,"CATEGORIAS",null,null,null,"QUANTIDADE"]
[null,null,null,null,null,null,null,null,null,{"$f":"IF($C170=J$3,1,0)","v":0},null,{"$f":"IF($C170=L$3,1,0)","v":0},null,{"$f":"IF($C170=N$3,1,0)","v":0},null,{"$f":"IF($C170=P$3,1,0)","v":0},null,{"$f":"IF($C170=R$3,1,0)","v":0},null,{"$f":"IF($C170=T$3,1,0)","v":0},null,{"$f":"IF($C170=V$3,1,0)","v":0},null,{"$f":"IF($C170=X$3,1,0)","v":0},null,{"$f":"IF($C170=Z$3,1,0)","v":0},null,{"$f":"IF($C170=AB$3,1,0)","v":0},null,{"$f":"IF($C170=AD$3,1,0)","v":0},null,{"$f":"IF($C170=AF$3,1,0)","v":0},null,{"$f":"IF($C170=AH$3,1,0)","v":0},null,{"$f":"IF($C170=AJ$3,1,0)","v":0},null,{"$f":"IF($C170=AL$3,1,0)","v":0},null,{"$f":"IF($C170=AN$3,1,0)","v":0},null,{"$f":"IF($C170=AP$3,1,0)","v":0},null,{"$f":"IF($C170=AR$3,1,0)","v":0},null,{"$f":"IF($C170=AT$3,1,0)","v":0},null,{"$f":"IF($C170=AV$3,1,0)","v":0},null,{"$f":"IF($C170=AX$3,1,0)","v":0},null,{"$f":"IF($C170=AZ$3,1,0)","v":0},null,{"$f":"IF($C170=BB$3,1,0)","v":0},null,{"$f":"IF($C170=BD$3,1,0)","v":0},null,{"$f":"IF($C170=BF$3,1,0)","v":0},null,{"$f":"IF($C170=BH$3,1,0)","v":0},null,{"$f":"IF($C170=BJ$3,1,0)","v":0},null,{"$f":"IF($C170=BL$3,1,0)","v":0},null,{"$f":"IF($C170=BN$3,1,0)","v":0},null,{"$f":"IF($C170=BP$3,1,0)","v":0},null,{"$f":"IF($C170=BR$3,1,0)","v":0},null,{"$f":"IF($C170=BT$3,1,0)","v":0},null,{"$f":"IF($C170=BV$3,1,0)","v":0},null,{"$f":"IF($C170=BX$3,1,0)","v":0},null,{"$f":"IF($C170=BZ$3,1,0)","v":0},null,{"$f":"IF($C170=CB$3,1,0)","v":0},null,{"$f":"IF($C170=CD$3,1,0)","v":0},null,{"$f":"IF($C170=CF$3,1,0)","v":0},null,{"$f":"IF($C170=CH$3,1,0)","v":0},null,{"$f":"IF($C170=CJ$3,1,0)","v":0},null,{"$f":"IF($C170=CL$3,1,0)","v":0},null,{"$f":"IF($C170=CN$3,1,0)","v":0},null,{"$f":"IF($C170=CP$3,1,0)","v":0},null,{"$f":"IF($C170=CR$3,1,0)","v":0},null,{"$f":"IF($C170=CT$3,1,0)","v":0},null,{"$f":"IF($C170=CV$3,1,0)","v":0},null,{"$f":"IF($C170=CX$3,1,0)","v":0},null,{"$f":"IF($C170=CZ$3,1,0)","v":0},null,{"$f":"IF($C170=DB$3,1,0)","v":0},null,{"$f":"IF($C170=DD$3,1,0)","v":0},null,{"$f":"IF($C170=DF$3,1,0)","v":0},null,{"$f":"IF($C170=DH$3,1,0)","v":0},null,{"$f":"IF($C170=DJ$3,1,0)","v":0},null,{"$f":"IF($C170=DL$3,1,0)","v":0},null,{"$f":"IF($C170=DN$3,1,0)","v":0},null,{"$f":"IF($C170=DP$3,1,0)","v":0},null,{"$f":"IF($C170=DR$3,1,0)","v":0},null,{"$f":"IF($C170=DT$3,1,0)","v":0},null,{"$f":"IF($C170=DV$3,1,0)","v":0},null,{"$f":"IF($C170=DX$3,1,0)","v":0}]
[null,null,null,{"$f":"HLOOKUP($C171,'Dados Gerais'!$D$6:$V$11,6,0)","v":{"$error":"#N/A"}},null,null,{"$f":"HLOOKUP($C171,'Dados Gerais'!$D$6:$V$15,10,0)","v":{"$error":"#N/A"}},null,null,{"$f":"IF($C171=J$3,1,0)","v":0},null,0,null,0,null,0,null,0,null,0,null,0,null,0,null,0,null,0,null,0,null,0,null,0,null,0,null,0,null,0,null,0,null,0,null,0,null,0,null,0,null,0,null,0,null,0,null,0,null,0,null,0,null,0,null,0,null,0,null,0,null,0,null,0,null,0,null,0,null,0,null,0,null,0,null,0,null,0,null,0,null,0,null,0,null,0,null,0,null,0,null,0,null,0,null,0,null,0,null,0,null,0,null,0,null,0,null,0,null,0,null,0,null,0,null,0,null,0]
[]
[]
[null,null,"ITEM","DESCRIÇÃO","QUANTIDADE POR TRABALHADOR/ANO","UNIDADE","VALOR"]
[]
[null,null,1,"Calça nas cores preto e branco, xadrez tipo \"pied de poule\", com bolsos embutidos, elástico atrás, com zíper",4,"UND",97.28,null,null,null,{"$f":"IF(SUM(J$170:J$172)>0,$E176*$G176,0)","v":0},null,{"$f":"IF(SUM(L$170:L$172)>0,$E176*$G176,0)","v":0},null,{"$f":"IF(SUM(N$170:N$172)>0,$E176*$G176,0)","v":0},null,{"$f":"IF(SUM(P$170:P$172)>0,$E176*$G176,0)","v":0},null,{"$f":"IF(SUM(R$170:R$172)>0,$E176*$G176,0)","v":0},null,{"$f":"IF(SUM(T$170:T$172)>0,$E176*$G176,0)","v":0},null,{"$f":"IF(SUM(V$170:V$172)>0,$E176*$G176,0)","v":0},null,{"$f":"IF(SUM(X$170:X$172)>0,$E176*$G176,0)","v":0},null,{"$f":"IF(SUM(Z$170:Z$172)>0,$E176*$G176,0)","v":0},null,{"$f":"IF(SUM(AB$170:AB$172)>0,$E176*$G176,0)","v":0},null,{"$f":"IF(SUM(AD$170:AD$172)>0,$E176*$G176,0)","v":0},null,{"$f":"IF(SUM(AF$170:AF$172)>0,$E176*$G176,0)","v":0},null,{"$f":"IF(SUM(AH$170:AH$172)>0,$E176*$G176,0)","v":0},null,{"$f":"IF(SUM(AJ$170:AJ$172)>0,$E176*$G176,0)","v":0},null,{"$f":"IF(SUM(AL$170:AL$172)>0,$E176*$G176,0)","v":0},null,{"$f":"IF(SUM(AN$170:AN$172)>0,$E176*$G176,0)","v":0},null,{"$f":"IF(SUM(AP$170:AP$172)>0,$E176*$G176,0)","v":0},null,{"$f":"IF(SUM(AR$170:AR$172)>0,$E176*$G176,0)","v":0},null,{"$f":"IF(SUM(AT$170:AT$172)>0,$E176*$G176,0)","v":0},null,{"$f":"IF(SUM(AV$170:AV$172)>0,$E176*$G176,0)","v":0},null,{"$f":"IF(SUM(AX$170:AX$172)>0,$E176*$G176,0)","v":0},null,{"$f":"IF(SUM(AZ$170:AZ$172)>0,$E176*$G176,0)","v":0},null,{"$f":"IF(SUM(BB$170:BB$172)>0,$E176*$G176,0)","v":0},null,{"$f":"IF(SUM(BD$170:BD$172)>0,$E176*$G176,0)","v":0},null,{"$f":"IF(SUM(BF$170:BF$172)>0,$E176*$G176,0)","v":0},null,{"$f":"IF(SUM(BH$170:BH$172)>0,$E176*$G176,0)","v":0},null,{"$f":"IF(SUM(BJ$170:BJ$172)>0,$E176*$G176,0)","v":0},null,{"$f":"IF(SUM(BL$170:BL$172)>0,$E176*$G176,0)","v":0},null,{"$f":"IF(SUM(BN$170:BN$172)>0,$E176*$G176,0)","v":0},null,{"$f":"IF(SUM(BP$170:BP$172)>0,$E176*$G176,0)","v":0},null,{"$f":"IF(SUM(BR$170:BR$172)>0,$E176*$G176,0)","v":0},null,{"$f":"IF(SUM(BT$170:BT$172)>0,$E176*$G176,0)","v":0},null,{"$f":"IF(SUM(BV$170:BV$172)>0,$E176*$G176,0)","v":0},null,{"$f":"IF(SUM(BX$170:BX$172)>0,$E176*$G176,0)","v":0},null,{"$f":"IF(SUM(BZ$170:BZ$172)>0,$E176*$G176,0)","v":0},null,{"$f":"IF(SUM(CB$170:CB$172)>0,$E176*$G176,0)","v":0},null,{"$f":"IF(SUM(CD$170:CD$172)>0,$E176*$G176,0)","v":0},null,{"$f":"IF(SUM(CF$170:CF$172)>0,$E176*$G176,0)","v":0},null,{"$f":"IF(SUM(CH$170:CH$172)>0,$E176*$G176,0)","v":0},null,{"$f":"IF(SUM(CJ$170:CJ$172)>0,$E176*$G176,0)","v":0},null,{"$f":"IF(SUM(CL$170:CL$172)>0,$E176*$G176,0)","v":0},null,{"$f":"IF(SUM(CN$170:CN$172)>0,$E176*$G176,0)","v":0},null,{"$f":"IF(SUM(CP$170:CP$172)>0,$E176*$G176,0)","v":0},null,{"$f":"IF(SUM(CR$170:CR$172)>0,$E176*$G176,0)","v":0},null,{"$f":"IF(SUM(CT$170:CT$172)>0,$E176*$G176,0)","v":0},null,{"$f":"IF(SUM(CV$170:CV$172)>0,$E176*$G176,0)","v":0},null,{"$f":"IF(SUM(CX$170:CX$172)>0,$E176*$G176,0)","v":0},null,{"$f":"IF(SUM(CZ$170:CZ$172)>0,$E176*$G176,0)","v":0},null,{"$f":"IF(SUM(DB$170:DB$172)>0,$E176*$G176,0)","v":0},null,{"$f":"IF(SUM(DD$170:DD$172)>0,$E176*$G176,0)","v":0},null,{"$f":"IF(SUM(DF$170:DF$172)>0,$E176*$G176,0)","v":0},null,{"$f":"IF(SUM(DH$170:DH$172)>0,$E176*$G176,0)","v":0},null,{"$f":"IF(SUM(DJ$170:DJ$172)>0,$E176*$G176,0)","v":0},null,{"$f":"IF(SUM(DL$170:DL$172)>0,$E176*$G176,0)","v":0},null,{"$f":"IF(SUM(DN$170:DN$172)>0,$E176*$G176,0)","v":0},null,{"$f":"IF(SUM(DP$170:DP$172)>0,$E176*$G176,0)","v":0},null,{"$f":"IF(SUM(DR$170:DR$172)>0,$E176*$G176,0)","v":0},null,{"$f":"IF(SUM(DT$170:DT$172)>0,$E176*$G176,0)","v":0},null,{"$f":"IF(SUM(DV$170:DV$172)>0,$E176*$G176,0)","v":0},null,{"$f":"IF(SUM(DX$170:DX$172)>0,$E176*$G176,0)","v":0}]
[null,null,2,"Dólmã na cor branca, mangas 3/4, com viés em xadrez tipo \"pied de poule\"",4,"UND",145.69999999999999,null,null,null,{"$f":"IF(SUM(J$170:J$172)>0,$E177*$G177,0)","v":0},null,{"$f":"IF(SUM(L$170:L$172)>0,$E177*$G177,0)","v":0},null,{"$f":"IF(SUM(N$170:N$172)>0,$E177*$G177,0)","v":0},null,{"$f":"IF(SUM(P$170:P$172)>0,$E177*$G177,0)","v":0},null,{"$f":"IF(SUM(R$170:R$172)>0,$E177*$G177,0)","v":0},null,{"$f":"IF(SUM(T$170:T$172)>0,$E177*$G177,0)","v":0},null,{"$f":"IF(SUM(V$170:V$172)>0,$E177*$G177,0)","v":0},null,{"$f":"IF(SUM(X$170:X$172)>0,$E177*$G177,0)","v":0},null,{"$f":"IF(SUM(Z$170:Z$172)>0,$E177*$G177,0)","v":0},null,{"$f":"IF(SUM(AB$170:AB$172)>0,$E177*$G177,0)","v":0},null,{"$f":"IF(SUM(AD$170:AD$172)>0,$E177*$G177,0)","v":0},null,{"$f":"IF(SUM(AF$170:AF$172)>0,$E177*$G177,0)","v":0},null,{"$f":"IF(SUM(AH$170:AH$172)>0,$E177*$G177,0)","v":0},null,{"$f":"IF(SUM(AJ$170:AJ$172)>0,$E177*$G177,0)","v":0},null,{"$f":"IF(SUM(AL$170:AL$172)>0,$E177*$G177,0)","v":0},null,{"$f":"IF(SUM(AN$170:AN$172)>0,$E177*$G177,0)","v":0},null,{"$f":"IF(SUM(AP$170:AP$172)>0,$E177*$G177,0)","v":0},null,{"$f":"IF(SUM(AR$170:AR$172)>0,$E177*$G177,0)","v":0},null,{"$f":"IF(SUM(AT$170:AT$172)>0,$E177*$G177,0)","v":0},null,{"$f":"IF(SUM(AV$170:AV$172)>0,$E177*$G177,0)","v":0},null,{"$f":"IF(SUM(AX$170:AX$172)>0,$E177*$G177,0)","v":0},null,{"$f":"IF(SUM(AZ$170:AZ$172)>0,$E177*$G177,0)","v":0},null,{"$f":"IF(SUM(BB$170:BB$172)>0,$E177*$G177,0)","v":0},null,{"$f":"IF(SUM(BD$170:BD$172)>0,$E177*$G177,0)","v":0},null,{"$f":"IF(SUM(BF$170:BF$172)>0,$E177*$G177,0)","v":0},null,{"$f":"IF(SUM(BH$170:BH$172)>0,$E177*$G177,0)","v":0},null,{"$f":"IF(SUM(BJ$170:BJ$172)>0,$E177*$G177,0)","v":0},null,{"$f":"IF(SUM(BL$170:BL$172)>0,$E177*$G177,0)","v":0},null,{"$f":"IF(SUM(BN$170:BN$172)>0,$E177*$G177,0)","v":0},null,{"$f":"IF(SUM(BP$170:BP$172)>0,$E177*$G177,0)","v":0},null,{"$f":"IF(SUM(BR$170:BR$172)>0,$E177*$G177,0)","v":0},null,{"$f":"IF(SUM(BT$170:BT$172)>0,$E177*$G177,0)","v":0},null,{"$f":"IF(SUM(BV$170:BV$172)>0,$E177*$G177,0)","v":0},null,{"$f":"IF(SUM(BX$170:BX$172)>0,$E177*$G177,0)","v":0},null,{"$f":"IF(SUM(BZ$170:BZ$172)>0,$E177*$G177,0)","v":0},null,{"$f":"IF(SUM(CB$170:CB$172)>0,$E177*$G177,0)","v":0},null,{"$f":"IF(SUM(CD$170:CD$172)>0,$E177*$G177,0)","v":0},null,{"$f":"IF(SUM(CF$170:CF$172)>0,$E177*$G177,0)","v":0},null,{"$f":"IF(SUM(CH$170:CH$172)>0,$E177*$G177,0)","v":0},null,{"$f":"IF(SUM(CJ$170:CJ$172)>0,$E177*$G177,0)","v":0},null,{"$f":"IF(SUM(CL$170:CL$172)>0,$E177*$G177,0)","v":0},null,{"$f":"IF(SUM(CN$170:CN$172)>0,$E177*$G177,0)","v":0},null,{"$f":"IF(SUM(CP$170:CP$172)>0,$E177*$G177,0)","v":0},null,{"$f":"IF(SUM(CR$170:CR$172)>0,$E177*$G177,0)","v":0},null,{"$f":"IF(SUM(CT$170:CT$172)>0,$E177*$G177,0)","v":0},null,{"$f":"IF(SUM(CV$170:CV$172)>0,$E177*$G177,0)","v":0},null,{"$f":"IF(SUM(CX$170:CX$172)>0,$E177*$G177,0)","v":0},null,{"$f":"IF(SUM(CZ$170:CZ$172)>0,$E177*$G177,0)","v":0},null,{"$f":"IF(SUM(DB$170:DB$172)>0,$E177*$G177,0)","v":0},null,{"$f":"IF(SUM(DD$170:DD$172)>0,$E177*$G177,0)","v":0},null,{"$f":"IF(SUM(DF$170:DF$172)>0,$E177*$G177,0)","v":0},null,{"$f":"IF(SUM(DH$170:DH$172)>0,$E177*$G177,0)","v":0},null,{"$f":"IF(SUM(DJ$170:DJ$172)>0,$E177*$G177,0)","v":0},null,{"$f":"IF(SUM(DL$170:DL$172)>0,$E177*$G177,0)","v":0},null,{"$f":"IF(SUM(DN$170:DN$172)>0,$E177*$G177,0)","v":0},null,{"$f":"IF(SUM(DP$170:DP$172)>0,$E177*$G177,0)","v":0},null,{"$f":"IF(SUM(DR$170:DR$172)>0,$E177*$G177,0)","v":0},null,{"$f":"IF(SUM(DT$170:DT$172)>0,$E177*$G177,0)","v":0},null,{"$f":"IF(SUM(DV$170:DV$172)>0,$E177*$G177,0)","v":0},null,{"$f":"IF(SUM(DX$170:DX$172)>0,$E177*$G177,0)","v":0}]
[null,null,3,"Camisa/blusa em tecido leve, 100% algodão, na cor branca",4,"UND",129.44999999999999,null,null,null,0,null,0,null,0,null,0,null,0,null,0,null,0,null,0,null,0,null,0,null,0,null,0,null,0,null,0,null,0,null,0,null,0,null,0,null,0,null,0,null,0,null,0,null,0,null,0,null,0,null,0,null,0,null,0,null,0,null,0,null,0,null,0,null,0,null,0,null,0,null,0,null,0,null,0,null,0,null,0,null,0,null,0,null,0,null,0,null,0,null,0,null,0,null,0,null,0,null,0,null,0,null,0,null,0,null,0,null,0,null,0,null,0,null,0,null,0,null,0]
[null,null,4,"Touca em tecido de tela, na cor preta",4,"UND",25.07,null,null,null,0,null,0,null,0,null,0,null,0,null,0,null,0,null,0,null,0,null,0,null,0,null,0,null,0,null,0,null,0,null,0,null,0,null,0,null,0,null,0,null,0,null,0,null,0,null,0,null,0,null,0,null,0,null,0,null,0,null,0,null,0,null,0,null,0,null,0,null,0,null,0,null,0,null,0,null,0,null,0,null,0,null,0,null,0,null,0,null,0,null,0,null,0,null,0,null,0,null,0,null,0,null,0,null,0,null,0,null,0,null,0,null,0,null,0,null,0,null,0]
[null,null,5,"Avental nas cores preto e branco, xadrez tipo \"pied de poule\"",4,"UND",64.08,null,null,null,{"$f":"IF(SUM(J$170:J$172)>0,$E180*$G180,0)","v":0},null,0,null,0,null,0,null,0,null,0,null,0,null,0,null,0,null,0,null,0,null,0,null,0,null,0,null,0,null,0,null,0,null,0,null,0,null,0,null,0,null,0,null,0,null,0,null,0,null,0,null,0,null,0,null,0,null,0,null,0,null,0,null,0,null,0,null,0,null,0,null,0,null,0,null,0,null,0,null,0,null,0,null,0,null,0,null,0,null,0,null,0,null,0,null,0,null,0,null,0,null,0,null,0,null,0,null,0,null,0,null,0,null,0,null,0,null,0]
[null,null,6,"Meia preta",4,"PAR",17.329999999999998,null,null,null,{"$f":"IF(SUM(J$170:J$172)>0,$E181*$G181,0)","v":0},null,0,null,0,null,0,null,0,null,0,null,0,null,0,null,0,null,0,null,0,null,0,null,0,null,0,null,0,null,0,null,0,null,0,null,0,null,0,null,0,null,0,null,0,null,0,null,0,null,0,null,0,null,0,null,0,null,0,null,0,null,0,null,0,null,0,null,0,null,0,null,0,null,0,null,0,null,0,null,0,null,0,null,0,null,0,null,0,null,0,null,0,null,0,null,0,null,0,null,0,null,0,null,0,null,0,null,0,null,0,null,0,null,0,null,0,null,0]
[]
[]
[null,null,"CATEGORIAS",null,null,null,"QUANTIDADE"]
[null,null,null,null,null,null,null,null,null,{"$f":"IF($C185=J$3,1,0)","v":0},null,{"$f":"IF($C185=L$3,1,0)","v":0},null,{"$f":"IF($C185=N$3,1,0)","v":0},null,{"$f":"IF($C185=P$3,1,0)","v":0},null,{"$f":"IF($C185=R$3,1,0)","v":0},null,{"$f":"IF($C185=T$3,1,0)","v":0},null,{"$f":"IF($C185=V$3,1,0)","v":0},null,{"$f":"IF($C185=X$3,1,0)","v":0},null,{"$f":"IF($C185=Z$3,1,0)","v":0},null,{"$f":"IF($C185=AB$3,1,0)","v":0},null,{"$f":"IF($C185=AD$3,1,0)","v":0},null,{"$f":"IF($C185=AF$3,1,0)","v":0},null,{"$f":"IF($C185=AH$3,1,0)","v":0},null,{"$f":"IF($C185=AJ$3,1,0)","v":0},null,{"$f":"IF($C185=AL$3,1,0)","v":0},null,{"$f":"IF($C185=AN$3,1,0)","v":0},null,{"$f":"IF($C185=AP$3,1,0)","v":0},null,{"$f":"IF($C185=AR$3,1,0)","v":0},null,{"$f":"IF($C185=AT$3,1,0)","v":0},null,{"$f":"IF($C185=AV$3,1,0)","v":0},null,{"$f":"IF($C185=AX$3,1,0)","v":0},null,{"$f":"IF($C185=AZ$3,1,0)","v":0},null,{"$f":"IF($C185=BB$3,1,0)","v":0},null,{"$f":"IF($C185=BD$3,1,0)","v":0},null,{"$f":"IF($C185=BF$3,1,0)","v":0},null,{"$f":"IF($C185=BH$3,1,0)","v":0},null,{"$f":"IF($C185=BJ$3,1,0)","v":0},null,{"$f":"IF($C185=BL$3,1,0)","v":0},null,{"$f":"IF($C185=BN$3,1,0)","v":0},null,{"$f":"IF($C185=BP$3,1,0)","v":0},null,{"$f":"IF($C185=BR$3,1,0)","v":0},null,{"$f":"IF($C185=BT$3,1,0)","v":0},null,{"$f":"IF($C185=BV$3,1,0)","v":0},null,{"$f":"IF($C185=BX$3,1,0)","v":0},null,{"$f":"IF($C185=BZ$3,1,0)","v":0},null,{"$f":"IF($C185=CB$3,1,0)","v":0},null,{"$f":"IF($C185=CD$3,1,0)","v":0},null,{"$f":"IF($C185=CF$3,1,0)","v":0},null,{"$f":"IF($C185=CH$3,1,0)","v":0},null,{"$f":"IF($C185=CJ$3,1,0)","v":0},null,{"$f":"IF($C185=CL$3,1,0)","v":0},null,{"$f":"IF($C185=CN$3,1,0)","v":0},null,{"$f":"IF($C185=CP$3,1,0)","v":0},null,{"$f":"IF($C185=CR$3,1,0)","v":0},null,{"$f":"IF($C185=CT$3,1,0)","v":0},null,{"$f":"IF($C185=CV$3,1,0)","v":0},null,{"$f":"IF($C185=CX$3,1,0)","v":0},null,{"$f":"IF($C185=CZ$3,1,0)","v":0},null,{"$f":"IF($C185=DB$3,1,0)","v":0},null,{"$f":"IF($C185=DD$3,1,0)","v":0},null,{"$f":"IF($C185=DF$3,1,0)","v":0},null,{"$f":"IF($C185=DH$3,1,0)","v":0},null,{"$f":"IF($C185=DJ$3,1,0)","v":0},null,{"$f":"IF($C185=DL$3,1,0)","v":0},null,{"$f":"IF($C185=DN$3,1,0)","v":0},null,{"$f":"IF($C185=DP$3,1,0)","v":0},null,{"$f":"IF($C185=DR$3,1,0)","v":0},null,{"$f":"IF($C185=DT$3,1,0)","v":0},null,{"$f":"IF($C185=DV$3,1,0)","v":0},null,{"$f":"IF($C185=DX$3,1,0)","v":0}]
[null,null,null,{"$f":"HLOOKUP($C186,'Dados Gerais'!$D$6:$V$11,6,0)","v":{"$error":"#N/A"}},null,null,{"$f":"HLOOKUP($C186,'Dados Gerais'!$D$6:$V$15,10,0)","v":{"$error":"#N/A"}},null,null,{"$f":"IF($C186=J$3,1,0)","v":0},null,0,null,0,null,0,null,0,null,0,null,0,null,0,null,0,null,0,null,0,null,0,null,0,null,0,null,0,null,0,null,0,null,0,null,0,null,0,null,0,null,0,null,0,null,0,null,0,null,0,null,0,null,0,null,0,null,0,null,0,null,0,null,0,null,0,null,0,null,0,null,0,null,0,null,0,null,0,null,0,null,0,null,0,null,0,null,0,null,0,null,0,null,0,null,0,null,0,null,0,null,0,null,0,null,0,null,0,null,0,null,0,null,0,null,0,null,0]
[]
[]
[null,null,"ITEM","DESCRIÇÃO","QUANTIDADE POR TRABALHADOR/ANO","UNIDADE","VALOR"]
[]
[null,null,1,"Calça nas cores preto e branco, xadrez tipo \"pied de poule\", com bolsos embutidos, elástico atrás, com zíper",4,"UND",97.28,null,null,null,{"$f":"IF(SUM(J$185:J$187)>0,$E191*$G191,0)","v":0},null,{"$f":"IF(SUM(L$185:L$187)>0,$E191*$G191,0)","v":0},null,{"$f":"IF(SUM(N$185:N$187)>0,$E191*$G191,0)","v":0},null,{"$f":"IF(SUM(P$185:P$187)>0,$E191*$G191,0)","v":0},null,{"$f":"IF(SUM(R$185:R$187)>0,$E191*$G191,0)","v":0},null,{"$f":"IF(SUM(T$185:T$187)>0,$E191*$G191,0)","v":0},null,{"$f":"IF(SUM(V$185:V$187)>0,$E191*$G191,0)","v":0},null,{"$f":"IF(SUM(X$185:X$187)>0,$E191*$G191,0)","v":0},null,{"$f":"IF(SUM(Z$185:Z$187)>0,$E191*$G191,0)","v":0},null,{"$f":"IF(SUM(AB$185:AB$187)>0,$E191*$G191,0)","v":0},null,{"$f":"IF(SUM(AD$185:AD$187)>0,$E191*$G191,0)","v":0},null,{"$f":"IF(SUM(AF$185:AF$187)>0,$E191*$G191,0)","v":0},null,{"$f":"IF(SUM(AH$185:AH$187)>0,$E191*$G191,0)","v":0},null,{"$f":"IF(SUM(AJ$185:AJ$187)>0,$E191*$G191,0)","v":0},null,{"$f":"IF(SUM(AL$185:AL$187)>0,$E191*$G191,0)","v":0},null,{"$f":"IF(SUM(AN$185:AN$187)>0,$E191*$G191,0)","v":0},null,{"$f":"IF(SUM(AP$185:AP$187)>0,$E191*$G191,0)","v":0},null,{"$f":"IF(SUM(AR$185:AR$187)>0,$E191*$G191,0)","v":0},null,{"$f":"IF(SUM(AT$185:AT$187)>0,$E191*$G191,0)","v":0},null,{"$f":"IF(SUM(AV$185:AV$187)>0,$E191*$G191,0)","v":0},null,{"$f":"IF(SUM(AX$185:AX$187)>0,$E191*$G191,0)","v":0},null,{"$f":"IF(SUM(AZ$185:AZ$187)>0,$E191*$G191,0)","v":0},null,{"$f":"IF(SUM(BB$185:BB$187)>0,$E191*$G191,0)","v":0},null,{"$f":"IF(SUM(BD$185:BD$187)>0,$E191*$G191,0)","v":0},null,{"$f":"IF(SUM(BF$185:BF$187)>0,$E191*$G191,0)","v":0},null,{"$f":"IF(SUM(BH$185:BH$187)>0,$E191*$G191,0)","v":0},null,{"$f":"IF(SUM(BJ$185:BJ$187)>0,$E191*$G191,0)","v":0},null,{"$f":"IF(SUM(BL$185:BL$187)>0,$E191*$G191,0)","v":0},null,{"$f":"IF(SUM(BN$185:BN$187)>0,$E191*$G191,0)","v":0},null,{"$f":"IF(SUM(BP$185:BP$187)>0,$E191*$G191,0)","v":0},null,{"$f":"IF(SUM(BR$185:BR$187)>0,$E191*$G191,0)","v":0},null,{"$f":"IF(SUM(BT$185:BT$187)>0,$E191*$G191,0)","v":0},null,{"$f":"IF(SUM(BV$185:BV$187)>0,$E191*$G191,0)","v":0},null,{"$f":"IF(SUM(BX$185:BX$187)>0,$E191*$G191,0)","v":0},null,{"$f":"IF(SUM(BZ$185:BZ$187)>0,$E191*$G191,0)","v":0},null,{"$f":"IF(SUM(CB$185:CB$187)>0,$E191*$G191,0)","v":0},null,{"$f":"IF(SUM(CD$185:CD$187)>0,$E191*$G191,0)","v":0},null,{"$f":"IF(SUM(CF$185:CF$187)>0,$E191*$G191,0)","v":0},null,{"$f":"IF(SUM(CH$185:CH$187)>0,$E191*$G191,0)","v":0},null,{"$f":"IF(SUM(CJ$185:CJ$187)>0,$E191*$G191,0)","v":0},null,{"$f":"IF(SUM(CL$185:CL$187)>0,$E191*$G191,0)","v":0},null,{"$f":"IF(SUM(CN$185:CN$187)>0,$E191*$G191,0)","v":0},null,{"$f":"IF(SUM(CP$185:CP$187)>0,$E191*$G191,0)","v":0},null,{"$f":"IF(SUM(CR$185:CR$187)>0,$E191*$G191,0)","v":0},null,{"$f":"IF(SUM(CT$185:CT$187)>0,$E191*$G191,0)","v":0},null,{"$f":"IF(SUM(CV$185:CV$187)>0,$E191*$G191,0)","v":0},null,{"$f":"IF(SUM(CX$185:CX$187)>0,$E191*$G191,0)","v":0},null,{"$f":"IF(SUM(CZ$185:CZ$187)>0,$E191*$G191,0)","v":0},null,{"$f":"IF(SUM(DB$185:DB$187)>0,$E191*$G191,0)","v":0},null,{"$f":"IF(SUM(DD$185:DD$187)>0,$E191*$G191,0)","v":0},null,{"$f":"IF(SUM(DF$185:DF$187)>0,$E191*$G191,0)","v":0},null,{"$f":"IF(SUM(DH$185:DH$187)>0,$E191*$G191,0)","v":0},null,{"$f":"IF(SUM(DJ$185:DJ$187)>0,$E191*$G191,0)","v":0},null,{"$f":"IF(SUM(DL$185:DL$187)>0,$E191*$G191,0)","v":0},null,{"$f":"IF(SUM(DN$185:DN$187)>0,$E191*$G191,0)","v":0},null,{"$f":"IF(SUM(DP$185:DP$187)>0,$E191*$G191,0)","v":0},null,{"$f":"IF(SUM(DR$185:DR$187)>0,$E191*$G191,0)","v":0},null,{"$f":"IF(SUM(DT$185:DT$187)>0,$E191*$G191,0)","v":0},null,{"$f":"IF(SUM(DV$185:DV$187)>0,$E191*$G191,0)","v":0},null,{"$f":"IF(SUM(DX$185:DX$187)>0,$E191*$G191,0)","v":0}]
[null,null,2,"Dólmã na cor branca, mangas 3/4, com viés em xadrez tipo \"pied de poule\"",4,"UND",145.69999999999999,null,null,null,{"$f":"IF(SUM(J$185:J$187)>0,$E192*$G192,0)","v":0},null,{"$f":"IF(SUM(L$185:L$187)>0,$E192*$G192,0)","v":0},null,{"$f":"IF(SUM(N$185:N$187)>0,$E192*$G192,0)","v":0},null,{"$f":"IF(SUM(P$185:P$187)>0,$E192*$G192,0)","v":0},null,{"$f":"IF(SUM(R$185:R$187)>0,$E192*$G192,0)","v":0},null,{"$f":"IF(SUM(T$185:T$187)>0,$E192*$G192,0)","v":0},null,{"$f":"IF(SUM(V$185:V$187)>0,$E192*$G192,0)","v":0},null,{"$f":"IF(SUM(X$185:X$187)>0,$E192*$G192,0)","v":0},null,{"$f":"IF(SUM(Z$185:Z$187)>0,$E192*$G192,0)","v":0},null,{"$f":"IF(SUM(AB$185:AB$187)>0,$E192*$G192,0)","v":0},null,{"$f":"IF(SUM(AD$185:AD$187)>0,$E192*$G192,0)","v":0},null,{"$f":"IF(SUM(AF$185:AF$187)>0,$E192*$G192,0)","v":0},null,{"$f":"IF(SUM(AH$185:AH$187)>0,$E192*$G192,0)","v":0},null,{"$f":"IF(SUM(AJ$185:AJ$187)>0,$E192*$G192,0)","v":0},null,{"$f":"IF(SUM(AL$185:AL$187)>0,$E192*$G192,0)","v":0},null,{"$f":"IF(SUM(AN$185:AN$187)>0,$E192*$G192,0)","v":0},null,{"$f":"IF(SUM(AP$185:AP$187)>0,$E192*$G192,0)","v":0},null,{"$f":"IF(SUM(AR$185:AR$187)>0,$E192*$G192,0)","v":0},null,{"$f":"IF(SUM(AT$185:AT$187)>0,$E192*$G192,0)","v":0},null,{"$f":"IF(SUM(AV$185:AV$187)>0,$E192*$G192,0)","v":0},null,{"$f":"IF(SUM(AX$185:AX$187)>0,$E192*$G192,0)","v":0},null,{"$f":"IF(SUM(AZ$185:AZ$187)>0,$E192*$G192,0)","v":0},null,{"$f":"IF(SUM(BB$185:BB$187)>0,$E192*$G192,0)","v":0},null,{"$f":"IF(SUM(BD$185:BD$187)>0,$E192*$G192,0)","v":0},null,{"$f":"IF(SUM(BF$185:BF$187)>0,$E192*$G192,0)","v":0},null,{"$f":"IF(SUM(BH$185:BH$187)>0,$E192*$G192,0)","v":0},null,{"$f":"IF(SUM(BJ$185:BJ$187)>0,$E192*$G192,0)","v":0},null,{"$f":"IF(SUM(BL$185:BL$187)>0,$E192*$G192,0)","v":0},null,{"$f":"IF(SUM(BN$185:BN$187)>0,$E192*$G192,0)","v":0},null,{"$f":"IF(SUM(BP$185:BP$187)>0,$E192*$G192,0)","v":0},null,{"$f":"IF(SUM(BR$185:BR$187)>0,$E192*$G192,0)","v":0},null,{"$f":"IF(SUM(BT$185:BT$187)>0,$E192*$G192,0)","v":0},null,{"$f":"IF(SUM(BV$185:BV$187)>0,$E192*$G192,0)","v":0},null,{"$f":"IF(SUM(BX$185:BX$187)>0,$E192*$G192,0)","v":0},null,{"$f":"IF(SUM(BZ$185:BZ$187)>0,$E192*$G192,0)","v":0},null,{"$f":"IF(SUM(CB$185:CB$187)>0,$E192*$G192,0)","v":0},null,{"$f":"IF(SUM(CD$185:CD$187)>0,$E192*$G192,0)","v":0},null,{"$f":"IF(SUM(CF$185:CF$187)>0,$E192*$G192,0)","v":0},null,{"$f":"IF(SUM(CH$185:CH$187)>0,$E192*$G192,0)","v":0},null,{"$f":"IF(SUM(CJ$185:CJ$187)>0,$E192*$G192,0)","v":0},null,{"$f":"IF(SUM(CL$185:CL$187)>0,$E192*$G192,0)","v":0},null,{"$f":"IF(SUM(CN$185:CN$187)>0,$E192*$G192,0)","v":0},null,{"$f":"IF(SUM(CP$185:CP$187)>0,$E192*$G192,0)","v":0},null,{"$f":"IF(SUM(CR$185:CR$187)>0,$E192*$G192,0)","v":0},null,{"$f":"IF(SUM(CT$185:CT$187)>0,$E192*$G192,0)","v":0},null,{"$f":"IF(SUM(CV$185:CV$187)>0,$E192*$G192,0)","v":0},null,{"$f":"IF(SUM(CX$185:CX$187)>0,$E192*$G192,0)","v":0},null,{"$f":"IF(SUM(CZ$185:CZ$187)>0,$E192*$G192,0)","v":0},null,{"$f":"IF(SUM(DB$185:DB$187)>0,$E192*$G192,0)","v":0},null,{"$f":"IF(SUM(DD$185:DD$187)>0,$E192*$G192,0)","v":0},null,{"$f":"IF(SUM(DF$185:DF$187)>0,$E192*$G192,0)","v":0},null,{"$f":"IF(SUM(DH$185:DH$187)>0,$E192*$G192,0)","v":0},null,{"$f":"IF(SUM(DJ$185:DJ$187)>0,$E192*$G192,0)","v":0},null,{"$f":"IF(SUM(DL$185:DL$187)>0,$E192*$G192,0)","v":0},null,{"$f":"IF(SUM(DN$185:DN$187)>0,$E192*$G192,0)","v":0},null,{"$f":"IF(SUM(DP$185:DP$187)>0,$E192*$G192,0)","v":0},null,{"$f":"IF(SUM(DR$185:DR$187)>0,$E192*$G192,0)","v":0},null,{"$f":"IF(SUM(DT$185:DT$187)>0,$E192*$G192,0)","v":0},null,{"$f":"IF(SUM(DV$185:DV$187)>0,$E192*$G192,0)","v":0},null,{"$f":"IF(SUM(DX$185:DX$187)>0,$E192*$G192,0)","v":0}]
[null,null,3,"Camisa/blusa em tecido leve, 100% algodão, na cor branca",4,"UND",129.44999999999999,null,null,null,0,null,0,null,0,null,0,null,0,null,0,null,0,null,0,null,0,null,0,null,0,null,0,null,0,null,0,null,0,null,0,null,0,null,0,null,0,null,0,null,0,null,0,null,0,null,0,null,0,null,0,null,0,null,0,null,0,null,0,null,0,null,0,null,0,null,0,null,0,null,0,null,0,null,0,null,0,null,0,null,0,null,0,null,0,null,0,null,0,null,0,null,0,null,0,null,0,null,0,null,0,null,0,null,0,null,0,null,0,null,0,null,0,null,0,null,0,null,0]
[null,null,4,"Touca em tecido de tela, na cor preta",4,"UND",25.07,null,null,null,0,null,0,null,0,null,0,null,0,null,0,null,0,null,0,null,0,null,0,null,0,null,0,null,0,null,0,null,0,null,0,null,0,null,0,null,0,null,0,null,0,null,0,null,0,null,0,null,0,null,0,null,0,null,0,null,0,null,0,null,0,null,0,null,0,null,0,null,0,null,0,null,0,null,0,null,0,null,0,null,0,null,0,null,0,null,0,null,0,null,0,null,0,null,0,null,0,null,0,null,0,null,0,null,0,null,0,null,0,null,0,null,0,null,0,null,0,null,0]
[null,null,5,"Avental nas cores preto e branco, xadrez tipo \"pied de poule\"",4,"UND",64.08,null,null,null,{"$f":"IF(SUM(J$185:J$187)>0,$E195*$G195,0)","v":0},null,0,null,0,null,0,null,0,null,0,null,0,null,0,null,0,null,0,null,0,null,0,null,0,null,0,null,0,null,0,null,0,null,0,null,0,null,0,null,0,null,0,null,0,null,0,null,0,null,0,null,0,null,0,null,0,null,0,null,0,null,0,null,0,null,0,null,0,null,0,null,0,null,0,null,0,null,0,null,0,null,0,null,0,null,0,null,0,null,0,null,0,null,0,null,0,null,0,null,0,null,0,null,0,null,0,null,0,null,0,null,0,null,0,null,0,null,0]
[null,null,6,"Meia preta",4,"PAR",17.329999999999998,null,null,null,{"$f":"IF(SUM(J$185:J$187)>0,$E196*$G196,0)","v":0},null,0,null,0,null,0,null,0,null,0,null,0,null,0,null,0,null,0,null,0,null,0,null,0,null,0,null,0,null,0,null,0,null,0,null,0,null,0,null,0,null,0,null,0,null,0,null,0,null,0,null,0,null,0,null,0,null,0,null,0,null,0,null,0,null,0,null,0,null,0,null,0,null,0,null,0,null,0,null,0,null,0,null,0,null,0,null,0,null,0,null,0,null,0,null,0,null,0,null,0,null,0,null,0,null,0,null,0,null,0,null,0,null,0,null,0,null,0]
[]
[]
[null,null,"CATEGORIAS",null,null,null,"QUANTIDADE"]
[null,null,null,null,null,null,null,null,null,{"$f":"IF($C200=J$3,1,0)","v":0},null,{"$f":"IF($C200=L$3,1,0)","v":0},null,{"$f":"IF($C200=N$3,1,0)","v":0},null,{"$f":"IF($C200=P$3,1,0)","v":0},null,{"$f":"IF($C200=R$3,1,0)","v":0},null,{"$f":"IF($C200=T$3,1,0)","v":0},null,{"$f":"IF($C200=V$3,1,0)","v":0},null,{"$f":"IF($C200=X$3,1,0)","v":0},null,{"$f":"IF($C200=Z$3,1,0)","v":0},null,{"$f":"IF($C200=AB$3,1,0)","v":0},null,{"$f":"IF($C200=AD$3,1,0)","v":0},null,{"$f":"IF($C200=AF$3,1,0)","v":0},null,{"$f":"IF($C200=AH$3,1,0)","v":0},null,{"$f":"IF($C200=AJ$3,1,0)","v":0},null,{"$f":"IF($C200=AL$3,1,0)","v":0},null,{"$f":"IF($C200=AN$3,1,0)","v":0},null,{"$f":"IF($C200=AP$3,1,0)","v":0},null,{"$f":"IF($C200=AR$3,1,0)","v":0},null,{"$f":"IF($C200=AT$3,1,0)","v":0},null,{"$f":"IF($C200=AV$3,1,0)","v":0},null,{"$f":"IF($C200=AX$3,1,0)","v":0},null,{"$f":"IF($C200=AZ$3,1,0)","v":0},null,{"$f":"IF($C200=BB$3,1,0)","v":0},null,{"$f":"IF($C200=BD$3,1,0)","v":0},null,{"$f":"IF($C200=BF$3,1,0)","v":0},null,{"$f":"IF($C200=BH$3,1,0)","v":0},null,{"$f":"IF($C200=BJ$3,1,0)","v":0},null,{"$f":"IF($C200=BL$3,1,0)","v":0},null,{"$f":"IF($C200=BN$3,1,0)","v":0},null,{"$f":"IF($C200=BP$3,1,0)","v":0},null,{"$f":"IF($C200=BR$3,1,0)","v":0},null,{"$f":"IF($C200=BT$3,1,0)","v":0},null,{"$f":"IF($C200=BV$3,1,0)","v":0},null,{"$f":"IF($C200=BX$3,1,0)","v":0},null,{"$f":"IF($C200=BZ$3,1,0)","v":0},null,{"$f":"IF($C200=CB$3,1,0)","v":0},null,{"$f":"IF($C200=CD$3,1,0)","v":0},null,{"$f":"IF($C200=CF$3,1,0)","v":0},null,{"$f":"IF($C200=CH$3,1,0)","v":0},null,{"$f":"IF($C200=CJ$3,1,0)","v":0},null,{"$f":"IF($C200=CL$3,1,0)","v":0},null,{"$f":"IF($C200=CN$3,1,0)","v":0},null,{"$f":"IF($C200=CP$3,1,0)","v":0},null,{"$f":"IF($C200=CR$3,1,0)","v":0},null,{"$f":"IF($C200=CT$3,1,0)","v":0},null,{"$f":"IF($C200=CV$3,1,0)","v":0},null,{"$f":"IF($C200=CX$3,1,0)","v":0},null,{"$f":"IF($C200=CZ$3,1,0)","v":0},null,{"$f":"IF($C200=DB$3,1,0)","v":0},null,{"$f":"IF($C200=DD$3,1,0)","v":0},null,{"$f":"IF($C200=DF$3,1,0)","v":0},null,{"$f":"IF($C200=DH$3,1,0)","v":0},null,{"$f":"IF($C200=DJ$3,1,0)","v":0},null,{"$f":"IF($C200=DL$3,1,0)","v":0},null,{"$f":"IF($C200=DN$3,1,0)","v":0},null,{"$f":"IF($C200=DP$3,1,0)","v":0},null,{"$f":"IF($C200=DR$3,1,0)","v":0},null,{"$f":"IF($C200=DT$3,1,0)","v":0},null,{"$f":"IF($C200=DV$3,1,0)","v":0},null,{"$f":"IF($C200=DX$3,1,0)","v":0}]
[null,null,null,{"$f":"HLOOKUP($C201,'Dados Gerais'!$D$6:$V$11,6,0)","v":{"$error":"#N/A"}},null,null,{"$f":"HLOOKUP($C201,'Dados Gerais'!$D$6:$V$15,10,0)","v":{"$error":"#N/A"}},null,null,{"$f":"IF($C201=J$3,1,0)","v":0},null,0,null,0,null,0,null,0,null,0,null,0,null,0,null,0,null,0,null,0,null,0,null,0,null,0,null,0,null,0,null,0,null,0,null,0,null,0,null,0,null,0,null,0,null,0,null,0,null,0,null,0,null,0,null,0,null,0,null,0,null,0,null,0,null,0,null,0,null,0,null,0,null,0,null,0,null,0,null,0,null,0,null,0,null,0,null,0,null,0,null,0,null,0,null,0,null,0,null,0,null,0,null,0,null,0,null,0,null,0,null,0,null,0,null,0,null,0]
[]
[]
[null,null,"ITEM","DESCRIÇÃO","QUANTIDADE POR TRABALHADOR/ANO","UNIDADE","VALOR"]
[]
[null,null,1,"Calça nas cores preto e branco, xadrez tipo \"pied de poule\", com bolsos embutidos, elástico atrás, com zíper",4,"UND",97.28,null,null,null,{"$f":"IF(SUM(J$200:J$202)>0,$E206*$G206,0)","v":0},null,{"$f":"IF(SUM(L$200:L$202)>0,$E206*$G206,0)","v":0},null,{"$f":"IF(SUM(N$200:N$202)>0,$E206*$G206,0)","v":0},null,{"$f":"IF(SUM(P$200:P$202)>0,$E206*$G206,0)","v":0},null,{"$f":"IF(SUM(R$200:R$202)>0,$E206*$G206,0)","v":0},null,{"$f":"IF(SUM(T$200:T$202)>0,$E206*$G206,0)","v":0},null,{"$f":"IF(SUM(V$200:V$202)>0,$E206*$G206,0)","v":0},null,{"$f":"IF(SUM(X$200:X$202)>0,$E206*$G206,0)","v":0},null,{"$f":"IF(SUM(Z$200:Z$202)>0,$E206*$G206,0)","v":0},null,{"$f":"IF(SUM(AB$200:AB$202)>0,$E206*$G206,0)","v":0},null,{"$f":"IF(SUM(AD$200:AD$202)>0,$E206*$G206,0)","v":0},null,{"$f":"IF(SUM(AF$200:AF$202)>0,$E206*$G206,0)","v":0},null,{"$f":"IF(SUM(AH$200:AH$202)>0,$E206*$G206,0)","v":0},null,{"$f":"IF(SUM(AJ$200:AJ$202)>0,$E206*$G206,0)","v":0},null,{"$f":"IF(SUM(AL$200:AL$202)>0,$E206*$G206,0)","v":0},null,{"$f":"IF(SUM(AN$200:AN$202)>0,$E206*$G206,0)","v":0},null,{"$f":"IF(SUM(AP$200:AP$202)>0,$E206*$G206,0)","v":0},null,{"$f":"IF(SUM(AR$200:AR$202)>0,$E206*$G206,0)","v":0},null,{"$f":"IF(SUM(AT$200:AT$202)>0,$E206*$G206,0)","v":0},null,{"$f":"IF(SUM(AV$200:AV$202)>0,$E206*$G206,0)","v":0},null,{"$f":"IF(SUM(AX$200:AX$202)>0,$E206*$G206,0)","v":0},null,{"$f":"IF(SUM(AZ$200:AZ$202)>0,$E206*$G206,0)","v":0},null,{"$f":"IF(SUM(BB$200:BB$202)>0,$E206*$G206,0)","v":0},null,{"$f":"IF(SUM(BD$200:BD$202)>0,$E206*$G206,0)","v":0},null,{"$f":"IF(SUM(BF$200:BF$202)>0,$E206*$G206,0)","v":0},null,{"$f":"IF(SUM(BH$200:BH$202)>0,$E206*$G206,0)","v":0},null,{"$f":"IF(SUM(BJ$200:BJ$202)>0,$E206*$G206,0)","v":0},null,{"$f":"IF(SUM(BL$200:BL$202)>0,$E206*$G206,0)","v":0},null,{"$f":"IF(SUM(BN$200:BN$202)>0,$E206*$G206,0)","v":0},null,{"$f":"IF(SUM(BP$200:BP$202)>0,$E206*$G206,0)","v":0},null,{"$f":"IF(SUM(BR$200:BR$202)>0,$E206*$G206,0)","v":0},null,{"$f":"IF(SUM(BT$200:BT$202)>0,$E206*$G206,0)","v":0},null,{"$f":"IF(SUM(BV$200:BV$202)>0,$E206*$G206,0)","v":0},null,{"$f":"IF(SUM(BX$200:BX$202)>0,$E206*$G206,0)","v":0},null,{"$f":"IF(SUM(BZ$200:BZ$202)>0,$E206*$G206,0)","v":0},null,{"$f":"IF(SUM(CB$200:CB$202)>0,$E206*$G206,0)","v":0},null,{"$f":"IF(SUM(CD$200:CD$202)>0,$E206*$G206,0)","v":0},null,{"$f":"IF(SUM(CF$200:CF$202)>0,$E206*$G206,0)","v":0},null,{"$f":"IF(SUM(CH$200:CH$202)>0,$E206*$G206,0)","v":0},null,{"$f":"IF(SUM(CJ$200:CJ$202)>0,$E206*$G206,0)","v":0},null,{"$f":"IF(SUM(CL$200:CL$202)>0,$E206*$G206,0)","v":0},null,{"$f":"IF(SUM(CN$200:CN$202)>0,$E206*$G206,0)","v":0},null,{"$f":"IF(SUM(CP$200:CP$202)>0,$E206*$G206,0)","v":0},null,{"$f":"IF(SUM(CR$200:CR$202)>0,$E206*$G206,0)","v":0},null,{"$f":"IF(SUM(CT$200:CT$202)>0,$E206*$G206,0)","v":0},null,{"$f":"IF(SUM(CV$200:CV$202)>0,$E206*$G206,0)","v":0},null,{"$f":"IF(SUM(CX$200:CX$202)>0,$E206*$G206,0)","v":0},null,{"$f":"IF(SUM(CZ$200:CZ$202)>0,$E206*$G206,0)","v":0},null,{"$f":"IF(SUM(DB$200:DB$202)>0,$E206*$G206,0)","v":0},null,{"$f":"IF(SUM(DD$200:DD$202)>0,$E206*$G206,0)","v":0},null,{"$f":"IF(SUM(DF$200:DF$202)>0,$E206*$G206,0)","v":0},null,{"$f":"IF(SUM(DH$200:DH$202)>0,$E206*$G206,0)","v":0},null,{"$f":"IF(SUM(DJ$200:DJ$202)>0,$E206*$G206,0)","v":0},null,{"$f":"IF(SUM(DL$200:DL$202)>0,$E206*$G206,0)","v":0},null,{"$f":"IF(SUM(DN$200:DN$202)>0,$E206*$G206,0)","v":0},null,{"$f":"IF(SUM(DP$200:DP$202)>0,$E206*$G206,0)","v":0},null,{"$f":"IF(SUM(DR$200:DR$202)>0,$E206*$G206,0)","v":0},null,{"$f":"IF(SUM(DT$200:DT$202)>0,$E206*$G206,0)","v":0},null,{"$f":"IF(SUM(DV$200:DV$202)>0,$E206*$G206,0)","v":0},null,{"$f":"IF(SUM(DX$200:DX$202)>0,$E206*$G206,0)","v":0}]
[null,null,2,"Dólmã na cor branca, mangas 3/4, com viés em xadrez tipo \"pied de poule\"",4,"UND",145.69999999999999,null,null,null,{"$f":"IF(SUM(J$200:J$202)>0,$E207*$G207,0)","v":0},null,{"$f":"IF(SUM(L$200:L$202)>0,$E207*$G207,0)","v":0},null,{"$f":"IF(SUM(N$200:N$202)>0,$E207*$G207,0)","v":0},null,{"$f":"IF(SUM(P$200:P$202)>0,$E207*$G207,0)","v":0},null,{"$f":"IF(SUM(R$200:R$202)>0,$E207*$G207,0)","v":0},null,{"$f":"IF(SUM(T$200:T$202)>0,$E207*$G207,0)","v":0},null,{"$f":"IF(SUM(V$200:V$202)>0,$E207*$G207,0)","v":0},null,{"$f":"IF(SUM(X$200:X$202)>0,$E207*$G207,0)","v":0},null,{"$f":"IF(SUM(Z$200:Z$202)>0,$E207*$G207,0)","v":0},null,{"$f":"IF(SUM(AB$200:AB$202)>0,$E207*$G207,0)","v":0},null,{"$f":"IF(SUM(AD$200:AD$202)>0,$E207*$G207,0)","v":0},null,{"$f":"IF(SUM(AF$200:AF$202)>0,$E207*$G207,0)","v":0},null,{"$f":"IF(SUM(AH$200:AH$202)>0,$E207*$G207,0)","v":0},null,{"$f":"IF(SUM(AJ$200:AJ$202)>0,$E207*$G207,0)","v":0},null,{"$f":"IF(SUM(AL$200:AL$202)>0,$E207*$G207,0)","v":0},null,{"$f":"IF(SUM(AN$200:AN$202)>0,$E207*$G207,0)","v":0},null,{"$f":"IF(SUM(AP$200:AP$202)>0,$E207*$G207,0)","v":0},null,{"$f":"IF(SUM(AR$200:AR$202)>0,$E207*$G207,0)","v":0},null,{"$f":"IF(SUM(AT$200:AT$202)>0,$E207*$G207,0)","v":0},null,{"$f":"IF(SUM(AV$200:AV$202)>0,$E207*$G207,0)","v":0},null,{"$f":"IF(SUM(AX$200:AX$202)>0,$E207*$G207,0)","v":0},null,{"$f":"IF(SUM(AZ$200:AZ$202)>0,$E207*$G207,0)","v":0},null,{"$f":"IF(SUM(BB$200:BB$202)>0,$E207*$G207,0)","v":0},null,{"$f":"IF(SUM(BD$200:BD$202)>0,$E207*$G207,0)","v":0},null,{"$f":"IF(SUM(BF$200:BF$202)>0,$E207*$G207,0)","v":0},null,{"$f":"IF(SUM(BH$200:BH$202)>0,$E207*$G207,0)","v":0},null,{"$f":"IF(SUM(BJ$200:BJ$202)>0,$E207*$G207,0)","v":0},null,{"$f":"IF(SUM(BL$200:BL$202)>0,$E207*$G207,0)","v":0},null,{"$f":"IF(SUM(BN$200:BN$202)>0,$E207*$G207,0)","v":0},null,{"$f":"IF(SUM(BP$200:BP$202)>0,$E207*$G207,0)","v":0},null,{"$f":"IF(SUM(BR$200:BR$202)>0,$E207*$G207,0)","v":0},null,{"$f":"IF(SUM(BT$200:BT$202)>0,$E207*$G207,0)","v":0},null,{"$f":"IF(SUM(BV$200:BV$202)>0,$E207*$G207,0)","v":0},null,{"$f":"IF(SUM(BX$200:BX$202)>0,$E207*$G207,0)","v":0},null,{"$f":"IF(SUM(BZ$200:BZ$202)>0,$E207*$G207,0)","v":0},null,{"$f":"IF(SUM(CB$200:CB$202)>0,$E207*$G207,0)","v":0},null,{"$f":"IF(SUM(CD$200:CD$202)>0,$E207*$G207,0)","v":0},null,{"$f":"IF(SUM(CF$200:CF$202)>0,$E207*$G207,0)","v":0},null,{"$f":"IF(SUM(CH$200:CH$202)>0,$E207*$G207,0)","v":0},null,{"$f":"IF(SUM(CJ$200:CJ$202)>0,$E207*$G207,0)","v":0},null,{"$f":"IF(SUM(CL$200:CL$202)>0,$E207*$G207,0)","v":0},null,{"$f":"IF(SUM(CN$200:CN$202)>0,$E207*$G207,0)","v":0},null,{"$f":"IF(SUM(CP$200:CP$202)>0,$E207*$G207,0)","v":0},null,{"$f":"IF(SUM(CR$200:CR$202)>0,$E207*$G207,0)","v":0},null,{"$f":"IF(SUM(CT$200:CT$202)>0,$E207*$G207,0)","v":0},null,{"$f":"IF(SUM(CV$200:CV$202)>0,$E207*$G207,0)","v":0},null,{"$f":"IF(SUM(CX$200:CX$202)>0,$E207*$G207,0)","v":0},null,{"$f":"IF(SUM(CZ$200:CZ$202)>0,$E207*$G207,0)","v":0},null,{"$f":"IF(SUM(DB$200:DB$202)>0,$E207*$G207,0)","v":0},null,{"$f":"IF(SUM(DD$200:DD$202)>0,$E207*$G207,0)","v":0},null,{"$f":"IF(SUM(DF$200:DF$202)>0,$E207*$G207,0)","v":0},null,{"$f":"IF(SUM(DH$200:DH$202)>0,$E207*$G207,0)","v":0},null,{"$f":"IF(SUM(DJ$200:DJ$202)>0,$E207*$G207,0)","v":0},null,{"$f":"IF(SUM(DL$200:DL$202)>0,$E207*$G207,0)","v":0},null,{"$f":"IF(SUM(DN$200:DN$202)>0,$E207*$G207,0)","v":0},null,{"$f":"IF(SUM(DP$200:DP$202)>0,$E207*$G207,0)","v":0},null,{"$f":"IF(SUM(DR$200:DR$202)>0,$E207*$G207,0)","v":0},null,{"$f":"IF(SUM(DT$200:DT$202)>0,$E207*$G207,0)","v":0},null,{"$f":"IF(SUM(DV$200:DV$202)>0,$E207*$G207,0)","v":0},null,{"$f":"IF(SUM(DX$200:DX$202)>0,$E207*$G207,0)","v":0}]
[null,null,3,"Camisa/blusa em tecido leve, 100% algodão, na cor branca",4,"UND",129.44999999999999,null,null,null,0,null,0,null,0,null,0,null,0,null,0,null,0,null,0,null,0,null,0,null,0,null,0,null,0,null,0,null,0,null,0,null,0,null,0,null,0,null,0,null,0,null,0,null,0,null,0,null,0,null,0,null,0,null,0,null,0,null,0,null,0,null,0,null,0,null,0,null,0,null,0,null,0,null,0,null,0,null,0,null,0,null,0,null,0,null,0,null,0,null,0,null,0,null,0,null,0,null,0,null,0,null,0,null,0,null,0,null,0,null,0,null,0,null,0,null,0,null,0]
[null,null,4,"Touca em tecido de tela, na cor preta",4,"UND",25.07,null,null,null,{"$f":"IF(SUM(J$200:J$202)>0,$E209*$G209,0)","v":0},null,0,null,0,null,0,null,0,null,0,null,0,null,0,null,0,null,0,null,0,null,0,null,0,null,0,null,0,null,0,null,0,null,0,null,0,null,0,null,0,null,0,null,0,null,0,null,0,null,0,null,0,null,0,null,0,null,0,null,0,null,0,null,0,null,0,null,0,null,0,null,0,null,0,null,0,null,0,null,0,null,0,null,0,null,0,null,0,null,0,null,0,null,0,null,0,null,0,null,0,null,0,null,0,null,0,null,0,null,0,null,0,null,0,null,0,null,0]
[null,null,5,"Avental nas cores preto e branco, xadrez tipo \"pied de poule\"",4,"UND",64.08,null,null,null,0,null,0,null,0,null,0,null,0,null,0,null,0,null,0,null,0,null,0,null,0,null,0,null,0,null,0,null,0,null,0,null,0,null,0,null,0,null,0,null,0,null,0,null,0,null,0,null,0,null,0,null,0,null,0,null,0,null,0,null,0,null,0,null,0,null,0,null,0,null,0,null,0,null,0,null,0,null,0,null,0,null,0,null,0,null,0,null,0,null,0,null,0,null,0,null,0,null,0,null,0,null,0,null,0,null,0,null,0,null,0,null,0,null,0,null,0,null,0]
[null,null,6,"Meia preta",4,"PAR",17.329999999999998,null,null,null,{"$f":"IF(SUM(J$200:J$202)>0,$E211*$G211,0)","v":0},null,0,null,0,null,0,null,0,null,0,null,0,null,0,null,0,null,0,null,0,null,0,null,0,null,0,null,0,null,0,null,0,null,0,null,0,null,0,null,0,null,0,null,0,null,0,null,0,null,0,null,0,null,0,null,0,null,0,null,0,null,0,null,0,null,0,null,0,null,0,null,0,null,0,null,0,null,0,null,0,null,0,null,0,null,0,null,0,null,0,null,0,null,0,null,0,null,0,null,0,null,0,null,0,null,0,null,0,null,0,null,0,null,0,null,0,null,0]
[]
[]
[null,null,"CATEGORIAS",null,null,null,"QUANTIDADE"]
[null,null,null,null,null,null,null,null,null,{"$f":"IF($C215=J$3,1,0)","v":0},null,{"$f":"IF($C215=L$3,1,0)","v":0},null,{"$f":"IF($C215=N$3,1,0)","v":0},null,{"$f":"IF($C215=P$3,1,0)","v":0},null,{"$f":"IF($C215=R$3,1,0)","v":0},null,{"$f":"IF($C215=T$3,1,0)","v":0},null,{"$f":"IF($C215=V$3,1,0)","v":0},null,{"$f":"IF($C215=X$3,1,0)","v":0},null,{"$f":"IF($C215=Z$3,1,0)","v":0},null,{"$f":"IF($C215=AB$3,1,0)","v":0},null,{"$f":"IF($C215=AD$3,1,0)","v":0},null,{"$f":"IF($C215=AF$3,1,0)","v":0},null,{"$f":"IF($C215=AH$3,1,0)","v":0},null,{"$f":"IF($C215=AJ$3,1,0)","v":0},null,{"$f":"IF($C215=AL$3,1,0)","v":0},null,{"$f":"IF($C215=AN$3,1,0)","v":0},null,{"$f":"IF($C215=AP$3,1,0)","v":0},null,{"$f":"IF($C215=AR$3,1,0)","v":0},null,{"$f":"IF($C215=AT$3,1,0)","v":0},null,{"$f":"IF($C215=AV$3,1,0)","v":0},null,{"$f":"IF($C215=AX$3,1,0)","v":0},null,{"$f":"IF($C215=AZ$3,1,0)","v":0},null,{"$f":"IF($C215=BB$3,1,0)","v":0},null,{"$f":"IF($C215=BD$3,1,0)","v":0},null,{"$f":"IF($C215=BF$3,1,0)","v":0},null,{"$f":"IF($C215=BH$3,1,0)","v":0},null,{"$f":"IF($C215=BJ$3,1,0)","v":0},null,{"$f":"IF($C215=BL$3,1,0)","v":0},null,{"$f":"IF($C215=BN$3,1,0)","v":0},null,{"$f":"IF($C215=BP$3,1,0)","v":0},null,{"$f":"IF($C215=BR$3,1,0)","v":0},null,{"$f":"IF($C215=BT$3,1,0)","v":0},null,{"$f":"IF($C215=BV$3,1,0)","v":0},null,{"$f":"IF($C215=BX$3,1,0)","v":0},null,{"$f":"IF($C215=BZ$3,1,0)","v":0},null,{"$f":"IF($C215=CB$3,1,0)","v":0},null,{"$f":"IF($C215=CD$3,1,0)","v":0},null,{"$f":"IF($C215=CF$3,1,0)","v":0},null,{"$f":"IF($C215=CH$3,1,0)","v":0},null,{"$f":"IF($C215=CJ$3,1,0)","v":0},null,{"$f":"IF($C215=CL$3,1,0)","v":0},null,{"$f":"IF($C215=CN$3,1,0)","v":0},null,{"$f":"IF($C215=CP$3,1,0)","v":0},null,{"$f":"IF($C215=CR$3,1,0)","v":0},null,{"$f":"IF($C215=CT$3,1,0)","v":0},null,{"$f":"IF($C215=CV$3,1,0)","v":0},null,{"$f":"IF($C215=CX$3,1,0)","v":0},null,{"$f":"IF($C215=CZ$3,1,0)","v":0},null,{"$f":"IF($C215=DB$3,1,0)","v":0},null,{"$f":"IF($C215=DD$3,1,0)","v":0},null,{"$f":"IF($C215=DF$3,1,0)","v":0},null,{"$f":"IF($C215=DH$3,1,0)","v":0},null,{"$f":"IF($C215=DJ$3,1,0)","v":0},null,{"$f":"IF($C215=DL$3,1,0)","v":0},null,{"$f":"IF($C215=DN$3,1,0)","v":0},null,{"$f":"IF($C215=DP$3,1,0)","v":0},null,{"$f":"IF($C215=DR$3,1,0)","v":0},null,{"$f":"IF($C215=DT$3,1,0)","v":0},null,{"$f":"IF($C215=DV$3,1,0)","v":0},null,{"$f":"IF($C215=DX$3,1,0)","v":0}]
[null,null,null,{"$f":"HLOOKUP($C216,'Dados Gerais'!$D$6:$V$11,6,0)","v":{"$error":"#N/A"}},null,null,{"$f":"HLOOKUP($C216,'Dados Gerais'!$D$6:$V$15,10,0)","v":{"$error":"#N/A"}},null,null,{"$f":"IF($C216=J$3,1,0)","v":0},null,0,null,0,null,0,null,0,null,0,null,0,null,0,null,0,null,0,null,0,null,0,null,0,null,0,null,0,null,0,null,0,null,0,null,0,null,0,null,0,null,0,null,0,null,0,null,0,null,0,null,0,null,0,null,0,null,0,null,0,null,0,null,0,null,0,null,0,null,0,null,0,null,0,null,0,null,0,null,0,null,0,null,0,null,0,null,0,null,0,null,0,null,0,null,0,null,0,null,0,null,0,null,0,null,0,null,0,null,0,null,0,null,0,null,0,null,0]
[]
[]
[null,null,"ITEM","DESCRIÇÃO","QUANTIDADE POR TRABALHADOR/ANO","UNIDADE","VALOR"]
[]
[null,null,1,"Calça nas cores preto e branco, xadrez tipo \"pied de poule\", com bolsos embutidos, elástico atrás, com zíper",4,"UND",97.28,null,null,null,{"$f":"IF(SUM(J$215:J$217)>0,$E221*$G221,0)","v":0},null,{"$f":"IF(SUM(L$215:L$217)>0,$E221*$G221,0)","v":0},null,{"$f":"IF(SUM(N$215:N$217)>0,$E221*$G221,0)","v":0},null,{"$f":"IF(SUM(P$215:P$217)>0,$E221*$G221,0)","v":0},null,{"$f":"IF(SUM(R$215:R$217)>0,$E221*$G221,0)","v":0},null,{"$f":"IF(SUM(T$215:T$217)>0,$E221*$G221,0)","v":0},null,{"$f":"IF(SUM(V$215:V$217)>0,$E221*$G221,0)","v":0},null,{"$f":"IF(SUM(X$215:X$217)>0,$E221*$G221,0)","v":0},null,{"$f":"IF(SUM(Z$215:Z$217)>0,$E221*$G221,0)","v":0},null,{"$f":"IF(SUM(AB$215:AB$217)>0,$E221*$G221,0)","v":0},null,{"$f":"IF(SUM(AD$215:AD$217)>0,$E221*$G221,0)","v":0},null,{"$f":"IF(SUM(AF$215:AF$217)>0,$E221*$G221,0)","v":0},null,{"$f":"IF(SUM(AH$215:AH$217)>0,$E221*$G221,0)","v":0},null,{"$f":"IF(SUM(AJ$215:AJ$217)>0,$E221*$G221,0)","v":0},null,{"$f":"IF(SUM(AL$215:AL$217)>0,$E221*$G221,0)","v":0},null,{"$f":"IF(SUM(AN$215:AN$217)>0,$E221*$G221,0)","v":0},null,{"$f":"IF(SUM(AP$215:AP$217)>0,$E221*$G221,0)","v":0},null,{"$f":"IF(SUM(AR$215:AR$217)>0,$E221*$G221,0)","v":0},null,{"$f":"IF(SUM(AT$215:AT$217)>0,$E221*$G221,0)","v":0},null,{"$f":"IF(SUM(AV$215:AV$217)>0,$E221*$G221,0)","v":0},null,{"$f":"IF(SUM(AX$215:AX$217)>0,$E221*$G221,0)","v":0},null,{"$f":"IF(SUM(AZ$215:AZ$217)>0,$E221*$G221,0)","v":0},null,{"$f":"IF(SUM(BB$215:BB$217)>0,$E221*$G221,0)","v":0},null,{"$f":"IF(SUM(BD$215:BD$217)>0,$E221*$G221,0)","v":0},null,{"$f":"IF(SUM(BF$215:BF$217)>0,$E221*$G221,0)","v":0},null,{"$f":"IF(SUM(BH$215:BH$217)>0,$E221*$G221,0)","v":0},null,{"$f":"IF(SUM(BJ$215:BJ$217)>0,$E221*$G221,0)","v":0},null,{"$f":"IF(SUM(BL$215:BL$217)>0,$E221*$G221,0)","v":0},null,{"$f":"IF(SUM(BN$215:BN$217)>0,$E221*$G221,0)","v":0},null,{"$f":"IF(SUM(BP$215:BP$217)>0,$E221*$G221,0)","v":0},null,{"$f":"IF(SUM(BR$215:BR$217)>0,$E221*$G221,0)","v":0},null,{"$f":"IF(SUM(BT$215:BT$217)>0,$E221*$G221,0)","v":0},null,{"$f":"IF(SUM(BV$215:BV$217)>0,$E221*$G221,0)","v":0},null,{"$f":"IF(SUM(BX$215:BX$217)>0,$E221*$G221,0)","v":0},null,{"$f":"IF(SUM(BZ$215:BZ$217)>0,$E221*$G221,0)","v":0},null,{"$f":"IF(SUM(CB$215:CB$217)>0,$E221*$G221,0)","v":0},null,{"$f":"IF(SUM(CD$215:CD$217)>0,$E221*$G221,0)","v":0},null,{"$f":"IF(SUM(CF$215:CF$217)>0,$E221*$G221,0)","v":0},null,{"$f":"IF(SUM(CH$215:CH$217)>0,$E221*$G221,0)","v":0},null,{"$f":"IF(SUM(CJ$215:CJ$217)>0,$E221*$G221,0)","v":0},null,{"$f":"IF(SUM(CL$215:CL$217)>0,$E221*$G221,0)","v":0},null,{"$f":"IF(SUM(CN$215:CN$217)>0,$E221*$G221,0)","v":0},null,{"$f":"IF(SUM(CP$215:CP$217)>0,$E221*$G221,0)","v":0},null,{"$f":"IF(SUM(CR$215:CR$217)>0,$E221*$G221,0)","v":0},null,{"$f":"IF(SUM(CT$215:CT$217)>0,$E221*$G221,0)","v":0},null,{"$f":"IF(SUM(CV$215:CV$217)>0,$E221*$G221,0)","v":0},null,{"$f":"IF(SUM(CX$215:CX$217)>0,$E221*$G221,0)","v":0},null,{"$f":"IF(SUM(CZ$215:CZ$217)>0,$E221*$G221,0)","v":0},null,{"$f":"IF(SUM(DB$215:DB$217)>0,$E221*$G221,0)","v":0},null,{"$f":"IF(SUM(DD$215:DD$217)>0,$E221*$G221,0)","v":0},null,{"$f":"IF(SUM(DF$215:DF$217)>0,$E221*$G221,0)","v":0},null,{"$f":"IF(SUM(DH$215:DH$217)>0,$E221*$G221,0)","v":0},null,{"$f":"IF(SUM(DJ$215:DJ$217)>0,$E221*$G221,0)","v":0},null,{"$f":"IF(SUM(DL$215:DL$217)>0,$E221*$G221,0)","v":0},null,{"$f":"IF(SUM(DN$215:DN$217)>0,$E221*$G221,0)","v":0},null,{"$f":"IF(SUM(DP$215:DP$217)>0,$E221*$G221,0)","v":0},null,{"$f":"IF(SUM(DR$215:DR$217)>0,$E221*$G221,0)","v":0},null,{"$f":"IF(SUM(DT$215:DT$217)>0,$E221*$G221,0)","v":0},null,{"$f":"IF(SUM(DV$215:DV$217)>0,$E221*$G221,0)","v":0},null,{"$f":"IF(SUM(DX$215:DX$217)>0,$E221*$G221,0)","v":0}]
[null,null,2,"Dólmã na cor branca, mangas 3/4, com viés em xadrez tipo \"pied de poule\"",4,"UND",145.69999999999999,null,null,null,{"$f":"IF(SUM(J$215:J$217)>0,$E222*$G222,0)","v":0},null,{"$f":"IF(SUM(L$215:L$217)>0,$E222*$G222,0)","v":0},null,{"$f":"IF(SUM(N$215:N$217)>0,$E222*$G222,0)","v":0},null,{"$f":"IF(SUM(P$215:P$217)>0,$E222*$G222,0)","v":0},null,{"$f":"IF(SUM(R$215:R$217)>0,$E222*$G222,0)","v":0},null,{"$f":"IF(SUM(T$215:T$217)>0,$E222*$G222,0)","v":0},null,{"$f":"IF(SUM(V$215:V$217)>0,$E222*$G222,0)","v":0},null,{"$f":"IF(SUM(X$215:X$217)>0,$E222*$G222,0)","v":0},null,{"$f":"IF(SUM(Z$215:Z$217)>0,$E222*$G222,0)","v":0},null,{"$f":"IF(SUM(AB$215:AB$217)>0,$E222*$G222,0)","v":0},null,{"$f":"IF(SUM(AD$215:AD$217)>0,$E222*$G222,0)","v":0},null,{"$f":"IF(SUM(AF$215:AF$217)>0,$E222*$G222,0)","v":0},null,{"$f":"IF(SUM(AH$215:AH$217)>0,$E222*$G222,0)","v":0},null,{"$f":"IF(SUM(AJ$215:AJ$217)>0,$E222*$G222,0)","v":0},null,{"$f":"IF(SUM(AL$215:AL$217)>0,$E222*$G222,0)","v":0},null,{"$f":"IF(SUM(AN$215:AN$217)>0,$E222*$G222,0)","v":0},null,{"$f":"IF(SUM(AP$215:AP$217)>0,$E222*$G222,0)","v":0},null,{"$f":"IF(SUM(AR$215:AR$217)>0,$E222*$G222,0)","v":0},null,{"$f":"IF(SUM(AT$215:AT$217)>0,$E222*$G222,0)","v":0},null,{"$f":"IF(SUM(AV$215:AV$217)>0,$E222*$G222,0)","v":0},null,{"$f":"IF(SUM(AX$215:AX$217)>0,$E222*$G222,0)","v":0},null,{"$f":"IF(SUM(AZ$215:AZ$217)>0,$E222*$G222,0)","v":0},null,{"$f":"IF(SUM(BB$215:BB$217)>0,$E222*$G222,0)","v":0},null,{"$f":"IF(SUM(BD$215:BD$217)>0,$E222*$G222,0)","v":0},null,{"$f":"IF(SUM(BF$215:BF$217)>0,$E222*$G222,0)","v":0},null,{"$f":"IF(SUM(BH$215:BH$217)>0,$E222*$G222,0)","v":0},null,{"$f":"IF(SUM(BJ$215:BJ$217)>0,$E222*$G222,0)","v":0},null,{"$f":"IF(SUM(BL$215:BL$217)>0,$E222*$G222,0)","v":0},null,{"$f":"IF(SUM(BN$215:BN$217)>0,$E222*$G222,0)","v":0},null,{"$f":"IF(SUM(BP$215:BP$217)>0,$E222*$G222,0)","v":0},null,{"$f":"IF(SUM(BR$215:BR$217)>0,$E222*$G222,0)","v":0},null,{"$f":"IF(SUM(BT$215:BT$217)>0,$E222*$G222,0)","v":0},null,{"$f":"IF(SUM(BV$215:BV$217)>0,$E222*$G222,0)","v":0},null,{"$f":"IF(SUM(BX$215:BX$217)>0,$E222*$G222,0)","v":0},null,{"$f":"IF(SUM(BZ$215:BZ$217)>0,$E222*$G222,0)","v":0},null,{"$f":"IF(SUM(CB$215:CB$217)>0,$E222*$G222,0)","v":0},null,{"$f":"IF(SUM(CD$215:CD$217)>0,$E222*$G222,0)","v":0},null,{"$f":"IF(SUM(CF$215:CF$217)>0,$E222*$G222,0)","v":0},null,{"$f":"IF(SUM(CH$215:CH$217)>0,$E222*$G222,0)","v":0},null,{"$f":"IF(SUM(CJ$215:CJ$217)>0,$E222*$G222,0)","v":0},null,{"$f":"IF(SUM(CL$215:CL$217)>0,$E222*$G222,0)","v":0},null,{"$f":"IF(SUM(CN$215:CN$217)>0,$E222*$G222,0)","v":0},null,{"$f":"IF(SUM(CP$215:CP$217)>0,$E222*$G222,0)","v":0},null,{"$f":"IF(SUM(CR$215:CR$217)>0,$E222*$G222,0)","v":0},null,{"$f":"IF(SUM(CT$215:CT$217)>0,$E222*$G222,0)","v":0},null,{"$f":"IF(SUM(CV$215:CV$217)>0,$E222*$G222,0)","v":0},null,{"$f":"IF(SUM(CX$215:CX$217)>0,$E222*$G222,0)","v":0},null,{"$f":"IF(SUM(CZ$215:CZ$217)>0,$E222*$G222,0)","v":0},null,{"$f":"IF(SUM(DB$215:DB$217)>0,$E222*$G222,0)","v":0},null,{"$f":"IF(SUM(DD$215:DD$217)>0,$E222*$G222,0)","v":0},null,{"$f":"IF(SUM(DF$215:DF$217)>0,$E222*$G222,0)","v":0},null,{"$f":"IF(SUM(DH$215:DH$217)>0,$E222*$G222,0)","v":0},null,{"$f":"IF(SUM(DJ$215:DJ$217)>0,$E222*$G222,0)","v":0},null,{"$f":"IF(SUM(DL$215:DL$217)>0,$E222*$G222,0)","v":0},null,{"$f":"IF(SUM(DN$215:DN$217)>0,$E222*$G222,0)","v":0},null,{"$f":"IF(SUM(DP$215:DP$217)>0,$E222*$G222,0)","v":0},null,{"$f":"IF(SUM(DR$215:DR$217)>0,$E222*$G222,0)","v":0},null,{"$f":"IF(SUM(DT$215:DT$217)>0,$E222*$G222,0)","v":0},null,{"$f":"IF(SUM(DV$215:DV$217)>0,$E222*$G222,0)","v":0},null,{"$f":"IF(SUM(DX$215:DX$217)>0,$E222*$G222,0)","v":0}]
[null,null,3,"Camisa/blusa em tecido leve, 100% algodão, na cor branca",4,"UND",129.44999999999999,null,null,null,{"$f":"IF(SUM(J$215:J$217)>0,$E223*$G223,0)","v":0},null,0,null,0,null,0,null,0,null,0,null,0,null,0,null,0,null,0,null,0,null,0,null,0,null,0,null,0,null,0,null,0,null,0,null,0,null,0,null,0,null,0,null,0,null,0,null,0,null,0,null,0,null,0,null,0,null,0,null,0,null,0,null,0,null,0,null,0,null,0,null,0,null,0,null,0,null,0,null,0,null,0,null,0,null,0,null,0,null,0,null,0,null,0,null,0,null,0,null,0,null,0,null,0,null,0,null,0,null,0,null,0,null,0,null,0,null,0]
[null,null,4,"Touca em tecido de tela, na cor preta",4,"UND",25.07,null,null,null,0,null,0,null,0,null,0,null,0,null,0,null,0,null,0,null,0,null,0,null,0,null,0,null,0,null,0,null,0,null,0,null,0,null,0,null,0,null,0,null,0,null,0,null,0,null,0,null,0,null,0,null,0,null,0,null,0,null,0,null,0,null,0,null,0,null,0,null,0,null,0,null,0,null,0,null,0,null,0,null,0,null,0,null,0,null,0,null,0,null,0,null,0,null,0,null,0,null,0,null,0,null,0,null,0,null,0,null,0,null,0,null,0,null,0,null,0,null,0]
[null,null,5,"Avental nas cores preto e branco, xadrez tipo \"pied de poule\"",4,"UND",64.08,null,null,null,0,null,0,null,0,null,0,null,0,null,0,null,0,null,0,null,0,null,0,null,0,null,0,null,0,null,0,null,0,null,0,null,0,null,0,null,0,null,0,null,0,null,0,null,0,null,0,null,0,null,0,null,0,null,0,null,0,null,0,null,0,null,0,null,0,null,0,null,0,null,0,null,0,null,0,null,0,null,0,null,0,null,0,null,0,null,0,null,0,null,0,null,0,null,0,null,0,null,0,null,0,null,0,null,0,null,0,null,0,null,0,null,0,null,0,null,0,null,0]
[null,null,6,"Meia preta",4,"PAR",17.329999999999998,null,null,null,{"$f":"IF(SUM(J$215:J$217)>0,$E226*$G226,0)","v":0},null,0,null,0,null,0,null,0,null,0,null,0,null,0,null,0,null,0,null,0,null,0,null,0,null,0,null,0,null,0,null,0,null,0,null,0,null,0,null,0,null,0,null,0,null,0,null,0,null,0,null,0,null,0,null,0,null,0,null,0,null,0,null,0,null,0,null,0,null,0,null,0,null,0,null,0,null,0,null,0,null,0,null,0,null,0,null,0,null,0,null,0,null,0,null,0,null,0,null,0,null,0,null,0,null,0,null,0,null,0,null,0,null,0,null,0,null,0]
[]
[]
[null,null,"CATEGORIAS",null,null,null,"QUANTIDADE"]
[null,null,null,null,null,null,null,null,null,{"$f":"IF($C230=J$3,1,0)","v":0},null,{"$f":"IF($C230=L$3,1,0)","v":0},null,{"$f":"IF($C230=N$3,1,0)","v":0},null,{"$f":"IF($C230=P$3,1,0)","v":0},null,{"$f":"IF($C230=R$3,1,0)","v":0},null,{"$f":"IF($C230=T$3,1,0)","v":0},null,{"$f":"IF($C230=V$3,1,0)","v":0},null,{"$f":"IF($C230=X$3,1,0)","v":0},null,{"$f":"IF($C230=Z$3,1,0)","v":0},null,{"$f":"IF($C230=AB$3,1,0)","v":0},null,{"$f":"IF($C230=AD$3,1,0)","v":0},null,{"$f":"IF($C230=AF$3,1,0)","v":0},null,{"$f":"IF($C230=AH$3,1,0)","v":0},null,{"$f":"IF($C230=AJ$3,1,0)","v":0},null,{"$f":"IF($C230=AL$3,1,0)","v":0},null,{"$f":"IF($C230=AN$3,1,0)","v":0},null,{"$f":"IF($C230=AP$3,1,0)","v":0},null,{"$f":"IF($C230=AR$3,1,0)","v":0},null,{"$f":"IF($C230=AT$3,1,0)","v":0},null,{"$f":"IF($C230=AV$3,1,0)","v":0},null,{"$f":"IF($C230=AX$3,1,0)","v":0},null,{"$f":"IF($C230=AZ$3,1,0)","v":0},null,{"$f":"IF($C230=BB$3,1,0)","v":0},null,{"$f":"IF($C230=BD$3,1,0)","v":0},null,{"$f":"IF($C230=BF$3,1,0)","v":0},null,{"$f":"IF($C230=BH$3,1,0)","v":0},null,{"$f":"IF($C230=BJ$3,1,0)","v":0},null,{"$f":"IF($C230=BL$3,1,0)","v":0},null,{"$f":"IF($C230=BN$3,1,0)","v":0},null,{"$f":"IF($C230=BP$3,1,0)","v":0},null,{"$f":"IF($C230=BR$3,1,0)","v":0},null,{"$f":"IF($C230=BT$3,1,0)","v":0},null,{"$f":"IF($C230=BV$3,1,0)","v":0},null,{"$f":"IF($C230=BX$3,1,0)","v":0},null,{"$f":"IF($C230=BZ$3,1,0)","v":0},null,{"$f":"IF($C230=CB$3,1,0)","v":0},null,{"$f":"IF($C230=CD$3,1,0)","v":0},null,{"$f":"IF($C230=CF$3,1,0)","v":0},null,{"$f":"IF($C230=CH$3,1,0)","v":0},null,{"$f":"IF($C230=CJ$3,1,0)","v":0},null,{"$f":"IF($C230=CL$3,1,0)","v":0},null,{"$f":"IF($C230=CN$3,1,0)","v":0},null,{"$f":"IF($C230=CP$3,1,0)","v":0},null,{"$f":"IF($C230=CR$3,1,0)","v":0},null,{"$f":"IF($C230=CT$3,1,0)","v":0},null,{"$f":"IF($C230=CV$3,1,0)","v":0},null,{"$f":"IF($C230=CX$3,1,0)","v":0},null,{"$f":"IF($C230=CZ$3,1,0)","v":0},null,{"$f":"IF($C230=DB$3,1,0)","v":0},null,{"$f":"IF($C230=DD$3,1,0)","v":0},null,{"$f":"IF($C230=DF$3,1,0)","v":0},null,{"$f":"IF($C230=DH$3,1,0)","v":0},null,{"$f":"IF($C230=DJ$3,1,0)","v":0},null,{"$f":"IF($C230=DL$3,1,0)","v":0},null,{"$f":"IF($C230=DN$3,1,0)","v":0},null,{"$f":"IF($C230=DP$3,1,0)","v":0},null,{"$f":"IF($C230=DR$3,1,0)","v":0},null,{"$f":"IF($C230=DT$3,1,0)","v":0},null,{"$f":"IF($C230=DV$3,1,0)","v":0},null,{"$f":"IF($C230=DX$3,1,0)","v":0}]
[null,null,null,{"$f":"HLOOKUP($C231,'Dados Gerais'!$D$6:$V$11,6,0)","v":{"$error":"#N/A"}},null,null,{"$f":"HLOOKUP($C231,'Dados Gerais'!$D$6:$V$15,10,0)","v":{"$error":"#N/A"}},null,null,{"$f":"IF($C231=J$3,1,0)","v":0},null,0,null,0,null,0,null,0,null,0,null,0,null,0,null,0,null,0,null,0,null,0,null,0,null,0,null,0,null,0,null,0,null,0,null,0,null,0,null,0,null,0,null,0,null,0,null,0,null,0,null,0,null,0,null,0,null,0,null,0,null,0,null,0,null,0,null,0,null,0,null,0,null,0,null,0,null,0,null,0,null,0,null,0,null,0,null,0,null,0,null,0,null,0,null,0,null,0,null,0,null,0,null,0,null,0,null,0,null,0,null,0,null,0,null,0,null,0]
[]
[]
[null,null,"ITEM","DESCRIÇÃO","QUANTIDADE POR TRABALHADOR/ANO","UNIDADE","VALOR"]
[]
[null,null,1,"Smoking completo, composto de calça e paletó, em tecido microfibra, na cor preta",4,"UND",815.97,null,null,null,{"$f":"IF(SUM(J$230:J$232)>0,$E236*$G236,0)","v":0},null,{"$f":"IF(SUM(L$230:L$232)>0,$E236*$G236,0)","v":0},null,{"$f":"IF(SUM(N$230:N$232)>0,$E236*$G236,0)","v":0},null,{"$f":"IF(SUM(P$230:P$232)>0,$E236*$G236,0)","v":0},null,{"$f":"IF(SUM(R$230:R$232)>0,$E236*$G236,0)","v":0},null,{"$f":"IF(SUM(T$230:T$232)>0,$E236*$G236,0)","v":0},null,{"$f":"IF(SUM(V$230:V$232)>0,$E236*$G236,0)","v":0},null,{"$f":"IF(SUM(X$230:X$232)>0,$E236*$G236,0)","v":0},null,{"$f":"IF(SUM(Z$230:Z$232)>0,$E236*$G236,0)","v":0},null,{"$f":"IF(SUM(AB$230:AB$232)>0,$E236*$G236,0)","v":0},null,{"$f":"IF(SUM(AD$230:AD$232)>0,$E236*$G236,0)","v":0},null,{"$f":"IF(SUM(AF$230:AF$232)>0,$E236*$G236,0)","v":0},null,{"$f":"IF(SUM(AH$230:AH$232)>0,$E236*$G236,0)","v":0},null,{"$f":"IF(SUM(AJ$230:AJ$232)>0,$E236*$G236,0)","v":0},null,{"$f":"IF(SUM(AL$230:AL$232)>0,$E236*$G236,0)","v":0},null,{"$f":"IF(SUM(AN$230:AN$232)>0,$E236*$G236,0)","v":0},null,{"$f":"IF(SUM(AP$230:AP$232)>0,$E236*$G236,0)","v":0},null,{"$f":"IF(SUM(AR$230:AR$232)>0,$E236*$G236,0)","v":0},null,{"$f":"IF(SUM(AT$230:AT$232)>0,$E236*$G236,0)","v":0},null,{"$f":"IF(SUM(AV$230:AV$232)>0,$E236*$G236,0)","v":0},null,{"$f":"IF(SUM(AX$230:AX$232)>0,$E236*$G236,0)","v":0},null,{"$f":"IF(SUM(AZ$230:AZ$232)>0,$E236*$G236,0)","v":0},null,{"$f":"IF(SUM(BB$230:BB$232)>0,$E236*$G236,0)","v":0},null,{"$f":"IF(SUM(BD$230:BD$232)>0,$E236*$G236,0)","v":0},null,{"$f":"IF(SUM(BF$230:BF$232)>0,$E236*$G236,0)","v":0},null,{"$f":"IF(SUM(BH$230:BH$232)>0,$E236*$G236,0)","v":0},null,{"$f":"IF(SUM(BJ$230:BJ$232)>0,$E236*$G236,0)","v":0},null,{"$f":"IF(SUM(BL$230:BL$232)>0,$E236*$G236,0)","v":0},null,{"$f":"IF(SUM(BN$230:BN$232)>0,$E236*$G236,0)","v":0},null,{"$f":"IF(SUM(BP$230:BP$232)>0,$E236*$G236,0)","v":0},null,{"$f":"IF(SUM(BR$230:BR$232)>0,$E236*$G236,0)","v":0},null,{"$f":"IF(SUM(BT$230:BT$232)>0,$E236*$G236,0)","v":0},null,{"$f":"IF(SUM(BV$230:BV$232)>0,$E236*$G236,0)","v":0},null,{"$f":"IF(SUM(BX$230:BX$232)>0,$E236*$G236,0)","v":0},null,{"$f":"IF(SUM(BZ$230:BZ$232)>0,$E236*$G236,0)","v":0},null,{"$f":"IF(SUM(CB$230:CB$232)>0,$E236*$G236,0)","v":0},null,{"$f":"IF(SUM(CD$230:CD$232)>0,$E236*$G236,0)","v":0},null,{"$f":"IF(SUM(CF$230:CF$232)>0,$E236*$G236,0)","v":0},null,{"$f":"IF(SUM(CH$230:CH$232)>0,$E236*$G236,0)","v":0},null,{"$f":"IF(SUM(CJ$230:CJ$232)>0,$E236*$G236,0)","v":0},null,{"$f":"IF(SUM(CL$230:CL$232)>0,$E236*$G236,0)","v":0},null,{"$f":"IF(SUM(CN$230:CN$232)>0,$E236*$G236,0)","v":0},null,{"$f":"IF(SUM(CP$230:CP$232)>0,$E236*$G236,0)","v":0},null,{"$f":"IF(SUM(CR$230:CR$232)>0,$E236*$G236,0)","v":0},null,{"$f":"IF(SUM(CT$230:CT$232)>0,$E236*$G236,0)","v":0},null,{"$f":"IF(SUM(CV$230:CV$232)>0,$E236*$G236,0)","v":0},null,{"$f":"IF(SUM(CX$230:CX$232)>0,$E236*$G236,0)","v":0},null,{"$f":"IF(SUM(CZ$230:CZ$232)>0,$E236*$G236,0)","v":0},null,{"$f":"IF(SUM(DB$230:DB$232)>0,$E236*$G236,0)","v":0},null,{"$f":"IF(SUM(DD$230:DD$232)>0,$E236*$G236,0)","v":0},null,{"$f":"IF(SUM(DF$230:DF$232)>0,$E236*$G236,0)","v":0},null,{"$f":"IF(SUM(DH$230:DH$232)>0,$E236*$G236,0)","v":0},null,{"$f":"IF(SUM(DJ$230:DJ$232)>0,$E236*$G236,0)","v":0},null,{"$f":"IF(SUM(DL$230:DL$232)>0,$E236*$G236,0)","v":0},null,{"$f":"IF(SUM(DN$230:DN$232)>0,$E236*$G236,0)","v":0},null,{"$f":"IF(SUM(DP$230:DP$232)>0,$E236*$G236,0)","v":0},null,{"$f":"IF(SUM(DR$230:DR$232)>0,$E236*$G236,0)","v":0},null,{"$f":"IF(SUM(DT$230:DT$232)>0,$E236*$G236,0)","v":0},null,{"$f":"IF(SUM(DV$230:DV$232)>0,$E236*$G236,0)","v":0},null,{"$f":"IF(SUM(DX$230:DX$232)>0,$E236*$G236,0)","v":0}]
[null,null,2,"Camisa branca com acabamento em tecido piquê branco nos punhos na gola e na parte da frente",4,"UND",134.63,null,null,null,{"$f":"IF(SUM(J$230:J$232)>0,$E237*$G237,0)","v":0},null,0,null,0,null,0,null,0,null,0,null,0,null,0,null,0,null,0,null,0,null,0,null,0,null,0,null,0,null,0,null,0,null,0,null,0,null,0,null,0,null,0,null,0,null,0,null,0,null,0,null,0,null,0,null,0,null,0,null,0,null,0,null,0,null,0,null,0,null,0,null,0,null,0,null,0,null,0,null,0,null,0,null,0,null,0,null,0,null,0,null,0,null,0,null,0,null,0,null,0,null,0,null,0,null,0,null,0,null,0,null,0,null,0,null,0,null,0]
[null,null,3,"Luva branca",4,"PAR",32.06,null,null,null,0,null,{"$f":"IF(SUM(L$230:L$232)>0,$E238*$G238,0)","v":0},null,0,null,0,null,0,null,0,null,0,null,0,null,0,null,0,null,0,null,0,null,0,null,0,null,0,null,0,null,0,null,0,null,0,null,0,null,0,null,0,null,0,null,0,null,0,null,0,null,0,null,0,null,0,null,0,null,0,null,0,null,0,null,0,null,0,null,0,null,0,null,0,null,0,null,0,null,0,null,0,null,0,null,0,null,0,null,0,null,0,null,0,null,0,null,0,null,0,null,0,null,0,null,0,null,0,null,0,null,0,null,0,null,0,null,0]
[null,null,4,"Cinto de couro preto",2,"UND",54.63,null,null,null,0,null,0,null,0,null,0,null,0,null,0,null,0,null,0,null,0,null,0,null,0,null,0,null,0,null,0,null,0,null,0,null,0,null,0,null,0,null,0,null,0,null,0,null,0,null,0,null,0,null,0,null,0,null,0,null,0,null,0,null,0,null,0,null,0,null,0,null,0,null,0,null,0,null,0,null,0,null,0,null,0,null,0,null,0,null,0,null,0,null,0,null,0,null,0,null,0,null,0,null,0,null,0,null,0,null,0,null,0,null,0,null,0,null,0,null,0,null,0]
[null,null,5,"Gravata preta, estilo borboleta, em cetim bucol, 100% poliester",4,"UND",35.97,null,null,null,0,null,0,null,0,null,0,null,0,null,0,null,0,null,0,null,0,null,0,null,0,null,0,null,0,null,0,null,0,null,0,null,0,null,0,null,0,null,0,null,0,null,0,null,0,null,0,null,0,null,0,null,0,null,0,null,0,null,0,null,0,null,0,null,0,null,0,null,0,null,0,null,0,null,0,null,0,null,0,null,0,null,0,null,0,null,0,null,0,null,0,null,0,null,0,null,0,null,0,null,0,null,0,null,0,null,0,null,0,null,0,null,0,null,0,null,0,null,0]
[null,null,6,"Meia preta",4,"PAR",17.329999999999998,null,null,null,{"$f":"IF(SUM(J$230:J$232)>0,$E241*$G241,0)","v":0},null,{"$f":"IF(SUM(L$230:L$232)>0,$E241*$G241,0)","v":0},null,{"$f":"IF(SUM(N$230:N$232)>0,$E241*$G241,0)","v":0},null,{"$f":"IF(SUM(P$230:P$232)>0,$E241*$G241,0)","v":0},null,{"$f":"IF(SUM(R$230:R$232)>0,$E241*$G241,0)","v":0},null,{"$f":"IF(SUM(T$230:T$232)>0,$E241*$G241,0)","v":0},null,{"$f":"IF(SUM(V$230:V$232)>0,$E241*$G241,0)","v":0},null,{"$f":"IF(SUM(X$230:X$232)>0,$E241*$G241,0)","v":0},null,{"$f":"IF(SUM(Z$230:Z$232)>0,$E241*$G241,0)","v":0},null,{"$f":"IF(SUM(AB$230:AB$232)>0,$E241*$G241,0)","v":0},null,{"$f":"IF(SUM(AD$230:AD$232)>0,$E241*$G241,0)","v":0},null,{"$f":"IF(SUM(AF$230:AF$232)>0,$E241*$G241,0)","v":0},null,{"$f":"IF(SUM(AH$230:AH$232)>0,$E241*$G241,0)","v":0},null,{"$f":"IF(SUM(AJ$230:AJ$232)>0,$E241*$G241,0)","v":0},null,{"$f":"IF(SUM(AL$230:AL$232)>0,$E241*$G241,0)","v":0},null,{"$f":"IF(SUM(AN$230:AN$232)>0,$E241*$G241,0)","v":0},null,{"$f":"IF(SUM(AP$230:AP$232)>0,$E241*$G241,0)","v":0},null,{"$f":"IF(SUM(AR$230:AR$232)>0,$E241*$G241,0)","v":0},null,{"$f":"IF(SUM(AT$230:AT$232)>0,$E241*$G241,0)","v":0},null,{"$f":"IF(SUM(AV$230:AV$232)>0,$E241*$G241,0)","v":0},null,{"$f":"IF(SUM(AX$230:AX$232)>0,$E241*$G241,0)","v":0},null,{"$f":"IF(SUM(AZ$230:AZ$232)>0,$E241*$G241,0)","v":0},null,{"$f":"IF(SUM(BB$230:BB$232)>0,$E241*$G241,0)","v":0},null,{"$f":"IF(SUM(BD$230:BD$232)>0,$E241*$G241,0)","v":0},null,{"$f":"IF(SUM(BF$230:BF$232)>0,$E241*$G241,0)","v":0},null,{"$f":"IF(SUM(BH$230:BH$232)>0,$E241*$G241,0)","v":0},null,{"$f":"IF(SUM(BJ$230:BJ$232)>0,$E241*$G241,0)","v":0},null,{"$f":"IF(SUM(BL$230:BL$232)>0,$E241*$G241,0)","v":0},null,{"$f":"IF(SUM(BN$230:BN$232)>0,$E241*$G241,0)","v":0},null,{"$f":"IF(SUM(BP$230:BP$232)>0,$E241*$G241,0)","v":0},null,{"$f":"IF(SUM(BR$230:BR$232)>0,$E241*$G241,0)","v":0},null,{"$f":"IF(SUM(BT$230:BT$232)>0,$E241*$G241,0)","v":0},null,{"$f":"IF(SUM(BV$230:BV$232)>0,$E241*$G241,0)","v":0},null,{"$f":"IF(SUM(BX$230:BX$232)>0,$E241*$G241,0)","v":0},null,{"$f":"IF(SUM(BZ$230:BZ$232)>0,$E241*$G241,0)","v":0},null,{"$f":"IF(SUM(CB$230:CB$232)>0,$E241*$G241,0)","v":0},null,{"$f":"IF(SUM(CD$230:CD$232)>0,$E241*$G241,0)","v":0},null,{"$f":"IF(SUM(CF$230:CF$232)>0,$E241*$G241,0)","v":0},null,{"$f":"IF(SUM(CH$230:CH$232)>0,$E241*$G241,0)","v":0},null,{"$f":"IF(SUM(CJ$230:CJ$232)>0,$E241*$G241,0)","v":0},null,{"$f":"IF(SUM(CL$230:CL$232)>0,$E241*$G241,0)","v":0},null,{"$f":"IF(SUM(CN$230:CN$232)>0,$E241*$G241,0)","v":0},null,{"$f":"IF(SUM(CP$230:CP$232)>0,$E241*$G241,0)","v":0},null,{"$f":"IF(SUM(CR$230:CR$232)>0,$E241*$G241,0)","v":0},null,{"$f":"IF(SUM(CT$230:CT$232)>0,$E241*$G241,0)","v":0},null,{"$f":"IF(SUM(CV$230:CV$232)>0,$E241*$G241,0)","v":0},null,{"$f":"IF(SUM(CX$230:CX$232)>0,$E241*$G241,0)","v":0},null,{"$f":"IF(SUM(CZ$230:CZ$232)>0,$E241*$G241,0)","v":0},null,{"$f":"IF(SUM(DB$230:DB$232)>0,$E241*$G241,0)","v":0},null,{"$f":"IF(SUM(DD$230:DD$232)>0,$E241*$G241,0)","v":0},null,{"$f":"IF(SUM(DF$230:DF$232)>0,$E241*$G241,0)","v":0},null,{"$f":"IF(SUM(DH$230:DH$232)>0,$E241*$G241,0)","v":0},null,{"$f":"IF(SUM(DJ$230:DJ$232)>0,$E241*$G241,0)","v":0},null,{"$f":"IF(SUM(DL$230:DL$232)>0,$E241*$G241,0)","v":0},null,{"$f":"IF(SUM(DN$230:DN$232)>0,$E241*$G241,0)","v":0},null,{"$f":"IF(SUM(DP$230:DP$232)>0,$E241*$G241,0)","v":0},null,{"$f":"IF(SUM(DR$230:DR$232)>0,$E241*$G241,0)","v":0},null,{"$f":"IF(SUM(DT$230:DT$232)>0,$E241*$G241,0)","v":0},null,{"$f":"IF(SUM(DV$230:DV$232)>0,$E241*$G241,0)","v":0},null,{"$f":"IF(SUM(DX$230:DX$232)>0,$E241*$G241,0)","v":0}]
[]
[]
[null,null,"CATEGORIAS",null,null,null,"QUANTIDADE"]
[null,null,null,null,null,null,null,null,null,{"$f":"IF($C245=J$3,1,0)","v":0},null,{"$f":"IF($C245=L$3,1,0)","v":0},null,{"$f":"IF($C245=N$3,1,0)","v":0},null,{"$f":"IF($C245=P$3,1,0)","v":0},null,{"$f":"IF($C245=R$3,1,0)","v":0},null,{"$f":"IF($C245=T$3,1,0)","v":0},null,{"$f":"IF($C245=V$3,1,0)","v":0},null,{"$f":"IF($C245=X$3,1,0)","v":0},null,{"$f":"IF($C245=Z$3,1,0)","v":0},null,{"$f":"IF($C245=AB$3,1,0)","v":0},null,{"$f":"IF($C245=AD$3,1,0)","v":0},null,{"$f":"IF($C245=AF$3,1,0)","v":0},null,{"$f":"IF($C245=AH$3,1,0)","v":0},null,{"$f":"IF($C245=AJ$3,1,0)","v":0},null,{"$f":"IF($C245=AL$3,1,0)","v":0},null,{"$f":"IF($C245=AN$3,1,0)","v":0},null,{"$f":"IF($C245=AP$3,1,0)","v":0},null,{"$f":"IF($C245=AR$3,1,0)","v":0},null,{"$f":"IF($C245=AT$3,1,0)","v":0},null,{"$f":"IF($C245=AV$3,1,0)","v":0},null,{"$f":"IF($C245=AX$3,1,0)","v":0},null,{"$f":"IF($C245=AZ$3,1,0)","v":0},null,{"$f":"IF($C245=BB$3,1,0)","v":0},null,{"$f":"IF($C245=BD$3,1,0)","v":0},null,{"$f":"IF($C245=BF$3,1,0)","v":0},null,{"$f":"IF($C245=BH$3,1,0)","v":0},null,{"$f":"IF($C245=BJ$3,1,0)","v":0},null,{"$f":"IF($C245=BL$3,1,0)","v":0},null,{"$f":"IF($C245=BN$3,1,0)","v":0},null,{"$f":"IF($C245=BP$3,1,0)","v":0},null,{"$f":"IF($C245=BR$3,1,0)","v":0},null,{"$f":"IF($C245=BT$3,1,0)","v":0},null,{"$f":"IF($C245=BV$3,1,0)","v":0},null,{"$f":"IF($C245=BX$3,1,0)","v":0},null,{"$f":"IF($C245=BZ$3,1,0)","v":0},null,{"$f":"IF($C245=CB$3,1,0)","v":0},null,{"$f":"IF($C245=CD$3,1,0)","v":0},null,{"$f":"IF($C245=CF$3,1,0)","v":0},null,{"$f":"IF($C245=CH$3,1,0)","v":0},null,{"$f":"IF($C245=CJ$3,1,0)","v":0},null,{"$f":"IF($C245=CL$3,1,0)","v":0},null,{"$f":"IF($C245=CN$3,1,0)","v":0},null,{"$f":"IF($C245=CP$3,1,0)","v":0},null,{"$f":"IF($C245=CR$3,1,0)","v":0},null,{"$f":"IF($C245=CT$3,1,0)","v":0},null,{"$f":"IF($C245=CV$3,1,0)","v":0},null,{"$f":"IF($C245=CX$3,1,0)","v":0},null,{"$f":"IF($C245=CZ$3,1,0)","v":0},null,{"$f":"IF($C245=DB$3,1,0)","v":0},null,{"$f":"IF($C245=DD$3,1,0)","v":0},null,{"$f":"IF($C245=DF$3,1,0)","v":0},null,{"$f":"IF($C245=DH$3,1,0)","v":0},null,{"$f":"IF($C245=DJ$3,1,0)","v":0},null,{"$f":"IF($C245=DL$3,1,0)","v":0},null,{"$f":"IF($C245=DN$3,1,0)","v":0},null,{"$f":"IF($C245=DP$3,1,0)","v":0},null,{"$f":"IF($C245=DR$3,1,0)","v":0},null,{"$f":"IF($C245=DT$3,1,0)","v":0},null,{"$f":"IF($C245=DV$3,1,0)","v":0},null,{"$f":"IF($C245=DX$3,1,0)","v":0}]
[null,null,null,{"$f":"HLOOKUP($C246,'Dados Gerais'!$D$6:$V$11,6,0)","v":{"$error":"#N/A"}},null,null,{"$f":"HLOOKUP($C246,'Dados Gerais'!$D$6:$V$15,10,0)","v":{"$error":"#N/A"}},null,null,{"$f":"IF($C246=J$3,1,0)","v":0},null,0,null,0,null,0,null,0,null,0,null,0,null,0,null,0,null,0,null,0,null,0,null,0,null,0,null,0,null,0,null,0,null,0,null,0,null,0,null,0,null,0,null,0,null,0,null,0,null,0,null,0,null,0,null,0,null,0,null,0,null,0,null,0,null,0,null,0,null,0,null,0,null,0,null,0,null,0,null,0,null,0,null,0,null,0,null,0,null,0,null,0,null,0,null,0,null,0,null,0,null,0,null,0,null,0,null,0,null,0,null,0,null,0,null,0,null,0]
[]
[]
[null,null,"ITEM","DESCRIÇÃO","QUANTIDADE POR TRABALHADOR/ANO","UNIDADE","VALOR"]
[]
[null,null,1,"Smoking completo, composto de calça e paletó, em tecido microfibra, na cor preta",4,"UND",815.97,null,null,null,{"$f":"IF(SUM(J$245:J$247)>0,$E251*$G251,0)","v":0},null,{"$f":"IF(SUM(L$245:L$247)>0,$E251*$G251,0)","v":0},null,{"$f":"IF(SUM(N$245:N$247)>0,$E251*$G251,0)","v":0},null,{"$f":"IF(SUM(P$245:P$247)>0,$E251*$G251,0)","v":0},null,{"$f":"IF(SUM(R$245:R$247)>0,$E251*$G251,0)","v":0},null,{"$f":"IF(SUM(T$245:T$247)>0,$E251*$G251,0)","v":0},null,{"$f":"IF(SUM(V$245:V$247)>0,$E251*$G251,0)","v":0},null,{"$f":"IF(SUM(X$245:X$247)>0,$E251*$G251,0)","v":0},null,{"$f":"IF(SUM(Z$245:Z$247)>0,$E251*$G251,0)","v":0},null,{"$f":"IF(SUM(AB$245:AB$247)>0,$E251*$G251,0)","v":0},null,{"$f":"IF(SUM(AD$245:AD$247)>0,$E251*$G251,0)","v":0},null,{"$f":"IF(SUM(AF$245:AF$247)>0,$E251*$G251,0)","v":0},null,{"$f":"IF(SUM(AH$245:AH$247)>0,$E251*$G251,0)","v":0},null,{"$f":"IF(SUM(AJ$245:AJ$247)>0,$E251*$G251,0)","v":0},null,{"$f":"IF(SUM(AL$245:AL$247)>0,$E251*$G251,0)","v":0},null,{"$f":"IF(SUM(AN$245:AN$247)>0,$E251*$G251,0)","v":0},null,{"$f":"IF(SUM(AP$245:AP$247)>0,$E251*$G251,0)","v":0},null,{"$f":"IF(SUM(AR$245:AR$247)>0,$E251*$G251,0)","v":0},null,{"$f":"IF(SUM(AT$245:AT$247)>0,$E251*$G251,0)","v":0},null,{"$f":"IF(SUM(AV$245:AV$247)>0,$E251*$G251,0)","v":0},null,{"$f":"IF(SUM(AX$245:AX$247)>0,$E251*$G251,0)","v":0},null,{"$f":"IF(SUM(AZ$245:AZ$247)>0,$E251*$G251,0)","v":0},null,{"$f":"IF(SUM(BB$245:BB$247)>0,$E251*$G251,0)","v":0},null,{"$f":"IF(SUM(BD$245:BD$247)>0,$E251*$G251,0)","v":0},null,{"$f":"IF(SUM(BF$245:BF$247)>0,$E251*$G251,0)","v":0},null,{"$f":"IF(SUM(BH$245:BH$247)>0,$E251*$G251,0)","v":0},null,{"$f":"IF(SUM(BJ$245:BJ$247)>0,$E251*$G251,0)","v":0},null,{"$f":"IF(SUM(BL$245:BL$247)>0,$E251*$G251,0)","v":0},null,{"$f":"IF(SUM(BN$245:BN$247)>0,$E251*$G251,0)","v":0},null,{"$f":"IF(SUM(BP$245:BP$247)>0,$E251*$G251,0)","v":0},null,{"$f":"IF(SUM(BR$245:BR$247)>0,$E251*$G251,0)","v":0},null,{"$f":"IF(SUM(BT$245:BT$247)>0,$E251*$G251,0)","v":0},null,{"$f":"IF(SUM(BV$245:BV$247)>0,$E251*$G251,0)","v":0},null,{"$f":"IF(SUM(BX$245:BX$247)>0,$E251*$G251,0)","v":0},null,{"$f":"IF(SUM(BZ$245:BZ$247)>0,$E251*$G251,0)","v":0},null,{"$f":"IF(SUM(CB$245:CB$247)>0,$E251*$G251,0)","v":0},null,{"$f":"IF(SUM(CD$245:CD$247)>0,$E251*$G251,0)","v":0},null,{"$f":"IF(SUM(CF$245:CF$247)>0,$E251*$G251,0)","v":0},null,{"$f":"IF(SUM(CH$245:CH$247)>0,$E251*$G251,0)","v":0},null,{"$f":"IF(SUM(CJ$245:CJ$247)>0,$E251*$G251,0)","v":0},null,{"$f":"IF(SUM(CL$245:CL$247)>0,$E251*$G251,0)","v":0},null,{"$f":"IF(SUM(CN$245:CN$247)>0,$E251*$G251,0)","v":0},null,{"$f":"IF(SUM(CP$245:CP$247)>0,$E251*$G251,0)","v":0},null,{"$f":"IF(SUM(CR$245:CR$247)>0,$E251*$G251,0)","v":0},null,{"$f":"IF(SUM(CT$245:CT$247)>0,$E251*$G251,0)","v":0},null,{"$f":"IF(SUM(CV$245:CV$247)>0,$E251*$G251,0)","v":0},null,{"$f":"IF(SUM(CX$245:CX$247)>0,$E251*$G251,0)","v":0},null,{"$f":"IF(SUM(CZ$245:CZ$247)>0,$E251*$G251,0)","v":0},null,{"$f":"IF(SUM(DB$245:DB$247)>0,$E251*$G251,0)","v":0},null,{"$f":"IF(SUM(DD$245:DD$247)>0,$E251*$G251,0)","v":0},null,{"$f":"IF(SUM(DF$245:DF$247)>0,$E251*$G251,0)","v":0},null,{"$f":"IF(SUM(DH$245:DH$247)>0,$E251*$G251,0)","v":0},null,{"$f":"IF(SUM(DJ$245:DJ$247)>0,$E251*$G251,0)","v":0},null,{"$f":"IF(SUM(DL$245:DL$247)>0,$E251*$G251,0)","v":0},null,{"$f":"IF(SUM(DN$245:DN$247)>0,$E251*$G251,0)","v":0},null,{"$f":"IF(SUM(DP$245:DP$247)>0,$E251*$G251,0)","v":0},null,{"$f":"IF(SUM(DR$245:DR$247)>0,$E251*$G251,0)","v":0},null,{"$f":"IF(SUM(DT$245:DT$247)>0,$E251*$G251,0)","v":0},null,{"$f":"IF(SUM(DV$245:DV$247)>0,$E251*$G251,0)","v":0},null,{"$f":"IF(SUM(DX$245:DX$247)>0,$E251*$G251,0)","v":0}]
[null,null,2,"Camisa branca com acabamento em tecido piquê branco nos punhos na gola e na parte da frente",4,"UND",134.63,null,null,null,{"$f":"IF(SUM(J$245:J$247)>0,$E252*$G252,0)","v":0},null,0,null,0,null,0,null,0,null,0,null,0,null,0,null,0,null,0,null,0,null,0,null,0,null,0,null,0,null,0,null,0,null,0,null,0,null,0,null,0,null,0,null,0,null,0,null,0,null,0,null,0,null,0,null,0,null,0,null,0,null,0,null,0,null,0,null,0,null,0,null,0,null,0,null,0,null,0,null,0,null,0,null,0,null,0,null,0,null,0,null,0,null,0,null,0,null,0,null,0,null,0,null,0,null,0,null,0,null,0,null,0,null,0,null,0,null,0]
[null,null,3,"Luva branca",4,"PAR",32.06,null,null,null,0,null,{"$f":"IF(SUM(L$245:L$247)>0,$E253*$G253,0)","v":0},null,0,null,0,null,0,null,0,null,0,null,0,null,0,null,0,null,0,null,0,null,0,null,0,null,0,null,0,null,0,null,0,null,0,null,0,null,0,null,0,null,0,null,0,null,0,null,0,null,0,null,0,null,0,null,0,null,0,null,0,null,0,null,0,null,0,null,0,null,0,null,0,null,0,null,0,null,0,null,0,null,0,null,0,null,0,null,0,null,0,null,0,null,0,null,0,null,0,null,0,null,0,null,0,null,0,null,0,null,0,null,0,null,0,null,0]
[null,null,4,"Cinto de couro preto",2,"UND",54.63,null,null,null,0,null,0,null,0,null,0,null,0,null,0,null,0,null,0,null,0,null,0,null,0,null,0,null,0,null,0,null,0,null,0,null,0,null,0,null,0,null,0,null,0,null,0,null,0,null,0,null,0,null,0,null,0,null,0,null,0,null,0,null,0,null,0,null,0,null,0,null,0,null,0,null,0,null,0,null,0,null,0,null,0,null,0,null,0,null,0,null,0,null,0,null,0,null,0,null,0,null,0,null,0,null,0,null,0,null,0,null,0,null,0,null,0,null,0,null,0,null,0]
[null,null,5,"Gravata preta, estilo borboleta, em cetim bucol, 100% poliester",4,"UND",35.97,null,null,null,0,null,0,null,0,null,0,null,0,null,0,null,0,null,0,null,0,null,0,null,0,null,0,null,0,null,0,null,0,null,0,null,0,null,0,null,0,null,0,null,0,null,0,null,0,null,0,null,0,null,0,null,0,null,0,null,0,null,0,null,0,null,0,null,0,null,0,null,0,null,0,null,0,null,0,null,0,null,0,null,0,null,0,null,0,null,0,null,0,null,0,null,0,null,0,null,0,null,0,null,0,null,0,null,0,null,0,null,0,null,0,null,0,null,0,null,0,null,0]
[null,null,6,"Meia preta",4,"PAR",17.329999999999998,null,null,null,{"$f":"IF(SUM(J$245:J$247)>0,$E256*$G256,0)","v":0},null,{"$f":"IF(SUM(L$245:L$247)>0,$E256*$G256,0)","v":0},null,{"$f":"IF(SUM(N$245:N$247)>0,$E256*$G256,0)","v":0},null,{"$f":"IF(SUM(P$245:P$247)>0,$E256*$G256,0)","v":0},null,{"$f":"IF(SUM(R$245:R$247)>0,$E256*$G256,0)","v":0},null,{"$f":"IF(SUM(T$245:T$247)>0,$E256*$G256,0)","v":0},null,{"$f":"IF(SUM(V$245:V$247)>0,$E256*$G256,0)","v":0},null,{"$f":"IF(SUM(X$245:X$247)>0,$E256*$G256,0)","v":0},null,{"$f":"IF(SUM(Z$245:Z$247)>0,$E256*$G256,0)","v":0},null,{"$f":"IF(SUM(AB$245:AB$247)>0,$E256*$G256,0)","v":0},null,{"$f":"IF(SUM(AD$245:AD$247)>0,$E256*$G256,0)","v":0},null,{"$f":"IF(SUM(AF$245:AF$247)>0,$E256*$G256,0)","v":0},null,{"$f":"IF(SUM(AH$245:AH$247)>0,$E256*$G256,0)","v":0},null,{"$f":"IF(SUM(AJ$245:AJ$247)>0,$E256*$G256,0)","v":0},null,{"$f":"IF(SUM(AL$245:AL$247)>0,$E256*$G256,0)","v":0},null,{"$f":"IF(SUM(AN$245:AN$247)>0,$E256*$G256,0)","v":0},null,{"$f":"IF(SUM(AP$245:AP$247)>0,$E256*$G256,0)","v":0},null,{"$f":"IF(SUM(AR$245:AR$247)>0,$E256*$G256,0)","v":0},null,{"$f":"IF(SUM(AT$245:AT$247)>0,$E256*$G256,0)","v":0},null,{"$f":"IF(SUM(AV$245:AV$247)>0,$E256*$G256,0)","v":0},null,{"$f":"IF(SUM(AX$245:AX$247)>0,$E256*$G256,0)","v":0},null,{"$f":"IF(SUM(AZ$245:AZ$247)>0,$E256*$G256,0)","v":0},null,{"$f":"IF(SUM(BB$245:BB$247)>0,$E256*$G256,0)","v":0},null,{"$f":"IF(SUM(BD$245:BD$247)>0,$E256*$G256,0)","v":0},null,{"$f":"IF(SUM(BF$245:BF$247)>0,$E256*$G256,0)","v":0},null,{"$f":"IF(SUM(BH$245:BH$247)>0,$E256*$G256,0)","v":0},null,{"$f":"IF(SUM(BJ$245:BJ$247)>0,$E256*$G256,0)","v":0},null,{"$f":"IF(SUM(BL$245:BL$247)>0,$E256*$G256,0)","v":0},null,{"$f":"IF(SUM(BN$245:BN$247)>0,$E256*$G256,0)","v":0},null,{"$f":"IF(SUM(BP$245:BP$247)>0,$E256*$G256,0)","v":0},null,{"$f":"IF(SUM(BR$245:BR$247)>0,$E256*$G256,0)","v":0},null,{"$f":"IF(SUM(BT$245:BT$247)>0,$E256*$G256,0)","v":0},null,{"$f":"IF(SUM(BV$245:BV$247)>0,$E256*$G256,0)","v":0},null,{"$f":"IF(SUM(BX$245:BX$247)>0,$E256*$G256,0)","v":0},null,{"$f":"IF(SUM(BZ$245:BZ$247)>0,$E256*$G256,0)","v":0},null,{"$f":"IF(SUM(CB$245:CB$247)>0,$E256*$G256,0)","v":0},null,{"$f":"IF(SUM(CD$245:CD$247)>0,$E256*$G256,0)","v":0},null,{"$f":"IF(SUM(CF$245:CF$247)>0,$E256*$G256,0)","v":0},null,{"$f":"IF(SUM(CH$245:CH$247)>0,$E256*$G256,0)","v":0},null,{"$f":"IF(SUM(CJ$245:CJ$247)>0,$E256*$G256,0)","v":0},null,{"$f":"IF(SUM(CL$245:CL$247)>0,$E256*$G256,0)","v":0},null,{"$f":"IF(SUM(CN$245:CN$247)>0,$E256*$G256,0)","v":0},null,{"$f":"IF(SUM(CP$245:CP$247)>0,$E256*$G256,0)","v":0},null,{"$f":"IF(SUM(CR$245:CR$247)>0,$E256*$G256,0)","v":0},null,{"$f":"IF(SUM(CT$245:CT$247)>0,$E256*$G256,0)","v":0},null,{"$f":"IF(SUM(CV$245:CV$247)>0,$E256*$G256,0)","v":0},null,{"$f":"IF(SUM(CX$245:CX$247)>0,$E256*$G256,0)","v":0},null,{"$f":"IF(SUM(CZ$245:CZ$247)>0,$E256*$G256,0)","v":0},null,{"$f":"IF(SUM(DB$245:DB$247)>0,$E256*$G256,0)","v":0},null,{"$f":"IF(SUM(DD$245:DD$247)>0,$E256*$G256,0)","v":0},null,{"$f":"IF(SUM(DF$245:DF$247)>0,$E256*$G256,0)","v":0},null,{"$f":"IF(SUM(DH$245:DH$247)>0,$E256*$G256,0)","v":0},null,{"$f":"IF(SUM(DJ$245:DJ$247)>0,$E256*$G256,0)","v":0},null,{"$f":"IF(SUM(DL$245:DL$247)>0,$E256*$G256,0)","v":0},null,{"$f":"IF(SUM(DN$245:DN$247)>0,$E256*$G256,0)","v":0},null,{"$f":"IF(SUM(DP$245:DP$247)>0,$E256*$G256,0)","v":0},null,{"$f":"IF(SUM(DR$245:DR$247)>0,$E256*$G256,0)","v":0},null,{"$f":"IF(SUM(DT$245:DT$247)>0,$E256*$G256,0)","v":0},null,{"$f":"IF(SUM(DV$245:DV$247)>0,$E256*$G256,0)","v":0},null,{"$f":"IF(SUM(DX$245:DX$247)>0,$E256*$G256,0)","v":0}]
[]
[]
[null,null,"CATEGORIAS",null,null,null,"QUANTIDADE"]
[null,null,null,null,null,null,null,null,null,{"$f":"IF($C260=J$3,1,0)","v":0},null,{"$f":"IF($C260=L$3,1,0)","v":0},null,{"$f":"IF($C260=N$3,1,0)","v":0},null,{"$f":"IF($C260=P$3,1,0)","v":0},null,{"$f":"IF($C260=R$3,1,0)","v":0},null,{"$f":"IF($C260=T$3,1,0)","v":0},null,{"$f":"IF($C260=V$3,1,0)","v":0},null,{"$f":"IF($C260=X$3,1,0)","v":0},null,{"$f":"IF($C260=Z$3,1,0)","v":0},null,{"$f":"IF($C260=AB$3,1,0)","v":0},null,{"$f":"IF($C260=AD$3,1,0)","v":0},null,{"$f":"IF($C260=AF$3,1,0)","v":0},null,{"$f":"IF($C260=AH$3,1,0)","v":0},null,{"$f":"IF($C260=AJ$3,1,0)","v":0},null,{"$f":"IF($C260=AL$3,1,0)","v":0},null,{"$f":"IF($C260=AN$3,1,0)","v":0},null,{"$f":"IF($C260=AP$3,1,0)","v":0},null,{"$f":"IF($C260=AR$3,1,0)","v":0},null,{"$f":"IF($C260=AT$3,1,0)","v":0},null,{"$f":"IF($C260=AV$3,1,0)","v":0},null,{"$f":"IF($C260=AX$3,1,0)","v":0},null,{"$f":"IF($C260=AZ$3,1,0)","v":0},null,{"$f":"IF($C260=BB$3,1,0)","v":0},null,{"$f":"IF($C260=BD$3,1,0)","v":0},null,{"$f":"IF($C260=BF$3,1,0)","v":0},null,{"$f":"IF($C260=BH$3,1,0)","v":0},null,{"$f":"IF($C260=BJ$3,1,0)","v":0},null,{"$f":"IF($C260=BL$3,1,0)","v":0},null,{"$f":"IF($C260=BN$3,1,0)","v":0},null,{"$f":"IF($C260=BP$3,1,0)","v":0},null,{"$f":"IF($C260=BR$3,1,0)","v":0},null,{"$f":"IF($C260=BT$3,1,0)","v":0},null,{"$f":"IF($C260=BV$3,1,0)","v":0},null,{"$f":"IF($C260=BX$3,1,0)","v":0},null,{"$f":"IF($C260=BZ$3,1,0)","v":0},null,{"$f":"IF($C260=CB$3,1,0)","v":0},null,{"$f":"IF($C260=CD$3,1,0)","v":0},null,{"$f":"IF($C260=CF$3,1,0)","v":0},null,{"$f":"IF($C260=CH$3,1,0)","v":0},null,{"$f":"IF($C260=CJ$3,1,0)","v":0},null,{"$f":"IF($C260=CL$3,1,0)","v":0},null,{"$f":"IF($C260=CN$3,1,0)","v":0},null,{"$f":"IF($C260=CP$3,1,0)","v":0},null,{"$f":"IF($C260=CR$3,1,0)","v":0},null,{"$f":"IF($C260=CT$3,1,0)","v":0},null,{"$f":"IF($C260=CV$3,1,0)","v":0},null,{"$f":"IF($C260=CX$3,1,0)","v":0},null,{"$f":"IF($C260=CZ$3,1,0)","v":0},null,{"$f":"IF($C260=DB$3,1,0)","v":0},null,{"$f":"IF($C260=DD$3,1,0)","v":0},null,{"$f":"IF($C260=DF$3,1,0)","v":0},null,{"$f":"IF($C260=DH$3,1,0)","v":0},null,{"$f":"IF($C260=DJ$3,1,0)","v":0},null,{"$f":"IF($C260=DL$3,1,0)","v":0},null,{"$f":"IF($C260=DN$3,1,0)","v":0},null,{"$f":"IF($C260=DP$3,1,0)","v":0},null,{"$f":"IF($C260=DR$3,1,0)","v":0},null,{"$f":"IF($C260=DT$3,1,0)","v":0},null,{"$f":"IF($C260=DV$3,1,0)","v":0},null,{"$f":"IF($C260=DX$3,1,0)","v":0}]
[null,null,null,{"$f":"HLOOKUP($C261,'Dados Gerais'!$D$6:$V$11,6,0)","v":{"$error":"#N/A"}},null,null,{"$f":"HLOOKUP($C261,'Dados Gerais'!$D$6:$V$15,10,0)","v":{"$error":"#N/A"}},null,null,{"$f":"IF($C261=J$3,1,0)","v":0},null,0,null,0,null,0,null,0,null,0,null,0,null,0,null,0,null,0,null,0,null,0,null,0,null,0,null,0,null,0,null,0,null,0,null,0,null,0,null,0,null,0,null,0,null,0,null,0,null,0,null,0,null,0,null,0,null,0,null,0,null,0,null,0,null,0,null,0,null,0,null,0,null,0,null,0,null,0,null,0,null,0,null,0,null,0,null,0,null,0,null,0,null,0,null,0,null,0,null,0,null,0,null,0,null,0,null,0,null,0,null,0,null,0,null,0,null,0]
[]
[]
[null,null,"ITEM","DESCRIÇÃO","QUANTIDADE POR TRABALHADOR/ANO","UNIDADE","VALOR"]
[]
[null,null,1,"Calça com elástico, em tecido de brim, 100% algodão, na cor cinza",4,"UND",90.14,null,null,null,{"$f":"IF(SUM(J$260:J$262)>0,$E266*$G266,0)","v":0},null,{"$f":"IF(SUM(L$260:L$262)>0,$E266*$G266,0)","v":0},null,{"$f":"IF(SUM(N$260:N$262)>0,$E266*$G266,0)","v":0},null,{"$f":"IF(SUM(P$260:P$262)>0,$E266*$G266,0)","v":0},null,{"$f":"IF(SUM(R$260:R$262)>0,$E266*$G266,0)","v":0},null,{"$f":"IF(SUM(T$260:T$262)>0,$E266*$G266,0)","v":0},null,{"$f":"IF(SUM(V$260:V$262)>0,$E266*$G266,0)","v":0},null,{"$f":"IF(SUM(X$260:X$262)>0,$E266*$G266,0)","v":0},null,{"$f":"IF(SUM(Z$260:Z$262)>0,$E266*$G266,0)","v":0},null,{"$f":"IF(SUM(AB$260:AB$262)>0,$E266*$G266,0)","v":0},null,{"$f":"IF(SUM(AD$260:AD$262)>0,$E266*$G266,0)","v":0},null,{"$f":"IF(SUM(AF$260:AF$262)>0,$E266*$G266,0)","v":0},null,{"$f":"IF(SUM(AH$260:AH$262)>0,$E266*$G266,0)","v":0},null,{"$f":"IF(SUM(AJ$260:AJ$262)>0,$E266*$G266,0)","v":0},null,{"$f":"IF(SUM(AL$260:AL$262)>0,$E266*$G266,0)","v":0},null,{"$f":"IF(SUM(AN$260:AN$262)>0,$E266*$G266,0)","v":0},null,{"$f":"IF(SUM(AP$260:AP$262)>0,$E266*$G266,0)","v":0},null,{"$f":"IF(SUM(AR$260:AR$262)>0,$E266*$G266,0)","v":0},null,{"$f":"IF(SUM(AT$260:AT$262)>0,$E266*$G266,0)","v":0},null,{"$f":"IF(SUM(AV$260:AV$262)>0,$E266*$G266,0)","v":0},null,{"$f":"IF(SUM(AX$260:AX$262)>0,$E266*$G266,0)","v":0},null,{"$f":"IF(SUM(AZ$260:AZ$262)>0,$E266*$G266,0)","v":0},null,{"$f":"IF(SUM(BB$260:BB$262)>0,$E266*$G266,0)","v":0},null,{"$f":"IF(SUM(BD$260:BD$262)>0,$E266*$G266,0)","v":0},null,{"$f":"IF(SUM(BF$260:BF$262)>0,$E266*$G266,0)","v":0},null,{"$f":"IF(SUM(BH$260:BH$262)>0,$E266*$G266,0)","v":0},null,{"$f":"IF(SUM(BJ$260:BJ$262)>0,$E266*$G266,0)","v":0},null,{"$f":"IF(SUM(BL$260:BL$262)>0,$E266*$G266,0)","v":0},null,{"$f":"IF(SUM(BN$260:BN$262)>0,$E266*$G266,0)","v":0},null,{"$f":"IF(SUM(BP$260:BP$262)>0,$E266*$G266,0)","v":0},null,{"$f":"IF(SUM(BR$260:BR$262)>0,$E266*$G266,0)","v":0},null,{"$f":"IF(SUM(BT$260:BT$262)>0,$E266*$G266,0)","v":0},null,{"$f":"IF(SUM(BV$260:BV$262)>0,$E266*$G266,0)","v":0},null,{"$f":"IF(SUM(BX$260:BX$262)>0,$E266*$G266,0)","v":0},null,{"$f":"IF(SUM(BZ$260:BZ$262)>0,$E266*$G266,0)","v":0},null,{"$f":"IF(SUM(CB$260:CB$262)>0,$E266*$G266,0)","v":0},null,{"$f":"IF(SUM(CD$260:CD$262)>0,$E266*$G266,0)","v":0},null,{"$f":"IF(SUM(CF$260:CF$262)>0,$E266*$G266,0)","v":0},null,{"$f":"IF(SUM(CH$260:CH$262)>0,$E266*$G266,0)","v":0},null,{"$f":"IF(SUM(CJ$260:CJ$262)>0,$E266*$G266,0)","v":0},null,{"$f":"IF(SUM(CL$260:CL$262)>0,$E266*$G266,0)","v":0},null,{"$f":"IF(SUM(CN$260:CN$262)>0,$E266*$G266,0)","v":0},null,{"$f":"IF(SUM(CP$260:CP$262)>0,$E266*$G266,0)","v":0},null,{"$f":"IF(SUM(CR$260:CR$262)>0,$E266*$G266,0)","v":0},null,{"$f":"IF(SUM(CT$260:CT$262)>0,$E266*$G266,0)","v":0},null,{"$f":"IF(SUM(CV$260:CV$262)>0,$E266*$G266,0)","v":0},null,{"$f":"IF(SUM(CX$260:CX$262)>0,$E266*$G266,0)","v":0},null,{"$f":"IF(SUM(CZ$260:CZ$262)>0,$E266*$G266,0)","v":0},null,{"$f":"IF(SUM(DB$260:DB$262)>0,$E266*$G266,0)","v":0},null,{"$f":"IF(SUM(DD$260:DD$262)>0,$E266*$G266,0)","v":0},null,{"$f":"IF(SUM(DF$260:DF$262)>0,$E266*$G266,0)","v":0},null,{"$f":"IF(SUM(DH$260:DH$262)>0,$E266*$G266,0)","v":0},null,{"$f":"IF(SUM(DJ$260:DJ$262)>0,$E266*$G266,0)","v":0},null,{"$f":"IF(SUM(DL$260:DL$262)>0,$E266*$G266,0)","v":0},null,{"$f":"IF(SUM(DN$260:DN$262)>0,$E266*$G266,0)","v":0},null,{"$f":"IF(SUM(DP$260:DP$262)>0,$E266*$G266,0)","v":0},null,{"$f":"IF(SUM(DR$260:DR$262)>0,$E266*$G266,0)","v":0},null,{"$f":"IF(SUM(DT$260:DT$262)>0,$E266*$G266,0)","v":0},null,{"$f":"IF(SUM(DV$260:DV$262)>0,$E266*$G266,0)","v":0},null,{"$f":"IF(SUM(DX$260:DX$262)>0,$E266*$G266,0)","v":0}]
[null,null,2,"Camisa/blusa em tecido leve, 100% algodão, na cor cinza",4,"UND",129.44999999999999,null,null,null,{"$f":"IF(SUM(J$260:J$262)>0,$E267*$G267,0)","v":0},null,{"$f":"IF(SUM(L$260:L$262)>0,$E267*$G267,0)","v":0},null,{"$f":"IF(SUM(N$260:N$262)>0,$E267*$G267,0)","v":0},null,{"$f":"IF(SUM(P$260:P$262)>0,$E267*$G267,0)","v":0},null,{"$f":"IF(SUM(R$260:R$262)>0,$E267*$G267,0)","v":0},null,{"$f":"IF(SUM(T$260:T$262)>0,$E267*$G267,0)","v":0},null,{"$f":"IF(SUM(V$260:V$262)>0,$E267*$G267,0)","v":0},null,{"$f":"IF(SUM(X$260:X$262)>0,$E267*$G267,0)","v":0},null,{"$f":"IF(SUM(Z$260:Z$262)>0,$E267*$G267,0)","v":0},null,{"$f":"IF(SUM(AB$260:AB$262)>0,$E267*$G267,0)","v":0},null,{"$f":"IF(SUM(AD$260:AD$262)>0,$E267*$G267,0)","v":0},null,{"$f":"IF(SUM(AF$260:AF$262)>0,$E267*$G267,0)","v":0},null,{"$f":"IF(SUM(AH$260:AH$262)>0,$E267*$G267,0)","v":0},null,{"$f":"IF(SUM(AJ$260:AJ$262)>0,$E267*$G267,0)","v":0},null,{"$f":"IF(SUM(AL$260:AL$262)>0,$E267*$G267,0)","v":0},null,{"$f":"IF(SUM(AN$260:AN$262)>0,$E267*$G267,0)","v":0},null,{"$f":"IF(SUM(AP$260:AP$262)>0,$E267*$G267,0)","v":0},null,{"$f":"IF(SUM(AR$260:AR$262)>0,$E267*$G267,0)","v":0},null,{"$f":"IF(SUM(AT$260:AT$262)>0,$E267*$G267,0)","v":0},null,{"$f":"IF(SUM(AV$260:AV$262)>0,$E267*$G267,0)","v":0},null,{"$f":"IF(SUM(AX$260:AX$262)>0,$E267*$G267,0)","v":0},null,{"$f":"IF(SUM(AZ$260:AZ$262)>0,$E267*$G267,0)","v":0},null,{"$f":"IF(SUM(BB$260:BB$262)>0,$E267*$G267,0)","v":0},null,{"$f":"IF(SUM(BD$260:BD$262)>0,$E267*$G267,0)","v":0},null,{"$f":"IF(SUM(BF$260:BF$262)>0,$E267*$G267,0)","v":0},null,{"$f":"IF(SUM(BH$260:BH$262)>0,$E267*$G267,0)","v":0},null,{"$f":"IF(SUM(BJ$260:BJ$262)>0,$E267*$G267,0)","v":0},null,{"$f":"IF(SUM(BL$260:BL$262)>0,$E267*$G267,0)","v":0},null,{"$f":"IF(SUM(BN$260:BN$262)>0,$E267*$G267,0)","v":0},null,{"$f":"IF(SUM(BP$260:BP$262)>0,$E267*$G267,0)","v":0},null,{"$f":"IF(SUM(BR$260:BR$262)>0,$E267*$G267,0)","v":0},null,{"$f":"IF(SUM(BT$260:BT$262)>0,$E267*$G267,0)","v":0},null,{"$f":"IF(SUM(BV$260:BV$262)>0,$E267*$G267,0)","v":0},null,{"$f":"IF(SUM(BX$260:BX$262)>0,$E267*$G267,0)","v":0},null,{"$f":"IF(SUM(BZ$260:BZ$262)>0,$E267*$G267,0)","v":0},null,{"$f":"IF(SUM(CB$260:CB$262)>0,$E267*$G267,0)","v":0},null,{"$f":"IF(SUM(CD$260:CD$262)>0,$E267*$G267,0)","v":0},null,{"$f":"IF(SUM(CF$260:CF$262)>0,$E267*$G267,0)","v":0},null,{"$f":"IF(SUM(CH$260:CH$262)>0,$E267*$G267,0)","v":0},null,{"$f":"IF(SUM(CJ$260:CJ$262)>0,$E267*$G267,0)","v":0},null,{"$f":"IF(SUM(CL$260:CL$262)>0,$E267*$G267,0)","v":0},null,{"$f":"IF(SUM(CN$260:CN$262)>0,$E267*$G267,0)","v":0},null,{"$f":"IF(SUM(CP$260:CP$262)>0,$E267*$G267,0)","v":0},null,{"$f":"IF(SUM(CR$260:CR$262)>0,$E267*$G267,0)","v":0},null,{"$f":"IF(SUM(CT$260:CT$262)>0,$E267*$G267,0)","v":0},null,{"$f":"IF(SUM(CV$260:CV$262)>0,$E267*$G267,0)","v":0},null,{"$f":"IF(SUM(CX$260:CX$262)>0,$E267*$G267,0)","v":0},null,{"$f":"IF(SUM(CZ$260:CZ$262)>0,$E267*$G267,0)","v":0},null,{"$f":"IF(SUM(DB$260:DB$262)>0,$E267*$G267,0)","v":0},null,{"$f":"IF(SUM(DD$260:DD$262)>0,$E267*$G267,0)","v":0},null,{"$f":"IF(SUM(DF$260:DF$262)>0,$E267*$G267,0)","v":0},null,{"$f":"IF(SUM(DH$260:DH$262)>0,$E267*$G267,0)","v":0},null,{"$f":"IF(SUM(DJ$260:DJ$262)>0,$E267*$G267,0)","v":0},null,{"$f":"IF(SUM(DL$260:DL$262)>0,$E267*$G267,0)","v":0},null,{"$f":"IF(SUM(DN$260:DN$262)>0,$E267*$G267,0)","v":0},null,{"$f":"IF(SUM(DP$260:DP$262)>0,$E267*$G267,0)","v":0},null,{"$f":"IF(SUM(DR$260:DR$262)>0,$E267*$G267,0)","v":0},null,{"$f":"IF(SUM(DT$260:DT$262)>0,$E267*$G267,0)","v":0},null,{"$f":"IF(SUM(DV$260:DV$262)>0,$E267*$G267,0)","v":0},null,0]

{"sheet":"EPI","index":30,"n_rows":233,"n_cols":129,"rows_kept":233,"cut":false,"hidden":true,"merged":[[1,1,1,3],[2,1,2,6]]}
[]
[]
[null,"EQUIPAMENTOS DE PROTEÇÃO INDIVIDUAL - AQUISIÇÃO",null,null,null,null,null,null,null,1,null,{"$f":"J3+1","v":2},null,{"$f":"L3+1","v":3},null,{"$f":"N3+1","v":4},null,{"$f":"P3+1","v":5},null,{"$f":"R3+1","v":6},null,{"$f":"T3+1","v":7},null,{"$f":"V3+1","v":8},null,{"$f":"X3+1","v":9},null,{"$f":"Z3+1","v":10},null,{"$f":"AB3+1","v":11},null,{"$f":"AD3+1","v":12},null,{"$f":"AF3+1","v":13},null,{"$f":"AH3+1","v":14},null,{"$f":"AJ3+1","v":15},null,{"$f":"AL3+1","v":16},null,{"$f":"AN3+1","v":17},null,{"$f":"AP3+1","v":18},null,{"$f":"AR3+1","v":19},null,{"$f":"AT3+1","v":20},null,{"$f":"AV3+1","v":21},null,{"$f":"AX3+1","v":22},null,{"$f":"AZ3+1","v":23},null,{"$f":"BB3+1","v":24},null,{"$f":"BD3+1","v":25},null,{"$f":"BF3+1","v":26},null,{"$f":"BH3+1","v":27},null,{"$f":"BJ3+1","v":28},null,{"$f":"BL3+1","v":29},null,{"$f":"BN3+1","v":30},null,{"$f":"BP3+1","v":31},null,{"$f":"BR3+1","v":32},null,{"$f":"BT3+1","v":33},null,{"$f":"BV3+1","v":34},null,{"$f":"BX3+1","v":35},null,{"$f":"BZ3+1","v":36},null,{"$f":"CB3+1","v":37},null,{"$f":"CD3+1","v":38},null,{"$f":"CF3+1","v":39},null,{"$f":"CH3+1","v":40},null,{"$f":"CJ3+1","v":41},null,{"$f":"CL3+1","v":42},null,{"$f":"CN3+1","v":43},null,{"$f":"CP3+1","v":44},null,{"$f":"CR3+1","v":45},null,{"$f":"CT3+1","v":46},null,{"$f":"CV3+1","v":47},null,{"$f":"CX3+1","v":48},null,{"$f":"CZ3+1","v":49},null,{"$f":"DB3+1","v":50},null,{"$f":"DD3+1","v":51},null,{"$f":"DF3+1","v":52},null,{"$f":"DH3+1","v":53},null,{"$f":"DJ3+1","v":54},null,{"$f":"DL3+1","v":55},null,{"$f":"DN3+1","v":56},null,{"$f":"DP3+1","v":57},null,{"$f":"DR3+1","v":58},null,{"$f":"DT3+1","v":59},null,{"$f":"DV3+1","v":60}]
[]
[null,null,null,null,null,null,null,null,null,{"$f":"TRUNC(SUM(K4:K233),2)","v":0},null,{"$f":"TRUNC(SUM(M4:M233),2)","v":0},null,{"$f":"TRUNC(SUM(O4:O233),2)","v":0},null,{"$f":"TRUNC(SUM(Q4:Q233),2)","v":0},null,{"$f":"TRUNC(SUM(S4:S233),2)","v":0},null,{"$f":"TRUNC(SUM(U4:U233),2)","v":0},null,{"$f":"TRUNC(SUM(W4:W233),2)","v":0},null,{"$f":"TRUNC(SUM(Y4:Y233),2)","v":0},null,{"$f":"TRUNC(SUM(AA4:AA233),2)","v":0},null,{"$f":"TRUNC(SUM(AC4:AC233),2)","v":0},null,{"$f":"TRUNC(SUM(AE4:AE233),2)","v":0},null,{"$f":"TRUNC(SUM(AG4:AG233),2)","v":0},null,{"$f":"TRUNC(SUM(AI4:AI233),2)","v":0},null,{"$f":"TRUNC(SUM(AK4:AK233),2)","v":0},null,{"$f":"TRUNC(SUM(AM4:AM233),2)","v":0},null,{"$f":"TRUNC(SUM(AO4:AO233),2)","v":0},null,{"$f":"TRUNC(SUM(AQ4:AQ233),2)","v":0},null,{"$f":"TRUNC(SUM(AS4:AS233),2)","v":0},null,{"$f":"TRUNC(SUM(AU4:AU233),2)","v":0},null,{"$f":"TRUNC(SUM(AW4:AW233),2)","v":0},null,{"$f":"TRUNC(SUM(AY4:AY233),2)","v":0},null,{"$f":"TRUNC(SUM(BA4:BA233),2)","v":0},null,{"$f":"TRUNC(SUM(BC4:BC233),2)","v":0},null,{"$f":"TRUNC(SUM(BE4:BE233),2)","v":0},null,{"$f":"TRUNC(SUM(BG4:BG233),2)","v":0},null,{"$f":"TRUNC(SUM(BI4:BI233),2)","v":0},null,{"$f":"TRUNC(SUM(BK4:BK233),2)","v":0},null,{"$f":"TRUNC(SUM(BM4:BM233),2)","v":0},null,{"$f":"TRUNC(SUM(BO4:BO233),2)","v":0},null,{"$f":"TRUNC(SUM(BQ4:BQ233),2)","v":0},null,{"$f":"TRUNC(SUM(BS4:BS233),2)","v":0},null,{"$f":"TRUNC(SUM(BU4:BU233),2)","v":0},null,{"$f":"TRUNC(SUM(BW4:BW233),2)","v":0},null,{"$f":"TRUNC(SUM(BY4:BY233),2)","v":0},null,{"$f":"TRUNC(SUM(CA4:CA233),2)","v":0},null,{"$f":"TRUNC(SUM(CC4:CC233),2)","v":0},null,{"$f":"TRUNC(SUM(CE4:CE233),2)","v":0},null,{"$f":"TRUNC(SUM(CG4:CG233),2)","v":0},null,{"$f":"TRUNC(SUM(CI4:CI233),2)","v":0},null,{"$f":"TRUNC(SUM(CK4:CK233),2)","v":0},null,{"$f":"TRUNC(SUM(CM4:CM233),2)","v":0},null,{"$f":"TRUNC(SUM(CO4:CO233),2)","v":0},null,{"$f":"TRUNC(SUM(CQ4:CQ233),2)","v":0},null,{"$f":"TRUNC(SUM(CS4:CS233),2)","v":0},null,{"$f":"TRUNC(SUM(CU4:CU233),2)","v":0},null,{"$f":"TRUNC(SUM(CW4:CW233),2)","v":0},null,{"$f":"TRUNC(SUM(CY4:CY233),2)","v":0},null,{"$f":"TRUNC(SUM(DA4:DA233),2)","v":0},null,{"$f":"TRUNC(SUM(DC4:DC233),2)","v":0},null,{"$f":"TRUNC(SUM(DE4:DE233),2)","v":0},null,{"$f":"TRUNC(SUM(DG4:DG233),2)","v":0},null,{"$f":"TRUNC(SUM(DI4:DI233),2)","v":0},null,{"$f":"TRUNC(SUM(DK4:DK233),2)","v":0},null,{"$f":"TRUNC(SUM(DM4:DM233),2)","v":0},null,{"$f":"TRUNC(SUM(DO4:DO233),2)","v":0},null,{"$f":"TRUNC(SUM(DQ4:DQ233),2)","v":0},null,{"$f":"TRUNC(SUM(DS4:DS233),2)","v":0},null,{"$f":"TRUNC(SUM(DU4:DU233),2)","v":0},null,{"$f":"TRUNC(SUM(DW4:DW233),2)","v":0},null,{"$f":"TRUNC(SUM(DY4:DY233),2)","v":0}]
[null,null,"CATEGORIAS",null,null,null,"QUANTIDADE"]
[null,null,null,null,null,null,null,null,null,{"$f":"IF($C7=J$3,1,0)","v":0},null,{"$f":"IF($C7=L$3,1,0)","v":0},null,0,null,0,null,0,null,0,null,0,null,0,null,0,null,0,null,0,null,0,null,0,null,0,null,0,null,0,null,0,null,{"$f":"IF($C7=AR$3,1,0)","v":0},null,0,null,0,null,0,null,0,null,0,null,0,null,0,null,0,null,0,null,0,null,0,null,0,null,0,null,0,null,0,null,0,null,0,null,0,null,0,null,0,null,0,null,0,null,0,null,0,null,0,null,0,null,0,null,0,null,0,null,0,null,0,null,{"$f":"IF($C7=DD$3,1,0)","v":0},null,0,null,0,null,0,null,0,null,0,null,0,null,0,null,0,null,0,null,0]
[null,null,null,{"$f":"HLOOKUP($C8,'Dados Gerais'!$D$6:$V$11,6,0)","v":{"$error":"#N/A"}},null,null,{"$f":"HLOOKUP($C8,'Dados Gerais'!$D$6:$V$15,10,0)","v":{"$error":"#N/A"}},null,null,{"$f":"IF($C8=J$3,1,0)","v":0},null,0,null,{"$f":"IF($C8=N$3,1,0)","v":0},null,0,null,0,null,0,null,0,null,0,null,0,null,0,null,0,null,0,null,0,null,0,null,0,null,0,null,0,null,0,null,0,null,0,null,0,null,0,null,0,null,0,null,0,null,0,null,0,null,0,null,0,null,0,null,0,null,0,null,0,null,0,null,0,null,0,null,0,null,0,null,0,null,0,null,0,null,0,null,0,null,0,null,0,null,0,null,0,null,0,null,0,null,0,null,0,null,0,null,0,null,0,null,0,null,0,null,0,null,0,null,0,null,0]
[null,null,null,null,null,null,null,null,null,{"$f":"IF($C9=J$3,1,0)","v":0},null,0,null,0,null,0,null,0,null,0,null,0,null,0,null,0,null,0,null,0,null,0,null,0,null,0,null,0,null,0,null,0,null,0,null,0,null,0,null,0,null,0,null,0,null,0,null,0,null,0,null,0,null,0,null,0,null,0,null,0,null,0,null,0,null,0,null,0,null,0,null,0,null,0,null,0,null,0,null,0,null,0,null,0,null,0,null,0,null,0,null,0,null,0,null,0,null,0,null,0,null,0,null,0,null,0,null,0,null,0,null,0,null,0,null,0,null,0]
[]
[null,null,"ITEM","DESCRIÇÃO","QUANTIDADE POR TRABALHADOR/ANO","UNIDADE","VALOR"]
[]
[null,null,1,"Calçado ocupacional tipo sapato SOCIAL, fechamento em cadarço, confeccionado em vaqueta lisa na cor preta, colarinho acolchoado, forração interna em tecido não tecido, palmilha higiência antibacteriana, solado bidensidade, resistência ao escorregamento nível SCR, em conformidade com a NBR 20347. Ref.Marluvas CA: 33698.",2,"PAR",174.22,null,null,null,{"$f":"IF(SUM(J$7:J$9)>0,$E13*$G13,0)","v":0},null,{"$f":"IF(SUM(L$7:L$9)>0,$E13*$G13,0)","v":0},null,{"$f":"IF(SUM(N$7:N$9)>0,$E13*$G13,0)","v":0},null,{"$f":"IF(SUM(P$7:P$9)>0,$E13*$G13,0)","v":0},null,{"$f":"IF(SUM(R$7:R$9)>0,$E13*$G13,0)","v":0},null,{"$f":"IF(SUM(T$7:T$9)>0,$E13*$G13,0)","v":0},null,{"$f":"IF(SUM(V$7:V$9)>0,$E13*$G13,0)","v":0},null,{"$f":"IF(SUM(X$7:X$9)>0,$E13*$G13,0)","v":0},null,{"$f":"IF(SUM(Z$7:Z$9)>0,$E13*$G13,0)","v":0},null,{"$f":"IF(SUM(AB$7:AB$9)>0,$E13*$G13,0)","v":0},null,{"$f":"IF(SUM(AD$7:AD$9)>0,$E13*$G13,0)","v":0},null,{"$f":"IF(SUM(AF$7:AF$9)>0,$E13*$G13,0)","v":0},null,{"$f":"IF(SUM(AH$7:AH$9)>0,$E13*$G13,0)","v":0},null,{"$f":"IF(SUM(AJ$7:AJ$9)>0,$E13*$G13,0)","v":0},null,{"$f":"IF(SUM(AL$7:AL$9)>0,$E13*$G13,0)","v":0},null,{"$f":"IF(SUM(AN$7:AN$9)>0,$E13*$G13,0)","v":0},null,{"$f":"IF(SUM(AP$7:AP$9)>0,$E13*$G13,0)","v":0},null,{"$f":"IF(SUM(AR$7:AR$9)>0,$E13*$G13,0)","v":0},null,{"$f":"IF(SUM(AT$7:AT$9)>0,$E13*$G13,0)","v":0},null,{"$f":"IF(SUM(AV$7:AV$9)>0,$E13*$G13,0)","v":0},null,{"$f":"IF(SUM(AX$7:AX$9)>0,$E13*$G13,0)","v":0},null,{"$f":"IF(SUM(AZ$7:AZ$9)>0,$E13*$G13,0)","v":0},null,{"$f":"IF(SUM(BB$7:BB$9)>0,$E13*$G13,0)","v":0},null,{"$f":"IF(SUM(BD$7:BD$9)>0,$E13*$G13,0)","v":0},null,{"$f":"IF(SUM(BF$7:BF$9)>0,$E13*$G13,0)","v":0},null,{"$f":"IF(SUM(BH$7:BH$9)>0,$E13*$G13,0)","v":0},null,{"$f":"IF(SUM(BJ$7:BJ$9)>0,$E13*$G13,0)","v":0},null,{"$f":"IF(SUM(BL$7:BL$9)>0,$E13*$G13,0)","v":0},null,{"$f":"IF(SUM(BN$7:BN$9)>0,$E13*$G13,0)","v":0},null,{"$f":"IF(SUM(BP$7:BP$9)>0,$E13*$G13,0)","v":0},null,{"$f":"IF(SUM(BR$7:BR$9)>0,$E13*$G13,0)","v":0},null,{"$f":"IF(SUM(BT$7:BT$9)>0,$E13*$G13,0)","v":0},null,{"$f":"IF(SUM(BV$7:BV$9)>0,$E13*$G13,0)","v":0},null,{"$f":"IF(SUM(BX$7:BX$9)>0,$E13*$G13,0)","v":0},null,{"$f":"IF(SUM(BZ$7:BZ$9)>0,$E13*$G13,0)","v":0},null,{"$f":"IF(SUM(CB$7:CB$9)>0,$E13*$G13,0)","v":0},null,{"$f":"IF(SUM(CD$7:CD$9)>0,$E13*$G13,0)","v":0},null,{"$f":"IF(SUM(CF$7:CF$9)>0,$E13*$G13,0)","v":0},null,{"$f":"IF(SUM(CH$7:CH$9)>0,$E13*$G13,0)","v":0},null,{"$f":"IF(SUM(CJ$7:CJ$9)>0,$E13*$G13,0)","v":0},null,{"$f":"IF(SUM(CL$7:CL$9)>0,$E13*$G13,0)","v":0},null,{"$f":"IF(SUM(CN$7:CN$9)>0,$E13*$G13,0)","v":0},null,{"$f":"IF(SUM(CP$7:CP$9)>0,$E13*$G13,0)","v":0},null,{"$f":"IF(SUM(CR$7:CR$9)>0,$E13*$G13,0)","v":0},null,{"$f":"IF(SUM(CT$7:CT$9)>0,$E13*$G13,0)","v":0},null,{"$f":"IF(SUM(CV$7:CV$9)>0,$E13*$G13,0)","v":0},null,{"$f":"IF(SUM(CX$7:CX$9)>0,$E13*$G13,0)","v":0},null,{"$f":"IF(SUM(CZ$7:CZ$9)>0,$E13*$G13,0)","v":0},null,{"$f":"IF(SUM(DB$7:DB$9)>0,$E13*$G13,0)","v":0},null,{"$f":"IF(SUM(DD$7:DD$9)>0,$E13*$G13,0)","v":0},null,{"$f":"IF(SUM(DF$7:DF$9)>0,$E13*$G13,0)","v":0},null,{"$f":"IF(SUM(DH$7:DH$9)>0,$E13*$G13,0)","v":0},null,{"$f":"IF(SUM(DJ$7:DJ$9)>0,$E13*$G13,0)","v":0},null,{"$f":"IF(SUM(DL$7:DL$9)>0,$E13*$G13,0)","v":0},null,{"$f":"IF(SUM(DN$7:DN$9)>0,$E13*$G13,0)","v":0},null,{"$f":"IF(SUM(DP$7:DP$9)>0,$E13*$G13,0)","v":0},null,{"$f":"IF(SUM(DR$7:DR$9)>0,$E13*$G13,0)","v":0},null,{"$f":"IF(SUM(DT$7:DT$9)>0,$E13*$G13,0)","v":0},null,{"$f":"IF(SUM(DV$7:DV$9)>0,$E13*$G13,0)","v":0},null,{"$f":"IF(SUM(DX$7:DX$9)>0,$E13*$G13,0)","v":0}]
[]
[]
[null,null,"CATEGORIAS",null,null,null,"QUANTIDADE"]
[null,null,null,null,null,null,null,null,null,{"$f":"IF($C17=J$3,1,0)","v":0},null,{"$f":"IF($C17=L$3,1,0)","v":0},null,0,null,0,null,0,null,0,null,0,null,0,null,0,null,0,null,0,null,0,null,0,null,0,null,0,null,0,null,0,null,{"$f":"IF($C17=AR$3,1,0)","v":0},null,0,null,0,null,0,null,0,null,0,null,0,null,0,null,0,null,0,null,0,null,0,null,0,null,0,null,0,null,0,null,0,null,0,null,0,null,0,null,0,null,0,null,0,null,0,null,0,null,0,null,0,null,0,null,0,null,0,null,0,null,0,null,{"$f":"IF($C17=DD$3,1,0)","v":0},null,0,null,0,null,0,null,0,null,0,null,0,null,0,null,0,null,0,null,0]
[null,null,null,{"$f":"HLOOKUP($C18,'Dados Gerais'!$D$6:$V$11,6,0)","v":{"$error":"#N/A"}},null,null,{"$f":"HLOOKUP($C18,'Dados Gerais'!$D$6:$V$15,10,0)","v":{"$error":"#N/A"}},null,null,{"$f":"IF($C18=J$3,1,0)","v":0},null,0,null,{"$f":"IF($C18=N$3,1,0)","v":0},null,0,null,0,null,0,null,0,null,0,null,0,null,0,null,0,null,0,null,0,null,0,null,0,null,0,null,0,null,0,null,0,null,0,null,0,null,0,null,0,null,0,null,0,null,0,null,0,null,0,null,0,null,0,null,0,null,0,null,0,null,0,null,0,null,0,null,0,null,0,null,0,null,0,null,0,null,0,null,0,null,0,null,0,null,0,null,0,null,0,null,0,null,0,null,0,null,0,null,0,null,0,null,0,null,0,null,0,null,0,null,0,null,0]
[null,null,null,null,null,null,null,null,null,{"$f":"IF($C19=J$3,1,0)","v":0},null,0,null,0,null,0,null,0,null,0,null,0,null,0,null,0,null,0,null,0,null,0,null,0,null,0,null,0,null,0,null,0,null,0,null,0,null,0,null,0,null,0,null,0,null,0,null,0,null,0,null,0,null,0,null,0,null,0,null,0,null,0,null,0,null,0,null,0,null,0,null,0,null,0,null,0,null,0,null,0,null,0,null,0,null,0,null,0,null,0,null,0,null,0,null,0,null,0,null,0,null,0,null,0,null,0,null,0,null,0,null,0,null,0,null,0,null,0]
[]
[null,null,"ITEM","DESCRIÇÃO","QUANTIDADE POR TRABALHADOR/ANO","UNIDADE","VALOR"]
[]
[null,null,1,"Sapato feminino fechado preto; tipo sapatilha, mocassim ou scarpin; leve; cabedal em material impermeável e sem cadarço; solado antiderrapante; salto baixo (1 a 3cm) quadrado ou anabela; palmilha conforto em espuma ou gel com propriedade antibacteriana.",3,"PAR",121.61,null,null,null,{"$f":"IF(SUM(J$17:J$19)>0,$E23*$G23,0)","v":0},null,{"$f":"IF(SUM(L$17:L$19)>0,$E23*$G23,0)","v":0},null,{"$f":"IF(SUM(N$17:N$19)>0,$E23*$G23,0)","v":0},null,{"$f":"IF(SUM(P$17:P$19)>0,$E23*$G23,0)","v":0},null,{"$f":"IF(SUM(R$17:R$19)>0,$E23*$G23,0)","v":0},null,{"$f":"IF(SUM(T$17:T$19)>0,$E23*$G23,0)","v":0},null,{"$f":"IF(SUM(V$17:V$19)>0,$E23*$G23,0)","v":0},null,{"$f":"IF(SUM(X$17:X$19)>0,$E23*$G23,0)","v":0},null,{"$f":"IF(SUM(Z$17:Z$19)>0,$E23*$G23,0)","v":0},null,{"$f":"IF(SUM(AB$17:AB$19)>0,$E23*$G23,0)","v":0},null,{"$f":"IF(SUM(AD$17:AD$19)>0,$E23*$G23,0)","v":0},null,{"$f":"IF(SUM(AF$17:AF$19)>0,$E23*$G23,0)","v":0},null,{"$f":"IF(SUM(AH$17:AH$19)>0,$E23*$G23,0)","v":0},null,{"$f":"IF(SUM(AJ$17:AJ$19)>0,$E23*$G23,0)","v":0},null,{"$f":"IF(SUM(AL$17:AL$19)>0,$E23*$G23,0)","v":0},null,{"$f":"IF(SUM(AN$17:AN$19)>0,$E23*$G23,0)","v":0},null,{"$f":"IF(SUM(AP$17:AP$19)>0,$E23*$G23,0)","v":0},null,{"$f":"IF(SUM(AR$17:AR$19)>0,$E23*$G23,0)","v":0},null,{"$f":"IF(SUM(AT$17:AT$19)>0,$E23*$G23,0)","v":0},null,{"$f":"IF(SUM(AV$17:AV$19)>0,$E23*$G23,0)","v":0},null,{"$f":"IF(SUM(AX$17:AX$19)>0,$E23*$G23,0)","v":0},null,{"$f":"IF(SUM(AZ$17:AZ$19)>0,$E23*$G23,0)","v":0},null,{"$f":"IF(SUM(BB$17:BB$19)>0,$E23*$G23,0)","v":0},null,{"$f":"IF(SUM(BD$17:BD$19)>0,$E23*$G23,0)","v":0},null,{"$f":"IF(SUM(BF$17:BF$19)>0,$E23*$G23,0)","v":0},null,{"$f":"IF(SUM(BH$17:BH$19)>0,$E23*$G23,0)","v":0},null,{"$f":"IF(SUM(BJ$17:BJ$19)>0,$E23*$G23,0)","v":0},null,{"$f":"IF(SUM(BL$17:BL$19)>0,$E23*$G23,0)","v":0},null,{"$f":"IF(SUM(BN$17:BN$19)>0,$E23*$G23,0)","v":0},null,{"$f":"IF(SUM(BP$17:BP$19)>0,$E23*$G23,0)","v":0},null,{"$f":"IF(SUM(BR$17:BR$19)>0,$E23*$G23,0)","v":0},null,{"$f":"IF(SUM(BT$17:BT$19)>0,$E23*$G23,0)","v":0},null,{"$f":"IF(SUM(BV$17:BV$19)>0,$E23*$G23,0)","v":0},null,{"$f":"IF(SUM(BX$17:BX$19)>0,$E23*$G23,0)","v":0},null,{"$f":"IF(SUM(BZ$17:BZ$19)>0,$E23*$G23,0)","v":0},null,{"$f":"IF(SUM(CB$17:CB$19)>0,$E23*$G23,0)","v":0},null,{"$f":"IF(SUM(CD$17:CD$19)>0,$E23*$G23,0)","v":0},null,{"$f":"IF(SUM(CF$17:CF$19)>0,$E23*$G23,0)","v":0},null,{"$f":"IF(SUM(CH$17:CH$19)>0,$E23*$G23,0)","v":0},null,{"$f":"IF(SUM(CJ$17:CJ$19)>0,$E23*$G23,0)","v":0},null,{"$f":"IF(SUM(CL$17:CL$19)>0,$E23*$G23,0)","v":0},null,{"$f":"IF(SUM(CN$17:CN$19)>0,$E23*$G23,0)","v":0},null,{"$f":"IF(SUM(CP$17:CP$19)>0,$E23*$G23,0)","v":0},null,{"$f":"IF(SUM(CR$17:CR$19)>0,$E23*$G23,0)","v":0},null,{"$f":"IF(SUM(CT$17:CT$19)>0,$E23*$G23,0)","v":0},null,{"$f":"IF(SUM(CV$17:CV$19)>0,$E23*$G23,0)","v":0},null,{"$f":"IF(SUM(CX$17:CX$19)>0,$E23*$G23,0)","v":0},null,{"$f":"IF(SUM(CZ$17:CZ$19)>0,$E23*$G23,0)","v":0},null,{"$f":"IF(SUM(DB$17:DB$19)>0,$E23*$G23,0)","v":0},null,{"$f":"IF(SUM(DD$17:DD$19)>0,$E23*$G23,0)","v":0},null,{"$f":"IF(SUM(DF$17:DF$19)>0,$E23*$G23,0)","v":0},null,{"$f":"IF(SUM(DH$17:DH$19)>0,$E23*$G23,0)","v":0},null,{"$f":"IF(SUM(DJ$17:DJ$19)>0,$E23*$G23,0)","v":0},null,{"$f":"IF(SUM(DL$17:DL$19)>0,$E23*$G23,0)","v":0},null,{"$f":"IF(SUM(DN$17:DN$19)>0,$E23*$G23,0)","v":0},null,{"$f":"IF(SUM(DP$17:DP$19)>0,$E23*$G23,0)","v":0},null,{"$f":"IF(SUM(DR$17:DR$19)>0,$E23*$G23,0)","v":0},null,{"$f":"IF(SUM(DT$17:DT$19)>0,$E23*$G23,0)","v":0},null,{"$f":"IF(SUM(DV$17:DV$19)>0,$E23*$G23,0)","v":0},null,{"$f":"IF(SUM(DX$17:DX$19)>0,$E23*$G23,0)","v":0}]
[]
[]
[null,null,"CATEGORIAS",null,null,null,"QUANTIDADE"]
[null,null,null,null,null,null,null,null,null,{"$f":"IF($C27=J$3,1,0)","v":0},null,{"$f":"IF($C27=L$3,1,0)","v":0},null,0,null,0,null,0,null,0,null,0,null,0,null,0,null,0,null,0,null,0,null,0,null,0,null,0,null,0,null,0,null,{"$f":"IF($C27=AR$3,1,0)","v":0},null,0,null,0,null,0,null,0,null,0,null,0,null,0,null,0,null,0,null,0,null,0,null,0,null,0,null,0,null,0,null,0,null,0,null,0,null,0,null,0,null,0,null,0,null,0,null,0,null,0,null,0,null,0,null,0,null,0,null,0,null,0,null,{"$f":"IF($C27=DD$3,1,0)","v":0},null,0,null,0,null,0,null,0,null,0,null,0,null,0,null,0,null,0,null,0]
[null,null,null,{"$f":"HLOOKUP($C28,'Dados Gerais'!$D$6:$V$11,6,0)","v":{"$error":"#N/A"}},null,null,{"$f":"HLOOKUP($C28,'Dados Gerais'!$D$6:$V$15,10,0)","v":{"$error":"#N/A"}},null,null,{"$f":"IF($C28=J$3,1,0)","v":0},null,0,null,{"$f":"IF($C28=N$3,1,0)","v":0},null,0,null,0,null,0,null,0,null,0,null,0,null,0,null,0,null,0,null,0,null,0,null,0,null,0,null,0,null,0,null,0,null,0,null,0,null,0,null,0,null,0,null,0,null,0,null,0,null,0,null,0,null,0,null,0,null,0,null,0,null,0,null,0,null,0,null,0,null,0,null,0,null,0,null,0,null,0,null,0,null,0,null,0,null,0,null,0,null,0,null,0,null,0,null,0,null,0,null,0,null,0,null,0,null,0,null,0,null,0,null,0,null,0]
[]
[]
[null,null,"ITEM","DESCRIÇÃO","QUANTIDADE POR TRABALHADOR/ANO","UNIDADE","VALOR"]
[]
[null,null,1,"Calçado ocupacional em EVA, fechado no calcanhar e parte superior, com solado de borracha antiderrapante (resistência ao escorregamento SRC), resistente ao óleo combustível, absorção de energia na região do salto, com palmilha interna removível, cabedal com substância antimicrobiana, junto à formulação do composto EVA, ativa durante toda a vida útil do produto. Cor preta. Ref.: Soft Works Ca 37212",2,"PAR",95.54,null,null,null,{"$f":"IF(SUM(J$27:J$29)>0,$E33*$G33,0)","v":0},null,{"$f":"IF(SUM(L$27:L$29)>0,$E33*$G33,0)","v":0},null,{"$f":"IF(SUM(N$27:N$29)>0,$E33*$G33,0)","v":0},null,{"$f":"IF(SUM(P$27:P$29)>0,$E33*$G33,0)","v":0},null,{"$f":"IF(SUM(R$27:R$29)>0,$E33*$G33,0)","v":0},null,{"$f":"IF(SUM(T$27:T$29)>0,$E33*$G33,0)","v":0},null,{"$f":"IF(SUM(V$27:V$29)>0,$E33*$G33,0)","v":0},null,{"$f":"IF(SUM(X$27:X$29)>0,$E33*$G33,0)","v":0},null,{"$f":"IF(SUM(Z$27:Z$29)>0,$E33*$G33,0)","v":0},null,{"$f":"IF(SUM(AB$27:AB$29)>0,$E33*$G33,0)","v":0},null,{"$f":"IF(SUM(AD$27:AD$29)>0,$E33*$G33,0)","v":0},null,{"$f":"IF(SUM(AF$27:AF$29)>0,$E33*$G33,0)","v":0},null,{"$f":"IF(SUM(AH$27:AH$29)>0,$E33*$G33,0)","v":0},null,{"$f":"IF(SUM(AJ$27:AJ$29)>0,$E33*$G33,0)","v":0},null,{"$f":"IF(SUM(AL$27:AL$29)>0,$E33*$G33,0)","v":0},null,{"$f":"IF(SUM(AN$27:AN$29)>0,$E33*$G33,0)","v":0},null,{"$f":"IF(SUM(AP$27:AP$29)>0,$E33*$G33,0)","v":0},null,{"$f":"IF(SUM(AR$27:AR$29)>0,$E33*$G33,0)","v":0},null,{"$f":"IF(SUM(AT$27:AT$29)>0,$E33*$G33,0)","v":0},null,{"$f":"IF(SUM(AV$27:AV$29)>0,$E33*$G33,0)","v":0},null,{"$f":"IF(SUM(AX$27:AX$29)>0,$E33*$G33,0)","v":0},null,{"$f":"IF(SUM(AZ$27:AZ$29)>0,$E33*$G33,0)","v":0},null,{"$f":"IF(SUM(BB$27:BB$29)>0,$E33*$G33,0)","v":0},null,{"$f":"IF(SUM(BD$27:BD$29)>0,$E33*$G33,0)","v":0},null,{"$f":"IF(SUM(BF$27:BF$29)>0,$E33*$G33,0)","v":0},null,{"$f":"IF(SUM(BH$27:BH$29)>0,$E33*$G33,0)","v":0},null,{"$f":"IF(SUM(BJ$27:BJ$29)>0,$E33*$G33,0)","v":0},null,{"$f":"IF(SUM(BL$27:BL$29)>0,$E33*$G33,0)","v":0},null,{"$f":"IF(SUM(BN$27:BN$29)>0,$E33*$G33,0)","v":0},null,{"$f":"IF(SUM(BP$27:BP$29)>0,$E33*$G33,0)","v":0},null,{"$f":"IF(SUM(BR$27:BR$29)>0,$E33*$G33,0)","v":0},null,{"$f":"IF(SUM(BT$27:BT$29)>0,$E33*$G33,0)","v":0},null,{"$f":"IF(SUM(BV$27:BV$29)>0,$E33*$G33,0)","v":0},null,{"$f":"IF(SUM(BX$27:BX$29)>0,$E33*$G33,0)","v":0},null,{"$f":"IF(SUM(BZ$27:BZ$29)>0,$E33*$G33,0)","v":0},null,{"$f":"IF(SUM(CB$27:CB$29)>0,$E33*$G33,0)","v":0},null,{"$f":"IF(SUM(CD$27:CD$29)>0,$E33*$G33,0)","v":0},null,{"$f":"IF(SUM(CF$27:CF$29)>0,$E33*$G33,0)","v":0},null,{"$f":"IF(SUM(CH$27:CH$29)>0,$E33*$G33,0)","v":0},null,{"$f":"IF(SUM(CJ$27:CJ$29)>0,$E33*$G33,0)","v":0},null,{"$f":"IF(SUM(CL$27:CL$29)>0,$E33*$G33,0)","v":0},null,{"$f":"IF(SUM(CN$27:CN$29)>0,$E33*$G33,0)","v":0},null,{"$f":"IF(SUM(CP$27:CP$29)>0,$E33*$G33,0)","v":0},null,{"$f":"IF(SUM(CR$27:CR$29)>0,$E33*$G33,0)","v":0},null,{"$f":"IF(SUM(CT$27:CT$29)>0,$E33*$G33,0)","v":0},null,{"$f":"IF(SUM(CV$27:CV$29)>0,$E33*$G33,0)","v":0},null,{"$f":"IF(SUM(CX$27:CX$29)>0,$E33*$G33,0)","v":0},null,{"$f":"IF(SUM(CZ$27:CZ$29)>0,$E33*$G33,0)","v":0},null,{"$f":"IF(SUM(DB$27:DB$29)>0,$E33*$G33,0)","v":0},null,{"$f":"IF(SUM(DD$27:DD$29)>0,$E33*$G33,0)","v":0},null,{"$f":"IF(SUM(DF$27:DF$29)>0,$E33*$G33,0)","v":0},null,{"$f":"IF(SUM(DH$27:DH$29)>0,$E33*$G33,0)","v":0},null,{"$f":"IF(SUM(DJ$27:DJ$29)>0,$E33*$G33,0)","v":0},null,{"$f":"IF(SUM(DL$27:DL$29)>0,$E33*$G33,0)","v":0},null,{"$f":"IF(SUM(DN$27:DN$29)>0,$E33*$G33,0)","v":0},null,{"$f":"IF(SUM(DP$27:DP$29)>0,$E33*$G33,0)","v":0},null,{"$f":"IF(SUM(DR$27:DR$29)>0,$E33*$G33,0)","v":0},null,{"$f":"IF(SUM(DT$27:DT$29)>0,$E33*$G33,0)","v":0},null,{"$f":"IF(SUM(DV$27:DV$29)>0,$E33*$G33,0)","v":0},null,{"$f":"IF(SUM(DX$27:DX$29)>0,$E33*$G33,0)","v":0}]
[]
[]
[null,null,"CATEGORIAS",null,null,null,"QUANTIDADE"]
[null,null,null,null,null,null,null,null,null,{"$f":"IF($C37=J$3,1,0)","v":0},null,{"$f":"IF($C37=L$3,1,0)","v":0},null,0,null,0,null,0,null,0,null,0,null,0,null,0,null,0,null,0,null,0,null,0,null,0,null,0,null,0,null,0,null,{"$f":"IF($C37=AR$3,1,0)","v":0},null,0,null,0,null,0,null,0,null,0,null,0,null,0,null,0,null,0,null,0,null,0,null,0,null,0,null,0,null,0,null,0,null,0,null,0,null,0,null,0,null,0,null,0,null,0,null,0,null,0,null,0,null,0,null,0,null,0,null,0,null,0,null,{"$f":"IF($C37=DD$3,1,0)","v":0},null,0,null,0,null,0,null,0,null,0,null,0,null,0,null,0,null,0,null,0]
[null,null,null,{"$f":"HLOOKUP($C38,'Dados Gerais'!$D$6:$V$11,6,0)","v":{"$error":"#N/A"}},null,null,{"$f":"HLOOKUP($C38,'Dados Gerais'!$D$6:$V$15,10,0)","v":{"$error":"#N/A"}},null,null,{"$f":"IF($C38=J$3,1,0)","v":0},null,0,null,{"$f":"IF($C38=N$3,1,0)","v":0},null,0,null,0,null,0,null,0,null,0,null,0,null,0,null,0,null,0,null,0,null,0,null,0,null,0,null,0,null,0,null,0,null,0,null,0,null,0,null,0,null,0,null,0,null,0,null,0,null,0,null,0,null,0,null,0,null,0,null,0,null,0,null,0,null,0,null,0,null,0,null,0,null,0,null,0,null,0,null,0,null,0,null,0,null,0,null,0,null,0,null,0,null,0,null,0,null,0,null,0,null,0,null,0,null,0,null,0,null,0,null,0,null,0]
[]
[]
[null,null,"ITEM","DESCRIÇÃO","QUANTIDADE POR TRABALHADOR/ANO","UNIDADE","VALOR"]
[]
[null,null,1,"Calçado ocupacional em EVA, fechado no calcanhar e parte superior, com solado de borracha antiderrapante (resistência ao escorregamento SRC), resistente ao óleo combustível, absorção de energia na região do salto, com palmilha interna removível, cabedal com substância antimicrobiana, junto à formulação do composto EVA, ativa durante toda a vida útil do produto. Cor preta. Ref.: Soft Works Ca 37212",2,"PAR",95.54,null,null,null,{"$f":"IF(SUM(J$37:J$39)>0,$E43*$G43,0)","v":0},null,{"$f":"IF(SUM(L$37:L$39)>0,$E43*$G43,0)","v":0},null,{"$f":"IF(SUM(N$37:N$39)>0,$E43*$G43,0)","v":0},null,{"$f":"IF(SUM(P$37:P$39)>0,$E43*$G43,0)","v":0},null,{"$f":"IF(SUM(R$37:R$39)>0,$E43*$G43,0)","v":0},null,{"$f":"IF(SUM(T$37:T$39)>0,$E43*$G43,0)","v":0},null,{"$f":"IF(SUM(V$37:V$39)>0,$E43*$G43,0)","v":0},null,{"$f":"IF(SUM(X$37:X$39)>0,$E43*$G43,0)","v":0},null,{"$f":"IF(SUM(Z$37:Z$39)>0,$E43*$G43,0)","v":0},null,{"$f":"IF(SUM(AB$37:AB$39)>0,$E43*$G43,0)","v":0},null,{"$f":"IF(SUM(AD$37:AD$39)>0,$E43*$G43,0)","v":0},null,{"$f":"IF(SUM(AF$37:AF$39)>0,$E43*$G43,0)","v":0},null,{"$f":"IF(SUM(AH$37:AH$39)>0,$E43*$G43,0)","v":0},null,{"$f":"IF(SUM(AJ$37:AJ$39)>0,$E43*$G43,0)","v":0},null,{"$f":"IF(SUM(AL$37:AL$39)>0,$E43*$G43,0)","v":0},null,{"$f":"IF(SUM(AN$37:AN$39)>0,$E43*$G43,0)","v":0},null,{"$f":"IF(SUM(AP$37:AP$39)>0,$E43*$G43,0)","v":0},null,{"$f":"IF(SUM(AR$37:AR$39)>0,$E43*$G43,0)","v":0},null,{"$f":"IF(SUM(AT$37:AT$39)>0,$E43*$G43,0)","v":0},null,{"$f":"IF(SUM(AV$37:AV$39)>0,$E43*$G43,0)","v":0},null,{"$f":"IF(SUM(AX$37:AX$39)>0,$E43*$G43,0)","v":0},null,{"$f":"IF(SUM(AZ$37:AZ$39)>0,$E43*$G43,0)","v":0},null,{"$f":"IF(SUM(BB$37:BB$39)>0,$E43*$G43,0)","v":0},null,{"$f":"IF(SUM(BD$37:BD$39)>0,$E43*$G43,0)","v":0},null,{"$f":"IF(SUM(BF$37:BF$39)>0,$E43*$G43,0)","v":0},null,{"$f":"IF(SUM(BH$37:BH$39)>0,$E43*$G43,0)","v":0},null,{"$f":"IF(SUM(BJ$37:BJ$39)>0,$E43*$G43,0)","v":0},null,{"$f":"IF(SUM(BL$37:BL$39)>0,$E43*$G43,0)","v":0},null,{"$f":"IF(SUM(BN$37:BN$39)>0,$E43*$G43,0)","v":0},null,{"$f":"IF(SUM(BP$37:BP$39)>0,$E43*$G43,0)","v":0},null,{"$f":"IF(SUM(BR$37:BR$39)>0,$E43*$G43,0)","v":0},null,{"$f":"IF(SUM(BT$37:BT$39)>0,$E43*$G43,0)","v":0},null,{"$f":"IF(SUM(BV$37:BV$39)>0,$E43*$G43,0)","v":0},null,{"$f":"IF(SUM(BX$37:BX$39)>0,$E43*$G43,0)","v":0},null,{"$f":"IF(SUM(BZ$37:BZ$39)>0,$E43*$G43,0)","v":0},null,{"$f":"IF(SUM(CB$37:CB$39)>0,$E43*$G43,0)","v":0},null,{"$f":"IF(SUM(CD$37:CD$39)>0,$E43*$G43,0)","v":0},null,{"$f":"IF(SUM(CF$37:CF$39)>0,$E43*$G43,0)","v":0},null,{"$f":"IF(SUM(CH$37:CH$39)>0,$E43*$G43,0)","v":0},null,{"$f":"IF(SUM(CJ$37:CJ$39)>0,$E43*$G43,0)","v":0},null,{"$f":"IF(SUM(CL$37:CL$39)>0,$E43*$G43,0)","v":0},null,{"$f":"IF(SUM(CN$37:CN$39)>0,$E43*$G43,0)","v":0},null,{"$f":"IF(SUM(CP$37:CP$39)>0,$E43*$G43,0)","v":0},null,{"$f":"IF(SUM(CR$37:CR$39)>0,$E43*$G43,0)","v":0},null,{"$f":"IF(SUM(CT$37:CT$39)>0,$E43*$G43,0)","v":0},null,{"$f":"IF(SUM(CV$37:CV$39)>0,$E43*$G43,0)","v":0},null,{"$f":"IF(SUM(CX$37:CX$39)>0,$E43*$G43,0)","v":0},null,{"$f":"IF(SUM(CZ$37:CZ$39)>0,$E43*$G43,0)","v":0},null,{"$f":"IF(SUM(DB$37:DB$39)>0,$E43*$G43,0)","v":0},null,{"$f":"IF(SUM(DD$37:DD$39)>0,$E43*$G43,0)","v":0},null,{"$f":"IF(SUM(DF$37:DF$39)>0,$E43*$G43,0)","v":0},null,{"$f":"IF(SUM(DH$37:DH$39)>0,$E43*$G43,0)","v":0},null,{"$f":"IF(SUM(DJ$37:DJ$39)>0,$E43*$G43,0)","v":0},null,{"$f":"IF(SUM(DL$37:DL$39)>0,$E43*$G43,0)","v":0},null,{"$f":"IF(SUM(DN$37:DN$39)>0,$E43*$G43,0)","v":0},null,{"$f":"IF(SUM(DP$37:DP$39)>0,$E43*$G43,0)","v":0},null,{"$f":"IF(SUM(DR$37:DR$39)>0,$E43*$G43,0)","v":0},null,{"$f":"IF(SUM(DT$37:DT$39)>0,$E43*$G43,0)","v":0},null,{"$f":"IF(SUM(DV$37:DV$39)>0,$E43*$G43,0)","v":0},null,{"$f":"IF(SUM(DX$37:DX$39)>0,$E43*$G43,0)","v":0}]
[]
[]
[null,null,"CATEGORIAS",null,null,null,"QUANTIDADE"]
[null,null,null,null,null,null,null,null,null,{"$f":"IF($C47=J$3,1,0)","v":0},null,{"$f":"IF($C47=L$3,1,0)","v":0},null,0,null,0,null,0,null,0,null,0,null,0,null,0,null,0,null,0,null,0,null,0,null,0,null,0,null,0,null,0,null,{"$f":"IF($C47=AR$3,1,0)","v":0},null,0,null,0,null,0,null,0,null,0,null,0,null,0,null,0,null,0,null,0,null,0,null,0,null,0,null,0,null,0,null,0,null,0,null,0,null,0,null,0,null,0,null,0,null,0,null,0,null,0,null,0,null,0,null,0,null,0,null,0,null,0,null,{"$f":"IF($C47=DD$3,1,0)","v":0},null,0,null,0,null,0,null,0,null,0,null,0,null,0,null,0,null,0,null,0]
[null,null,null,{"$f":"HLOOKUP($C48,'Dados Gerais'!$D$6:$V$11,6,0)","v":{"$error":"#N/A"}},null,null,{"$f":"HLOOKUP($C48,'Dados Gerais'!$D$6:$V$15,10,0)","v":{"$error":"#N/A"}},null,null,{"$f":"IF($C48=J$3,1,0)","v":0},null,0,null,{"$f":"IF($C48=N$3,1,0)","v":0},null,0,null,0,null,0,null,0,null,0,null,0,null,0,null,0,null,0,null,0,null,0,null,0,null,0,null,0,null,0,null,0,null,0,null,0,null,0,null,0,null,0,null,0,null,0,null,0,null,0,null,0,null,0,null,0,null,0,null,0,null,0,null,0,null,0,null,0,null,0,null,0,null,0,null,0,null,0,null,0,null,0,null,0,null,0,null,0,null,0,null,0,null,0,null,0,null,0,null,0,null,0,null,0,null,0,null,0,null,0,null,0,null,0]
[]
[]
[null,null,"ITEM","DESCRIÇÃO","QUANTIDADE POR TRABALHADOR/ANO","UNIDADE","VALOR"]
[]
[null,null,1,"Sapato feminino fechado preto; tipo sapatilha, mocassim ou scarpin; leve; cabedal em material impermeável e sem cadarço; solado antiderrapante; salto baixo (1 a 3cm) quadrado ou anabela; palmilha conforto em espuma ou gel com propriedade antibacteriana.",2,"PAR",121.61,null,null,null,{"$f":"IF(SUM(J$47:J$49)>0,$E53*$G53,0)","v":0},null,{"$f":"IF(SUM(L$47:L$49)>0,$E53*$G53,0)","v":0},null,{"$f":"IF(SUM(N$47:N$49)>0,$E53*$G53,0)","v":0},null,{"$f":"IF(SUM(P$47:P$49)>0,$E53*$G53,0)","v":0},null,{"$f":"IF(SUM(R$47:R$49)>0,$E53*$G53,0)","v":0},null,{"$f":"IF(SUM(T$47:T$49)>0,$E53*$G53,0)","v":0},null,{"$f":"IF(SUM(V$47:V$49)>0,$E53*$G53,0)","v":0},null,{"$f":"IF(SUM(X$47:X$49)>0,$E53*$G53,0)","v":0},null,{"$f":"IF(SUM(Z$47:Z$49)>0,$E53*$G53,0)","v":0},null,{"$f":"IF(SUM(AB$47:AB$49)>0,$E53*$G53,0)","v":0},null,{"$f":"IF(SUM(AD$47:AD$49)>0,$E53*$G53,0)","v":0},null,{"$f":"IF(SUM(AF$47:AF$49)>0,$E53*$G53,0)","v":0},null,{"$f":"IF(SUM(AH$47:AH$49)>0,$E53*$G53,0)","v":0},null,{"$f":"IF(SUM(AJ$47:AJ$49)>0,$E53*$G53,0)","v":0},null,{"$f":"IF(SUM(AL$47:AL$49)>0,$E53*$G53,0)","v":0},null,{"$f":"IF(SUM(AN$47:AN$49)>0,$E53*$G53,0)","v":0},null,{"$f":"IF(SUM(AP$47:AP$49)>0,$E53*$G53,0)","v":0},null,{"$f":"IF(SUM(AR$47:AR$49)>0,$E53*$G53,0)","v":0},null,{"$f":"IF(SUM(AT$47:AT$49)>0,$E53*$G53,0)","v":0},null,{"$f":"IF(SUM(AV$47:AV$49)>0,$E53*$G53,0)","v":0},null,{"$f":"IF(SUM(AX$47:AX$49)>0,$E53*$G53,0)","v":0},null,{"$f":"IF(SUM(AZ$47:AZ$49)>0,$E53*$G53,0)","v":0},null,{"$f":"IF(SUM(BB$47:BB$49)>0,$E53*$G53,0)","v":0},null,{"$f":"IF(SUM(BD$47:BD$49)>0,$E53*$G53,0)","v":0},null,{"$f":"IF(SUM(BF$47:BF$49)>0,$E53*$G53,0)","v":0},null,{"$f":"IF(SUM(BH$47:BH$49)>0,$E53*$G53,0)","v":0},null,{"$f":"IF(SUM(BJ$47:BJ$49)>0,$E53*$G53,0)","v":0},null,{"$f":"IF(SUM(BL$47:BL$49)>0,$E53*$G53,0)","v":0},null,{"$f":"IF(SUM(BN$47:BN$49)>0,$E53*$G53,0)","v":0},null,{"$f":"IF(SUM(BP$47:BP$49)>0,$E53*$G53,0)","v":0},null,{"$f":"IF(SUM(BR$47:BR$49)>0,$E53*$G53,0)","v":0},null,{"$f":"IF(SUM(BT$47:BT$49)>0,$E53*$G53,0)","v":0},null,{"$f":"IF(SUM(BV$47:BV$49)>0,$E53*$G53,0)","v":0},null,{"$f":"IF(SUM(BX$47:BX$49)>0,$E53*$G53,0)","v":0},null,{"$f":"IF(SUM(BZ$47:BZ$49)>0,$E53*$G53,0)","v":0},null,{"$f":"IF(SUM(CB$47:CB$49)>0,$E53*$G53,0)","v":0},null,{"$f":"IF(SUM(CD$47:CD$49)>0,$E53*$G53,0)","v":0},null,{"$f":"IF(SUM(CF$47:CF$49)>0,$E53*$G53,0)","v":0},null,{"$f":"IF(SUM(CH$47:CH$49)>0,$E53*$G53,0)","v":0},null,{"$f":"IF(SUM(CJ$47:CJ$49)>0,$E53*$G53,0)","v":0},null,{"$f":"IF(SUM(CL$47:CL$49)>0,$E53*$G53,0)","v":0},null,{"$f":"IF(SUM(CN$47:CN$49)>0,$E53*$G53,0)","v":0},null,{"$f":"IF(SUM(CP$47:CP$49)>0,$E53*$G53,0)","v":0},null,{"$f":"IF(SUM(CR$47:CR$49)>0,$E53*$G53,0)","v":0},null,{"$f":"IF(SUM(CT$47:CT$49)>0,$E53*$G53,0)","v":0},null,{"$f":"IF(SUM(CV$47:CV$49)>0,$E53*$G53,0)","v":0},null,{"$f":"IF(SUM(CX$47:CX$49)>0,$E53*$G53,0)","v":0},null,{"$f":"IF(SUM(CZ$47:CZ$49)>0,$E53*$G53,0)","v":0},null,{"$f":"IF(SUM(DB$47:DB$49)>0,$E53*$G53,0)","v":0},null,{"$f":"IF(SUM(DD$47:DD$49)>0,$E53*$G53,0)","v":0},null,{"$f":"IF(SUM(DF$47:DF$49)>0,$E53*$G53,0)","v":0},null,{"$f":"IF(SUM(DH$47:DH$49)>0,$E53*$G53,0)","v":0},null,{"$f":"IF(SUM(DJ$47:DJ$49)>0,$E53*$G53,0)","v":0},null,{"$f":"IF(SUM(DL$47:DL$49)>0,$E53*$G53,0)","v":0},null,{"$f":"IF(SUM(DN$47:DN$49)>0,$E53*$G53,0)","v":0},null,{"$f":"IF(SUM(DP$47:DP$49)>0,$E53*$G53,0)","v":0},null,{"$f":"IF(SUM(DR$47:DR$49)>0,$E53*$G53,0)","v":0},null,{"$f":"IF(SUM(DT$47:DT$49)>0,$E53*$G53,0)","v":0},null,{"$f":"IF(SUM(DV$47:DV$49)>0,$E53*$G53,0)","v":0},null,{"$f":"IF(SUM(DX$47:DX$49)>0,$E53*$G53,0)","v":0}]
[]
[]
[null,null,"CATEGORIAS",null,null,null,"QUANTIDADE"]
[null,null,null,null,null,null,null,null,null,{"$f":"IF($C57=J$3,1,0)","v":0},null,{"$f":"IF($C57=L$3,1,0)","v":0},null,0,null,0,null,0,null,0,null,0,null,0,null,0,null,0,null,0,null,0,null,0,null,0,null,0,null,0,null,0,null,{"$f":"IF($C57=AR$3,1,0)","v":0},null,0,null,0,null,0,null,0,null,0,null,0,null,0,null,0,null,0,null,0,null,0,null,0,null,0,null,0,null,0,null,0,null,0,null,0,null,0,null,0,null,0,null,0,null,0,null,0,null,0,null,0,null,0,null,0,null,0,null,0,null,0,null,{"$f":"IF($C57=DD$3,1,0)","v":0},null,0,null,0,null,0,null,0,null,0,null,0,null,0,null,0,null,0,null,0]
[null,null,null,{"$f":"HLOOKUP($C58,'Dados Gerais'!$D$6:$V$11,6,0)","v":{"$error":"#N/A"}},null,null,{"$f":"HLOOKUP($C58,'Dados Gerais'!$D$6:$V$15,10,0)","v":{"$error":"#N/A"}},null,null,{"$f":"IF($C58=J$3,1,0)","v":0},null,0,null,{"$f":"IF($C58=N$3,1,0)","v":0},null,0,null,0,null,0,null,0,null,0,null,0,null,0,null,0,null,0,null,0,null,0,null,0,null,0,null,0,null,0,null,0,null,0,null,0,null,0,null,0,null,0,null,0,null,0,null,0,null,0,null,0,null,0,null,0,null,0,null,0,null,0,null,0,null,0,null,0,null,0,null,0,null,0,null,0,null,0,null,0,null,0,null,0,null,0,null,0,null,0,null,0,null,0,null,0,null,0,null,0,null,0,null,0,null,0,null,0,null,0,null,0,null,0]
[]
[]
[null,null,"ITEM","DESCRIÇÃO","QUANTIDADE POR TRABALHADOR/ANO","UNIDADE","VALOR"]
[]
[null,null,1,"Calçado ocupacional tipo sapato SOCIAL, fechamento em cadarço, confeccionado em vaqueta lisa na cor preta, colarinho acolchoado, forração interna em tecido não tecido, palmilha higiência antibacteriana, solado bidensidade, resistência ao escorregamento nível SCR, em conformidade com a NBR 20347. Ref.Marluvas CA: 33698.",2,"PAR",174.22,null,null,null,{"$f":"IF(SUM(J$57:J$59)>0,$E63*$G63,0)","v":0},null,{"$f":"IF(SUM(L$57:L$59)>0,$E63*$G63,0)","v":0},null,{"$f":"IF(SUM(N$57:N$59)>0,$E63*$G63,0)","v":0},null,{"$f":"IF(SUM(P$57:P$59)>0,$E63*$G63,0)","v":0},null,{"$f":"IF(SUM(R$57:R$59)>0,$E63*$G63,0)","v":0},null,{"$f":"IF(SUM(T$57:T$59)>0,$E63*$G63,0)","v":0},null,{"$f":"IF(SUM(V$57:V$59)>0,$E63*$G63,0)","v":0},null,{"$f":"IF(SUM(X$57:X$59)>0,$E63*$G63,0)","v":0},null,{"$f":"IF(SUM(Z$57:Z$59)>0,$E63*$G63,0)","v":0},null,{"$f":"IF(SUM(AB$57:AB$59)>0,$E63*$G63,0)","v":0},null,{"$f":"IF(SUM(AD$57:AD$59)>0,$E63*$G63,0)","v":0},null,{"$f":"IF(SUM(AF$57:AF$59)>0,$E63*$G63,0)","v":0},null,{"$f":"IF(SUM(AH$57:AH$59)>0,$E63*$G63,0)","v":0},null,{"$f":"IF(SUM(AJ$57:AJ$59)>0,$E63*$G63,0)","v":0},null,{"$f":"IF(SUM(AL$57:AL$59)>0,$E63*$G63,0)","v":0},null,{"$f":"IF(SUM(AN$57:AN$59)>0,$E63*$G63,0)","v":0},null,{"$f":"IF(SUM(AP$57:AP$59)>0,$E63*$G63,0)","v":0},null,{"$f":"IF(SUM(AR$57:AR$59)>0,$E63*$G63,0)","v":0},null,{"$f":"IF(SUM(AT$57:AT$59)>0,$E63*$G63,0)","v":0},null,{"$f":"IF(SUM(AV$57:AV$59)>0,$E63*$G63,0)","v":0},null,{"$f":"IF(SUM(AX$57:AX$59)>0,$E63*$G63,0)","v":0},null,{"$f":"IF(SUM(AZ$57:AZ$59)>0,$E63*$G63,0)","v":0},null,{"$f":"IF(SUM(BB$57:BB$59)>0,$E63*$G63,0)","v":0},null,{"$f":"IF(SUM(BD$57:BD$59)>0,$E63*$G63,0)","v":0},null,{"$f":"IF(SUM(BF$57:BF$59)>0,$E63*$G63,0)","v":0},null,{"$f":"IF(SUM(BH$57:BH$59)>0,$E63*$G63,0)","v":0},null,{"$f":"IF(SUM(BJ$57:BJ$59)>0,$E63*$G63,0)","v":0},null,{"$f":"IF(SUM(BL$57:BL$59)>0,$E63*$G63,0)","v":0},null,{"$f":"IF(SUM(BN$57:BN$59)>0,$E63*$G63,0)","v":0},null,{"$f":"IF(SUM(BP$57:BP$59)>0,$E63*$G63,0)","v":0},null,{"$f":"IF(SUM(BR$57:BR$59)>0,$E63*$G63,0)","v":0},null,{"$f":"IF(SUM(BT$57:BT$59)>0,$E63*$G63,0)","v":0},null,{"$f":"IF(SUM(BV$57:BV$59)>0,$E63*$G63,0)","v":0},null,{"$f":"IF(SUM(BX$57:BX$59)>0,$E63*$G63,0)","v":0},null,{"$f":"IF(SUM(BZ$57:BZ$59)>0,$E63*$G63,0)","v":0},null,{"$f":"IF(SUM(CB$57:CB$59)>0,$E63*$G63,0)","v":0},null,{"$f":"IF(SUM(CD$57:CD$59)>0,$E63*$G63,0)","v":0},null,{"$f":"IF(SUM(CF$57:CF$59)>0,$E63*$G63,0)","v":0},null,{"$f":"IF(SUM(CH$57:CH$59)>0,$E63*$G63,0)","v":0},null,{"$f":"IF(SUM(CJ$57:CJ$59)>0,$E63*$G63,0)","v":0},null,{"$f":"IF(SUM(CL$57:CL$59)>0,$E63*$G63,0)","v":0},null,{"$f":"IF(SUM(CN$57:CN$59)>0,$E63*$G63,0)","v":0},null,{"$f":"IF(SUM(CP$57:CP$59)>0,$E63*$G63,0)","v":0},null,{"$f":"IF(SUM(CR$57:CR$59)>0,$E63*$G63,0)","v":0},null,{"$f":"IF(SUM(CT$57:CT$59)>0,$E63*$G63,0)","v":0},null,{"$f":"IF(SUM(CV$57:CV$59)>0,$E63*$G63,0)","v":0},null,{"$f":"IF(SUM(CX$57:CX$59)>0,$E63*$G63,0)","v":0},null,{"$f":"IF(SUM(CZ$57:CZ$59)>0,$E63*$G63,0)","v":0},null,{"$f":"IF(SUM(DB$57:DB$59)>0,$E63*$G63,0)","v":0},null,{"$f":"IF(SUM(DD$57:DD$59)>0,$E63*$G63,0)","v":0},null,{"$f":"IF(SUM(DF$57:DF$59)>0,$E63*$G63,0)","v":0},null,{"$f":"IF(SUM(DH$57:DH$59)>0,$E63*$G63,0)","v":0},null,{"$f":"IF(SUM(DJ$57:DJ$59)>0,$E63*$G63,0)","v":0},null,{"$f":"IF(SUM(DL$57:DL$59)>0,$E63*$G63,0)","v":0},null,{"$f":"IF(SUM(DN$57:DN$59)>0,$E63*$G63,0)","v":0},null,{"$f":"IF(SUM(DP$57:DP$59)>0,$E63*$G63,0)","v":0},null,{"$f":"IF(SUM(DR$57:DR$59)>0,$E63*$G63,0)","v":0},null,{"$f":"IF(SUM(DT$57:DT$59)>0,$E63*$G63,0)","v":0},null,{"$f":"IF(SUM(DV$57:DV$59)>0,$E63*$G63,0)","v":0},null,{"$f":"IF(SUM(DX$57:DX$59)>0,$E63*$G63,0)","v":0}]
[]
[]
[null,null,"CATEGORIAS",null,null,null,"QUANTIDADE"]
[null,null,null,null,null,null,null,null,null,{"$f":"IF($C67=J$3,1,0)","v":0},null,{"$f":"IF($C67=L$3,1,0)","v":0},null,0,null,0,null,0,null,0,null,0,null,0,null,0,null,0,null,0,null,0,null,0,null,0,null,0,null,0,null,0,null,{"$f":"IF($C67=AR$3,1,0)","v":0},null,0,null,0,null,0,null,0,null,0,null,0,null,0,null,0,null,0,null,0,null,0,null,0,null,0,null,0,null,0,null,0,null,0,null,0,null,0,null,0,null,0,null,0,null,0,null,0,null,0,null,0,null,0,null,0,null,0,null,0,null,0,null,{"$f":"IF($C67=DD$3,1,0)","v":0},null,0,null,0,null,0,null,0,null,0,null,0,null,0,null,0,null,0,null,0]
[null,null,null,{"$f":"HLOOKUP($C68,'Dados Gerais'!$D$6:$V$11,6,0)","v":{"$error":"#N/A"}},null,null,{"$f":"HLOOKUP($C68,'Dados Gerais'!$D$6:$V$15,10,0)","v":{"$error":"#N/A"}},null,null,{"$f":"IF($C68=J$3,1,0)","v":0},null,0,null,{"$f":"IF($C68=N$3,1,0)","v":0},null,0,null,0,null,0,null,0,null,0,null,0,null,0,null,0,null,0,null,0,null,0,null,0,null,0,null,0,null,0,null,0,null,0,null,0,null,0,null,0,null,0,null,0,null,0,null,0,null,0,null,0,null,0,null,0,null,0,null,0,null,0,null,0,null,0,null,0,null,0,null,0,null,0,null,0,null,0,null,0,null,0,null,0,null,0,null,0,null,0,null,0,null,0,null,0,null,0,null,0,null,0,null,0,null,0,null,0,null,0,null,0,null,0]
[]
[]
[null,null,"ITEM","DESCRIÇÃO","QUANTIDADE POR TRABALHADOR/ANO","UNIDADE","VALOR"]
[]
[null,null,1,"Sapato feminino fechado preto; tipo sapatilha, mocassim ou scarpin; leve; cabedal em material impermeável e sem cadarço; solado antiderrapante; salto baixo (1 a 3cm) quadrado ou anabela; palmilha conforto em espuma ou gel com propriedade antibacteriana.",3,"PAR",121.61,null,null,null,{"$f":"IF(SUM(J$67:J$69)>0,$E73*$G73,0)","v":0},null,{"$f":"IF(SUM(L$67:L$69)>0,$E73*$G73,0)","v":0},null,{"$f":"IF(SUM(N$67:N$69)>0,$E73*$G73,0)","v":0},null,{"$f":"IF(SUM(P$67:P$69)>0,$E73*$G73,0)","v":0},null,{"$f":"IF(SUM(R$67:R$69)>0,$E73*$G73,0)","v":0},null,{"$f":"IF(SUM(T$67:T$69)>0,$E73*$G73,0)","v":0},null,{"$f":"IF(SUM(V$67:V$69)>0,$E73*$G73,0)","v":0},null,{"$f":"IF(SUM(X$67:X$69)>0,$E73*$G73,0)","v":0},null,{"$f":"IF(SUM(Z$67:Z$69)>0,$E73*$G73,0)","v":0},null,{"$f":"IF(SUM(AB$67:AB$69)>0,$E73*$G73,0)","v":0},null,{"$f":"IF(SUM(AD$67:AD$69)>0,$E73*$G73,0)","v":0},null,{"$f":"IF(SUM(AF$67:AF$69)>0,$E73*$G73,0)","v":0},null,{"$f":"IF(SUM(AH$67:AH$69)>0,$E73*$G73,0)","v":0},null,{"$f":"IF(SUM(AJ$67:AJ$69)>0,$E73*$G73,0)","v":0},null,{"$f":"IF(SUM(AL$67:AL$69)>0,$E73*$G73,0)","v":0},null,{"$f":"IF(SUM(AN$67:AN$69)>0,$E73*$G73,0)","v":0},null,{"$f":"IF(SUM(AP$67:AP$69)>0,$E73*$G73,0)","v":0},null,{"$f":"IF(SUM(AR$67:AR$69)>0,$E73*$G73,0)","v":0},null,{"$f":"IF(SUM(AT$67:AT$69)>0,$E73*$G73,0)","v":0},null,{"$f":"IF(SUM(AV$67:AV$69)>0,$E73*$G73,0)","v":0},null,{"$f":"IF(SUM(AX$67:AX$69)>0,$E73*$G73,0)","v":0},null,{"$f":"IF(SUM(AZ$67:AZ$69)>0,$E73*$G73,0)","v":0},null,{"$f":"IF(SUM(BB$67:BB$69)>0,$E73*$G73,0)","v":0},null,{"$f":"IF(SUM(BD$67:BD$69)>0,$E73*$G73,0)","v":0},null,{"$f":"IF(SUM(BF$67:BF$69)>0,$E73*$G73,0)","v":0},null,{"$f":"IF(SUM(BH$67:BH$69)>0,$E73*$G73,0)","v":0},null,{"$f":"IF(SUM(BJ$67:BJ$69)>0,$E73*$G73,0)","v":0},null,{"$f":"IF(SUM(BL$67:BL$69)>0,$E73*$G73,0)","v":0},null,{"$f":"IF(SUM(BN$67:BN$69)>0,$E73*$G73,0)","v":0},null,{"$f":"IF(SUM(BP$67:BP$69)>0,$E73*$G73,0)","v":0},null,{"$f":"IF(SUM(BR$67:BR$69)>0,$E73*$G73,0)","v":0},null,{"$f":"IF(SUM(BT$67:BT$69)>0,$E73*$G73,0)","v":0},null,{"$f":"IF(SUM(BV$67:BV$69)>0,$E73*$G73,0)","v":0},null,{"$f":"IF(SUM(BX$67:BX$69)>0,$E73*$G73,0)","v":0},null,{"$f":"IF(SUM(BZ$67:BZ$69)>0,$E73*$G73,0)","v":0},null,{"$f":"IF(SUM(CB$67:CB$69)>0,$E73*$G73,0)","v":0},null,{"$f":"IF(SUM(CD$67:CD$69)>0,$E73*$G73,0)","v":0},null,{"$f":"IF(SUM(CF$67:CF$69)>0,$E73*$G73,0)","v":0},null,{"$f":"IF(SUM(CH$67:CH$69)>0,$E73*$G73,0)","v":0},null,{"$f":"IF(SUM(CJ$67:CJ$69)>0,$E73*$G73,0)","v":0},null,{"$f":"IF(SUM(CL$67:CL$69)>0,$E73*$G73,0)","v":0},null,{"$f":"IF(SUM(CN$67:CN$69)>0,$E73*$G73,0)","v":0},null,{"$f":"IF(SUM(CP$67:CP$69)>0,$E73*$G73,0)","v":0},null,{"$f":"IF(SUM(CR$67:CR$69)>0,$E73*$G73,0)","v":0},null,{"$f":"IF(SUM(CT$67:CT$69)>0,$E73*$G73,0)","v":0},null,{"$f":"IF(SUM(CV$67:CV$69)>0,$E73*$G73,0)","v":0},null,{"$f":"IF(SUM(CX$67:CX$69)>0,$E73*$G73,0)","v":0},null,{"$f":"IF(SUM(CZ$67:CZ$69)>0,$E73*$G73,0)","v":0},null,{"$f":"IF(SUM(DB$67:DB$69)>0,$E73*$G73,0)","v":0},null,{"$f":"IF(SUM(DD$67:DD$69)>0,$E73*$G73,0)","v":0},null,{"$f":"IF(SUM(DF$67:DF$69)>0,$E73*$G73,0)","v":0},null,{"$f":"IF(SUM(DH$67:DH$69)>0,$E73*$G73,0)","v":0},null,{"$f":"IF(SUM(DJ$67:DJ$69)>0,$E73*$G73,0)","v":0},null,{"$f":"IF(SUM(DL$67:DL$69)>0,$E73*$G73,0)","v":0},null,{"$f":"IF(SUM(DN$67:DN$69)>0,$E73*$G73,0)","v":0},null,{"$f":"IF(SUM(DP$67:DP$69)>0,$E73*$G73,0)","v":0},null,{"$f":"IF(SUM(DR$67:DR$69)>0,$E73*$G73,0)","v":0},null,{"$f":"IF(SUM(DT$67:DT$69)>0,$E73*$G73,0)","v":0},null,{"$f":"IF(SUM(DV$67:DV$69)>0,$E73*$G73,0)","v":0},null,{"$f":"IF(SUM(DX$67:DX$69)>0,$E73*$G73,0)","v":0}]
[]
[]
[null,null,"CATEGORIAS",null,null,null,"QUANTIDADE"]
[null,null,null,null,null,null,null,null,null,{"$f":"IF($C77=J$3,1,0)","v":0},null,{"$f":"IF($C77=L$3,1,0)","v":0},null,0,null,0,null,0,null,0,null,0,null,0,null,0,null,0,null,0,null,0,null,0,null,0,null,0,null,0,null,0,null,{"$f":"IF($C77=AR$3,1,0)","v":0},null,0,null,0,null,0,null,0,null,0,null,0,null,0,null,0,null,0,null,0,null,0,null,0,null,0,null,0,null,0,null,0,null,0,null,0,null,0,null,0,null,0,null,0,null,0,null,0,null,0,null,0,null,0,null,0,null,0,null,0,null,0,null,{"$f":"IF($C77=DD$3,1,0)","v":0},null,0,null,0,null,0,null,0,null,0,null,0,null,0,null,0,null,0,null,0]
[null,null,null,{"$f":"HLOOKUP($C78,'Dados Gerais'!$D$6:$V$11,6,0)","v":{"$error":"#N/A"}},null,null,{"$f":"HLOOKUP($C78,'Dados Gerais'!$D$6:$V$15,10,0)","v":{"$error":"#N/A"}},null,null,{"$f":"IF($C78=J$3,1,0)","v":0},null,0,null,{"$f":"IF($C78=N$3,1,0)","v":0},null,0,null,0,null,0,null,0,null,0,null,0,null,0,null,0,null,0,null,0,null,0,null,0,null,0,null,0,null,0,null,0,null,0,null,0,null,0,null,0,null,0,null,0,null,0,null,0,null,0,null,0,null,0,null,0,null,0,null,0,null,0,null,0,null,0,null,0,null,0,null,0,null,0,null,0,null,0,null,0,null,0,null,0,null,0,null,0,null,0,null,0,null,0,null,0,null,0,null,0,null,0,null,0,null,0,null,0,null,0,null,0,null,0]
[]
[]
[null,null,"ITEM","DESCRIÇÃO","QUANTIDADE POR TRABALHADOR/ANO","UNIDADE","VALOR"]
[]
[null,null,1,"Sapato feminino fechado preto; tipo sapatilha, mocassim ou scarpin; leve; cabedal em material impermeável e sem cadarço; solado antiderrapante; salto baixo (1 a 3cm) quadrado ou anabela; palmilha conforto em espuma ou gel com propriedade antibacteriana.",2,"PAR",121.61,null,null,null,{"$f":"IF(SUM(J$77:J$79)>0,$E83*$G83,0)","v":0},null,{"$f":"IF(SUM(L$77:L$79)>0,$E83*$G83,0)","v":0},null,{"$f":"IF(SUM(N$77:N$79)>0,$E83*$G83,0)","v":0},null,{"$f":"IF(SUM(P$77:P$79)>0,$E83*$G83,0)","v":0},null,{"$f":"IF(SUM(R$77:R$79)>0,$E83*$G83,0)","v":0},null,{"$f":"IF(SUM(T$77:T$79)>0,$E83*$G83,0)","v":0},null,{"$f":"IF(SUM(V$77:V$79)>0,$E83*$G83,0)","v":0},null,{"$f":"IF(SUM(X$77:X$79)>0,$E83*$G83,0)","v":0},null,{"$f":"IF(SUM(Z$77:Z$79)>0,$E83*$G83,0)","v":0},null,{"$f":"IF(SUM(AB$77:AB$79)>0,$E83*$G83,0)","v":0},null,{"$f":"IF(SUM(AD$77:AD$79)>0,$E83*$G83,0)","v":0},null,{"$f":"IF(SUM(AF$77:AF$79)>0,$E83*$G83,0)","v":0},null,{"$f":"IF(SUM(AH$77:AH$79)>0,$E83*$G83,0)","v":0},null,{"$f":"IF(SUM(AJ$77:AJ$79)>0,$E83*$G83,0)","v":0},null,{"$f":"IF(SUM(AL$77:AL$79)>0,$E83*$G83,0)","v":0},null,{"$f":"IF(SUM(AN$77:AN$79)>0,$E83*$G83,0)","v":0},null,{"$f":"IF(SUM(AP$77:AP$79)>0,$E83*$G83,0)","v":0},null,{"$f":"IF(SUM(AR$77:AR$79)>0,$E83*$G83,0)","v":0},null,{"$f":"IF(SUM(AT$77:AT$79)>0,$E83*$G83,0)","v":0},null,{"$f":"IF(SUM(AV$77:AV$79)>0,$E83*$G83,0)","v":0},null,{"$f":"IF(SUM(AX$77:AX$79)>0,$E83*$G83,0)","v":0},null,{"$f":"IF(SUM(AZ$77:AZ$79)>0,$E83*$G83,0)","v":0},null,{"$f":"IF(SUM(BB$77:BB$79)>0,$E83*$G83,0)","v":0},null,{"$f":"IF(SUM(BD$77:BD$79)>0,$E83*$G83,0)","v":0},null,{"$f":"IF(SUM(BF$77:BF$79)>0,$E83*$G83,0)","v":0},null,{"$f":"IF(SUM(BH$77:BH$79)>0,$E83*$G83,0)","v":0},null,{"$f":"IF(SUM(BJ$77:BJ$79)>0,$E83*$G83,0)","v":0},null,{"$f":"IF(SUM(BL$77:BL$79)>0,$E83*$G83,0)","v":0},null,{"$f":"IF(SUM(BN$77:BN$79)>0,$E83*$G83,0)","v":0},null,{"$f":"IF(SUM(BP$77:BP$79)>0,$E83*$G83,0)","v":0},null,{"$f":"IF(SUM(BR$77:BR$79)>0,$E83*$G83,0)","v":0},null,{"$f":"IF(SUM(BT$77:BT$79)>0,$E83*$G83,0)","v":0},null,{"$f":"IF(SUM(BV$77:BV$79)>0,$E83*$G83,0)","v":0},null,{"$f":"IF(SUM(BX$77:BX$79)>0,$E83*$G83,0)","v":0},null,{"$f":"IF(SUM(BZ$77:BZ$79)>0,$E83*$G83,0)","v":0},null,{"$f":"IF(SUM(CB$77:CB$79)>0,$E83*$G83,0)","v":0},null,{"$f":"IF(SUM(CD$77:CD$79)>0,$E83*$G83,0)","v":0},null,{"$f":"IF(SUM(CF$77:CF$79)>0,$E83*$G83,0)","v":0},null,{"$f":"IF(SUM(CH$77:CH$79)>0,$E83*$G83,0)","v":0},null,{"$f":"IF(SUM(CJ$77:CJ$79)>0,$E83*$G83,0)","v":0},null,{"$f":"IF(SUM(CL$77:CL$79)>0,$E83*$G83,0)","v":0},null,{"$f":"IF(SUM(CN$77:CN$79)>0,$E83*$G83,0)","v":0},null,{"$f":"IF(SUM(CP$77:CP$79)>0,$E83*$G83,0)","v":0},null,{"$f":"IF(SUM(CR$77:CR$79)>0,$E83*$G83,0)","v":0},null,{"$f":"IF(SUM(CT$77:CT$79)>0,$E83*$G83,0)","v":0},null,{"$f":"IF(SUM(CV$77:CV$79)>0,$E83*$G83,0)","v":0},null,{"$f":"IF(SUM(CX$77:CX$79)>0,$E83*$G83,0)","v":0},null,{"$f":"IF(SUM(CZ$77:CZ$79)>0,$E83*$G83,0)","v":0},null,{"$f":"IF(SUM(DB$77:DB$79)>0,$E83*$G83,0)","v":0},null,{"$f":"IF(SUM(DD$77:DD$79)>0,$E83*$G83,0)","v":0},null,{"$f":"IF(SUM(DF$77:DF$79)>0,$E83*$G83,0)","v":0},null,{"$f":"IF(SUM(DH$77:DH$79)>0,$E83*$G83,0)","v":0},null,{"$f":"IF(SUM(DJ$77:DJ$79)>0,$E83*$G83,0)","v":0},null,{"$f":"IF(SUM(DL$77:DL$79)>0,$E83*$G83,0)","v":0},null,{"$f":"IF(SUM(DN$77:DN$79)>0,$E83*$G83,0)","v":0},null,{"$f":"IF(SUM(DP$77:DP$79)>0,$E83*$G83,0)","v":0},null,{"$f":"IF(SUM(DR$77:DR$79)>0,$E83*$G83,0)","v":0},null,{"$f":"IF(SUM(DT$77:DT$79)>0,$E83*$G83,0)","v":0},null,{"$f":"IF(SUM(DV$77:DV$79)>0,$E83*$G83,0)","v":0},null,{"$f":"IF(SUM(DX$77:DX$79)>0,$E83*$G83,0)","v":0}]
[]
[]
[null,null,"CATEGORIAS",null,null,null,"QUANTIDADE"]
[null,null,null,null,null,null,null,null,null,{"$f":"IF($C87=J$3,1,0)","v":0},null,{"$f":"IF($C87=L$3,1,0)","v":0},null,0,null,0,null,0,null,0,null,0,null,0,null,0,null,0,null,0,null,0,null,0,null,0,null,0,null,0,null,0,null,{"$f":"IF($C87=AR$3,1,0)","v":0},null,0,null,0,null,0,null,0,null,0,null,0,null,0,null,0,null,0,null,0,null,0,null,0,null,0,null,0,null,0,null,0,null,0,null,0,null,0,null,0,null,0,null,0,null,0,null,0,null,0,null,0,null,0,null,0,null,0,null,0,null,0,null,{"$f":"IF($C87=DD$3,1,0)","v":0},null,0,null,0,null,0,null,0,null,0,null,0,null,0,null,0,null,0,null,0]
[null,null,null,{"$f":"HLOOKUP($C88,'Dados Gerais'!$D$6:$V$11,6,0)","v":{"$error":"#N/A"}},null,null,{"$f":"HLOOKUP($C88,'Dados Gerais'!$D$6:$V$15,10,0)","v":{"$error":"#N/A"}},null,null,{"$f":"IF($C88=J$3,1,0)","v":0},null,0,null,{"$f":"IF($C88=N$3,1,0)","v":0},null,0,null,0,null,0,null,0,null,0,null,0,null,0,null,0,null,0,null,0,null,0,null,0,null,0,null,0,null,0,null,0,null,0,null,0,null,0,null,0,null,0,null,0,null,0,null,0,null,0,null,0,null,0,null,0,null,0,null,0,null,0,null,0,null,0,null,0,null,0,null,0,null,0,null,0,null,0,null,0,null,0,null,0,null,0,null,0,null,0,null,0,null,0,null,0,null,0,null,0,null,0,null,0,null,0,null,0,null,0,null,0,null,0]
[]
[]
[null,null,"ITEM","DESCRIÇÃO","QUANTIDADE POR TRABALHADOR/ANO","UNIDADE","VALOR"]
[]
[null,null,1,"Calçado ocupacional tipo sapato SOCIAL, fechamento em cadarço, confeccionado em vaqueta lisa na cor preta, colarinho acolchoado, forração interna em tecido não tecido, palmilha higiência antibacteriana, solado bidensidade, resistência ao escorregamento nível SCR, em conformidade com a NBR 20347. Ref.Marluvas CA: 33698.",2,"PAR",174.22,null,null,null,{"$f":"IF(SUM(J$87:J$89)>0,$E93*$G93,0)","v":0},null,{"$f":"IF(SUM(L$87:L$89)>0,$E93*$G93,0)","v":0},null,{"$f":"IF(SUM(N$87:N$89)>0,$E93*$G93,0)","v":0},null,{"$f":"IF(SUM(P$87:P$89)>0,$E93*$G93,0)","v":0},null,{"$f":"IF(SUM(R$87:R$89)>0,$E93*$G93,0)","v":0},null,{"$f":"IF(SUM(T$87:T$89)>0,$E93*$G93,0)","v":0},null,{"$f":"IF(SUM(V$87:V$89)>0,$E93*$G93,0)","v":0},null,{"$f":"IF(SUM(X$87:X$89)>0,$E93*$G93,0)","v":0},null,{"$f":"IF(SUM(Z$87:Z$89)>0,$E93*$G93,0)","v":0},null,{"$f":"IF(SUM(AB$87:AB$89)>0,$E93*$G93,0)","v":0},null,{"$f":"IF(SUM(AD$87:AD$89)>0,$E93*$G93,0)","v":0},null,{"$f":"IF(SUM(AF$87:AF$89)>0,$E93*$G93,0)","v":0},null,{"$f":"IF(SUM(AH$87:AH$89)>0,$E93*$G93,0)","v":0},null,{"$f":"IF(SUM(AJ$87:AJ$89)>0,$E93*$G93,0)","v":0},null,{"$f":"IF(SUM(AL$87:AL$89)>0,$E93*$G93,0)","v":0},null,{"$f":"IF(SUM(AN$87:AN$89)>0,$E93*$G93,0)","v":0},null,{"$f":"IF(SUM(AP$87:AP$89)>0,$E93*$G93,0)","v":0},null,{"$f":"IF(SUM(AR$87:AR$89)>0,$E93*$G93,0)","v":0},null,{"$f":"IF(SUM(AT$87:AT$89)>0,$E93*$G93,0)","v":0},null,{"$f":"IF(SUM(AV$87:AV$89)>0,$E93*$G93,0)","v":0},null,{"$f":"IF(SUM(AX$87:AX$89)>0,$E93*$G93,0)","v":0},null,{"$f":"IF(SUM(AZ$87:AZ$89)>0,$E93*$G93,0)","v":0},null,{"$f":"IF(SUM(BB$87:BB$89)>0,$E93*$G93,0)","v":0},null,{"$f":"IF(SUM(BD$87:BD$89)>0,$E93*$G93,0)","v":0},null,{"$f":"IF(SUM(BF$87:BF$89)>0,$E93*$G93,0)","v":0},null,{"$f":"IF(SUM(BH$87:BH$89)>0,$E93*$G93,0)","v":0},null,{"$f":"IF(SUM(BJ$87:BJ$89)>0,$E93*$G93,0)","v":0},null,{"$f":"IF(SUM(BL$87:BL$89)>0,$E93*$G93,0)","v":0},null,{"$f":"IF(SUM(BN$87:BN$89)>0,$E93*$G93,0)","v":0},null,{"$f":"IF(SUM(BP$87:BP$89)>0,$E93*$G93,0)","v":0},null,{"$f":"IF(SUM(BR$87:BR$89)>0,$E93*$G93,0)","v":0},null,{"$f":"IF(SUM(BT$87:BT$89)>0,$E93*$G93,0)","v":0},null,{"$f":"IF(SUM(BV$87:BV$89)>0,$E93*$G93,0)","v":0},null,{"$f":"IF(SUM(BX$87:BX$89)>0,$E93*$G93,0)","v":0},null,{"$f":"IF(SUM(BZ$87:BZ$89)>0,$E93*$G93,0)","v":0},null,{"$f":"IF(SUM(CB$87:CB$89)>0,$E93*$G93,0)","v":0},null,{"$f":"IF(SUM(CD$87:CD$89)>0,$E93*$G93,0)","v":0},null,{"$f":"IF(SUM(CF$87:CF$89)>0,$E93*$G93,0)","v":0},null,{"$f":"IF(SUM(CH$87:CH$89)>0,$E93*$G93,0)","v":0},null,{"$f":"IF(SUM(CJ$87:CJ$89)>0,$E93*$G93,0)","v":0},null,{"$f":"IF(SUM(CL$87:CL$89)>0,$E93*$G93,0)","v":0},null,{"$f":"IF(SUM(CN$87:CN$89)>0,$E93*$G93,0)","v":0},null,{"$f":"IF(SUM(CP$87:CP$89)>0,$E93*$G93,0)","v":0},null,{"$f":"IF(SUM(CR$87:CR$89)>0,$E93*$G93,0)","v":0},null,{"$f":"IF(SUM(CT$87:CT$89)>0,$E93*$G93,0)","v":0},null,{"$f":"IF(SUM(CV$87:CV$89)>0,$E93*$G93,0)","v":0},null,{"$f":"IF(SUM(CX$87:CX$89)>0,$E93*$G93,0)","v":0},null,{"$f":"IF(SUM(CZ$87:CZ$89)>0,$E93*$G93,0)","v":0},null,{"$f":"IF(SUM(DB$87:DB$89)>0,$E93*$G93,0)","v":0},null,{"$f":"IF(SUM(DD$87:DD$89)>0,$E93*$G93,0)","v":0},null,{"$f":"IF(SUM(DF$87:DF$89)>0,$E93*$G93,0)","v":0},null,{"$f":"IF(SUM(DH$87:DH$89)>0,$E93*$G93,0)","v":0},null,{"$f":"IF(SUM(DJ$87:DJ$89)>0,$E93*$G93,0)","v":0},null,{"$f":"IF(SUM(DL$87:DL$89)>0,$E93*$G93,0)","v":0},null,{"$f":"IF(SUM(DN$87:DN$89)>0,$E93*$G93,0)","v":0},null,{"$f":"IF(SUM(DP$87:DP$89)>0,$E93*$G93,0)","v":0},null,{"$f":"IF(SUM(DR$87:DR$89)>0,$E93*$G93,0)","v":0},null,{"$f":"IF(SUM(DT$87:DT$89)>0,$E93*$G93,0)","v":0},null,{"$f":"IF(SUM(DV$87:DV$89)>0,$E93*$G93,0)","v":0},null,{"$f":"IF(SUM(DX$87:DX$89)>0,$E93*$G93,0)","v":0}]
[]
[]
[null,null,"CATEGORIAS",null,null,null,"QUANTIDADE"]
[null,null,null,null,null,null,null,null,null,{"$f":"IF($C97=J$3,1,0)","v":0},null,{"$f":"IF($C97=L$3,1,0)","v":0},null,0,null,0,null,0,null,0,null,0,null,0,null,0,null,0,null,0,null,0,null,0,null,0,null,0,null,0,null,0,null,{"$f":"IF($C97=AR$3,1,0)","v":0},null,0,null,0,null,0,null,0,null,0,null,0,null,0,null,0,null,0,null,0,null,0,null,0,null,0,null,0,null,0,null,0,null,0,null,0,null,0,null,0,null,0,null,0,null,0,null,0,null,0,null,0,null,0,null,0,null,0,null,0,null,0,null,{"$f":"IF($C97=DD$3,1,0)","v":0},null,0,null,0,null,0,null,0,null,0,null,0,null,0,null,0,null,0,null,0]
[null,null,null,{"$f":"HLOOKUP($C98,'Dados Gerais'!$D$6:$V$11,6,0)","v":{"$error":"#N/A"}},null,null,{"$f":"HLOOKUP($C98,'Dados Gerais'!$D$6:$V$15,10,0)","v":{"$error":"#N/A"}},null,null,{"$f":"IF($C98=J$3,1,0)","v":0},null,0,null,{"$f":"IF($C98=N$3,1,0)","v":0},null,0,null,0,null,0,null,0,null,0,null,0,null,0,null,0,null,0,null,0,null,0,null,0,null,0,null,0,null,0,null,0,null,0,null,0,null,0,null,0,null,0,null,0,null,0,null,0,null,0,null,0,null,0,null,0,null,0,null,0,null,0,null,0,null,0,null,0,null,0,null,0,null,0,null,0,null,0,null,0,null,0,null,0,null,0,null,0,null,0,null,0,null,0,null,0,null,0,null,0,null,0,null,0,null,0,null,0,null,0,null,0,null,0]
[]
[]
[null,null,"ITEM","DESCRIÇÃO","QUANTIDADE POR TRABALHADOR/ANO","UNIDADE","VALOR"]
[]
[null,null,1,"Calçado ocupacional em EVA, fechado no calcanhar e parte superior, com solado de borracha antiderrapante (resistência ao escorregamento SRC), resistente ao óleo combustível, absorção de energia na região do salto, com palmilha interna removível, cabedal com substância antimicrobiana, junto à formulação do composto EVA, ativa durante toda a vida útil do produto. Cor preta. Ref.: Soft Works Ca 37212",3,"PAR",95.54,null,null,null,{"$f":"IF(SUM(J$97:J$99)>0,$E103*$G103,0)","v":0},null,{"$f":"IF(SUM(L$97:L$99)>0,$E103*$G103,0)","v":0},null,{"$f":"IF(SUM(N$97:N$99)>0,$E103*$G103,0)","v":0},null,{"$f":"IF(SUM(P$97:P$99)>0,$E103*$G103,0)","v":0},null,{"$f":"IF(SUM(R$97:R$99)>0,$E103*$G103,0)","v":0},null,{"$f":"IF(SUM(T$97:T$99)>0,$E103*$G103,0)","v":0},null,{"$f":"IF(SUM(V$97:V$99)>0,$E103*$G103,0)","v":0},null,{"$f":"IF(SUM(X$97:X$99)>0,$E103*$G103,0)","v":0},null,{"$f":"IF(SUM(Z$97:Z$99)>0,$E103*$G103,0)","v":0},null,{"$f":"IF(SUM(AB$97:AB$99)>0,$E103*$G103,0)","v":0},null,{"$f":"IF(SUM(AD$97:AD$99)>0,$E103*$G103,0)","v":0},null,{"$f":"IF(SUM(AF$97:AF$99)>0,$E103*$G103,0)","v":0},null,{"$f":"IF(SUM(AH$97:AH$99)>0,$E103*$G103,0)","v":0},null,{"$f":"IF(SUM(AJ$97:AJ$99)>0,$E103*$G103,0)","v":0},null,{"$f":"IF(SUM(AL$97:AL$99)>0,$E103*$G103,0)","v":0},null,{"$f":"IF(SUM(AN$97:AN$99)>0,$E103*$G103,0)","v":0},null,{"$f":"IF(SUM(AP$97:AP$99)>0,$E103*$G103,0)","v":0},null,{"$f":"IF(SUM(AR$97:AR$99)>0,$E103*$G103,0)","v":0},null,{"$f":"IF(SUM(AT$97:AT$99)>0,$E103*$G103,0)","v":0},null,{"$f":"IF(SUM(AV$97:AV$99)>0,$E103*$G103,0)","v":0},null,{"$f":"IF(SUM(AX$97:AX$99)>0,$E103*$G103,0)","v":0},null,{"$f":"IF(SUM(AZ$97:AZ$99)>0,$E103*$G103,0)","v":0},null,{"$f":"IF(SUM(BB$97:BB$99)>0,$E103*$G103,0)","v":0},null,{"$f":"IF(SUM(BD$97:BD$99)>0,$E103*$G103,0)","v":0},null,{"$f":"IF(SUM(BF$97:BF$99)>0,$E103*$G103,0)","v":0},null,{"$f":"IF(SUM(BH$97:BH$99)>0,$E103*$G103,0)","v":0},null,{"$f":"IF(SUM(BJ$97:BJ$99)>0,$E103*$G103,0)","v":0},null,{"$f":"IF(SUM(BL$97:BL$99)>0,$E103*$G103,0)","v":0},null,{"$f":"IF(SUM(BN$97:BN$99)>0,$E103*$G103,0)","v":0},null,{"$f":"IF(SUM(BP$97:BP$99)>0,$E103*$G103,0)","v":0},null,{"$f":"IF(SUM(BR$97:BR$99)>0,$E103*$G103,0)","v":0},null,{"$f":"IF(SUM(BT$97:BT$99)>0,$E103*$G103,0)","v":0},null,{"$f":"IF(SUM(BV$97:BV$99)>0,$E103*$G103,0)","v":0},null,{"$f":"IF(SUM(BX$97:BX$99)>0,$E103*$G103,0)","v":0},null,{"$f":"IF(SUM(BZ$97:BZ$99)>0,$E103*$G103,0)","v":0},null,{"$f":"IF(SUM(CB$97:CB$99)>0,$E103*$G103,0)","v":0},null,{"$f":"IF(SUM(CD$97:CD$99)>0,$E103*$G103,0)","v":0},null,{"$f":"IF(SUM(CF$97:CF$99)>0,$E103*$G103,0)","v":0},null,{"$f":"IF(SUM(CH$97:CH$99)>0,$E103*$G103,0)","v":0},null,{"$f":"IF(SUM(CJ$97:CJ$99)>0,$E103*$G103,0)","v":0},null,{"$f":"IF(SUM(CL$97:CL$99)>0,$E103*$G103,0)","v":0},null,{"$f":"IF(SUM(CN$97:CN$99)>0,$E103*$G103,0)","v":0},null,{"$f":"IF(SUM(CP$97:CP$99)>0,$E103*$G103,0)","v":0},null,{"$f":"IF(SUM(CR$97:CR$99)>0,$E103*$G103,0)","v":0},null,{"$f":"IF(SUM(CT$97:CT$99)>0,$E103*$G103,0)","v":0},null,{"$f":"IF(SUM(CV$97:CV$99)>0,$E103*$G103,0)","v":0},null,{"$f":"IF(SUM(CX$97:CX$99)>0,$E103*$G103,0)","v":0},null,{"$f":"IF(SUM(CZ$97:CZ$99)>0,$E103*$G103,0)","v":0},null,{"$f":"IF(SUM(DB$97:DB$99)>0,$E103*$G103,0)","v":0},null,{"$f":"IF(SUM(DD$97:DD$99)>0,$E103*$G103,0)","v":0},null,{"$f":"IF(SUM(DF$97:DF$99)>0,$E103*$G103,0)","v":0},null,{"$f":"IF(SUM(DH$97:DH$99)>0,$E103*$G103,0)","v":0},null,{"$f":"IF(SUM(DJ$97:DJ$99)>0,$E103*$G103,0)","v":0},null,{"$f":"IF(SUM(DL$97:DL$99)>0,$E103*$G103,0)","v":0},null,{"$f":"IF(SUM(DN$97:DN$99)>0,$E103*$G103,0)","v":0},null,{"$f":"IF(SUM(DP$97:DP$99)>0,$E103*$G103,0)","v":0},null,{"$f":"IF(SUM(DR$97:DR$99)>0,$E103*$G103,0)","v":0},null,{"$f":"IF(SUM(DT$97:DT$99)>0,$E103*$G103,0)","v":0},null,{"$f":"IF(SUM(DV$97:DV$99)>0,$E103*$G103,0)","v":0},null,{"$f":"IF(SUM(DX$97:DX$99)>0,$E103*$G103,0)","v":0}]
[null,null,2,"Avental de segurança confeccionado em vinil laminado e transparente, tiras soldadas eletronicamente, sendo uma no pescoço e duas na cintura com fivela plástica para fechamento, acabamento nas laterais por solda eletrônica. Dimensões: 1,20×0,70m. Ref. Maicol CA 38316",2,"UND",16.89,null,null,null,{"$f":"IF(SUM(J$97:J$99)>0,$E104*$G104,0)","v":0},null,{"$f":"IF(SUM(L$97:L$99)>0,$E104*$G104,0)","v":0},null,{"$f":"IF(SUM(N$97:N$99)>0,$E104*$G104,0)","v":0},null,{"$f":"IF(SUM(P$97:P$99)>0,$E104*$G104,0)","v":0},null,{"$f":"IF(SUM(R$97:R$99)>0,$E104*$G104,0)","v":0},null,{"$f":"IF(SUM(T$97:T$99)>0,$E104*$G104,0)","v":0},null,{"$f":"IF(SUM(V$97:V$99)>0,$E104*$G104,0)","v":0},null,{"$f":"IF(SUM(X$97:X$99)>0,$E104*$G104,0)","v":0},null,{"$f":"IF(SUM(Z$97:Z$99)>0,$E104*$G104,0)","v":0},null,{"$f":"IF(SUM(AB$97:AB$99)>0,$E104*$G104,0)","v":0},null,{"$f":"IF(SUM(AD$97:AD$99)>0,$E104*$G104,0)","v":0},null,{"$f":"IF(SUM(AF$97:AF$99)>0,$E104*$G104,0)","v":0},null,{"$f":"IF(SUM(AH$97:AH$99)>0,$E104*$G104,0)","v":0},null,{"$f":"IF(SUM(AJ$97:AJ$99)>0,$E104*$G104,0)","v":0},null,{"$f":"IF(SUM(AL$97:AL$99)>0,$E104*$G104,0)","v":0},null,{"$f":"IF(SUM(AN$97:AN$99)>0,$E104*$G104,0)","v":0},null,{"$f":"IF(SUM(AP$97:AP$99)>0,$E104*$G104,0)","v":0},null,{"$f":"IF(SUM(AR$97:AR$99)>0,$E104*$G104,0)","v":0},null,{"$f":"IF(SUM(AT$97:AT$99)>0,$E104*$G104,0)","v":0},null,{"$f":"IF(SUM(AV$97:AV$99)>0,$E104*$G104,0)","v":0},null,{"$f":"IF(SUM(AX$97:AX$99)>0,$E104*$G104,0)","v":0},null,{"$f":"IF(SUM(AZ$97:AZ$99)>0,$E104*$G104,0)","v":0},null,{"$f":"IF(SUM(BB$97:BB$99)>0,$E104*$G104,0)","v":0},null,{"$f":"IF(SUM(BD$97:BD$99)>0,$E104*$G104,0)","v":0},null,{"$f":"IF(SUM(BF$97:BF$99)>0,$E104*$G104,0)","v":0},null,{"$f":"IF(SUM(BH$97:BH$99)>0,$E104*$G104,0)","v":0},null,{"$f":"IF(SUM(BJ$97:BJ$99)>0,$E104*$G104,0)","v":0},null,{"$f":"IF(SUM(BL$97:BL$99)>0,$E104*$G104,0)","v":0},null,{"$f":"IF(SUM(BN$97:BN$99)>0,$E104*$G104,0)","v":0},null,{"$f":"IF(SUM(BP$97:BP$99)>0,$E104*$G104,0)","v":0},null,{"$f":"IF(SUM(BR$97:BR$99)>0,$E104*$G104,0)","v":0},null,{"$f":"IF(SUM(BT$97:BT$99)>0,$E104*$G104,0)","v":0},null,{"$f":"IF(SUM(BV$97:BV$99)>0,$E104*$G104,0)","v":0},null,{"$f":"IF(SUM(BX$97:BX$99)>0,$E104*$G104,0)","v":0},null,{"$f":"IF(SUM(BZ$97:BZ$99)>0,$E104*$G104,0)","v":0},null,{"$f":"IF(SUM(CB$97:CB$99)>0,$E104*$G104,0)","v":0},null,{"$f":"IF(SUM(CD$97:CD$99)>0,$E104*$G104,0)","v":0},null,{"$f":"IF(SUM(CF$97:CF$99)>0,$E104*$G104,0)","v":0},null,{"$f":"IF(SUM(CH$97:CH$99)>0,$E104*$G104,0)","v":0},null,{"$f":"IF(SUM(CJ$97:CJ$99)>0,$E104*$G104,0)","v":0},null,{"$f":"IF(SUM(CL$97:CL$99)>0,$E104*$G104,0)","v":0},null,{"$f":"IF(SUM(CN$97:CN$99)>0,$E104*$G104,0)","v":0},null,{"$f":"IF(SUM(CP$97:CP$99)>0,$E104*$G104,0)","v":0},null,{"$f":"IF(SUM(CR$97:CR$99)>0,$E104*$G104,0)","v":0},null,{"$f":"IF(SUM(CT$97:CT$99)>0,$E104*$G104,0)","v":0},null,{"$f":"IF(SUM(CV$97:CV$99)>0,$E104*$G104,0)","v":0},null,{"$f":"IF(SUM(CX$97:CX$99)>0,$E104*$G104,0)","v":0},null,{"$f":"IF(SUM(CZ$97:CZ$99)>0,$E104*$G104,0)","v":0},null,{"$f":"IF(SUM(DB$97:DB$99)>0,$E104*$G104,0)","v":0},null,{"$f":"IF(SUM(DD$97:DD$99)>0,$E104*$G104,0)","v":0},null,{"$f":"IF(SUM(DF$97:DF$99)>0,$E104*$G104,0)","v":0},null,{"$f":"IF(SUM(DH$97:DH$99)>0,$E104*$G104,0)","v":0},null,{"$f":"IF(SUM(DJ$97:DJ$99)>0,$E104*$G104,0)","v":0},null,{"$f":"IF(SUM(DL$97:DL$99)>0,$E104*$G104,0)","v":0},null,{"$f":"IF(SUM(DN$97:DN$99)>0,$E104*$G104,0)","v":0},null,{"$f":"IF(SUM(DP$97:DP$99)>0,$E104*$G104,0)","v":0},null,{"$f":"IF(SUM(DR$97:DR$99)>0,$E104*$G104,0)","v":0},null,{"$f":"IF(SUM(DT$97:DT$99)>0,$E104*$G104,0)","v":0},null,{"$f":"IF(SUM(DV$97:DV$99)>0,$E104*$G104,0)","v":0},null,{"$f":"IF(SUM(DX$97:DX$99)>0,$E104*$G104,0)","v":0}]
[null,null,3,"Luva de Segurança confeccionada em LÁTEX natural anatômica (esp. mínima 0,60mm), acabamento forrado em algodão flocado, antiderrapante na palma e dedos. Ref.: Mucambo.",6,"PAR",7.14,null,null,null,0,null,{"$f":"IF(SUM(L$97:L$99)>0,$E105*$G105,0)","v":0},null,{"$f":"IF(SUM(N$97:N$99)>0,$E105*$G105,0)","v":0},null,{"$f":"IF(SUM(P$97:P$99)>0,$E105*$G105,0)","v":0},null,{"$f":"IF(SUM(R$97:R$99)>0,$E105*$G105,0)","v":0},null,{"$f":"IF(SUM(T$97:T$99)>0,$E105*$G105,0)","v":0},null,{"$f":"IF(SUM(V$97:V$99)>0,$E105*$G105,0)","v":0},null,{"$f":"IF(SUM(X$97:X$99)>0,$E105*$G105,0)","v":0},null,{"$f":"IF(SUM(Z$97:Z$99)>0,$E105*$G105,0)","v":0},null,{"$f":"IF(SUM(AB$97:AB$99)>0,$E105*$G105,0)","v":0},null,{"$f":"IF(SUM(AD$97:AD$99)>0,$E105*$G105,0)","v":0},null,{"$f":"IF(SUM(AF$97:AF$99)>0,$E105*$G105,0)","v":0},null,{"$f":"IF(SUM(AH$97:AH$99)>0,$E105*$G105,0)","v":0},null,{"$f":"IF(SUM(AJ$97:AJ$99)>0,$E105*$G105,0)","v":0},null,{"$f":"IF(SUM(AL$97:AL$99)>0,$E105*$G105,0)","v":0},null,{"$f":"IF(SUM(AN$97:AN$99)>0,$E105*$G105,0)","v":0},null,{"$f":"IF(SUM(AP$97:AP$99)>0,$E105*$G105,0)","v":0},null,{"$f":"IF(SUM(AR$97:AR$99)>0,$E105*$G105,0)","v":0},null,{"$f":"IF(SUM(AT$97:AT$99)>0,$E105*$G105,0)","v":0},null,{"$f":"IF(SUM(AV$97:AV$99)>0,$E105*$G105,0)","v":0},null,{"$f":"IF(SUM(AX$97:AX$99)>0,$E105*$G105,0)","v":0},null,{"$f":"IF(SUM(AZ$97:AZ$99)>0,$E105*$G105,0)","v":0},null,{"$f":"IF(SUM(BB$97:BB$99)>0,$E105*$G105,0)","v":0},null,{"$f":"IF(SUM(BD$97:BD$99)>0,$E105*$G105,0)","v":0},null,{"$f":"IF(SUM(BF$97:BF$99)>0,$E105*$G105,0)","v":0},null,{"$f":"IF(SUM(BH$97:BH$99)>0,$E105*$G105,0)","v":0},null,{"$f":"IF(SUM(BJ$97:BJ$99)>0,$E105*$G105,0)","v":0},null,{"$f":"IF(SUM(BL$97:BL$99)>0,$E105*$G105,0)","v":0},null,{"$f":"IF(SUM(BN$97:BN$99)>0,$E105*$G105,0)","v":0},null,{"$f":"IF(SUM(BP$97:BP$99)>0,$E105*$G105,0)","v":0},null,{"$f":"IF(SUM(BR$97:BR$99)>0,$E105*$G105,0)","v":0},null,{"$f":"IF(SUM(BT$97:BT$99)>0,$E105*$G105,0)","v":0},null,{"$f":"IF(SUM(BV$97:BV$99)>0,$E105*$G105,0)","v":0},null,{"$f":"IF(SUM(BX$97:BX$99)>0,$E105*$G105,0)","v":0},null,{"$f":"IF(SUM(BZ$97:BZ$99)>0,$E105*$G105,0)","v":0},null,{"$f":"IF(SUM(CB$97:CB$99)>0,$E105*$G105,0)","v":0},null,{"$f":"IF(SUM(CD$97:CD$99)>0,$E105*$G105,0)","v":0},null,{"$f":"IF(SUM(CF$97:CF$99)>0,$E105*$G105,0)","v":0},null,{"$f":"IF(SUM(CH$97:CH$99)>0,$E105*$G105,0)","v":0},null,{"$f":"IF(SUM(CJ$97:CJ$99)>0,$E105*$G105,0)","v":0},null,{"$f":"IF(SUM(CL$97:CL$99)>0,$E105*$G105,0)","v":0},null,{"$f":"IF(SUM(CN$97:CN$99)>0,$E105*$G105,0)","v":0},null,{"$f":"IF(SUM(CP$97:CP$99)>0,$E105*$G105,0)","v":0},null,{"$f":"IF(SUM(CR$97:CR$99)>0,$E105*$G105,0)","v":0},null,{"$f":"IF(SUM(CT$97:CT$99)>0,$E105*$G105,0)","v":0},null,{"$f":"IF(SUM(CV$97:CV$99)>0,$E105*$G105,0)","v":0},null,{"$f":"IF(SUM(CX$97:CX$99)>0,$E105*$G105,0)","v":0},null,{"$f":"IF(SUM(CZ$97:CZ$99)>0,$E105*$G105,0)","v":0},null,{"$f":"IF(SUM(DB$97:DB$99)>0,$E105*$G105,0)","v":0},null,{"$f":"IF(SUM(DD$97:DD$99)>0,$E105*$G105,0)","v":0},null,{"$f":"IF(SUM(DF$97:DF$99)>0,$E105*$G105,0)","v":0},null,{"$f":"IF(SUM(DH$97:DH$99)>0,$E105*$G105,0)","v":0},null,{"$f":"IF(SUM(DJ$97:DJ$99)>0,$E105*$G105,0)","v":0},null,{"$f":"IF(SUM(DL$97:DL$99)>0,$E105*$G105,0)","v":0},null,{"$f":"IF(SUM(DN$97:DN$99)>0,$E105*$G105,0)","v":0},null,{"$f":"IF(SUM(DP$97:DP$99)>0,$E105*$G105,0)","v":0},null,{"$f":"IF(SUM(DR$97:DR$99)>0,$E105*$G105,0)","v":0},null,{"$f":"IF(SUM(DT$97:DT$99)>0,$E105*$G105,0)","v":0},null,{"$f":"IF(SUM(DV$97:DV$99)>0,$E105*$G105,0)","v":0},null,{"$f":"IF(SUM(DX$97:DX$99)>0,$E105*$G105,0)","v":0}]
[null,null,4,"Touca sanfonada, em TNT (100% polipropileno), elástico; impermeabilidade mínima de 80%, descartável, cor branca. Ref. Sky. ",{"$f":"20*12","v":240},"UND",0.15,null,null,null,0,null,{"$f":"IF(SUM(L$97:L$99)>0,$E106*$G106,0)","v":0},null,{"$f":"IF(SUM(N$97:N$99)>0,$E106*$G106,0)","v":0},null,{"$f":"IF(SUM(P$97:P$99)>0,$E106*$G106,0)","v":0},null,{"$f":"IF(SUM(R$97:R$99)>0,$E106*$G106,0)","v":0},null,{"$f":"IF(SUM(T$97:T$99)>0,$E106*$G106,0)","v":0},null,{"$f":"IF(SUM(V$97:V$99)>0,$E106*$G106,0)","v":0},null,{"$f":"IF(SUM(X$97:X$99)>0,$E106*$G106,0)","v":0},null,{"$f":"IF(SUM(Z$97:Z$99)>0,$E106*$G106,0)","v":0},null,{"$f":"IF(SUM(AB$97:AB$99)>0,$E106*$G106,0)","v":0},null,{"$f":"IF(SUM(AD$97:AD$99)>0,$E106*$G106,0)","v":0},null,{"$f":"IF(SUM(AF$97:AF$99)>0,$E106*$G106,0)","v":0},null,{"$f":"IF(SUM(AH$97:AH$99)>0,$E106*$G106,0)","v":0},null,{"$f":"IF(SUM(AJ$97:AJ$99)>0,$E106*$G106,0)","v":0},null,{"$f":"IF(SUM(AL$97:AL$99)>0,$E106*$G106,0)","v":0},null,{"$f":"IF(SUM(AN$97:AN$99)>0,$E106*$G106,0)","v":0},null,{"$f":"IF(SUM(AP$97:AP$99)>0,$E106*$G106,0)","v":0},null,{"$f":"IF(SUM(AR$97:AR$99)>0,$E106*$G106,0)","v":0},null,{"$f":"IF(SUM(AT$97:AT$99)>0,$E106*$G106,0)","v":0},null,{"$f":"IF(SUM(AV$97:AV$99)>0,$E106*$G106,0)","v":0},null,{"$f":"IF(SUM(AX$97:AX$99)>0,$E106*$G106,0)","v":0},null,{"$f":"IF(SUM(AZ$97:AZ$99)>0,$E106*$G106,0)","v":0},null,{"$f":"IF(SUM(BB$97:BB$99)>0,$E106*$G106,0)","v":0},null,{"$f":"IF(SUM(BD$97:BD$99)>0,$E106*$G106,0)","v":0},null,{"$f":"IF(SUM(BF$97:BF$99)>0,$E106*$G106,0)","v":0},null,{"$f":"IF(SUM(BH$97:BH$99)>0,$E106*$G106,0)","v":0},null,{"$f":"IF(SUM(BJ$97:BJ$99)>0,$E106*$G106,0)","v":0},null,{"$f":"IF(SUM(BL$97:BL$99)>0,$E106*$G106,0)","v":0},null,{"$f":"IF(SUM(BN$97:BN$99)>0,$E106*$G106,0)","v":0},null,{"$f":"IF(SUM(BP$97:BP$99)>0,$E106*$G106,0)","v":0},null,{"$f":"IF(SUM(BR$97:BR$99)>0,$E106*$G106,0)","v":0},null,{"$f":"IF(SUM(BT$97:BT$99)>0,$E106*$G106,0)","v":0},null,{"$f":"IF(SUM(BV$97:BV$99)>0,$E106*$G106,0)","v":0},null,{"$f":"IF(SUM(BX$97:BX$99)>0,$E106*$G106,0)","v":0},null,{"$f":"IF(SUM(BZ$97:BZ$99)>0,$E106*$G106,0)","v":0},null,{"$f":"IF(SUM(CB$97:CB$99)>0,$E106*$G106,0)","v":0},null,{"$f":"IF(SUM(CD$97:CD$99)>0,$E106*$G106,0)","v":0},null,{"$f":"IF(SUM(CF$97:CF$99)>0,$E106*$G106,0)","v":0},null,{"$f":"IF(SUM(CH$97:CH$99)>0,$E106*$G106,0)","v":0},null,{"$f":"IF(SUM(CJ$97:CJ$99)>0,$E106*$G106,0)","v":0},null,{"$f":"IF(SUM(CL$97:CL$99)>0,$E106*$G106,0)","v":0},null,{"$f":"IF(SUM(CN$97:CN$99)>0,$E106*$G106,0)","v":0},null,{"$f":"IF(SUM(CP$97:CP$99)>0,$E106*$G106,0)","v":0},null,{"$f":"IF(SUM(CR$97:CR$99)>0,$E106*$G106,0)","v":0},null,{"$f":"IF(SUM(CT$97:CT$99)>0,$E106*$G106,0)","v":0},null,{"$f":"IF(SUM(CV$97:CV$99)>0,$E106*$G106,0)","v":0},null,{"$f":"IF(SUM(CX$97:CX$99)>0,$E106*$G106,0)","v":0},null,{"$f":"IF(SUM(CZ$97:CZ$99)>0,$E106*$G106,0)","v":0},null,{"$f":"IF(SUM(DB$97:DB$99)>0,$E106*$G106,0)","v":0},null,{"$f":"IF(SUM(DD$97:DD$99)>0,$E106*$G106,0)","v":0},null,{"$f":"IF(SUM(DF$97:DF$99)>0,$E106*$G106,0)","v":0},null,{"$f":"IF(SUM(DH$97:DH$99)>0,$E106*$G106,0)","v":0},null,{"$f":"IF(SUM(DJ$97:DJ$99)>0,$E106*$G106,0)","v":0},null,{"$f":"IF(SUM(DL$97:DL$99)>0,$E106*$G106,0)","v":0},null,{"$f":"IF(SUM(DN$97:DN$99)>0,$E106*$G106,0)","v":0},null,{"$f":"IF(SUM(DP$97:DP$99)>0,$E106*$G106,0)","v":0},null,{"$f":"IF(SUM(DR$97:DR$99)>0,$E106*$G106,0)","v":0},null,{"$f":"IF(SUM(DT$97:DT$99)>0,$E106*$G106,0)","v":0},null,{"$f":"IF(SUM(DV$97:DV$99)>0,$E106*$G106,0)","v":0},null,{"$f":"IF(SUM(DX$97:DX$99)>0,$E106*$G106,0)","v":0}]
[null,null,5,"Luva de segurança tricotada com fibras térmicas de poliéster e spandex, sem emendas, ambidestra.Ref. Volk CA 17924",6,"PAR",27.08,null,null,null,0,null,{"$f":"IF(SUM(L$97:L$99)>0,$E107*$G107,0)","v":0},null,{"$f":"IF(SUM(N$97:N$99)>0,$E107*$G107,0)","v":0},null,{"$f":"IF(SUM(P$97:P$99)>0,$E107*$G107,0)","v":0},null,{"$f":"IF(SUM(R$97:R$99)>0,$E107*$G107,0)","v":0},null,{"$f":"IF(SUM(T$97:T$99)>0,$E107*$G107,0)","v":0},null,{"$f":"IF(SUM(V$97:V$99)>0,$E107*$G107,0)","v":0},null,{"$f":"IF(SUM(X$97:X$99)>0,$E107*$G107,0)","v":0},null,{"$f":"IF(SUM(Z$97:Z$99)>0,$E107*$G107,0)","v":0},null,{"$f":"IF(SUM(AB$97:AB$99)>0,$E107*$G107,0)","v":0},null,{"$f":"IF(SUM(AD$97:AD$99)>0,$E107*$G107,0)","v":0},null,{"$f":"IF(SUM(AF$97:AF$99)>0,$E107*$G107,0)","v":0},null,{"$f":"IF(SUM(AH$97:AH$99)>0,$E107*$G107,0)","v":0},null,{"$f":"IF(SUM(AJ$97:AJ$99)>0,$E107*$G107,0)","v":0},null,{"$f":"IF(SUM(AL$97:AL$99)>0,$E107*$G107,0)","v":0},null,{"$f":"IF(SUM(AN$97:AN$99)>0,$E107*$G107,0)","v":0},null,{"$f":"IF(SUM(AP$97:AP$99)>0,$E107*$G107,0)","v":0},null,{"$f":"IF(SUM(AR$97:AR$99)>0,$E107*$G107,0)","v":0},null,{"$f":"IF(SUM(AT$97:AT$99)>0,$E107*$G107,0)","v":0},null,{"$f":"IF(SUM(AV$97:AV$99)>0,$E107*$G107,0)","v":0},null,{"$f":"IF(SUM(AX$97:AX$99)>0,$E107*$G107,0)","v":0},null,{"$f":"IF(SUM(AZ$97:AZ$99)>0,$E107*$G107,0)","v":0},null,{"$f":"IF(SUM(BB$97:BB$99)>0,$E107*$G107,0)","v":0},null,{"$f":"IF(SUM(BD$97:BD$99)>0,$E107*$G107,0)","v":0},null,{"$f":"IF(SUM(BF$97:BF$99)>0,$E107*$G107,0)","v":0},null,{"$f":"IF(SUM(BH$97:BH$99)>0,$E107*$G107,0)","v":0},null,{"$f":"IF(SUM(BJ$97:BJ$99)>0,$E107*$G107,0)","v":0},null,{"$f":"IF(SUM(BL$97:BL$99)>0,$E107*$G107,0)","v":0},null,{"$f":"IF(SUM(BN$97:BN$99)>0,$E107*$G107,0)","v":0},null,{"$f":"IF(SUM(BP$97:BP$99)>0,$E107*$G107,0)","v":0},null,{"$f":"IF(SUM(BR$97:BR$99)>0,$E107*$G107,0)","v":0},null,{"$f":"IF(SUM(BT$97:BT$99)>0,$E107*$G107,0)","v":0},null,{"$f":"IF(SUM(BV$97:BV$99)>0,$E107*$G107,0)","v":0},null,{"$f":"IF(SUM(BX$97:BX$99)>0,$E107*$G107,0)","v":0},null,{"$f":"IF(SUM(BZ$97:BZ$99)>0,$E107*$G107,0)","v":0},null,{"$f":"IF(SUM(CB$97:CB$99)>0,$E107*$G107,0)","v":0},null,{"$f":"IF(SUM(CD$97:CD$99)>0,$E107*$G107,0)","v":0},null,{"$f":"IF(SUM(CF$97:CF$99)>0,$E107*$G107,0)","v":0},null,{"$f":"IF(SUM(CH$97:CH$99)>0,$E107*$G107,0)","v":0},null,{"$f":"IF(SUM(CJ$97:CJ$99)>0,$E107*$G107,0)","v":0},null,{"$f":"IF(SUM(CL$97:CL$99)>0,$E107*$G107,0)","v":0},null,{"$f":"IF(SUM(CN$97:CN$99)>0,$E107*$G107,0)","v":0},null,{"$f":"IF(SUM(CP$97:CP$99)>0,$E107*$G107,0)","v":0},null,{"$f":"IF(SUM(CR$97:CR$99)>0,$E107*$G107,0)","v":0},null,{"$f":"IF(SUM(CT$97:CT$99)>0,$E107*$G107,0)","v":0},null,{"$f":"IF(SUM(CV$97:CV$99)>0,$E107*$G107,0)","v":0},null,{"$f":"IF(SUM(CX$97:CX$99)>0,$E107*$G107,0)","v":0},null,{"$f":"IF(SUM(CZ$97:CZ$99)>0,$E107*$G107,0)","v":0},null,{"$f":"IF(SUM(DB$97:DB$99)>0,$E107*$G107,0)","v":0},null,{"$f":"IF(SUM(DD$97:DD$99)>0,$E107*$G107,0)","v":0},null,{"$f":"IF(SUM(DF$97:DF$99)>0,$E107*$G107,0)","v":0},null,{"$f":"IF(SUM(DH$97:DH$99)>0,$E107*$G107,0)","v":0},null,{"$f":"IF(SUM(DJ$97:DJ$99)>0,$E107*$G107,0)","v":0},null,{"$f":"IF(SUM(DL$97:DL$99)>0,$E107*$G107,0)","v":0},null,{"$f":"IF(SUM(DN$97:DN$99)>0,$E107*$G107,0)","v":0},null,{"$f":"IF(SUM(DP$97:DP$99)>0,$E107*$G107,0)","v":0},null,{"$f":"IF(SUM(DR$97:DR$99)>0,$E107*$G107,0)","v":0},null,{"$f":"IF(SUM(DT$97:DT$99)>0,$E107*$G107,0)","v":0},null,{"$f":"IF(SUM(DV$97:DV$99)>0,$E107*$G107,0)","v":0},null,{"$f":"IF(SUM(DX$97:DX$99)>0,$E107*$G107,0)","v":0}]
[]
[]
[null,null,"CATEGORIAS",null,null,null,"QUANTIDADE"]
[null,null,null,null,null,null,null,null,null,{"$f":"IF($C111=J$3,1,0)","v":0},null,{"$f":"IF($C111=L$3,1,0)","v":0},null,0,null,0,null,0,null,0,null,0,null,0,null,0,null,0,null,0,null,0,null,0,null,0,null,0,null,0,null,0,null,{"$f":"IF($C111=AR$3,1,0)","v":0},null,0,null,0,null,0,null,0,null,0,null,0,null,0,null,0,null,0,null,0,null,0,null,0,null,0,null,0,null,0,null,0,null,0,null,0,null,0,null,0,null,0,null,0,null,0,null,0,null,0,null,0,null,0,null,0,null,0,null,0,null,0,null,{"$f":"IF($C111=DD$3,1,0)","v":0},null,0,null,0,null,0,null,0,null,0,null,0,null,0,null,0,null,0,null,0]
[null,null,null,{"$f":"HLOOKUP($C112,'Dados Gerais'!$D$6:$V$11,6,0)","v":{"$error":"#N/A"}},null,null,{"$f":"HLOOKUP($C112,'Dados Gerais'!$D$6:$V$15,10,0)","v":{"$error":"#N/A"}},null,null,{"$f":"IF($C112=J$3,1,0)","v":0},null,0,null,{"$f":"IF($C112=N$3,1,0)","v":0},null,0,null,0,null,0,null,0,null,0,null,0,null,0,null,0,null,0,null,0,null,0,null,0,null,0,null,0,null,0,null,0,null,0,null,0,null,0,null,0,null,0,null,0,null,0,null,0,null,0,null,0,null,0,null,0,null,0,null,0,null,0,null,0,null,0,null,0,null,0,null,0,null,0,null,0,null,0,null,0,null,0,null,0,null,0,null,0,null,0,null,0,null,0,null,0,null,0,null,0,null,0,null,0,null,0,null,0,null,0,null,0,null,0]
[null,null,null,null,null,null,null,null,null,{"$f":"IF($C113=J$3,1,0)","v":0},null,0,null,0,null,0,null,0,null,0,null,0,null,0,null,0,null,0,null,0,null,0,null,0,null,0,null,0,null,0,null,0,null,0,null,0,null,0,null,0,null,0,null,0,null,0,null,0,null,0,null,0,null,0,null,0,null,0,null,0,null,0,null,0,null,0,null,0,null,0,null,0,null,0,null,0,null,0,null,0,null,0,null,0,null,0,null,0,null,0,null,0,null,0,null,0,null,0,null,0,null,0,null,0,null,0,null,0,null,0,null,0,null,0,null,0,null,0]
[]
[null,null,"ITEM","DESCRIÇÃO","QUANTIDADE POR TRABALHADOR/ANO","UNIDADE","VALOR"]
[null,null,null,null,null,null,null,null,null,null,{"$f":"IF(SUM(J$7:J$9)>0,$E116*$G116,0)","v":0},null,{"$f":"IF(SUM(L$7:L$9)>0,$E116*$G116,0)","v":0},null,{"$f":"IF(SUM(N$7:N$9)>0,$E116*$G116,0)","v":0},null,{"$f":"IF(SUM(P$7:P$9)>0,$E116*$G116,0)","v":0},null,{"$f":"IF(SUM(R$7:R$9)>0,$E116*$G116,0)","v":0},null,{"$f":"IF(SUM(T$7:T$9)>0,$E116*$G116,0)","v":0},null,{"$f":"IF(SUM(V$7:V$9)>0,$E116*$G116,0)","v":0},null,{"$f":"IF(SUM(X$7:X$9)>0,$E116*$G116,0)","v":0},null,{"$f":"IF(SUM(Z$7:Z$9)>0,$E116*$G116,0)","v":0},null,{"$f":"IF(SUM(AB$7:AB$9)>0,$E116*$G116,0)","v":0},null,{"$f":"IF(SUM(AD$7:AD$9)>0,$E116*$G116,0)","v":0},null,{"$f":"IF(SUM(AF$7:AF$9)>0,$E116*$G116,0)","v":0},null,{"$f":"IF(SUM(AH$7:AH$9)>0,$E116*$G116,0)","v":0},null,{"$f":"IF(SUM(AJ$7:AJ$9)>0,$E116*$G116,0)","v":0},null,{"$f":"IF(SUM(AL$7:AL$9)>0,$E116*$G116,0)","v":0},null,{"$f":"IF(SUM(AN$7:AN$9)>0,$E116*$G116,0)","v":0},null,{"$f":"IF(SUM(AP$7:AP$9)>0,$E116*$G116,0)","v":0},null,{"$f":"IF(SUM(AR$7:AR$9)>0,$E116*$G116,0)","v":0},null,{"$f":"IF(SUM(AT$7:AT$9)>0,$E116*$G116,0)","v":0},null,{"$f":"IF(SUM(AV$7:AV$9)>0,$E116*$G116,0)","v":0},null,{"$f":"IF(SUM(AX$7:AX$9)>0,$E116*$G116,0)","v":0},null,{"$f":"IF(SUM(AZ$7:AZ$9)>0,$E116*$G116,0)","v":0},null,{"$f":"IF(SUM(BB$7:BB$9)>0,$E116*$G116,0)","v":0},null,{"$f":"IF(SUM(BD$7:BD$9)>0,$E116*$G116,0)","v":0},null,{"$f":"IF(SUM(BF$7:BF$9)>0,$E116*$G116,0)","v":0},null,{"$f":"IF(SUM(BH$7:BH$9)>0,$E116*$G116,0)","v":0},null,{"$f":"IF(SUM(BJ$7:BJ$9)>0,$E116*$G116,0)","v":0},null,{"$f":"IF(SUM(BL$7:BL$9)>0,$E116*$G116,0)","v":0},null,{"$f":"IF(SUM(BN$7:BN$9)>0,$E116*$G116,0)","v":0},null,{"$f":"IF(SUM(BP$7:BP$9)>0,$E116*$G116,0)","v":0},null,{"$f":"IF(SUM(BR$7:BR$9)>0,$E116*$G116,0)","v":0},null,{"$f":"IF(SUM(BT$7:BT$9)>0,$E116*$G116,0)","v":0},null,{"$f":"IF(SUM(BV$7:BV$9)>0,$E116*$G116,0)","v":0},null,{"$f":"IF(SUM(BX$7:BX$9)>0,$E116*$G116,0)","v":0},null,{"$f":"IF(SUM(BZ$7:BZ$9)>0,$E116*$G116,0)","v":0},null,{"$f":"IF(SUM(CB$7:CB$9)>0,$E116*$G116,0)","v":0},null,{"$f":"IF(SUM(CD$7:CD$9)>0,$E116*$G116,0)","v":0},null,{"$f":"IF(SUM(CF$7:CF$9)>0,$E116*$G116,0)","v":0},null,{"$f":"IF(SUM(CH$7:CH$9)>0,$E116*$G116,0)","v":0},null,{"$f":"IF(SUM(CJ$7:CJ$9)>0,$E116*$G116,0)","v":0},null,{"$f":"IF(SUM(CL$7:CL$9)>0,$E116*$G116,0)","v":0},null,{"$f":"IF(SUM(CN$7:CN$9)>0,$E116*$G116,0)","v":0},null,{"$f":"IF(SUM(CP$7:CP$9)>0,$E116*$G116,0)","v":0},null,{"$f":"IF(SUM(CR$7:CR$9)>0,$E116*$G116,0)","v":0},null,{"$f":"IF(SUM(CT$7:CT$9)>0,$E116*$G116,0)","v":0},null,{"$f":"IF(SUM(CV$7:CV$9)>0,$E116*$G116,0)","v":0},null,{"$f":"IF(SUM(CX$7:CX$9)>0,$E116*$G116,0)","v":0},null,{"$f":"IF(SUM(CZ$7:CZ$9)>0,$E116*$G116,0)","v":0},null,{"$f":"IF(SUM(DB$7:DB$9)>0,$E116*$G116,0)","v":0},null,{"$f":"IF(SUM(DD$7:DD$9)>0,$E116*$G116,0)","v":0},null,{"$f":"IF(SUM(DF$7:DF$9)>0,$E116*$G116,0)","v":0},null,{"$f":"IF(SUM(DH$7:DH$9)>0,$E116*$G116,0)","v":0},null,{"$f":"IF(SUM(DJ$7:DJ$9)>0,$E116*$G116,0)","v":0},null,{"$f":"IF(SUM(DL$7:DL$9)>0,$E116*$G116,0)","v":0},null,{"$f":"IF(SUM(DN$7:DN$9)>0,$E116*$G116,0)","v":0},null,{"$f":"IF(SUM(DP$7:DP$9)>0,$E116*$G116,0)","v":0},null,{"$f":"IF(SUM(DR$7:DR$9)>0,$E116*$G116,0)","v":0},null,{"$f":"IF(SUM(DT$7:DT$9)>0,$E116*$G116,0)","v":0},null,{"$f":"IF(SUM(DV$7:DV$9)>0,$E116*$G116,0)","v":0},null,{"$f":"IF(SUM(DX$7:DX$9)>0,$E116*$G116,0)","v":0}]
[null,null,1,"Calçado ocupacional em EVA, fechado no calcanhar e parte superior, com solado de borracha antiderrapante (resistência ao escorregamento SRC), resistente ao óleo combustível, absorção de energia na região do salto, com palmilha interna removível, cabedal com substância antimicrobiana, junto à formulação do composto EVA, ativa durante toda a vida útil do produto. Cor preta. Ref.: Soft Works Ca 37212",3,"PAR",95.54,null,null,null,{"$f":"IF(SUM(J$111:J$113)>0,$E117*$G117,0)","v":0},null,{"$f":"IF(SUM(L$111:L$113)>0,$E117*$G117,0)","v":0},null,{"$f":"IF(SUM(N$111:N$113)>0,$E117*$G117,0)","v":0},null,{"$f":"IF(SUM(P$111:P$113)>0,$E117*$G117,0)","v":0},null,{"$f":"IF(SUM(R$111:R$113)>0,$E117*$G117,0)","v":0},null,{"$f":"IF(SUM(T$111:T$113)>0,$E117*$G117,0)","v":0},null,{"$f":"IF(SUM(V$111:V$113)>0,$E117*$G117,0)","v":0},null,{"$f":"IF(SUM(X$111:X$113)>0,$E117*$G117,0)","v":0},null,{"$f":"IF(SUM(Z$111:Z$113)>0,$E117*$G117,0)","v":0},null,{"$f":"IF(SUM(AB$111:AB$113)>0,$E117*$G117,0)","v":0},null,{"$f":"IF(SUM(AD$111:AD$113)>0,$E117*$G117,0)","v":0},null,{"$f":"IF(SUM(AF$111:AF$113)>0,$E117*$G117,0)","v":0},null,{"$f":"IF(SUM(AH$111:AH$113)>0,$E117*$G117,0)","v":0},null,{"$f":"IF(SUM(AJ$111:AJ$113)>0,$E117*$G117,0)","v":0},null,{"$f":"IF(SUM(AL$111:AL$113)>0,$E117*$G117,0)","v":0},null,{"$f":"IF(SUM(AN$111:AN$113)>0,$E117*$G117,0)","v":0},null,{"$f":"IF(SUM(AP$111:AP$113)>0,$E117*$G117,0)","v":0},null,{"$f":"IF(SUM(AR$111:AR$113)>0,$E117*$G117,0)","v":0},null,{"$f":"IF(SUM(AT$111:AT$113)>0,$E117*$G117,0)","v":0},null,{"$f":"IF(SUM(AV$111:AV$113)>0,$E117*$G117,0)","v":0},null,{"$f":"IF(SUM(AX$111:AX$113)>0,$E117*$G117,0)","v":0},null,{"$f":"IF(SUM(AZ$111:AZ$113)>0,$E117*$G117,0)","v":0},null,{"$f":"IF(SUM(BB$111:BB$113)>0,$E117*$G117,0)","v":0},null,{"$f":"IF(SUM(BD$111:BD$113)>0,$E117*$G117,0)","v":0},null,{"$f":"IF(SUM(BF$111:BF$113)>0,$E117*$G117,0)","v":0},null,{"$f":"IF(SUM(BH$111:BH$113)>0,$E117*$G117,0)","v":0},null,{"$f":"IF(SUM(BJ$111:BJ$113)>0,$E117*$G117,0)","v":0},null,{"$f":"IF(SUM(BL$111:BL$113)>0,$E117*$G117,0)","v":0},null,{"$f":"IF(SUM(BN$111:BN$113)>0,$E117*$G117,0)","v":0},null,{"$f":"IF(SUM(BP$111:BP$113)>0,$E117*$G117,0)","v":0},null,{"$f":"IF(SUM(BR$111:BR$113)>0,$E117*$G117,0)","v":0},null,{"$f":"IF(SUM(BT$111:BT$113)>0,$E117*$G117,0)","v":0},null,{"$f":"IF(SUM(BV$111:BV$113)>0,$E117*$G117,0)","v":0},null,{"$f":"IF(SUM(BX$111:BX$113)>0,$E117*$G117,0)","v":0},null,{"$f":"IF(SUM(BZ$111:BZ$113)>0,$E117*$G117,0)","v":0},null,{"$f":"IF(SUM(CB$111:CB$113)>0,$E117*$G117,0)","v":0},null,{"$f":"IF(SUM(CD$111:CD$113)>0,$E117*$G117,0)","v":0},null,{"$f":"IF(SUM(CF$111:CF$113)>0,$E117*$G117,0)","v":0},null,{"$f":"IF(SUM(CH$111:CH$113)>0,$E117*$G117,0)","v":0},null,{"$f":"IF(SUM(CJ$111:CJ$113)>0,$E117*$G117,0)","v":0},null,{"$f":"IF(SUM(CL$111:CL$113)>0,$E117*$G117,0)","v":0},null,{"$f":"IF(SUM(CN$111:CN$113)>0,$E117*$G117,0)","v":0},null,{"$f":"IF(SUM(CP$111:CP$113)>0,$E117*$G117,0)","v":0},null,{"$f":"IF(SUM(CR$111:CR$113)>0,$E117*$G117,0)","v":0},null,{"$f":"IF(SUM(CT$111:CT$113)>0,$E117*$G117,0)","v":0},null,{"$f":"IF(SUM(CV$111:CV$113)>0,$E117*$G117,0)","v":0},null,{"$f":"IF(SUM(CX$111:CX$113)>0,$E117*$G117,0)","v":0},null,{"$f":"IF(SUM(CZ$111:CZ$113)>0,$E117*$G117,0)","v":0},null,{"$f":"IF(SUM(DB$111:DB$113)>0,$E117*$G117,0)","v":0},null,{"$f":"IF(SUM(DD$111:DD$113)>0,$E117*$G117,0)","v":0},null,{"$f":"IF(SUM(DF$111:DF$113)>0,$E117*$G117,0)","v":0},null,{"$f":"IF(SUM(DH$111:DH$113)>0,$E117*$G117,0)","v":0},null,{"$f":"IF(SUM(DJ$111:DJ$113)>0,$E117*$G117,0)","v":0},null,{"$f":"IF(SUM(DL$111:DL$113)>0,$E117*$G117,0)","v":0},null,{"$f":"IF(SUM(DN$111:DN$113)>0,$E117*$G117,0)","v":0},null,{"$f":"IF(SUM(DP$111:DP$113)>0,$E117*$G117,0)","v":0},null,{"$f":"IF(SUM(DR$111:DR$113)>0,$E117*$G117,0)","v":0},null,{"$f":"IF(SUM(DT$111:DT$113)>0,$E117*$G117,0)","v":0},null,{"$f":"IF(SUM(DV$111:DV$113)>0,$E117*$G117,0)","v":0},null,{"$f":"IF(SUM(DX$111:DX$113)>0,$E117*$G117,0)","v":0}]
[null,null,2,"Avental de segurança confeccionado em vinil laminado e transparente, tiras soldadas eletronicamente, sendo uma no pescoço e duas na cintura com fivela plástica para fechamento, acabamento nas laterais por solda eletrônica. Dimensões: 1,20×0,70m. Ref. Maicol CA 38316",3,"UND",16.89,null,null,null,{"$f":"IF(SUM(J$111:J$113)>0,$E118*$G118,0)","v":0},null,{"$f":"IF(SUM(L$111:L$113)>0,$E118*$G118,0)","v":0},null,{"$f":"IF(SUM(N$111:N$113)>0,$E118*$G118,0)","v":0},null,{"$f":"IF(SUM(P$111:P$113)>0,$E118*$G118,0)","v":0},null,{"$f":"IF(SUM(R$111:R$113)>0,$E118*$G118,0)","v":0},null,{"$f":"IF(SUM(T$111:T$113)>0,$E118*$G118,0)","v":0},null,{"$f":"IF(SUM(V$111:V$113)>0,$E118*$G118,0)","v":0},null,{"$f":"IF(SUM(X$111:X$113)>0,$E118*$G118,0)","v":0},null,{"$f":"IF(SUM(Z$111:Z$113)>0,$E118*$G118,0)","v":0},null,{"$f":"IF(SUM(AB$111:AB$113)>0,$E118*$G118,0)","v":0},null,{"$f":"IF(SUM(AD$111:AD$113)>0,$E118*$G118,0)","v":0},null,{"$f":"IF(SUM(AF$111:AF$113)>0,$E118*$G118,0)","v":0},null,{"$f":"IF(SUM(AH$111:AH$113)>0,$E118*$G118,0)","v":0},null,{"$f":"IF(SUM(AJ$111:AJ$113)>0,$E118*$G118,0)","v":0},null,{"$f":"IF(SUM(AL$111:AL$113)>0,$E118*$G118,0)","v":0},null,{"$f":"IF(SUM(AN$111:AN$113)>0,$E118*$G118,0)","v":0},null,{"$f":"IF(SUM(AP$111:AP$113)>0,$E118*$G118,0)","v":0},null,{"$f":"IF(SUM(AR$111:AR$113)>0,$E118*$G118,0)","v":0},null,{"$f":"IF(SUM(AT$111:AT$113)>0,$E118*$G118,0)","v":0},null,{"$f":"IF(SUM(AV$111:AV$113)>0,$E118*$G118,0)","v":0},null,{"$f":"IF(SUM(AX$111:AX$113)>0,$E118*$G118,0)","v":0},null,{"$f":"IF(SUM(AZ$111:AZ$113)>0,$E118*$G118,0)","v":0},null,{"$f":"IF(SUM(BB$111:BB$113)>0,$E118*$G118,0)","v":0},null,{"$f":"IF(SUM(BD$111:BD$113)>0,$E118*$G118,0)","v":0},null,{"$f":"IF(SUM(BF$111:BF$113)>0,$E118*$G118,0)","v":0},null,{"$f":"IF(SUM(BH$111:BH$113)>0,$E118*$G118,0)","v":0},null,{"$f":"IF(SUM(BJ$111:BJ$113)>0,$E118*$G118,0)","v":0},null,{"$f":"IF(SUM(BL$111:BL$113)>0,$E118*$G118,0)","v":0},null,{"$f":"IF(SUM(BN$111:BN$113)>0,$E118*$G118,0)","v":0},null,{"$f":"IF(SUM(BP$111:BP$113)>0,$E118*$G118,0)","v":0},null,{"$f":"IF(SUM(BR$111:BR$113)>0,$E118*$G118,0)","v":0},null,{"$f":"IF(SUM(BT$111:BT$113)>0,$E118*$G118,0)","v":0},null,{"$f":"IF(SUM(BV$111:BV$113)>0,$E118*$G118,0)","v":0},null,{"$f":"IF(SUM(BX$111:BX$113)>0,$E118*$G118,0)","v":0},null,{"$f":"IF(SUM(BZ$111:BZ$113)>0,$E118*$G118,0)","v":0},null,{"$f":"IF(SUM(CB$111:CB$113)>0,$E118*$G118,0)","v":0},null,{"$f":"IF(SUM(CD$111:CD$113)>0,$E118*$G118,0)","v":0},null,{"$f":"IF(SUM(CF$111:CF$113)>0,$E118*$G118,0)","v":0},null,{"$f":"IF(SUM(CH$111:CH$113)>0,$E118*$G118,0)","v":0},null,{"$f":"IF(SUM(CJ$111:CJ$113)>0,$E118*$G118,0)","v":0},null,{"$f":"IF(SUM(CL$111:CL$113)>0,$E118*$G118,0)","v":0},null,{"$f":"IF(SUM(CN$111:CN$113)>0,$E118*$G118,0)","v":0},null,{"$f":"IF(SUM(CP$111:CP$113)>0,$E118*$G118,0)","v":0},null,{"$f":"IF(SUM(CR$111:CR$113)>0,$E118*$G118,0)","v":0},null,{"$f":"IF(SUM(CT$111:CT$113)>0,$E118*$G118,0)","v":0},null,{"$f":"IF(SUM(CV$111:CV$113)>0,$E118*$G118,0)","v":0},null,{"$f":"IF(SUM(CX$111:CX$113)>0,$E118*$G118,0)","v":0},null,{"$f":"IF(SUM(CZ$111:CZ$113)>0,$E118*$G118,0)","v":0},null,{"$f":"IF(SUM(DB$111:DB$113)>0,$E118*$G118,0)","v":0},null,{"$f":"IF(SUM(DD$111:DD$113)>0,$E118*$G118,0)","v":0},null,{"$f":"IF(SUM(DF$111:DF$113)>0,$E118*$G118,0)","v":0},null,{"$f":"IF(SUM(DH$111:DH$113)>0,$E118*$G118,0)","v":0},null,{"$f":"IF(SUM(DJ$111:DJ$113)>0,$E118*$G118,0)","v":0},null,{"$f":"IF(SUM(DL$111:DL$113)>0,$E118*$G118,0)","v":0},null,{"$f":"IF(SUM(DN$111:DN$113)>0,$E118*$G118,0)","v":0},null,{"$f":"IF(SUM(DP$111:DP$113)>0,$E118*$G118,0)","v":0},null,{"$f":"IF(SUM(DR$111:DR$113)>0,$E118*$G118,0)","v":0},null,{"$f":"IF(SUM(DT$111:DT$113)>0,$E118*$G118,0)","v":0},null,{"$f":"IF(SUM(DV$111:DV$113)>0,$E118*$G118,0)","v":0},null,{"$f":"IF(SUM(DX$111:DX$113)>0,$E118*$G118,0)","v":0}]
[null,null,3,"Luva de Segurança confeccionada em LÁTEX natural anatômica (esp. mínima 0,60mm), acabamento forrado em algodão flocado, antiderrapante na palma e dedos. Ref.: Mucambo.",12,"PAR",7.14,null,null,null,0,null,{"$f":"IF(SUM(L$111:L$113)>0,$E119*$G119,0)","v":0},null,{"$f":"IF(SUM(N$111:N$113)>0,$E119*$G119,0)","v":0},null,{"$f":"IF(SUM(P$111:P$113)>0,$E119*$G119,0)","v":0},null,{"$f":"IF(SUM(R$111:R$113)>0,$E119*$G119,0)","v":0},null,{"$f":"IF(SUM(T$111:T$113)>0,$E119*$G119,0)","v":0},null,{"$f":"IF(SUM(V$111:V$113)>0,$E119*$G119,0)","v":0},null,{"$f":"IF(SUM(X$111:X$113)>0,$E119*$G119,0)","v":0},null,{"$f":"IF(SUM(Z$111:Z$113)>0,$E119*$G119,0)","v":0},null,{"$f":"IF(SUM(AB$111:AB$113)>0,$E119*$G119,0)","v":0},null,{"$f":"IF(SUM(AD$111:AD$113)>0,$E119*$G119,0)","v":0},null,{"$f":"IF(SUM(AF$111:AF$113)>0,$E119*$G119,0)","v":0},null,{"$f":"IF(SUM(AH$111:AH$113)>0,$E119*$G119,0)","v":0},null,{"$f":"IF(SUM(AJ$111:AJ$113)>0,$E119*$G119,0)","v":0},null,{"$f":"IF(SUM(AL$111:AL$113)>0,$E119*$G119,0)","v":0},null,{"$f":"IF(SUM(AN$111:AN$113)>0,$E119*$G119,0)","v":0},null,{"$f":"IF(SUM(AP$111:AP$113)>0,$E119*$G119,0)","v":0},null,{"$f":"IF(SUM(AR$111:AR$113)>0,$E119*$G119,0)","v":0},null,{"$f":"IF(SUM(AT$111:AT$113)>0,$E119*$G119,0)","v":0},null,{"$f":"IF(SUM(AV$111:AV$113)>0,$E119*$G119,0)","v":0},null,{"$f":"IF(SUM(AX$111:AX$113)>0,$E119*$G119,0)","v":0},null,{"$f":"IF(SUM(AZ$111:AZ$113)>0,$E119*$G119,0)","v":0},null,{"$f":"IF(SUM(BB$111:BB$113)>0,$E119*$G119,0)","v":0},null,{"$f":"IF(SUM(BD$111:BD$113)>0,$E119*$G119,0)","v":0},null,{"$f":"IF(SUM(BF$111:BF$113)>0,$E119*$G119,0)","v":0},null,{"$f":"IF(SUM(BH$111:BH$113)>0,$E119*$G119,0)","v":0},null,{"$f":"IF(SUM(BJ$111:BJ$113)>0,$E119*$G119,0)","v":0},null,{"$f":"IF(SUM(BL$111:BL$113)>0,$E119*$G119,0)","v":0},null,{"$f":"IF(SUM(BN$111:BN$113)>0,$E119*$G119,0)","v":0},null,{"$f":"IF(SUM(BP$111:BP$113)>0,$E119*$G119,0)","v":0},null,{"$f":"IF(SUM(BR$111:BR$113)>0,$E119*$G119,0)","v":0},null,{"$f":"IF(SUM(BT$111:BT$113)>0,$E119*$G119,0)","v":0},null,{"$f":"IF(SUM(BV$111:BV$113)>0,$E119*$G119,0)","v":0},null,{"$f":"IF(SUM(BX$111:BX$113)>0,$E119*$G119,0)","v":0},null,{"$f":"IF(SUM(BZ$111:BZ$113)>0,$E119*$G119,0)","v":0},null,{"$f":"IF(SUM(CB$111:CB$113)>0,$E119*$G119,0)","v":0},null,{"$f":"IF(SUM(CD$111:CD$113)>0,$E119*$G119,0)","v":0},null,{"$f":"IF(SUM(CF$111:CF$113)>0,$E119*$G119,0)","v":0},null,{"$f":"IF(SUM(CH$111:CH$113)>0,$E119*$G119,0)","v":0},null,{"$f":"IF(SUM(CJ$111:CJ$113)>0,$E119*$G119,0)","v":0},null,{"$f":"IF(SUM(CL$111:CL$113)>0,$E119*$G119,0)","v":0},null,{"$f":"IF(SUM(CN$111:CN$113)>0,$E119*$G119,0)","v":0},null,{"$f":"IF(SUM(CP$111:CP$113)>0,$E119*$G119,0)","v":0},null,{"$f":"IF(SUM(CR$111:CR$113)>0,$E119*$G119,0)","v":0},null,{"$f":"IF(SUM(CT$111:CT$113)>0,$E119*$G119,0)","v":0},null,{"$f":"IF(SUM(CV$111:CV$113)>0,$E119*$G119,0)","v":0},null,{"$f":"IF(SUM(CX$111:CX$113)>0,$E119*$G119,0)","v":0},null,{"$f":"IF(SUM(CZ$111:CZ$113)>0,$E119*$G119,0)","v":0},null,{"$f":"IF(SUM(DB$111:DB$113)>0,$E119*$G119,0)","v":0},null,{"$f":"IF(SUM(DD$111:DD$113)>0,$E119*$G119,0)","v":0},null,{"$f":"IF(SUM(DF$111:DF$113)>0,$E119*$G119,0)","v":0},null,{"$f":"IF(SUM(DH$111:DH$113)>0,$E119*$G119,0)","v":0},null,{"$f":"IF(SUM(DJ$111:DJ$113)>0,$E119*$G119,0)","v":0},null,{"$f":"IF(SUM(DL$111:DL$113)>0,$E119*$G119,0)","v":0},null,{"$f":"IF(SUM(DN$111:DN$113)>0,$E119*$G119,0)","v":0},null,{"$f":"IF(SUM(DP$111:DP$113)>0,$E119*$G119,0)","v":0},null,{"$f":"IF(SUM(DR$111:DR$113)>0,$E119*$G119,0)","v":0},null,{"$f":"IF(SUM(DT$111:DT$113)>0,$E119*$G119,0)","v":0},null,{"$f":"IF(SUM(DV$111:DV$113)>0,$E119*$G119,0)","v":0},null,{"$f":"IF(SUM(DX$111:DX$113)>0,$E119*$G119,0)","v":0}]
[null,null,4,"Touca sanfonada, em TNT (100% polipropileno), elástico; impermeabilidade mínima de 80%, descartável, cor branca. Ref. Sky. ",500,"UND",0.15,null,null,null,0,null,{"$f":"IF(SUM(L$111:L$113)>0,$E120*$G120,0)","v":0},null,{"$f":"IF(SUM(N$111:N$113)>0,$E120*$G120,0)","v":0},null,{"$f":"IF(SUM(P$111:P$113)>0,$E120*$G120,0)","v":0},null,{"$f":"IF(SUM(R$111:R$113)>0,$E120*$G120,0)","v":0},null,{"$f":"IF(SUM(T$111:T$113)>0,$E120*$G120,0)","v":0},null,{"$f":"IF(SUM(V$111:V$113)>0,$E120*$G120,0)","v":0},null,{"$f":"IF(SUM(X$111:X$113)>0,$E120*$G120,0)","v":0},null,{"$f":"IF(SUM(Z$111:Z$113)>0,$E120*$G120,0)","v":0},null,{"$f":"IF(SUM(AB$111:AB$113)>0,$E120*$G120,0)","v":0},null,{"$f":"IF(SUM(AD$111:AD$113)>0,$E120*$G120,0)","v":0},null,{"$f":"IF(SUM(AF$111:AF$113)>0,$E120*$G120,0)","v":0},null,{"$f":"IF(SUM(AH$111:AH$113)>0,$E120*$G120,0)","v":0},null,{"$f":"IF(SUM(AJ$111:AJ$113)>0,$E120*$G120,0)","v":0},null,{"$f":"IF(SUM(AL$111:AL$113)>0,$E120*$G120,0)","v":0},null,{"$f":"IF(SUM(AN$111:AN$113)>0,$E120*$G120,0)","v":0},null,{"$f":"IF(SUM(AP$111:AP$113)>0,$E120*$G120,0)","v":0},null,{"$f":"IF(SUM(AR$111:AR$113)>0,$E120*$G120,0)","v":0},null,{"$f":"IF(SUM(AT$111:AT$113)>0,$E120*$G120,0)","v":0},null,{"$f":"IF(SUM(AV$111:AV$113)>0,$E120*$G120,0)","v":0},null,{"$f":"IF(SUM(AX$111:AX$113)>0,$E120*$G120,0)","v":0},null,{"$f":"IF(SUM(AZ$111:AZ$113)>0,$E120*$G120,0)","v":0},null,{"$f":"IF(SUM(BB$111:BB$113)>0,$E120*$G120,0)","v":0},null,{"$f":"IF(SUM(BD$111:BD$113)>0,$E120*$G120,0)","v":0},null,{"$f":"IF(SUM(BF$111:BF$113)>0,$E120*$G120,0)","v":0},null,{"$f":"IF(SUM(BH$111:BH$113)>0,$E120*$G120,0)","v":0},null,{"$f":"IF(SUM(BJ$111:BJ$113)>0,$E120*$G120,0)","v":0},null,{"$f":"IF(SUM(BL$111:BL$113)>0,$E120*$G120,0)","v":0},null,{"$f":"IF(SUM(BN$111:BN$113)>0,$E120*$G120,0)","v":0},null,{"$f":"IF(SUM(BP$111:BP$113)>0,$E120*$G120,0)","v":0},null,{"$f":"IF(SUM(BR$111:BR$113)>0,$E120*$G120,0)","v":0},null,{"$f":"IF(SUM(BT$111:BT$113)>0,$E120*$G120,0)","v":0},null,{"$f":"IF(SUM(BV$111:BV$113)>0,$E120*$G120,0)","v":0},null,{"$f":"IF(SUM(BX$111:BX$113)>0,$E120*$G120,0)","v":0},null,{"$f":"IF(SUM(BZ$111:BZ$113)>0,$E120*$G120,0)","v":0},null,{"$f":"IF(SUM(CB$111:CB$113)>0,$E120*$G120,0)","v":0},null,{"$f":"IF(SUM(CD$111:CD$113)>0,$E120*$G120,0)","v":0},null,{"$f":"IF(SUM(CF$111:CF$113)>0,$E120*$G120,0)","v":0},null,{"$f":"IF(SUM(CH$111:CH$113)>0,$E120*$G120,0)","v":0},null,{"$f":"IF(SUM(CJ$111:CJ$113)>0,$E120*$G120,0)","v":0},null,{"$f":"IF(SUM(CL$111:CL$113)>0,$E120*$G120,0)","v":0},null,{"$f":"IF(SUM(CN$111:CN$113)>0,$E120*$G120,0)","v":0},null,{"$f":"IF(SUM(CP$111:CP$113)>0,$E120*$G120,0)","v":0},null,{"$f":"IF(SUM(CR$111:CR$113)>0,$E120*$G120,0)","v":0},null,{"$f":"IF(SUM(CT$111:CT$113)>0,$E120*$G120,0)","v":0},null,{"$f":"IF(SUM(CV$111:CV$113)>0,$E120*$G120,0)","v":0},null,{"$f":"IF(SUM(CX$111:CX$113)>0,$E120*$G120,0)","v":0},null,{"$f":"IF(SUM(CZ$111:CZ$113)>0,$E120*$G120,0)","v":0},null,{"$f":"IF(SUM(DB$111:DB$113)>0,$E120*$G120,0)","v":0},null,{"$f":"IF(SUM(DD$111:DD$113)>0,$E120*$G120,0)","v":0},null,{"$f":"IF(SUM(DF$111:DF$113)>0,$E120*$G120,0)","v":0},null,{"$f":"IF(SUM(DH$111:DH$113)>0,$E120*$G120,0)","v":0},null,{"$f":"IF(SUM(DJ$111:DJ$113)>0,$E120*$G120,0)","v":0},null,{"$f":"IF(SUM(DL$111:DL$113)>0,$E120*$G120,0)","v":0},null,{"$f":"IF(SUM(DN$111:DN$113)>0,$E120*$G120,0)","v":0},null,{"$f":"IF(SUM(DP$111:DP$113)>0,$E120*$G120,0)","v":0},null,{"$f":"IF(SUM(DR$111:DR$113)>0,$E120*$G120,0)","v":0},null,{"$f":"IF(SUM(DT$111:DT$113)>0,$E120*$G120,0)","v":0},null,{"$f":"IF(SUM(DV$111:DV$113)>0,$E120*$G120,0)","v":0},null,{"$f":"IF(SUM(DX$111:DX$113)>0,$E120*$G120,0)","v":0}]
[null,null,5,"Bota em PVC, impermeável, forrada internamente, cano médio, resistência ao escorregamento do solado SRC. Cor branca. Ref. MARLUVAS. ",1,"PAR",39.97,null,null,null,0,null,{"$f":"IF(SUM(L$111:L$113)>0,$E121*$G121,0)","v":0},null,{"$f":"IF(SUM(N$111:N$113)>0,$E121*$G121,0)","v":0},null,{"$f":"IF(SUM(P$111:P$113)>0,$E121*$G121,0)","v":0},null,{"$f":"IF(SUM(R$111:R$113)>0,$E121*$G121,0)","v":0},null,{"$f":"IF(SUM(T$111:T$113)>0,$E121*$G121,0)","v":0},null,{"$f":"IF(SUM(V$111:V$113)>0,$E121*$G121,0)","v":0},null,{"$f":"IF(SUM(X$111:X$113)>0,$E121*$G121,0)","v":0},null,{"$f":"IF(SUM(Z$111:Z$113)>0,$E121*$G121,0)","v":0},null,{"$f":"IF(SUM(AB$111:AB$113)>0,$E121*$G121,0)","v":0},null,{"$f":"IF(SUM(AD$111:AD$113)>0,$E121*$G121,0)","v":0},null,{"$f":"IF(SUM(AF$111:AF$113)>0,$E121*$G121,0)","v":0},null,{"$f":"IF(SUM(AH$111:AH$113)>0,$E121*$G121,0)","v":0},null,{"$f":"IF(SUM(AJ$111:AJ$113)>0,$E121*$G121,0)","v":0},null,{"$f":"IF(SUM(AL$111:AL$113)>0,$E121*$G121,0)","v":0},null,{"$f":"IF(SUM(AN$111:AN$113)>0,$E121*$G121,0)","v":0},null,{"$f":"IF(SUM(AP$111:AP$113)>0,$E121*$G121,0)","v":0},null,{"$f":"IF(SUM(AR$111:AR$113)>0,$E121*$G121,0)","v":0},null,{"$f":"IF(SUM(AT$111:AT$113)>0,$E121*$G121,0)","v":0},null,{"$f":"IF(SUM(AV$111:AV$113)>0,$E121*$G121,0)","v":0},null,{"$f":"IF(SUM(AX$111:AX$113)>0,$E121*$G121,0)","v":0},null,{"$f":"IF(SUM(AZ$111:AZ$113)>0,$E121*$G121,0)","v":0},null,{"$f":"IF(SUM(BB$111:BB$113)>0,$E121*$G121,0)","v":0},null,{"$f":"IF(SUM(BD$111:BD$113)>0,$E121*$G121,0)","v":0},null,{"$f":"IF(SUM(BF$111:BF$113)>0,$E121*$G121,0)","v":0},null,{"$f":"IF(SUM(BH$111:BH$113)>0,$E121*$G121,0)","v":0},null,{"$f":"IF(SUM(BJ$111:BJ$113)>0,$E121*$G121,0)","v":0},null,{"$f":"IF(SUM(BL$111:BL$113)>0,$E121*$G121,0)","v":0},null,{"$f":"IF(SUM(BN$111:BN$113)>0,$E121*$G121,0)","v":0},null,{"$f":"IF(SUM(BP$111:BP$113)>0,$E121*$G121,0)","v":0},null,{"$f":"IF(SUM(BR$111:BR$113)>0,$E121*$G121,0)","v":0},null,{"$f":"IF(SUM(BT$111:BT$113)>0,$E121*$G121,0)","v":0},null,{"$f":"IF(SUM(BV$111:BV$113)>0,$E121*$G121,0)","v":0},null,{"$f":"IF(SUM(BX$111:BX$113)>0,$E121*$G121,0)","v":0},null,{"$f":"IF(SUM(BZ$111:BZ$113)>0,$E121*$G121,0)","v":0},null,{"$f":"IF(SUM(CB$111:CB$113)>0,$E121*$G121,0)","v":0},null,{"$f":"IF(SUM(CD$111:CD$113)>0,$E121*$G121,0)","v":0},null,{"$f":"IF(SUM(CF$111:CF$113)>0,$E121*$G121,0)","v":0},null,{"$f":"IF(SUM(CH$111:CH$113)>0,$E121*$G121,0)","v":0},null,{"$f":"IF(SUM(CJ$111:CJ$113)>0,$E121*$G121,0)","v":0},null,{"$f":"IF(SUM(CL$111:CL$113)>0,$E121*$G121,0)","v":0},null,{"$f":"IF(SUM(CN$111:CN$113)>0,$E121*$G121,0)","v":0},null,{"$f":"IF(SUM(CP$111:CP$113)>0,$E121*$G121,0)","v":0},null,{"$f":"IF(SUM(CR$111:CR$113)>0,$E121*$G121,0)","v":0},null,{"$f":"IF(SUM(CT$111:CT$113)>0,$E121*$G121,0)","v":0},null,{"$f":"IF(SUM(CV$111:CV$113)>0,$E121*$G121,0)","v":0},null,{"$f":"IF(SUM(CX$111:CX$113)>0,$E121*$G121,0)","v":0},null,{"$f":"IF(SUM(CZ$111:CZ$113)>0,$E121*$G121,0)","v":0},null,{"$f":"IF(SUM(DB$111:DB$113)>0,$E121*$G121,0)","v":0},null,{"$f":"IF(SUM(DD$111:DD$113)>0,$E121*$G121,0)","v":0},null,{"$f":"IF(SUM(DF$111:DF$113)>0,$E121*$G121,0)","v":0},null,{"$f":"IF(SUM(DH$111:DH$113)>0,$E121*$G121,0)","v":0},null,{"$f":"IF(SUM(DJ$111:DJ$113)>0,$E121*$G121,0)","v":0},null,{"$f":"IF(SUM(DL$111:DL$113)>0,$E121*$G121,0)","v":0},null,{"$f":"IF(SUM(DN$111:DN$113)>0,$E121*$G121,0)","v":0},null,{"$f":"IF(SUM(DP$111:DP$113)>0,$E121*$G121,0)","v":0},null,{"$f":"IF(SUM(DR$111:DR$113)>0,$E121*$G121,0)","v":0},null,{"$f":"IF(SUM(DT$111:DT$113)>0,$E121*$G121,0)","v":0},null,{"$f":"IF(SUM(DV$111:DV$113)>0,$E121*$G121,0)","v":0},null,{"$f":"IF(SUM(DX$111:DX$113)>0,$E121*$G121,0)","v":0}]
[null,null,6,"Luva de segurança (punho curto) de malha de aço, de cinco dedos, confeccionada em elos de aço inox, fechamento ajustável no punho. Ref. Danny.",1,"PAR",809.17,null,null,null,0,null,{"$f":"IF(SUM(L$111:L$113)>0,$E122*$G122,0)","v":0},null,{"$f":"IF(SUM(N$111:N$113)>0,$E122*$G122,0)","v":0},null,{"$f":"IF(SUM(P$111:P$113)>0,$E122*$G122,0)","v":0},null,{"$f":"IF(SUM(R$111:R$113)>0,$E122*$G122,0)","v":0},null,{"$f":"IF(SUM(T$111:T$113)>0,$E122*$G122,0)","v":0},null,{"$f":"IF(SUM(V$111:V$113)>0,$E122*$G122,0)","v":0},null,{"$f":"IF(SUM(X$111:X$113)>0,$E122*$G122,0)","v":0},null,{"$f":"IF(SUM(Z$111:Z$113)>0,$E122*$G122,0)","v":0},null,{"$f":"IF(SUM(AB$111:AB$113)>0,$E122*$G122,0)","v":0},null,{"$f":"IF(SUM(AD$111:AD$113)>0,$E122*$G122,0)","v":0},null,{"$f":"IF(SUM(AF$111:AF$113)>0,$E122*$G122,0)","v":0},null,{"$f":"IF(SUM(AH$111:AH$113)>0,$E122*$G122,0)","v":0},null,{"$f":"IF(SUM(AJ$111:AJ$113)>0,$E122*$G122,0)","v":0},null,{"$f":"IF(SUM(AL$111:AL$113)>0,$E122*$G122,0)","v":0},null,{"$f":"IF(SUM(AN$111:AN$113)>0,$E122*$G122,0)","v":0},null,{"$f":"IF(SUM(AP$111:AP$113)>0,$E122*$G122,0)","v":0},null,{"$f":"IF(SUM(AR$111:AR$113)>0,$E122*$G122,0)","v":0},null,{"$f":"IF(SUM(AT$111:AT$113)>0,$E122*$G122,0)","v":0},null,{"$f":"IF(SUM(AV$111:AV$113)>0,$E122*$G122,0)","v":0},null,{"$f":"IF(SUM(AX$111:AX$113)>0,$E122*$G122,0)","v":0},null,{"$f":"IF(SUM(AZ$111:AZ$113)>0,$E122*$G122,0)","v":0},null,{"$f":"IF(SUM(BB$111:BB$113)>0,$E122*$G122,0)","v":0},null,{"$f":"IF(SUM(BD$111:BD$113)>0,$E122*$G122,0)","v":0},null,{"$f":"IF(SUM(BF$111:BF$113)>0,$E122*$G122,0)","v":0},null,{"$f":"IF(SUM(BH$111:BH$113)>0,$E122*$G122,0)","v":0},null,{"$f":"IF(SUM(BJ$111:BJ$113)>0,$E122*$G122,0)","v":0},null,{"$f":"IF(SUM(BL$111:BL$113)>0,$E122*$G122,0)","v":0},null,{"$f":"IF(SUM(BN$111:BN$113)>0,$E122*$G122,0)","v":0},null,{"$f":"IF(SUM(BP$111:BP$113)>0,$E122*$G122,0)","v":0},null,{"$f":"IF(SUM(BR$111:BR$113)>0,$E122*$G122,0)","v":0},null,{"$f":"IF(SUM(BT$111:BT$113)>0,$E122*$G122,0)","v":0},null,{"$f":"IF(SUM(BV$111:BV$113)>0,$E122*$G122,0)","v":0},null,{"$f":"IF(SUM(BX$111:BX$113)>0,$E122*$G122,0)","v":0},null,{"$f":"IF(SUM(BZ$111:BZ$113)>0,$E122*$G122,0)","v":0},null,{"$f":"IF(SUM(CB$111:CB$113)>0,$E122*$G122,0)","v":0},null,{"$f":"IF(SUM(CD$111:CD$113)>0,$E122*$G122,0)","v":0},null,{"$f":"IF(SUM(CF$111:CF$113)>0,$E122*$G122,0)","v":0},null,{"$f":"IF(SUM(CH$111:CH$113)>0,$E122*$G122,0)","v":0},null,{"$f":"IF(SUM(CJ$111:CJ$113)>0,$E122*$G122,0)","v":0},null,{"$f":"IF(SUM(CL$111:CL$113)>0,$E122*$G122,0)","v":0},null,{"$f":"IF(SUM(CN$111:CN$113)>0,$E122*$G122,0)","v":0},null,{"$f":"IF(SUM(CP$111:CP$113)>0,$E122*$G122,0)","v":0},null,{"$f":"IF(SUM(CR$111:CR$113)>0,$E122*$G122,0)","v":0},null,{"$f":"IF(SUM(CT$111:CT$113)>0,$E122*$G122,0)","v":0},null,{"$f":"IF(SUM(CV$111:CV$113)>0,$E122*$G122,0)","v":0},null,{"$f":"IF(SUM(CX$111:CX$113)>0,$E122*$G122,0)","v":0},null,{"$f":"IF(SUM(CZ$111:CZ$113)>0,$E122*$G122,0)","v":0},null,{"$f":"IF(SUM(DB$111:DB$113)>0,$E122*$G122,0)","v":0},null,{"$f":"IF(SUM(DD$111:DD$113)>0,$E122*$G122,0)","v":0},null,{"$f":"IF(SUM(DF$111:DF$113)>0,$E122*$G122,0)","v":0},null,{"$f":"IF(SUM(DH$111:DH$113)>0,$E122*$G122,0)","v":0},null,{"$f":"IF(SUM(DJ$111:DJ$113)>0,$E122*$G122,0)","v":0},null,{"$f":"IF(SUM(DL$111:DL$113)>0,$E122*$G122,0)","v":0},null,{"$f":"IF(SUM(DN$111:DN$113)>0,$E122*$G122,0)","v":0},null,{"$f":"IF(SUM(DP$111:DP$113)>0,$E122*$G122,0)","v":0},null,{"$f":"IF(SUM(DR$111:DR$113)>0,$E122*$G122,0)","v":0},null,{"$f":"IF(SUM(DT$111:DT$113)>0,$E122*$G122,0)","v":0},null,{"$f":"IF(SUM(DV$111:DV$113)>0,$E122*$G122,0)","v":0},null,{"$f":"IF(SUM(DX$111:DX$113)>0,$E122*$G122,0)","v":0}]
[null,null,7,"Luva de segurança, para proteção térmica, 5 dedos, confeccionada em poliéster e algodão com TNT (tecido não tecido), totalmente revestida em nitrílico. Comprimento 35cm. Punho reto. Formato Anatômico. Reutilizável. Ref. Volk CA 38.123",1,"PAR",152.96,null,null,null,0,null,{"$f":"IF(SUM(L$111:L$113)>0,$E123*$G123,0)","v":0},null,{"$f":"IF(SUM(N$111:N$113)>0,$E123*$G123,0)","v":0},null,{"$f":"IF(SUM(P$111:P$113)>0,$E123*$G123,0)","v":0},null,{"$f":"IF(SUM(R$111:R$113)>0,$E123*$G123,0)","v":0},null,{"$f":"IF(SUM(T$111:T$113)>0,$E123*$G123,0)","v":0},null,{"$f":"IF(SUM(V$111:V$113)>0,$E123*$G123,0)","v":0},null,{"$f":"IF(SUM(X$111:X$113)>0,$E123*$G123,0)","v":0},null,{"$f":"IF(SUM(Z$111:Z$113)>0,$E123*$G123,0)","v":0},null,{"$f":"IF(SUM(AB$111:AB$113)>0,$E123*$G123,0)","v":0},null,{"$f":"IF(SUM(AD$111:AD$113)>0,$E123*$G123,0)","v":0},null,{"$f":"IF(SUM(AF$111:AF$113)>0,$E123*$G123,0)","v":0},null,{"$f":"IF(SUM(AH$111:AH$113)>0,$E123*$G123,0)","v":0},null,{"$f":"IF(SUM(AJ$111:AJ$113)>0,$E123*$G123,0)","v":0},null,{"$f":"IF(SUM(AL$111:AL$113)>0,$E123*$G123,0)","v":0},null,{"$f":"IF(SUM(AN$111:AN$113)>0,$E123*$G123,0)","v":0},null,{"$f":"IF(SUM(AP$111:AP$113)>0,$E123*$G123,0)","v":0},null,{"$f":"IF(SUM(AR$111:AR$113)>0,$E123*$G123,0)","v":0},null,{"$f":"IF(SUM(AT$111:AT$113)>0,$E123*$G123,0)","v":0},null,{"$f":"IF(SUM(AV$111:AV$113)>0,$E123*$G123,0)","v":0},null,{"$f":"IF(SUM(AX$111:AX$113)>0,$E123*$G123,0)","v":0},null,{"$f":"IF(SUM(AZ$111:AZ$113)>0,$E123*$G123,0)","v":0},null,{"$f":"IF(SUM(BB$111:BB$113)>0,$E123*$G123,0)","v":0},null,{"$f":"IF(SUM(BD$111:BD$113)>0,$E123*$G123,0)","v":0},null,{"$f":"IF(SUM(BF$111:BF$113)>0,$E123*$G123,0)","v":0},null,{"$f":"IF(SUM(BH$111:BH$113)>0,$E123*$G123,0)","v":0},null,{"$f":"IF(SUM(BJ$111:BJ$113)>0,$E123*$G123,0)","v":0},null,{"$f":"IF(SUM(BL$111:BL$113)>0,$E123*$G123,0)","v":0},null,{"$f":"IF(SUM(BN$111:BN$113)>0,$E123*$G123,0)","v":0},null,{"$f":"IF(SUM(BP$111:BP$113)>0,$E123*$G123,0)","v":0},null,{"$f":"IF(SUM(BR$111:BR$113)>0,$E123*$G123,0)","v":0},null,{"$f":"IF(SUM(BT$111:BT$113)>0,$E123*$G123,0)","v":0},null,{"$f":"IF(SUM(BV$111:BV$113)>0,$E123*$G123,0)","v":0},null,{"$f":"IF(SUM(BX$111:BX$113)>0,$E123*$G123,0)","v":0},null,{"$f":"IF(SUM(BZ$111:BZ$113)>0,$E123*$G123,0)","v":0},null,{"$f":"IF(SUM(CB$111:CB$113)>0,$E123*$G123,0)","v":0},null,{"$f":"IF(SUM(CD$111:CD$113)>0,$E123*$G123,0)","v":0},null,{"$f":"IF(SUM(CF$111:CF$113)>0,$E123*$G123,0)","v":0},null,{"$f":"IF(SUM(CH$111:CH$113)>0,$E123*$G123,0)","v":0},null,{"$f":"IF(SUM(CJ$111:CJ$113)>0,$E123*$G123,0)","v":0},null,{"$f":"IF(SUM(CL$111:CL$113)>0,$E123*$G123,0)","v":0},null,{"$f":"IF(SUM(CN$111:CN$113)>0,$E123*$G123,0)","v":0},null,{"$f":"IF(SUM(CP$111:CP$113)>0,$E123*$G123,0)","v":0},null,{"$f":"IF(SUM(CR$111:CR$113)>0,$E123*$G123,0)","v":0},null,{"$f":"IF(SUM(CT$111:CT$113)>0,$E123*$G123,0)","v":0},null,{"$f":"IF(SUM(CV$111:CV$113)>0,$E123*$G123,0)","v":0},null,{"$f":"IF(SUM(CX$111:CX$113)>0,$E123*$G123,0)","v":0},null,{"$f":"IF(SUM(CZ$111:CZ$113)>0,$E123*$G123,0)","v":0},null,{"$f":"IF(SUM(DB$111:DB$113)>0,$E123*$G123,0)","v":0},null,{"$f":"IF(SUM(DD$111:DD$113)>0,$E123*$G123,0)","v":0},null,{"$f":"IF(SUM(DF$111:DF$113)>0,$E123*$G123,0)","v":0},null,{"$f":"IF(SUM(DH$111:DH$113)>0,$E123*$G123,0)","v":0},null,{"$f":"IF(SUM(DJ$111:DJ$113)>0,$E123*$G123,0)","v":0},null,{"$f":"IF(SUM(DL$111:DL$113)>0,$E123*$G123,0)","v":0},null,{"$f":"IF(SUM(DN$111:DN$113)>0,$E123*$G123,0)","v":0},null,{"$f":"IF(SUM(DP$111:DP$113)>0,$E123*$G123,0)","v":0},null,{"$f":"IF(SUM(DR$111:DR$113)>0,$E123*$G123,0)","v":0},null,{"$f":"IF(SUM(DT$111:DT$113)>0,$E123*$G123,0)","v":0},null,{"$f":"IF(SUM(DV$111:DV$113)>0,$E123*$G123,0)","v":0},null,{"$f":"IF(SUM(DX$111:DX$113)>0,$E123*$G123,0)","v":0}]
[]
[]
[null,null,"CATEGORIAS",null,null,null,"QUANTIDADE"]
[null,null,null,null,null,null,null,null,null,{"$f":"IF($C127=J$3,1,0)","v":0},null,{"$f":"IF($C127=L$3,1,0)","v":0},null,0,null,0,null,0,null,0,null,0,null,0,null,0,null,0,null,0,null,0,null,0,null,0,null,0,null,0,null,0,null,{"$f":"IF($C127=AR$3,1,0)","v":0},null,0,null,0,null,0,null,0,null,0,null,0,null,0,null,0,null,0,null,0,null,0,null,0,null,0,null,0,null,0,null,0,null,0,null,0,null,0,null,0,null,0,null,0,null,0,null,0,null,0,null,0,null,0,null,0,null,0,null,0,null,0,null,{"$f":"IF($C127=DD$3,1,0)","v":0},null,0,null,0,null,0,null,0,null,0,null,0,null,0,null,0,null,0,null,0]
[null,null,null,{"$f":"HLOOKUP($C128,'Dados Gerais'!$D$6:$V$11,6,0)","v":{"$error":"#N/A"}},null,null,{"$f":"HLOOKUP($C128,'Dados Gerais'!$D$6:$V$15,10,0)","v":{"$error":"#N/A"}},null,null,{"$f":"IF($C128=J$3,1,0)","v":0},null,0,null,{"$f":"IF($C128=N$3,1,0)","v":0},null,0,null,0,null,0,null,0,null,0,null,0,null,0,null,0,null,0,null,0,null,0,null,0,null,0,null,0,null,0,null,0,null,0,null,0,null,0,null,0,null,0,null,0,null,0,null,0,null,0,null,0,null,0,null,0,null,0,null,0,null,0,null,0,null,0,null,0,null,0,null,0,null,0,null,0,null,0,null,0,null,0,null,0,null,0,null,0,null,0,null,0,null,0,null,0,null,0,null,0,null,0,null,0,null,0,null,0,null,0,null,0,null,0]
[null,null,null,null,null,null,null,null,null,{"$f":"IF($C129=J$3,1,0)","v":0},null,0,null,0,null,0,null,0,null,0,null,0,null,0,null,0,null,0,null,0,null,0,null,0,null,0,null,0,null,0,null,0,null,0,null,0,null,0,null,0,null,0,null,0,null,0,null,0,null,0,null,0,null,0,null,0,null,0,null,0,null,0,null,0,null,0,null,0,null,0,null,0,null,0,null,0,null,0,null,0,null,0,null,0,null,0,null,0,null,0,null,0,null,0,null,0,null,0,null,0,null,0,null,0,null,0,null,0,null,0,null,0,null,0,null,0,null,0]
[]
[null,null,"ITEM","DESCRIÇÃO","QUANTIDADE POR TRABALHADOR/ANO","UNIDADE","VALOR"]
[null,null,null,null,null,null,null,null,null,null,{"$f":"IF(SUM(J$7:J$9)>0,$E132*$G132,0)","v":0},null,{"$f":"IF(SUM(L$7:L$9)>0,$E132*$G132,0)","v":0},null,{"$f":"IF(SUM(N$7:N$9)>0,$E132*$G132,0)","v":0},null,{"$f":"IF(SUM(P$7:P$9)>0,$E132*$G132,0)","v":0},null,{"$f":"IF(SUM(R$7:R$9)>0,$E132*$G132,0)","v":0},null,{"$f":"IF(SUM(T$7:T$9)>0,$E132*$G132,0)","v":0},null,{"$f":"IF(SUM(V$7:V$9)>0,$E132*$G132,0)","v":0},null,{"$f":"IF(SUM(X$7:X$9)>0,$E132*$G132,0)","v":0},null,{"$f":"IF(SUM(Z$7:Z$9)>0,$E132*$G132,0)","v":0},null,{"$f":"IF(SUM(AB$7:AB$9)>0,$E132*$G132,0)","v":0},null,{"$f":"IF(SUM(AD$7:AD$9)>0,$E132*$G132,0)","v":0},null,{"$f":"IF(SUM(AF$7:AF$9)>0,$E132*$G132,0)","v":0},null,{"$f":"IF(SUM(AH$7:AH$9)>0,$E132*$G132,0)","v":0},null,{"$f":"IF(SUM(AJ$7:AJ$9)>0,$E132*$G132,0)","v":0},null,{"$f":"IF(SUM(AL$7:AL$9)>0,$E132*$G132,0)","v":0},null,{"$f":"IF(SUM(AN$7:AN$9)>0,$E132*$G132,0)","v":0},null,{"$f":"IF(SUM(AP$7:AP$9)>0,$E132*$G132,0)","v":0},null,{"$f":"IF(SUM(AR$7:AR$9)>0,$E132*$G132,0)","v":0},null,{"$f":"IF(SUM(AT$7:AT$9)>0,$E132*$G132,0)","v":0},null,{"$f":"IF(SUM(AV$7:AV$9)>0,$E132*$G132,0)","v":0},null,{"$f":"IF(SUM(AX$7:AX$9)>0,$E132*$G132,0)","v":0},null,{"$f":"IF(SUM(AZ$7:AZ$9)>0,$E132*$G132,0)","v":0},null,{"$f":"IF(SUM(BB$7:BB$9)>0,$E132*$G132,0)","v":0},null,{"$f":"IF(SUM(BD$7:BD$9)>0,$E132*$G132,0)","v":0},null,{"$f":"IF(SUM(BF$7:BF$9)>0,$E132*$G132,0)","v":0},null,{"$f":"IF(SUM(BH$7:BH$9)>0,$E132*$G132,0)","v":0},null,{"$f":"IF(SUM(BJ$7:BJ$9)>0,$E132*$G132,0)","v":0},null,{"$f":"IF(SUM(BL$7:BL$9)>0,$E132*$G132,0)","v":0},null,{"$f":"IF(SUM(BN$7:BN$9)>0,$E132*$G132,0)","v":0},null,{"$f":"IF(SUM(BP$7:BP$9)>0,$E132*$G132,0)","v":0},null,{"$f":"IF(SUM(BR$7:BR$9)>0,$E132*$G132,0)","v":0},null,{"$f":"IF(SUM(BT$7:BT$9)>0,$E132*$G132,0)","v":0},null,{"$f":"IF(SUM(BV$7:BV$9)>0,$E132*$G132,0)","v":0},null,{"$f":"IF(SUM(BX$7:BX$9)>0,$E132*$G132,0)","v":0},null,{"$f":"IF(SUM(BZ$7:BZ$9)>0,$E132*$G132,0)","v":0},null,{"$f":"IF(SUM(CB$7:CB$9)>0,$E132*$G132,0)","v":0},null,{"$f":"IF(SUM(CD$7:CD$9)>0,$E132*$G132,0)","v":0},null,{"$f":"IF(SUM(CF$7:CF$9)>0,$E132*$G132,0)","v":0},null,{"$f":"IF(SUM(CH$7:CH$9)>0,$E132*$G132,0)","v":0},null,{"$f":"IF(SUM(CJ$7:CJ$9)>0,$E132*$G132,0)","v":0},null,{"$f":"IF(SUM(CL$7:CL$9)>0,$E132*$G132,0)","v":0},null,{"$f":"IF(SUM(CN$7:CN$9)>0,$E132*$G132,0)","v":0},null,{"$f":"IF(SUM(CP$7:CP$9)>0,$E132*$G132,0)","v":0},null,{"$f":"IF(SUM(CR$7:CR$9)>0,$E132*$G132,0)","v":0},null,{"$f":"IF(SUM(CT$7:CT$9)>0,$E132*$G132,0)","v":0},null,{"$f":"IF(SUM(CV$7:CV$9)>0,$E132*$G132,0)","v":0},null,{"$f":"IF(SUM(CX$7:CX$9)>0,$E132*$G132,0)","v":0},null,{"$f":"IF(SUM(CZ$7:CZ$9)>0,$E132*$G132,0)","v":0},null,{"$f":"IF(SUM(DB$7:DB$9)>0,$E132*$G132,0)","v":0},null,{"$f":"IF(SUM(DD$7:DD$9)>0,$E132*$G132,0)","v":0},null,{"$f":"IF(SUM(DF$7:DF$9)>0,$E132*$G132,0)","v":0},null,{"$f":"IF(SUM(DH$7:DH$9)>0,$E132*$G132,0)","v":0},null,{"$f":"IF(SUM(DJ$7:DJ$9)>0,$E132*$G132,0)","v":0},null,{"$f":"IF(SUM(DL$7:DL$9)>0,$E132*$G132,0)","v":0},null,{"$f":"IF(SUM(DN$7:DN$9)>0,$E132*$G132,0)","v":0},null,{"$f":"IF(SUM(DP$7:DP$9)>0,$E132*$G132,0)","v":0},null,{"$f":"IF(SUM(DR$7:DR$9)>0,$E132*$G132,0)","v":0},null,{"$f":"IF(SUM(DT$7:DT$9)>0,$E132*$G132,0)","v":0},null,{"$f":"IF(SUM(DV$7:DV$9)>0,$E132*$G132,0)","v":0},null,{"$f":"IF(SUM(DX$7:DX$9)>0,$E132*$G132,0)","v":0}]
[null,null,1,"Calçado ocupacional em EVA, fechado no calcanhar e parte superior, com solado de borracha antiderrapante (resistência ao escorregamento SRC), resistente ao óleo combustível, absorção de energia na região do salto, com palmilha interna removível, cabedal com substância antimicrobiana, junto à formulação do composto EVA, ativa durante toda a vida útil do produto. Cor preta. Ref.: Soft Works Ca 37212",3,"PAR",95.54,null,null,null,{"$f":"IF(SUM(J$127:J$129)>0,$E133*$G133,0)","v":0},null,{"$f":"IF(SUM(L$127:L$129)>0,$E133*$G133,0)","v":0},null,{"$f":"IF(SUM(N$127:N$129)>0,$E133*$G133,0)","v":0},null,{"$f":"IF(SUM(P$127:P$129)>0,$E133*$G133,0)","v":0},null,{"$f":"IF(SUM(R$127:R$129)>0,$E133*$G133,0)","v":0},null,{"$f":"IF(SUM(T$127:T$129)>0,$E133*$G133,0)","v":0},null,{"$f":"IF(SUM(V$127:V$129)>0,$E133*$G133,0)","v":0},null,{"$f":"IF(SUM(X$127:X$129)>0,$E133*$G133,0)","v":0},null,{"$f":"IF(SUM(Z$127:Z$129)>0,$E133*$G133,0)","v":0},null,{"$f":"IF(SUM(AB$127:AB$129)>0,$E133*$G133,0)","v":0},null,{"$f":"IF(SUM(AD$127:AD$129)>0,$E133*$G133,0)","v":0},null,{"$f":"IF(SUM(AF$127:AF$129)>0,$E133*$G133,0)","v":0},null,{"$f":"IF(SUM(AH$127:AH$129)>0,$E133*$G133,0)","v":0},null,{"$f":"IF(SUM(AJ$127:AJ$129)>0,$E133*$G133,0)","v":0},null,{"$f":"IF(SUM(AL$127:AL$129)>0,$E133*$G133,0)","v":0},null,{"$f":"IF(SUM(AN$127:AN$129)>0,$E133*$G133,0)","v":0},null,{"$f":"IF(SUM(AP$127:AP$129)>0,$E133*$G133,0)","v":0},null,{"$f":"IF(SUM(AR$127:AR$129)>0,$E133*$G133,0)","v":0},null,{"$f":"IF(SUM(AT$127:AT$129)>0,$E133*$G133,0)","v":0},null,{"$f":"IF(SUM(AV$127:AV$129)>0,$E133*$G133,0)","v":0},null,{"$f":"IF(SUM(AX$127:AX$129)>0,$E133*$G133,0)","v":0},null,{"$f":"IF(SUM(AZ$127:AZ$129)>0,$E133*$G133,0)","v":0},null,{"$f":"IF(SUM(BB$127:BB$129)>0,$E133*$G133,0)","v":0},null,{"$f":"IF(SUM(BD$127:BD$129)>0,$E133*$G133,0)","v":0},null,{"$f":"IF(SUM(BF$127:BF$129)>0,$E133*$G133,0)","v":0},null,{"$f":"IF(SUM(BH$127:BH$129)>0,$E133*$G133,0)","v":0},null,{"$f":"IF(SUM(BJ$127:BJ$129)>0,$E133*$G133,0)","v":0},null,{"$f":"IF(SUM(BL$127:BL$129)>0,$E133*$G133,0)","v":0},null,{"$f":"IF(SUM(BN$127:BN$129)>0,$E133*$G133,0)","v":0},null,{"$f":"IF(SUM(BP$127:BP$129)>0,$E133*$G133,0)","v":0},null,{"$f":"IF(SUM(BR$127:BR$129)>0,$E133*$G133,0)","v":0},null,{"$f":"IF(SUM(BT$127:BT$129)>0,$E133*$G133,0)","v":0},null,{"$f":"IF(SUM(BV$127:BV$129)>0,$E133*$G133,0)","v":0},null,{"$f":"IF(SUM(BX$127:BX$129)>0,$E133*$G133,0)","v":0},null,{"$f":"IF(SUM(BZ$127:BZ$129)>0,$E133*$G133,0)","v":0},null,{"$f":"IF(SUM(CB$127:CB$129)>0,$E133*$G133,0)","v":0},null,{"$f":"IF(SUM(CD$127:CD$129)>0,$E133*$G133,0)","v":0},null,{"$f":"IF(SUM(CF$127:CF$129)>0,$E133*$G133,0)","v":0},null,{"$f":"IF(SUM(CH$127:CH$129)>0,$E133*$G133,0)","v":0},null,{"$f":"IF(SUM(CJ$127:CJ$129)>0,$E133*$G133,0)","v":0},null,{"$f":"IF(SUM(CL$127:CL$129)>0,$E133*$G133,0)","v":0},null,{"$f":"IF(SUM(CN$127:CN$129)>0,$E133*$G133,0)","v":0},null,{"$f":"IF(SUM(CP$127:CP$129)>0,$E133*$G133,0)","v":0},null,{"$f":"IF(SUM(CR$127:CR$129)>0,$E133*$G133,0)","v":0},null,{"$f":"IF(SUM(CT$127:CT$129)>0,$E133*$G133,0)","v":0},null,{"$f":"IF(SUM(CV$127:CV$129)>0,$E133*$G133,0)","v":0},null,{"$f":"IF(SUM(CX$127:CX$129)>0,$E133*$G133,0)","v":0},null,{"$f":"IF(SUM(CZ$127:CZ$129)>0,$E133*$G133,0)","v":0},null,{"$f":"IF(SUM(DB$127:DB$129)>0,$E133*$G133,0)","v":0},null,{"$f":"IF(SUM(DD$127:DD$129)>0,$E133*$G133,0)","v":0},null,{"$f":"IF(SUM(DF$127:DF$129)>0,$E133*$G133,0)","v":0},null,{"$f":"IF(SUM(DH$127:DH$129)>0,$E133*$G133,0)","v":0},null,{"$f":"IF(SUM(DJ$127:DJ$129)>0,$E133*$G133,0)","v":0},null,{"$f":"IF(SUM(DL$127:DL$129)>0,$E133*$G133,0)","v":0},null,{"$f":"IF(SUM(DN$127:DN$129)>0,$E133*$G133,0)","v":0},null,{"$f":"IF(SUM(DP$127:DP$129)>0,$E133*$G133,0)","v":0},null,{"$f":"IF(SUM(DR$127:DR$129)>0,$E133*$G133,0)","v":0},null,{"$f":"IF(SUM(DT$127:DT$129)>0,$E133*$G133,0)","v":0},null,{"$f":"IF(SUM(DV$127:DV$129)>0,$E133*$G133,0)","v":0},null,{"$f":"IF(SUM(DX$127:DX$129)>0,$E133*$G133,0)","v":0}]
[null,null,2,"Avental de segurança confeccionado em vinil laminado e transparente, tiras soldadas eletronicamente, sendo uma no pescoço e duas na cintura com fivela plástica para fechamento, acabamento nas laterais por solda eletrônica. Dimensões: 1,20×0,70m. Ref. Maicol CA 38316",3,"UND",16.89,null,null,null,{"$f":"IF(SUM(J$127:J$129)>0,$E134*$G134,0)","v":0},null,{"$f":"IF(SUM(L$127:L$129)>0,$E134*$G134,0)","v":0},null,{"$f":"IF(SUM(N$127:N$129)>0,$E134*$G134,0)","v":0},null,{"$f":"IF(SUM(P$127:P$129)>0,$E134*$G134,0)","v":0},null,{"$f":"IF(SUM(R$127:R$129)>0,$E134*$G134,0)","v":0},null,{"$f":"IF(SUM(T$127:T$129)>0,$E134*$G134,0)","v":0},null,{"$f":"IF(SUM(V$127:V$129)>0,$E134*$G134,0)","v":0},null,{"$f":"IF(SUM(X$127:X$129)>0,$E134*$G134,0)","v":0},null,{"$f":"IF(SUM(Z$127:Z$129)>0,$E134*$G134,0)","v":0},null,{"$f":"IF(SUM(AB$127:AB$129)>0,$E134*$G134,0)","v":0},null,{"$f":"IF(SUM(AD$127:AD$129)>0,$E134*$G134,0)","v":0},null,{"$f":"IF(SUM(AF$127:AF$129)>0,$E134*$G134,0)","v":0},null,{"$f":"IF(SUM(AH$127:AH$129)>0,$E134*$G134,0)","v":0},null,{"$f":"IF(SUM(AJ$127:AJ$129)>0,$E134*$G134,0)","v":0},null,{"$f":"IF(SUM(AL$127:AL$129)>0,$E134*$G134,0)","v":0},null,{"$f":"IF(SUM(AN$127:AN$129)>0,$E134*$G134,0)","v":0},null,{"$f":"IF(SUM(AP$127:AP$129)>0,$E134*$G134,0)","v":0},null,{"$f":"IF(SUM(AR$127:AR$129)>0,$E134*$G134,0)","v":0},null,{"$f":"IF(SUM(AT$127:AT$129)>0,$E134*$G134,0)","v":0},null,{"$f":"IF(SUM(AV$127:AV$129)>0,$E134*$G134,0)","v":0},null,{"$f":"IF(SUM(AX$127:AX$129)>0,$E134*$G134,0)","v":0},null,{"$f":"IF(SUM(AZ$127:AZ$129)>0,$E134*$G134,0)","v":0},null,{"$f":"IF(SUM(BB$127:BB$129)>0,$E134*$G134,0)","v":0},null,{"$f":"IF(SUM(BD$127:BD$129)>0,$E134*$G134,0)","v":0},null,{"$f":"IF(SUM(BF$127:BF$129)>0,$E134*$G134,0)","v":0},null,{"$f":"IF(SUM(BH$127:BH$129)>0,$E134*$G134,0)","v":0},null,{"$f":"IF(SUM(BJ$127:BJ$129)>0,$E134*$G134,0)","v":0},null,{"$f":"IF(SUM(BL$127:BL$129)>0,$E134*$G134,0)","v":0},null,{"$f":"IF(SUM(BN$127:BN$129)>0,$E134*$G134,0)","v":0},null,{"$f":"IF(SUM(BP$127:BP$129)>0,$E134*$G134,0)","v":0},null,{"$f":"IF(SUM(BR$127:BR$129)>0,$E134*$G134,0)","v":0},null,{"$f":"IF(SUM(BT$127:BT$129)>0,$E134*$G134,0)","v":0},null,{"$f":"IF(SUM(BV$127:BV$129)>0,$E134*$G134,0)","v":0},null,{"$f":"IF(SUM(BX$127:BX$129)>0,$E134*$G134,0)","v":0},null,{"$f":"IF(SUM(BZ$127:BZ$129)>0,$E134*$G134,0)","v":0},null,{"$f":"IF(SUM(CB$127:CB$129)>0,$E134*$G134,0)","v":0},null,{"$f":"IF(SUM(CD$127:CD$129)>0,$E134*$G134,0)","v":0},null,{"$f":"IF(SUM(CF$127:CF$129)>0,$E134*$G134,0)","v":0},null,{"$f":"IF(SUM(CH$127:CH$129)>0,$E134*$G134,0)","v":0},null,{"$f":"IF(SUM(CJ$127:CJ$129)>0,$E134*$G134,0)","v":0},null,{"$f":"IF(SUM(CL$127:CL$129)>0,$E134*$G134,0)","v":0},null,{"$f":"IF(SUM(CN$127:CN$129)>0,$E134*$G134,0)","v":0},null,{"$f":"IF(SUM(CP$127:CP$129)>0,$E134*$G134,0)","v":0},null,{"$f":"IF(SUM(CR$127:CR$129)>0,$E134*$G134,0)","v":0},null,{"$f":"IF(SUM(CT$127:CT$129)>0,$E134*$G134,0)","v":0},null,{"$f":"IF(SUM(CV$127:CV$129)>0,$E134*$G134,0)","v":0},null,{"$f":"IF(SUM(CX$127:CX$129)>0,$E134*$G134,0)","v":0},null,{"$f":"IF(SUM(CZ$127:CZ$129)>0,$E134*$G134,0)","v":0},null,{"$f":"IF(SUM(DB$127:DB$129)>0,$E134*$G134,0)","v":0},null,{"$f":"IF(SUM(DD$127:DD$129)>0,$E134*$G134,0)","v":0},null,{"$f":"IF(SUM(DF$127:DF$129)>0,$E134*$G134,0)","v":0},null,{"$f":"IF(SUM(DH$127:DH$129)>0,$E134*$G134,0)","v":0},null,{"$f":"IF(SUM(DJ$127:DJ$129)>0,$E134*$G134,0)","v":0},null,{"$f":"IF(SUM(DL$127:DL$129)>0,$E134*$G134,0)","v":0},null,{"$f":"IF(SUM(DN$127:DN$129)>0,$E134*$G134,0)","v":0},null,{"$f":"IF(SUM(DP$127:DP$129)>0,$E134*$G134,0)","v":0},null,{"$f":"IF(SUM(DR$127:DR$129)>0,$E134*$G134,0)","v":0},null,{"$f":"IF(SUM(DT$127:DT$129)>0,$E134*$G134,0)","v":0},null,{"$f":"IF(SUM(DV$127:DV$129)>0,$E134*$G134,0)","v":0},null,{"$f":"IF(SUM(DX$127:DX$129)>0,$E134*$G134,0)","v":0}]
[null,null,3,"Luva de Segurança confeccionada em LÁTEX natural anatômica (esp. mínima 0,60mm), acabamento forrado em algodão flocado, antiderrapante na palma e dedos. Ref.: Mucambo.",12,"PAR",7.14,null,null,null,0,null,{"$f":"IF(SUM(L$127:L$129)>0,$E135*$G135,0)","v":0},null,{"$f":"IF(SUM(N$127:N$129)>0,$E135*$G135,0)","v":0},null,{"$f":"IF(SUM(P$127:P$129)>0,$E135*$G135,0)","v":0},null,{"$f":"IF(SUM(R$127:R$129)>0,$E135*$G135,0)","v":0},null,{"$f":"IF(SUM(T$127:T$129)>0,$E135*$G135,0)","v":0},null,{"$f":"IF(SUM(V$127:V$129)>0,$E135*$G135,0)","v":0},null,{"$f":"IF(SUM(X$127:X$129)>0,$E135*$G135,0)","v":0},null,{"$f":"IF(SUM(Z$127:Z$129)>0,$E135*$G135,0)","v":0},null,{"$f":"IF(SUM(AB$127:AB$129)>0,$E135*$G135,0)","v":0},null,{"$f":"IF(SUM(AD$127:AD$129)>0,$E135*$G135,0)","v":0},null,{"$f":"IF(SUM(AF$127:AF$129)>0,$E135*$G135,0)","v":0},null,{"$f":"IF(SUM(AH$127:AH$129)>0,$E135*$G135,0)","v":0},null,{"$f":"IF(SUM(AJ$127:AJ$129)>0,$E135*$G135,0)","v":0},null,{"$f":"IF(SUM(AL$127:AL$129)>0,$E135*$G135,0)","v":0},null,{"$f":"IF(SUM(AN$127:AN$129)>0,$E135*$G135,0)","v":0},null,{"$f":"IF(SUM(AP$127:AP$129)>0,$E135*$G135,0)","v":0},null,{"$f":"IF(SUM(AR$127:AR$129)>0,$E135*$G135,0)","v":0},null,{"$f":"IF(SUM(AT$127:AT$129)>0,$E135*$G135,0)","v":0},null,{"$f":"IF(SUM(AV$127:AV$129)>0,$E135*$G135,0)","v":0},null,{"$f":"IF(SUM(AX$127:AX$129)>0,$E135*$G135,0)","v":0},null,{"$f":"IF(SUM(AZ$127:AZ$129)>0,$E135*$G135,0)","v":0},null,{"$f":"IF(SUM(BB$127:BB$129)>0,$E135*$G135,0)","v":0},null,{"$f":"IF(SUM(BD$127:BD$129)>0,$E135*$G135,0)","v":0},null,{"$f":"IF(SUM(BF$127:BF$129)>0,$E135*$G135,0)","v":0},null,{"$f":"IF(SUM(BH$127:BH$129)>0,$E135*$G135,0)","v":0},null,{"$f":"IF(SUM(BJ$127:BJ$129)>0,$E135*$G135,0)","v":0},null,{"$f":"IF(SUM(BL$127:BL$129)>0,$E135*$G135,0)","v":0},null,{"$f":"IF(SUM(BN$127:BN$129)>0,$E135*$G135,0)","v":0},null,{"$f":"IF(SUM(BP$127:BP$129)>0,$E135*$G135,0)","v":0},null,{"$f":"IF(SUM(BR$127:BR$129)>0,$E135*$G135,0)","v":0},null,{"$f":"IF(SUM(BT$127:BT$129)>0,$E135*$G135,0)","v":0},null,{"$f":"IF(SUM(BV$127:BV$129)>0,$E135*$G135,0)","v":0},null,{"$f":"IF(SUM(BX$127:BX$129)>0,$E135*$G135,0)","v":0},null,{"$f":"IF(SUM(BZ$127:BZ$129)>0,$E135*$G135,0)","v":0},null,{"$f":"IF(SUM(CB$127:CB$129)>0,$E135*$G135,0)","v":0},null,{"$f":"IF(SUM(CD$127:CD$129)>0,$E135*$G135,0)","v":0},null,{"$f":"IF(SUM(CF$127:CF$129)>0,$E135*$G135,0)","v":0},null,{"$f":"IF(SUM(CH$127:CH$129)>0,$E135*$G135,0)","v":0},null,{"$f":"IF(SUM(CJ$127:CJ$129)>0,$E135*$G135,0)","v":0},null,{"$f":"IF(SUM(CL$127:CL$129)>0,$E135*$G135,0)","v":0},null,{"$f":"IF(SUM(CN$127:CN$129)>0,$E135*$G135,0)","v":0},null,{"$f":"IF(SUM(CP$127:CP$129)>0,$E135*$G135,0)","v":0},null,{"$f":"IF(SUM(CR$127:CR$129)>0,$E135*$G135,0)","v":0},null,{"$f":"IF(SUM(CT$127:CT$129)>0,$E135*$G135,0)","v":0},null,{"$f":"IF(SUM(CV$127:CV$129)>0,$E135*$G135,0)","v":0},null,{"$f":"IF(SUM(CX$127:CX$129)>0,$E135*$G135,0)","v":0},null,{"$f":"IF(SUM(CZ$127:CZ$129)>0,$E135*$G135,0)","v":0},null,{"$f":"IF(SUM(DB$127:DB$129)>0,$E135*$G135,0)","v":0},null,{"$f":"IF(SUM(DD$127:DD$129)>0,$E135*$G135,0)","v":0},null,{"$f":"IF(SUM(DF$127:DF$129)>0,$E135*$G135,0)","v":0},null,{"$f":"IF(SUM(DH$127:DH$129)>0,$E135*$G135,0)","v":0},null,{"$f":"IF(SUM(DJ$127:DJ$129)>0,$E135*$G135,0)","v":0},null,{"$f":"IF(SUM(DL$127:DL$129)>0,$E135*$G135,0)","v":0},null,{"$f":"IF(SUM(DN$127:DN$129)>0,$E135*$G135,0)","v":0},null,{"$f":"IF(SUM(DP$127:DP$129)>0,$E135*$G135,0)","v":0},null,{"$f":"IF(SUM(DR$127:DR$129)>0,$E135*$G135,0)","v":0},null,{"$f":"IF(SUM(DT$127:DT$129)>0,$E135*$G135,0)","v":0},null,{"$f":"IF(SUM(DV$127:DV$129)>0,$E135*$G135,0)","v":0},null,{"$f":"IF(SUM(DX$127:DX$129)>0,$E135*$G135,0)","v":0}]
[null,null,4,"Touca sanfonada, em TNT (100% polipropileno), elástico; impermeabilidade mínima de 80%, descartável, cor branca. Ref. Sky. ",500,"UND",0.15,null,null,null,0,null,{"$f":"IF(SUM(L$127:L$129)>0,$E136*$G136,0)","v":0},null,{"$f":"IF(SUM(N$127:N$129)>0,$E136*$G136,0)","v":0},null,{"$f":"IF(SUM(P$127:P$129)>0,$E136*$G136,0)","v":0},null,{"$f":"IF(SUM(R$127:R$129)>0,$E136*$G136,0)","v":0},null,{"$f":"IF(SUM(T$127:T$129)>0,$E136*$G136,0)","v":0},null,{"$f":"IF(SUM(V$127:V$129)>0,$E136*$G136,0)","v":0},null,{"$f":"IF(SUM(X$127:X$129)>0,$E136*$G136,0)","v":0},null,{"$f":"IF(SUM(Z$127:Z$129)>0,$E136*$G136,0)","v":0},null,{"$f":"IF(SUM(AB$127:AB$129)>0,$E136*$G136,0)","v":0},null,{"$f":"IF(SUM(AD$127:AD$129)>0,$E136*$G136,0)","v":0},null,{"$f":"IF(SUM(AF$127:AF$129)>0,$E136*$G136,0)","v":0},null,{"$f":"IF(SUM(AH$127:AH$129)>0,$E136*$G136,0)","v":0},null,{"$f":"IF(SUM(AJ$127:AJ$129)>0,$E136*$G136,0)","v":0},null,{"$f":"IF(SUM(AL$127:AL$129)>0,$E136*$G136,0)","v":0},null,{"$f":"IF(SUM(AN$127:AN$129)>0,$E136*$G136,0)","v":0},null,{"$f":"IF(SUM(AP$127:AP$129)>0,$E136*$G136,0)","v":0},null,{"$f":"IF(SUM(AR$127:AR$129)>0,$E136*$G136,0)","v":0},null,{"$f":"IF(SUM(AT$127:AT$129)>0,$E136*$G136,0)","v":0},null,{"$f":"IF(SUM(AV$127:AV$129)>0,$E136*$G136,0)","v":0},null,{"$f":"IF(SUM(AX$127:AX$129)>0,$E136*$G136,0)","v":0},null,{"$f":"IF(SUM(AZ$127:AZ$129)>0,$E136*$G136,0)","v":0},null,{"$f":"IF(SUM(BB$127:BB$129)>0,$E136*$G136,0)","v":0},null,{"$f":"IF(SUM(BD$127:BD$129)>0,$E136*$G136,0)","v":0},null,{"$f":"IF(SUM(BF$127:BF$129)>0,$E136*$G136,0)","v":0},null,{"$f":"IF(SUM(BH$127:BH$129)>0,$E136*$G136,0)","v":0},null,{"$f":"IF(SUM(BJ$127:BJ$129)>0,$E136*$G136,0)","v":0},null,{"$f":"IF(SUM(BL$127:BL$129)>0,$E136*$G136,0)","v":0},null,{"$f":"IF(SUM(BN$127:BN$129)>0,$E136*$G136,0)","v":0},null,{"$f":"IF(SUM(BP$127:BP$129)>0,$E136*$G136,0)","v":0},null,{"$f":"IF(SUM(BR$127:BR$129)>0,$E136*$G136,0)","v":0},null,{"$f":"IF(SUM(BT$127:BT$129)>0,$E136*$G136,0)","v":0},null,{"$f":"IF(SUM(BV$127:BV$129)>0,$E136*$G136,0)","v":0},null,{"$f":"IF(SUM(BX$127:BX$129)>0,$E136*$G136,0)","v":0},null,{"$f":"IF(SUM(BZ$127:BZ$129)>0,$E136*$G136,0)","v":0},null,{"$f":"IF(SUM(CB$127:CB$129)>0,$E136*$G136,0)","v":0},null,{"$f":"IF(SUM(CD$127:CD$129)>0,$E136*$G136,0)","v":0},null,{"$f":"IF(SUM(CF$127:CF$129)>0,$E136*$G136,0)","v":0},null,{"$f":"IF(SUM(CH$127:CH$129)>0,$E136*$G136,0)","v":0},null,{"$f":"IF(SUM(CJ$127:CJ$129)>0,$E136*$G136,0)","v":0},null,{"$f":"IF(SUM(CL$127:CL$129)>0,$E136*$G136,0)","v":0},null,{"$f":"IF(SUM(CN$127:CN$129)>0,$E136*$G136,0)","v":0},null,{"$f":"IF(SUM(CP$127:CP$129)>0,$E136*$G136,0)","v":0},null,{"$f":"IF(SUM(CR$127:CR$129)>0,$E136*$G136,0)","v":0},null,{"$f":"IF(SUM(CT$127:CT$129)>0,$E136*$G136,0)","v":0},null,{"$f":"IF(SUM(CV$127:CV$129)>0,$E136*$G136,0)","v":0},null,{"$f":"IF(SUM(CX$127:CX$129)>0,$E136*$G136,0)","v":0},null,{"$f":"IF(SUM(CZ$127:CZ$129)>0,$E136*$G136,0)","v":0},null,{"$f":"IF(SUM(DB$127:DB$129)>0,$E136*$G136,0)","v":0},null,{"$f":"IF(SUM(DD$127:DD$129)>0,$E136*$G136,0)","v":0},null,{"$f":"IF(SUM(DF$127:DF$129)>0,$E136*$G136,0)","v":0},null,{"$f":"IF(SUM(DH$127:DH$129)>0,$E136*$G136,0)","v":0},null,{"$f":"IF(SUM(DJ$127:DJ$129)>0,$E136*$G136,0)","v":0},null,{"$f":"IF(SUM(DL$127:DL$129)>0,$E136*$G136,0)","v":0},null,{"$f":"IF(SUM(DN$127:DN$129)>0,$E136*$G136,0)","v":0},null,{"$f":"IF(SUM(DP$127:DP$129)>0,$E136*$G136,0)","v":0},null,{"$f":"IF(SUM(DR$127:DR$129)>0,$E136*$G136,0)","v":0},null,{"$f":"IF(SUM(DT$127:DT$129)>0,$E136*$G136,0)","v":0},null,{"$f":"IF(SUM(DV$127:DV$129)>0,$E136*$G136,0)","v":0},null,{"$f":"IF(SUM(DX$127:DX$129)>0,$E136*$G136,0)","v":0}]
[null,null,5,"Bota em PVC, impermeável, forrada internamente, cano médio, resistência ao escorregamento do solado SRC. Cor branca. Ref. MARLUVAS. ",1,"PAR",39.97,null,null,null,0,null,{"$f":"IF(SUM(L$127:L$129)>0,$E137*$G137,0)","v":0},null,{"$f":"IF(SUM(N$127:N$129)>0,$E137*$G137,0)","v":0},null,{"$f":"IF(SUM(P$127:P$129)>0,$E137*$G137,0)","v":0},null,{"$f":"IF(SUM(R$127:R$129)>0,$E137*$G137,0)","v":0},null,{"$f":"IF(SUM(T$127:T$129)>0,$E137*$G137,0)","v":0},null,{"$f":"IF(SUM(V$127:V$129)>0,$E137*$G137,0)","v":0},null,{"$f":"IF(SUM(X$127:X$129)>0,$E137*$G137,0)","v":0},null,{"$f":"IF(SUM(Z$127:Z$129)>0,$E137*$G137,0)","v":0},null,{"$f":"IF(SUM(AB$127:AB$129)>0,$E137*$G137,0)","v":0},null,{"$f":"IF(SUM(AD$127:AD$129)>0,$E137*$G137,0)","v":0},null,{"$f":"IF(SUM(AF$127:AF$129)>0,$E137*$G137,0)","v":0},null,{"$f":"IF(SUM(AH$127:AH$129)>0,$E137*$G137,0)","v":0},null,{"$f":"IF(SUM(AJ$127:AJ$129)>0,$E137*$G137,0)","v":0},null,{"$f":"IF(SUM(AL$127:AL$129)>0,$E137*$G137,0)","v":0},null,{"$f":"IF(SUM(AN$127:AN$129)>0,$E137*$G137,0)","v":0},null,{"$f":"IF(SUM(AP$127:AP$129)>0,$E137*$G137,0)","v":0},null,{"$f":"IF(SUM(AR$127:AR$129)>0,$E137*$G137,0)","v":0},null,{"$f":"IF(SUM(AT$127:AT$129)>0,$E137*$G137,0)","v":0},null,{"$f":"IF(SUM(AV$127:AV$129)>0,$E137*$G137,0)","v":0},null,{"$f":"IF(SUM(AX$127:AX$129)>0,$E137*$G137,0)","v":0},null,{"$f":"IF(SUM(AZ$127:AZ$129)>0,$E137*$G137,0)","v":0},null,{"$f":"IF(SUM(BB$127:BB$129)>0,$E137*$G137,0)","v":0},null,{"$f":"IF(SUM(BD$127:BD$129)>0,$E137*$G137,0)","v":0},null,{"$f":"IF(SUM(BF$127:BF$129)>0,$E137*$G137,0)","v":0},null,{"$f":"IF(SUM(BH$127:BH$129)>0,$E137*$G137,0)","v":0},null,{"$f":"IF(SUM(BJ$127:BJ$129)>0,$E137*$G137,0)","v":0},null,{"$f":"IF(SUM(BL$127:BL$129)>0,$E137*$G137,0)","v":0},null,{"$f":"IF(SUM(BN$127:BN$129)>0,$E137*$G137,0)","v":0},null,{"$f":"IF(SUM(BP$127:BP$129)>0,$E137*$G137,0)","v":0},null,{"$f":"IF(SUM(BR$127:BR$129)>0,$E137*$G137,0)","v":0},null,{"$f":"IF(SUM(BT$127:BT$129)>0,$E137*$G137,0)","v":0},null,{"$f":"IF(SUM(BV$127:BV$129)>0,$E137*$G137,0)","v":0},null,{"$f":"IF(SUM(BX$127:BX$129)>0,$E137*$G137,0)","v":0},null,{"$f":"IF(SUM(BZ$127:BZ$129)>0,$E137*$G137,0)","v":0},null,{"$f":"IF(SUM(CB$127:CB$129)>0,$E137*$G137,0)","v":0},null,{"$f":"IF(SUM(CD$127:CD$129)>0,$E137*$G137,0)","v":0},null,{"$f":"IF(SUM(CF$127:CF$129)>0,$E137*$G137,0)","v":0},null,{"$f":"IF(SUM(CH$127:CH$129)>0,$E137*$G137,0)","v":0},null,{"$f":"IF(SUM(CJ$127:CJ$129)>0,$E137*$G137,0)","v":0},null,{"$f":"IF(SUM(CL$127:CL$129)>0,$E137*$G137,0)","v":0},null,{"$f":"IF(SUM(CN$127:CN$129)>0,$E137*$G137,0)","v":0},null,{"$f":"IF(SUM(CP$127:CP$129)>0,$E137*$G137,0)","v":0},null,{"$f":"IF(SUM(CR$127:CR$129)>0,$E137*$G137,0)","v":0},null,{"$f":"IF(SUM(CT$127:CT$129)>0,$E137*$G137,0)","v":0},null,{"$f":"IF(SUM(CV$127:CV$129)>0,$E137*$G137,0)","v":0},null,{"$f":"IF(SUM(CX$127:CX$129)>0,$E137*$G137,0)","v":0},null,{"$f":"IF(SUM(CZ$127:CZ$129)>0,$E137*$G137,0)","v":0},null,{"$f":"IF(SUM(DB$127:DB$129)>0,$E137*$G137,0)","v":0},null,{"$f":"IF(SUM(DD$127:DD$129)>0,$E137*$G137,0)","v":0},null,{"$f":"IF(SUM(DF$127:DF$129)>0,$E137*$G137,0)","v":0},null,{"$f":"IF(SUM(DH$127:DH$129)>0,$E137*$G137,0)","v":0},null,{"$f":"IF(SUM(DJ$127:DJ$129)>0,$E137*$G137,0)","v":0},null,{"$f":"IF(SUM(DL$127:DL$129)>0,$E137*$G137,0)","v":0},null,{"$f":"IF(SUM(DN$127:DN$129)>0,$E137*$G137,0)","v":0},null,{"$f":"IF(SUM(DP$127:DP$129)>0,$E137*$G137,0)","v":0},null,{"$f":"IF(SUM(DR$127:DR$129)>0,$E137*$G137,0)","v":0},null,{"$f":"IF(SUM(DT$127:DT$129)>0,$E137*$G137,0)","v":0},null,{"$f":"IF(SUM(DV$127:DV$129)>0,$E137*$G137,0)","v":0},null,{"$f":"IF(SUM(DX$127:DX$129)>0,$E137*$G137,0)","v":0}]
[null,null,6,"Luva de segurança (punho curto) de malha de aço, de cinco dedos, confeccionada em elos de aço inox, fechamento ajustável no punho. Ref. Danny.",1,"PAR",809.17,null,null,null,0,null,{"$f":"IF(SUM(L$127:L$129)>0,$E138*$G138,0)","v":0},null,{"$f":"IF(SUM(N$127:N$129)>0,$E138*$G138,0)","v":0},null,{"$f":"IF(SUM(P$127:P$129)>0,$E138*$G138,0)","v":0},null,{"$f":"IF(SUM(R$127:R$129)>0,$E138*$G138,0)","v":0},null,{"$f":"IF(SUM(T$127:T$129)>0,$E138*$G138,0)","v":0},null,{"$f":"IF(SUM(V$127:V$129)>0,$E138*$G138,0)","v":0},null,{"$f":"IF(SUM(X$127:X$129)>0,$E138*$G138,0)","v":0},null,{"$f":"IF(SUM(Z$127:Z$129)>0,$E138*$G138,0)","v":0},null,{"$f":"IF(SUM(AB$127:AB$129)>0,$E138*$G138,0)","v":0},null,{"$f":"IF(SUM(AD$127:AD$129)>0,$E138*$G138,0)","v":0},null,{"$f":"IF(SUM(AF$127:AF$129)>0,$E138*$G138,0)","v":0},null,{"$f":"IF(SUM(AH$127:AH$129)>0,$E138*$G138,0)","v":0},null,{"$f":"IF(SUM(AJ$127:AJ$129)>0,$E138*$G138,0)","v":0},null,{"$f":"IF(SUM(AL$127:AL$129)>0,$E138*$G138,0)","v":0},null,{"$f":"IF(SUM(AN$127:AN$129)>0,$E138*$G138,0)","v":0},null,{"$f":"IF(SUM(AP$127:AP$129)>0,$E138*$G138,0)","v":0},null,{"$f":"IF(SUM(AR$127:AR$129)>0,$E138*$G138,0)","v":0},null,{"$f":"IF(SUM(AT$127:AT$129)>0,$E138*$G138,0)","v":0},null,{"$f":"IF(SUM(AV$127:AV$129)>0,$E138*$G138,0)","v":0},null,{"$f":"IF(SUM(AX$127:AX$129)>0,$E138*$G138,0)","v":0},null,{"$f":"IF(SUM(AZ$127:AZ$129)>0,$E138*$G138,0)","v":0},null,{"$f":"IF(SUM(BB$127:BB$129)>0,$E138*$G138,0)","v":0},null,{"$f":"IF(SUM(BD$127:BD$129)>0,$E138*$G138,0)","v":0},null,{"$f":"IF(SUM(BF$127:BF$129)>0,$E138*$G138,0)","v":0},null,{"$f":"IF(SUM(BH$127:BH$129)>0,$E138*$G138,0)","v":0},null,{"$f":"IF(SUM(BJ$127:BJ$129)>0,$E138*$G138,0)","v":0},null,{"$f":"IF(SUM(BL$127:BL$129)>0,$E138*$G138,0)","v":0},null,{"$f":"IF(SUM(BN$127:BN$129)>0,$E138*$G138,0)","v":0},null,{"$f":"IF(SUM(BP$127:BP$129)>0,$E138*$G138,0)","v":0},null,{"$f":"IF(SUM(BR$127:BR$129)>0,$E138*$G138,0)","v":0},null,{"$f":"IF(SUM(BT$127:BT$129)>0,$E138*$G138,0)","v":0},null,{"$f":"IF(SUM(BV$127:BV$129)>0,$E138*$G138,0)","v":0},null,{"$f":"IF(SUM(BX$127:BX$129)>0,$E138*$G138,0)","v":0},null,{"$f":"IF(SUM(BZ$127:BZ$129)>0,$E138*$G138,0)","v":0},null,{"$f":"IF(SUM(CB$127:CB$129)>0,$E138*$G138,0)","v":0},null,{"$f":"IF(SUM(CD$127:CD$129)>0,$E138*$G138,0)","v":0},null,{"$f":"IF(SUM(CF$127:CF$129)>0,$E138*$G138,0)","v":0},null,{"$f":"IF(SUM(CH$127:CH$129)>0,$E138*$G138,0)","v":0},null,{"$f":"IF(SUM(CJ$127:CJ$129)>0,$E138*$G138,0)","v":0},null,{"$f":"IF(SUM(CL$127:CL$129)>0,$E138*$G138,0)","v":0},null,{"$f":"IF(SUM(CN$127:CN$129)>0,$E138*$G138,0)","v":0},null,{"$f":"IF(SUM(CP$127:CP$129)>0,$E138*$G138,0)","v":0},null,{"$f":"IF(SUM(CR$127:CR$129)>0,$E138*$G138,0)","v":0},null,{"$f":"IF(SUM(CT$127:CT$129)>0,$E138*$G138,0)","v":0},null,{"$f":"IF(SUM(CV$127:CV$129)>0,$E138*$G138,0)","v":0},null,{"$f":"IF(SUM(CX$127:CX$129)>0,$E138*$G138,0)","v":0},null,{"$f":"IF(SUM(CZ$127:CZ$129)>0,$E138*$G138,0)","v":0},null,{"$f":"IF(SUM(DB$127:DB$129)>0,$E138*$G138,0)","v":0},null,{"$f":"IF(SUM(DD$127:DD$129)>0,$E138*$G138,0)","v":0},null,{"$f":"IF(SUM(DF$127:DF$129)>0,$E138*$G138,0)","v":0},null,{"$f":"IF(SUM(DH$127:DH$129)>0,$E138*$G138,0)","v":0},null,{"$f":"IF(SUM(DJ$127:DJ$129)>0,$E138*$G138,0)","v":0},null,{"$f":"IF(SUM(DL$127:DL$129)>0,$E138*$G138,0)","v":0},null,{"$f":"IF(SUM(DN$127:DN$129)>0,$E138*$G138,0)","v":0},null,{"$f":"IF(SUM(DP$127:DP$129)>0,$E138*$G138,0)","v":0},null,{"$f":"IF(SUM(DR$127:DR$129)>0,$E138*$G138,0)","v":0},null,{"$f":"IF(SUM(DT$127:DT$129)>0,$E138*$G138,0)","v":0},null,{"$f":"IF(SUM(DV$127:DV$129)>0,$E138*$G138,0)","v":0},null,{"$f":"IF(SUM(DX$127:DX$129)>0,$E138*$G138,0)","v":0}]
[null,null,7,"Luva de segurança, para proteção térmica, 5 dedos, confeccionada em poliéster e algodão com TNT (tecido não tecido), totalmente revestida em nitrílico. Comprimento 35cm. Punho reto. Formato Anatômico. Reutilizável. Ref. Volk CA 38.123",1,"PAR",152.96,null,null,null,0,null,{"$f":"IF(SUM(L$127:L$129)>0,$E139*$G139,0)","v":0},null,{"$f":"IF(SUM(N$127:N$129)>0,$E139*$G139,0)","v":0},null,{"$f":"IF(SUM(P$127:P$129)>0,$E139*$G139,0)","v":0},null,{"$f":"IF(SUM(R$127:R$129)>0,$E139*$G139,0)","v":0},null,{"$f":"IF(SUM(T$127:T$129)>0,$E139*$G139,0)","v":0},null,{"$f":"IF(SUM(V$127:V$129)>0,$E139*$G139,0)","v":0},null,{"$f":"IF(SUM(X$127:X$129)>0,$E139*$G139,0)","v":0},null,{"$f":"IF(SUM(Z$127:Z$129)>0,$E139*$G139,0)","v":0},null,{"$f":"IF(SUM(AB$127:AB$129)>0,$E139*$G139,0)","v":0},null,{"$f":"IF(SUM(AD$127:AD$129)>0,$E139*$G139,0)","v":0},null,{"$f":"IF(SUM(AF$127:AF$129)>0,$E139*$G139,0)","v":0},null,{"$f":"IF(SUM(AH$127:AH$129)>0,$E139*$G139,0)","v":0},null,{"$f":"IF(SUM(AJ$127:AJ$129)>0,$E139*$G139,0)","v":0},null,{"$f":"IF(SUM(AL$127:AL$129)>0,$E139*$G139,0)","v":0},null,{"$f":"IF(SUM(AN$127:AN$129)>0,$E139*$G139,0)","v":0},null,{"$f":"IF(SUM(AP$127:AP$129)>0,$E139*$G139,0)","v":0},null,{"$f":"IF(SUM(AR$127:AR$129)>0,$E139*$G139,0)","v":0},null,{"$f":"IF(SUM(AT$127:AT$129)>0,$E139*$G139,0)","v":0},null,{"$f":"IF(SUM(AV$127:AV$129)>0,$E139*$G139,0)","v":0},null,{"$f":"IF(SUM(AX$127:AX$129)>0,$E139*$G139,0)","v":0},null,{"$f":"IF(SUM(AZ$127:AZ$129)>0,$E139*$G139,0)","v":0},null,{"$f":"IF(SUM(BB$127:BB$129)>0,$E139*$G139,0)","v":0},null,{"$f":"IF(SUM(BD$127:BD$129)>0,$E139*$G139,0)","v":0},null,{"$f":"IF(SUM(BF$127:BF$129)>0,$E139*$G139,0)","v":0},null,{"$f":"IF(SUM(BH$127:BH$129)>0,$E139*$G139,0)","v":0},null,{"$f":"IF(SUM(BJ$127:BJ$129)>0,$E139*$G139,0)","v":0},null,{"$f":"IF(SUM(BL$127:BL$129)>0,$E139*$G139,0)","v":0},null,{"$f":"IF(SUM(BN$127:BN$129)>0,$E139*$G139,0)","v":0},null,{"$f":"IF(SUM(BP$127:BP$129)>0,$E139*$G139,0)","v":0},null,{"$f":"IF(SUM(BR$127:BR$129)>0,$E139*$G139,0)","v":0},null,{"$f":"IF(SUM(BT$127:BT$129)>0,$E139*$G139,0)","v":0},null,{"$f":"IF(SUM(BV$127:BV$129)>0,$E139*$G139,0)","v":0},null,{"$f":"IF(SUM(BX$127:BX$129)>0,$E139*$G139,0)","v":0},null,{"$f":"IF(SUM(BZ$127:BZ$129)>0,$E139*$G139,0)","v":0},null,{"$f":"IF(SUM(CB$127:CB$129)>0,$E139*$G139,0)","v":0},null,{"$f":"IF(SUM(CD$127:CD$129)>0,$E139*$G139,0)","v":0},null,{"$f":"IF(SUM(CF$127:CF$129)>0,$E139*$G139,0)","v":0},null,{"$f":"IF(SUM(CH$127:CH$129)>0,$E139*$G139,0)","v":0},null,{"$f":"IF(SUM(CJ$127:CJ$129)>0,$E139*$G139,0)","v":0},null,{"$f":"IF(SUM(CL$127:CL$129)>0,$E139*$G139,0)","v":0},null,{"$f":"IF(SUM(CN$127:CN$129)>0,$E139*$G139,0)","v":0},null,{"$f":"IF(SUM(CP$127:CP$129)>0,$E139*$G139,0)","v":0},null,{"$f":"IF(SUM(CR$127:CR$129)>0,$E139*$G139,0)","v":0},null,{"$f":"IF(SUM(CT$127:CT$129)>0,$E139*$G139,0)","v":0},null,{"$f":"IF(SUM(CV$127:CV$129)>0,$E139*$G139,0)","v":0},null,{"$f":"IF(SUM(CX$127:CX$129)>0,$E139*$G139,0)","v":0},null,{"$f":"IF(SUM(CZ$127:CZ$129)>0,$E139*$G139,0)","v":0},null,{"$f":"IF(SUM(DB$127:DB$129)>0,$E139*$G139,0)","v":0},null,{"$f":"IF(SUM(DD$127:DD$129)>0,$E139*$G139,0)","v":0},null,{"$f":"IF(SUM(DF$127:DF$129)>0,$E139*$G139,0)","v":0},null,{"$f":"IF(SUM(DH$127:DH$129)>0,$E139*$G139,0)","v":0},null,{"$f":"IF(SUM(DJ$127:DJ$129)>0,$E139*$G139,0)","v":0},null,{"$f":"IF(SUM(DL$127:DL$129)>0,$E139*$G139,0)","v":0},null,{"$f":"IF(SUM(DN$127:DN$129)>0,$E139*$G139,0)","v":0},null,{"$f":"IF(SUM(DP$127:DP$129)>0,$E139*$G139,0)","v":0},null,{"$f":"IF(SUM(DR$127:DR$129)>0,$E139*$G139,0)","v":0},null,{"$f":"IF(SUM(DT$127:DT$129)>0,$E139*$G139,0)","v":0},null,{"$f":"IF(SUM(DV$127:DV$129)>0,$E139*$G139,0)","v":0},null,{"$f":"IF(SUM(DX$127:DX$129)>0,$E139*$G139,0)","v":0}]
[]
[]
[null,null,"CATEGORIAS",null,null,null,"QUANTIDADE"]
[null,null,null,null,null,null,null,null,null,{"$f":"IF($C143=J$3,1,0)","v":0},null,{"$f":"IF($C143=L$3,1,0)","v":0},null,0,null,0,null,0,null,0,null,0,null,0,null,0,null,0,null,0,null,0,null,0,null,0,null,0,null,0,null,0,null,{"$f":"IF($C143=AR$3,1,0)","v":0},null,0,null,0,null,0,null,0,null,0,null,0,null,0,null,0,null,0,null,0,null,0,null,0,null,0,null,0,null,0,null,0,null,0,null,0,null,0,null,0,null,0,null,0,null,0,null,0,null,0,null,0,null,0,null,0,null,0,null,0,null,0,null,{"$f":"IF($C143=DD$3,1,0)","v":0},null,0,null,0,null,0,null,0,null,0,null,0,null,0,null,0,null,0,null,0]
[null,null,null,{"$f":"HLOOKUP($C144,'Dados Gerais'!$D$6:$V$11,6,0)","v":{"$error":"#N/A"}},null,null,{"$f":"HLOOKUP($C144,'Dados Gerais'!$D$6:$V$15,10,0)","v":{"$error":"#N/A"}},null,null,{"$f":"IF($C144=J$3,1,0)","v":0},null,0,null,{"$f":"IF($C144=N$3,1,0)","v":0},null,0,null,0,null,0,null,0,null,0,null,0,null,0,null,0,null,0,null,0,null,0,null,0,null,0,null,0,null,0,null,0,null,0,null,0,null,0,null,0,null,0,null,0,null,0,null,0,null,0,null,0,null,0,null,0,null,0,null,0,null,0,null,0,null,0,null,0,null,0,null,0,null,0,null,0,null,0,null,0,null,0,null,0,null,0,null,0,null,0,null,0,null,0,null,0,null,0,null,0,null,0,null,0,null,0,null,0,null,0,null,0,null,0]
[]
[]
[null,null,"ITEM","DESCRIÇÃO","QUANTIDADE POR TRABALHADOR/ANO","UNIDADE","VALOR"]
[]
[null,null,1,"Calçado ocupacional em EVA, fechado no calcanhar e parte superior, com solado de borracha antiderrapante (resistência ao escorregamento SRC), resistente ao óleo combustível, absorção de energia na região do salto, com palmilha interna removível, cabedal com substância antimicrobiana, junto à formulação do composto EVA, ativa durante toda a vida útil do produto. Cor preta. Ref.: Soft Works Ca 37212",3,"PAR",95.54,null,null,null,{"$f":"IF(SUM(J$143:J$145)>0,$E149*$G149,0)","v":0},null,{"$f":"IF(SUM(L$143:L$145)>0,$E149*$G149,0)","v":0},null,{"$f":"IF(SUM(N$143:N$145)>0,$E149*$G149,0)","v":0},null,{"$f":"IF(SUM(P$143:P$145)>0,$E149*$G149,0)","v":0},null,{"$f":"IF(SUM(R$143:R$145)>0,$E149*$G149,0)","v":0},null,{"$f":"IF(SUM(T$143:T$145)>0,$E149*$G149,0)","v":0},null,{"$f":"IF(SUM(V$143:V$145)>0,$E149*$G149,0)","v":0},null,{"$f":"IF(SUM(X$143:X$145)>0,$E149*$G149,0)","v":0},null,{"$f":"IF(SUM(Z$143:Z$145)>0,$E149*$G149,0)","v":0},null,{"$f":"IF(SUM(AB$143:AB$145)>0,$E149*$G149,0)","v":0},null,{"$f":"IF(SUM(AD$143:AD$145)>0,$E149*$G149,0)","v":0},null,{"$f":"IF(SUM(AF$143:AF$145)>0,$E149*$G149,0)","v":0},null,{"$f":"IF(SUM(AH$143:AH$145)>0,$E149*$G149,0)","v":0},null,{"$f":"IF(SUM(AJ$143:AJ$145)>0,$E149*$G149,0)","v":0},null,{"$f":"IF(SUM(AL$143:AL$145)>0,$E149*$G149,0)","v":0},null,{"$f":"IF(SUM(AN$143:AN$145)>0,$E149*$G149,0)","v":0},null,{"$f":"IF(SUM(AP$143:AP$145)>0,$E149*$G149,0)","v":0},null,{"$f":"IF(SUM(AR$143:AR$145)>0,$E149*$G149,0)","v":0},null,{"$f":"IF(SUM(AT$143:AT$145)>0,$E149*$G149,0)","v":0},null,{"$f":"IF(SUM(AV$143:AV$145)>0,$E149*$G149,0)","v":0},null,{"$f":"IF(SUM(AX$143:AX$145)>0,$E149*$G149,0)","v":0},null,{"$f":"IF(SUM(AZ$143:AZ$145)>0,$E149*$G149,0)","v":0},null,{"$f":"IF(SUM(BB$143:BB$145)>0,$E149*$G149,0)","v":0},null,{"$f":"IF(SUM(BD$143:BD$145)>0,$E149*$G149,0)","v":0},null,{"$f":"IF(SUM(BF$143:BF$145)>0,$E149*$G149,0)","v":0},null,{"$f":"IF(SUM(BH$143:BH$145)>0,$E149*$G149,0)","v":0},null,{"$f":"IF(SUM(BJ$143:BJ$145)>0,$E149*$G149,0)","v":0},null,{"$f":"IF(SUM(BL$143:BL$145)>0,$E149*$G149,0)","v":0},null,{"$f":"IF(SUM(BN$143:BN$145)>0,$E149*$G149,0)","v":0},null,{"$f":"IF(SUM(BP$143:BP$145)>0,$E149*$G149,0)","v":0},null,{"$f":"IF(SUM(BR$143:BR$145)>0,$E149*$G149,0)","v":0},null,{"$f":"IF(SUM(BT$143:BT$145)>0,$E149*$G149,0)","v":0},null,{"$f":"IF(SUM(BV$143:BV$145)>0,$E149*$G149,0)","v":0},null,{"$f":"IF(SUM(BX$143:BX$145)>0,$E149*$G149,0)","v":0},null,{"$f":"IF(SUM(BZ$143:BZ$145)>0,$E149*$G149,0)","v":0},null,{"$f":"IF(SUM(CB$143:CB$145)>0,$E149*$G149,0)","v":0},null,{"$f":"IF(SUM(CD$143:CD$145)>0,$E149*$G149,0)","v":0},null,{"$f":"IF(SUM(CF$143:CF$145)>0,$E149*$G149,0)","v":0},null,{"$f":"IF(SUM(CH$143:CH$145)>0,$E149*$G149,0)","v":0},null,{"$f":"IF(SUM(CJ$143:CJ$145)>0,$E149*$G149,0)","v":0},null,{"$f":"IF(SUM(CL$143:CL$145)>0,$E149*$G149,0)","v":0},null,{"$f":"IF(SUM(CN$143:CN$145)>0,$E149*$G149,0)","v":0},null,{"$f":"IF(SUM(CP$143:CP$145)>0,$E149*$G149,0)","v":0},null,{"$f":"IF(SUM(CR$143:CR$145)>0,$E149*$G149,0)","v":0},null,{"$f":"IF(SUM(CT$143:CT$145)>0,$E149*$G149,0)","v":0},null,{"$f":"IF(SUM(CV$143:CV$145)>0,$E149*$G149,0)","v":0},null,{"$f":"IF(SUM(CX$143:CX$145)>0,$E149*$G149,0)","v":0},null,{"$f":"IF(SUM(CZ$143:CZ$145)>0,$E149*$G149,0)","v":0},null,{"$f":"IF(SUM(DB$143:DB$145)>0,$E149*$G149,0)","v":0},null,{"$f":"IF(SUM(DD$143:DD$145)>0,$E149*$G149,0)","v":0},null,{"$f":"IF(SUM(DF$143:DF$145)>0,$E149*$G149,0)","v":0},null,{"$f":"IF(SUM(DH$143:DH$145)>0,$E149*$G149,0)","v":0},null,{"$f":"IF(SUM(DJ$143:DJ$145)>0,$E149*$G149,0)","v":0},null,{"$f":"IF(SUM(DL$143:DL$145)>0,$E149*$G149,0)","v":0},null,{"$f":"IF(SUM(DN$143:DN$145)>0,$E149*$G149,0)","v":0},null,{"$f":"IF(SUM(DP$143:DP$145)>0,$E149*$G149,0)","v":0},null,{"$f":"IF(SUM(DR$143:DR$145)>0,$E149*$G149,0)","v":0},null,{"$f":"IF(SUM(DT$143:DT$145)>0,$E149*$G149,0)","v":0},null,{"$f":"IF(SUM(DV$143:DV$145)>0,$E149*$G149,0)","v":0},null,{"$f":"IF(SUM(DX$143:DX$145)>0,$E149*$G149,0)","v":0}]
[null,null,2,"Avental de segurança confeccionado em vinil laminado e transparente, tiras soldadas eletronicamente, sendo uma no pescoço e duas na cintura com fivela plástica para fechamento, acabamento nas laterais por solda eletrônica. Dimensões: 1,20×0,70m. Ref. Maicol CA 38316",3,"UND",16.89,null,null,null,{"$f":"IF(SUM(J$143:J$145)>0,$E150*$G150,0)","v":0},null,{"$f":"IF(SUM(L$143:L$145)>0,$E150*$G150,0)","v":0},null,{"$f":"IF(SUM(N$143:N$145)>0,$E150*$G150,0)","v":0},null,{"$f":"IF(SUM(P$143:P$145)>0,$E150*$G150,0)","v":0},null,{"$f":"IF(SUM(R$143:R$145)>0,$E150*$G150,0)","v":0},null,{"$f":"IF(SUM(T$143:T$145)>0,$E150*$G150,0)","v":0},null,{"$f":"IF(SUM(V$143:V$145)>0,$E150*$G150,0)","v":0},null,{"$f":"IF(SUM(X$143:X$145)>0,$E150*$G150,0)","v":0},null,{"$f":"IF(SUM(Z$143:Z$145)>0,$E150*$G150,0)","v":0},null,{"$f":"IF(SUM(AB$143:AB$145)>0,$E150*$G150,0)","v":0},null,{"$f":"IF(SUM(AD$143:AD$145)>0,$E150*$G150,0)","v":0},null,{"$f":"IF(SUM(AF$143:AF$145)>0,$E150*$G150,0)","v":0},null,{"$f":"IF(SUM(AH$143:AH$145)>0,$E150*$G150,0)","v":0},null,{"$f":"IF(SUM(AJ$143:AJ$145)>0,$E150*$G150,0)","v":0},null,{"$f":"IF(SUM(AL$143:AL$145)>0,$E150*$G150,0)","v":0},null,{"$f":"IF(SUM(AN$143:AN$145)>0,$E150*$G150,0)","v":0},null,{"$f":"IF(SUM(AP$143:AP$145)>0,$E150*$G150,0)","v":0},null,{"$f":"IF(SUM(AR$143:AR$145)>0,$E150*$G150,0)","v":0},null,{"$f":"IF(SUM(AT$143:AT$145)>0,$E150*$G150,0)","v":0},null,{"$f":"IF(SUM(AV$143:AV$145)>0,$E150*$G150,0)","v":0},null,{"$f":"IF(SUM(AX$143:AX$145)>0,$E150*$G150,0)","v":0},null,{"$f":"IF(SUM(AZ$143:AZ$145)>0,$E150*$G150,0)","v":0},null,{"$f":"IF(SUM(BB$143:BB$145)>0,$E150*$G150,0)","v":0},null,{"$f":"IF(SUM(BD$143:BD$145)>0,$E150*$G150,0)","v":0},null,{"$f":"IF(SUM(BF$143:BF$145)>0,$E150*$G150,0)","v":0},null,{"$f":"IF(SUM(BH$143:BH$145)>0,$E150*$G150,0)","v":0},null,{"$f":"IF(SUM(BJ$143:BJ$145)>0,$E150*$G150,0)","v":0},null,{"$f":"IF(SUM(BL$143:BL$145)>0,$E150*$G150,0)","v":0},null,{"$f":"IF(SUM(BN$143:BN$145)>0,$E150*$G150,0)","v":0},null,{"$f":"IF(SUM(BP$143:BP$145)>0,$E150*$G150,0)","v":0},null,{"$f":"IF(SUM(BR$143:BR$145)>0,$E150*$G150,0)","v":0},null,{"$f":"IF(SUM(BT$143:BT$145)>0,$E150*$G150,0)","v":0},null,{"$f":"IF(SUM(BV$143:BV$145)>0,$E150*$G150,0)","v":0},null,{"$f":"IF(SUM(BX$143:BX$145)>0,$E150*$G150,0)","v":0},null,{"$f":"IF(SUM(BZ$143:BZ$145)>0,$E150*$G150,0)","v":0},null,{"$f":"IF(SUM(CB$143:CB$145)>0,$E150*$G150,0)","v":0},null,{"$f":"IF(SUM(CD$143:CD$145)>0,$E150*$G150,0)","v":0},null,{"$f":"IF(SUM(CF$143:CF$145)>0,$E150*$G150,0)","v":0},null,{"$f":"IF(SUM(CH$143:CH$145)>0,$E150*$G150,0)","v":0},null,{"$f":"IF(SUM(CJ$143:CJ$145)>0,$E150*$G150,0)","v":0},null,{"$f":"IF(SUM(CL$143:CL$145)>0,$E150*$G150,0)","v":0},null,{"$f":"IF(SUM(CN$143:CN$145)>0,$E150*$G150,0)","v":0},null,{"$f":"IF(SUM(CP$143:CP$145)>0,$E150*$G150,0)","v":0},null,{"$f":"IF(SUM(CR$143:CR$145)>0,$E150*$G150,0)","v":0},null,{"$f":"IF(SUM(CT$143:CT$145)>0,$E150*$G150,0)","v":0},null,{"$f":"IF(SUM(CV$143:CV$145)>0,$E150*$G150,0)","v":0},null,{"$f":"IF(SUM(CX$143:CX$145)>0,$E150*$G150,0)","v":0},null,{"$f":"IF(SUM(CZ$143:CZ$145)>0,$E150*$G150,0)","v":0},null,{"$f":"IF(SUM(DB$143:DB$145)>0,$E150*$G150,0)","v":0},null,{"$f":"IF(SUM(DD$143:DD$145)>0,$E150*$G150,0)","v":0},null,{"$f":"IF(SUM(DF$143:DF$145)>0,$E150*$G150,0)","v":0},null,{"$f":"IF(SUM(DH$143:DH$145)>0,$E150*$G150,0)","v":0},null,{"$f":"IF(SUM(DJ$143:DJ$145)>0,$E150*$G150,0)","v":0},null,{"$f":"IF(SUM(DL$143:DL$145)>0,$E150*$G150,0)","v":0},null,{"$f":"IF(SUM(DN$143:DN$145)>0,$E150*$G150,0)","v":0},null,{"$f":"IF(SUM(DP$143:DP$145)>0,$E150*$G150,0)","v":0},null,{"$f":"IF(SUM(DR$143:DR$145)>0,$E150*$G150,0)","v":0},null,{"$f":"IF(SUM(DT$143:DT$145)>0,$E150*$G150,0)","v":0},null,{"$f":"IF(SUM(DV$143:DV$145)>0,$E150*$G150,0)","v":0},null,{"$f":"IF(SUM(DX$143:DX$145)>0,$E150*$G150,0)","v":0}]
[null,null,3,"Luva de Segurança confeccionada em LÁTEX natural anatômica (esp. mínima 0,60mm), acabamento forrado em algodão flocado, antiderrapante na palma e dedos. Ref.: Mucambo.",4,"PAR",7.14,null,null,null,0,null,{"$f":"IF(SUM(L$143:L$145)>0,$E151*$G151,0)","v":0},null,{"$f":"IF(SUM(N$143:N$145)>0,$E151*$G151,0)","v":0},null,{"$f":"IF(SUM(P$143:P$145)>0,$E151*$G151,0)","v":0},null,{"$f":"IF(SUM(R$143:R$145)>0,$E151*$G151,0)","v":0},null,{"$f":"IF(SUM(T$143:T$145)>0,$E151*$G151,0)","v":0},null,{"$f":"IF(SUM(V$143:V$145)>0,$E151*$G151,0)","v":0},null,{"$f":"IF(SUM(X$143:X$145)>0,$E151*$G151,0)","v":0},null,{"$f":"IF(SUM(Z$143:Z$145)>0,$E151*$G151,0)","v":0},null,{"$f":"IF(SUM(AB$143:AB$145)>0,$E151*$G151,0)","v":0},null,{"$f":"IF(SUM(AD$143:AD$145)>0,$E151*$G151,0)","v":0},null,{"$f":"IF(SUM(AF$143:AF$145)>0,$E151*$G151,0)","v":0},null,{"$f":"IF(SUM(AH$143:AH$145)>0,$E151*$G151,0)","v":0},null,{"$f":"IF(SUM(AJ$143:AJ$145)>0,$E151*$G151,0)","v":0},null,{"$f":"IF(SUM(AL$143:AL$145)>0,$E151*$G151,0)","v":0},null,{"$f":"IF(SUM(AN$143:AN$145)>0,$E151*$G151,0)","v":0},null,{"$f":"IF(SUM(AP$143:AP$145)>0,$E151*$G151,0)","v":0},null,{"$f":"IF(SUM(AR$143:AR$145)>0,$E151*$G151,0)","v":0},null,{"$f":"IF(SUM(AT$143:AT$145)>0,$E151*$G151,0)","v":0},null,{"$f":"IF(SUM(AV$143:AV$145)>0,$E151*$G151,0)","v":0},null,{"$f":"IF(SUM(AX$143:AX$145)>0,$E151*$G151,0)","v":0},null,{"$f":"IF(SUM(AZ$143:AZ$145)>0,$E151*$G151,0)","v":0},null,{"$f":"IF(SUM(BB$143:BB$145)>0,$E151*$G151,0)","v":0},null,{"$f":"IF(SUM(BD$143:BD$145)>0,$E151*$G151,0)","v":0},null,{"$f":"IF(SUM(BF$143:BF$145)>0,$E151*$G151,0)","v":0},null,{"$f":"IF(SUM(BH$143:BH$145)>0,$E151*$G151,0)","v":0},null,{"$f":"IF(SUM(BJ$143:BJ$145)>0,$E151*$G151,0)","v":0},null,{"$f":"IF(SUM(BL$143:BL$145)>0,$E151*$G151,0)","v":0},null,{"$f":"IF(SUM(BN$143:BN$145)>0,$E151*$G151,0)","v":0},null,{"$f":"IF(SUM(BP$143:BP$145)>0,$E151*$G151,0)","v":0},null,{"$f":"IF(SUM(BR$143:BR$145)>0,$E151*$G151,0)","v":0},null,{"$f":"IF(SUM(BT$143:BT$145)>0,$E151*$G151,0)","v":0},null,{"$f":"IF(SUM(BV$143:BV$145)>0,$E151*$G151,0)","v":0},null,{"$f":"IF(SUM(BX$143:BX$145)>0,$E151*$G151,0)","v":0},null,{"$f":"IF(SUM(BZ$143:BZ$145)>0,$E151*$G151,0)","v":0},null,{"$f":"IF(SUM(CB$143:CB$145)>0,$E151*$G151,0)","v":0},null,{"$f":"IF(SUM(CD$143:CD$145)>0,$E151*$G151,0)","v":0},null,{"$f":"IF(SUM(CF$143:CF$145)>0,$E151*$G151,0)","v":0},null,{"$f":"IF(SUM(CH$143:CH$145)>0,$E151*$G151,0)","v":0},null,{"$f":"IF(SUM(CJ$143:CJ$145)>0,$E151*$G151,0)","v":0},null,{"$f":"IF(SUM(CL$143:CL$145)>0,$E151*$G151,0)","v":0},null,{"$f":"IF(SUM(CN$143:CN$145)>0,$E151*$G151,0)","v":0},null,{"$f":"IF(SUM(CP$143:CP$145)>0,$E151*$G151,0)","v":0},null,{"$f":"IF(SUM(CR$143:CR$145)>0,$E151*$G151,0)","v":0},null,{"$f":"IF(SUM(CT$143:CT$145)>0,$E151*$G151,0)","v":0},null,{"$f":"IF(SUM(CV$143:CV$145)>0,$E151*$G151,0)","v":0},null,{"$f":"IF(SUM(CX$143:CX$145)>0,$E151*$G151,0)","v":0},null,{"$f":"IF(SUM(CZ$143:CZ$145)>0,$E151*$G151,0)","v":0},null,{"$f":"IF(SUM(DB$143:DB$145)>0,$E151*$G151,0)","v":0},null,{"$f":"IF(SUM(DD$143:DD$145)>0,$E151*$G151,0)","v":0},null,{"$f":"IF(SUM(DF$143:DF$145)>0,$E151*$G151,0)","v":0},null,{"$f":"IF(SUM(DH$143:DH$145)>0,$E151*$G151,0)","v":0},null,{"$f":"IF(SUM(DJ$143:DJ$145)>0,$E151*$G151,0)","v":0},null,{"$f":"IF(SUM(DL$143:DL$145)>0,$E151*$G151,0)","v":0},null,{"$f":"IF(SUM(DN$143:DN$145)>0,$E151*$G151,0)","v":0},null,{"$f":"IF(SUM(DP$143:DP$145)>0,$E151*$G151,0)","v":0},null,{"$f":"IF(SUM(DR$143:DR$145)>0,$E151*$G151,0)","v":0},null,{"$f":"IF(SUM(DT$143:DT$145)>0,$E151*$G151,0)","v":0},null,{"$f":"IF(SUM(DV$143:DV$145)>0,$E151*$G151,0)","v":0},null,{"$f":"IF(SUM(DX$143:DX$145)>0,$E151*$G151,0)","v":0}]
[null,null,4,"Touca sanfonada, em TNT (100% polipropileno), elástico; impermeabilidade mínima de 80%, descartável, cor branca. Ref. Sky. ",500,"UND",0.15,null,null,null,0,null,{"$f":"IF(SUM(L$143:L$145)>0,$E152*$G152,0)","v":0},null,{"$f":"IF(SUM(N$143:N$145)>0,$E152*$G152,0)","v":0},null,{"$f":"IF(SUM(P$143:P$145)>0,$E152*$G152,0)","v":0},null,{"$f":"IF(SUM(R$143:R$145)>0,$E152*$G152,0)","v":0},null,{"$f":"IF(SUM(T$143:T$145)>0,$E152*$G152,0)","v":0},null,{"$f":"IF(SUM(V$143:V$145)>0,$E152*$G152,0)","v":0},null,{"$f":"IF(SUM(X$143:X$145)>0,$E152*$G152,0)","v":0},null,{"$f":"IF(SUM(Z$143:Z$145)>0,$E152*$G152,0)","v":0},null,{"$f":"IF(SUM(AB$143:AB$145)>0,$E152*$G152,0)","v":0},null,{"$f":"IF(SUM(AD$143:AD$145)>0,$E152*$G152,0)","v":0},null,{"$f":"IF(SUM(AF$143:AF$145)>0,$E152*$G152,0)","v":0},null,{"$f":"IF(SUM(AH$143:AH$145)>0,$E152*$G152,0)","v":0},null,{"$f":"IF(SUM(AJ$143:AJ$145)>0,$E152*$G152,0)","v":0},null,{"$f":"IF(SUM(AL$143:AL$145)>0,$E152*$G152,0)","v":0},null,{"$f":"IF(SUM(AN$143:AN$145)>0,$E152*$G152,0)","v":0},null,{"$f":"IF(SUM(AP$143:AP$145)>0,$E152*$G152,0)","v":0},null,{"$f":"IF(SUM(AR$143:AR$145)>0,$E152*$G152,0)","v":0},null,{"$f":"IF(SUM(AT$143:AT$145)>0,$E152*$G152,0)","v":0},null,{"$f":"IF(SUM(AV$143:AV$145)>0,$E152*$G152,0)","v":0},null,{"$f":"IF(SUM(AX$143:AX$145)>0,$E152*$G152,0)","v":0},null,{"$f":"IF(SUM(AZ$143:AZ$145)>0,$E152*$G152,0)","v":0},null,{"$f":"IF(SUM(BB$143:BB$145)>0,$E152*$G152,0)","v":0},null,{"$f":"IF(SUM(BD$143:BD$145)>0,$E152*$G152,0)","v":0},null,{"$f":"IF(SUM(BF$143:BF$145)>0,$E152*$G152,0)","v":0},null,{"$f":"IF(SUM(BH$143:BH$145)>0,$E152*$G152,0)","v":0},null,{"$f":"IF(SUM(BJ$143:BJ$145)>0,$E152*$G152,0)","v":0},null,{"$f":"IF(SUM(BL$143:BL$145)>0,$E152*$G152,0)","v":0},null,{"$f":"IF(SUM(BN$143:BN$145)>0,$E152*$G152,0)","v":0},null,{"$f":"IF(SUM(BP$143:BP$145)>0,$E152*$G152,0)","v":0},null,{"$f":"IF(SUM(BR$143:BR$145)>0,$E152*$G152,0)","v":0},null,{"$f":"IF(SUM(BT$143:BT$145)>0,$E152*$G152,0)","v":0},null,{"$f":"IF(SUM(BV$143:BV$145)>0,$E152*$G152,0)","v":0},null,{"$f":"IF(SUM(BX$143:BX$145)>0,$E152*$G152,0)","v":0},null,{"$f":"IF(SUM(BZ$143:BZ$145)>0,$E152*$G152,0)","v":0},null,{"$f":"IF(SUM(CB$143:CB$145)>0,$E152*$G152,0)","v":0},null,{"$f":"IF(SUM(CD$143:CD$145)>0,$E152*$G152,0)","v":0},null,{"$f":"IF(SUM(CF$143:CF$145)>0,$E152*$G152,0)","v":0},null,{"$f":"IF(SUM(CH$143:CH$145)>0,$E152*$G152,0)","v":0},null,{"$f":"IF(SUM(CJ$143:CJ$145)>0,$E152*$G152,0)","v":0},null,{"$f":"IF(SUM(CL$143:CL$145)>0,$E152*$G152,0)","v":0},null,{"$f":"IF(SUM(CN$143:CN$145)>0,$E152*$G152,0)","v":0},null,{"$f":"IF(SUM(CP$143:CP$145)>0,$E152*$G152,0)","v":0},null,{"$f":"IF(SUM(CR$143:CR$145)>0,$E152*$G152,0)","v":0},null,{"$f":"IF(SUM(CT$143:CT$145)>0,$E152*$G152,0)","v":0},null,{"$f":"IF(SUM(CV$143:CV$145)>0,$E152*$G152,0)","v":0},null,{"$f":"IF(SUM(CX$143:CX$145)>0,$E152*$G152,0)","v":0},null,{"$f":"IF(SUM(CZ$143:CZ$145)>0,$E152*$G152,0)","v":0},null,{"$f":"IF(SUM(DB$143:DB$145)>0,$E152*$G152,0)","v":0},null,{"$f":"IF(SUM(DD$143:DD$145)>0,$E152*$G152,0)","v":0},null,{"$f":"IF(SUM(DF$143:DF$145)>0,$E152*$G152,0)","v":0},null,{"$f":"IF(SUM(DH$143:DH$145)>0,$E152*$G152,0)","v":0},null,{"$f":"IF(SUM(DJ$143:DJ$145)>0,$E152*$G152,0)","v":0},null,{"$f":"IF(SUM(DL$143:DL$145)>0,$E152*$G152,0)","v":0},null,{"$f":"IF(SUM(DN$143:DN$145)>0,$E152*$G152,0)","v":0},null,{"$f":"IF(SUM(DP$143:DP$145)>0,$E152*$G152,0)","v":0},null,{"$f":"IF(SUM(DR$143:DR$145)>0,$E152*$G152,0)","v":0},null,{"$f":"IF(SUM(DT$143:DT$145)>0,$E152*$G152,0)","v":0},null,{"$f":"IF(SUM(DV$143:DV$145)>0,$E152*$G152,0)","v":0},null,{"$f":"IF(SUM(DX$143:DX$145)>0,$E152*$G152,0)","v":0}]
[null,null,5,"Luva de segurança, para proteção térmica, 5 dedos, confeccionada em poliéster e algodão com TNT (tecido não tecido), totalmente revestida em nitrílico. Comprimento 35cm. Punho reto. Formato Anatômico. Reutilizável. Ref. Volk CA 38.123",1,"PAR",152.96,null,null,null,0,null,{"$f":"IF(SUM(L$143:L$145)>0,$E153*$G153,0)","v":0},null,{"$f":"IF(SUM(N$143:N$145)>0,$E153*$G153,0)","v":0},null,{"$f":"IF(SUM(P$143:P$145)>0,$E153*$G153,0)","v":0},null,{"$f":"IF(SUM(R$143:R$145)>0,$E153*$G153,0)","v":0},null,{"$f":"IF(SUM(T$143:T$145)>0,$E153*$G153,0)","v":0},null,{"$f":"IF(SUM(V$143:V$145)>0,$E153*$G153,0)","v":0},null,{"$f":"IF(SUM(X$143:X$145)>0,$E153*$G153,0)","v":0},null,{"$f":"IF(SUM(Z$143:Z$145)>0,$E153*$G153,0)","v":0},null,{"$f":"IF(SUM(AB$143:AB$145)>0,$E153*$G153,0)","v":0},null,{"$f":"IF(SUM(AD$143:AD$145)>0,$E153*$G153,0)","v":0},null,{"$f":"IF(SUM(AF$143:AF$145)>0,$E153*$G153,0)","v":0},null,{"$f":"IF(SUM(AH$143:AH$145)>0,$E153*$G153,0)","v":0},null,{"$f":"IF(SUM(AJ$143:AJ$145)>0,$E153*$G153,0)","v":0},null,{"$f":"IF(SUM(AL$143:AL$145)>0,$E153*$G153,0)","v":0},null,{"$f":"IF(SUM(AN$143:AN$145)>0,$E153*$G153,0)","v":0},null,{"$f":"IF(SUM(AP$143:AP$145)>0,$E153*$G153,0)","v":0},null,{"$f":"IF(SUM(AR$143:AR$145)>0,$E153*$G153,0)","v":0},null,{"$f":"IF(SUM(AT$143:AT$145)>0,$E153*$G153,0)","v":0},null,{"$f":"IF(SUM(AV$143:AV$145)>0,$E153*$G153,0)","v":0},null,{"$f":"IF(SUM(AX$143:AX$145)>0,$E153*$G153,0)","v":0},null,{"$f":"IF(SUM(AZ$143:AZ$145)>0,$E153*$G153,0)","v":0},null,{"$f":"IF(SUM(BB$143:BB$145)>0,$E153*$G153,0)","v":0},null,{"$f":"IF(SUM(BD$143:BD$145)>0,$E153*$G153,0)","v":0},null,{"$f":"IF(SUM(BF$143:BF$145)>0,$E153*$G153,0)","v":0},null,{"$f":"IF(SUM(BH$143:BH$145)>0,$E153*$G153,0)","v":0},null,{"$f":"IF(SUM(BJ$143:BJ$145)>0,$E153*$G153,0)","v":0},null,{"$f":"IF(SUM(BL$143:BL$145)>0,$E153*$G153,0)","v":0},null,{"$f":"IF(SUM(BN$143:BN$145)>0,$E153*$G153,0)","v":0},null,{"$f":"IF(SUM(BP$143:BP$145)>0,$E153*$G153,0)","v":0},null,{"$f":"IF(SUM(BR$143:BR$145)>0,$E153*$G153,0)","v":0},null,{"$f":"IF(SUM(BT$143:BT$145)>0,$E153*$G153,0)","v":0},null,{"$f":"IF(SUM(BV$143:BV$145)>0,$E153*$G153,0)","v":0},null,{"$f":"IF(SUM(BX$143:BX$145)>0,$E153*$G153,0)","v":0},null,{"$f":"IF(SUM(BZ$143:BZ$145)>0,$E153*$G153,0)","v":0},null,{"$f":"IF(SUM(CB$143:CB$145)>0,$E153*$G153,0)","v":0},null,{"$f":"IF(SUM(CD$143:CD$145)>0,$E153*$G153,0)","v":0},null,{"$f":"IF(SUM(CF$143:CF$145)>0,$E153*$G153,0)","v":0},null,{"$f":"IF(SUM(CH$143:CH$145)>0,$E153*$G153,0)","v":0},null,{"$f":"IF(SUM(CJ$143:CJ$145)>0,$E153*$G153,0)","v":0},null,{"$f":"IF(SUM(CL$143:CL$145)>0,$E153*$G153,0)","v":0},null,{"$f":"IF(SUM(CN$143:CN$145)>0,$E153*$G153,0)","v":0},null,{"$f":"IF(SUM(CP$143:CP$145)>0,$E153*$G153,0)","v":0},null,{"$f":"IF(SUM(CR$143:CR$145)>0,$E153*$G153,0)","v":0},null,{"$f":"IF(SUM(CT$143:CT$145)>0,$E153*$G153,0)","v":0},null,{"$f":"IF(SUM(CV$143:CV$145)>0,$E153*$G153,0)","v":0},null,{"$f":"IF(SUM(CX$143:CX$145)>0,$E153*$G153,0)","v":0},null,{"$f":"IF(SUM(CZ$143:CZ$145)>0,$E153*$G153,0)","v":0},null,{"$f":"IF(SUM(DB$143:DB$145)>0,$E153*$G153,0)","v":0},null,{"$f":"IF(SUM(DD$143:DD$145)>0,$E153*$G153,0)","v":0},null,{"$f":"IF(SUM(DF$143:DF$145)>0,$E153*$G153,0)","v":0},null,{"$f":"IF(SUM(DH$143:DH$145)>0,$E153*$G153,0)","v":0},null,{"$f":"IF(SUM(DJ$143:DJ$145)>0,$E153*$G153,0)","v":0},null,{"$f":"IF(SUM(DL$143:DL$145)>0,$E153*$G153,0)","v":0},null,{"$f":"IF(SUM(DN$143:DN$145)>0,$E153*$G153,0)","v":0},null,{"$f":"IF(SUM(DP$143:DP$145)>0,$E153*$G153,0)","v":0},null,{"$f":"IF(SUM(DR$143:DR$145)>0,$E153*$G153,0)","v":0},null,{"$f":"IF(SUM(DT$143:DT$145)>0,$E153*$G153,0)","v":0},null,{"$f":"IF(SUM(DV$143:DV$145)>0,$E153*$G153,0)","v":0},null,{"$f":"IF(SUM(DX$143:DX$145)>0,$E153*$G153,0)","v":0}]
[]
[]
[null,null,"CATEGORIAS",null,null,null,"QUANTIDADE"]
[null,null,null,null,null,null,null,null,null,{"$f":"IF($C157=J$3,1,0)","v":0},null,{"$f":"IF($C157=L$3,1,0)","v":0},null,0,null,0,null,0,null,0,null,0,null,0,null,0,null,0,null,0,null,0,null,0,null,0,null,0,null,0,null,0,null,{"$f":"IF($C157=AR$3,1,0)","v":0},null,0,null,0,null,0,null,0,null,0,null,0,null,0,null,0,null,0,null,0,null,0,null,0,null,0,null,0,null,0,null,0,null,0,null,0,null,0,null,0,null,0,null,0,null,0,null,0,null,0,null,0,null,0,null,0,null,0,null,0,null,0,null,{"$f":"IF($C157=DD$3,1,0)","v":0},null,0,null,0,null,0,null,0,null,0,null,0,null,0,null,0,null,0,null,0]
[null,null,null,{"$f":"HLOOKUP($C158,'Dados Gerais'!$D$6:$V$11,6,0)","v":{"$error":"#N/A"}},null,null,{"$f":"HLOOKUP($C158,'Dados Gerais'!$D$6:$V$15,10,0)","v":{"$error":"#N/A"}},null,null,{"$f":"IF($C158=J$3,1,0)","v":0},null,0,null,{"$f":"IF($C158=N$3,1,0)","v":0},null,0,null,0,null,0,null,0,null,0,null,0,null,0,null,0,null,0,null,0,null,0,null,0,null,0,null,0,null,0,null,0,null,0,null,0,null,0,null,0,null,0,null,0,null,0,null,0,null,0,null,0,null,0,null,0,null,0,null,0,null,0,null,0,null,0,null,0,null,0,null,0,null,0,null,0,null,0,null,0,null,0,null,0,null,0,null,0,null,0,null,0,null,0,null,0,null,0,null,0,null,0,null,0,null,0,null,0,null,0,null,0,null,0]
[]
[]
[null,null,"ITEM","DESCRIÇÃO","QUANTIDADE POR TRABALHADOR/ANO","UNIDADE","VALOR"]
[]
[null,null,1,"Calçado ocupacional em EVA, fechado no calcanhar e parte superior, com solado de borracha antiderrapante (resistência ao escorregamento SRC), resistente ao óleo combustível, absorção de energia na região do salto, com palmilha interna removível, cabedal com substância antimicrobiana, junto à formulação do composto EVA, ativa durante toda a vida útil do produto. Cor preta. Ref.: Soft Works Ca 37212",3,"PAR",95.54,null,null,null,{"$f":"IF(SUM(J$157:J$159)>0,$E163*$G163,0)","v":0},null,{"$f":"IF(SUM(L$157:L$159)>0,$E163*$G163,0)","v":0},null,{"$f":"IF(SUM(N$157:N$159)>0,$E163*$G163,0)","v":0},null,{"$f":"IF(SUM(P$157:P$159)>0,$E163*$G163,0)","v":0},null,{"$f":"IF(SUM(R$157:R$159)>0,$E163*$G163,0)","v":0},null,{"$f":"IF(SUM(T$157:T$159)>0,$E163*$G163,0)","v":0},null,{"$f":"IF(SUM(V$157:V$159)>0,$E163*$G163,0)","v":0},null,{"$f":"IF(SUM(X$157:X$159)>0,$E163*$G163,0)","v":0},null,{"$f":"IF(SUM(Z$157:Z$159)>0,$E163*$G163,0)","v":0},null,{"$f":"IF(SUM(AB$157:AB$159)>0,$E163*$G163,0)","v":0},null,{"$f":"IF(SUM(AD$157:AD$159)>0,$E163*$G163,0)","v":0},null,{"$f":"IF(SUM(AF$157:AF$159)>0,$E163*$G163,0)","v":0},null,{"$f":"IF(SUM(AH$157:AH$159)>0,$E163*$G163,0)","v":0},null,{"$f":"IF(SUM(AJ$157:AJ$159)>0,$E163*$G163,0)","v":0},null,{"$f":"IF(SUM(AL$157:AL$159)>0,$E163*$G163,0)","v":0},null,{"$f":"IF(SUM(AN$157:AN$159)>0,$E163*$G163,0)","v":0},null,{"$f":"IF(SUM(AP$157:AP$159)>0,$E163*$G163,0)","v":0},null,{"$f":"IF(SUM(AR$157:AR$159)>0,$E163*$G163,0)","v":0},null,{"$f":"IF(SUM(AT$157:AT$159)>0,$E163*$G163,0)","v":0},null,{"$f":"IF(SUM(AV$157:AV$159)>0,$E163*$G163,0)","v":0},null,{"$f":"IF(SUM(AX$157:AX$159)>0,$E163*$G163,0)","v":0},null,{"$f":"IF(SUM(AZ$157:AZ$159)>0,$E163*$G163,0)","v":0},null,{"$f":"IF(SUM(BB$157:BB$159)>0,$E163*$G163,0)","v":0},null,{"$f":"IF(SUM(BD$157:BD$159)>0,$E163*$G163,0)","v":0},null,{"$f":"IF(SUM(BF$157:BF$159)>0,$E163*$G163,0)","v":0},null,{"$f":"IF(SUM(BH$157:BH$159)>0,$E163*$G163,0)","v":0},null,{"$f":"IF(SUM(BJ$157:BJ$159)>0,$E163*$G163,0)","v":0},null,{"$f":"IF(SUM(BL$157:BL$159)>0,$E163*$G163,0)","v":0},null,{"$f":"IF(SUM(BN$157:BN$159)>0,$E163*$G163,0)","v":0},null,{"$f":"IF(SUM(BP$157:BP$159)>0,$E163*$G163,0)","v":0},null,{"$f":"IF(SUM(BR$157:BR$159)>0,$E163*$G163,0)","v":0},null,{"$f":"IF(SUM(BT$157:BT$159)>0,$E163*$G163,0)","v":0},null,{"$f":"IF(SUM(BV$157:BV$159)>0,$E163*$G163,0)","v":0},null,{"$f":"IF(SUM(BX$157:BX$159)>0,$E163*$G163,0)","v":0},null,{"$f":"IF(SUM(BZ$157:BZ$159)>0,$E163*$G163,0)","v":0},null,{"$f":"IF(SUM(CB$157:CB$159)>0,$E163*$G163,0)","v":0},null,{"$f":"IF(SUM(CD$157:CD$159)>0,$E163*$G163,0)","v":0},null,{"$f":"IF(SUM(CF$157:CF$159)>0,$E163*$G163,0)","v":0},null,{"$f":"IF(SUM(CH$157:CH$159)>0,$E163*$G163,0)","v":0},null,{"$f":"IF(SUM(CJ$157:CJ$159)>0,$E163*$G163,0)","v":0},null,{"$f":"IF(SUM(CL$157:CL$159)>0,$E163*$G163,0)","v":0},null,{"$f":"IF(SUM(CN$157:CN$159)>0,$E163*$G163,0)","v":0},null,{"$f":"IF(SUM(CP$157:CP$159)>0,$E163*$G163,0)","v":0},null,{"$f":"IF(SUM(CR$157:CR$159)>0,$E163*$G163,0)","v":0},null,{"$f":"IF(SUM(CT$157:CT$159)>0,$E163*$G163,0)","v":0},null,{"$f":"IF(SUM(CV$157:CV$159)>0,$E163*$G163,0)","v":0},null,{"$f":"IF(SUM(CX$157:CX$159)>0,$E163*$G163,0)","v":0},null,{"$f":"IF(SUM(CZ$157:CZ$159)>0,$E163*$G163,0)","v":0},null,{"$f":"IF(SUM(DB$157:DB$159)>0,$E163*$G163,0)","v":0},null,{"$f":"IF(SUM(DD$157:DD$159)>0,$E163*$G163,0)","v":0},null,{"$f":"IF(SUM(DF$157:DF$159)>0,$E163*$G163,0)","v":0},null,{"$f":"IF(SUM(DH$157:DH$159)>0,$E163*$G163,0)","v":0},null,{"$f":"IF(SUM(DJ$157:DJ$159)>0,$E163*$G163,0)","v":0},null,{"$f":"IF(SUM(DL$157:DL$159)>0,$E163*$G163,0)","v":0},null,{"$f":"IF(SUM(DN$157:DN$159)>0,$E163*$G163,0)","v":0},null,{"$f":"IF(SUM(DP$157:DP$159)>0,$E163*$G163,0)","v":0},null,{"$f":"IF(SUM(DR$157:DR$159)>0,$E163*$G163,0)","v":0},null,{"$f":"IF(SUM(DT$157:DT$159)>0,$E163*$G163,0)","v":0},null,{"$f":"IF(SUM(DV$157:DV$159)>0,$E163*$G163,0)","v":0},null,{"$f":"IF(SUM(DX$157:DX$159)>0,$E163*$G163,0)","v":0}]
[null,null,2,"Avental de segurança confeccionado em vinil laminado e transparente, tiras soldadas eletronicamente, sendo uma no pescoço e duas na cintura com fivela plástica para fechamento, acabamento nas laterais por solda eletrônica. Dimensões: 1,20×0,70m. Ref. Maicol CA 38316",3,"UND",16.89,null,null,null,{"$f":"IF(SUM(J$157:J$159)>0,$E164*$G164,0)","v":0},null,{"$f":"IF(SUM(L$157:L$159)>0,$E164*$G164,0)","v":0},null,{"$f":"IF(SUM(N$157:N$159)>0,$E164*$G164,0)","v":0},null,{"$f":"IF(SUM(P$157:P$159)>0,$E164*$G164,0)","v":0},null,{"$f":"IF(SUM(R$157:R$159)>0,$E164*$G164,0)","v":0},null,{"$f":"IF(SUM(T$157:T$159)>0,$E164*$G164,0)","v":0},null,{"$f":"IF(SUM(V$157:V$159)>0,$E164*$G164,0)","v":0},null,{"$f":"IF(SUM(X$157:X$159)>0,$E164*$G164,0)","v":0},null,{"$f":"IF(SUM(Z$157:Z$159)>0,$E164*$G164,0)","v":0},null,{"$f":"IF(SUM(AB$157:AB$159)>0,$E164*$G164,0)","v":0},null,{"$f":"IF(SUM(AD$157:AD$159)>0,$E164*$G164,0)","v":0},null,{"$f":"IF(SUM(AF$157:AF$159)>0,$E164*$G164,0)","v":0},null,{"$f":"IF(SUM(AH$157:AH$159)>0,$E164*$G164,0)","v":0},null,{"$f":"IF(SUM(AJ$157:AJ$159)>0,$E164*$G164,0)","v":0},null,{"$f":"IF(SUM(AL$157:AL$159)>0,$E164*$G164,0)","v":0},null,{"$f":"IF(SUM(AN$157:AN$159)>0,$E164*$G164,0)","v":0},null,{"$f":"IF(SUM(AP$157:AP$159)>0,$E164*$G164,0)","v":0},null,{"$f":"IF(SUM(AR$157:AR$159)>0,$E164*$G164,0)","v":0},null,{"$f":"IF(SUM(AT$157:AT$159)>0,$E164*$G164,0)","v":0},null,{"$f":"IF(SUM(AV$157:AV$159)>0,$E164*$G164,0)","v":0},null,{"$f":"IF(SUM(AX$157:AX$159)>0,$E164*$G164,0)","v":0},null,{"$f":"IF(SUM(AZ$157:AZ$159)>0,$E164*$G164,0)","v":0},null,{"$f":"IF(SUM(BB$157:BB$159)>0,$E164*$G164,0)","v":0},null,{"$f":"IF(SUM(BD$157:BD$159)>0,$E164*$G164,0)","v":0},null,{"$f":"IF(SUM(BF$157:BF$159)>0,$E164*$G164,0)","v":0},null,{"$f":"IF(SUM(BH$157:BH$159)>0,$E164*$G164,0)","v":0},null,{"$f":"IF(SUM(BJ$157:BJ$159)>0,$E164*$G164,0)","v":0},null,{"$f":"IF(SUM(BL$157:BL$159)>0,$E164*$G164,0)","v":0},null,{"$f":"IF(SUM(BN$157:BN$159)>0,$E164*$G164,0)","v":0},null,{"$f":"IF(SUM(BP$157:BP$159)>0,$E164*$G164,0)","v":0},null,{"$f":"IF(SUM(BR$157:BR$159)>0,$E164*$G164,0)","v":0},null,{"$f":"IF(SUM(BT$157:BT$159)>0,$E164*$G164,0)","v":0},null,{"$f":"IF(SUM(BV$157:BV$159)>0,$E164*$G164,0)","v":0},null,{"$f":"IF(SUM(BX$157:BX$159)>0,$E164*$G164,0)","v":0},null,{"$f":"IF(SUM(BZ$157:BZ$159)>0,$E164*$G164,0)","v":0},null,{"$f":"IF(SUM(CB$157:CB$159)>0,$E164*$G164,0)","v":0},null,{"$f":"IF(SUM(CD$157:CD$159)>0,$E164*$G164,0)","v":0},null,{"$f":"IF(SUM(CF$157:CF$159)>0,$E164*$G164,0)","v":0},null,{"$f":"IF(SUM(CH$157:CH$159)>0,$E164*$G164,0)","v":0},null,{"$f":"IF(SUM(CJ$157:CJ$159)>0,$E164*$G164,0)","v":0},null,{"$f":"IF(SUM(CL$157:CL$159)>0,$E164*$G164,0)","v":0},null,{"$f":"IF(SUM(CN$157:CN$159)>0,$E164*$G164,0)","v":0},null,{"$f":"IF(SUM(CP$157:CP$159)>0,$E164*$G164,0)","v":0},null,{"$f":"IF(SUM(CR$157:CR$159)>0,$E164*$G164,0)","v":0},null,{"$f":"IF(SUM(CT$157:CT$159)>0,$E164*$G164,0)","v":0},null,{"$f":"IF(SUM(CV$157:CV$159)>0,$E164*$G164,0)","v":0},null,{"$f":"IF(SUM(CX$157:CX$159)>0,$E164*$G164,0)","v":0},null,{"$f":"IF(SUM(CZ$157:CZ$159)>0,$E164*$G164,0)","v":0},null,{"$f":"IF(SUM(DB$157:DB$159)>0,$E164*$G164,0)","v":0},null,{"$f":"IF(SUM(DD$157:DD$159)>0,$E164*$G164,0)","v":0},null,{"$f":"IF(SUM(DF$157:DF$159)>0,$E164*$G164,0)","v":0},null,{"$f":"IF(SUM(DH$157:DH$159)>0,$E164*$G164,0)","v":0},null,{"$f":"IF(SUM(DJ$157:DJ$159)>0,$E164*$G164,0)","v":0},null,{"$f":"IF(SUM(DL$157:DL$159)>0,$E164*$G164,0)","v":0},null,{"$f":"IF(SUM(DN$157:DN$159)>0,$E164*$G164,0)","v":0},null,{"$f":"IF(SUM(DP$157:DP$159)>0,$E164*$G164,0)","v":0},null,{"$f":"IF(SUM(DR$157:DR$159)>0,$E164*$G164,0)","v":0},null,{"$f":"IF(SUM(DT$157:DT$159)>0,$E164*$G164,0)","v":0},null,{"$f":"IF(SUM(DV$157:DV$159)>0,$E164*$G164,0)","v":0},null,{"$f":"IF(SUM(DX$157:DX$159)>0,$E164*$G164,0)","v":0}]
[null,null,3,"Luva de Segurança confeccionada em LÁTEX natural anatômica (esp. mínima 0,60mm), acabamento forrado em algodão flocado, antiderrapante na palma e dedos. Ref.: Mucambo.",4,"PAR",7.14,null,null,null,0,null,{"$f":"IF(SUM(L$157:L$159)>0,$E165*$G165,0)","v":0},null,{"$f":"IF(SUM(N$157:N$159)>0,$E165*$G165,0)","v":0},null,{"$f":"IF(SUM(P$157:P$159)>0,$E165*$G165,0)","v":0},null,{"$f":"IF(SUM(R$157:R$159)>0,$E165*$G165,0)","v":0},null,{"$f":"IF(SUM(T$157:T$159)>0,$E165*$G165,0)","v":0},null,{"$f":"IF(SUM(V$157:V$159)>0,$E165*$G165,0)","v":0},null,{"$f":"IF(SUM(X$157:X$159)>0,$E165*$G165,0)","v":0},null,{"$f":"IF(SUM(Z$157:Z$159)>0,$E165*$G165,0)","v":0},null,{"$f":"IF(SUM(AB$157:AB$159)>0,$E165*$G165,0)","v":0},null,{"$f":"IF(SUM(AD$157:AD$159)>0,$E165*$G165,0)","v":0},null,{"$f":"IF(SUM(AF$157:AF$159)>0,$E165*$G165,0)","v":0},null,{"$f":"IF(SUM(AH$157:AH$159)>0,$E165*$G165,0)","v":0},null,{"$f":"IF(SUM(AJ$157:AJ$159)>0,$E165*$G165,0)","v":0},null,{"$f":"IF(SUM(AL$157:AL$159)>0,$E165*$G165,0)","v":0},null,{"$f":"IF(SUM(AN$157:AN$159)>0,$E165*$G165,0)","v":0},null,{"$f":"IF(SUM(AP$157:AP$159)>0,$E165*$G165,0)","v":0},null,{"$f":"IF(SUM(AR$157:AR$159)>0,$E165*$G165,0)","v":0},null,{"$f":"IF(SUM(AT$157:AT$159)>0,$E165*$G165,0)","v":0},null,{"$f":"IF(SUM(AV$157:AV$159)>0,$E165*$G165,0)","v":0},null,{"$f":"IF(SUM(AX$157:AX$159)>0,$E165*$G165,0)","v":0},null,{"$f":"IF(SUM(AZ$157:AZ$159)>0,$E165*$G165,0)","v":0},null,{"$f":"IF(SUM(BB$157:BB$159)>0,$E165*$G165,0)","v":0},null,{"$f":"IF(SUM(BD$157:BD$159)>0,$E165*$G165,0)","v":0},null,{"$f":"IF(SUM(BF$157:BF$159)>0,$E165*$G165,0)","v":0},null,{"$f":"IF(SUM(BH$157:BH$159)>0,$E165*$G165,0)","v":0},null,{"$f":"IF(SUM(BJ$157:BJ$159)>0,$E165*$G165,0)","v":0},null,{"$f":"IF(SUM(BL$157:BL$159)>0,$E165*$G165,0)","v":0},null,{"$f":"IF(SUM(BN$157:BN$159)>0,$E165*$G165,0)","v":0},null,{"$f":"IF(SUM(BP$157:BP$159)>0,$E165*$G165,0)","v":0},null,{"$f":"IF(SUM(BR$157:BR$159)>0,$E165*$G165,0)","v":0},null,{"$f":"IF(SUM(BT$157:BT$159)>0,$E165*$G165,0)","v":0},null,{"$f":"IF(SUM(BV$157:BV$159)>0,$E165*$G165,0)","v":0},null,{"$f":"IF(SUM(BX$157:BX$159)>0,$E165*$G165,0)","v":0},null,{"$f":"IF(SUM(BZ$157:BZ$159)>0,$E165*$G165,0)","v":0},null,{"$f":"IF(SUM(CB$157:CB$159)>0,$E165*$G165,0)","v":0},null,{"$f":"IF(SUM(CD$157:CD$159)>0,$E165*$G165,0)","v":0},null,{"$f":"IF(SUM(CF$157:CF$159)>0,$E165*$G165,0)","v":0},null,{"$f":"IF(SUM(CH$157:CH$159)>0,$E165*$G165,0)","v":0},null,{"$f":"IF(SUM(CJ$157:CJ$159)>0,$E165*$G165,0)","v":0},null,{"$f":"IF(SUM(CL$157:CL$159)>0,$E165*$G165,0)","v":0},null,{"$f":"IF(SUM(CN$157:CN$159)>0,$E165*$G165,0)","v":0},null,{"$f":"IF(SUM(CP$157:CP$159)>0,$E165*$G165,0)","v":0},null,{"$f":"IF(SUM(CR$157:CR$159)>0,$E165*$G165,0)","v":0},null,{"$f":"IF(SUM(CT$157:CT$159)>0,$E165*$G165,0)","v":0},null,{"$f":"IF(SUM(CV$157:CV$159)>0,$E165*$G165,0)","v":0},null,{"$f":"IF(SUM(CX$157:CX$159)>0,$E165*$G165,0)","v":0},null,{"$f":"IF(SUM(CZ$157:CZ$159)>0,$E165*$G165,0)","v":0},null,{"$f":"IF(SUM(DB$157:DB$159)>0,$E165*$G165,0)","v":0},null,{"$f":"IF(SUM(DD$157:DD$159)>0,$E165*$G165,0)","v":0},null,{"$f":"IF(SUM(DF$157:DF$159)>0,$E165*$G165,0)","v":0},null,{"$f":"IF(SUM(DH$157:DH$159)>0,$E165*$G165,0)","v":0},null,{"$f":"IF(SUM(DJ$157:DJ$159)>0,$E165*$G165,0)","v":0},null,{"$f":"IF(SUM(DL$157:DL$159)>0,$E165*$G165,0)","v":0},null,{"$f":"IF(SUM(DN$157:DN$159)>0,$E165*$G165,0)","v":0},null,{"$f":"IF(SUM(DP$157:DP$159)>0,$E165*$G165,0)","v":0},null,{"$f":"IF(SUM(DR$157:DR$159)>0,$E165*$G165,0)","v":0},null,{"$f":"IF(SUM(DT$157:DT$159)>0,$E165*$G165,0)","v":0},null,{"$f":"IF(SUM(DV$157:DV$159)>0,$E165*$G165,0)","v":0},null,{"$f":"IF(SUM(DX$157:DX$159)>0,$E165*$G165,0)","v":0}]
[null,null,4,"Touca sanfonada, em TNT (100% polipropileno), elástico; impermeabilidade mínima de 80%, descartável, cor branca. Ref. Sky. ",500,"UND",0.15,null,null,null,0,null,{"$f":"IF(SUM(L$157:L$159)>0,$E166*$G166,0)","v":0},null,{"$f":"IF(SUM(N$157:N$159)>0,$E166*$G166,0)","v":0},null,{"$f":"IF(SUM(P$157:P$159)>0,$E166*$G166,0)","v":0},null,{"$f":"IF(SUM(R$157:R$159)>0,$E166*$G166,0)","v":0},null,{"$f":"IF(SUM(T$157:T$159)>0,$E166*$G166,0)","v":0},null,{"$f":"IF(SUM(V$157:V$159)>0,$E166*$G166,0)","v":0},null,{"$f":"IF(SUM(X$157:X$159)>0,$E166*$G166,0)","v":0},null,{"$f":"IF(SUM(Z$157:Z$159)>0,$E166*$G166,0)","v":0},null,{"$f":"IF(SUM(AB$157:AB$159)>0,$E166*$G166,0)","v":0},null,{"$f":"IF(SUM(AD$157:AD$159)>0,$E166*$G166,0)","v":0},null,{"$f":"IF(SUM(AF$157:AF$159)>0,$E166*$G166,0)","v":0},null,{"$f":"IF(SUM(AH$157:AH$159)>0,$E166*$G166,0)","v":0},null,{"$f":"IF(SUM(AJ$157:AJ$159)>0,$E166*$G166,0)","v":0},null,{"$f":"IF(SUM(AL$157:AL$159)>0,$E166*$G166,0)","v":0},null,{"$f":"IF(SUM(AN$157:AN$159)>0,$E166*$G166,0)","v":0},null,{"$f":"IF(SUM(AP$157:AP$159)>0,$E166*$G166,0)","v":0},null,{"$f":"IF(SUM(AR$157:AR$159)>0,$E166*$G166,0)","v":0},null,{"$f":"IF(SUM(AT$157:AT$159)>0,$E166*$G166,0)","v":0},null,{"$f":"IF(SUM(AV$157:AV$159)>0,$E166*$G166,0)","v":0},null,{"$f":"IF(SUM(AX$157:AX$159)>0,$E166*$G166,0)","v":0},null,{"$f":"IF(SUM(AZ$157:AZ$159)>0,$E166*$G166,0)","v":0},null,{"$f":"IF(SUM(BB$157:BB$159)>0,$E166*$G166,0)","v":0},null,{"$f":"IF(SUM(BD$157:BD$159)>0,$E166*$G166,0)","v":0},null,{"$f":"IF(SUM(BF$157:BF$159)>0,$E166*$G166,0)","v":0},null,{"$f":"IF(SUM(BH$157:BH$159)>0,$E166*$G166,0)","v":0},null,{"$f":"IF(SUM(BJ$157:BJ$159)>0,$E166*$G166,0)","v":0},null,{"$f":"IF(SUM(BL$157:BL$159)>0,$E166*$G166,0)","v":0},null,{"$f":"IF(SUM(BN$157:BN$159)>0,$E166*$G166,0)","v":0},null,{"$f":"IF(SUM(BP$157:BP$159)>0,$E166*$G166,0)","v":0},null,{"$f":"IF(SUM(BR$157:BR$159)>0,$E166*$G166,0)","v":0},null,{"$f":"IF(SUM(BT$157:BT$159)>0,$E166*$G166,0)","v":0},null,{"$f":"IF(SUM(BV$157:BV$159)>0,$E166*$G166,0)","v":0},null,{"$f":"IF(SUM(BX$157:BX$159)>0,$E166*$G166,0)","v":0},null,{"$f":"IF(SUM(BZ$157:BZ$159)>0,$E166*$G166,0)","v":0},null,{"$f":"IF(SUM(CB$157:CB$159)>0,$E166*$G166,0)","v":0},null,{"$f":"IF(SUM(CD$157:CD$159)>0,$E166*$G166,0)","v":0},null,{"$f":"IF(SUM(CF$157:CF$159)>0,$E166*$G166,0)","v":0},null,{"$f":"IF(SUM(CH$157:CH$159)>0,$E166*$G166,0)","v":0},null,{"$f":"IF(SUM(CJ$157:CJ$159)>0,$E166*$G166,0)","v":0},null,{"$f":"IF(SUM(CL$157:CL$159)>0,$E166*$G166,0)","v":0},null,{"$f":"IF(SUM(CN$157:CN$159)>0,$E166*$G166,0)","v":0},null,{"$f":"IF(SUM(CP$157:CP$159)>0,$E166*$G166,0)","v":0},null,{"$f":"IF(SUM(CR$157:CR$159)>0,$E166*$G166,0)","v":0},null,{"$f":"IF(SUM(CT$157:CT$159)>0,$E166*$G166,0)","v":0},null,{"$f":"IF(SUM(CV$157:CV$159)>0,$E166*$G166,0)","v":0},null,{"$f":"IF(SUM(CX$157:CX$159)>0,$E166*$G166,0)","v":0},null,{"$f":"IF(SUM(CZ$157:CZ$159)>0,$E166*$G166,0)","v":0},null,{"$f":"IF(SUM(DB$157:DB$159)>0,$E166*$G166,0)","v":0},null,{"$f":"IF(SUM(DD$157:DD$159)>0,$E166*$G166,0)","v":0},null,{"$f":"IF(SUM(DF$157:DF$159)>0,$E166*$G166,0)","v":0},null,{"$f":"IF(SUM(DH$157:DH$159)>0,$E166*$G166,0)","v":0},null,{"$f":"IF(SUM(DJ$157:DJ$159)>0,$E166*$G166,0)","v":0},null,{"$f":"IF(SUM(DL$157:DL$159)>0,$E166*$G166,0)","v":0},null,{"$f":"IF(SUM(DN$157:DN$159)>0,$E166*$G166,0)","v":0},null,{"$f":"IF(SUM(DP$157:DP$159)>0,$E166*$G166,0)","v":0},null,{"$f":"IF(SUM(DR$157:DR$159)>0,$E166*$G166,0)","v":0},null,{"$f":"IF(SUM(DT$157:DT$159)>0,$E166*$G166,0)","v":0},null,{"$f":"IF(SUM(DV$157:DV$159)>0,$E166*$G166,0)","v":0},null,{"$f":"IF(SUM(DX$157:DX$159)>0,$E166*$G166,0)","v":0}]
[null,null,5,"Luva de segurança, para proteção térmica, 5 dedos, confeccionada em poliéster e algodão com TNT (tecido não tecido), totalmente revestida em nitrílico. Comprimento 35cm. Punho reto. Formato Anatômico. Reutilizável. Ref. Volk CA 38.123",1,"PAR",152.96,null,null,null,0,null,{"$f":"IF(SUM(L$157:L$159)>0,$E167*$G167,0)","v":0},null,{"$f":"IF(SUM(N$157:N$159)>0,$E167*$G167,0)","v":0},null,{"$f":"IF(SUM(P$157:P$159)>0,$E167*$G167,0)","v":0},null,{"$f":"IF(SUM(R$157:R$159)>0,$E167*$G167,0)","v":0},null,{"$f":"IF(SUM(T$157:T$159)>0,$E167*$G167,0)","v":0},null,{"$f":"IF(SUM(V$157:V$159)>0,$E167*$G167,0)","v":0},null,{"$f":"IF(SUM(X$157:X$159)>0,$E167*$G167,0)","v":0},null,{"$f":"IF(SUM(Z$157:Z$159)>0,$E167*$G167,0)","v":0},null,{"$f":"IF(SUM(AB$157:AB$159)>0,$E167*$G167,0)","v":0},null,{"$f":"IF(SUM(AD$157:AD$159)>0,$E167*$G167,0)","v":0},null,{"$f":"IF(SUM(AF$157:AF$159)>0,$E167*$G167,0)","v":0},null,{"$f":"IF(SUM(AH$157:AH$159)>0,$E167*$G167,0)","v":0},null,{"$f":"IF(SUM(AJ$157:AJ$159)>0,$E167*$G167,0)","v":0},null,{"$f":"IF(SUM(AL$157:AL$159)>0,$E167*$G167,0)","v":0},null,{"$f":"IF(SUM(AN$157:AN$159)>0,$E167*$G167,0)","v":0},null,{"$f":"IF(SUM(AP$157:AP$159)>0,$E167*$G167,0)","v":0},null,{"$f":"IF(SUM(AR$157:AR$159)>0,$E167*$G167,0)","v":0},null,{"$f":"IF(SUM(AT$157:AT$159)>0,$E167*$G167,0)","v":0},null,{"$f":"IF(SUM(AV$157:AV$159)>0,$E167*$G167,0)","v":0},null,{"$f":"IF(SUM(AX$157:AX$159)>0,$E167*$G167,0)","v":0},null,{"$f":"IF(SUM(AZ$157:AZ$159)>0,$E167*$G167,0)","v":0},null,{"$f":"IF(SUM(BB$157:BB$159)>0,$E167*$G167,0)","v":0},null,{"$f":"IF(SUM(BD$157:BD$159)>0,$E167*$G167,0)","v":0},null,{"$f":"IF(SUM(BF$157:BF$159)>0,$E167*$G167,0)","v":0},null,{"$f":"IF(SUM(BH$157:BH$159)>0,$E167*$G167,0)","v":0},null,{"$f":"IF(SUM(BJ$157:BJ$159)>0,$E167*$G167,0)","v":0},null,{"$f":"IF(SUM(BL$157:BL$159)>0,$E167*$G167,0)","v":0},null,{"$f":"IF(SUM(BN$157:BN$159)>0,$E167*$G167,0)","v":0},null,{"$f":"IF(SUM(BP$157:BP$159)>0,$E167*$G167,0)","v":0},null,{"$f":"IF(SUM(BR$157:BR$159)>0,$E167*$G167,0)","v":0},null,{"$f":"IF(SUM(BT$157:BT$159)>0,$E167*$G167,0)","v":0},null,{"$f":"IF(SUM(BV$157:BV$159)>0,$E167*$G167,0)","v":0},null,{"$f":"IF(SUM(BX$157:BX$159)>0,$E167*$G167,0)","v":0},null,{"$f":"IF(SUM(BZ$157:BZ$159)>0,$E167*$G167,0)","v":0},null,{"$f":"IF(SUM(CB$157:CB$159)>0,$E167*$G167,0)","v":0},null,{"$f":"IF(SUM(CD$157:CD$159)>0,$E167*$G167,0)","v":0},null,{"$f":"IF(SUM(CF$157:CF$159)>0,$E167*$G167,0)","v":0},null,{"$f":"IF(SUM(CH$157:CH$159)>0,$E167*$G167,0)","v":0},null,{"$f":"IF(SUM(CJ$157:CJ$159)>0,$E167*$G167,0)","v":0},null,{"$f":"IF(SUM(CL$157:CL$159)>0,$E167*$G167,0)","v":0},null,{"$f":"IF(SUM(CN$157:CN$159)>0,$E167*$G167,0)","v":0},null,{"$f":"IF(SUM(CP$157:CP$159)>0,$E167*$G167,0)","v":0},null,{"$f":"IF(SUM(CR$157:CR$159)>0,$E167*$G167,0)","v":0},null,{"$f":"IF(SUM(CT$157:CT$159)>0,$E167*$G167,0)","v":0},null,{"$f":"IF(SUM(CV$157:CV$159)>0,$E167*$G167,0)","v":0},null,{"$f":"IF(SUM(CX$157:CX$159)>0,$E167*$G167,0)","v":0},null,{"$f":"IF(SUM(CZ$157:CZ$159)>0,$E167*$G167,0)","v":0},null,{"$f":"IF(SUM(DB$157:DB$159)>0,$E167*$G167,0)","v":0},null,{"$f":"IF(SUM(DD$157:DD$159)>0,$E167*$G167,0)","v":0},null,{"$f":"IF(SUM(DF$157:DF$159)>0,$E167*$G167,0)","v":0},null,{"$f":"IF(SUM(DH$157:DH$159)>0,$E167*$G167,0)","v":0},null,{"$f":"IF(SUM(DJ$157:DJ$159)>0,$E167*$G167,0)","v":0},null,{"$f":"IF(SUM(DL$157:DL$159)>0,$E167*$G167,0)","v":0},null,{"$f":"IF(SUM(DN$157:DN$159)>0,$E167*$G167,0)","v":0},null,{"$f":"IF(SUM(DP$157:DP$159)>0,$E167*$G167,0)","v":0},null,{"$f":"IF(SUM(DR$157:DR$159)>0,$E167*$G167,0)","v":0},null,{"$f":"IF(SUM(DT$157:DT$159)>0,$E167*$G167,0)","v":0},null,{"$f":"IF(SUM(DV$157:DV$159)>0,$E167*$G167,0)","v":0},null,{"$f":"IF(SUM(DX$157:DX$159)>0,$E167*$G167,0)","v":0}]
[]
[]
[null,null,"CATEGORIAS",null,null,null,"QUANTIDADE"]
[null,null,null,null,null,null,null,null,null,{"$f":"IF($C171=J$3,1,0)","v":0},null,{"$f":"IF($C171=L$3,1,0)","v":0},null,0,null,0,null,0,null,0,null,0,null,0,null,0,null,0,null,0,null,0,null,0,null,0,null,0,null,0,null,0,null,{"$f":"IF($C171=AR$3,1,0)","v":0},null,0,null,0,null,0,null,0,null,0,null,0,null,0,null,0,null,0,null,0,null,0,null,0,null,0,null,0,null,0,null,0,null,0,null,0,null,0,null,0,null,0,null,0,null,0,null,0,null,0,null,0,null,0,null,0,null,0,null,0,null,0,null,{"$f":"IF($C171=DD$3,1,0)","v":0},null,0,null,0,null,0,null,0,null,0,null,0,null,0,null,0,null,0,null,0]
[null,null,null,{"$f":"HLOOKUP($C172,'Dados Gerais'!$D$6:$V$11,6,0)","v":{"$error":"#N/A"}},null,null,{"$f":"HLOOKUP($C172,'Dados Gerais'!$D$6:$V$15,10,0)","v":{"$error":"#N/A"}},null,null,{"$f":"IF($C172=J$3,1,0)","v":0},null,0,null,{"$f":"IF($C172=N$3,1,0)","v":0},null,0,null,0,null,0,null,0,null,0,null,0,null,0,null,0,null,0,null,0,null,0,null,0,null,0,null,0,null,0,null,0,null,0,null,0,null,0,null,0,null,0,null,0,null,0,null,0,null,0,null,0,null,0,null,0,null,0,null,0,null,0,null,0,null,0,null,0,null,0,null,0,null,0,null,0,null,0,null,0,null,0,null,0,null,0,null,0,null,0,null,0,null,0,null,0,null,0,null,0,null,0,null,0,null,0,null,0,null,0,null,0,null,0]
[]
[]
[null,null,"ITEM","DESCRIÇÃO","QUANTIDADE POR TRABALHADOR/ANO","UNIDADE","VALOR"]
[]
[null,null,1,"Calçado ocupacional em EVA, fechado no calcanhar e parte superior, com solado de borracha antiderrapante (resistência ao escorregamento SRC), resistente ao óleo combustível, absorção de energia na região do salto, com palmilha interna removível, cabedal com substância antimicrobiana, junto à formulação do composto EVA, ativa durante toda a vida útil do produto. Cor preta. Ref.: Soft Works Ca 37212",3,"PAR",95.54,null,null,null,{"$f":"IF(SUM(J$171:J$173)>0,$E177*$G177,0)","v":0},null,{"$f":"IF(SUM(L$171:L$173)>0,$E177*$G177,0)","v":0},null,{"$f":"IF(SUM(N$171:N$173)>0,$E177*$G177,0)","v":0},null,{"$f":"IF(SUM(P$171:P$173)>0,$E177*$G177,0)","v":0},null,{"$f":"IF(SUM(R$171:R$173)>0,$E177*$G177,0)","v":0},null,{"$f":"IF(SUM(T$171:T$173)>0,$E177*$G177,0)","v":0},null,{"$f":"IF(SUM(V$171:V$173)>0,$E177*$G177,0)","v":0},null,{"$f":"IF(SUM(X$171:X$173)>0,$E177*$G177,0)","v":0},null,{"$f":"IF(SUM(Z$171:Z$173)>0,$E177*$G177,0)","v":0},null,{"$f":"IF(SUM(AB$171:AB$173)>0,$E177*$G177,0)","v":0},null,{"$f":"IF(SUM(AD$171:AD$173)>0,$E177*$G177,0)","v":0},null,{"$f":"IF(SUM(AF$171:AF$173)>0,$E177*$G177,0)","v":0},null,{"$f":"IF(SUM(AH$171:AH$173)>0,$E177*$G177,0)","v":0},null,{"$f":"IF(SUM(AJ$171:AJ$173)>0,$E177*$G177,0)","v":0},null,{"$f":"IF(SUM(AL$171:AL$173)>0,$E177*$G177,0)","v":0},null,{"$f":"IF(SUM(AN$171:AN$173)>0,$E177*$G177,0)","v":0},null,{"$f":"IF(SUM(AP$171:AP$173)>0,$E177*$G177,0)","v":0},null,{"$f":"IF(SUM(AR$171:AR$173)>0,$E177*$G177,0)","v":0},null,{"$f":"IF(SUM(AT$171:AT$173)>0,$E177*$G177,0)","v":0},null,{"$f":"IF(SUM(AV$171:AV$173)>0,$E177*$G177,0)","v":0},null,{"$f":"IF(SUM(AX$171:AX$173)>0,$E177*$G177,0)","v":0},null,{"$f":"IF(SUM(AZ$171:AZ$173)>0,$E177*$G177,0)","v":0},null,{"$f":"IF(SUM(BB$171:BB$173)>0,$E177*$G177,0)","v":0},null,{"$f":"IF(SUM(BD$171:BD$173)>0,$E177*$G177,0)","v":0},null,{"$f":"IF(SUM(BF$171:BF$173)>0,$E177*$G177,0)","v":0},null,{"$f":"IF(SUM(BH$171:BH$173)>0,$E177*$G177,0)","v":0},null,{"$f":"IF(SUM(BJ$171:BJ$173)>0,$E177*$G177,0)","v":0},null,{"$f":"IF(SUM(BL$171:BL$173)>0,$E177*$G177,0)","v":0},null,{"$f":"IF(SUM(BN$171:BN$173)>0,$E177*$G177,0)","v":0},null,{"$f":"IF(SUM(BP$171:BP$173)>0,$E177*$G177,0)","v":0},null,{"$f":"IF(SUM(BR$171:BR$173)>0,$E177*$G177,0)","v":0},null,{"$f":"IF(SUM(BT$171:BT$173)>0,$E177*$G177,0)","v":0},null,{"$f":"IF(SUM(BV$171:BV$173)>0,$E177*$G177,0)","v":0},null,{"$f":"IF(SUM(BX$171:BX$173)>0,$E177*$G177,0)","v":0},null,{"$f":"IF(SUM(BZ$171:BZ$173)>0,$E177*$G177,0)","v":0},null,{"$f":"IF(SUM(CB$171:CB$173)>0,$E177*$G177,0)","v":0},null,{"$f":"IF(SUM(CD$171:CD$173)>0,$E177*$G177,0)","v":0},null,{"$f":"IF(SUM(CF$171:CF$173)>0,$E177*$G177,0)","v":0},null,{"$f":"IF(SUM(CH$171:CH$173)>0,$E177*$G177,0)","v":0},null,{"$f":"IF(SUM(CJ$171:CJ$173)>0,$E177*$G177,0)","v":0},null,{"$f":"IF(SUM(CL$171:CL$173)>0,$E177*$G177,0)","v":0},null,{"$f":"IF(SUM(CN$171:CN$173)>0,$E177*$G177,0)","v":0},null,{"$f":"IF(SUM(CP$171:CP$173)>0,$E177*$G177,0)","v":0},null,{"$f":"IF(SUM(CR$171:CR$173)>0,$E177*$G177,0)","v":0},null,{"$f":"IF(SUM(CT$171:CT$173)>0,$E177*$G177,0)","v":0},null,{"$f":"IF(SUM(CV$171:CV$173)>0,$E177*$G177,0)","v":0},null,{"$f":"IF(SUM(CX$171:CX$173)>0,$E177*$G177,0)","v":0},null,{"$f":"IF(SUM(CZ$171:CZ$173)>0,$E177*$G177,0)","v":0},null,{"$f":"IF(SUM(DB$171:DB$173)>0,$E177*$G177,0)","v":0},null,{"$f":"IF(SUM(DD$171:DD$173)>0,$E177*$G177,0)","v":0},null,{"$f":"IF(SUM(DF$171:DF$173)>0,$E177*$G177,0)","v":0},null,{"$f":"IF(SUM(DH$171:DH$173)>0,$E177*$G177,0)","v":0},null,{"$f":"IF(SUM(DJ$171:DJ$173)>0,$E177*$G177,0)","v":0},null,{"$f":"IF(SUM(DL$171:DL$173)>0,$E177*$G177,0)","v":0},null,{"$f":"IF(SUM(DN$171:DN$173)>0,$E177*$G177,0)","v":0},null,{"$f":"IF(SUM(DP$171:DP$173)>0,$E177*$G177,0)","v":0},null,{"$f":"IF(SUM(DR$171:DR$173)>0,$E177*$G177,0)","v":0},null,{"$f":"IF(SUM(DT$171:DT$173)>0,$E177*$G177,0)","v":0},null,{"$f":"IF(SUM(DV$171:DV$173)>0,$E177*$G177,0)","v":0},null,{"$f":"IF(SUM(DX$171:DX$173)>0,$E177*$G177,0)","v":0}]
[null,null,2,"Avental de segurança confeccionado em vinil laminado e transparente, tiras soldadas eletronicamente, sendo uma no pescoço e duas na cintura com fivela plástica para fechamento, acabamento nas laterais por solda eletrônica. Dimensões: 1,20×0,70m. Ref. Maicol CA 38316",3,"UND",16.89,null,null,null,{"$f":"IF(SUM(J$171:J$173)>0,$E178*$G178,0)","v":0},null,{"$f":"IF(SUM(L$171:L$173)>0,$E178*$G178,0)","v":0},null,{"$f":"IF(SUM(N$171:N$173)>0,$E178*$G178,0)","v":0},null,{"$f":"IF(SUM(P$171:P$173)>0,$E178*$G178,0)","v":0},null,{"$f":"IF(SUM(R$171:R$173)>0,$E178*$G178,0)","v":0},null,{"$f":"IF(SUM(T$171:T$173)>0,$E178*$G178,0)","v":0},null,{"$f":"IF(SUM(V$171:V$173)>0,$E178*$G178,0)","v":0},null,{"$f":"IF(SUM(X$171:X$173)>0,$E178*$G178,0)","v":0},null,{"$f":"IF(SUM(Z$171:Z$173)>0,$E178*$G178,0)","v":0},null,{"$f":"IF(SUM(AB$171:AB$173)>0,$E178*$G178,0)","v":0},null,{"$f":"IF(SUM(AD$171:AD$173)>0,$E178*$G178,0)","v":0},null,{"$f":"IF(SUM(AF$171:AF$173)>0,$E178*$G178,0)","v":0},null,{"$f":"IF(SUM(AH$171:AH$173)>0,$E178*$G178,0)","v":0},null,{"$f":"IF(SUM(AJ$171:AJ$173)>0,$E178*$G178,0)","v":0},null,{"$f":"IF(SUM(AL$171:AL$173)>0,$E178*$G178,0)","v":0},null,{"$f":"IF(SUM(AN$171:AN$173)>0,$E178*$G178,0)","v":0},null,{"$f":"IF(SUM(AP$171:AP$173)>0,$E178*$G178,0)","v":0},null,{"$f":"IF(SUM(AR$171:AR$173)>0,$E178*$G178,0)","v":0},null,{"$f":"IF(SUM(AT$171:AT$173)>0,$E178*$G178,0)","v":0},null,{"$f":"IF(SUM(AV$171:AV$173)>0,$E178*$G178,0)","v":0},null,{"$f":"IF(SUM(AX$171:AX$173)>0,$E178*$G178,0)","v":0},null,{"$f":"IF(SUM(AZ$171:AZ$173)>0,$E178*$G178,0)","v":0},null,{"$f":"IF(SUM(BB$171:BB$173)>0,$E178*$G178,0)","v":0},null,{"$f":"IF(SUM(BD$171:BD$173)>0,$E178*$G178,0)","v":0},null,{"$f":"IF(SUM(BF$171:BF$173)>0,$E178*$G178,0)","v":0},null,{"$f":"IF(SUM(BH$171:BH$173)>0,$E178*$G178,0)","v":0},null,{"$f":"IF(SUM(BJ$171:BJ$173)>0,$E178*$G178,0)","v":0},null,{"$f":"IF(SUM(BL$171:BL$173)>0,$E178*$G178,0)","v":0},null,{"$f":"IF(SUM(BN$171:BN$173)>0,$E178*$G178,0)","v":0},null,{"$f":"IF(SUM(BP$171:BP$173)>0,$E178*$G178,0)","v":0},null,{"$f":"IF(SUM(BR$171:BR$173)>0,$E178*$G178,0)","v":0},null,{"$f":"IF(SUM(BT$171:BT$173)>0,$E178*$G178,0)","v":0},null,{"$f":"IF(SUM(BV$171:BV$173)>0,$E178*$G178,0)","v":0},null,{"$f":"IF(SUM(BX$171:BX$173)>0,$E178*$G178,0)","v":0},null,{"$f":"IF(SUM(BZ$171:BZ$173)>0,$E178*$G178,0)","v":0},null,{"$f":"IF(SUM(CB$171:CB$173)>0,$E178*$G178,0)","v":0},null,{"$f":"IF(SUM(CD$171:CD$173)>0,$E178*$G178,0)","v":0},null,{"$f":"IF(SUM(CF$171:CF$173)>0,$E178*$G178,0)","v":0},null,{"$f":"IF(SUM(CH$171:CH$173)>0,$E178*$G178,0)","v":0},null,{"$f":"IF(SUM(CJ$171:CJ$173)>0,$E178*$G178,0)","v":0},null,{"$f":"IF(SUM(CL$171:CL$173)>0,$E178*$G178,0)","v":0},null,{"$f":"IF(SUM(CN$171:CN$173)>0,$E178*$G178,0)","v":0},null,{"$f":"IF(SUM(CP$171:CP$173)>0,$E178*$G178,0)","v":0},null,{"$f":"IF(SUM(CR$171:CR$173)>0,$E178*$G178,0)","v":0},null,{"$f":"IF(SUM(CT$171:CT$173)>0,$E178*$G178,0)","v":0},null,{"$f":"IF(SUM(CV$171:CV$173)>0,$E178*$G178,0)","v":0},null,{"$f":"IF(SUM(CX$171:CX$173)>0,$E178*$G178,0)","v":0},null,{"$f":"IF(SUM(CZ$171:CZ$173)>0,$E178*$G178,0)","v":0},null,{"$f":"IF(SUM(DB$171:DB$173)>0,$E178*$G178,0)","v":0},null,{"$f":"IF(SUM(DD$171:DD$173)>0,$E178*$G178,0)","v":0},null,{"$f":"IF(SUM(DF$171:DF$173)>0,$E178*$G178,0)","v":0},null,{"$f":"IF(SUM(DH$171:DH$173)>0,$E178*$G178,0)","v":0},null,{"$f":"IF(SUM(DJ$171:DJ$173)>0,$E178*$G178,0)","v":0},null,{"$f":"IF(SUM(DL$171:DL$173)>0,$E178*$G178,0)","v":0},null,{"$f":"IF(SUM(DN$171:DN$173)>0,$E178*$G178,0)","v":0},null,{"$f":"IF(SUM(DP$171:DP$173)>0,$E178*$G178,0)","v":0},null,{"$f":"IF(SUM(DR$171:DR$173)>0,$E178*$G178,0)","v":0},null,{"$f":"IF(SUM(DT$171:DT$173)>0,$E178*$G178,0)","v":0},null,{"$f":"IF(SUM(DV$171:DV$173)>0,$E178*$G178,0)","v":0},null,{"$f":"IF(SUM(DX$171:DX$173)>0,$E178*$G178,0)","v":0}]
[null,null,3,"Touca sanfonada, em TNT (100% polipropileno), elástico; impermeabilidade mínima de 80%, descartável, cor branca. Ref. Sky. ",300,"UND",0.15,null,null,null,0,null,{"$f":"IF(SUM(L$171:L$173)>0,$E179*$G179,0)","v":0},null,{"$f":"IF(SUM(N$171:N$173)>0,$E179*$G179,0)","v":0},null,{"$f":"IF(SUM(P$171:P$173)>0,$E179*$G179,0)","v":0},null,{"$f":"IF(SUM(R$171:R$173)>0,$E179*$G179,0)","v":0},null,{"$f":"IF(SUM(T$171:T$173)>0,$E179*$G179,0)","v":0},null,{"$f":"IF(SUM(V$171:V$173)>0,$E179*$G179,0)","v":0},null,{"$f":"IF(SUM(X$171:X$173)>0,$E179*$G179,0)","v":0},null,{"$f":"IF(SUM(Z$171:Z$173)>0,$E179*$G179,0)","v":0},null,{"$f":"IF(SUM(AB$171:AB$173)>0,$E179*$G179,0)","v":0},null,{"$f":"IF(SUM(AD$171:AD$173)>0,$E179*$G179,0)","v":0},null,{"$f":"IF(SUM(AF$171:AF$173)>0,$E179*$G179,0)","v":0},null,{"$f":"IF(SUM(AH$171:AH$173)>0,$E179*$G179,0)","v":0},null,{"$f":"IF(SUM(AJ$171:AJ$173)>0,$E179*$G179,0)","v":0},null,{"$f":"IF(SUM(AL$171:AL$173)>0,$E179*$G179,0)","v":0},null,{"$f":"IF(SUM(AN$171:AN$173)>0,$E179*$G179,0)","v":0},null,{"$f":"IF(SUM(AP$171:AP$173)>0,$E179*$G179,0)","v":0},null,{"$f":"IF(SUM(AR$171:AR$173)>0,$E179*$G179,0)","v":0},null,{"$f":"IF(SUM(AT$171:AT$173)>0,$E179*$G179,0)","v":0},null,{"$f":"IF(SUM(AV$171:AV$173)>0,$E179*$G179,0)","v":0},null,{"$f":"IF(SUM(AX$171:AX$173)>0,$E179*$G179,0)","v":0},null,{"$f":"IF(SUM(AZ$171:AZ$173)>0,$E179*$G179,0)","v":0},null,{"$f":"IF(SUM(BB$171:BB$173)>0,$E179*$G179,0)","v":0},null,{"$f":"IF(SUM(BD$171:BD$173)>0,$E179*$G179,0)","v":0},null,{"$f":"IF(SUM(BF$171:BF$173)>0,$E179*$G179,0)","v":0},null,{"$f":"IF(SUM(BH$171:BH$173)>0,$E179*$G179,0)","v":0},null,{"$f":"IF(SUM(BJ$171:BJ$173)>0,$E179*$G179,0)","v":0},null,{"$f":"IF(SUM(BL$171:BL$173)>0,$E179*$G179,0)","v":0},null,{"$f":"IF(SUM(BN$171:BN$173)>0,$E179*$G179,0)","v":0},null,{"$f":"IF(SUM(BP$171:BP$173)>0,$E179*$G179,0)","v":0},null,{"$f":"IF(SUM(BR$171:BR$173)>0,$E179*$G179,0)","v":0},null,{"$f":"IF(SUM(BT$171:BT$173)>0,$E179*$G179,0)","v":0},null,{"$f":"IF(SUM(BV$171:BV$173)>0,$E179*$G179,0)","v":0},null,{"$f":"IF(SUM(BX$171:BX$173)>0,$E179*$G179,0)","v":0},null,{"$f":"IF(SUM(BZ$171:BZ$173)>0,$E179*$G179,0)","v":0},null,{"$f":"IF(SUM(CB$171:CB$173)>0,$E179*$G179,0)","v":0},null,{"$f":"IF(SUM(CD$171:CD$173)>0,$E179*$G179,0)","v":0},null,{"$f":"IF(SUM(CF$171:CF$173)>0,$E179*$G179,0)","v":0},null,{"$f":"IF(SUM(CH$171:CH$173)>0,$E179*$G179,0)","v":0},null,{"$f":"IF(SUM(CJ$171:CJ$173)>0,$E179*$G179,0)","v":0},null,{"$f":"IF(SUM(CL$171:CL$173)>0,$E179*$G179,0)","v":0},null,{"$f":"IF(SUM(CN$171:CN$173)>0,$E179*$G179,0)","v":0},null,{"$f":"IF(SUM(CP$171:CP$173)>0,$E179*$G179,0)","v":0},null,{"$f":"IF(SUM(CR$171:CR$173)>0,$E179*$G179,0)","v":0},null,{"$f":"IF(SUM(CT$171:CT$173)>0,$E179*$G179,0)","v":0},null,{"$f":"IF(SUM(CV$171:CV$173)>0,$E179*$G179,0)","v":0},null,{"$f":"IF(SUM(CX$171:CX$173)>0,$E179*$G179,0)","v":0},null,{"$f":"IF(SUM(CZ$171:CZ$173)>0,$E179*$G179,0)","v":0},null,{"$f":"IF(SUM(DB$171:DB$173)>0,$E179*$G179,0)","v":0},null,{"$f":"IF(SUM(DD$171:DD$173)>0,$E179*$G179,0)","v":0},null,{"$f":"IF(SUM(DF$171:DF$173)>0,$E179*$G179,0)","v":0},null,{"$f":"IF(SUM(DH$171:DH$173)>0,$E179*$G179,0)","v":0},null,{"$f":"IF(SUM(DJ$171:DJ$173)>0,$E179*$G179,0)","v":0},null,{"$f":"IF(SUM(DL$171:DL$173)>0,$E179*$G179,0)","v":0},null,{"$f":"IF(SUM(DN$171:DN$173)>0,$E179*$G179,0)","v":0},null,{"$f":"IF(SUM(DP$171:DP$173)>0,$E179*$G179,0)","v":0},null,{"$f":"IF(SUM(DR$171:DR$173)>0,$E179*$G179,0)","v":0},null,{"$f":"IF(SUM(DT$171:DT$173)>0,$E179*$G179,0)","v":0},null,{"$f":"IF(SUM(DV$171:DV$173)>0,$E179*$G179,0)","v":0},null,{"$f":"IF(SUM(DX$171:DX$173)>0,$E179*$G179,0)","v":0}]
[null,null,4,"Luva de segurança, para proteção térmica, 5 dedos, confeccionada em poliéster e algodão com TNT (tecido não tecido), totalmente revestida em nitrílico. Comprimento 35cm. Punho reto. Formato Anatômico. Reutilizável. Ref. Volk CA 38.123",1,"PAR",152.96,null,null,null,0,null,{"$f":"IF(SUM(L$171:L$173)>0,$E180*$G180,0)","v":0},null,{"$f":"IF(SUM(N$171:N$173)>0,$E180*$G180,0)","v":0},null,{"$f":"IF(SUM(P$171:P$173)>0,$E180*$G180,0)","v":0},null,{"$f":"IF(SUM(R$171:R$173)>0,$E180*$G180,0)","v":0},null,{"$f":"IF(SUM(T$171:T$173)>0,$E180*$G180,0)","v":0},null,{"$f":"IF(SUM(V$171:V$173)>0,$E180*$G180,0)","v":0},null,{"$f":"IF(SUM(X$171:X$173)>0,$E180*$G180,0)","v":0},null,{"$f":"IF(SUM(Z$171:Z$173)>0,$E180*$G180,0)","v":0},null,{"$f":"IF(SUM(AB$171:AB$173)>0,$E180*$G180,0)","v":0},null,{"$f":"IF(SUM(AD$171:AD$173)>0,$E180*$G180,0)","v":0},null,{"$f":"IF(SUM(AF$171:AF$173)>0,$E180*$G180,0)","v":0},null,{"$f":"IF(SUM(AH$171:AH$173)>0,$E180*$G180,0)","v":0},null,{"$f":"IF(SUM(AJ$171:AJ$173)>0,$E180*$G180,0)","v":0},null,{"$f":"IF(SUM(AL$171:AL$173)>0,$E180*$G180,0)","v":0},null,{"$f":"IF(SUM(AN$171:AN$173)>0,$E180*$G180,0)","v":0},null,{"$f":"IF(SUM(AP$171:AP$173)>0,$E180*$G180,0)","v":0},null,{"$f":"IF(SUM(AR$171:AR$173)>0,$E180*$G180,0)","v":0},null,{"$f":"IF(SUM(AT$171:AT$173)>0,$E180*$G180,0)","v":0},null,{"$f":"IF(SUM(AV$171:AV$173)>0,$E180*$G180,0)","v":0},null,{"$f":"IF(SUM(AX$171:AX$173)>0,$E180*$G180,0)","v":0},null,{"$f":"IF(SUM(AZ$171:AZ$173)>0,$E180*$G180,0)","v":0},null,{"$f":"IF(SUM(BB$171:BB$173)>0,$E180*$G180,0)","v":0},null,{"$f":"IF(SUM(BD$171:BD$173)>0,$E180*$G180,0)","v":0},null,{"$f":"IF(SUM(BF$171:BF$173)>0,$E180*$G180,0)","v":0},null,{"$f":"IF(SUM(BH$171:BH$173)>0,$E180*$G180,0)","v":0},null,{"$f":"IF(SUM(BJ$171:BJ$173)>0,$E180*$G180,0)","v":0},null,{"$f":"IF(SUM(BL$171:BL$173)>0,$E180*$G180,0)","v":0},null,{"$f":"IF(SUM(BN$171:BN$173)>0,$E180*$G180,0)","v":0},null,{"$f":"IF(SUM(BP$171:BP$173)>0,$E180*$G180,0)","v":0},null,{"$f":"IF(SUM(BR$171:BR$173)>0,$E180*$G180,0)","v":0},null,{"$f":"IF(SUM(BT$171:BT$173)>0,$E180*$G180,0)","v":0},null,{"$f":"IF(SUM(BV$171:BV$173)>0,$E180*$G180,0)","v":0},null,{"$f":"IF(SUM(BX$171:BX$173)>0,$E180*$G180,0)","v":0},null,{"$f":"IF(SUM(BZ$171:BZ$173)>0,$E180*$G180,0)","v":0},null,{"$f":"IF(SUM(CB$171:CB$173)>0,$E180*$G180,0)","v":0},null,{"$f":"IF(SUM(CD$171:CD$173)>0,$E180*$G180,0)","v":0},null,{"$f":"IF(SUM(CF$171:CF$173)>0,$E180*$G180,0)","v":0},null,{"$f":"IF(SUM(CH$171:CH$173)>0,$E180*$G180,0)","v":0},null,{"$f":"IF(SUM(CJ$171:CJ$173)>0,$E180*$G180,0)","v":0},null,{"$f":"IF(SUM(CL$171:CL$173)>0,$E180*$G180,0)","v":0},null,{"$f":"IF(SUM(CN$171:CN$173)>0,$E180*$G180,0)","v":0},null,{"$f":"IF(SUM(CP$171:CP$173)>0,$E180*$G180,0)","v":0},null,{"$f":"IF(SUM(CR$171:CR$173)>0,$E180*$G180,0)","v":0},null,{"$f":"IF(SUM(CT$171:CT$173)>0,$E180*$G180,0)","v":0},null,{"$f":"IF(SUM(CV$171:CV$173)>0,$E180*$G180,0)","v":0},null,{"$f":"IF(SUM(CX$171:CX$173)>0,$E180*$G180,0)","v":0},null,{"$f":"IF(SUM(CZ$171:CZ$173)>0,$E180*$G180,0)","v":0},null,{"$f":"IF(SUM(DB$171:DB$173)>0,$E180*$G180,0)","v":0},null,{"$f":"IF(SUM(DD$171:DD$173)>0,$E180*$G180,0)","v":0},null,{"$f":"IF(SUM(DF$171:DF$173)>0,$E180*$G180,0)","v":0},null,{"$f":"IF(SUM(DH$171:DH$173)>0,$E180*$G180,0)","v":0},null,{"$f":"IF(SUM(DJ$171:DJ$173)>0,$E180*$G180,0)","v":0},null,{"$f":"IF(SUM(DL$171:DL$173)>0,$E180*$G180,0)","v":0},null,{"$f":"IF(SUM(DN$171:DN$173)>0,$E180*$G180,0)","v":0},null,{"$f":"IF(SUM(DP$171:DP$173)>0,$E180*$G180,0)","v":0},null,{"$f":"IF(SUM(DR$171:DR$173)>0,$E180*$G180,0)","v":0},null,{"$f":"IF(SUM(DT$171:DT$173)>0,$E180*$G180,0)","v":0},null,{"$f":"IF(SUM(DV$171:DV$173)>0,$E180*$G180,0)","v":0},null,{"$f":"IF(SUM(DX$171:DX$173)>0,$E180*$G180,0)","v":0}]
[]
[]
[null,null,"CATEGORIAS",null,null,null,"QUANTIDADE"]
[null,null,null,null,null,null,null,null,null,{"$f":"IF($C184=J$3,1,0)","v":0},null,{"$f":"IF($C184=L$3,1,0)","v":0},null,0,null,0,null,0,null,0,null,0,null,0,null,0,null,0,null,0,null,0,null,0,null,0,null,0,null,0,null,0,null,{"$f":"IF($C184=AR$3,1,0)","v":0},null,0,null,0,null,0,null,0,null,0,null,0,null,0,null,0,null,0,null,0,null,0,null,0,null,0,null,0,null,0,null,0,null,0,null,0,null,0,null,0,null,0,null,0,null,0,null,0,null,0,null,0,null,0,null,0,null,0,null,0,null,0,null,{"$f":"IF($C184=DD$3,1,0)","v":0},null,0,null,0,null,0,null,0,null,0,null,0,null,0,null,0,null,0,null,0]
[null,null,null,{"$f":"HLOOKUP($C185,'Dados Gerais'!$D$6:$V$11,6,0)","v":{"$error":"#N/A"}},null,null,{"$f":"HLOOKUP($C185,'Dados Gerais'!$D$6:$V$15,10,0)","v":{"$error":"#N/A"}},null,null,{"$f":"IF($C185=J$3,1,0)","v":0},null,0,null,{"$f":"IF($C185=N$3,1,0)","v":0},null,0,null,0,null,0,null,0,null,0,null,0,null,0,null,0,null,0,null,0,null,0,null,0,null,0,null,0,null,0,null,0,null,0,null,0,null,0,null,0,null,0,null,0,null,0,null,0,null,0,null,0,null,0,null,0,null,0,null,0,null,0,null,0,null,0,null,0,null,0,null,0,null,0,null,0,null,0,null,0,null,0,null,0,null,0,null,0,null,0,null,0,null,0,null,0,null,0,null,0,null,0,null,0,null,0,null,0,null,0,null,0,null,0]
[]
[]
[null,null,"ITEM","DESCRIÇÃO","QUANTIDADE POR TRABALHADOR/ANO","UNIDADE","VALOR"]
[]
[null,null,1,"Calçado ocupacional em EVA, fechado no calcanhar e parte superior, com solado de borracha antiderrapante (resistência ao escorregamento SRC), resistente ao óleo combustível, absorção de energia na região do salto, com palmilha interna removível, cabedal com substância antimicrobiana, junto à formulação do composto EVA, ativa durante toda a vida útil do produto. Cor preta. Ref.: Soft Works Ca 37212",3,"PAR",95.54,null,null,null,{"$f":"IF(SUM(J$184:J$186)>0,$E190*$G190,0)","v":0},null,{"$f":"IF(SUM(L$184:L$186)>0,$E190*$G190,0)","v":0},null,{"$f":"IF(SUM(N$184:N$186)>0,$E190*$G190,0)","v":0},null,{"$f":"IF(SUM(P$184:P$186)>0,$E190*$G190,0)","v":0},null,{"$f":"IF(SUM(R$184:R$186)>0,$E190*$G190,0)","v":0},null,{"$f":"IF(SUM(T$184:T$186)>0,$E190*$G190,0)","v":0},null,{"$f":"IF(SUM(V$184:V$186)>0,$E190*$G190,0)","v":0},null,{"$f":"IF(SUM(X$184:X$186)>0,$E190*$G190,0)","v":0},null,{"$f":"IF(SUM(Z$184:Z$186)>0,$E190*$G190,0)","v":0},null,{"$f":"IF(SUM(AB$184:AB$186)>0,$E190*$G190,0)","v":0},null,{"$f":"IF(SUM(AD$184:AD$186)>0,$E190*$G190,0)","v":0},null,{"$f":"IF(SUM(AF$184:AF$186)>0,$E190*$G190,0)","v":0},null,{"$f":"IF(SUM(AH$184:AH$186)>0,$E190*$G190,0)","v":0},null,{"$f":"IF(SUM(AJ$184:AJ$186)>0,$E190*$G190,0)","v":0},null,{"$f":"IF(SUM(AL$184:AL$186)>0,$E190*$G190,0)","v":0},null,{"$f":"IF(SUM(AN$184:AN$186)>0,$E190*$G190,0)","v":0},null,{"$f":"IF(SUM(AP$184:AP$186)>0,$E190*$G190,0)","v":0},null,{"$f":"IF(SUM(AR$184:AR$186)>0,$E190*$G190,0)","v":0},null,{"$f":"IF(SUM(AT$184:AT$186)>0,$E190*$G190,0)","v":0},null,{"$f":"IF(SUM(AV$184:AV$186)>0,$E190*$G190,0)","v":0},null,{"$f":"IF(SUM(AX$184:AX$186)>0,$E190*$G190,0)","v":0},null,{"$f":"IF(SUM(AZ$184:AZ$186)>0,$E190*$G190,0)","v":0},null,{"$f":"IF(SUM(BB$184:BB$186)>0,$E190*$G190,0)","v":0},null,{"$f":"IF(SUM(BD$184:BD$186)>0,$E190*$G190,0)","v":0},null,{"$f":"IF(SUM(BF$184:BF$186)>0,$E190*$G190,0)","v":0},null,{"$f":"IF(SUM(BH$184:BH$186)>0,$E190*$G190,0)","v":0},null,{"$f":"IF(SUM(BJ$184:BJ$186)>0,$E190*$G190,0)","v":0},null,{"$f":"IF(SUM(BL$184:BL$186)>0,$E190*$G190,0)","v":0},null,{"$f":"IF(SUM(BN$184:BN$186)>0,$E190*$G190,0)","v":0},null,{"$f":"IF(SUM(BP$184:BP$186)>0,$E190*$G190,0)","v":0},null,{"$f":"IF(SUM(BR$184:BR$186)>0,$E190*$G190,0)","v":0},null,{"$f":"IF(SUM(BT$184:BT$186)>0,$E190*$G190,0)","v":0},null,{"$f":"IF(SUM(BV$184:BV$186)>0,$E190*$G190,0)","v":0},null,{"$f":"IF(SUM(BX$184:BX$186)>0,$E190*$G190,0)","v":0},null,{"$f":"IF(SUM(BZ$184:BZ$186)>0,$E190*$G190,0)","v":0},null,{"$f":"IF(SUM(CB$184:CB$186)>0,$E190*$G190,0)","v":0},null,{"$f":"IF(SUM(CD$184:CD$186)>0,$E190*$G190,0)","v":0},null,{"$f":"IF(SUM(CF$184:CF$186)>0,$E190*$G190,0)","v":0},null,{"$f":"IF(SUM(CH$184:CH$186)>0,$E190*$G190,0)","v":0},null,{"$f":"IF(SUM(CJ$184:CJ$186)>0,$E190*$G190,0)","v":0},null,{"$f":"IF(SUM(CL$184:CL$186)>0,$E190*$G190,0)","v":0},null,{"$f":"IF(SUM(CN$184:CN$186)>0,$E190*$G190,0)","v":0},null,{"$f":"IF(SUM(CP$184:CP$186)>0,$E190*$G190,0)","v":0},null,{"$f":"IF(SUM(CR$184:CR$186)>0,$E190*$G190,0)","v":0},null,{"$f":"IF(SUM(CT$184:CT$186)>0,$E190*$G190,0)","v":0},null,{"$f":"IF(SUM(CV$184:CV$186)>0,$E190*$G190,0)","v":0},null,{"$f":"IF(SUM(CX$184:CX$186)>0,$E190*$G190,0)","v":0},null,{"$f":"IF(SUM(CZ$184:CZ$186)>0,$E190*$G190,0)","v":0},null,{"$f":"IF(SUM(DB$184:DB$186)>0,$E190*$G190,0)","v":0},null,{"$f":"IF(SUM(DD$184:DD$186)>0,$E190*$G190,0)","v":0},null,{"$f":"IF(SUM(DF$184:DF$186)>0,$E190*$G190,0)","v":0},null,{"$f":"IF(SUM(DH$184:DH$186)>0,$E190*$G190,0)","v":0},null,{"$f":"IF(SUM(DJ$184:DJ$186)>0,$E190*$G190,0)","v":0},null,{"$f":"IF(SUM(DL$184:DL$186)>0,$E190*$G190,0)","v":0},null,{"$f":"IF(SUM(DN$184:DN$186)>0,$E190*$G190,0)","v":0},null,{"$f":"IF(SUM(DP$184:DP$186)>0,$E190*$G190,0)","v":0},null,{"$f":"IF(SUM(DR$184:DR$186)>0,$E190*$G190,0)","v":0},null,{"$f":"IF(SUM(DT$184:DT$186)>0,$E190*$G190,0)","v":0},null,{"$f":"IF(SUM(DV$184:DV$186)>0,$E190*$G190,0)","v":0},null,{"$f":"IF(SUM(DX$184:DX$186)>0,$E190*$G190,0)","v":0}]
[null,null,2,"Avental de segurança confeccionado em vinil laminado e transparente, tiras soldadas eletronicamente, sendo uma no pescoço e duas na cintura com fivela plástica para fechamento, acabamento nas laterais por solda eletrônica. Dimensões: 1,20×0,70m. Ref. Maicol CA 38316",3,"UND",16.89,null,null,null,{"$f":"IF(SUM(J$184:J$186)>0,$E191*$G191,0)","v":0},null,{"$f":"IF(SUM(L$184:L$186)>0,$E191*$G191,0)","v":0},null,{"$f":"IF(SUM(N$184:N$186)>0,$E191*$G191,0)","v":0},null,{"$f":"IF(SUM(P$184:P$186)>0,$E191*$G191,0)","v":0},null,{"$f":"IF(SUM(R$184:R$186)>0,$E191*$G191,0)","v":0},null,{"$f":"IF(SUM(T$184:T$186)>0,$E191*$G191,0)","v":0},null,{"$f":"IF(SUM(V$184:V$186)>0,$E191*$G191,0)","v":0},null,{"$f":"IF(SUM(X$184:X$186)>0,$E191*$G191,0)","v":0},null,{"$f":"IF(SUM(Z$184:Z$186)>0,$E191*$G191,0)","v":0},null,{"$f":"IF(SUM(AB$184:AB$186)>0,$E191*$G191,0)","v":0},null,{"$f":"IF(SUM(AD$184:AD$186)>0,$E191*$G191,0)","v":0},null,{"$f":"IF(SUM(AF$184:AF$186)>0,$E191*$G191,0)","v":0},null,{"$f":"IF(SUM(AH$184:AH$186)>0,$E191*$G191,0)","v":0},null,{"$f":"IF(SUM(AJ$184:AJ$186)>0,$E191*$G191,0)","v":0},null,{"$f":"IF(SUM(AL$184:AL$186)>0,$E191*$G191,0)","v":0},null,{"$f":"IF(SUM(AN$184:AN$186)>0,$E191*$G191,0)","v":0},null,{"$f":"IF(SUM(AP$184:AP$186)>0,$E191*$G191,0)","v":0},null,{"$f":"IF(SUM(AR$184:AR$186)>0,$E191*$G191,0)","v":0},null,{"$f":"IF(SUM(AT$184:AT$186)>0,$E191*$G191,0)","v":0},null,{"$f":"IF(SUM(AV$184:AV$186)>0,$E191*$G191,0)","v":0},null,{"$f":"IF(SUM(AX$184:AX$186)>0,$E191*$G191,0)","v":0},null,{"$f":"IF(SUM(AZ$184:AZ$186)>0,$E191*$G191,0)","v":0},null,{"$f":"IF(SUM(BB$184:BB$186)>0,$E191*$G191,0)","v":0},null,{"$f":"IF(SUM(BD$184:BD$186)>0,$E191*$G191,0)","v":0},null,{"$f":"IF(SUM(BF$184:BF$186)>0,$E191*$G191,0)","v":0},null,{"$f":"IF(SUM(BH$184:BH$186)>0,$E191*$G191,0)","v":0},null,{"$f":"IF(SUM(BJ$184:BJ$186)>0,$E191*$G191,0)","v":0},null,{"$f":"IF(SUM(BL$184:BL$186)>0,$E191*$G191,0)","v":0},null,{"$f":"IF(SUM(BN$184:BN$186)>0,$E191*$G191,0)","v":0},null,{"$f":"IF(SUM(BP$184:BP$186)>0,$E191*$G191,0)","v":0},null,{"$f":"IF(SUM(BR$184:BR$186)>0,$E191*$G191,0)","v":0},null,{"$f":"IF(SUM(BT$184:BT$186)>0,$E191*$G191,0)","v":0},null,{"$f":"IF(SUM(BV$184:BV$186)>0,$E191*$G191,0)","v":0},null,{"$f":"IF(SUM(BX$184:BX$186)>0,$E191*$G191,0)","v":0},null,{"$f":"IF(SUM(BZ$184:BZ$186)>0,$E191*$G191,0)","v":0},null,{"$f":"IF(SUM(CB$184:CB$186)>0,$E191*$G191,0)","v":0},null,{"$f":"IF(SUM(CD$184:CD$186)>0,$E191*$G191,0)","v":0},null,{"$f":"IF(SUM(CF$184:CF$186)>0,$E191*$G191,0)","v":0},null,{"$f":"IF(SUM(CH$184:CH$186)>0,$E191*$G191,0)","v":0},null,{"$f":"IF(SUM(CJ$184:CJ$186)>0,$E191*$G191,0)","v":0},null,{"$f":"IF(SUM(CL$184:CL$186)>0,$E191*$G191,0)","v":0},null,{"$f":"IF(SUM(CN$184:CN$186)>0,$E191*$G191,0)","v":0},null,{"$f":"IF(SUM(CP$184:CP$186)>0,$E191*$G191,0)","v":0},null,{"$f":"IF(SUM(CR$184:CR$186)>0,$E191*$G191,0)","v":0},null,{"$f":"IF(SUM(CT$184:CT$186)>0,$E191*$G191,0)","v":0},null,{"$f":"IF(SUM(CV$184:CV$186)>0,$E191*$G191,0)","v":0},null,{"$f":"IF(SUM(CX$184:CX$186)>0,$E191*$G191,0)","v":0},null,{"$f":"IF(SUM(CZ$184:CZ$186)>0,$E191*$G191,0)","v":0},null,{"$f":"IF(SUM(DB$184:DB$186)>0,$E191*$G191,0)","v":0},null,{"$f":"IF(SUM(DD$184:DD$186)>0,$E191*$G191,0)","v":0},null,{"$f":"IF(SUM(DF$184:DF$186)>0,$E191*$G191,0)","v":0},null,{"$f":"IF(SUM(DH$184:DH$186)>0,$E191*$G191,0)","v":0},null,{"$f":"IF(SUM(DJ$184:DJ$186)>0,$E191*$G191,0)","v":0},null,{"$f":"IF(SUM(DL$184:DL$186)>0,$E191*$G191,0)","v":0},null,{"$f":"IF(SUM(DN$184:DN$186)>0,$E191*$G191,0)","v":0},null,{"$f":"IF(SUM(DP$184:DP$186)>0,$E191*$G191,0)","v":0},null,{"$f":"IF(SUM(DR$184:DR$186)>0,$E191*$G191,0)","v":0},null,{"$f":"IF(SUM(DT$184:DT$186)>0,$E191*$G191,0)","v":0},null,{"$f":"IF(SUM(DV$184:DV$186)>0,$E191*$G191,0)","v":0},null,{"$f":"IF(SUM(DX$184:DX$186)>0,$E191*$G191,0)","v":0}]
[null,null,3,"Touca sanfonada, em TNT (100% polipropileno), elástico; impermeabilidade mínima de 80%, descartável, cor branca. Ref. Sky. ",300,"UND",0.15,null,null,null,0,null,{"$f":"IF(SUM(L$184:L$186)>0,$E192*$G192,0)","v":0},null,{"$f":"IF(SUM(N$184:N$186)>0,$E192*$G192,0)","v":0},null,{"$f":"IF(SUM(P$184:P$186)>0,$E192*$G192,0)","v":0},null,{"$f":"IF(SUM(R$184:R$186)>0,$E192*$G192,0)","v":0},null,{"$f":"IF(SUM(T$184:T$186)>0,$E192*$G192,0)","v":0},null,{"$f":"IF(SUM(V$184:V$186)>0,$E192*$G192,0)","v":0},null,{"$f":"IF(SUM(X$184:X$186)>0,$E192*$G192,0)","v":0},null,{"$f":"IF(SUM(Z$184:Z$186)>0,$E192*$G192,0)","v":0},null,{"$f":"IF(SUM(AB$184:AB$186)>0,$E192*$G192,0)","v":0},null,{"$f":"IF(SUM(AD$184:AD$186)>0,$E192*$G192,0)","v":0},null,{"$f":"IF(SUM(AF$184:AF$186)>0,$E192*$G192,0)","v":0},null,{"$f":"IF(SUM(AH$184:AH$186)>0,$E192*$G192,0)","v":0},null,{"$f":"IF(SUM(AJ$184:AJ$186)>0,$E192*$G192,0)","v":0},null,{"$f":"IF(SUM(AL$184:AL$186)>0,$E192*$G192,0)","v":0},null,{"$f":"IF(SUM(AN$184:AN$186)>0,$E192*$G192,0)","v":0},null,{"$f":"IF(SUM(AP$184:AP$186)>0,$E192*$G192,0)","v":0},null,{"$f":"IF(SUM(AR$184:AR$186)>0,$E192*$G192,0)","v":0},null,{"$f":"IF(SUM(AT$184:AT$186)>0,$E192*$G192,0)","v":0},null,{"$f":"IF(SUM(AV$184:AV$186)>0,$E192*$G192,0)","v":0},null,{"$f":"IF(SUM(AX$184:AX$186)>0,$E192*$G192,0)","v":0},null,{"$f":"IF(SUM(AZ$184:AZ$186)>0,$E192*$G192,0)","v":0},null,{"$f":"IF(SUM(BB$184:BB$186)>0,$E192*$G192,0)","v":0},null,{"$f":"IF(SUM(BD$184:BD$186)>0,$E192*$G192,0)","v":0},null,{"$f":"IF(SUM(BF$184:BF$186)>0,$E192*$G192,0)","v":0},null,{"$f":"IF(SUM(BH$184:BH$186)>0,$E192*$G192,0)","v":0},null,{"$f":"IF(SUM(BJ$184:BJ$186)>0,$E192*$G192,0)","v":0},null,{"$f":"IF(SUM(BL$184:BL$186)>0,$E192*$G192,0)","v":0},null,{"$f":"IF(SUM(BN$184:BN$186)>0,$E192*$G192,0)","v":0},null,{"$f":"IF(SUM(BP$184:BP$186)>0,$E192*$G192,0)","v":0},null,{"$f":"IF(SUM(BR$184:BR$186)>0,$E192*$G192,0)","v":0},null,{"$f":"IF(SUM(BT$184:BT$186)>0,$E192*$G192,0)","v":0},null,{"$f":"IF(SUM(BV$184:BV$186)>0,$E192*$G192,0)","v":0},null,{"$f":"IF(SUM(BX$184:BX$186)>0,$E192*$G192,0)","v":0},null,{"$f":"IF(SUM(BZ$184:BZ$186)>0,$E192*$G192,0)","v":0},null,{"$f":"IF(SUM(CB$184:CB$186)>0,$E192*$G192,0)","v":0},null,{"$f":"IF(SUM(CD$184:CD$186)>0,$E192*$G192,0)","v":0},null,{"$f":"IF(SUM(CF$184:CF$186)>0,$E192*$G192,0)","v":0},null,{"$f":"IF(SUM(CH$184:CH$186)>0,$E192*$G192,0)","v":0},null,{"$f":"IF(SUM(CJ$184:CJ$186)>0,$E192*$G192,0)","v":0},null,{"$f":"IF(SUM(CL$184:CL$186)>0,$E192*$G192,0)","v":0},null,{"$f":"IF(SUM(CN$184:CN$186)>0,$E192*$G192,0)","v":0},null,{"$f":"IF(SUM(CP$184:CP$186)>0,$E192*$G192,0)","v":0},null,{"$f":"IF(SUM(CR$184:CR$186)>0,$E192*$G192,0)","v":0},null,{"$f":"IF(SUM(CT$184:CT$186)>0,$E192*$G192,0)","v":0},null,{"$f":"IF(SUM(CV$184:CV$186)>0,$E192*$G192,0)","v":0},null,{"$f":"IF(SUM(CX$184:CX$186)>0,$E192*$G192,0)","v":0},null,{"$f":"IF(SUM(CZ$184:CZ$186)>0,$E192*$G192,0)","v":0},null,{"$f":"IF(SUM(DB$184:DB$186)>0,$E192*$G192,0)","v":0},null,{"$f":"IF(SUM(DD$184:DD$186)>0,$E192*$G192,0)","v":0},null,{"$f":"IF(SUM(DF$184:DF$186)>0,$E192*$G192,0)","v":0},null,{"$f":"IF(SUM(DH$184:DH$186)>0,$E192*$G192,0)","v":0},null,{"$f":"IF(SUM(DJ$184:DJ$186)>0,$E192*$G192,0)","v":0},null,{"$f":"IF(SUM(DL$184:DL$186)>0,$E192*$G192,0)","v":0},null,{"$f":"IF(SUM(DN$184:DN$186)>0,$E192*$G192,0)","v":0},null,{"$f":"IF(SUM(DP$184:DP$186)>0,$E192*$G192,0)","v":0},null,{"$f":"IF(SUM(DR$184:DR$186)>0,$E192*$G192,0)","v":0},null,{"$f":"IF(SUM(DT$184:DT$186)>0,$E192*$G192,0)","v":0},null,{"$f":"IF(SUM(DV$184:DV$186)>0,$E192*$G192,0)","v":0},null,{"$f":"IF(SUM(DX$184:DX$186)>0,$E192*$G192,0)","v":0}]
[null,null,4,"Luva de segurança, para proteção térmica, 5 dedos, confeccionada em poliéster e algodão com TNT (tecido não tecido), totalmente revestida em nitrílico. Comprimento 35cm. Punho reto. Formato Anatômico. Reutilizável. Ref. Volk CA 38.123",1,"PAR",152.96,null,null,null,0,null,{"$f":"IF(SUM(L$184:L$186)>0,$E193*$G193,0)","v":0},null,{"$f":"IF(SUM(N$184:N$186)>0,$E193*$G193,0)","v":0},null,{"$f":"IF(SUM(P$184:P$186)>0,$E193*$G193,0)","v":0},null,{"$f":"IF(SUM(R$184:R$186)>0,$E193*$G193,0)","v":0},null,{"$f":"IF(SUM(T$184:T$186)>0,$E193*$G193,0)","v":0},null,{"$f":"IF(SUM(V$184:V$186)>0,$E193*$G193,0)","v":0},null,{"$f":"IF(SUM(X$184:X$186)>0,$E193*$G193,0)","v":0},null,{"$f":"IF(SUM(Z$184:Z$186)>0,$E193*$G193,0)","v":0},null,{"$f":"IF(SUM(AB$184:AB$186)>0,$E193*$G193,0)","v":0},null,{"$f":"IF(SUM(AD$184:AD$186)>0,$E193*$G193,0)","v":0},null,{"$f":"IF(SUM(AF$184:AF$186)>0,$E193*$G193,0)","v":0},null,{"$f":"IF(SUM(AH$184:AH$186)>0,$E193*$G193,0)","v":0},null,{"$f":"IF(SUM(AJ$184:AJ$186)>0,$E193*$G193,0)","v":0},null,{"$f":"IF(SUM(AL$184:AL$186)>0,$E193*$G193,0)","v":0},null,{"$f":"IF(SUM(AN$184:AN$186)>0,$E193*$G193,0)","v":0},null,{"$f":"IF(SUM(AP$184:AP$186)>0,$E193*$G193,0)","v":0},null,{"$f":"IF(SUM(AR$184:AR$186)>0,$E193*$G193,0)","v":0},null,{"$f":"IF(SUM(AT$184:AT$186)>0,$E193*$G193,0)","v":0},null,{"$f":"IF(SUM(AV$184:AV$186)>0,$E193*$G193,0)","v":0},null,{"$f":"IF(SUM(AX$184:AX$186)>0,$E193*$G193,0)","v":0},null,{"$f":"IF(SUM(AZ$184:AZ$186)>0,$E193*$G193,0)","v":0},null,{"$f":"IF(SUM(BB$184:BB$186)>0,$E193*$G193,0)","v":0},null,{"$f":"IF(SUM(BD$184:BD$186)>0,$E193*$G193,0)","v":0},null,{"$f":"IF(SUM(BF$184:BF$186)>0,$E193*$G193,0)","v":0},null,{"$f":"IF(SUM(BH$184:BH$186)>0,$E193*$G193,0)","v":0},null,{"$f":"IF(SUM(BJ$184:BJ$186)>0,$E193*$G193,0)","v":0},null,{"$f":"IF(SUM(BL$184:BL$186)>0,$E193*$G193,0)","v":0},null,{"$f":"IF(SUM(BN$184:BN$186)>0,$E193*$G193,0)","v":0},null,{"$f":"IF(SUM(BP$184:BP$186)>0,$E193*$G193,0)","v":0},null,{"$f":"IF(SUM(BR$184:BR$186)>0,$E193*$G193,0)","v":0},null,{"$f":"IF(SUM(BT$184:BT$186)>0,$E193*$G193,0)","v":0},null,{"$f":"IF(SUM(BV$184:BV$186)>0,$E193*$G193,0)","v":0},null,{"$f":"IF(SUM(BX$184:BX$186)>0,$E193*$G193,0)","v":0},null,{"$f":"IF(SUM(BZ$184:BZ$186)>0,$E193*$G193,0)","v":0},null,{"$f":"IF(SUM(CB$184:CB$186)>0,$E193*$G193,0)","v":0},null,{"$f":"IF(SUM(CD$184:CD$186)>0,$E193*$G193,0)","v":0},null,{"$f":"IF(SUM(CF$184:CF$186)>0,$E193*$G193,0)","v":0},null,{"$f":"IF(SUM(CH$184:CH$186)>0,$E193*$G193,0)","v":0},null,{"$f":"IF(SUM(CJ$184:CJ$186)>0,$E193*$G193,0)","v":0},null,{"$f":"IF(SUM(CL$184:CL$186)>0,$E193*$G193,0)","v":0},null,{"$f":"IF(SUM(CN$184:CN$186)>0,$E193*$G193,0)","v":0},null,{"$f":"IF(SUM(CP$184:CP$186)>0,$E193*$G193,0)","v":0},null,{"$f":"IF(SUM(CR$184:CR$186)>0,$E193*$G193,0)","v":0},null,{"$f":"IF(SUM(CT$184:CT$186)>0,$E193*$G193,0)","v":0},null,{"$f":"IF(SUM(CV$184:CV$186)>0,$E193*$G193,0)","v":0},null,{"$f":"IF(SUM(CX$184:CX$186)>0,$E193*$G193,0)","v":0},null,{"$f":"IF(SUM(CZ$184:CZ$186)>0,$E193*$G193,0)","v":0},null,{"$f":"IF(SUM(DB$184:DB$186)>0,$E193*$G193,0)","v":0},null,{"$f":"IF(SUM(DD$184:DD$186)>0,$E193*$G193,0)","v":0},null,{"$f":"IF(SUM(DF$184:DF$186)>0,$E193*$G193,0)","v":0},null,{"$f":"IF(SUM(DH$184:DH$186)>0,$E193*$G193,0)","v":0},null,{"$f":"IF(SUM(DJ$184:DJ$186)>0,$E193*$G193,0)","v":0},null,{"$f":"IF(SUM(DL$184:DL$186)>0,$E193*$G193,0)","v":0},null,{"$f":"IF(SUM(DN$184:DN$186)>0,$E193*$G193,0)","v":0},null,{"$f":"IF(SUM(DP$184:DP$186)>0,$E193*$G193,0)","v":0},null,{"$f":"IF(SUM(DR$184:DR$186)>0,$E193*$G193,0)","v":0},null,{"$f":"IF(SUM(DT$184:DT$186)>0,$E193*$G193,0)","v":0},null,{"$f":"IF(SUM(DV$184:DV$186)>0,$E193*$G193,0)","v":0},null,{"$f":"IF(SUM(DX$184:DX$186)>0,$E193*$G193,0)","v":0}]
[]
[]
[null,null,"CATEGORIAS",null,null,null,"QUANTIDADE"]
[null,null,null,null,null,null,null,null,null,{"$f":"IF($C197=J$3,1,0)","v":0},null,{"$f":"IF($C197=L$3,1,0)","v":0},null,0,null,0,null,0,null,0,null,0,null,0,null,0,null,0,null,0,null,0,null,0,null,0,null,0,null,0,null,0,null,{"$f":"IF($C197=AR$3,1,0)","v":0},null,0,null,0,null,0,null,0,null,0,null,0,null,0,null,0,null,0,null,0,null,0,null,0,null,0,null,0,null,0,null,0,null,0,null,0,null,0,null,0,null,0,null,0,null,0,null,0,null,0,null,0,null,0,null,0,null,0,null,0,null,0,null,{"$f":"IF($C197=DD$3,1,0)","v":0},null,0,null,0,null,0,null,0,null,0,null,0,null,0,null,0,null,0,null,0]
[null,null,null,{"$f":"HLOOKUP($C198,'Dados Gerais'!$D$6:$V$11,6,0)","v":{"$error":"#N/A"}},null,null,{"$f":"HLOOKUP($C198,'Dados Gerais'!$D$6:$V$15,10,0)","v":{"$error":"#N/A"}},null,null,{"$f":"IF($C198=J$3,1,0)","v":0},null,0,null,{"$f":"IF($C198=N$3,1,0)","v":0},null,0,null,0,null,0,null,0,null,0,null,0,null,0,null,0,null,0,null,0,null,0,null,0,null,0,null,0,null,0,null,0,null,0,null,0,null,0,null,0,null,0,null,0,null,0,null,0,null,0,null,0,null,0,null,0,null,0,null,0,null,0,null,0,null,0,null,0,null,0,null,0,null,0,null,0,null,0,null,0,null,0,null,0,null,0,null,0,null,0,null,0,null,0,null,0,null,0,null,0,null,0,null,0,null,0,null,0,null,0,null,0,null,0]
[]
[]
[null,null,"ITEM","DESCRIÇÃO","QUANTIDADE POR TRABALHADOR/ANO","UNIDADE","VALOR"]
[]
[null,null,1,"Calçado ocupacional tipo sapato SOCIAL, fechamento em cadarço, confeccionado em vaqueta lisa na cor preta, colarinho acolchoado, forração interna em tecido não tecido, palmilha higiência antibacteriana, solado bidensidade, resistência ao escorregamento nível SCR, em conformidade com a NBR 20347. Ref.Marluvas CA: 33698.",2,"PAR",174.22,null,null,null,{"$f":"IF(SUM(J$197:J$199)>0,$E203*$G203,0)","v":0},null,{"$f":"IF(SUM(L$197:L$199)>0,$E203*$G203,0)","v":0},null,{"$f":"IF(SUM(N$197:N$199)>0,$E203*$G203,0)","v":0},null,{"$f":"IF(SUM(P$197:P$199)>0,$E203*$G203,0)","v":0},null,{"$f":"IF(SUM(R$197:R$199)>0,$E203*$G203,0)","v":0},null,{"$f":"IF(SUM(T$197:T$199)>0,$E203*$G203,0)","v":0},null,{"$f":"IF(SUM(V$197:V$199)>0,$E203*$G203,0)","v":0},null,{"$f":"IF(SUM(X$197:X$199)>0,$E203*$G203,0)","v":0},null,{"$f":"IF(SUM(Z$197:Z$199)>0,$E203*$G203,0)","v":0},null,{"$f":"IF(SUM(AB$197:AB$199)>0,$E203*$G203,0)","v":0},null,{"$f":"IF(SUM(AD$197:AD$199)>0,$E203*$G203,0)","v":0},null,{"$f":"IF(SUM(AF$197:AF$199)>0,$E203*$G203,0)","v":0},null,{"$f":"IF(SUM(AH$197:AH$199)>0,$E203*$G203,0)","v":0},null,{"$f":"IF(SUM(AJ$197:AJ$199)>0,$E203*$G203,0)","v":0},null,{"$f":"IF(SUM(AL$197:AL$199)>0,$E203*$G203,0)","v":0},null,{"$f":"IF(SUM(AN$197:AN$199)>0,$E203*$G203,0)","v":0},null,{"$f":"IF(SUM(AP$197:AP$199)>0,$E203*$G203,0)","v":0},null,{"$f":"IF(SUM(AR$197:AR$199)>0,$E203*$G203,0)","v":0},null,{"$f":"IF(SUM(AT$197:AT$199)>0,$E203*$G203,0)","v":0},null,{"$f":"IF(SUM(AV$197:AV$199)>0,$E203*$G203,0)","v":0},null,{"$f":"IF(SUM(AX$197:AX$199)>0,$E203*$G203,0)","v":0},null,{"$f":"IF(SUM(AZ$197:AZ$199)>0,$E203*$G203,0)","v":0},null,{"$f":"IF(SUM(BB$197:BB$199)>0,$E203*$G203,0)","v":0},null,{"$f":"IF(SUM(BD$197:BD$199)>0,$E203*$G203,0)","v":0},null,{"$f":"IF(SUM(BF$197:BF$199)>0,$E203*$G203,0)","v":0},null,{"$f":"IF(SUM(BH$197:BH$199)>0,$E203*$G203,0)","v":0},null,{"$f":"IF(SUM(BJ$197:BJ$199)>0,$E203*$G203,0)","v":0},null,{"$f":"IF(SUM(BL$197:BL$199)>0,$E203*$G203,0)","v":0},null,{"$f":"IF(SUM(BN$197:BN$199)>0,$E203*$G203,0)","v":0},null,{"$f":"IF(SUM(BP$197:BP$199)>0,$E203*$G203,0)","v":0},null,{"$f":"IF(SUM(BR$197:BR$199)>0,$E203*$G203,0)","v":0},null,{"$f":"IF(SUM(BT$197:BT$199)>0,$E203*$G203,0)","v":0},null,{"$f":"IF(SUM(BV$197:BV$199)>0,$E203*$G203,0)","v":0},null,{"$f":"IF(SUM(BX$197:BX$199)>0,$E203*$G203,0)","v":0},null,{"$f":"IF(SUM(BZ$197:BZ$199)>0,$E203*$G203,0)","v":0},null,{"$f":"IF(SUM(CB$197:CB$199)>0,$E203*$G203,0)","v":0},null,{"$f":"IF(SUM(CD$197:CD$199)>0,$E203*$G203,0)","v":0},null,{"$f":"IF(SUM(CF$197:CF$199)>0,$E203*$G203,0)","v":0},null,{"$f":"IF(SUM(CH$197:CH$199)>0,$E203*$G203,0)","v":0},null,{"$f":"IF(SUM(CJ$197:CJ$199)>0,$E203*$G203,0)","v":0},null,{"$f":"IF(SUM(CL$197:CL$199)>0,$E203*$G203,0)","v":0},null,{"$f":"IF(SUM(CN$197:CN$199)>0,$E203*$G203,0)","v":0},null,{"$f":"IF(SUM(CP$197:CP$199)>0,$E203*$G203,0)","v":0},null,{"$f":"IF(SUM(CR$197:CR$199)>0,$E203*$G203,0)","v":0},null,{"$f":"IF(SUM(CT$197:CT$199)>0,$E203*$G203,0)","v":0},null,{"$f":"IF(SUM(CV$197:CV$199)>0,$E203*$G203,0)","v":0},null,{"$f":"IF(SUM(CX$197:CX$199)>0,$E203*$G203,0)","v":0},null,{"$f":"IF(SUM(CZ$197:CZ$199)>0,$E203*$G203,0)","v":0},null,{"$f":"IF(SUM(DB$197:DB$199)>0,$E203*$G203,0)","v":0},null,{"$f":"IF(SUM(DD$197:DD$199)>0,$E203*$G203,0)","v":0},null,{"$f":"IF(SUM(DF$197:DF$199)>0,$E203*$G203,0)","v":0},null,{"$f":"IF(SUM(DH$197:DH$199)>0,$E203*$G203,0)","v":0},null,{"$f":"IF(SUM(DJ$197:DJ$199)>0,$E203*$G203,0)","v":0},null,{"$f":"IF(SUM(DL$197:DL$199)>0,$E203*$G203,0)","v":0},null,{"$f":"IF(SUM(DN$197:DN$199)>0,$E203*$G203,0)","v":0},null,{"$f":"IF(SUM(DP$197:DP$199)>0,$E203*$G203,0)","v":0},null,{"$f":"IF(SUM(DR$197:DR$199)>0,$E203*$G203,0)","v":0},null,{"$f":"IF(SUM(DT$197:DT$199)>0,$E203*$G203,0)","v":0},null,{"$f":"IF(SUM(DV$197:DV$199)>0,$E203*$G203,0)","v":0},null,{"$f":"IF(SUM(DX$197:DX$199)>0,$E203*$G203,0)","v":0}]
[]
[]
[null,null,"CATEGORIAS",null,null,null,"QUANTIDADE"]
[null,null,null,null,null,null,null,null,null,{"$f":"IF($C207=J$3,1,0)","v":0},null,{"$f":"IF($C207=L$3,1,0)","v":0},null,0,null,0,null,0,null,0,null,0,null,0,null,0,null,0,null,0,null,0,null,0,null,0,null,0,null,0,null,0,null,{"$f":"IF($C207=AR$3,1,0)","v":0},null,0,null,0,null,0,null,0,null,0,null,0,null,0,null,0,null,0,null,0,null,0,null,0,null,0,null,0,null,0,null,0,null,0,null,0,null,0,null,0,null,0,null,0,null,0,null,0,null,0,null,0,null,0,null,0,null,0,null,0,null,0,null,{"$f":"IF($C207=DD$3,1,0)","v":0},null,0,null,0,null,0,null,0,null,0,null,0,null,0,null,0,null,0,null,0]
[null,null,null,{"$f":"HLOOKUP($C208,'Dados Gerais'!$D$6:$V$11,6,0)","v":{"$error":"#N/A"}},null,null,{"$f":"HLOOKUP($C208,'Dados Gerais'!$D$6:$V$15,10,0)","v":{"$error":"#N/A"}},null,null,{"$f":"IF($C208=J$3,1,0)","v":0},null,0,null,{"$f":"IF($C208=N$3,1,0)","v":0},null,0,null,0,null,0,null,0,null,0,null,0,null,0,null,0,null,0,null,0,null,0,null,0,null,0,null,0,null,0,null,0,null,0,null,0,null,0,null,0,null,0,null,0,null,0,null,0,null,0,null,0,null,0,null,0,null,0,null,0,null,0,null,0,null,0,null,0,null,0,null,0,null,0,null,0,null,0,null,0,null,0,null,0,null,0,null,0,null,0,null,0,null,0,null,0,null,0,null,0,null,0,null,0,null,0,null,0,null,0,null,0,null,0]
[]
[]
[null,null,"ITEM","DESCRIÇÃO","QUANTIDADE POR TRABALHADOR/ANO","UNIDADE","VALOR"]
[]
[null,null,1,"Calçado ocupacional tipo sapato SOCIAL, fechamento em cadarço, confeccionado em vaqueta lisa na cor preta, colarinho acolchoado, forração interna em tecido não tecido, palmilha higiência antibacteriana, solado bidensidade, resistência ao escorregamento nível SCR, em conformidade com a NBR 20347. Ref.Marluvas CA: 33698.",2,"PAR",174.22,null,null,null,{"$f":"IF(SUM(J$207:J$209)>0,$E213*$G213,0)","v":0},null,{"$f":"IF(SUM(L$207:L$209)>0,$E213*$G213,0)","v":0},null,{"$f":"IF(SUM(N$207:N$209)>0,$E213*$G213,0)","v":0},null,{"$f":"IF(SUM(P$207:P$209)>0,$E213*$G213,0)","v":0},null,{"$f":"IF(SUM(R$207:R$209)>0,$E213*$G213,0)","v":0},null,{"$f":"IF(SUM(T$207:T$209)>0,$E213*$G213,0)","v":0},null,{"$f":"IF(SUM(V$207:V$209)>0,$E213*$G213,0)","v":0},null,{"$f":"IF(SUM(X$207:X$209)>0,$E213*$G213,0)","v":0},null,{"$f":"IF(SUM(Z$207:Z$209)>0,$E213*$G213,0)","v":0},null,{"$f":"IF(SUM(AB$207:AB$209)>0,$E213*$G213,0)","v":0},null,{"$f":"IF(SUM(AD$207:AD$209)>0,$E213*$G213,0)","v":0},null,{"$f":"IF(SUM(AF$207:AF$209)>0,$E213*$G213,0)","v":0},null,{"$f":"IF(SUM(AH$207:AH$209)>0,$E213*$G213,0)","v":0},null,{"$f":"IF(SUM(AJ$207:AJ$209)>0,$E213*$G213,0)","v":0},null,{"$f":"IF(SUM(AL$207:AL$209)>0,$E213*$G213,0)","v":0},null,{"$f":"IF(SUM(AN$207:AN$209)>0,$E213*$G213,0)","v":0},null,{"$f":"IF(SUM(AP$207:AP$209)>0,$E213*$G213,0)","v":0},null,{"$f":"IF(SUM(AR$207:AR$209)>0,$E213*$G213,0)","v":0},null,{"$f":"IF(SUM(AT$207:AT$209)>0,$E213*$G213,0)","v":0},null,{"$f":"IF(SUM(AV$207:AV$209)>0,$E213*$G213,0)","v":0},null,{"$f":"IF(SUM(AX$207:AX$209)>0,$E213*$G213,0)","v":0},null,{"$f":"IF(SUM(AZ$207:AZ$209)>0,$E213*$G213,0)","v":0},null,{"$f":"IF(SUM(BB$207:BB$209)>0,$E213*$G213,0)","v":0},null,{"$f":"IF(SUM(BD$207:BD$209)>0,$E213*$G213,0)","v":0},null,{"$f":"IF(SUM(BF$207:BF$209)>0,$E213*$G213,0)","v":0},null,{"$f":"IF(SUM(BH$207:BH$209)>0,$E213*$G213,0)","v":0},null,{"$f":"IF(SUM(BJ$207:BJ$209)>0,$E213*$G213,0)","v":0},null,{"$f":"IF(SUM(BL$207:BL$209)>0,$E213*$G213,0)","v":0},null,{"$f":"IF(SUM(BN$207:BN$209)>0,$E213*$G213,0)","v":0},null,{"$f":"IF(SUM(BP$207:BP$209)>0,$E213*$G213,0)","v":0},null,{"$f":"IF(SUM(BR$207:BR$209)>0,$E213*$G213,0)","v":0},null,{"$f":"IF(SUM(BT$207:BT$209)>0,$E213*$G213,0)","v":0},null,{"$f":"IF(SUM(BV$207:BV$209)>0,$E213*$G213,0)","v":0},null,{"$f":"IF(SUM(BX$207:BX$209)>0,$E213*$G213,0)","v":0},null,{"$f":"IF(SUM(BZ$207:BZ$209)>0,$E213*$G213,0)","v":0},null,{"$f":"IF(SUM(CB$207:CB$209)>0,$E213*$G213,0)","v":0},null,{"$f":"IF(SUM(CD$207:CD$209)>0,$E213*$G213,0)","v":0},null,{"$f":"IF(SUM(CF$207:CF$209)>0,$E213*$G213,0)","v":0},null,{"$f":"IF(SUM(CH$207:CH$209)>0,$E213*$G213,0)","v":0},null,{"$f":"IF(SUM(CJ$207:CJ$209)>0,$E213*$G213,0)","v":0},null,{"$f":"IF(SUM(CL$207:CL$209)>0,$E213*$G213,0)","v":0},null,{"$f":"IF(SUM(CN$207:CN$209)>0,$E213*$G213,0)","v":0},null,{"$f":"IF(SUM(CP$207:CP$209)>0,$E213*$G213,0)","v":0},null,{"$f":"IF(SUM(CR$207:CR$209)>0,$E213*$G213,0)","v":0},null,{"$f":"IF(SUM(CT$207:CT$209)>0,$E213*$G213,0)","v":0},null,{"$f":"IF(SUM(CV$207:CV$209)>0,$E213*$G213,0)","v":0},null,{"$f":"IF(SUM(CX$207:CX$209)>0,$E213*$G213,0)","v":0},null,{"$f":"IF(SUM(CZ$207:CZ$209)>0,$E213*$G213,0)","v":0},null,{"$f":"IF(SUM(DB$207:DB$209)>0,$E213*$G213,0)","v":0},null,{"$f":"IF(SUM(DD$207:DD$209)>0,$E213*$G213,0)","v":0},null,{"$f":"IF(SUM(DF$207:DF$209)>0,$E213*$G213,0)","v":0},null,{"$f":"IF(SUM(DH$207:DH$209)>0,$E213*$G213,0)","v":0},null,{"$f":"IF(SUM(DJ$207:DJ$209)>0,$E213*$G213,0)","v":0},null,{"$f":"IF(SUM(DL$207:DL$209)>0,$E213*$G213,0)","v":0},null,{"$f":"IF(SUM(DN$207:DN$209)>0,$E213*$G213,0)","v":0},null,{"$f":"IF(SUM(DP$207:DP$209)>0,$E213*$G213,0)","v":0},null,{"$f":"IF(SUM(DR$207:DR$209)>0,$E213*$G213,0)","v":0},null,{"$f":"IF(SUM(DT$207:DT$209)>0,$E213*$G213,0)","v":0},null,{"$f":"IF(SUM(DV$207:DV$209)>0,$E213*$G213,0)","v":0},null,{"$f":"IF(SUM(DX$207:DX$209)>0,$E213*$G213,0)","v":0}]
[]
[]
[null,null,"CATEGORIAS",null,null,null,"QUANTIDADE"]
[null,null,null,null,null,null,null,null,null,{"$f":"IF($C217=J$3,1,0)","v":0},null,{"$f":"IF($C217=L$3,1,0)","v":0},null,0,null,0,null,0,null,0,null,0,null,0,null,0,null,0,null,0,null,0,null,0,null,0,null,0,null,0,null,0,null,{"$f":"IF($C217=AR$3,1,0)","v":0},null,0,null,0,null,0,null,0,null,0,null,0,null,0,null,0,null,0,null,0,null,0,null,0,null,0,null,0,null,0,null,0,null,0,null,0,null,0,null,0,null,0,null,0,null,0,null,0,null,0,null,0,null,0,null,0,null,0,null,0,null,0,null,{"$f":"IF($C217=DD$3,1,0)","v":0},null,0,null,0,null,0,null,0,null,0,null,0,null,0,null,0,null,0,null,0]
[null,null,null,{"$f":"HLOOKUP($C218,'Dados Gerais'!$D$6:$V$11,6,0)","v":{"$error":"#N/A"}},null,null,{"$f":"HLOOKUP($C218,'Dados Gerais'!$D$6:$V$15,10,0)","v":{"$error":"#N/A"}},null,null,{"$f":"IF($C218=J$3,1,0)","v":0},null,0,null,{"$f":"IF($C218=N$3,1,0)","v":0},null,0,null,0,null,0,null,0,null,0,null,0,null,0,null,0,null,0,null,0,null,0,null,0,null,0,null,0,null,0,null,0,null,0,null,0,null,0,null,0,null,0,null,0,null,0,null,0,null,0,null,0,null,0,null,0,null,0,null,0,null,0,null,0,null,0,null,0,null,0,null,0,null,0,null,0,null,0,null,0,null,0,null,0,null,0,null,0,null,0,null,0,null,0,null,0,null,0,null,0,null,0,null,0,null,0,null,0,null,0,null,0,null,0]
[]
[]
[null,null,"ITEM","DESCRIÇÃO","QUANTIDADE POR TRABALHADOR/ANO","UNIDADE","VALOR"]
[]
[null,null,1,"Calçado ocupacional em EVA, fechado no calcanhar e parte superior, com solado de borracha antiderrapante (resistência ao escorregamento SRC), resistente ao óleo combustível, absorção de energia na região do salto, com palmilha interna removível, cabedal com substância antimicrobiana, junto à formulação do composto EVA, ativa durante toda a vida útil do produto. Cor preta. Ref.: Soft Works Ca 37212",3,"PAR",95.54,null,null,null,{"$f":"IF(SUM(J$217:J$219)>0,$E223*$G223,0)","v":0},null,{"$f":"IF(SUM(L$217:L$219)>0,$E223*$G223,0)","v":0},null,{"$f":"IF(SUM(N$217:N$219)>0,$E223*$G223,0)","v":0},null,{"$f":"IF(SUM(P$217:P$219)>0,$E223*$G223,0)","v":0},null,{"$f":"IF(SUM(R$217:R$219)>0,$E223*$G223,0)","v":0},null,{"$f":"IF(SUM(T$217:T$219)>0,$E223*$G223,0)","v":0},null,{"$f":"IF(SUM(V$217:V$219)>0,$E223*$G223,0)","v":0},null,{"$f":"IF(SUM(X$217:X$219)>0,$E223*$G223,0)","v":0},null,{"$f":"IF(SUM(Z$217:Z$219)>0,$E223*$G223,0)","v":0},null,{"$f":"IF(SUM(AB$217:AB$219)>0,$E223*$G223,0)","v":0},null,{"$f":"IF(SUM(AD$217:AD$219)>0,$E223*$G223,0)","v":0},null,{"$f":"IF(SUM(AF$217:AF$219)>0,$E223*$G223,0)","v":0},null,{"$f":"IF(SUM(AH$217:AH$219)>0,$E223*$G223,0)","v":0},null,{"$f":"IF(SUM(AJ$217:AJ$219)>0,$E223*$G223,0)","v":0},null,{"$f":"IF(SUM(AL$217:AL$219)>0,$E223*$G223,0)","v":0},null,{"$f":"IF(SUM(AN$217:AN$219)>0,$E223*$G223,0)","v":0},null,{"$f":"IF(SUM(AP$217:AP$219)>0,$E223*$G223,0)","v":0},null,{"$f":"IF(SUM(AR$217:AR$219)>0,$E223*$G223,0)","v":0},null,{"$f":"IF(SUM(AT$217:AT$219)>0,$E223*$G223,0)","v":0},null,{"$f":"IF(SUM(AV$217:AV$219)>0,$E223*$G223,0)","v":0},null,{"$f":"IF(SUM(AX$217:AX$219)>0,$E223*$G223,0)","v":0},null,{"$f":"IF(SUM(AZ$217:AZ$219)>0,$E223*$G223,0)","v":0},null,{"$f":"IF(SUM(BB$217:BB$219)>0,$E223*$G223,0)","v":0},null,{"$f":"IF(SUM(BD$217:BD$219)>0,$E223*$G223,0)","v":0},null,{"$f":"IF(SUM(BF$217:BF$219)>0,$E223*$G223,0)","v":0},null,{"$f":"IF(SUM(BH$217:BH$219)>0,$E223*$G223,0)","v":0},null,{"$f":"IF(SUM(BJ$217:BJ$219)>0,$E223*$G223,0)","v":0},null,{"$f":"IF(SUM(BL$217:BL$219)>0,$E223*$G223,0)","v":0},null,{"$f":"IF(SUM(BN$217:BN$219)>0,$E223*$G223,0)","v":0},null,{"$f":"IF(SUM(BP$217:BP$219)>0,$E223*$G223,0)","v":0},null,{"$f":"IF(SUM(BR$217:BR$219)>0,$E223*$G223,0)","v":0},null,{"$f":"IF(SUM(BT$217:BT$219)>0,$E223*$G223,0)","v":0},null,{"$f":"IF(SUM(BV$217:BV$219)>0,$E223*$G223,0)","v":0},null,{"$f":"IF(SUM(BX$217:BX$219)>0,$E223*$G223,0)","v":0},null,{"$f":"IF(SUM(BZ$217:BZ$219)>0,$E223*$G223,0)","v":0},null,{"$f":"IF(SUM(CB$217:CB$219)>0,$E223*$G223,0)","v":0},null,{"$f":"IF(SUM(CD$217:CD$219)>0,$E223*$G223,0)","v":0},null,{"$f":"IF(SUM(CF$217:CF$219)>0,$E223*$G223,0)","v":0},null,{"$f":"IF(SUM(CH$217:CH$219)>0,$E223*$G223,0)","v":0},null,{"$f":"IF(SUM(CJ$217:CJ$219)>0,$E223*$G223,0)","v":0},null,{"$f":"IF(SUM(CL$217:CL$219)>0,$E223*$G223,0)","v":0},null,{"$f":"IF(SUM(CN$217:CN$219)>0,$E223*$G223,0)","v":0},null,{"$f":"IF(SUM(CP$217:CP$219)>0,$E223*$G223,0)","v":0},null,{"$f":"IF(SUM(CR$217:CR$219)>0,$E223*$G223,0)","v":0},null,{"$f":"IF(SUM(CT$217:CT$219)>0,$E223*$G223,0)","v":0},null,{"$f":"IF(SUM(CV$217:CV$219)>0,$E223*$G223,0)","v":0},null,{"$f":"IF(SUM(CX$217:CX$219)>0,$E223*$G223,0)","v":0},null,{"$f":"IF(SUM(CZ$217:CZ$219)>0,$E223*$G223,0)","v":0},null,{"$f":"IF(SUM(DB$217:DB$219)>0,$E223*$G223,0)","v":0},null,{"$f":"IF(SUM(DD$217:DD$219)>0,$E223*$G223,0)","v":0},null,{"$f":"IF(SUM(DF$217:DF$219)>0,$E223*$G223,0)","v":0},null,{"$f":"IF(SUM(DH$217:DH$219)>0,$E223*$G223,0)","v":0},null,{"$f":"IF(SUM(DJ$217:DJ$219)>0,$E223*$G223,0)","v":0},null,{"$f":"IF(SUM(DL$217:DL$219)>0,$E223*$G223,0)","v":0},null,{"$f":"IF(SUM(DN$217:DN$219)>0,$E223*$G223,0)","v":0},null,{"$f":"IF(SUM(DP$217:DP$219)>0,$E223*$G223,0)","v":0},null,{"$f":"IF(SUM(DR$217:DR$219)>0,$E223*$G223,0)","v":0},null,{"$f":"IF(SUM(DT$217:DT$219)>0,$E223*$G223,0)","v":0},null,{"$f":"IF(SUM(DV$217:DV$219)>0,$E223*$G223,0)","v":0},null,{"$f":"IF(SUM(DX$217:DX$219)>0,$E223*$G223,0)","v":0}]
[null,null,2,"Luva de Segurança confeccionada em LÁTEX natural anatômica (esp. mínima 0,60mm), acabamento forrado em algodão flocado, antiderrapante na palma e dedos. Cores: azul e amarela.Ref.: Mucambo.",50,"PAR",7.14,null,null,null,{"$f":"IF(SUM(J$217:J$219)>0,$E224*$G224,0)","v":0},null,{"$f":"IF(SUM(L$217:L$219)>0,$E224*$G224,0)","v":0},null,{"$f":"IF(SUM(N$217:N$219)>0,$E224*$G224,0)","v":0},null,{"$f":"IF(SUM(P$217:P$219)>0,$E224*$G224,0)","v":0},null,{"$f":"IF(SUM(R$217:R$219)>0,$E224*$G224,0)","v":0},null,{"$f":"IF(SUM(T$217:T$219)>0,$E224*$G224,0)","v":0},null,{"$f":"IF(SUM(V$217:V$219)>0,$E224*$G224,0)","v":0},null,{"$f":"IF(SUM(X$217:X$219)>0,$E224*$G224,0)","v":0},null,{"$f":"IF(SUM(Z$217:Z$219)>0,$E224*$G224,0)","v":0},null,{"$f":"IF(SUM(AB$217:AB$219)>0,$E224*$G224,0)","v":0},null,{"$f":"IF(SUM(AD$217:AD$219)>0,$E224*$G224,0)","v":0},null,{"$f":"IF(SUM(AF$217:AF$219)>0,$E224*$G224,0)","v":0},null,{"$f":"IF(SUM(AH$217:AH$219)>0,$E224*$G224,0)","v":0},null,{"$f":"IF(SUM(AJ$217:AJ$219)>0,$E224*$G224,0)","v":0},null,{"$f":"IF(SUM(AL$217:AL$219)>0,$E224*$G224,0)","v":0},null,{"$f":"IF(SUM(AN$217:AN$219)>0,$E224*$G224,0)","v":0},null,{"$f":"IF(SUM(AP$217:AP$219)>0,$E224*$G224,0)","v":0},null,{"$f":"IF(SUM(AR$217:AR$219)>0,$E224*$G224,0)","v":0},null,{"$f":"IF(SUM(AT$217:AT$219)>0,$E224*$G224,0)","v":0},null,{"$f":"IF(SUM(AV$217:AV$219)>0,$E224*$G224,0)","v":0},null,{"$f":"IF(SUM(AX$217:AX$219)>0,$E224*$G224,0)","v":0},null,{"$f":"IF(SUM(AZ$217:AZ$219)>0,$E224*$G224,0)","v":0},null,{"$f":"IF(SUM(BB$217:BB$219)>0,$E224*$G224,0)","v":0},null,{"$f":"IF(SUM(BD$217:BD$219)>0,$E224*$G224,0)","v":0},null,{"$f":"IF(SUM(BF$217:BF$219)>0,$E224*$G224,0)","v":0},null,{"$f":"IF(SUM(BH$217:BH$219)>0,$E224*$G224,0)","v":0},null,{"$f":"IF(SUM(BJ$217:BJ$219)>0,$E224*$G224,0)","v":0},null,{"$f":"IF(SUM(BL$217:BL$219)>0,$E224*$G224,0)","v":0},null,{"$f":"IF(SUM(BN$217:BN$219)>0,$E224*$G224,0)","v":0},null,{"$f":"IF(SUM(BP$217:BP$219)>0,$E224*$G224,0)","v":0},null,{"$f":"IF(SUM(BR$217:BR$219)>0,$E224*$G224,0)","v":0},null,{"$f":"IF(SUM(BT$217:BT$219)>0,$E224*$G224,0)","v":0},null,{"$f":"IF(SUM(BV$217:BV$219)>0,$E224*$G224,0)","v":0},null,{"$f":"IF(SUM(BX$217:BX$219)>0,$E224*$G224,0)","v":0},null,{"$f":"IF(SUM(BZ$217:BZ$219)>0,$E224*$G224,0)","v":0},null,{"$f":"IF(SUM(CB$217:CB$219)>0,$E224*$G224,0)","v":0},null,{"$f":"IF(SUM(CD$217:CD$219)>0,$E224*$G224,0)","v":0},null,{"$f":"IF(SUM(CF$217:CF$219)>0,$E224*$G224,0)","v":0},null,{"$f":"IF(SUM(CH$217:CH$219)>0,$E224*$G224,0)","v":0},null,{"$f":"IF(SUM(CJ$217:CJ$219)>0,$E224*$G224,0)","v":0},null,{"$f":"IF(SUM(CL$217:CL$219)>0,$E224*$G224,0)","v":0},null,{"$f":"IF(SUM(CN$217:CN$219)>0,$E224*$G224,0)","v":0},null,{"$f":"IF(SUM(CP$217:CP$219)>0,$E224*$G224,0)","v":0},null,{"$f":"IF(SUM(CR$217:CR$219)>0,$E224*$G224,0)","v":0},null,{"$f":"IF(SUM(CT$217:CT$219)>0,$E224*$G224,0)","v":0},null,{"$f":"IF(SUM(CV$217:CV$219)>0,$E224*$G224,0)","v":0},null,{"$f":"IF(SUM(CX$217:CX$219)>0,$E224*$G224,0)","v":0},null,{"$f":"IF(SUM(CZ$217:CZ$219)>0,$E224*$G224,0)","v":0},null,{"$f":"IF(SUM(DB$217:DB$219)>0,$E224*$G224,0)","v":0},null,{"$f":"IF(SUM(DD$217:DD$219)>0,$E224*$G224,0)","v":0},null,{"$f":"IF(SUM(DF$217:DF$219)>0,$E224*$G224,0)","v":0},null,{"$f":"IF(SUM(DH$217:DH$219)>0,$E224*$G224,0)","v":0},null,{"$f":"IF(SUM(DJ$217:DJ$219)>0,$E224*$G224,0)","v":0},null,{"$f":"IF(SUM(DL$217:DL$219)>0,$E224*$G224,0)","v":0},null,{"$f":"IF(SUM(DN$217:DN$219)>0,$E224*$G224,0)","v":0},null,{"$f":"IF(SUM(DP$217:DP$219)>0,$E224*$G224,0)","v":0},null,{"$f":"IF(SUM(DR$217:DR$219)>0,$E224*$G224,0)","v":0},null,{"$f":"IF(SUM(DT$217:DT$219)>0,$E224*$G224,0)","v":0},null,{"$f":"IF(SUM(DV$217:DV$219)>0,$E224*$G224,0)","v":0},null,{"$f":"IF(SUM(DX$217:DX$219)>0,$E224*$G224,0)","v":0}]
[null,null,3,"Luvas em látex nitrílica, cor verde, antiderrapante na palma e face palmar dos dedos, 45cm de comprimento. Ref.: Kalipso ou similar.",6,"PAR",28.02,null,null,null,0,null,{"$f":"IF(SUM(L$217:L$219)>0,$E225*$G225,0)","v":0},null,{"$f":"IF(SUM(N$217:N$219)>0,$E225*$G225,0)","v":0},null,{"$f":"IF(SUM(P$217:P$219)>0,$E225*$G225,0)","v":0},null,{"$f":"IF(SUM(R$217:R$219)>0,$E225*$G225,0)","v":0},null,{"$f":"IF(SUM(T$217:T$219)>0,$E225*$G225,0)","v":0},null,{"$f":"IF(SUM(V$217:V$219)>0,$E225*$G225,0)","v":0},null,{"$f":"IF(SUM(X$217:X$219)>0,$E225*$G225,0)","v":0},null,{"$f":"IF(SUM(Z$217:Z$219)>0,$E225*$G225,0)","v":0},null,{"$f":"IF(SUM(AB$217:AB$219)>0,$E225*$G225,0)","v":0},null,{"$f":"IF(SUM(AD$217:AD$219)>0,$E225*$G225,0)","v":0},null,{"$f":"IF(SUM(AF$217:AF$219)>0,$E225*$G225,0)","v":0},null,{"$f":"IF(SUM(AH$217:AH$219)>0,$E225*$G225,0)","v":0},null,{"$f":"IF(SUM(AJ$217:AJ$219)>0,$E225*$G225,0)","v":0},null,{"$f":"IF(SUM(AL$217:AL$219)>0,$E225*$G225,0)","v":0},null,{"$f":"IF(SUM(AN$217:AN$219)>0,$E225*$G225,0)","v":0},null,{"$f":"IF(SUM(AP$217:AP$219)>0,$E225*$G225,0)","v":0},null,{"$f":"IF(SUM(AR$217:AR$219)>0,$E225*$G225,0)","v":0},null,{"$f":"IF(SUM(AT$217:AT$219)>0,$E225*$G225,0)","v":0},null,{"$f":"IF(SUM(AV$217:AV$219)>0,$E225*$G225,0)","v":0},null,{"$f":"IF(SUM(AX$217:AX$219)>0,$E225*$G225,0)","v":0},null,{"$f":"IF(SUM(AZ$217:AZ$219)>0,$E225*$G225,0)","v":0},null,{"$f":"IF(SUM(BB$217:BB$219)>0,$E225*$G225,0)","v":0},null,{"$f":"IF(SUM(BD$217:BD$219)>0,$E225*$G225,0)","v":0},null,{"$f":"IF(SUM(BF$217:BF$219)>0,$E225*$G225,0)","v":0},null,{"$f":"IF(SUM(BH$217:BH$219)>0,$E225*$G225,0)","v":0},null,{"$f":"IF(SUM(BJ$217:BJ$219)>0,$E225*$G225,0)","v":0},null,{"$f":"IF(SUM(BL$217:BL$219)>0,$E225*$G225,0)","v":0},null,{"$f":"IF(SUM(BN$217:BN$219)>0,$E225*$G225,0)","v":0},null,{"$f":"IF(SUM(BP$217:BP$219)>0,$E225*$G225,0)","v":0},null,{"$f":"IF(SUM(BR$217:BR$219)>0,$E225*$G225,0)","v":0},null,{"$f":"IF(SUM(BT$217:BT$219)>0,$E225*$G225,0)","v":0},null,{"$f":"IF(SUM(BV$217:BV$219)>0,$E225*$G225,0)","v":0},null,{"$f":"IF(SUM(BX$217:BX$219)>0,$E225*$G225,0)","v":0},null,{"$f":"IF(SUM(BZ$217:BZ$219)>0,$E225*$G225,0)","v":0},null,{"$f":"IF(SUM(CB$217:CB$219)>0,$E225*$G225,0)","v":0},null,{"$f":"IF(SUM(CD$217:CD$219)>0,$E225*$G225,0)","v":0},null,{"$f":"IF(SUM(CF$217:CF$219)>0,$E225*$G225,0)","v":0},null,{"$f":"IF(SUM(CH$217:CH$219)>0,$E225*$G225,0)","v":0},null,{"$f":"IF(SUM(CJ$217:CJ$219)>0,$E225*$G225,0)","v":0},null,{"$f":"IF(SUM(CL$217:CL$219)>0,$E225*$G225,0)","v":0},null,{"$f":"IF(SUM(CN$217:CN$219)>0,$E225*$G225,0)","v":0},null,{"$f":"IF(SUM(CP$217:CP$219)>0,$E225*$G225,0)","v":0},null,{"$f":"IF(SUM(CR$217:CR$219)>0,$E225*$G225,0)","v":0},null,{"$f":"IF(SUM(CT$217:CT$219)>0,$E225*$G225,0)","v":0},null,{"$f":"IF(SUM(CV$217:CV$219)>0,$E225*$G225,0)","v":0},null,{"$f":"IF(SUM(CX$217:CX$219)>0,$E225*$G225,0)","v":0},null,{"$f":"IF(SUM(CZ$217:CZ$219)>0,$E225*$G225,0)","v":0},null,{"$f":"IF(SUM(DB$217:DB$219)>0,$E225*$G225,0)","v":0},null,{"$f":"IF(SUM(DD$217:DD$219)>0,$E225*$G225,0)","v":0},null,{"$f":"IF(SUM(DF$217:DF$219)>0,$E225*$G225,0)","v":0},null,{"$f":"IF(SUM(DH$217:DH$219)>0,$E225*$G225,0)","v":0},null,{"$f":"IF(SUM(DJ$217:DJ$219)>0,$E225*$G225,0)","v":0},null,{"$f":"IF(SUM(DL$217:DL$219)>0,$E225*$G225,0)","v":0},null,{"$f":"IF(SUM(DN$217:DN$219)>0,$E225*$G225,0)","v":0},null,{"$f":"IF(SUM(DP$217:DP$219)>0,$E225*$G225,0)","v":0},null,{"$f":"IF(SUM(DR$217:DR$219)>0,$E225*$G225,0)","v":0},null,{"$f":"IF(SUM(DT$217:DT$219)>0,$E225*$G225,0)","v":0},null,{"$f":"IF(SUM(DV$217:DV$219)>0,$E225*$G225,0)","v":0},null,{"$f":"IF(SUM(DX$217:DX$219)>0,$E225*$G225,0)","v":0}]
[null,null,4,"Respirador purificador de ar tipo, peça semifacial filtrante para partículas (PFF2), com formato dobrável, solda ultra-sônica em todo o seu perímetro. Fita elástica branca fixada nas laterais externas do respirador, perfazendo uma alça na para fixação na parte superior da cabeça e a outra na parte inferior, para fixação na altura da nuca do usuário. A parte superior externa da peça possui tira de material metálico moldável, utilizada para ajuste no septo nasal. Com válvula de exalação. DEVERÁ APRESENTAR O SELO DE APROVAÇÃO DO INMETRO. Ref. 3M.",12,"UND",5.63,null,null,null,0,null,{"$f":"IF(SUM(L$217:L$219)>0,$E226*$G226,0)","v":0},null,{"$f":"IF(SUM(N$217:N$219)>0,$E226*$G226,0)","v":0},null,{"$f":"IF(SUM(P$217:P$219)>0,$E226*$G226,0)","v":0},null,{"$f":"IF(SUM(R$217:R$219)>0,$E226*$G226,0)","v":0},null,{"$f":"IF(SUM(T$217:T$219)>0,$E226*$G226,0)","v":0},null,{"$f":"IF(SUM(V$217:V$219)>0,$E226*$G226,0)","v":0},null,{"$f":"IF(SUM(X$217:X$219)>0,$E226*$G226,0)","v":0},null,{"$f":"IF(SUM(Z$217:Z$219)>0,$E226*$G226,0)","v":0},null,{"$f":"IF(SUM(AB$217:AB$219)>0,$E226*$G226,0)","v":0},null,{"$f":"IF(SUM(AD$217:AD$219)>0,$E226*$G226,0)","v":0},null,{"$f":"IF(SUM(AF$217:AF$219)>0,$E226*$G226,0)","v":0},null,{"$f":"IF(SUM(AH$217:AH$219)>0,$E226*$G226,0)","v":0},null,{"$f":"IF(SUM(AJ$217:AJ$219)>0,$E226*$G226,0)","v":0},null,{"$f":"IF(SUM(AL$217:AL$219)>0,$E226*$G226,0)","v":0},null,{"$f":"IF(SUM(AN$217:AN$219)>0,$E226*$G226,0)","v":0},null,{"$f":"IF(SUM(AP$217:AP$219)>0,$E226*$G226,0)","v":0},null,{"$f":"IF(SUM(AR$217:AR$219)>0,$E226*$G226,0)","v":0},null,{"$f":"IF(SUM(AT$217:AT$219)>0,$E226*$G226,0)","v":0},null,{"$f":"IF(SUM(AV$217:AV$219)>0,$E226*$G226,0)","v":0},null,{"$f":"IF(SUM(AX$217:AX$219)>0,$E226*$G226,0)","v":0},null,{"$f":"IF(SUM(AZ$217:AZ$219)>0,$E226*$G226,0)","v":0},null,{"$f":"IF(SUM(BB$217:BB$219)>0,$E226*$G226,0)","v":0},null,{"$f":"IF(SUM(BD$217:BD$219)>0,$E226*$G226,0)","v":0},null,{"$f":"IF(SUM(BF$217:BF$219)>0,$E226*$G226,0)","v":0},null,{"$f":"IF(SUM(BH$217:BH$219)>0,$E226*$G226,0)","v":0},null,{"$f":"IF(SUM(BJ$217:BJ$219)>0,$E226*$G226,0)","v":0},null,{"$f":"IF(SUM(BL$217:BL$219)>0,$E226*$G226,0)","v":0},null,{"$f":"IF(SUM(BN$217:BN$219)>0,$E226*$G226,0)","v":0},null,{"$f":"IF(SUM(BP$217:BP$219)>0,$E226*$G226,0)","v":0},null,{"$f":"IF(SUM(BR$217:BR$219)>0,$E226*$G226,0)","v":0},null,{"$f":"IF(SUM(BT$217:BT$219)>0,$E226*$G226,0)","v":0},null,{"$f":"IF(SUM(BV$217:BV$219)>0,$E226*$G226,0)","v":0},null,{"$f":"IF(SUM(BX$217:BX$219)>0,$E226*$G226,0)","v":0},null,{"$f":"IF(SUM(BZ$217:BZ$219)>0,$E226*$G226,0)","v":0},null,{"$f":"IF(SUM(CB$217:CB$219)>0,$E226*$G226,0)","v":0},null,{"$f":"IF(SUM(CD$217:CD$219)>0,$E226*$G226,0)","v":0},null,{"$f":"IF(SUM(CF$217:CF$219)>0,$E226*$G226,0)","v":0},null,{"$f":"IF(SUM(CH$217:CH$219)>0,$E226*$G226,0)","v":0},null,{"$f":"IF(SUM(CJ$217:CJ$219)>0,$E226*$G226,0)","v":0},null,{"$f":"IF(SUM(CL$217:CL$219)>0,$E226*$G226,0)","v":0},null,{"$f":"IF(SUM(CN$217:CN$219)>0,$E226*$G226,0)","v":0},null,{"$f":"IF(SUM(CP$217:CP$219)>0,$E226*$G226,0)","v":0},null,{"$f":"IF(SUM(CR$217:CR$219)>0,$E226*$G226,0)","v":0},null,{"$f":"IF(SUM(CT$217:CT$219)>0,$E226*$G226,0)","v":0},null,{"$f":"IF(SUM(CV$217:CV$219)>0,$E226*$G226,0)","v":0},null,{"$f":"IF(SUM(CX$217:CX$219)>0,$E226*$G226,0)","v":0},null,{"$f":"IF(SUM(CZ$217:CZ$219)>0,$E226*$G226,0)","v":0},null,{"$f":"IF(SUM(DB$217:DB$219)>0,$E226*$G226,0)","v":0},null,{"$f":"IF(SUM(DD$217:DD$219)>0,$E226*$G226,0)","v":0},null,{"$f":"IF(SUM(DF$217:DF$219)>0,$E226*$G226,0)","v":0},null,{"$f":"IF(SUM(DH$217:DH$219)>0,$E226*$G226,0)","v":0},null,{"$f":"IF(SUM(DJ$217:DJ$219)>0,$E226*$G226,0)","v":0},null,{"$f":"IF(SUM(DL$217:DL$219)>0,$E226*$G226,0)","v":0},null,{"$f":"IF(SUM(DN$217:DN$219)>0,$E226*$G226,0)","v":0},null,{"$f":"IF(SUM(DP$217:DP$219)>0,$E226*$G226,0)","v":0},null,{"$f":"IF(SUM(DR$217:DR$219)>0,$E226*$G226,0)","v":0},null,{"$f":"IF(SUM(DT$217:DT$219)>0,$E226*$G226,0)","v":0},null,{"$f":"IF(SUM(DV$217:DV$219)>0,$E226*$G226,0)","v":0},null,{"$f":"IF(SUM(DX$217:DX$219)>0,$E226*$G226,0)","v":0}]
[null,null,5,"Bota em PVC, impermeável, forrada internamente, cano médio, resistência ao escorregamento do solado SRC. Cor preta. Ref. MARLUVAS. ",1,"PAR",39.21,null,null,null,0,null,{"$f":"IF(SUM(L$217:L$219)>0,$E227*$G227,0)","v":0},null,{"$f":"IF(SUM(N$217:N$219)>0,$E227*$G227,0)","v":0},null,{"$f":"IF(SUM(P$217:P$219)>0,$E227*$G227,0)","v":0},null,{"$f":"IF(SUM(R$217:R$219)>0,$E227*$G227,0)","v":0},null,{"$f":"IF(SUM(T$217:T$219)>0,$E227*$G227,0)","v":0},null,{"$f":"IF(SUM(V$217:V$219)>0,$E227*$G227,0)","v":0},null,{"$f":"IF(SUM(X$217:X$219)>0,$E227*$G227,0)","v":0},null,{"$f":"IF(SUM(Z$217:Z$219)>0,$E227*$G227,0)","v":0},null,{"$f":"IF(SUM(AB$217:AB$219)>0,$E227*$G227,0)","v":0},null,{"$f":"IF(SUM(AD$217:AD$219)>0,$E227*$G227,0)","v":0},null,{"$f":"IF(SUM(AF$217:AF$219)>0,$E227*$G227,0)","v":0},null,{"$f":"IF(SUM(AH$217:AH$219)>0,$E227*$G227,0)","v":0},null,{"$f":"IF(SUM(AJ$217:AJ$219)>0,$E227*$G227,0)","v":0},null,{"$f":"IF(SUM(AL$217:AL$219)>0,$E227*$G227,0)","v":0},null,{"$f":"IF(SUM(AN$217:AN$219)>0,$E227*$G227,0)","v":0},null,{"$f":"IF(SUM(AP$217:AP$219)>0,$E227*$G227,0)","v":0},null,{"$f":"IF(SUM(AR$217:AR$219)>0,$E227*$G227,0)","v":0},null,{"$f":"IF(SUM(AT$217:AT$219)>0,$E227*$G227,0)","v":0},null,{"$f":"IF(SUM(AV$217:AV$219)>0,$E227*$G227,0)","v":0},null,{"$f":"IF(SUM(AX$217:AX$219)>0,$E227*$G227,0)","v":0},null,{"$f":"IF(SUM(AZ$217:AZ$219)>0,$E227*$G227,0)","v":0},null,{"$f":"IF(SUM(BB$217:BB$219)>0,$E227*$G227,0)","v":0},null,{"$f":"IF(SUM(BD$217:BD$219)>0,$E227*$G227,0)","v":0},null,{"$f":"IF(SUM(BF$217:BF$219)>0,$E227*$G227,0)","v":0},null,{"$f":"IF(SUM(BH$217:BH$219)>0,$E227*$G227,0)","v":0},null,{"$f":"IF(SUM(BJ$217:BJ$219)>0,$E227*$G227,0)","v":0},null,{"$f":"IF(SUM(BL$217:BL$219)>0,$E227*$G227,0)","v":0},null,{"$f":"IF(SUM(BN$217:BN$219)>0,$E227*$G227,0)","v":0},null,{"$f":"IF(SUM(BP$217:BP$219)>0,$E227*$G227,0)","v":0},null,{"$f":"IF(SUM(BR$217:BR$219)>0,$E227*$G227,0)","v":0},null,{"$f":"IF(SUM(BT$217:BT$219)>0,$E227*$G227,0)","v":0},null,{"$f":"IF(SUM(BV$217:BV$219)>0,$E227*$G227,0)","v":0},null,{"$f":"IF(SUM(BX$217:BX$219)>0,$E227*$G227,0)","v":0},null,{"$f":"IF(SUM(BZ$217:BZ$219)>0,$E227*$G227,0)","v":0},null,{"$f":"IF(SUM(CB$217:CB$219)>0,$E227*$G227,0)","v":0},null,{"$f":"IF(SUM(CD$217:CD$219)>0,$E227*$G227,0)","v":0},null,{"$f":"IF(SUM(CF$217:CF$219)>0,$E227*$G227,0)","v":0},null,{"$f":"IF(SUM(CH$217:CH$219)>0,$E227*$G227,0)","v":0},null,{"$f":"IF(SUM(CJ$217:CJ$219)>0,$E227*$G227,0)","v":0},null,{"$f":"IF(SUM(CL$217:CL$219)>0,$E227*$G227,0)","v":0},null,{"$f":"IF(SUM(CN$217:CN$219)>0,$E227*$G227,0)","v":0},null,{"$f":"IF(SUM(CP$217:CP$219)>0,$E227*$G227,0)","v":0},null,{"$f":"IF(SUM(CR$217:CR$219)>0,$E227*$G227,0)","v":0},null,{"$f":"IF(SUM(CT$217:CT$219)>0,$E227*$G227,0)","v":0},null,{"$f":"IF(SUM(CV$217:CV$219)>0,$E227*$G227,0)","v":0},null,{"$f":"IF(SUM(CX$217:CX$219)>0,$E227*$G227,0)","v":0},null,{"$f":"IF(SUM(CZ$217:CZ$219)>0,$E227*$G227,0)","v":0},null,{"$f":"IF(SUM(DB$217:DB$219)>0,$E227*$G227,0)","v":0},null,{"$f":"IF(SUM(DD$217:DD$219)>0,$E227*$G227,0)","v":0},null,{"$f":"IF(SUM(DF$217:DF$219)>0,$E227*$G227,0)","v":0},null,{"$f":"IF(SUM(DH$217:DH$219)>0,$E227*$G227,0)","v":0},null,{"$f":"IF(SUM(DJ$217:DJ$219)>0,$E227*$G227,0)","v":0},null,{"$f":"IF(SUM(DL$217:DL$219)>0,$E227*$G227,0)","v":0},null,{"$f":"IF(SUM(DN$217:DN$219)>0,$E227*$G227,0)","v":0},null,{"$f":"IF(SUM(DP$217:DP$219)>0,$E227*$G227,0)","v":0},null,{"$f":"IF(SUM(DR$217:DR$219)>0,$E227*$G227,0)","v":0},null,{"$f":"IF(SUM(DT$217:DT$219)>0,$E227*$G227,0)","v":0},null,{"$f":"IF(SUM(DV$217:DV$219)>0,$E227*$G227,0)","v":0},null,{"$f":"IF(SUM(DX$217:DX$219)>0,$E227*$G227,0)","v":0}]
[null,null,6,"Óculos de segurança constituídos de armação e visor confeccionados em uma única peça de policarbonato CINZA, anti-risco, apoio nasal de plástico maleável ou elastômero. Hastes tipo espátula confeccionadas de material plástico, com acabamento emborrachado, articuladas através de parafusos metálicos. Resistente a alto impacto, devendo apresentar a marcação na lente em conformidade com a norma ANSI/ISEA Z87.1-2015. Ref.: 3M, modelo Securefit 400.",1,"UND",53.65,null,null,null,0,null,{"$f":"IF(SUM(L$217:L$219)>0,$E228*$G228,0)","v":0},null,{"$f":"IF(SUM(N$217:N$219)>0,$E228*$G228,0)","v":0},null,{"$f":"IF(SUM(P$217:P$219)>0,$E228*$G228,0)","v":0},null,{"$f":"IF(SUM(R$217:R$219)>0,$E228*$G228,0)","v":0},null,{"$f":"IF(SUM(T$217:T$219)>0,$E228*$G228,0)","v":0},null,{"$f":"IF(SUM(V$217:V$219)>0,$E228*$G228,0)","v":0},null,{"$f":"IF(SUM(X$217:X$219)>0,$E228*$G228,0)","v":0},null,{"$f":"IF(SUM(Z$217:Z$219)>0,$E228*$G228,0)","v":0},null,{"$f":"IF(SUM(AB$217:AB$219)>0,$E228*$G228,0)","v":0},null,{"$f":"IF(SUM(AD$217:AD$219)>0,$E228*$G228,0)","v":0},null,{"$f":"IF(SUM(AF$217:AF$219)>0,$E228*$G228,0)","v":0},null,{"$f":"IF(SUM(AH$217:AH$219)>0,$E228*$G228,0)","v":0},null,{"$f":"IF(SUM(AJ$217:AJ$219)>0,$E228*$G228,0)","v":0},null,{"$f":"IF(SUM(AL$217:AL$219)>0,$E228*$G228,0)","v":0},null,{"$f":"IF(SUM(AN$217:AN$219)>0,$E228*$G228,0)","v":0},null,{"$f":"IF(SUM(AP$217:AP$219)>0,$E228*$G228,0)","v":0},null,{"$f":"IF(SUM(AR$217:AR$219)>0,$E228*$G228,0)","v":0},null,{"$f":"IF(SUM(AT$217:AT$219)>0,$E228*$G228,0)","v":0},null,{"$f":"IF(SUM(AV$217:AV$219)>0,$E228*$G228,0)","v":0},null,{"$f":"IF(SUM(AX$217:AX$219)>0,$E228*$G228,0)","v":0},null,{"$f":"IF(SUM(AZ$217:AZ$219)>0,$E228*$G228,0)","v":0},null,{"$f":"IF(SUM(BB$217:BB$219)>0,$E228*$G228,0)","v":0},null,{"$f":"IF(SUM(BD$217:BD$219)>0,$E228*$G228,0)","v":0},null,{"$f":"IF(SUM(BF$217:BF$219)>0,$E228*$G228,0)","v":0},null,{"$f":"IF(SUM(BH$217:BH$219)>0,$E228*$G228,0)","v":0},null,{"$f":"IF(SUM(BJ$217:BJ$219)>0,$E228*$G228,0)","v":0},null,{"$f":"IF(SUM(BL$217:BL$219)>0,$E228*$G228,0)","v":0},null,{"$f":"IF(SUM(BN$217:BN$219)>0,$E228*$G228,0)","v":0},null,{"$f":"IF(SUM(BP$217:BP$219)>0,$E228*$G228,0)","v":0},null,{"$f":"IF(SUM(BR$217:BR$219)>0,$E228*$G228,0)","v":0},null,{"$f":"IF(SUM(BT$217:BT$219)>0,$E228*$G228,0)","v":0},null,{"$f":"IF(SUM(BV$217:BV$219)>0,$E228*$G228,0)","v":0},null,{"$f":"IF(SUM(BX$217:BX$219)>0,$E228*$G228,0)","v":0},null,{"$f":"IF(SUM(BZ$217:BZ$219)>0,$E228*$G228,0)","v":0},null,{"$f":"IF(SUM(CB$217:CB$219)>0,$E228*$G228,0)","v":0},null,{"$f":"IF(SUM(CD$217:CD$219)>0,$E228*$G228,0)","v":0},null,{"$f":"IF(SUM(CF$217:CF$219)>0,$E228*$G228,0)","v":0},null,{"$f":"IF(SUM(CH$217:CH$219)>0,$E228*$G228,0)","v":0},null,{"$f":"IF(SUM(CJ$217:CJ$219)>0,$E228*$G228,0)","v":0},null,{"$f":"IF(SUM(CL$217:CL$219)>0,$E228*$G228,0)","v":0},null,{"$f":"IF(SUM(CN$217:CN$219)>0,$E228*$G228,0)","v":0},null,{"$f":"IF(SUM(CP$217:CP$219)>0,$E228*$G228,0)","v":0},null,{"$f":"IF(SUM(CR$217:CR$219)>0,$E228*$G228,0)","v":0},null,{"$f":"IF(SUM(CT$217:CT$219)>0,$E228*$G228,0)","v":0},null,{"$f":"IF(SUM(CV$217:CV$219)>0,$E228*$G228,0)","v":0},null,{"$f":"IF(SUM(CX$217:CX$219)>0,$E228*$G228,0)","v":0},null,{"$f":"IF(SUM(CZ$217:CZ$219)>0,$E228*$G228,0)","v":0},null,{"$f":"IF(SUM(DB$217:DB$219)>0,$E228*$G228,0)","v":0},null,{"$f":"IF(SUM(DD$217:DD$219)>0,$E228*$G228,0)","v":0},null,{"$f":"IF(SUM(DF$217:DF$219)>0,$E228*$G228,0)","v":0},null,{"$f":"IF(SUM(DH$217:DH$219)>0,$E228*$G228,0)","v":0},null,{"$f":"IF(SUM(DJ$217:DJ$219)>0,$E228*$G228,0)","v":0},null,{"$f":"IF(SUM(DL$217:DL$219)>0,$E228*$G228,0)","v":0},null,{"$f":"IF(SUM(DN$217:DN$219)>0,$E228*$G228,0)","v":0},null,{"$f":"IF(SUM(DP$217:DP$219)>0,$E228*$G228,0)","v":0},null,{"$f":"IF(SUM(DR$217:DR$219)>0,$E228*$G228,0)","v":0},null,{"$f":"IF(SUM(DT$217:DT$219)>0,$E228*$G228,0)","v":0},null,{"$f":"IF(SUM(DV$217:DV$219)>0,$E228*$G228,0)","v":0},null,{"$f":"IF(SUM(DX$217:DX$219)>0,$E228*$G228,0)","v":0}]
[null,null,7,"Óculos de segurança constituídos de armação e visor confeccionados em uma única peça de policarbonato INCOLOR, anti-risco, apoio nasal de plástico maleável ou elastômero. Hastes tipo espátula confeccionadas de material plástico, com acabamento emborrachado, articuladas através de parafusos metálicos. Resistente a alto impacto, devendo apresentar a marcação na lente em conformidade com a norma ANSI/ISEA Z87.1-2015. Ref.: 3M, modelo Securefit 400.",4,"UND",53.55,null,null,null,0,null,{"$f":"IF(SUM(L$217:L$219)>0,$E229*$G229,0)","v":0},null,{"$f":"IF(SUM(N$217:N$219)>0,$E229*$G229,0)","v":0},null,{"$f":"IF(SUM(P$217:P$219)>0,$E229*$G229,0)","v":0},null,{"$f":"IF(SUM(R$217:R$219)>0,$E229*$G229,0)","v":0},null,{"$f":"IF(SUM(T$217:T$219)>0,$E229*$G229,0)","v":0},null,{"$f":"IF(SUM(V$217:V$219)>0,$E229*$G229,0)","v":0},null,{"$f":"IF(SUM(X$217:X$219)>0,$E229*$G229,0)","v":0},null,{"$f":"IF(SUM(Z$217:Z$219)>0,$E229*$G229,0)","v":0},null,{"$f":"IF(SUM(AB$217:AB$219)>0,$E229*$G229,0)","v":0},null,{"$f":"IF(SUM(AD$217:AD$219)>0,$E229*$G229,0)","v":0},null,{"$f":"IF(SUM(AF$217:AF$219)>0,$E229*$G229,0)","v":0},null,{"$f":"IF(SUM(AH$217:AH$219)>0,$E229*$G229,0)","v":0},null,{"$f":"IF(SUM(AJ$217:AJ$219)>0,$E229*$G229,0)","v":0},null,{"$f":"IF(SUM(AL$217:AL$219)>0,$E229*$G229,0)","v":0},null,{"$f":"IF(SUM(AN$217:AN$219)>0,$E229*$G229,0)","v":0},null,{"$f":"IF(SUM(AP$217:AP$219)>0,$E229*$G229,0)","v":0},null,{"$f":"IF(SUM(AR$217:AR$219)>0,$E229*$G229,0)","v":0},null,{"$f":"IF(SUM(AT$217:AT$219)>0,$E229*$G229,0)","v":0},null,{"$f":"IF(SUM(AV$217:AV$219)>0,$E229*$G229,0)","v":0},null,{"$f":"IF(SUM(AX$217:AX$219)>0,$E229*$G229,0)","v":0},null,{"$f":"IF(SUM(AZ$217:AZ$219)>0,$E229*$G229,0)","v":0},null,{"$f":"IF(SUM(BB$217:BB$219)>0,$E229*$G229,0)","v":0},null,{"$f":"IF(SUM(BD$217:BD$219)>0,$E229*$G229,0)","v":0},null,{"$f":"IF(SUM(BF$217:BF$219)>0,$E229*$G229,0)","v":0},null,{"$f":"IF(SUM(BH$217:BH$219)>0,$E229*$G229,0)","v":0},null,{"$f":"IF(SUM(BJ$217:BJ$219)>0,$E229*$G229,0)","v":0},null,{"$f":"IF(SUM(BL$217:BL$219)>0,$E229*$G229,0)","v":0},null,{"$f":"IF(SUM(BN$217:BN$219)>0,$E229*$G229,0)","v":0},null,{"$f":"IF(SUM(BP$217:BP$219)>0,$E229*$G229,0)","v":0},null,{"$f":"IF(SUM(BR$217:BR$219)>0,$E229*$G229,0)","v":0},null,{"$f":"IF(SUM(BT$217:BT$219)>0,$E229*$G229,0)","v":0},null,{"$f":"IF(SUM(BV$217:BV$219)>0,$E229*$G229,0)","v":0},null,{"$f":"IF(SUM(BX$217:BX$219)>0,$E229*$G229,0)","v":0},null,{"$f":"IF(SUM(BZ$217:BZ$219)>0,$E229*$G229,0)","v":0},null,{"$f":"IF(SUM(CB$217:CB$219)>0,$E229*$G229,0)","v":0},null,{"$f":"IF(SUM(CD$217:CD$219)>0,$E229*$G229,0)","v":0},null,{"$f":"IF(SUM(CF$217:CF$219)>0,$E229*$G229,0)","v":0},null,{"$f":"IF(SUM(CH$217:CH$219)>0,$E229*$G229,0)","v":0},null,{"$f":"IF(SUM(CJ$217:CJ$219)>0,$E229*$G229,0)","v":0},null,{"$f":"IF(SUM(CL$217:CL$219)>0,$E229*$G229,0)","v":0},null,{"$f":"IF(SUM(CN$217:CN$219)>0,$E229*$G229,0)","v":0},null,{"$f":"IF(SUM(CP$217:CP$219)>0,$E229*$G229,0)","v":0},null,{"$f":"IF(SUM(CR$217:CR$219)>0,$E229*$G229,0)","v":0},null,{"$f":"IF(SUM(CT$217:CT$219)>0,$E229*$G229,0)","v":0},null,{"$f":"IF(SUM(CV$217:CV$219)>0,$E229*$G229,0)","v":0},null,{"$f":"IF(SUM(CX$217:CX$219)>0,$E229*$G229,0)","v":0},null,{"$f":"IF(SUM(CZ$217:CZ$219)>0,$E229*$G229,0)","v":0},null,{"$f":"IF(SUM(DB$217:DB$219)>0,$E229*$G229,0)","v":0},null,{"$f":"IF(SUM(DD$217:DD$219)>0,$E229*$G229,0)","v":0},null,{"$f":"IF(SUM(DF$217:DF$219)>0,$E229*$G229,0)","v":0},null,{"$f":"IF(SUM(DH$217:DH$219)>0,$E229*$G229,0)","v":0},null,{"$f":"IF(SUM(DJ$217:DJ$219)>0,$E229*$G229,0)","v":0},null,{"$f":"IF(SUM(DL$217:DL$219)>0,$E229*$G229,0)","v":0},null,{"$f":"IF(SUM(DN$217:DN$219)>0,$E229*$G229,0)","v":0},null,{"$f":"IF(SUM(DP$217:DP$219)>0,$E229*$G229,0)","v":0},null,{"$f":"IF(SUM(DR$217:DR$219)>0,$E229*$G229,0)","v":0},null,{"$f":"IF(SUM(DT$217:DT$219)>0,$E229*$G229,0)","v":0},null,{"$f":"IF(SUM(DV$217:DV$219)>0,$E229*$G229,0)","v":0},null,{"$f":"IF(SUM(DX$217:DX$219)>0,$E229*$G229,0)","v":0}]
[null,null,8,"Protetor auditivo, do tipo inserção pré-moldado, de silicone, lavável, com cordão e tamanho único,  com proteção mínima de 18 dB(A) de atenuação pelo método NRRsf. Ref: 3M",2,"UND",4.1500000000000004,null,null,null,0,null,{"$f":"IF(SUM(L$217:L$219)>0,$E230*$G230,0)","v":0},null,{"$f":"IF(SUM(N$217:N$219)>0,$E230*$G230,0)","v":0},null,{"$f":"IF(SUM(P$217:P$219)>0,$E230*$G230,0)","v":0},null,{"$f":"IF(SUM(R$217:R$219)>0,$E230*$G230,0)","v":0},null,{"$f":"IF(SUM(T$217:T$219)>0,$E230*$G230,0)","v":0},null,{"$f":"IF(SUM(V$217:V$219)>0,$E230*$G230,0)","v":0},null,{"$f":"IF(SUM(X$217:X$219)>0,$E230*$G230,0)","v":0},null,{"$f":"IF(SUM(Z$217:Z$219)>0,$E230*$G230,0)","v":0},null,{"$f":"IF(SUM(AB$217:AB$219)>0,$E230*$G230,0)","v":0},null,{"$f":"IF(SUM(AD$217:AD$219)>0,$E230*$G230,0)","v":0},null,{"$f":"IF(SUM(AF$217:AF$219)>0,$E230*$G230,0)","v":0},null,{"$f":"IF(SUM(AH$217:AH$219)>0,$E230*$G230,0)","v":0},null,{"$f":"IF(SUM(AJ$217:AJ$219)>0,$E230*$G230,0)","v":0},null,{"$f":"IF(SUM(AL$217:AL$219)>0,$E230*$G230,0)","v":0},null,{"$f":"IF(SUM(AN$217:AN$219)>0,$E230*$G230,0)","v":0},null,{"$f":"IF(SUM(AP$217:AP$219)>0,$E230*$G230,0)","v":0},null,{"$f":"IF(SUM(AR$217:AR$219)>0,$E230*$G230,0)","v":0},null,{"$f":"IF(SUM(AT$217:AT$219)>0,$E230*$G230,0)","v":0},null,{"$f":"IF(SUM(AV$217:AV$219)>0,$E230*$G230,0)","v":0},null,{"$f":"IF(SUM(AX$217:AX$219)>0,$E230*$G230,0)","v":0},null,{"$f":"IF(SUM(AZ$217:AZ$219)>0,$E230*$G230,0)","v":0},null,{"$f":"IF(SUM(BB$217:BB$219)>0,$E230*$G230,0)","v":0},null,{"$f":"IF(SUM(BD$217:BD$219)>0,$E230*$G230,0)","v":0},null,{"$f":"IF(SUM(BF$217:BF$219)>0,$E230*$G230,0)","v":0},null,{"$f":"IF(SUM(BH$217:BH$219)>0,$E230*$G230,0)","v":0},null,{"$f":"IF(SUM(BJ$217:BJ$219)>0,$E230*$G230,0)","v":0},null,{"$f":"IF(SUM(BL$217:BL$219)>0,$E230*$G230,0)","v":0},null,{"$f":"IF(SUM(BN$217:BN$219)>0,$E230*$G230,0)","v":0},null,{"$f":"IF(SUM(BP$217:BP$219)>0,$E230*$G230,0)","v":0},null,{"$f":"IF(SUM(BR$217:BR$219)>0,$E230*$G230,0)","v":0},null,{"$f":"IF(SUM(BT$217:BT$219)>0,$E230*$G230,0)","v":0},null,{"$f":"IF(SUM(BV$217:BV$219)>0,$E230*$G230,0)","v":0},null,{"$f":"IF(SUM(BX$217:BX$219)>0,$E230*$G230,0)","v":0},null,{"$f":"IF(SUM(BZ$217:BZ$219)>0,$E230*$G230,0)","v":0},null,{"$f":"IF(SUM(CB$217:CB$219)>0,$E230*$G230,0)","v":0},null,{"$f":"IF(SUM(CD$217:CD$219)>0,$E230*$G230,0)","v":0},null,{"$f":"IF(SUM(CF$217:CF$219)>0,$E230*$G230,0)","v":0},null,{"$f":"IF(SUM(CH$217:CH$219)>0,$E230*$G230,0)","v":0},null,{"$f":"IF(SUM(CJ$217:CJ$219)>0,$E230*$G230,0)","v":0},null,{"$f":"IF(SUM(CL$217:CL$219)>0,$E230*$G230,0)","v":0},null,{"$f":"IF(SUM(CN$217:CN$219)>0,$E230*$G230,0)","v":0},null,{"$f":"IF(SUM(CP$217:CP$219)>0,$E230*$G230,0)","v":0},null,{"$f":"IF(SUM(CR$217:CR$219)>0,$E230*$G230,0)","v":0},null,{"$f":"IF(SUM(CT$217:CT$219)>0,$E230*$G230,0)","v":0},null,{"$f":"IF(SUM(CV$217:CV$219)>0,$E230*$G230,0)","v":0},null,{"$f":"IF(SUM(CX$217:CX$219)>0,$E230*$G230,0)","v":0},null,{"$f":"IF(SUM(CZ$217:CZ$219)>0,$E230*$G230,0)","v":0},null,{"$f":"IF(SUM(DB$217:DB$219)>0,$E230*$G230,0)","v":0},null,{"$f":"IF(SUM(DD$217:DD$219)>0,$E230*$G230,0)","v":0},null,{"$f":"IF(SUM(DF$217:DF$219)>0,$E230*$G230,0)","v":0},null,{"$f":"IF(SUM(DH$217:DH$219)>0,$E230*$G230,0)","v":0},null,{"$f":"IF(SUM(DJ$217:DJ$219)>0,$E230*$G230,0)","v":0},null,{"$f":"IF(SUM(DL$217:DL$219)>0,$E230*$G230,0)","v":0},null,{"$f":"IF(SUM(DN$217:DN$219)>0,$E230*$G230,0)","v":0},null,{"$f":"IF(SUM(DP$217:DP$219)>0,$E230*$G230,0)","v":0},null,{"$f":"IF(SUM(DR$217:DR$219)>0,$E230*$G230,0)","v":0},null,{"$f":"IF(SUM(DT$217:DT$219)>0,$E230*$G230,0)","v":0},null,{"$f":"IF(SUM(DV$217:DV$219)>0,$E230*$G230,0)","v":0},null,{"$f":"IF(SUM(DX$217:DX$219)>0,$E230*$G230,0)","v":0}]
[null,null,9,"Camisa com proteção solar.  CARACTERÍSTICAS: Camisa manga longa. Gola redonda ou careca. Proteção permanente (não sai após as lavagens). Fator de proteção UV mínimo FPU 45+ (mínimo de 90% de bloqueio dos raios UVA e UVB). Tecido em Poliéster ou poliamida (sem elastano). Secagem Rápida. Tecnologia Dry (Fácil dispersão de suor). Cor: branco, bege, vermelho ou cinza claro. UNIDADE: UNID.  Tamanhos: serão aferidos quando da contratação. Ref.: NovaStreet, Shop-Vision",2,"UND",86.6,null,null,null,0,null,{"$f":"IF(SUM(L$217:L$219)>0,$E231*$G231,0)","v":0},null,{"$f":"IF(SUM(N$217:N$219)>0,$E231*$G231,0)","v":0},null,{"$f":"IF(SUM(P$217:P$219)>0,$E231*$G231,0)","v":0},null,{"$f":"IF(SUM(R$217:R$219)>0,$E231*$G231,0)","v":0},null,{"$f":"IF(SUM(T$217:T$219)>0,$E231*$G231,0)","v":0},null,{"$f":"IF(SUM(V$217:V$219)>0,$E231*$G231,0)","v":0},null,{"$f":"IF(SUM(X$217:X$219)>0,$E231*$G231,0)","v":0},null,{"$f":"IF(SUM(Z$217:Z$219)>0,$E231*$G231,0)","v":0},null,{"$f":"IF(SUM(AB$217:AB$219)>0,$E231*$G231,0)","v":0},null,{"$f":"IF(SUM(AD$217:AD$219)>0,$E231*$G231,0)","v":0},null,{"$f":"IF(SUM(AF$217:AF$219)>0,$E231*$G231,0)","v":0},null,{"$f":"IF(SUM(AH$217:AH$219)>0,$E231*$G231,0)","v":0},null,{"$f":"IF(SUM(AJ$217:AJ$219)>0,$E231*$G231,0)","v":0},null,{"$f":"IF(SUM(AL$217:AL$219)>0,$E231*$G231,0)","v":0},null,{"$f":"IF(SUM(AN$217:AN$219)>0,$E231*$G231,0)","v":0},null,{"$f":"IF(SUM(AP$217:AP$219)>0,$E231*$G231,0)","v":0},null,{"$f":"IF(SUM(AR$217:AR$219)>0,$E231*$G231,0)","v":0},null,{"$f":"IF(SUM(AT$217:AT$219)>0,$E231*$G231,0)","v":0},null,{"$f":"IF(SUM(AV$217:AV$219)>0,$E231*$G231,0)","v":0},null,{"$f":"IF(SUM(AX$217:AX$219)>0,$E231*$G231,0)","v":0},null,{"$f":"IF(SUM(AZ$217:AZ$219)>0,$E231*$G231,0)","v":0},null,{"$f":"IF(SUM(BB$217:BB$219)>0,$E231*$G231,0)","v":0},null,{"$f":"IF(SUM(BD$217:BD$219)>0,$E231*$G231,0)","v":0},null,{"$f":"IF(SUM(BF$217:BF$219)>0,$E231*$G231,0)","v":0},null,{"$f":"IF(SUM(BH$217:BH$219)>0,$E231*$G231,0)","v":0},null,{"$f":"IF(SUM(BJ$217:BJ$219)>0,$E231*$G231,0)","v":0},null,{"$f":"IF(SUM(BL$217:BL$219)>0,$E231*$G231,0)","v":0},null,{"$f":"IF(SUM(BN$217:BN$219)>0,$E231*$G231,0)","v":0},null,{"$f":"IF(SUM(BP$217:BP$219)>0,$E231*$G231,0)","v":0},null,{"$f":"IF(SUM(BR$217:BR$219)>0,$E231*$G231,0)","v":0},null,{"$f":"IF(SUM(BT$217:BT$219)>0,$E231*$G231,0)","v":0},null,{"$f":"IF(SUM(BV$217:BV$219)>0,$E231*$G231,0)","v":0},null,{"$f":"IF(SUM(BX$217:BX$219)>0,$E231*$G231,0)","v":0},null,{"$f":"IF(SUM(BZ$217:BZ$219)>0,$E231*$G231,0)","v":0},null,{"$f":"IF(SUM(CB$217:CB$219)>0,$E231*$G231,0)","v":0},null,{"$f":"IF(SUM(CD$217:CD$219)>0,$E231*$G231,0)","v":0},null,{"$f":"IF(SUM(CF$217:CF$219)>0,$E231*$G231,0)","v":0},null,{"$f":"IF(SUM(CH$217:CH$219)>0,$E231*$G231,0)","v":0},null,{"$f":"IF(SUM(CJ$217:CJ$219)>0,$E231*$G231,0)","v":0},null,{"$f":"IF(SUM(CL$217:CL$219)>0,$E231*$G231,0)","v":0},null,{"$f":"IF(SUM(CN$217:CN$219)>0,$E231*$G231,0)","v":0},null,{"$f":"IF(SUM(CP$217:CP$219)>0,$E231*$G231,0)","v":0},null,{"$f":"IF(SUM(CR$217:CR$219)>0,$E231*$G231,0)","v":0},null,{"$f":"IF(SUM(CT$217:CT$219)>0,$E231*$G231,0)","v":0},null,{"$f":"IF(SUM(CV$217:CV$219)>0,$E231*$G231,0)","v":0},null,{"$f":"IF(SUM(CX$217:CX$219)>0,$E231*$G231,0)","v":0},null,{"$f":"IF(SUM(CZ$217:CZ$219)>0,$E231*$G231,0)","v":0},null,{"$f":"IF(SUM(DB$217:DB$219)>0,$E231*$G231,0)","v":0},null,{"$f":"IF(SUM(DD$217:DD$219)>0,$E231*$G231,0)","v":0},null,{"$f":"IF(SUM(DF$217:DF$219)>0,$E231*$G231,0)","v":0},null,{"$f":"IF(SUM(DH$217:DH$219)>0,$E231*$G231,0)","v":0},null,{"$f":"IF(SUM(DJ$217:DJ$219)>0,$E231*$G231,0)","v":0},null,{"$f":"IF(SUM(DL$217:DL$219)>0,$E231*$G231,0)","v":0},null,{"$f":"IF(SUM(DN$217:DN$219)>0,$E231*$G231,0)","v":0},null,{"$f":"IF(SUM(DP$217:DP$219)>0,$E231*$G231,0)","v":0},null,{"$f":"IF(SUM(DR$217:DR$219)>0,$E231*$G231,0)","v":0},null,{"$f":"IF(SUM(DT$217:DT$219)>0,$E231*$G231,0)","v":0},null,{"$f":"IF(SUM(DV$217:DV$219)>0,$E231*$G231,0)","v":0},null,{"$f":"IF(SUM(DX$217:DX$219)>0,$E231*$G231,0)","v":0}]
[null,null,10,"Boné tipo Árabe confeccionado em helanca com viés na aba, elástico interno traseiro para ajuste de tamanho, fechamento da saia em velcro. MARCA(S) DE REFERÊNCIA: Nexus",1,"UND",12.63,null,null,null,0,null,{"$f":"IF(SUM(L$217:L$219)>0,$E232*$G232,0)","v":0},null,{"$f":"IF(SUM(N$217:N$219)>0,$E232*$G232,0)","v":0},null,{"$f":"IF(SUM(P$217:P$219)>0,$E232*$G232,0)","v":0},null,{"$f":"IF(SUM(R$217:R$219)>0,$E232*$G232,0)","v":0},null,{"$f":"IF(SUM(T$217:T$219)>0,$E232*$G232,0)","v":0},null,{"$f":"IF(SUM(V$217:V$219)>0,$E232*$G232,0)","v":0},null,{"$f":"IF(SUM(X$217:X$219)>0,$E232*$G232,0)","v":0},null,{"$f":"IF(SUM(Z$217:Z$219)>0,$E232*$G232,0)","v":0},null,{"$f":"IF(SUM(AB$217:AB$219)>0,$E232*$G232,0)","v":0},null,{"$f":"IF(SUM(AD$217:AD$219)>0,$E232*$G232,0)","v":0},null,{"$f":"IF(SUM(AF$217:AF$219)>0,$E232*$G232,0)","v":0},null,{"$f":"IF(SUM(AH$217:AH$219)>0,$E232*$G232,0)","v":0},null,{"$f":"IF(SUM(AJ$217:AJ$219)>0,$E232*$G232,0)","v":0},null,{"$f":"IF(SUM(AL$217:AL$219)>0,$E232*$G232,0)","v":0},null,{"$f":"IF(SUM(AN$217:AN$219)>0,$E232*$G232,0)","v":0},null,{"$f":"IF(SUM(AP$217:AP$219)>0,$E232*$G232,0)","v":0},null,{"$f":"IF(SUM(AR$217:AR$219)>0,$E232*$G232,0)","v":0},null,{"$f":"IF(SUM(AT$217:AT$219)>0,$E232*$G232,0)","v":0},null,{"$f":"IF(SUM(AV$217:AV$219)>0,$E232*$G232,0)","v":0},null,{"$f":"IF(SUM(AX$217:AX$219)>0,$E232*$G232,0)","v":0},null,{"$f":"IF(SUM(AZ$217:AZ$219)>0,$E232*$G232,0)","v":0},null,{"$f":"IF(SUM(BB$217:BB$219)>0,$E232*$G232,0)","v":0},null,{"$f":"IF(SUM(BD$217:BD$219)>0,$E232*$G232,0)","v":0},null,{"$f":"IF(SUM(BF$217:BF$219)>0,$E232*$G232,0)","v":0},null,{"$f":"IF(SUM(BH$217:BH$219)>0,$E232*$G232,0)","v":0},null,{"$f":"IF(SUM(BJ$217:BJ$219)>0,$E232*$G232,0)","v":0},null,{"$f":"IF(SUM(BL$217:BL$219)>0,$E232*$G232,0)","v":0},null,{"$f":"IF(SUM(BN$217:BN$219)>0,$E232*$G232,0)","v":0},null,{"$f":"IF(SUM(BP$217:BP$219)>0,$E232*$G232,0)","v":0},null,{"$f":"IF(SUM(BR$217:BR$219)>0,$E232*$G232,0)","v":0},null,{"$f":"IF(SUM(BT$217:BT$219)>0,$E232*$G232,0)","v":0},null,{"$f":"IF(SUM(BV$217:BV$219)>0,$E232*$G232,0)","v":0},null,{"$f":"IF(SUM(BX$217:BX$219)>0,$E232*$G232,0)","v":0},null,{"$f":"IF(SUM(BZ$217:BZ$219)>0,$E232*$G232,0)","v":0},null,{"$f":"IF(SUM(CB$217:CB$219)>0,$E232*$G232,0)","v":0},null,{"$f":"IF(SUM(CD$217:CD$219)>0,$E232*$G232,0)","v":0},null,{"$f":"IF(SUM(CF$217:CF$219)>0,$E232*$G232,0)","v":0},null,{"$f":"IF(SUM(CH$217:CH$219)>0,$E232*$G232,0)","v":0},null,{"$f":"IF(SUM(CJ$217:CJ$219)>0,$E232*$G232,0)","v":0},null,{"$f":"IF(SUM(CL$217:CL$219)>0,$E232*$G232,0)","v":0},null,{"$f":"IF(SUM(CN$217:CN$219)>0,$E232*$G232,0)","v":0},null,{"$f":"IF(SUM(CP$217:CP$219)>0,$E232*$G232,0)","v":0},null,{"$f":"IF(SUM(CR$217:CR$219)>0,$E232*$G232,0)","v":0},null,{"$f":"IF(SUM(CT$217:CT$219)>0,$E232*$G232,0)","v":0},null,{"$f":"IF(SUM(CV$217:CV$219)>0,$E232*$G232,0)","v":0},null,{"$f":"IF(SUM(CX$217:CX$219)>0,$E232*$G232,0)","v":0},null,{"$f":"IF(SUM(CZ$217:CZ$219)>0,$E232*$G232,0)","v":0},null,{"$f":"IF(SUM(DB$217:DB$219)>0,$E232*$G232,0)","v":0},null,{"$f":"IF(SUM(DD$217:DD$219)>0,$E232*$G232,0)","v":0},null,{"$f":"IF(SUM(DF$217:DF$219)>0,$E232*$G232,0)","v":0},null,{"$f":"IF(SUM(DH$217:DH$219)>0,$E232*$G232,0)","v":0},null,{"$f":"IF(SUM(DJ$217:DJ$219)>0,$E232*$G232,0)","v":0},null,{"$f":"IF(SUM(DL$217:DL$219)>0,$E232*$G232,0)","v":0},null,{"$f":"IF(SUM(DN$217:DN$219)>0,$E232*$G232,0)","v":0},null,{"$f":"IF(SUM(DP$217:DP$219)>0,$E232*$G232,0)","v":0},null,{"$f":"IF(SUM(DR$217:DR$219)>0,$E232*$G232,0)","v":0},null,{"$f":"IF(SUM(DT$217:DT$219)>0,$E232*$G232,0)","v":0},null,{"$f":"IF(SUM(DV$217:DV$219)>0,$E232*$G232,0)","v":0},null,{"$f":"IF(SUM(DX$217:DX$219)>0,$E232*$G232,0)","v":0}]
[null,null,11,"Vestimenta tipo capa (para chuva), confeccionada em PVC forrada em poliéster, fechamento frontal com botões plásticos de pressão, costuras através de solda eletrônica, com mangas e capuz, comprimento mínimo 1,15m. ref. CARBOGRAFITE",1,"UND",45.31,null,null,null,0,null,{"$f":"IF(SUM(L$217:L$219)>0,$E233*$G233,0)","v":0},null,{"$f":"IF(SUM(N$217:N$219)>0,$E233*$G233,0)","v":0},null,{"$f":"IF(SUM(P$217:P$219)>0,$E233*$G233,0)","v":0},null,{"$f":"IF(SUM(R$217:R$219)>0,$E233*$G233,0)","v":0},null,{"$f":"IF(SUM(T$217:T$219)>0,$E233*$G233,0)","v":0},null,{"$f":"IF(SUM(V$217:V$219)>0,$E233*$G233,0)","v":0},null,{"$f":"IF(SUM(X$217:X$219)>0,$E233*$G233,0)","v":0},null,{"$f":"IF(SUM(Z$217:Z$219)>0,$E233*$G233,0)","v":0},null,{"$f":"IF(SUM(AB$217:AB$219)>0,$E233*$G233,0)","v":0},null,{"$f":"IF(SUM(AD$217:AD$219)>0,$E233*$G233,0)","v":0},null,{"$f":"IF(SUM(AF$217:AF$219)>0,$E233*$G233,0)","v":0},null,{"$f":"IF(SUM(AH$217:AH$219)>0,$E233*$G233,0)","v":0},null,{"$f":"IF(SUM(AJ$217:AJ$219)>0,$E233*$G233,0)","v":0},null,{"$f":"IF(SUM(AL$217:AL$219)>0,$E233*$G233,0)","v":0},null,{"$f":"IF(SUM(AN$217:AN$219)>0,$E233*$G233,0)","v":0},null,{"$f":"IF(SUM(AP$217:AP$219)>0,$E233*$G233,0)","v":0},null,{"$f":"IF(SUM(AR$217:AR$219)>0,$E233*$G233,0)","v":0},null,{"$f":"IF(SUM(AT$217:AT$219)>0,$E233*$G233,0)","v":0},null,{"$f":"IF(SUM(AV$217:AV$219)>0,$E233*$G233,0)","v":0},null,{"$f":"IF(SUM(AX$217:AX$219)>0,$E233*$G233,0)","v":0},null,{"$f":"IF(SUM(AZ$217:AZ$219)>0,$E233*$G233,0)","v":0},null,{"$f":"IF(SUM(BB$217:BB$219)>0,$E233*$G233,0)","v":0},null,{"$f":"IF(SUM(BD$217:BD$219)>0,$E233*$G233,0)","v":0},null,{"$f":"IF(SUM(BF$217:BF$219)>0,$E233*$G233,0)","v":0},null,{"$f":"IF(SUM(BH$217:BH$219)>0,$E233*$G233,0)","v":0},null,{"$f":"IF(SUM(BJ$217:BJ$219)>0,$E233*$G233,0)","v":0},null,{"$f":"IF(SUM(BL$217:BL$219)>0,$E233*$G233,0)","v":0},null,{"$f":"IF(SUM(BN$217:BN$219)>0,$E233*$G233,0)","v":0},null,{"$f":"IF(SUM(BP$217:BP$219)>0,$E233*$G233,0)","v":0},null,{"$f":"IF(SUM(BR$217:BR$219)>0,$E233*$G233,0)","v":0},null,{"$f":"IF(SUM(BT$217:BT$219)>0,$E233*$G233,0)","v":0},null,{"$f":"IF(SUM(BV$217:BV$219)>0,$E233*$G233,0)","v":0},null,{"$f":"IF(SUM(BX$217:BX$219)>0,$E233*$G233,0)","v":0},null,{"$f":"IF(SUM(BZ$217:BZ$219)>0,$E233*$G233,0)","v":0},null,{"$f":"IF(SUM(CB$217:CB$219)>0,$E233*$G233,0)","v":0},null,{"$f":"IF(SUM(CD$217:CD$219)>0,$E233*$G233,0)","v":0},null,{"$f":"IF(SUM(CF$217:CF$219)>0,$E233*$G233,0)","v":0},null,{"$f":"IF(SUM(CH$217:CH$219)>0,$E233*$G233,0)","v":0},null,{"$f":"IF(SUM(CJ$217:CJ$219)>0,$E233*$G233,0)","v":0},null,{"$f":"IF(SUM(CL$217:CL$219)>0,$E233*$G233,0)","v":0},null,{"$f":"IF(SUM(CN$217:CN$219)>0,$E233*$G233,0)","v":0},null,{"$f":"IF(SUM(CP$217:CP$219)>0,$E233*$G233,0)","v":0},null,{"$f":"IF(SUM(CR$217:CR$219)>0,$E233*$G233,0)","v":0},null,{"$f":"IF(SUM(CT$217:CT$219)>0,$E233*$G233,0)","v":0},null,{"$f":"IF(SUM(CV$217:CV$219)>0,$E233*$G233,0)","v":0},null,{"$f":"IF(SUM(CX$217:CX$219)>0,$E233*$G233,0)","v":0},null,{"$f":"IF(SUM(CZ$217:CZ$219)>0,$E233*$G233,0)","v":0},null,{"$f":"IF(SUM(DB$217:DB$219)>0,$E233*$G233,0)","v":0},null,{"$f":"IF(SUM(DD$217:DD$219)>0,$E233*$G233,0)","v":0},null,{"$f":"IF(SUM(DF$217:DF$219)>0,$E233*$G233,0)","v":0},null,{"$f":"IF(SUM(DH$217:DH$219)>0,$E233*$G233,0)","v":0},null,{"$f":"IF(SUM(DJ$217:DJ$219)>0,$E233*$G233,0)","v":0},null,{"$f":"IF(SUM(DL$217:DL$219)>0,$E233*$G233,0)","v":0},null,{"$f":"IF(SUM(DN$217:DN$219)>0,$E233*$G233,0)","v":0},null,{"$f":"IF(SUM(DP$217:DP$219)>0,$E233*$G233,0)","v":0},null,{"$f":"IF(SUM(DR$217:DR$219)>0,$E233*$G233,0)","v":0},null,{"$f":"IF(SUM(DT$217:DT$219)>0,$E233*$G233,0)","v":0},null,{"$f":"IF(SUM(DV$217:DV$219)>0,$E233*$G233,0)","v":0},null,{"$f":"IF(SUM(DX$217:DX$219)>0,$E233*$G233,0)","v":0}]

{"sheet":"SREP","index":31,"n_rows":75,"n_cols":17,"rows_kept":75,"cut":false,"hidden":false,"merged":[[2,1,2,3],[3,1,3,14]]}
[]
[]
[]
[null,"SISTEMA DE REGISTRO ELETRÔNICO DE PRESENÇA - SREP"]
[]
[]
[null,null,"PAGAMENTO DA DEPRECIAÇÃO"]
[null,"Cód.","ITEM","DESCRIÇÃO","QUANT ANUAL","CONTA SIAFI","VALOR DE AQ.","% RESIDUAL","VIDA ÚTIL","DEP. MENSAL","CUSTO TOTAL","BDI (%)","PREÇO TOTAL","FONTE","REFERÊNCIA"]
[]
[null,"10.01.01","P.001","Equipamento de Registro Eletrônico de Ponto, de parede, com teclado externo e leitor biométrico, em conformidade com a Portaria 1.510/2009 do MT",8,"12311.01.24\n(máquinas e equip\neletrônicos)",1650.4,0.1,10,{"$f":"G10*(1-H10)/(I10*12)","v":12.378000000000002},{"$f":"J10*E10","v":99.024000000000015},{"$f":"'BDI - Geral'!E27","v":0.21890000000000001},{"$f":"K10*(1+L10)","v":120.70035360000003},"COTAÇÃO"]
[]
[]
[null,null,"PAGAMENTO DA MANUTENÇÃO"]
[null,null,"ITEM","DESCRIÇÃO",null,null,null,"K (calculado)","MENSAL DEPR.","% MAN X DEP","MENSAL MAN.","BDI (%)","PREÇO TOTAL"]
[]
[null,null,null,"Todos os itens",null,null,null,{"$f":"H23","v":1.9000396799999999},{"$f":"K10","v":99.024000000000015},{"$f":"H16","v":1.9000396799999999},{"$f":"I16*H16","v":188.14952927232002},{"$f":"L10","v":0.21890000000000001},{"$f":"K16*(1+L16)","v":229.33546123003089}]
[]
[null,null,null,null,"K1","K2","K3","K4"]
[null,null,null,null,0.85,1,0.8,1.4]
[null,null,null,null,"K5","K6","K7","K8"]
[null,null,null,null,1,0.6,1.6,1.1000000000000001]
[null,null,null,null,"K9","K10","K11","RESULTADO"]
[null,null,null,"* a descrição de cada coeficiente segue abaixo",1.5,0.9,1.4,{"$f":"E19*F19*G19*H19*E21*F21*G21*H21*E23*F23*G23","v":1.9000396799999999}]
[]
[]
[null,null,"PAGAMENTO DO SOFTWARE"]
[null,"Cód.","ITEM","DESCRIÇÃO",null,null,null,null,"QUANTIDADE","UNIDADE","UNIT. MENSAL","BDI (%)","PREÇO TOTAL"]
[]
[null,"10.03.01","P.002","Software Ponto Secullum 4 - até 200 usuário - manutenção e suporte técnico com backup - Web Nuvem - Mensalidade",null,null,null,null,1,"Licença/mês",304.58,{"$f":"L35","v":0.21890000000000001},{"$f":"I29*K29*(1+L29)","v":371.25256200000001},"COTAÇÃO"]
[]
[]
[null,null,"MATERIAL DE CONSUMO ASSOCIADO"]
[null,"Cód.","ITEM","DESCRIÇÃO",null,null,"QUANTID/ANO","UNIDADE","VALOR DE AQ.","ANUAL MAT","MENSAL MAT","BDI (%)","PREÇO TOTAL"]
[]
[null,"10.04.01","P.003","Bobina térmica específica para o registrador eletrônico de ponto, com papel termossensível, superfície de impressão externa ao rolo, durabilidade de impressão mínima de 5 anos e comprimento mínimo de 300m",null,null,{"$f":"ROUNDUP(SUM(Remunerações!E4:E22)*0.07*4*52*5/300,0)","v":42},"Bobina",25.62,{"$f":"I35*G35","v":1076.04},{"$f":"J35/12","v":89.67},{"$f":"L16","v":0.21890000000000001},{"$f":"K35*(1+L35)","v":109.29876300000001},"COTAÇÃO"]
[]
[]
[null,null,"MATERIAL DE CONSUMO ASSOCIADO"]
[null,null,"ITEM","DESCRIÇÃO",null,null,null,null,null,null,null,null,"PREÇO TOTAL"]
[]
[null,null,1,"Componente DEPRECIAÇÃO",null,null,null,null,null,null,null,null,{"$f":"M10","v":120.70035360000003}]
[null,null,2,"Componente MANUTENÇÃO",null,null,null,null,null,null,null,null,{"$f":"M16","v":229.33546123003089}]
[null,null,3,"Componente SOFTWARE",null,null,null,null,null,null,null,null,{"$f":"M29","v":371.25256200000001}]
[null,null,4,"Componente MATERIAL DE CONSUMO ASSOCIADO",null,null,null,null,null,null,null,null,{"$f":"M35","v":109.29876300000001}]
[]
[null,null,null,null,null,null,null,null,null,null,null,"SOMATÓRIO TOTAL MENSAL",{"$f":"ROUND(SUM(M40:M45),2)","v":830.59}]
[null,null,null,null,null,null,null,null,null,null,null,"SOMATÓRIO TOTAL ANUAL",{"$f":"TRUNC(M46*12,2)","v":9967.08},null,null,null,"*valor truncado em duas casas decimais desprezando as frações de centavos"]
[]
[]
[null,null,"MATERIAL DE CONSUMO ASSOCIADO"]
[null,null,"MEMÓRIA DE CÁLCULO DO COEFICIENTE DE CORRELAÇÃO MANUTENÇÃO X DEPRECIAÇÃO (K)"]
[]
[null,null,"JUSTIFICATIVAS",null,"TIPO","K1",null,"Condições de Trab","K4",null,"Tempo Vida (anos)","K6",null,"Temperatura","K8"]
[null,null,null,null,"Guindaste",0.5,null,"Em espera",0.4,null,1,0.6,null,"Muito quente (> 40º C)",1.3]
[null,null,"K1","Considerado o valor médio de 0,85","Caminhão-comum",0.8,null,"Leves",0.8,null,2,0.7,null,"Quente (30º a 40º C)",1.1000000000000001]
[null,null,"K2","Considerado o operador médio","Fora-de-estrada",1,null,"Médias",1,null,3,0.8,null,"Médio (10º a 30º C)",1]
[null,null,"K3","Consideradas ferramentas de primeira qualidade","Carregadeira",1,null,"Pesadas",1.4,null,4,0.9,null,"Frio (< 10º C)",1.2]
[null,null,"K4","Há todo o tipo de trabalho, foi considerado condições pesadas","Escavadeira",1.4,null,"Severas",2,null,5,1]
[null,null,"K5","Considerando manutenção normal","Motoescrêiper",1.1000000000000001,null,null,null,null,6,1,null,"Ritmo de Trabalho","K9"]
[null,null,"K6","Equipamentos novos","Trator de esteira",1.2,null,"Manutenção","K5",null,7,1,null,"Folgado",0.9]
[null,null,"K7","44h por dia, 252 dias por ano",null,null,null,"Excelente",0.6,null,8,1.2,null,"Médio ",1]
[null,null,"K8","Clima quente, acima de 30º C","Qualid do Operador","K2",null,"Boa",0.8,null,9,1.3,null,"Com pressa",1.5]
[null,null,"K9","Ritmo de trabalho usualmente com pressa","Excelente",0.8,null,"Média",1,null,10,1.4]
[null,null,"K10","Considerado o operador médio","Boa",0.9,null,"Ruim ",1.5,null,11,2,null,"Conh do Serviço","K10"]
[null,null,"K11","Foi considerada a opção de aluguel a terceiros, ainda que a simulação seja dos custos do contratado, contudo a execução dos serviços é em local de terceiros","Média",1,null,"Inexistente",3,null,15,2,null,"Grande ",0.8]
[null,null,null,null,"Ruim",1.2,null,null,null,null,null,null,null,"Médio     ",0.9]
[null,null,null,null,"Péssima",2,null,"Horas de Uso ","K7",6000,1,null,null,"Pouco ",1]
[null,null,null,null,null,null,null,1000,0.5,8000,1.3]
[null,null,null,null,"Qualidade do Equip","K3",null,2000,0.5,10000,1.6,null,null,"Tipo do Serviço","K11"]
[null,null,null,null,"De primeira",0.8,null,3000,0.6,12000,1.9,null,null,"Mina ou Pedreira",0.8]
[null,null,null,null,"Média",1,null,4000,0.7,15000,2.2999999999999998,null,null,"Construção Geral",1]
[null,null,null,null,"Ruim",1.5,null,5000,0.9,20000,3,null,null,"Aluguel a Terceiros",1.4]
[]
[null,null,null,null,"Fonte: "]
[null,null,null,null,"MATTOS, Aldo Dórea. Como preparar orçamentos de obras. São Paulo: Pini, 2006. 281 p., il"]

{"sheet":"NOTURNAS","index":32,"n_rows":45,"n_cols":8,"rows_kept":45,"cut":false,"hidden":false,"merged":[[1,1,1,3],[2,1,2,7]]}
[]
[]
[null,"ADICIONAL NOTURNO"]
[]
[]
[null,null,"CATEGORIAS",null,null,null,"HORAS / MÊS","% NOTURNA"]
[]
[null,null,1,{"$f":"HLOOKUP($C8,'Dados Gerais'!$D$6:$D$11,6)","v":"TÉCNICO DE APOIO ADMINISTRATIVO"},null,null,2.67,0.22500000000000001]
[]
[]
[null,null,"AJUSTE DE HORAS FICTAS",null,"AJUSTE H.NOT","HORA NORMAL","H.FICTAS/MÊS","H.ÚTEIS/MÊS"]
[]
[null,null,1,{"$f":"HLOOKUP($C13,'Dados Gerais'!$D$6:$D$11,6)","v":"TÉCNICO DE APOIO ADMINISTRATIVO"},60,60,{"$f":"G8*(F13/E13)","v":2.67},{"$f":"HLOOKUP(C13,'Dados Gerais'!$D$6:$D$19,14,0)","v":220}]
[]
[]
[null,null,"VALOR DO ADICIONAL NOTURNO",null,null,"SALÁRIO MÊS","VL.H.NORMAL","ADIC.H.FICTAS"]
[]
[null,null,1,{"$f":"HLOOKUP($C18,'Dados Gerais'!$D$6:$D$11,6)","v":"TÉCNICO DE APOIO ADMINISTRATIVO"},null,{"$f":"HLOOKUP(C18,'Dados Gerais'!$D$6:$D$13,8,0)","v":4932.41},{"$f":"F18/H13","v":22.420045454545455},{"$f":"G18*(H8)","v":5.0445102272727276}]
[]
[]
[null,null,"RESUMO DO ADICIONAL NOTURNO SOB DEMANDA"]
[null,null,"TOTAIS MENSAIS",null,"PREÇO UNIT MENSAL","QUANTID. POSTOS","PREÇO TOTAL MENSAL"]
[]
[null,null,1,{"$f":"HLOOKUP($C24,'Dados Gerais'!$D$6:$D$11,6)","v":"TÉCNICO DE APOIO ADMINISTRATIVO"},{"$f":"H18*G13","v":13.468842306818182},8,{"$f":"F24*E24","v":107.75073845454546}]
[]
[null,null,null,null,null,"SOMATÓRIO TOTAL MENSAL",{"$f":"SUM(G24:G24)","v":107.75073845454546}]
[null,null,null,null,null,"SOMATÓRIO TOTAL ANUAL",{"$f":"G26*12","v":1293.0088614545455}]
[]
[]
[null,null,"ENCARGOS SOCIAIS E BDI SOBRE ADICIONAL NOTURNO SOB DEMANDA"]
[null,null,"TOTAIS MENSAIS",null,null,"PERCENTUAIS","PREÇO MENSAL"]
[]
[null,null,null,"ENCARGOS SOCIAIS",null,{"$f":"'Encargos Sociais'!E46","v":0.71049999999999991},{"$f":"ROUND(F33*G26,2)","v":76.56}]
[null,null,null,"BDI",null,{"$f":"'BDI - Geral'!E27","v":0.21890000000000001},{"$f":"ROUND(F34*(G26+G33),2)","v":40.35}]
[]
[null,null,null,null,null,"SOMATÓRIO TOTAL MENSAL",{"$f":"SUM(G33:G35)","v":116.91}]
[null,null,null,null,null,"SOMATÓRIO TOTAL ANUAL",{"$f":"G36*12","v":1402.92}]
[]
[]
[null,null,"VALOR TOTAL ADICIONAL NOTURNO SOB DEMANDA (COM ENCARGOS SOCIAIS E BDI INCLUSOS)"]
[]
[]
[]
[null,null,null,null,null,"SOMATÓRIO TOTAL MENSAL",{"$f":"G26+G36","v":224.66073845454545}]
[null,null,null,null,null,"SOMATÓRIO TOTAL ANUAL",{"$f":"G44*12","v":2695.9288614545453}]

{"sheet":"EPI - N.Rel","index":33,"n_rows":13,"n_cols":13,"rows_kept":13,"cut":false,"hidden":true,"merged":[[2,1,2,3],[3,1,3,10]]}
[]
[]
[]
[null,"EPI NÃO RELACIONADOS DIRETAMENTE A UM POSTO DE TRABALHO - AQUISIÇÃO"]
[]
[]
[null,null,"ITEM","DESCRIÇÃO","QUANT ANUAL","UNIDADE","CUSTO UNITÁRIO","CUSTO ANUAL","BDI (%)","PREÇO TOTAL","FONTE"]
[]
[null,null,1,"Avental de segurança confeccionado em vinil laminado e transparente, tiras soldadas eletronicamente, sendo uma no pescoço e duas na cintura com fivela plástica para fechamento, acabamento nas laterais por solda eletrônica. Dimensões: 1,20×0,70m. Ref. Maicol CA 38316",20,"UND",16.89,{"$f":"G9*E9","v":337.8},{"$f":"'BDI - Geral'!E27","v":0.21890000000000001}]
[null,null,2,"Touca sanfonada, em TNT (100% polipropileno), elástico; impermeabilidade mínima de 80%, descartável, cor branca. Ref. Sky.",50,"UND",0.15,{"$f":"G10*E10","v":7.5},{"$f":"I9","v":0.21890000000000001}]
[]
[null,null,null,null,null,null,null,null,"SOMATÓRIO TOTAL MENSAL",{"$f":"TRUNC(SUM(J8:K11)/12,2)","v":0},null,null,"*valor truncado em duas casas decimais desprezando as frações de centavos"]
[null,null,null,null,null,null,null,null,"SOMATÓRIO TOTAL ANUAL",{"$f":"J12*12","v":0}]

{"sheet":"Ferramentas","index":34,"n_rows":269,"n_cols":15,"rows_kept":269,"cut":false,"hidden":true,"merged":[[2,1,2,3],[3,1,3,14]]}
[]
[]
[]
[null,"EQUIPAMENTOS - PAGAMENTO DA DEPRECIAÇÃO / MANUTENÇÃO"]
[]
[]
[null,null,"PAGAMENTO DA DEPRECIAÇÃO"]
[null,"CÓD.","ITEM","DESCRIÇÃO","QUANT ANUAL","UNIDADE","VALOR DE AQ.","% RESIDUAL","VIDA ÚTIL","DEP. MENSAL","CUSTO MENSAL","BDI (%)","PREÇO MENSAL","FONTE","REFERÊNCIA"]
[]
[null,null,"F.001","Alicate Amperímetro Digital Profissional Minipa Et-3200a  (marca de referência)",10,"un",null,0.1,10,{"$f":"G10*(1-H10)/(I10*12)","v":0},{"$f":"J10*E10","v":0},{"$f":"'BDI - Geral'!$E$27","v":0.21890000000000001},{"$f":"ROUND(K10*(1+L10),2)","v":0},"Cotação"]
[null,null,"F.002","Alicate bico de papagaio 12 polegadas",26,"un",null,0.1,10,{"$f":"G11*(1-H11)/(I11*12)","v":0},{"$f":"J11*E11","v":0},{"$f":"L10","v":0.21890000000000001},{"$f":"ROUND(K11*(1+L11),2)","v":0},"Cotação"]
[null,null,"F.003","Alicate de bico curvo, 8\"  marca ref. BELZER OU GEDORE",26,"un",null,0.1,10,0,0,{"$f":"L11","v":0.21890000000000001},{"$f":"ROUND(K12*(1+L12),2)","v":0},"Cotação"]
[null,null,"F.004","Alicate de bico reto de 6\" marca ref. BELZER OU GEDORE",26,"un",null,0.1,10,0,0,0.21890000000000001,{"$f":"ROUND(K13*(1+L13),2)","v":0},"Cotação"]
[null,null,"F.005","Alicate de corte diagonal 6 polegadas profissional",10,"un",null,0.1,10,0,0,0.21890000000000001,{"$f":"ROUND(K14*(1+L14),2)","v":0},"Cotação"]
[null,null,"F.006","Alicate de pressão 10 polegadas emborrachado",26,"un",null,0.1,10,0,0,0.21890000000000001,{"$f":"ROUND(K15*(1+L15),2)","v":0},"Cotação"]
[null,null,"F.007","Alicate decapador de cabos elétricos de 0,5 a 6 mm²",8,"un",null,0.1,10,0,0,0.21890000000000001,{"$f":"ROUND(K16*(1+L16),2)","v":0},"Cotação"]
[null,null,"F.008","Alicate lacrador de tubos, marca de referência ROTHENBERGER",14,"un",null,0.1,10,0,0,0.21890000000000001,{"$f":"ROUND(K17*(1+L17),2)","v":0},"Cotação"]
[null,null,"F.009","Alicate p/ rebite (marca de referência) POP",30,"un",null,0.1,10,0,0,0.21890000000000001,{"$f":"ROUND(K18*(1+L18),2)","v":0},"Cotação"]
[null,null,"F.010","Alicate para crimpar terminais pré isolados de 0,5 a 6,0 mm",8,"un",null,0.1,10,0,0,0.21890000000000001,{"$f":"ROUND(K19*(1+L19),2)","v":0},"Cotação"]
[null,null,"F.011","Alicate de corte DIAGONAL 7.1/2 FORÇA DUPLA, REF. VONDER",16,"un",null,0.1,10,0,0,0.21890000000000001,{"$f":"ROUND(K20*(1+L20),2)","v":0},"Cotação"]
[null,null,"F.012","Alicate universal 8\" ref. Belzer-219022BBR  (marca de referência)",30,"un",null,0.1,10,0,0,0.21890000000000001,{"$f":"ROUND(K21*(1+L21),2)","v":0},"Cotação"]
[null,null,"F.013","Alicate de impacto punch down REF. Wurth - 07158301",2,"un",null,0.1,10,0,0,0.21890000000000001,{"$f":"ROUND(K22*(1+L22),2)","v":0},"Cotação"]
[null,null,"F.014","Anemômetro digital com termohigrômetro, REF. MINIPA MDA-11A (SEM CERTIFICADO)",4,"un",null,0.1,10,0,0,0.21890000000000001,{"$f":"ROUND(K23*(1+L23),2)","v":0},"Cotação"]
[null,null,"F.015","Arco de serra regulável 12\" ref. Tramontina-43302012  (marca de referência)",30,"un",null,0.1,10,0,0,0.21890000000000001,{"$f":"ROUND(K24*(1+L24),2)","v":0},"Cotação"]
[null,null,"F.016","Aspirador de pó p/aspirar ar e água mínimo 20 litros 220V (Ref. WAP GTW INOX 20 1.600W 20L)",10,"un",null,0.1,10,0,0,0.21890000000000001,{"$f":"ROUND(K25*(1+L25),2)","v":0},"Cotação"]
[null,null,"F.017","Balança eletrônica para pesagem de fluido refrigerante – MASTERCOOL (Ref. 298210 100KG)",2,"un",null,0.1,10,0,0,0.21890000000000001,{"$f":"ROUND(K26*(1+L26),2)","v":0},"Cotação"]
[null,null,"F.018","Balança eletrônica de 0 a 25 Kg",1,"un",null,0.1,10,0,0,0.21890000000000001,{"$f":"ROUND(K27*(1+L27),2)","v":0},"Cotação"]
[null,null,"F.019","Bico de corte maçarico acetileno -  referência: WHITE MARTINS 1502 (bico nº 10)",6,"un",null,0.1,10,0,0,0.21890000000000001,{"$f":"ROUND(K28*(1+L28),2)","v":0},"Cotação"]
[null,null,"F.020","Bomba de alto vácuo 5 CFM (DUPLO ESTÁGIO)",2,"un",null,0.1,10,0,0,0.21890000000000001,{"$f":"ROUND(K29*(1+L29),2)","v":0},"Cotação"]
[null,null,"F.021","Bomba de alto vácuo 12 CFM (DUPLO ESTÁGIO)",2,"un",null,0.1,10,0,0,0.21890000000000001,{"$f":"ROUND(K30*(1+L30),2)","v":0},"Cotação"]
[null,null,"F.022","Bomba de alto vácuo 18 CFM (DUPLO ESTÁGIO)",1,"un",null,0.1,10,0,0,0.21890000000000001,{"$f":"ROUND(K31*(1+L31),2)","v":0},"Cotação"]
[null,null,"F.023","Bomba de alto vácuo 24 CFM (DUPLO ESTÁGIO)",1,"un",null,0.1,10,0,0,0.21890000000000001,{"$f":"ROUND(K32*(1+L32),2)","v":0},"Cotação"]
[null,null,"F.024","Bomba de alto vácuo 30 CFM (DUPLO ESTÁGIO)",0,"un",null,0.1,10,0,0,0.21890000000000001,{"$f":"ROUND(K33*(1+L33),2)","v":0},"Cotação"]
[null,null,"F.025","Bomba de engraxar (manual) pequena – referência: VONDER BMV-0500",12,"un",null,0.1,10,0,0,0.21890000000000001,{"$f":"ROUND(K34*(1+L34),2)","v":0},"Cotação"]
[null,null,"F.026","Bomba de óleo (manual) industrial – referência: BOZZA modelo 8631-G2, de 24 litros, com carrinho",2,"un",null,0.1,10,0,0,0.21890000000000001,{"$f":"ROUND(K35*(1+L35),2)","v":0},"Cotação"]
[null,null,"F.027","Bomba p/ lavagem de circuito frigorígeno (injetor de gás 141b)",1,"un",null,0.1,10,0,0,0.21890000000000001,{"$f":"ROUND(K36*(1+L36),2)","v":0},"Cotação"]
[null,null,"F.028","Bomba para amostra de ar para análise da qualidade do ar - referência: MERCK MAS-100 NT e certificado de calibração",1,"un",null,0.1,10,0,0,0.21890000000000001,{"$f":"ROUND(K37*(1+L37),2)","v":0},"Cotação"]
[null,null,"F.029","Cabo de extensão trifásica, 30 metros, bitola 35 mm², para 150 A – referência: MASTER-AC CE 5150",2,"un",null,0.1,10,0,0,0.21890000000000001,{"$f":"ROUND(K38*(1+L38),2)","v":0},"Cotação"]
[null,null,"F.030","Caixa de ferramentas com 7 gavetas e cadeado.",33,"un",null,0.1,10,0,0,0.21890000000000001,{"$f":"ROUND(K39*(1+L39),2)","v":0},"Cotação"]
[null,null,"F.031","Caixa de ferramentas modular, com 5 (CINCO) gavetas independentes, estrutura metálica, alças dobráveis, com cadeado, rodas de alta resistência, pintura eletrostática, base e puxador para transporte, marca de ref. TRAMONTINA PRO",12,"un",null,0.1,10,0,0,0.21890000000000001,{"$f":"ROUND(K40*(1+L40),2)","v":0},"Cotação"]
[null,null,"F.032","Caixa para ferramentas medindo 50 x 20 x 21 cm, 5 gavetas com cadeado, ref. BELZER OU GEDORE",2,"un",null,0.1,10,0,0,0.21890000000000001,{"$f":"ROUND(K41*(1+L41),2)","v":0},"Cotação"]
[null,null,"F.033","Capacimetro digital, REF. MINIPA MC-155",2,"un",null,0.1,10,0,0,0.21890000000000001,{"$f":"ROUND(K42*(1+L42),2)","v":0},"Cotação"]
[null,null,"F.034","Chave canhão 1/4\" x 6\" marca ref. BELZER OU GEDORE",26,"un",null,0.1,10,0,0,0.21890000000000001,{"$f":"ROUND(K43*(1+L43),2)","v":0},"Cotação"]
[null,null,"F.035","Chave canhão 3/16\" x 6\" marca ref. BELZER OU GEDORE",26,"un",null,0.1,10,0,0,0.21890000000000001,{"$f":"ROUND(K44*(1+L44),2)","v":0},"Cotação"]
[null,null,"F.036","Chave canhão 5/16\" x 6\" marca ref. BELZER OU GEDORE",26,"un",null,0.1,10,0,0,0.21890000000000001,{"$f":"ROUND(K45*(1+L45),2)","v":0},"Cotação"]
[null,null,"F.037","Chave canhão de 6 mm",26,"un",null,0.1,10,0,0,0.21890000000000001,{"$f":"ROUND(K46*(1+L46),2)","v":0},"Cotação"]
[null,null,"F.038","Chave combinada boca/estria especial com 18 peças de 1/4 a 1.1/4mm",15,"un",null,0.1,10,0,0,0.21890000000000001,{"$f":"ROUND(K47*(1+L47),2)","v":0},"Cotação"]
[null,null,"F.039","Chave combinada boca/estria especial com 18 peças de 6 a 32mm",10,"un",null,0.1,10,0,0,0.21890000000000001,{"$f":"ROUND(K48*(1+L48),2)","v":0},"Cotação"]
[null,null,"F.040","Chave corrente para tubulação de 2.1/2\"",3,"un",null,0.1,10,0,0,0.21890000000000001,{"$f":"ROUND(K49*(1+L49),2)","v":0},"Cotação"]
[null,null,"F.041","Chave de fenda de 1/4\" x 5\" marca ref. BELZER OU GEDORE",30,"un",null,0.1,10,0,0,0.21890000000000001,{"$f":"ROUND(K50*(1+L50),2)","v":0},"Cotação"]
[null,null,"F.042","Chave de fenda de 1/8\" x 5\" marca ref. BELZER OU GEDORE",30,"un",null,0.1,10,0,0,0.21890000000000001,{"$f":"ROUND(K51*(1+L51),2)","v":0},"Cotação"]
[null,null,"F.043","Chave de fenda de 3/16\" x 5\" marca ref. BELZER OU GEDORE",30,"un",null,0.1,10,0,0,0.21890000000000001,{"$f":"ROUND(K52*(1+L52),2)","v":0},"Cotação"]
[null,null,"F.044","Chave de fenda de 3/8\" x 5\" marca ref. BELZER OU GEDORE",30,"un",null,0.1,10,0,0,0.21890000000000001,{"$f":"ROUND(K53*(1+L53),2)","v":0},"Cotação"]
[null,null,"F.045","Chave de fenda de 5/16\" x 5\" marca ref. BELZER OU GEDORE",30,"un",null,0.1,10,0,0,0.21890000000000001,{"$f":"ROUND(K54*(1+L54),2)","v":0},"Cotação"]
[null,null,"F.046","Chave de grifo nº 14",20,"un",null,0.1,10,0,0,0.21890000000000001,{"$f":"ROUND(K55*(1+L55),2)","v":0},"Cotação"]
[null,null,"F.047","Chave de grifo nº 18",20,"un",null,0.1,10,0,0,0.21890000000000001,{"$f":"ROUND(K56*(1+L56),2)","v":0},"Cotação"]
[null,null,"F.048","Chave de grifo nº 24",10,"un",null,0.1,10,0,0,0.21890000000000001,{"$f":"ROUND(K57*(1+L57),2)","v":0},"Cotação"]
[null,null,"F.049","Chave de grifo nº 36",4,"un",null,0.1,10,0,0,0.21890000000000001,{"$f":"ROUND(K58*(1+L58),2)","v":0},"Cotação"]
[null,null,"F.050","Chave de teste néon com ponta fenda ref. Tramontina",20,"un",null,0.1,10,0,0,0.21890000000000001,{"$f":"ROUND(K59*(1+L59),2)","v":0},"Cotação"]
[null,null,"F.051","Chave estrela de 1/4 a 1.1/8\" ( JOGO COM 1/4 A 1.1/4\")",14,"jogo",null,0.1,10,0,0,0.21890000000000001,{"$f":"ROUND(K60*(1+L60),2)","v":0},"Cotação"]
[null,null,"F.052","Chave fenda toco de 1/4\"",30,"un",null,0.1,10,0,0,0.21890000000000001,{"$f":"ROUND(K61*(1+L61),2)","v":0},"Cotação"]
[null,null,"F.053","Chave fenda toco de 1/8”",30,"un",null,0.1,10,0,0,0.21890000000000001,{"$f":"ROUND(K62*(1+L62),2)","v":0},"Cotação"]
[null,null,"F.054","Chave inglesa nº 12 marca ref. BELZER OU GEDORE",30,"un",null,0.1,10,0,0,0.21890000000000001,{"$f":"ROUND(K63*(1+L63),2)","v":0},"Cotação"]
[null,null,"F.055","Chave inglesa nº 14 marca ref. BELZER OU GEDORE",2,"un",null,0.1,10,0,0,0.21890000000000001,{"$f":"ROUND(K64*(1+L64),2)","v":0},"Cotação"]
[null,null,"F.056","Chave inglesa nº 8 marca ref. BELZER OU GEDORE",30,"un",null,0.1,10,0,0,0.21890000000000001,{"$f":"ROUND(K65*(1+L65),2)","v":0},"Cotação"]
[null,null,"F.057","Chave phillips 1/4\" x 6\" marca ref. BELZER OU GEDORE",30,"un",null,0.1,10,0,0,0.21890000000000001,{"$f":"ROUND(K66*(1+L66),2)","v":0},"Cotação"]
[null,null,"F.058","Chave phillips 3/16\" x 6\" marca ref. BELZER OU GEDORE",30,"un",null,0.1,10,0,0,0.21890000000000001,{"$f":"ROUND(K67*(1+L67),2)","v":0},"Cotação"]
[null,null,"F.059","Chave phillips 3/8\" x 6\" marca ref. BELZER OU GEDORE",30,"un",null,0.1,10,0,0,0.21890000000000001,{"$f":"ROUND(K68*(1+L68),2)","v":0},"Cotação"]
[null,null,"F.060","Chave phillips 1/8\" x 6\" marca ref. BELZER OU GEDORE",30,"un",null,0.1,10,0,0,0.21890000000000001,{"$f":"ROUND(K69*(1+L69),2)","v":0},"Cotação"]
[null,null,"F.061","Chave phillips 5/16\" x 6\" marca ref. BELZER OU GEDORE",30,"un",null,0.1,10,0,0,0.21890000000000001,{"$f":"ROUND(K70*(1+L70),2)","v":0},"Cotação"]
[null,null,"F.062","Chave phillips toco de 1/4\" ",30,"un",null,0.1,10,0,0,0.21890000000000001,{"$f":"ROUND(K71*(1+L71),2)","v":0},"Cotação"]
[null,null,"F.063","Chave phillips toco de 1/8” ",30,"un",null,0.1,10,0,0,0.21890000000000001,{"$f":"ROUND(K72*(1+L72),2)","v":0},"Cotação"]
[null,null,"F.064","Chave tipo L nº 10 marca ref. BELZER OU GEDORE",10,"un",null,0.1,10,0,0,0.21890000000000001,{"$f":"ROUND(K73*(1+L73),2)","v":0},"Cotação"]
[null,null,"F.065","Chave tipo L nº 11 marca ref. BELZER OU GEDORE",10,"un",null,0.1,10,0,0,0.21890000000000001,{"$f":"ROUND(K74*(1+L74),2)","v":0},"Cotação"]
[null,null,"F.066","Chave tipo L nº 12 marca ref. BELZER OU GEDORE",10,"un",null,0.1,10,{"$f":"G75*(1-H75)/(I75*12)","v":0},{"$f":"J75*E75","v":0},0.21890000000000001,{"$f":"ROUND(K75*(1+L75),2)","v":0},"Cotação"]
[null,null,"F.067","Chave tipo L nº 13 marca ref. BELZER OU GEDORE",10,"un",null,0.1,10,0,0,{"$f":"L75","v":0.21890000000000001},{"$f":"ROUND(K76*(1+L76),2)","v":0},"Cotação"]
[null,null,"F.068","Chave tipo L nº 14 marca ref. BELZER OU GEDORE",10,"un",null,0.1,10,0,0,0.21890000000000001,{"$f":"ROUND(K77*(1+L77),2)","v":0},"Cotação"]
[null,null,"F.069","Chave TORK longa com 10 peças, T9 a T50 – referência: WORKER-140899",14,"un",null,0.1,10,0,0,0.21890000000000001,{"$f":"ROUND(K78*(1+L78),2)","v":0},"Cotação"]
[null,null,"F.070","Chaves fixas de 1/4 a 1.1/8\"",14,"un",null,0.1,10,0,0,0.21890000000000001,{"$f":"ROUND(K79*(1+L79),2)","v":0},"Cotação"]
[null,null,"F.071","Cilindro recarregável vazio para armazenamento de fluido refrigerante tipo R-134a – 40 kg – 49 bar, válvula dupla",2,"un",null,0.1,10,0,0,0.21890000000000001,{"$f":"ROUND(K80*(1+L80),2)","v":0},"Cotação"]
[null,null,"F.072","Compressor de ar 2 hp, 50 litros, 220v, com kit pintura – referência: SCHULZ",2,"un",null,0.1,10,0,0,0.21890000000000001,{"$f":"ROUND(K81*(1+L81),2)","v":0},"Cotação"]
[null,null,"F.073","Conjunto de mangueiras para manifold, 150 cm – referência: MASTERCOOL",6,"un",null,0.1,10,0,0,0.21890000000000001,{"$f":"ROUND(K82*(1+L82),2)","v":0},"Cotação"]
[null,null,"F.074","Conjunto de solda oxigênio e acetileno (PPU) industrial – REF. GÁS NORTE GN-10",1,"un",null,0.1,10,0,0,0.21890000000000001,{"$f":"ROUND(K83*(1+L83),2)","v":0},"Cotação"]
[null,null,"F.075","Conjunto de solda oxigênio e acetileno (PPU) pequeno – referência: FAMABRAS",2,"un",null,0.1,10,0,0,0.21890000000000001,{"$f":"ROUND(K84*(1+L84),2)","v":0},"Cotação"]
[null,null,"F.076","Conjunto Manifold Eos R-401 R-134a R-22 R-12  (REF. EOS KIT P/ R22/R134A/407 E 404A)",8,"un",null,0.1,10,0,0,0.21890000000000001,{"$f":"ROUND(K85*(1+L85),2)","v":0},"Cotação"]
[null,null,"F.077","Conjunto manifold para gases R404A, R507c e R134a, com jogo de mangueiras de 90 cm, marca de, REF. MASTERCOOL 93636-MR",4,"un",null,0.1,10,0,0,0.21890000000000001,{"$f":"ROUND(K86*(1+L86),2)","v":0},"Cotação"]
[null,null,"F.078","Conjunto manifold R22, R410A, R404A, R407C com mangueira de 1,60CM e adaptador para R410A mod.36661-E-V mastercool",10,"un",null,0.1,10,0,0,0.21890000000000001,{"$f":"ROUND(K87*(1+L87),2)","v":0},"Cotação"]
[null,null,"F.079","Cortador de Tubos de Aço, Alumínio, Cobre 1/8 A 1 1/8 (REF. RIGID-150 SERV. LEVE)",10,"un",null,0.1,10,0,0,0.21890000000000001,{"$f":"ROUND(K88*(1+L88),2)","v":0},"Cotação"]
[null,null,"F.080","Curvador 4 em 1, 180° graus, para medidas 3/16, ¼, 3/8, ½, para uso em cobre e alumínio leves para refrigeração (tubos flexíveis), REF. KLEIN TOOLS 89030",14,"un",null,0.1,10,0,0,0.21890000000000001,{"$f":"ROUND(K89*(1+L89),2)","v":0},"Cotação"]
[null,null,"F.081","Detector de vazamento de gás – TESTO 316-3",1,"un",null,0.1,10,0,0,0.21890000000000001,{"$f":"ROUND(K90*(1+L90),2)","v":0},"Cotação"]
[null,null,"F.082","Escada de alumínio extensiva com 9 degraus, altura min: 2,77m",5,"un",null,0.1,10,0,0,0.21890000000000001,{"$f":"ROUND(K91*(1+L91),2)","v":0},"Cotação"]
[null,null,"F.083","Escada de fibra RF-4",12,"un",null,0.1,10,0,0,0.21890000000000001,{"$f":"ROUND(K92*(1+L92),2)","v":0},"Cotação"]
[null,null,"F.084","Escada de fibra TF-6",12,"un",null,0.1,10,0,0,0.21890000000000001,{"$f":"ROUND(K93*(1+L93),2)","v":0},"Cotação"]
[null,null,"F.085","Escova de aço manual – referência: VONDER",12,"un",null,0.1,10,0,0,0.21890000000000001,{"$f":"ROUND(K94*(1+L94),2)","v":0},"Cotação"]
[null,null,"F.086","Esmerilhadeira 4.1/2\", REF. BOSH GWS850 850W 220V",1,"un",null,0.1,10,0,0,0.21890000000000001,{"$f":"ROUND(K95*(1+L95),2)","v":0},"Cotação"]
[null,null,"F.087","Espátula nº 08 em aço forjado",30,"un",null,0.1,10,{"$f":"G96*(1-H96)/(I96*12)","v":0},0,0.21890000000000001,{"$f":"ROUND(K96*(1+L96),2)","v":0},"Cotação"]
[null,null,"F.088","Espátula nº 10 em aço forjado",30,"un",null,0.1,10,0,0,0.21890000000000001,{"$f":"ROUND(K97*(1+L97),2)","v":0},"Cotação"]
[null,null,"F.089","Extensão com cabo de 20 metros, cabo PP 2,5 mm² - referência: TRAMONTINA FORJASUL ELETRIK",15,"un",null,0.1,10,0,0,0.21890000000000001,{"$f":"ROUND(K98*(1+L98),2)","v":0},"Cotação"]
[null,null,"F.090","Ferro de solda - 100 Watts",10,"un",null,0.1,10,0,0,0.21890000000000001,{"$f":"ROUND(K99*(1+L99),2)","v":0},"Cotação"]
[null,null,"F.091","Furadeira industrial plus, REF. GBM 16-2 RE reversível 1/2\" 800w BOSH, 220V",8,"un",null,0.1,10,0,0,0.21890000000000001,{"$f":"ROUND(K100*(1+L100),2)","v":0},"Cotação"]
[null,null,"F.092","Flangeador de Tubos 3/16 - 1/4 - 5/16 - 3/8 - 1/2 - 5/8",14,"un",null,0.1,10,0,0,0.21890000000000001,{"$f":"ROUND(K101*(1+L101),2)","v":0},"Cotação"]
[null,null,"F.093","Furadeira c/ impacto - 800w - Makita Mhp13 1/2 c/ impacto",10,"un",null,0.1,10,0,0,0.21890000000000001,{"$f":"ROUND(K102*(1+L102),2)","v":0},"Cotação"]
[null,null,"F.094","Garra de 200mm, ref. BELZER",1,"un",null,0.1,10,0,0,0.21890000000000001,{"$f":"ROUND(K103*(1+L103),2)","v":0},"Cotação"]
[null,null,"F.095","Garra de 250mm, ref. BELZER",1,"un",null,0.1,10,0,0,0.21890000000000001,{"$f":"ROUND(K104*(1+L104),2)","v":0},"Cotação"]
[null,null,"F.096","Garra de 300mm, ref. BELZER",1,"un",null,0.1,10,0,0,0.21890000000000001,{"$f":"ROUND(K105*(1+L105),2)","v":0},"Cotação"]
[null,null,"F.097","Jogo (talhadeira de 16mm; saca pino cônico de 6mm; saca pino paralelo de 4mm e punção de 4mm), REF. GEDORE VK246",8,"un",null,0.1,10,0,0,0.21890000000000001,{"$f":"ROUND(K106*(1+L106),2)","v":0},"Cotação"]
[null,null,"F.098","Jogo Chave Allen 1/16\" a 1/2\" Com 12 Peças - GEDORE-4212P  (marca de referência)",20,"un",null,0.1,10,0,0,0.21890000000000001,{"$f":"ROUND(K107*(1+L107),2)","v":0},"Cotação"]
[null,null,"F.099","Jogo de alicates para anéis internos e externos de 7 pol. com 4 peças – referência: UYUSTOOLS-als402",10,"un",null,0.1,10,0,0,0.21890000000000001,{"$f":"ROUND(K108*(1+L108),2)","v":0},"Cotação"]
[null,null,"F.100","Jogo de alicate saca trava bico reto e torto (com 4 peças)",10,"un",null,0.1,10,0,0,0.21890000000000001,{"$f":"ROUND(K109*(1+L109),2)","v":0},"Cotação"]
[null,null,"F.101","Jogo de Chave Allen 1,5 a 10mm 11 peças - BELZER-220404BR  (marca de referência)",20,"un",null,0.1,10,0,0,0.21890000000000001,{"$f":"ROUND(K110*(1+L110),2)","v":0},"Cotação"]
[null,null,"F.102","Jogo de chave allen longas 1,5 mm a 10 mm com 9 peças – referência: GEDORE 42L-9M",14,"un",null,0.1,10,0,0,0.21890000000000001,{"$f":"ROUND(K111*(1+L111),2)","v":0},"Cotação"]
[null,null,"F.103","Jogo de chave canhão com 10 peças, 6 mm a 13 mm, ¼’’ a 5/16’’ marca ref. BELZER OU GEDORE",2,"un",null,0.1,10,0,0,0.21890000000000001,{"$f":"ROUND(K112*(1+L112),2)","v":0},"Cotação"]
[null,null,"F.104","Jogo de chave estrela estriadas, 8 peças, 6 a 23 mm marca ref. BELZER OU GEDORE",2,"un",null,0.1,10,0,0,0.21890000000000001,{"$f":"ROUND(K113*(1+L113),2)","v":0},"Cotação"]
[null,null,"F.105","Jogo de chave fixa com 8 peças, de 6 a 22 mm marca ref. BELZER OU GEDORE",10,"un",null,0.1,10,0,0,0.21890000000000001,{"$f":"ROUND(K114*(1+L114),2)","v":0},"Cotação"]
[null,null,"F.106","Jogo de chave hexagonal abaulado com suportes de 1,5mm a 8 mm marca ref. BELZER",1,"un",null,0.1,10,0,0,0.21890000000000001,{"$f":"ROUND(K115*(1+L115),2)","v":0},"Cotação"]
[null,null,"F.107","Jogo de chave hexagonal longa (1,5mm; 2mm; 2,5mm; 3mm; 4mm; 5mm; 6mm; 7mm e 8 mm) marca ref. BELZER",1,"un",null,0.1,10,0,0,0.21890000000000001,{"$f":"ROUND(K116*(1+L116),2)","v":0},"Cotação"]
[null,null,"F.108","Jogo de chaves cabo reto tipo Torx com 7 peças, T10 a T50 marca ref. BELZER OU GEDORE REF. GEDORE 42TX-10",5,"un",null,0.1,10,0,0,0.21890000000000001,{"$f":"ROUND(K117*(1+L117),2)","v":0},"Cotação"]
[null,null,"F.109","Jogo de macho 1/2-13 unc aço rápido com 3 peças OSG",1,"un",null,0.1,10,0,0,0.21890000000000001,{"$f":"ROUND(K118*(1+L118),2)","v":0},"Cotação"]
[null,null,"F.110","Jogo de macho 1/4-20 unc aço rápido com com 3 peças",1,"un",null,0.1,10,0,0,0.21890000000000001,{"$f":"ROUND(K119*(1+L119),2)","v":0},"Cotação"]
[null,null,"F.111","Jogo de macho 3/8-16 unc aço rápido com com 3 peças",1,"un",null,0.1,10,0,0,0.21890000000000001,{"$f":"ROUND(K120*(1+L120),2)","v":0},"Cotação"]
[null,null,"F.112","Jogo de macho 5/8-11 unc aço rápido com com 3 peças",1,"un",null,0.1,10,0,0,0.21890000000000001,{"$f":"ROUND(K121*(1+L121),2)","v":0},"Cotação"]
[null,null,"F.113","Jogo de punções numéricos de 12,5 mm com 9 peças, referência: ROCAST",8,"un",null,0.1,10,0,0,0.21890000000000001,{"$f":"ROUND(K122*(1+L122),2)","v":0},"Cotação"]
[null,null,"F.114","Jogo de saca pino paralelo de 2mm, 3mm, 4mm, 5mm, 6mm e 8mm, ref. BELZER",12,"un",null,0.1,10,0,0,0.21890000000000001,{"$f":"ROUND(K123*(1+L123),2)","v":0},"Cotação"]
[null,null,"F.115","Jogo de saca polia 3 garras de 2”",2,"un",null,0.1,10,0,0,0.21890000000000001,{"$f":"ROUND(K124*(1+L124),2)","v":0},"Cotação"]
[null,null,"F.116","Jogo de saca polia 3 garras de 4”",4,"un",null,0.1,10,0,0,0.21890000000000001,{"$f":"ROUND(K125*(1+L125),2)","v":0},"Cotação"]
[null,null,"F.117","Jogo de saca polias 3 garras 6\"",2,"un",null,0.1,10,0,0,0.21890000000000001,{"$f":"ROUND(K126*(1+L126),2)","v":0},"Cotação"]
[null,null,"F.118","Jogo de serra copos, bimetal com 15 peças REF. TRAMONTINA ",2,"un",null,0.1,10,0,0,0.21890000000000001,{"$f":"ROUND(K127*(1+L127),2)","v":0},"Cotação"]
[null,null,"F.119","Jogo de soquetes 1/2 de 10mm a 32mm, REF. Belzer, 24 PEÇAS",20,"un",null,0.1,10,0,0,0.21890000000000001,{"$f":"ROUND(K128*(1+L128),2)","v":0},"Cotação"]
[null,null,"F.120","Jogo de vazadores 4 a 32mm com 12 peças",6,"un",null,0.1,10,0,0,0.21890000000000001,{"$f":"ROUND(K129*(1+L129),2)","v":0},"Cotação"]
[null,null,"F.121","Kit flangeador – 1 flangeador de 1/8’’- ¾’’, 02 morsas de 1/8’’ – ¾’’, 1 cortador de tubos de 1/8’’ – 1.1/8’’, 1 chave catraca de ¼’’ a 5/16’’, 5 alargadores de tubos de 1/8’’ a ¾’’, maleta própria, marca de ref. VULKAN LOKRING VLCH-278",12,"un",null,0.1,10,0,0,0.21890000000000001,{"$f":"ROUND(K130*(1+L130),2)","v":0},"Cotação"]
[null,null,"F.122","Lanterna de inspeção OSRAM LEDInspect 26 LEDs 6000K 220V recarregável",30,"un",null,0.1,10,0,0,0.21890000000000001,{"$f":"ROUND(K131*(1+L131),2)","v":0},"Cotação"]
[null,null,"F.123","Lavadora de alta pressão de 1600 libras, 220V, REF. VONDER LAV1600, KARCHER K2 POWER",12,"un",null,0.1,10,0,0,0.21890000000000001,{"$f":"ROUND(K132*(1+L132),2)","v":0},"Cotação"]
[null,null,"F.124/A","Lavadora de alta pressão de 2400 libras ÁGUA FRIA, REF. STIHL RE 232, 220V",2,"un",null,0.1,10,0,0,0.21890000000000001,{"$f":"ROUND(K133*(1+L133),2)","v":0},"Cotação"]
[null,null,"F.124/B","Lavadora de alta pressão de 2400 libras ÁGUA QUENTE, REF. IPC BRASIL PW-H28M, 220V MONO",1,"un",null,0.1,10,0,0,0.21890000000000001,{"$f":"ROUND(K134*(1+L134),2)","v":0},"Cotação"]
[null,null,"F.125","Lima de 1/2” cana de 10\" (SEM CABO)",12,"un",null,0.1,10,0,0,0.21890000000000001,{"$f":"ROUND(K135*(1+L135),2)","v":0},"Cotação"]
[null,null,"F.126","Lima Triangular (Bastarda) 10x250 MM",12,"un",null,0.1,10,0,0,0.21890000000000001,{"$f":"ROUND(K136*(1+L136),2)","v":0},"Cotação"]
[null,null,"F.127","Limatão redondo de 3/8” x 10\" (ALTERADA PARA 8\")",12,"un",null,0.1,10,0,0,0.21890000000000001,{"$f":"ROUND(K137*(1+L137),2)","v":0},"Cotação"]
[null,null,"F.128","Lixadeira angular 7\" de 2200w - 220v",1,"un",null,0.1,10,0,0,0.21890000000000001,{"$f":"ROUND(K138*(1+L138),2)","v":0},"Cotação"]
[null,null,"F.129","Lixadeira manual bosch 220v",5,"un",null,0.1,10,0,{"$f":"J139*E139","v":0},0.21890000000000001,{"$f":"ROUND(K139*(1+L139),2)","v":0},"Cotação"]
[null,null,"F.130","Macaco garrafa de 4 toneladas",1,"un",null,0.1,10,0,0,{"$f":"L139","v":0.21890000000000001},{"$f":"ROUND(K140*(1+L140),2)","v":0},"Cotação"]
[null,null,"F.131","Maçarico portátil – referência: HARRIS HSLT604HD",4,"un",null,0.1,10,0,0,0.21890000000000001,{"$f":"ROUND(K141*(1+L141),2)","v":0},"Cotação"]
[null,null,"F.132","Máquina de solda elétrica – 250 A, 220V/380V, REF. SMASHWELD 277X",1,"un",null,0.1,10,0,0,0.21890000000000001,{"$f":"ROUND(K142*(1+L142),2)","v":0},"Cotação"]
[null,null,"F.133","Máscara para solda elétrica, escurecimento automático, ton 9-13, REF. VONDER",3,"un",null,0.1,10,0,0,0.21890000000000001,{"$f":"ROUND(K143*(1+L143),2)","v":0},"Cotação"]
[null,null,"F.134","Martelete 24mm c/Encaixe SDS PLUS 800 Watts - HR2470 Makita",6,"un",null,0.1,10,0,0,0.21890000000000001,{"$f":"ROUND(K144*(1+L144),2)","v":0},"Cotação"]
[null,null,"F.135","Martelo anti-retrocesso de 300x40mm marca ref. TRAMONTINA",1,"un",null,0.1,10,0,0,0.21890000000000001,{"$f":"ROUND(K145*(1+L145),2)","v":0},"Cotação"]
[null,null,"F.136","Martelo tipo bola 300g",26,"un",null,0.1,10,0,0,0.21890000000000001,{"$f":"ROUND(K146*(1+L146),2)","v":0},"Cotação"]
[null,null,"F.137","Marreta de 1.1/2 (KG)",2,"un",null,0.1,10,0,0,0.21890000000000001,{"$f":"ROUND(K147*(1+L147),2)","v":0},"Cotação"]
[null,null,"F.138","Marreta de 2kg",8,"un",null,0.1,10,0,0,0.21890000000000001,{"$f":"ROUND(K148*(1+L148),2)","v":0},"Cotação"]
[null,null,"F.139","Martelo de borracha preta com cabo em madeira 800 gramas",7,"un",null,0.1,10,0,0,0.21890000000000001,{"$f":"ROUND(K149*(1+L149),2)","v":0},"Cotação"]
[null,null,"F.140","Martelo p/ montador de 280 mm - ref. TRAMONTINA",1,"un",null,0.1,10,0,0,0.21890000000000001,{"$f":"ROUND(K150*(1+L150),2)","v":0},"Cotação"]
[null,null,"F.141","Martelo Perfurador Potencia 800W impacto por minuto: 0-5.100 RPM Rotação: 0-1300 RPM Encaixe para acessórios SDS/PLUS",1,"un",null,0.1,10,0,0,0.21890000000000001,{"$f":"ROUND(K151*(1+L151),2)","v":0},"Cotação"]
[null,null,"F.142","Martelo unha cabo de fibra ref. 914-23 ROBUST",4,"un",null,0.1,10,0,0,0.21890000000000001,{"$f":"ROUND(K152*(1+L152),2)","v":0},"Cotação"]
[null,null,"F.143","Medidor de aerodispersóides – referência: HAZ-DUST IV HD1004, 220V ou VEC TEMTOP LKC-1000S VECTUS, com data logger e certificado de calibração",1,"un",null,0.1,10,0,0,0.21890000000000001,{"$f":"ROUND(K153*(1+L153),2)","v":0},"Cotação"]
[null,null,"F.144","Medidor de qualidade do ar interior, referência: TESTO 435-2, com sondas para medição de temperatura do ar, umidade, CO, CO2, pressão absoluta, velocidade do ar, fluxo, e com certificado de calibração",1,"un",null,0.1,10,0,0,0.21890000000000001,{"$f":"ROUND(K154*(1+L154),2)","v":0},"Cotação"]
[null,null,"F.145","Megômetro Digital Portátil ATÉ 2000 OHMS, REF. Minipa MI-1000A",2,"un",null,0.1,10,0,0,0.21890000000000001,{"$f":"ROUND(K155*(1+L155),2)","v":0},"Cotação"]
[null,null,"F.146","Morsa de bancada nº 4",14,"un",null,0.1,10,0,0,0.21890000000000001,{"$f":"ROUND(K156*(1+L156),2)","v":0},"Cotação"]
[null,null,"F.147","Moto Esmeril 1/2 Cv 110/220v",10,"un",null,0.1,10,0,0,0.21890000000000001,{"$f":"ROUND(K157*(1+L157),2)","v":0},"Cotação"]
[null,null,"F.148","Multímetro Digital Portátil Original Minipa Et-2082c Profiss  (marca de referência)",15,"un",null,0.1,10,0,0,0.21890000000000001,{"$f":"ROUND(K158*(1+L158),2)","v":0},"Cotação"]
[null,null,"F.149","Nível de mão com 3 bolhas profissional (TAM. 18POL)",20,"un",null,0.1,10,0,0,0.21890000000000001,{"$f":"ROUND(K159*(1+L159),2)","v":0},"Cotação"]
[null,null,"F.150","Nível de mão em alumínio magnético 12” , ref. STANLEY",7,"un",null,0.1,10,0,0,0.21890000000000001,{"$f":"ROUND(K160*(1+L160),2)","v":0},"Cotação"]
[null,null,"F.151","Parafusadeira portátil de impacto - ref: BOSCH GSB 120-LI, 3-8\", 12V, COM 2 BATERIAS",20,"un",null,0.1,10,0,0,0.21890000000000001,{"$f":"ROUND(K161*(1+L161),2)","v":0},"Cotação"]
[null,null,"F.152","Paquímetro digital 0-150 mm – referência: VONDER PD 150",8,"un",null,0.1,10,0,0,0.21890000000000001,{"$f":"ROUND(K162*(1+L162),2)","v":0},"Cotação"]
[null,null,"F.153","Pendente de luz tipo gaiola com 10 metros para lâmpada de 100 watts",13,"un",null,0.1,10,0,0,0.21890000000000001,{"$f":"ROUND(K163*(1+L163),2)","v":0},"Cotação"]
[null,null,"F.154","Pente para aletas de serpentina de metal",20,"un",null,0.1,10,0,0,0.21890000000000001,{"$f":"ROUND(K164*(1+L164),2)","v":0},"Cotação"]
[null,null,"F.155","Pistola de solda blindada – 550 W – 220V, marca de referência PHILADELFIA",5,"un",null,0.1,10,0,0,0.21890000000000001,{"$f":"ROUND(K165*(1+L165),2)","v":0},"Cotação"]
[null,null,"F.156","Pistola para aplicação de silicone",18,"un",null,0.1,10,0,0,0.21890000000000001,{"$f":"ROUND(K166*(1+L166),2)","v":0},"Cotação"]
[null,null,"F.157","Ponteiro sextavado de aço forjado 250x18mm – referência: F286 Black Jack",8,"un",null,0.1,10,0,0,0.21890000000000001,{"$f":"ROUND(K167*(1+L167),2)","v":0},"Cotação"]
[null,null,"F.158","Recolhedora de gás refrigerante (recolhedora de fluidos com taxa de transferência de gás (fase de vapor) de no mínimo 60 kg/hora; compatível no mínimo com os refrigerantes R-12, R-22, R-134a, R-401a e outros refrigerantes de alta pressão; Com compressor alternativo; resfriamento à ar; e acessórios: i) mínimo de 03 mangueiras de recolhimento de 3/4’’ com válvulas esfera e no mínimo 10 metros de comprimento; ii) mínimo de 03 filtros secadores com núcleo de 48 pés cúbicos; iii) cabos de 15 metros para controle e alimentação elétrica do equipamento; iv) conectores de 3/4’’-5/8’’ e 5/8’’-1/2’’. Fabricante/marca de referência: REFTEC/ EVAC COMMERCIAL CRH-A-230-3-E",0,"un",null,0.1,10,{"$f":"G168*(1-H168)/(I168*12)","v":0},0,0.21890000000000001,{"$f":"ROUND(K168*(1+L168),2)","v":0},"Cotação"]
[null,null,"F.159","Regulador de nitrogênio, REF. SURYHA 80150152",4,"un",null,0.1,10,0,0,0.21890000000000001,{"$f":"ROUND(K169*(1+L169),2)","v":0},"Cotação"]
[null,null,"F.160","Relógio comparador 10mm (REF. MITUTOYO 2046A)",2,"un",null,0.1,10,0,0,0.21890000000000001,{"$f":"ROUND(K170*(1+L170),2)","v":0},"Cotação"]
[null,null,"F.161","Saca fusível NH com proteção",3,"un",null,0.1,10,0,0,0.21890000000000001,{"$f":"ROUND(K171*(1+L171),2)","v":0},"Cotação"]
[null,null,"F.162","Saca polia de 3 garras de 2\"",2,"un",null,0.1,10,0,0,0.21890000000000001,{"$f":"ROUND(K172*(1+L172),2)","v":0},"Cotação"]
[null,null,"F.163","Saca polia de 3 garras de 4\"",4,"un",null,0.1,10,0,0,0.21890000000000001,{"$f":"ROUND(K173*(1+L173),2)","v":0},"Cotação"]
[null,null,"F.164","Saca polia de 3 garras de 6\"",2,"un",null,0.1,10,0,0,0.21890000000000001,{"$f":"ROUND(K174*(1+L174),2)","v":0},"Cotação"]
[null,null,"F.165","Soprador térmico para manutenção de detectores termovelocimétricos, 2000W, 220V, REF. MAKITA HG6531CK",1,"un",null,0.1,10,0,0,0.21890000000000001,{"$f":"ROUND(K175*(1+L175),2)","v":0},"Cotação"]
[null,null,"F.166","Soquete sextavado 3/4\" 32mm",2,"un",null,0.1,10,0,0,0.21890000000000001,{"$f":"ROUND(K176*(1+L176),2)","v":0},"Cotação"]
[null,null,"F.167","Soquete sextavado 3/4\" 41mm",2,"un",null,0.1,10,0,0,0.21890000000000001,{"$f":"ROUND(K177*(1+L177),2)","v":0},"Cotação"]
[null,null,"F.168","TA SCOPE – IMI HYDRONIC",1,"un",null,0.1,10,0,0,0.21890000000000001,{"$f":"ROUND(K178*(1+L178),2)","v":0},"Cotação"]
[null,null,"F.169","Talha manual p/ 2000kg x 10m",1,"un",null,0.1,10,0,0,0.21890000000000001,{"$f":"ROUND(K179*(1+L179),2)","v":0},"Cotação"]
[null,null,"F.170","Talhadeira sextavada de aço forjado 200x18mm – referência: F295 Black Jack",10,"un",null,0.1,10,0,0,0.21890000000000001,{"$f":"ROUND(K180*(1+L180),2)","v":0},"Cotação"]
[null,null,"F.171","Termo-higrômetro digital – referência: INSTRUTHERM HT-260",10,"un",null,0.1,10,0,0,0.21890000000000001,{"$f":"ROUND(K181*(1+L181),2)","v":0},"Cotação"]
[null,null,"F.172","Termômetro digital penta III FULL GAUGE",10,"un",null,0.1,10,0,0,0.21890000000000001,{"$f":"ROUND(K182*(1+L182),2)","v":0},"Cotação"]
[null,null,"F.173","Termômetro Digital Portátil, REF. MINIPA MT-450A",5,"un",null,0.1,10,0,0,0.21890000000000001,{"$f":"ROUND(K183*(1+L183),2)","v":0},"Cotação"]
[null,null,"F.174","Termômetro infravermelho, faixa de medição -20°C a 500°C, marca de ref. VONDER",10,"un",null,0.1,10,0,0,0.21890000000000001,{"$f":"ROUND(K184*(1+L184),2)","v":0},"Cotação"]
[null,null,"F.175","Termômetro tipo espeto digital escala -50 a 300 °C",10,"un",null,0.1,10,0,0,0.21890000000000001,{"$f":"ROUND(K185*(1+L185),2)","v":0},"Cotação"]
[null,null,"F.176","Tesoura chapa corte direito 10x1/2\" ref. Mundial ",10,"un",null,0.1,10,0,0,0.21890000000000001,{"$f":"ROUND(K186*(1+L186),2)","v":0},"Cotação"]
[null,null,"F.177","Tesoura chapa corte esquerdo 10x1/2\" ref. IRWIN",10,"un",null,0.1,10,0,0,0.21890000000000001,{"$f":"ROUND(K187*(1+L187),2)","v":0},"Cotação"]
[null,null,"F.178","Tesoura corneta com 12\"  corte de chapa ref. IRWIN",6,"un",null,0.1,10,0,0,0.21890000000000001,{"$f":"ROUND(K188*(1+L188),2)","v":0},"Cotação"]
[null,null,"F.179","Tesoura manual (chapa)",14,"un",null,0.1,10,0,0,0.21890000000000001,{"$f":"ROUND(K189*(1+L189),2)","v":0},"Cotação"]
[null,null,"F.180","Tesoura p/ borracha e couro",10,"un",null,0.1,10,0,0,0.21890000000000001,{"$f":"ROUND(K190*(1+L190),2)","v":0},"Cotação"]
[null,null,"F.181","Torquímetro em aço forjado com encaixe de 1/2” ",4,"un",null,0.1,10,0,0,0.21890000000000001,{"$f":"ROUND(K191*(1+L191),2)","v":0},"Cotação"]
[null,null,"F.182","Trena de 5 m",30,"un",null,0.1,10,0,0,0.21890000000000001,{"$f":"ROUND(K192*(1+L192),2)","v":0},"Cotação"]
[null,null,"F.183","Trena de 60 metros laser",1,"un",null,0.1,10,0,0,0.21890000000000001,{"$f":"ROUND(K193*(1+L193),2)","v":0},"Cotação"]
[null,null,"F.184","Vacuômetro DIGITAL COM BLUETOOTH PARA SIST. REFRIGERAÇÃO, REF. TESTO 552",2,"un",null,0.1,10,0,0,0.21890000000000001,{"$f":"ROUND(K194*(1+L194),2)","v":0},"Cotação"]
[null,null,"F.185","Carrinho de transporte para cilindro de gases, REF. FORTG-FG-075 OU MARCON TM75",4,"un",null,0.1,10,0,0,0.21890000000000001,{"$f":"ROUND(K195*(1+L195),2)","v":0},"Cotação"]
[null,null,"F.186","Carrinho de ferramentas e suporte para morsa, com 3 gavetas, referência: MERKAVA",7,"un",null,0.1,10,0,0,0.21890000000000001,{"$f":"ROUND(K196*(1+L196),2)","v":0},"Cotação"]
[null,null,"F.187","Coletor Para Limpeza De Ar Condicionado Split 7k À 24k Btu",10,"un",null,0.1,10,0,0,0.21890000000000001,{"$f":"ROUND(K197*(1+L197),2)","v":0},"Cotação"]
[null,null,"F.188","Fasímetro DIGITAL, REF. HFA-690 HIKARI-21N065",1,"un",null,0.1,10,0,0,0.21890000000000001,{"$f":"ROUND(K198*(1+L198),2)","v":0},"Cotação"]
[null,null,"F.189","Jogo de chave catraca para refrigeração com CHAVE CATRACA + FLANGEADOR + CORTADOR",12,"un",null,0.1,10,{"$f":"G199*(1-H199)/(I199*12)","v":0},0,0.21890000000000001,{"$f":"ROUND(K199*(1+L199),2)","v":0},"Cotação"]
[null,null,"F.190","Lamparina Detectora de vazamento de gás",1,"un",null,0.1,10,0,0,0.21890000000000001,{"$f":"ROUND(K200*(1+L200),2)","v":0},"Cotação"]
[null,null,"F.191","Ferro solda tipo machadinha de 180W de 220V",3,"un",null,0.1,10,0,0,0.21890000000000001,{"$f":"ROUND(K201*(1+L201),2)","v":0},"Cotação"]
[null,null,"F.192","Máquina de Escova Rotativa Limpeza De Tubos WAW-500",1,"un",null,0.1,10,0,0,0.21890000000000001,{"$f":"ROUND(K202*(1+L202),2)","v":0},"Cotação"]
[null,null,"F.193","Prensa cambio para Brastemp",1,"un",null,0.1,10,0,{"$f":"J203*E203","v":0},0.21890000000000001,{"$f":"ROUND(K203*(1+L203),2)","v":0},"Cotação"]
[null,null,"F.194","Prumo de centro envernizado e cromado de 200G",6,"un",null,0.1,10,0,0,{"$f":"L203","v":0.21890000000000001},{"$f":"ROUND(K204*(1+L204),2)","v":0},"Cotação"]
[null,null,"F.195","Punção de centro 5mm",12,"un",null,0.1,10,0,0,0.21890000000000001,{"$f":"ROUND(K205*(1+L205),2)","v":0},"Cotação"]
[null,null,"F.196","Saca agitador Brastemp, REF. CWH12, BWG12 CWE11",1,"un",null,0.1,10,0,0,0.21890000000000001,{"$f":"ROUND(K206*(1+L206),2)","v":0},"Cotação"]
[null,null,"F.197","Saca agitador Consul, REF. CWH12, BWG12 CWE11",1,"un",null,0.1,10,{"$f":"G207*(1-H207)/(I207*12)","v":0},0,0.21890000000000001,{"$f":"ROUND(K207*(1+L207),2)","v":0},"Cotação"]
[null,null,"F.198","Saca Cambio universal",1,"un",null,0.1,10,0,0,0.21890000000000001,{"$f":"ROUND(K208*(1+L208),2)","v":0},"Cotação"]
[null,null,"F.199","Saca cesto Brastemp",1,"un",null,0.1,10,0,0,0.21890000000000001,{"$f":"ROUND(K209*(1+L209),2)","v":0},"Cotação"]
[null,null,"F.200","Saca rolamento Brastemp",1,"un",null,0.1,10,0,0,0.21890000000000001,{"$f":"ROUND(K210*(1+L210),2)","v":0},"Cotação"]
[null,null,"F.201","Soprador Térmico STV200 2000W com 3 Estágios",5,"un",null,0.1,10,0,0,0.21890000000000001,{"$f":"ROUND(K211*(1+L211),2)","v":0},"Cotação"]
[]
[]
[null,null,"PAGAMENTO DA MANUTENÇÃO"]
[null,null,"ITEM","DESCRIÇÃO",null,null,null,"K (calculado)","MENSAL DEPR.","% MAN X DEP","MENSAL MAN.","BDI (%)","PREÇO TOTAL"]
[]
[null,null,null,null,null,null,null,{"$f":"H224","v":0.38170440000000005},{"$f":"SUM(K10:K212)","v":0},{"$f":"H217","v":0.38170440000000005},{"$f":"I217*H217","v":0},{"$f":"'BDI - Geral'!E27","v":0.21890000000000001},{"$f":"ROUND(K217*(1+L217),2)","v":0}]
[]
[null,null,null,null,"K1","K2","K3","K4"]
[null,null,null,null,0.85,0.9,0.8,1]
[null,null,null,null,"K5","K6","K7","K8"]
[null,null,null,null,1,0.6,0.5,1.1000000000000001]
[null,null,null,null,"K9","K10","K11","RESULTADO"]
[null,null,null,"* a descrição de cada coeficiente segue abaixo",1.5,0.9,1.4,{"$f":"E220*F220*G220*H220*E222*F222*G222*H222*E224*F224*G224","v":0.38170440000000005}]
[]
[]
[null,null,"MATERIAL DE CONSUMO ASSOCIADO"]
[null,"CÓD.","ITEM","DESCRIÇÃO",null,null,null,"QUANTID/MÊS","UNIDADE","VALOR DE AQ.","MENSAL MAT","BDI (%)","PREÇO TOTAL"]
[]
[null,null,null,null,null,null,null,null,null,null,{"$f":"J230*H230","v":0},{"$f":"'BDI - Geral'!E27","v":0.21890000000000001},{"$f":"ROUND(K230*(1+L230),2)","v":0}]
[]
[]
[null,null,"MATERIAL DE CONSUMO ASSOCIADO"]
[null,null,"ITEM","DESCRIÇÃO",null,null,null,null,null,null,null,null,"PREÇO TOTAL"]
[]
[null,null,1,"Componente DEPRECIAÇÃO",null,null,null,null,null,null,null,null,{"$f":"ROUND(SUM(M10:M211),2)","v":0}]
[null,null,2,"Componente MANUTENÇÃO",null,null,null,null,null,null,null,null,{"$f":"M217","v":0}]
[null,null,3,"Componente MATERIAL DE CONSUMO ASSOCIADO",null,null,null,null,null,null,null,null,{"$f":"ROUND(M230,2)","v":0}]
[]
[null,null,null,null,null,null,null,null,null,null,null,"SOMATÓRIO TOTAL MENSAL",{"$f":"ROUND(SUM(M235:M239),2)","v":0}]
[null,null,null,null,null,null,null,null,null,null,null,"SOMATÓRIO TOTAL ANUAL",{"$f":"ROUND(M240*12,2)","v":0}]
[]
[]
[null,null,"MATERIAL DE CONSUMO ASSOCIADO"]
[null,null,"MEMÓRIA DE CÁLCULO DO COEFICIENTE DE CORRELAÇÃO MANUTENÇÃO X DEPRECIAÇÃO (K)"]
[]
[null,null,"JUSTIFICATIVAS",null,"TIPO","K1","Condições de Trab","K4",null,"Tempo Vida (anos)","K6","Temperatura","K8"]
[null,null,null,null,"Guindaste",0.5,"Em espera",0.4,null,1,0.6,"Muito quente (> 40º C)",1.3]
[null,null,"K1","Considerado o valor médio de 0,85","Caminhão-comum",0.8,"Leves",0.8,null,2,0.7,"Quente (30º a 40º C)",1.1000000000000001]
[null,null,"K2","Considerado o operador bom","Fora-de-estrada",1,"Médias",1,null,3,0.8,"Médio (10º a 30º C)",1]
[null,null,"K3","Consideradas ferramentas de primeira qualidade","Carregadeira",1,"Pesadas",1.4,null,4,0.9,"Frio (< 10º C)",1.2]
[null,null,"K4","Há todo o tipo de trabalho, foi considerado o valor médio","Escavadeira",1.4,"Severas",2,null,5,1]
[null,null,"K5","Considerando manutenção normal","Motoescrêiper",1.1000000000000001,null,null,null,6,1,"Ritmo de Trabalho","K9"]
[null,null,"K6","Equipamentos novos","Trator de esteira",1.2,"Manutenção","K5",null,7,1,"Folgado",0.9]
[null,null,"K7","220h por mês, 252 dias por ano",null,null,"Excelente",0.6,null,8,1.2,"Médio ",1]
[null,null,"K8","Clima quente, acima de 30º C","Qualid do Operador","K2","Boa",0.8,null,9,1.3,"Com pressa",1.5]
[null,null,"K9","Ritmo de trabalho usualmente com pressa","Excelente",0.8,"Média",1,null,10,1.4]
[null,null,"K10","Considerado o operador médio","Boa",0.9,"Ruim ",1.5,null,11,2,"Conh do Serviço","K10"]
[null,null,"K11","Foi considerada a opção de aluguel a terceiros, ainda que a simulação seja dos custos do contratado, contudo a execução dos serviços é em local de terceiros","Média",1,"Inexistente",3,null,15,2,"Grande ",0.8]
[null,null,null,null,"Ruim",1.2,null,null,null,null,null,"Médio     ",0.9]
[null,null,null,null,"Péssima",2,"Horas de Uso ","K7",6000,1,null,"Pouco ",1]
[null,null,null,null,null,null,1000,0.5,8000,1.3]
[null,null,null,null,"Qualidade do Equip","K3",2000,0.5,10000,1.6,null,"Tipo do Serviço","K11"]
[null,null,null,null,"De primeira",0.8,3000,0.6,12000,1.9,null,"Mina ou Pedreira",0.8]
[null,null,null,null,"Média",1,4000,0.7,15000,2.2999999999999998,null,"Construção Geral",1]
[null,null,null,null,"Ruim",1.5,5000,0.9,20000,3,null,"Aluguel a Terceiros",1.4]
[]
[null,null,null,null,"Fonte: "]
[null,null,null,null,"MATTOS, Aldo Dórea. Como preparar orçamentos de obras. São Paulo: Pini, 2006. 281 p., il"]

{"sheet":"Equipamentos","index":35,"n_rows":72,"n_cols":15,"rows_kept":72,"cut":false,"hidden":true,"merged":[[2,1,2,3],[3,1,3,14]]}
[]
[]
[]
[null,"EQUIPAMENTOS - PAGAMENTO DA DEPRECIAÇÃO / MANUTENÇÃO"]
[]
[]
[null,null,"PAGAMENTO DA DEPRECIAÇÃO"]
[null,"CÓD.","ITEM","DESCRIÇÃO",null,"QUANT ANUAL","VALOR DE AQ.","% RESIDUAL","VIDA ÚTIL","DEP. MENSAL","CUSTO MENSAL","BDI (%)","PREÇO MENSAL","FONTE","REFERÊNCIA"]
[]
[null,null,"F.042","Aparelho celular smartphone",null,40,null,0.1,5,{"$f":"G10*(1-H10)/(I10*12)","v":0},{"$f":"J10*F10","v":0},{"$f":"'BDI - Geral'!$E$27","v":0.21890000000000001},{"$f":"ROUND(K10*(1+L10),2)","v":0},"Cotação"]
[null,null,"F.043","Impressora multifuncional HP laserjet pro 135w ou similar",null,6,null,0.1,5,0,{"$f":"J11*F11","v":0},{"$f":"L10","v":0.21890000000000001},{"$f":"ROUND(K11*(1+L11),2)","v":0},"Cotação"]
[null,null,"F.044","Armário tipo roupeiro de aço com 12 vãos, carenagem protetiva e pintura eletrostácia",null,8,null,0,10,0,0,{"$f":"L11","v":0.21890000000000001},0,"Cotação"]
[null,null,"F.045","Estufa elétrica em aço inox para 30 marmitas",null,6,null,0.1,{"$f":"I12","v":10},0,0,0.21890000000000001,0,"Cotação"]
[]
[]
[null,null,"PAGAMENTO DA MANUTENÇÃO"]
[null,null,"ITEM","DESCRIÇÃO",null,null,null,"K (calculado)","MENSAL DEPR.","% MAN X DEP","MENSAL MAN.","BDI (%)","PREÇO TOTAL"]
[]
[null,null,null,null,null,null,null,{"$f":"H26","v":0.38170440000000005},{"$f":"SUM(K10:K14)","v":0},{"$f":"H19","v":0.38170440000000005},{"$f":"I19*H19","v":0},{"$f":"'BDI - Geral'!E27","v":0.21890000000000001},{"$f":"ROUND(K19*(1+L19),2)","v":0}]
[]
[null,null,null,null,"K1","K2","K3","K4"]
[null,null,null,null,0.85,0.9,0.8,1]
[null,null,null,null,"K5","K6","K7","K8"]
[null,null,null,null,1,0.6,0.5,1.1000000000000001]
[null,null,null,null,"K9","K10","K11","RESULTADO"]
[null,null,null,"* a descrição de cada coeficiente segue abaixo",1.5,0.9,1.4,{"$f":"E22*F22*G22*H22*E24*F24*G24*H24*E26*F26*G26","v":0.38170440000000005}]
[]
[]
[null,null,"MATERIAL DE CONSUMO ASSOCIADO"]
[null,"CÓD.","ITEM","DESCRIÇÃO",null,null,null,"QUANTID/MÊS","UNIDADE","VALOR DE AQ.","MENSAL MAT","BDI (%)","PREÇO TOTAL"]
[]
[null,"07.01.01","MC.001","Plano de Telefonia com, no mínimo, 200 minutos de ligações locais ilimitadas e 5,0Gb de internet no plano, por mês (referência: Vivo Controle 6Gb, Claro Controle 15Gb, Tim Controle 5Gb, Oi Controle 6Gb)",null,null,null,40,"MENSALIDADE",null,{"$f":"J32*H32","v":0},{"$f":"'BDI - Geral'!E27","v":0.21890000000000001},{"$f":"ROUND(K32*(1+L32),2)","v":0}]
[null,"07.01.02","MC.002","Toner Original Hp 105a W1105a 135a 135w",null,null,null,0.5,"Unid",null,{"$f":"J33*H33","v":0},{"$f":"L32","v":0.21890000000000001},{"$f":"ROUND(K33*(1+L33),2)","v":0}]
[]
[]
[null,null,"MATERIAL DE CONSUMO ASSOCIADO"]
[null,null,"ITEM","DESCRIÇÃO",null,null,null,null,null,null,null,null,"PREÇO TOTAL"]
[]
[null,null,1,"Componente DEPRECIAÇÃO",null,null,null,null,null,null,null,null,{"$f":"ROUND(SUM(M10:M13),2)","v":0}]
[null,null,2,"Componente MANUTENÇÃO",null,null,null,null,null,null,null,null,{"$f":"M19","v":0}]
[null,null,3,"Componente MATERIAL DE CONSUMO ASSOCIADO",null,null,null,null,null,null,null,null,{"$f":"ROUND(M32+M33,2)","v":0}]
[]
[null,null,null,null,null,null,null,null,null,null,null,"SOMATÓRIO TOTAL MENSAL",{"$f":"ROUND(SUM(M38:M42),2)","v":0}]
[null,null,null,null,null,null,null,null,null,null,null,"SOMATÓRIO TOTAL ANUAL",{"$f":"ROUND(M43*12,2)","v":0}]
[]
[]
[null,null,"MATERIAL DE CONSUMO ASSOCIADO"]
[null,null,"MEMÓRIA DE CÁLCULO DO COEFICIENTE DE CORRELAÇÃO MANUTENÇÃO X DEPRECIAÇÃO (K)"]
[]
[null,null,"JUSTIFICATIVAS",null,"TIPO","K1","Condições de Trab","K4",null,"Tempo Vida (anos)","K6","Temperatura","K8"]
[null,null,null,null,"Guindaste",0.5,"Em espera",0.4,null,1,0.6,"Muito quente (> 40º C)",1.3]
[null,null,"K1","Considerado o valor médio de 0,85","Caminhão-comum",0.8,"Leves",0.8,null,2,0.7,"Quente (30º a 40º C)",1.1000000000000001]
[null,null,"K2","Considerado o operador bom","Fora-de-estrada",1,"Médias",1,null,3,0.8,"Médio (10º a 30º C)",1]
[null,null,"K3","Consideradas ferramentas de primeira qualidade","Carregadeira",1,"Pesadas",1.4,null,4,0.9,"Frio (< 10º C)",1.2]
[null,null,"K4","Há todo o tipo de trabalho, foi considerado o valor médio","Escavadeira",1.4,"Severas",2,null,5,1]
[null,null,"K5","Considerando manutenção normal","Motoescrêiper",1.1000000000000001,null,null,null,6,1,"Ritmo de Trabalho","K9"]
[null,null,"K6","Equipamentos novos","Trator de esteira",1.2,"Manutenção","K5",null,7,1,"Folgado",0.9]
[null,null,"K7","220h por mês, 252 dias por ano",null,null,"Excelente",0.6,null,8,1.2,"Médio ",1]
[null,null,"K8","Clima quente, acima de 30º C","Qualid do Operador","K2","Boa",0.8,null,9,1.3,"Com pressa",1.5]
[null,null,"K9","Ritmo de trabalho usualmente com pressa","Excelente",0.8,"Média",1,null,10,1.4]
[null,null,"K10","Considerado o operador médio","Boa",0.9,"Ruim ",1.5,null,11,2,"Conh do Serviço","K10"]
[null,null,"K11","Foi considerada a opção de aluguel a terceiros, ainda que a simulação seja dos custos do contratado, contudo a execução dos serviços é em local de terceiros","Média",1,"Inexistente",3,null,15,2,"Grande ",0.8]
[null,null,null,null,"Ruim",1.2,null,null,null,null,null,"Médio     ",0.9]
[null,null,null,null,"Péssima",2,"Horas de Uso ","K7",6000,1,null,"Pouco ",1]
[null,null,null,null,null,null,1000,0.5,8000,1.3]
[null,null,null,null,"Qualidade do Equip","K3",2000,0.5,10000,1.6,null,"Tipo do Serviço","K11"]
[null,null,null,null,"De primeira",0.8,3000,0.6,12000,1.9,null,"Mina ou Pedreira",0.8]
[null,null,null,null,"Média",1,4000,0.7,15000,2.2999999999999998,null,"Construção Geral",1]
[null,null,null,null,"Ruim",1.5,5000,0.9,20000,3,null,"Aluguel a Terceiros",1.4]
[]
[null,null,null,null,"Fonte: "]
[null,null,null,null,"MATTOS, Aldo Dórea. Como preparar orçamentos de obras. São Paulo: Pini, 2006. 281 p., il"]

{"sheet":"Mat Consumo","index":36,"n_rows":77,"n_cols":13,"rows_kept":77,"cut":false,"hidden":true,"merged":[[2,1,2,3],[3,1,3,10]]}
[]
[]
[]
[null,"MATERIAIS DE CONSUMO - AQUISIÇÃO"]
[]
[]
[null,null,"ITEM","DESCRIÇÃO","QUANT ANUAL","UNIDADE","CUSTO UNITÁRIO","CUSTO ANUAL","BDI (%)","PREÇO TOTAL","FONTE"]
[]
[null,null,"M.001","Abraçadeira de 5/8\" X 3/4\" (em aço, rosca sem fim)",120,"un",null,{"$f":"G9*E9","v":0},{"$f":"'BDI - Geral'!E27","v":0.21890000000000001},{"$f":"H9*(1+I9)","v":0}]
[null,null,"M.002","Abraçadeira nylon 100x2,5mm (pacote com 100 unidades)",5,"pct",null,{"$f":"G10*E10","v":0},{"$f":"I9","v":0.21890000000000001},{"$f":"H10*(1+I10)","v":0}]
[null,null,"M.003","Abraçadeira nylon 200x2,5mm (pacote com 100 unidades)",5,"pct",null,0,{"$f":"I10","v":0.21890000000000001},0]
[null,null,"M.004","Abraçadeira nylon 140x3,5mm (pacote com 100 unidades)",5,"pct",null,0,0.21890000000000001,0]
[null,null,"M.005","Abraçadeira nylon 200x3,5mm (pacote com 100 unidades)",5,"pct",null,0,0.21890000000000001,0]
[null,null,"M.006","Água sanitária (Ref. kiboa) 1L",144,"un",null,0,0.21890000000000001,0]
[null,null,"M.007","Álcool isopropílico – litro",100,"un",null,0,0.21890000000000001,0]
[null,null,"M.008","Lâmina para Arco de serra 12\" - marca de referência 149 Starret",60,"un",null,0,0.21890000000000001,0]
[null,null,"M.009","Bateria de 1,5V LR44",48,"un",null,0,0.21890000000000001,0]
[null,null,"M.010","Bateria de 6V",48,"un",null,0,0.21890000000000001,0]
[null,null,"M.011","Bateria de 9V",24,"un",null,0,0.21890000000000001,0]
[null,null,"M.012","Bico de ferro/mangueira 3/4'' para torneira 3/4''",5,"un",null,0,0.21890000000000001,0]
[null,null,"M.013","Palha de aço - marca de referência Bombril",360,"un",null,0,0.21890000000000001,0]
[null,null,"M.014","Caneta - marca de referência Bic",24,"un",null,0,0.21890000000000001,0]
[null,null,"M.015","Caneta corretivo",3,"un",null,0,0.21890000000000001,0]
[null,null,"M.016","Caneta marcador permanente",3,"un",null,0,0.21890000000000001,0]
[null,null,"M.017","Clip para cabo de aço de 1/2",12,"un",null,0,0.21890000000000001,0]
[null,null,"M.018","Cola química - (Ref. Durepox) massa 250g",24,"un",null,0,0.21890000000000001,0]
[null,null,"M.019","Cola - Ref. Superbond 20G",48,"un",null,0,0.21890000000000001,0]
[null,null,"M.020","Detergente ácido FX 1100 ativado (galão 5 litros)",180,"un",null,0,0.21890000000000001,0]
[null,null,"M.021","Desengraxante Thilex 1.4 (galão 5 litros)",180,"un",null,0,0.21890000000000001,0]
[null,null,"M.022","Escova de aço manual com cabo madeira 3 linhas - marca de referência 1777/3 Osborn",24,"un",null,0,0.21890000000000001,0]
[null,null,"M.023","Espanador de pena nº 45",12,"un",null,0,0.21890000000000001,0]
[null,null,"M.024","Estopa",62,"kg",null,0,0.21890000000000001,0]
[null,null,"M.025","Filtro de sucção para lava-jato (Saco coletor filtro descartável aspirador WAP ST 20L - com 3 un)",24,"sc",null,0,0.21890000000000001,0]
[null,null,"M.026","Fita alta fusão 19mm x 10m",60,"un",null,0,0.21890000000000001,0]
[null,null,"M.027","Fita Isolante 20m - marca de referência 3M",65,"un",null,0,0.21890000000000001,0]
[null,null,"M.028","Fita veda rosca 18 x 50m",65,"un",null,0,0.21890000000000001,0]
[null,null,"M.029","Grampeador - marca de referência Mercur",2,"un",null,0,0.21890000000000001,0]
[null,null,"M.030","Graxa azul",30,"kg",null,0,0.21890000000000001,0]
[null,null,"M.031","Lâmpada incandescente de 100w de 220 V",40,"un",null,0,0.21890000000000001,0]
[null,null,"M.032","Lápis carpinteiro",10,"un",null,0,0.21890000000000001,0]
[null,null,"M.033","Livro ata páginas numeradas (ocorrência) 100 fls",10,"un",null,0,0.21890000000000001,0]
[null,null,"M.034","Livro de inspeção do trabalho 50 FOLHAS",2,"un",null,0,0.21890000000000001,0]
[null,null,"M.035","Metasil Desix bactericida (galão 5 litros)",120,"un",null,0,0.21890000000000001,0]
[null,null,"M.036","Metasil Jato Plus detergente (galão 5 litros)",120,"un",null,0,0.21890000000000001,0]
[null,null,"M.037","Metasil R-280 desincrustante (galão 5 litros)",120,"un",null,0,0.21890000000000001,0]
[null,null,"M.038","Metasil Metacoil detergente (galão 5 litros)",60,"un",null,0,0.21890000000000001,0]
[null,null,"M.039","Pano para chão alvejado",180,"un",null,0,0.21890000000000001,0]
[null,null,"M.040","Papel A4 (Resma com 500 folhas)",30,"un",null,0,0.21890000000000001,0]
[null,null,"M.041","Parafina sólida",3,"kg",null,0,0.21890000000000001,0]
[null,null,"M.046","Pasta Joia (Multiuso desengraxante 500g)",40,"un",null,0,{"$f":"I49","v":0.21890000000000001},0]
[null,null,"M.047","Pasta para solda de 110 gramas",3,"un",null,0,0.21890000000000001,0]
[null,null,"M.048","Pincel para quadro branco",6,"un",null,0,0.21890000000000001,0]
[null,null,"M.049","Pincel 1” metal/madeira",20,"un",null,0,0.21890000000000001,0]
[null,null,"M.050","Pino adaptador universal cinza",5,"un",null,0,0.21890000000000001,0]
[null,null,"M.051","Querosene – litro",12,"un",null,0,0.21890000000000001,0]
[null,null,"M.052","Régua de 30cm em acrílico",2,"un",null,0,0.21890000000000001,0]
[null,null,"M.053","Rodo médio 60cm em madeira",10,"un",null,0,0.21890000000000001,0]
[null,null,"M.054","Rodo médio de 40cm em madeira",15,"un",null,0,0.21890000000000001,0]
[null,null,"M.055","Sabão Líquido (marca de referência Argus)",200,"lt",null,0,0.21890000000000001,0]
[null,null,"M.056","Saco para aspirador de pó GT 3000 Electrolux  (marca de referência)",120,"un",null,0,0.21890000000000001,0]
[null,null,"M.057","Saco para lixo com 100 unidades 100L",12,"un",null,0,0.21890000000000001,0]
[null,null,"M.058","Soda cáustica 1L",200,"un",null,0,0.21890000000000001,0]
[null,null,"M.059","Solda azul 500 gramas 60/40 msx -10",3,"un",null,0,0.21890000000000001,0]
[null,null,"M.060","Solução para bateria (água destilada) – 1 litro",12,"un",null,0,0.21890000000000001,0]
[null,null,"M.061","Spray de fumaça para teste de detectores - lata 400ml",12,"un",null,0,0.21890000000000001,0]
[null,null,"M.062","Suma Grill (D94) - detergente desincrustante alcalino para remoção de gordura carbonizada  (galão de 5 litros)",40,"un",null,0,0.21890000000000001,0]
[null,null,"M.063","Terminal tipo garfo de 1,5mm a 2,5mm",50,"un",null,0,0.21890000000000001,0]
[null,null,"M.064","Terminal tipo olhal de 16mm",20,"un",null,0,0.21890000000000001,0]
[null,null,"M.065","Terminal tipo pino de 1,5mm a 2,5mm",50,"un",null,0,0.21890000000000001,0]
[null,null,"M.066","Toner para impressora laserjet HP (Ref. W1030X preto)",6,"un",null,0,0.21890000000000001,{"$f":"H70*(1+I70)","v":0}]
[null,null,"M.067","Trapo 25 kg",20,"un",null,0,{"$f":"I70","v":0.21890000000000001},0]
[null,null,"M.068","Vassoura piaçava ",10,"un",null,0,0.21890000000000001,0]
[null,null,"M.069","Veja multiuso (marca de referência) - 500ml",240,"un",null,0,0.21890000000000001,0]
[null,null,"M.070","WD 40  (marca de referência) - 300ml",52,"un",null,{"$f":"G74*E74","v":0},0.21890000000000001,0]
[]
[null,null,null,null,null,null,null,null,"SOMATÓRIO TOTAL MENSAL",{"$f":"ROUND(SUM(J8:J75)/12,2)","v":0}]
[null,null,null,null,null,null,null,null,"SOMATÓRIO TOTAL ANUAL",{"$f":"J76*12","v":0},null,null,{"$f":"SUM($H$9:$H$74)","v":0}]

{"sheet":"Prof.N.Resid","index":37,"n_rows":12,"n_cols":14,"rows_kept":12,"cut":false,"hidden":true,"merged":[[2,1,2,3],[3,1,3,10]]}
[]
[]
[]
[null,"SERVIÇO DE PROFISSIONAL NÃO RESIDENTE"]
[]
[]
[null,null,"ITEM","DESCRIÇÃO","QUANT ANUAL","UNIDADE","CUSTO UNITÁRIO","CUSTO ANUAL","BDI (%)","PREÇO TOTAL","FONTE"]
[]
[null,null,"PRO.1","ENGENHEIRO MECÂNICO (MEIO PERÍODO) - DISPONIBILIDADE - COM ENCARGOS COMPLEMENTARES",12,"mês",null,{"$f":"G9*E9","v":0},{"$f":"'BDI - Geral'!E27","v":0.21890000000000001},{"$f":"ROUND(H9*(1+I9),2)","v":0},"SINAPI"]
[]
[null,null,null,null,null,null,null,null,"SOMATÓRIO TOTAL MENSAL",{"$f":"ROUND(SUM(J8:J10)/12,2)","v":0}]
[null,null,null,null,null,null,null,null,"SOMATÓRIO TOTAL ANUAL",{"$f":"J11*12","v":0},null,null,{"$f":"SUM($H$9:$H$9)","v":0},"por ano sem bdi"]

{"sheet":"Veículos","index":38,"n_rows":26,"n_cols":11,"rows_kept":26,"cut":false,"hidden":true,"merged":[[2,1,2,3],[3,1,3,10],[7,3,7,4],[9,3,9,4]]}
[]
[]
[]
[null,"VEÍCULOS PARA TRANSPORTE DE COLABORADORES E DE MATERIAIS"]
[]
[]
[null,"DISPONIBILIDADE DO BEM"]
[null,"ITEM","DESCRIÇÃO (MODELO DE REFERÊNCIA)","MÉTODO DE CÁLCULO",null,"CUSTO","QUANTIDADE","CUSTO TOTAL","BDI (%)","PREÇO TOTAL","FONTE"]
[]
[null,"V.01","STRADA FREEDOM CD 1.3 +8V FLEX 4P C/AR","Aluguel mensal (inclui depreciação, manutenção (preventiva, preditiva e corretiva), assistência 24h e seguro)",null,2463.4699999999998,1,null,{"$f":"'BDI - Geral'!E27","v":0.21890000000000001},{"$f":"ROUND(H10*(1+I10),2)","v":0},"COTAÇÃO"]
[]
[]
[null,"CONSUMOS DA OPERAÇÃO"]
[null,"ITEM","DESCRIÇÃO","RODAGEM MÉDIA MENSAL (km/mês)","CONSUMO MÉDIO (km/l)","CONSUMO MENSAL (l/mês)","CUSTO COMBUSTIVEL","CUSTO TOTAL","BDI (%)","PREÇO TOTAL","FONTE"]
[]
[null,"C.01","Gasolina Comum",1000,10.1,null,5.8029999999999999,{"$f":"G16*F16","v":0},{"$f":"I10","v":0.21890000000000001},{"$f":"ROUND(H16*(1+I16),2)","v":0},"SITE"]
[]
[]
[]
[null,null,"DESCRIÇÃO",null,null,null,null,null,null,"PREÇO TOTAL"]
[]
[null,null,"DISPONIBILIDADE DO BEM",null,null,null,null,null,null,{"$f":"J10","v":0}]
[null,null,"CONSUMOS DA OPERAÇÃO",null,null,null,null,null,null,{"$f":"J16","v":0}]
[]
[null,null,null,null,null,null,null,null,"SOMATÓRIO TOTAL MENSAL",{"$f":"ROUND(SUM(J21:J24),2)","v":0}]
[null,null,null,null,null,null,null,null,"SOMATÓRIO TOTAL ANUAL",{"$f":"J25*12","v":0}]

{"sheet":"Serv.Adicionais","index":39,"n_rows":15,"n_cols":14,"rows_kept":15,"cut":false,"hidden":true,"merged":[[2,1,2,3],[3,1,3,10]]}
[]
[]
[]
[null,"SERVIÇOS ADICIONAIS"]
[]
[]
[null,null,"ITEM","DESCRIÇÃO","QUANT ANUAL","UNIDADE","CUSTO UNITÁRIO","CUSTO ANUAL","BDI (%)","PREÇO TOTAL","FONTE"]
[]
[null,null,"ADI.1","Manutenção preventiva e corretiva nas unidades resfriadoras de líquido dos sistemas de ar condicionado",12,"serv",null,{"$f":"G9*E9","v":0},{"$f":"'BDI - Geral'!E27","v":0.21890000000000001},{"$f":"ROUND(H9*(1+I9),2)","v":0},"SINAPI",null,null,"*valores mensais - contratos Proclima e Dclima"]
[null,null,"ADI.2","Tratamento químico das águas de condensação e gelada do sistema de ar condicionado",12,"serv",null,{"$f":"G10*E10","v":0},{"$f":"I9","v":0.21890000000000001},{"$f":"ROUND(H10*(1+I10),2)","v":0},null,null,null,"*valor mensal - contrato DUTOS QUÍMICA"]
[null,null,"ADI.3","Software para gerenciamento da manutenção – referência: FIIX CMMS, 8 licenças profissionais",12,"serv",null,0,{"$f":"I10","v":0.21890000000000001},0,null,null,null,"*9,25% de tributos sobre importação de software"]
[null,null,"ADI.4","Serviço de locação de Munck com lança telescópica - custo horário completo, incluíndo combustível, operador e demais custos da máquina - diária",120,"serv",null,0,{"$f":"I11","v":0.21890000000000001},0,null,null,null,"* U$ 1 = R$ 5,50"]
[]
[null,null,null,null,null,null,null,null,"SOMATÓRIO TOTAL MENSAL",{"$f":"ROUND(SUM(J8:J13)/12,2)","v":0}]
[null,null,null,null,null,null,null,null,"SOMATÓRIO TOTAL ANUAL",{"$f":"J14*12","v":0},null,null,{"$f":"SUM($H$9:$H$9)","v":0},"por ano sem bdi"]

{"sheet":"Demanda - H.Extras","index":40,"n_rows":55,"n_cols":15,"rows_kept":55,"cut":false,"hidden":true,"merged":[[0,1,0,14],[3,1,3,14],[30,3,30,13],[48,3,48,9],[52,3,52,9],[17,1,17,14],[31,12,31,13],[32,12,32,13],[34,12,34,13],[38,12,38,13],[39,12,39,13],[41,3,41,9]]}
[null,"HORAS EXTRAS SOB DEMANDA"]
[]
[]
[null,"SERVIÇO EXTRAORDINÁRIO REALIZADO NOS SÁBADOS - ADICIONAL 50% - ESTIMATIVA"]
[]
[]
[null,null,"ITEM","POSTO DE TRABALHO","REMUNERAÇÃO","ADICIONAIS PERIC/INSAL","CUSTO DA HORA+50%","HORAS/ DIA","REMUNERAÇÃO /DIA","VA + VT (DIA)","ENCARGOS SOCIAIS HE","CUSTO/ SÁBADO","POSTOS/ SÁBADO","SÁBADOS/ ANO","TOTAL MENSAL"]
[null,null,1,{"$f":"Remunerações!D4","v":"TÉCNICO DE APOIO ADMINISTRATIVO"},{"$f":"Remunerações!F4","v":4932.41},{"$f":"Remunerações!G4+Remunerações!H4","v":0},{"$f":"1.5*(E8+F8)/220","v":33.630068181818181},0,{"$f":"G8*H8","v":0},{"$f":"('Dados Gerais'!D101+'Dados Gerais'!D90)/'Dados Gerais'!D18","v":47.65},{"$f":"'Encargos Sociais - HE'!$E$46","v":0.93519999999999992},{"$f":"(I8+J8)*(1+K8)","v":92.212279999999993},null,12,{"$f":"L8*M8*N8/12","v":0}]
[null,null,2,{"$f":"Remunerações!D5","v":"ENCARREGADO GERAL"},{"$f":"Remunerações!F5","v":6937.73},{"$f":"Remunerações!G5+Remunerações!H5","v":0},47.302704545454546,0,{"$f":"G9*H9","v":0},{"$f":"J8","v":47.65},{"$f":"K8","v":0.93519999999999992},{"$f":"(I9+J9)*(1+K9)","v":92.212279999999993},null,0,{"$f":"L9*M9*N9/12","v":0}]
[null,null,3,{"$f":"Remunerações!D6","v":0},{"$f":"Remunerações!F6","v":0},{"$f":"Remunerações!G6+Remunerações!H6","v":0},0,0,0,{"$f":"J9","v":47.65},{"$f":"K9","v":0.93519999999999992},92.212279999999993,null,12,0]
[null,null,4,{"$f":"Remunerações!D15","v":0},{"$f":"Remunerações!F15","v":0},{"$f":"Remunerações!G15+Remunerações!H15","v":0},0,0,0,47.65,0.93519999999999992,92.212279999999993,null,24,0]
[null,null,5,{"$f":"Remunerações!D16","v":0},{"$f":"Remunerações!F16","v":0},{"$f":"Remunerações!G16+Remunerações!H16","v":0},{"$f":"1.5*(E12+F12)/220","v":0},0,{"$f":"G12*H12","v":0},47.65,0.93519999999999992,{"$f":"(I12+J12)*(1+K12)","v":92.212279999999993},null,24,{"$f":"L12*M12*N12/12","v":0}]
[null,null,6,{"$f":"Remunerações!D17","v":0},{"$f":"Remunerações!F17","v":0},{"$f":"Remunerações!G17+Remunerações!H17","v":0},0,0,0,47.65,0.93519999999999992,92.212279999999993,null,24,0]
[]
[null,null,null,"TOTAL MENSAL",null,null,null,null,null,null,null,null,null,null,{"$f":"SUM(O8:O14)","v":0}]
[]
[]
[null,"SERVIÇO EXTRAORDINÁRIO REALIZADO NOS DOMINGOS - ADICIONAL 100% - ESTIMATIVA"]
[]
[]
[null,null,"ITEM","POSTO DE TRABALHO","REMUNERAÇÃO","ADICIONAIS PERIC/INSAL","CUSTO DA HORA+100%","HORAS/ DIA","REMUNERAÇÃO /DIA","VA + VT (DIA)","ENCARGOS SOCIAIS HE","CUSTO/ DOMINGO","POSTOS/ DOMINGO","DOMINGOS/ ANO","TOTAL MENSAL"]
[null,null,1,{"$f":"D8","v":"TÉCNICO DE APOIO ADMINISTRATIVO"},4932.41,0,{"$f":"2*(E22+F22)/220","v":44.840090909090911},{"$f":"9*0","v":0},{"$f":"G22*H22","v":0},{"$f":"J8","v":47.65},{"$f":"'Encargos Sociais - HE'!$E$46","v":0.93519999999999992},{"$f":"(I22+J22)*(1+K22)","v":92.212279999999993},null,0,{"$f":"L22*M22*N22/12","v":0}]
[null,null,2,"ENCARREGADO GERAL",6937.73,0,{"$f":"2*(E23+F23)/220","v":63.070272727272723},{"$f":"9*0","v":0},0,{"$f":"J22","v":47.65},{"$f":"K22","v":0.93519999999999992},{"$f":"(I23+J23)*(1+K23)","v":92.212279999999993},null,0,{"$f":"L23*M23*N23/12","v":0}]
[null,null,3,0,0,0,0,0,0,{"$f":"J23","v":47.65},{"$f":"K23","v":0.93519999999999992},92.212279999999993,null,0,0]
[null,null,4,0,0,0,0,0,0,47.65,0.93519999999999992,92.212279999999993,null,0,0]
[null,null,5,0,0,0,0,0,0,47.65,0.93519999999999992,92.212279999999993,null,12,0]
[null,null,6,0,0,0,{"$f":"2*(E27+F27)/220","v":0},0,{"$f":"G27*H27","v":0},47.65,0.93519999999999992,{"$f":"(I27+J27)*(1+K27)","v":92.212279999999993},null,12,{"$f":"L27*M27*N27/12","v":0}]
[]
[null,null,null,"TOTAL MENSAL",null,null,null,null,null,null,null,null,null,null,{"$f":"SUM(O22:O28)","v":0}]
[]
[null,null,null,"TOTAIS ANUAIS PARA SERVIÇO EXTRA"]
[null,null,null,"DESCRIÇÃO",null,null,null,null,"CUSTO MENSAL","BDI","VALOR MENSAL","MESES","VALOR ANUAL"]
[null,null,null,"Serviços Extraordinários executados aos SÁBADOS",null,null,null,null,{"$f":"O15","v":0},{"$f":"'BDI - Geral'!E27","v":0.21890000000000001},{"$f":"ROUND(I33*(1+J33),2)","v":0},12,{"$f":"K33*L33","v":0}]
[null,null,null,"Adicional de Horas Noturnas (sob demanda)",null,null,null,null,{"$f":"#REF!","v":{"$error":"#REF!"}}]
[null,null,null,"Serviços Extraordinários executados aos DOMINGOS",null,null,null,null,{"$f":"O29","v":0},{"$f":"J33","v":0.21890000000000001},{"$f":"ROUND(I35*(1+J35),2)","v":0},12,{"$f":"K35*L35","v":0}]
[]
[]
[]
[null,null,null,null,null,null,null,null,null,null,"TOTAL ANUAL PARA SERVIÇOS EXTRAORDINÁRIOS - SOB DEMANDA",null,{"$f":"SUM(M33:N36)","v":0}]
[null,null,null,null,null,null,null,null,null,null,"MÉDIA MENSAL PARA SERVIÇOS EXTRAORDINÁRIOS - SOB DEMANDA",null,{"$f":"M39/12","v":0}]
[]
[null,null,null,"TOTAL MENSAL - ITENS SOB DEMANDA"]
[null,null,null,"DESCRIÇÃO",null,null,null,null,null,"VALOR"]
[null,null,null,"Materiais não relacionados diretamente a um posto de trabalho - AQUISIÇÃO SOB DEMANDA",null,null,null,null,null,{"$f":"#REF!","v":{"$error":"#REF!"}}]
[null,null,null,"Equipamentos não relacionados diretamente a um posto de trabalho - AQUISIÇÃO SOB DEMANDA",null,null,null,null,null,{"$f":"#REF!","v":{"$error":"#REF!"}}]
[]
[null,null,null,null,null,null,"TOTAL MENSAL DA CONTRATAÇÃO",null,null,{"$f":"SUM(J44:J46)","v":{"$error":"#REF!"}}]
[]
[null,null,null,"TOTAL ANUAL - ITENS SOB DEMANDA"]
[]
[null,null,null,null,null,null,"12 x TOTAL MENSAL",null,null,{"$f":"J47*12","v":{"$error":"#REF!"}}]
[]
[null,null,null,"TOTAL ANUAL GLOBAL DA CONTRATAÇÃO"]
[]
[null,null,null,null,null,null,null,null,null,{"$f":"J51+J40","v":{"$error":"#REF!"}}]

{"sheet":"Demanda - Transp. p. chamado","index":41,"n_rows":17,"n_cols":14,"rows_kept":17,"cut":false,"hidden":true,"merged":[[2,1,2,3],[3,1,3,10]]}
[]
[]
[]
[null,"PREVISÃO DE MOVIMENTAÇÕES EM TRANSPORTE POR CHAMADO - SOB DEMANDA"]
[]
[]
[null,null,"ITEM","DESCRIÇÃO","QUANT ANUAL","UNIDADE","CUSTO UNITÁRIO","CUSTO ANUAL","BDI (%)","PREÇO TOTAL","FONTE"]
[]
[null,null,"MOV.1","PERCURSO CÂMARA - RESIDÊNCIA OFICIAL",48,"Chamado",null,{"$f":"G9*E9","v":0},{"$f":"'BDI - Demanda'!E27","v":0.17760000000000001},{"$f":"ROUND(H9*(1+I9),2)","v":0},"UberX"]
[null,null,"MOV.2","PERCURSO CÂMARA - COMPLEXO AVANÇADO DA CÂMARA",{"$f":"52*4","v":208},"Chamado",null,0,{"$f":"I9","v":0.17760000000000001},0,"UberX"]
[null,null,"MOV.3","PERCURSO CÂMARA - CEAM/SIA",{"$f":"3*12","v":36},"Chamado",null,0,{"$f":"I10","v":0.17760000000000001},0,"UberX"]
[null,null,"MOV.4","PERCURSO CÂMARA - SQN 302 ou 202 (APARTAMENTOS)",{"$f":"12*6","v":72},"Chamado",null,0,{"$f":"I11","v":0.17760000000000001},0,"UberX"]
[null,null,"MOV.5","PERCURSO CÂMARA - SQS 111 ou 311 (APARTAMENTOS)",{"$f":"E12","v":72},"Chamado",null,0,{"$f":"I12","v":0.17760000000000001},0,"UberX"]
[null,null,"MOV.6","PERCURSO CÂMARA - Centro de Transmissão - TV Câmara",12,"Chamado",null,0,{"$f":"I13","v":0.17760000000000001},0,"UberX"]
[]
[null,null,null,null,null,null,null,null,"SOMATÓRIO TOTAL MENSAL",{"$f":"ROUND(SUM(J8:J15)/12,2)","v":0}]
[null,null,null,null,null,null,null,null,"SOMATÓRIO TOTAL ANUAL",{"$f":"J16*12","v":0},null,null,{"$f":"SUM($H$9:$H$14)","v":0},"por ano sem bdi"]

{"sheet":"Materiais - Consumo","index":42,"n_rows":51,"n_cols":12,"rows_kept":51,"cut":false,"hidden":true,"merged":[[2,1,2,2],[3,1,3,9]]}
[]
[]
[]
[null,"MATERIAIS SOB DEMANDA"]
[]
[]
[null,"CÓDIGO","DESCRIÇÃO","ESPECIFICAÇÃO","QUANT ANUAL","UNIDADE","CUSTO UNITÁRIO","CUSTO ANUAL","BDI (%)","PREÇO TOTAL ANUAL"]
[null,"MAT.001","Açucareiro de Vidro","CARACTERÍSTICA(S):\n- corpo de vidro;\n- com tampa dosadora em aço inoxidável;\n- capacidade mínima de 240g. ACONDICIONAMENTO: embalagem original de fábrica, com identificação e quantidade do material.",45,"Unidade",null,{"$f":"E8*G8","v":0},{"$f":"'BDI - Geral'!$E$27","v":0.21890000000000001},{"$f":"H8*(1+I8)","v":0}]
[null,"MAT.002","Adoçante","DESCRIÇÃO: adoçante líquido à base de glicosídeos de steviol, sem mistura com outros edulcorantes.\nFORMA DE APRESENTAÇÃO: frasco de, no mínimo, 60 ml.\nPRAZO MÍNIMO DE VALIDADE: 18\n(dezoito) meses contados da data do recebimento definitivo.\nACONDICIONAMENTO: embalagem original de fábrica, com identificação, data de validade e quantidade do material.",1368,"Unidade",null,{"$f":"E9*G9","v":0},{"$f":"I8","v":0.21890000000000001},{"$f":"H9*(1+I9)","v":0}]
[null,"MAT.003","Bandeja circular em aço inoxidável","CARACTERÍSTICA(S): bandeja em aço inoxidável com acabamento brilhante, formato circular, sem alças, sem detalhes nas bordas. MEDIDA(S): 400 mm de diâmetro, admitida variação de até 5%.\nACONDICIONAMENTO: embalagem original de fábrica, com identificação e quantidade do material.",34,"Unidade",null,0,{"$f":"I9","v":0.21890000000000001},0]
[null,"MAT.004","Bule para café em aço inoxidável","CARACTERÍSTICA(S): corpo roliço, com bico grande na lateral, tampa parcialmente presa à borda, com alça e tampa em aço inoxidável.\nMATERIAL(IS): aço inoxidável. CAPACIDADE: 1 litro.\nACONDICIONAMENTO: embalagem original de fábrica, com identificação e quantidade do material.",4,"Unidade",null,0,0.21890000000000001,0]
[null,"MAT.005","Caneca de alumínio","CARACTERÍSTICA(S):\n- corpo cilíndrico;\n- alça lateral de baquelite. CAPACIDADE: 1,9 litros, no mínimo.\nACONDICIONAMENTO: embalagem original de fábrica, com identificação e quantidade do material.",46,"Unidade",null,0,0.21890000000000001,0]
[null,"MAT.006","Coador de flanela para café tam. grande","CARACTERÍSTICA(S): composto de duas partes iguais, com extremidades superiores retas e inferiores em forma circular, unidas por costura à máquina e chuleadas em overloque; boca com bainha costurada à máquina, dobrada para a face interna do coador, chuleada em overloque e dispondo de abertura (interrupção da costura da bainha), mosqueada, situada na altura de uma das costuras laterais, destinada à introdução de cordão para ajustamento; cordão inserido na bainha, com \"sobras\" de tamanhos equivalentes; conforme arquivo anexo.\nMATERIAL(IS): flanela lisa e cordão 8 fios, 100% algodão.\nMEDIDA(S): coador: 600 mm x 300 mm x 450 mm, de circunferência do bocal x largura x altura, admitida variação de até 5%; cordão para ajustamento: 1 m, admitida variação de até 5%. COR(ES): branca.\nACONDICIONAMENTO: embalagem original de fábrica, com identificação e quantidade do material.",350,"Unidade",null,0,0.21890000000000001,0]
[null,"MAT.007","Coador de flanela para café tam. Pequeno","CARACTERÍSTICA(S): composto de duas partes iguais, com extremidades superiores retas e inferiores em forma circular, unidas por costura à máquina e chuleadas em overloque; boca com bainha costurada à máquina, dobrada para a face interna do coador, chuleada em overloque e dispondo de abertura (interrupção da costura da bainha), mosqueada, situada na altura de uma das costuras laterais, destinada à introdução de cordão para ajustamento; cordão inserido na bainha, com \"sobras\" de tamanhos equivalentes; conforme arquivo anexo.\nMATERIAL(IS): flanela lisa e cordão 8 fios, 100% algodão.\nMEDIDA(S): coador: 560 mm x 280 mm x 300 mm, de circunferência do bocal x largura x altura, admitida variação de até 5%; cordão para ajustamento: 1m, admitida variação de até 5%. COR(ES): branca.\nACONDICIONAMENTO: embalagem original de fábrica, com identificação e quantidade do material.",540,"Unidade",null,0,0.21890000000000001,0]
[null,"MAT.008","Colher de plástico para cozinha","CARACTERÍSTICA(S):\n- resistente a altas temperaturas;\n- concha rasa de forma côncava e oval. MATERIAL(IS): plástico.\nMEDIDA(S):\n- cabo: 30 cm, admitida variação de 5%;\n- total do produto: 40 cm, admitida variação de 5%.\nACONDICIONAMENTO: embalagem original de fábrica, com identificação e quantidade do material.",94,"Unidade",null,0,0.21890000000000001,0]
[null,"MAT.009","Colher de café em aço inoxidável","CARACTERÍSTICA(S): peça inteiriça. MATERIAL(IS): 100% em aço inoxidável.\nACONDICIONAMENTO: embalagem original de fábrica, com identificação e quantidade do material.",895,"Unidade",null,0,0.21890000000000001,0]
[null,"MAT.010","Colher de chá em aço inoxidável","CARACTERÍSTICA(S): peça inteiriça. MATERIAL(IS): 100% em aço inoxidável. ACONDICIONAMENTO: embalagem original de fábrica, com identificação e quantidade do material.",624,"Unidade",null,0,0.21890000000000001,0]
[null,"MAT.011","Copo de vidro liso para água","CARACTERÍSTICA(S): superfície lisa e corpo cilíndrico.\nMATERIAL(IS): vidro transparente. CAPACIDADE: volume de 300 ml, no mínimo. ACONDICIONAMENTO: embalagem original de fábrica, com identificação e quantidade do material.",4880,"Unidade",null,0,0.21890000000000001,0]
[null,"MAT.012","Dispensador de copos descartáveis de água","CARACTERÍSTICA(S):\n- para copos descartáveis de 200 ml;\n- capacidade de 100 a 120 copos;\n- equipado com dispositivo manual (alavanca ou botão);\n- sistema poupa copo, que possibilite a extração de apenas um copo por acionamento.\nMATERIAL(IS): plástico.\nCOR(ES): tubo transparente e base branca. ACONDICIONAMENTO: embalagem original de fábrica, com identificação e quantidade do material.",16,"Unidade",null,0,0.21890000000000001,0]
[null,"MAT.013","Depósito para mantimentos em alumínio","CARACTERÍSTICA(S): corpo cilíndrico; tampa no mesmo material do corpo, com pegador centralizado.\nMATERIAL(IS): alumínio lixado e resistente. MEDIDA(S): 216 mm x 193 mm, de diâmetro x altura, no mínimo.\nCAPACIDADE: 6,5 litros, no mínimo. ACONDICIONAMENTO: embalagem original de fábrica, com identificação e quantidade do material.",22,"Unidade",null,0,0.21890000000000001,0]
[null,"MAT.014","Esponja de espuma para limpeza","CARACTERÍSTICA(S): dupla face; de um lado, espuma macia para limpeza de superfícies delicadas, e, do outro, áspera para limpeza mais difícil.\nMATERIAL(IS):\n- produto não tecido;\n- à base de fibras sintéticas;\n- minerais abrasivos unidos por resina à prova d'água;\n- agente antimicrobiano.\nMEDIDA(S): 110 mm x 75 mm x 20 mm, de comprimento x largura x espessura, no mínimo. ACONDICIONAMENTO: embalagem individual e original de fábrica, com identificação e quantidade do material.",5179,"Unidade",null,0,0.21890000000000001,0]
[null,"MAT.015","Flanela branca","APLICAÇÃO: para limpeza de móveis, vidros e objetos.\nCARACTERÍSTICA(S): macia, com bainha em todas as bordas.\nMATERIAL(IS): 100 % algodão.\nMEDIDA(S): 38 cm X 58 cm, de largura x comprimento, no mínimo.\nGRAMATURA: 120 g/m², no mínimo. ACONDICIONAMENTO: embalagem original de fábrica, com identificação e quantidade do material.\nOBSERVAÇÃO(ÕES): o produto deve conter etiqueta ou vir acompanhado de declaração do fabricante que informe o material em que é fabricado.",5335,"Unidade",null,0,0.21890000000000001,0]
[null,"MAT.016","Garrafa térmica","CARACTERÍSTICA(S):\n- alça lateral;\n- copo (tampa externa);\n- fecho giratório (serve sem tirar a tampa) em polipropileno, resistente;\n- sem risco de vazamento;\n- ampola de vidro formada por duas paredes de cristal duro, espelhadas com prata e isoladas termicamente por alto vácuo;\n- capacidade de 1 L;\n- deve atender ao disposto na norma ABNT NBR 13282:2017;\n- formato cilíndrico. COR(ES): preta.\nACONDICIONAMENTO: embalagem original de fábrica, com identificação e quantidade do material.",612,"Unidade",null,0,0.21890000000000001,0]
[null,"MAT.017","Jarra para água em aço inoxidável","CARACTERÍSTICA(S): corpo roliço; bico na borda; alça lateral; tampa (em inox) parcialmente presa; com alça e aparador para gelo.\nMATERIAL(IS): aço inoxidável. CAPACIDADE: 1,5 L a 1,8 L (capacidade mínima e máxima).\nACONDICIONAMENTO: embalagem original de fábrica, com identificação e quantidade do material.",28,"Unidade",null,0,0.21890000000000001,0]
[null,"MAT.018","Lã de aço","CARACTERÍSTICA(S): textura macia, fios homogêneos, isenta de sinais de oxidação. MATERIAL(IS): aço carbono.\nFORMA DE APRESENTAÇÃO: pacote com, no mínimo, 45 g, contendo 8 (oito) unidades. PRAZO MÍNIMO DE VALIDADE: 12 (doze)\nmeses, contados da data do recebimento definitivo.\nACONDICIONAMENTO: embalagem original de fábrica, com identificação e quantidade do material.",2292,"Unidade",null,0,0.21890000000000001,0]
[null,"MAT.019","Pano de prato (copa) atolahado / felpudo","CARACTERÍSTICA(S): tecido\natoalhado/felpudo com boa absorção; bainha dobrada e pespontada em toda a extensão.\nMATERIAL(IS): 85% algodão, no mínimo. MEDIDA(S): 390 mm x 590 mm, de largura x comprimento, no mínimo.\nGRAMATURA: 280 g/m², no mínimo. ACONDICIONAMENTO: embalagem original de fábrica, com identificação e quantidade do material.\nOBSERVAÇÃO(ÕES): o produto deve conter etiqueta que informe material e medidas ou vir acompanhado de declaração do fabricante com essas informações.",2708,"Unidade",null,0,0.21890000000000001,0]
[null,"MAT.020","Porta copo em aço inoxidável","CARACTERÍSTICA(S):\n- acabamento brilhante;\n- formato circular;\n- capacidade para um copo (uso individual);\n- com elevação de bordas o suficiente para evitar escoamento de líquido.\nMEDIDA(S): 85 mm de diâmetro externo superior (bordas), admitida variação de até 10%. ACONDICIONAMENTO: embalagem original de fábrica, com identificação e quantidade do material.",320,"Unidade",null,0,0.21890000000000001,0]
[null,"MAT.021","Xícara com pires em porcelana para café","CARACTERÍSTICA(S):\n- com asa;\n- pode ser levada ao micro-ondas e à lava- louças.\nMATERIAL(IS): porcelana. COR(ES): branca.\nCAPACIDADE: volume de 60 ml, no mínimo. ACONDICIONAMENTO: embalagem original de fábrica, com identificação e quantidade do material.",1541,"Unidade",null,0,0.21890000000000001,0]
[null,"MAT.022","Xícara com pires em porcelana para chá","CARACTERÍSTICA(S):\n- com asa;\n- pode ser levada ao micro-ondas e à lava- louças.\nMATERIAL(IS): porcelana. COR(ES): branca.\nCAPACIDADE: volume de 200 ml, no mínimo. ACONDICIONAMENTO: embalagem original de fábrica, com identificação e quantidade do material.",661,"Unidade",null,0,0.21890000000000001,0]
[null,"MAT.023","Água sanitária","APLICAÇÃO: alvejante e desinfetante. CARACTERÍSTICA(S):\n- tampa rosqueável;\n- bico direcionador;\n- hipoclorito de sódio entre 2,0% e 2,5% p/p de cloro ativo.\nFORMA DE APRESENTAÇÃO: embalagem plástica contendo 1.000 ml.\nPRAZO MÍNIMO DE VALIDADE: a partir da\ndata de recebimento definitivo, o produto deve se manter válido por, no mínimo, 6 (seis) meses. Portanto, o prazo de validade registrado na embalagem deverá ser, obrigatoriamente, superior a 6 (seis) meses.\nACONDICIONAMENTO: embalagem original de fábrica, com identificação e quantidade do material.\nOBSERVAÇÃO(ÕES): o produto deve estar em conformidade com as normas técnicas e legislação vigentes (RDC nº 59/2010 e RDC nº 813/2023, da Agência Nacional de Vigilância Sanitária - ANVISA ou outras que vierem a substituí-las).\n",2021,"Unidade",null,0,0.21890000000000001,0]
[null,"MAT.024","Detergente líquido 500 ml","APLICAÇÃO: para uso geral. CARACTERÍSTICA(S): biodegradável, neutro, atóxico, testado dermatologicamente.\nPRAZO MÍNIMO DE VALIDADE: 12 (doze)\nmeses, contados da data do recebimento definitivo.\nACONDICIONAMENTO: embalagem original de fábrica, com identificação e quantidade do material.\nOBSERVAÇÃO(ÕES): o produto deve estar em conformidade com as normas técnicas e legislação vigentes (RDC nº 59/2010 e RDC nº 694/2022, da Agência Nacional de Vigilância Sanitária - ANVISA ou outras que vierem a substituí-las).",8359,"Unidade",null,0,0.21890000000000001,0]
[null,"MAT.025","Sabão de coco em tablete de 200 g","CARACTERÍSTICA(S): sabão de coco em barra, atóxico e biodegradável.\nPRAZO MÍNIMO DE VALIDADE: 12 (doze)\nmeses, contados da data do recebimento definitivo.\nACONDICIONAMENTO: embalagem individual original de fábrica, com identificação e quantidade do material.\nOBSERVAÇÃO(ÕES): o produto deve estar em conformidade com as normas técnicas e legislação vigentes (RDC nº 59/2010 e RDC nº 694/2022, da Agência Nacional de Vigilância Sanitária - ANVISA ou outras que vierem a substituí-las).",6807,"Unidade",null,0,0.21890000000000001,0]
[null,"MAT.026","Açúcar cristal","CARACTERÍSTICA(S):\n- sacarose (99,3%, no mínimo) obtida de Saccharum officinarum, por processos industriais adequados de extração do caldo de cana, com posterior branqueamento, evaporação e cristalização;\n- sólido, cristalino, com cristais bem definidos, branco, de sabor doce e odor característicos, isento de aromas estranhos e de contaminantes;\n- sem aglomeração ou empedramento que dificulte o livre escoamento e isento de sujidades, parasitos e larvas, materiais terrosos, detritos, resíduos metálicos e outros;\n- o produto deverá atender a legislação referente à rotulagem, bem como seguir as normas vigentes referentes aos padrões microbiológicos, requisitos sanitários, limites de tolerância para matérias estranhas, entre outras emitidas pelos órgãos competentes.\nPRAZO MÍNIMO DE VALIDADE: 12 (doze)\nmeses, contados da data do recebimento definitivo.\nACONDICIONAMENTO: embalagem de papel kraft natural ou embalagem plástica contendo 15 (quinze) pacotes de polietileno com 2 (dois) quilogramas cada ou 30 (trinta) pacotes de polietileno com 1 (um) quilograma cada.",44608,"Kg",null,0,0.21890000000000001,0]
[null,"MAT.027","Café em pó categoria superior","CARACTERÍSTICA(S):\n- produto em pó, torrado e moído;\n- espécie: mínimo de 85% (oitenta e cinco por cento) de café arábica, podendo ser adicionado até o máximo de 15% (quinze por cento) de café conilon;\n- torra: moderadamente clara a moderadamente escura;\n- Nota de Qualidade Global da bebida: 6,0 a 7,2;\n- bebida variando de mole a duro;\n- o produto deverá atender a legislação referente à rotulagem, bem como seguir as normas vigentes referentes aos padrões microbiológicos, requisitos sanitário7s, limites de tolerância para matérias estranhas, entre outras emitidas pelos órgãos competentes.\nFORMA DE APRESENTAÇÃO: embalagem a alto vácuo ou vácuo total, tipo tijolinho, contendo 500 g do produto, lacrada e sem sinais de violação, com data de validade e lote indústria em alto relevo ou em impressão inalterável, não sendo permitida a utilização de etiquetas ou outros materiais que possibilitem violação ou que possam ser destacados do invólucro.\nPRAZO MÍNIMO DE VALIDADE: 12 (doze)\nmeses, contados da data do recebimento definitivo.\nACONDICIONAMENTO: caixas de papelão, contendo embalagens individuais de 500 g.\nOBSERVAÇÃO(ÕES): obrigatória a apresentação de catálogo ou declaração do fabricante que comprove as características exigidas.",51962,"Kg",null,0,0.21890000000000001,0]
[null,"MAT.028","Chá de capim cidreira","CARACTERÍSTICA(S): folhas de capim cidreira (Cymbopogon citratus Stapf).\nFORMA DE APRESENTAÇÃO: caixa com 10\n(dez) sachês embalados individualmente, contendo, no mínimo, 10 g cada.\nPRAZO MÍNIMO DE VALIDADE: 12 (doze)\nmeses, contados da data do recebimento definitivo.\nACONDICIONAMENTO: sachês embalados individualmente, acondicionados em caixas originais de fábrica, com identificação e quantidade do material.\n",3261,"Unidade",null,0,0.21890000000000001,0]
[null,"MAT.029","Chá de frutas vermelhas","CARACTERÍSTICA(S): composto de frutas vermelhas.\nFORMA DE APRESENTAÇÃO: caixa com 10\n(dez) sachês embalados individualmente, contendo, no mínimo, 10 g cada.\nPRAZO MÍNIMO DE VALIDADE: 12 (doze)\nmeses, contados da data do recebimento definitivo.\nACONDICIONAMENTO: sachês embalados individualmente, acondicionados em caixas originais de fábrica, com identificação e quantidade do material.",4128,"Unidade",null,0,0.21890000000000001,0]
[null,"MAT.030","Chá de boldo","CARACTERÍSTICA(S): folhas de boldo (Peumus boldus Molina).\nFORMA DE APRESENTAÇÃO: caixa com 10\n(dez) sachês embalados individualmente, contendo, no mínimo, 10 g cada.\nPRAZO MÍNIMO DE VALIDADE: 12 (doze)\nmeses, contados da data do recebimento definitivo.\nACONDICIONAMENTO: sachês embalados individualmente, acondicionados em caixas originais de fábrica, com identificação e quantidade do material.",1855,"Unidade",null,0,0.21890000000000001,0]
[null,"MAT.031","Chá de hortelã","CARACTERÍSTICA(S): folhas de hortelã (Mentha piperita L.).\nFORMA DE APRESENTAÇÃO: caixa com 10\n(dez) sachês embalados individualmente, contendo, no mínimo, 10 g cada.\nPRAZO MÍNIMO DE VALIDADE: 12 (doze)\nmeses, contados da data do recebimento definitivo.\nACONDICIONAMENTO: sachês embalados individualmente, acondicionados em caixas originais de fábrica, com identificação e quantidade do material.",4859,"Unidade",null,0,0.21890000000000001,0]
[null,"MAT.032","Chá de erva doce","CARACTERÍSTICA(S): frutos de erva doce nacional (Foeniculum vulgare).\nFORMA DE APRESENTAÇÃO: caixa com 10\n(dez) sachês embalados individualmente, contendo, no mínimo, 10 g cada.\nPRAZO MÍNIMO DE VALIDADE: 12 (doze)\nmeses, contados da data do recebimento definitivo.\nACONDICIONAMENTO: sachês embalados individualmente, acondicionados em caixas originais de fábrica, com identificação e quantidade do material.",4099,"Unidade",null,0,0.21890000000000001,0]
[null,"MAT.033","Chá de camomila","CARACTERÍSTICA(S): capítulos florais de camomila (Matricaria recutita L.).\nFORMA DE APRESENTAÇÃO: caixa com 10\n(dez) sachês embalados individualmente, contendo, no mínimo, 10 g cada.\nPRAZO MÍNIMO DE VALIDADE: 12 (doze)\nmeses, contados da data do recebimento definitivo.\nACONDICIONAMENTO: sachês embalados individualmente, acondicionados em caixas originais de fábrica, com identificação e quantidade do material.",4217,"Unidade",null,0,0.21890000000000001,0]
[null,"MAT.034","Copo descartável de plástico para água","CARACTERÍSTICA(S): rebordamento anticortante; cada copo deverá pesar, no mínimo, 1,80 g, conforme norma ABNT NBR 14865:2012 Versão Corrigida:2021.\nMATERIAL(IS): resina branca de poliestireno ou polipropileno resistente à manipulação.\nCAPACIDADE: 200 ml.\nACONDICIONAMENTO: embalagem original de fábrica, com identificação e quantidade do material.",41811,"Centos",null,0,0.21890000000000001,0]
[null,"MAT.035","Copo descartável de plástico para café","CARACTERÍSTICA(S): rebordamento anticortante; cada copo deverá pesar, no mínimo, 0,75 g, conforme norma ABNT NBR 14865:2012 Versão Corrigida:2021.\nMATERIAL(IS): resina branca de poliestireno ou polipropileno resistente à manipulação.\nCAPACIDADE: 50 ml.\nACONDICIONAMENTO: embalagem original de fábrica, com identificação e quantidade do material.",14009,"Centos",null,0,0.21890000000000001,0]
[null,"MAT.036","CAFETEIRA AUTOMÁTICA (15 LITROS)","• Tensão: 220V (monofásico);\n• Potência máxima: 1500W;\n• Frequência: 60Hz;\n• Peso aproximado: 5 kg;\n• Dimensões máximas [altura x largura x comprimento] [mm ]: 620 x 300 x 300;\n• Sistema totalmente automático, bastando adicionar água e pó de café nos\ndevidos compartimentos;\n• Construção em aço inoxidável;\n• Dispensa uso de filtro avulso, possuindo sistema próprio e interno;\n• Parede dupla para isolamento térmico, protegendo o operador de queimaduras;\n• Sistema de segurança, interrompendo a produção quando o reservatório\nestiver cheio, evitando assim transbordamento;\n• Base isolante e partes elétrico-eletrônicas internas ao equipamento, evitando\nassim quaisquer riscos de choque elétrico por contato com fiação e\ncomponentes energizados;\n• Pés de apoio antiderrapantes e com isolamento elétrico;\n• Marcas/modelos de referência: Marchesoni/CF 1.151; Temperare/CF.1.152.\n",5,"Unidade",null,0,0.21890000000000001,0]
[null,"MAT.037","CAFETEIRA AUTOMÁTICA (6 LITROS)","• Tensão: 220V (monofásico);\n• Potência máxima: 1500W;\n• Frequência: 60Hz;\n• Peso aproximado: 3kg;\n• Dimensões máximas [altura x largura x comprimento] [mm]: 505 x 305 x 310;\n• Sistema totalmente automático, bastando adicionar água e pó de café nos\ndevidos compartimentos;\n• Construção em aço inoxidável;\n• Dispensa uso de filtro avulso, possuindo sistema próprio e interno;\n• Parede dupla para isolamento térmico, protegendo o operador de queimaduras;\n• Sistema de segurança, interrompendo a produção quando o reservatório\nestiver cheio, evitando assim transbordamento;\n• Base isolante e partes elétrico-eletrônicas internas ao equipamento, evitando\nassim quaisquer riscos de choque elétrico por contato com fiação e\ncomponentes energizados;\n• Pés de apoio antiderrapantes e com isolamento elétrico;\n• Marcas/modelos de referência: Marchesoni/CF 1.691; ProGás/PRC.06;\nTemperare/SKU 24064220V.",8,"Unidade",null,0,0.21890000000000001,0]
[null,"MAT.038","Carrinho multiuso com 03 planos","CARACTERÍSTICA(S):\n- carrinho multiuso confeccionado em aço inoxidável;\n- com 3 (três) prateleiras fixas confeccionadas em aço inox, soldadas no carrinho;\n- as prateleiras deverão ter bordas dobradas para cima de 30 mm, aproximadamente, de forma a atuarem como bandejas;\n- estrutura em tubos de aço inoxidável de 1 1/4\" e/ou chapas de 0,95 mm (chapa nº 20), aproximadamente, de modo a garantir a resistência e a rigidez do carrinho e o perfeito nivelamento das suas rodas;\n- com capacidade de suportar uma carga de, pelo menos, 50 kg em cada prateleira;\n- dotado de, pelo menos, uma alça ergonômica para puxar e empurrar em tubo de aço inox com diâmetro de 1”, aproximadamente, ou similar;\n- todos os componentes da estrutura e alça devidamente fixados por meio de soldagem; - provido de 4 (quatro) rodízios, sendo 2 fixos e 2 giratórios com freio;\n- os rodízios giratórios devem ser montados no lado da alça onde a força é aplicada para movimentação do carrinho;\n- o suporte para fixação, os garfos e o sistema de freio dos rodízios devem ser metálicos e protegidos contra oxidação;\n- rodas dotadas de banda de rodagem maciça com material macio, de modo a não marcar o piso e a apresentar baixo ruído na movimentação, de borracha, resina termoplástica (BP), poliuretano ou similar.\nMEDIDA(S):\n- comprimento total entre 80 cm e 100 cm; largura total entre 50 cm e 60 cm;\n- altura total entre 90 cm e 110 cm;\n- rodas com diâmetro entre 4\" e 6”;\n- a alça deve estar a uma altura de aproximadamente 100 cm do chão. GARANTIA MÍNIMA: 12 (doze) meses, contados da data do recebimento definitivo. ACONDICIONAMENTO: embalagem original de fábrica, com identificação do material.",{"$f":"ROUNDUP(L45/30*12,0)","v":0},"Unidade",null,0,0.21890000000000001,0]
[null,"MAT.039","Escada Dobrável em Aluminio","Escada dobrável em alumínio tipo tesoura, dois degraus anti-derrapantes, capacidade mínima de 120kg, sapatas (pés) anti-derrapantes, trava de segurança, patamar em polipropileno. Ref.: Alumasa, modelo ER2 960518, Botafogo, modelo SC0072.",30,"Unidade",null,{"$f":"E46*G46","v":0},0.21890000000000001,0]
[]
[null,null,null,null,null,null,null,null,"SOMATÓRIO TOTAL MENSAL",{"$f":"TRUNC(SUM(J8:J46)/12,2)","v":0},null,"*valor truncado em duas casas decimais desprezando as frações de centavos"]
[null,null,null,null,null,null,null,null,"SOMATÓRIO TOTAL ANUAL",{"$f":"J48*12","v":0}]
[]
[null,null,null,null,null,null,null,null,null,{"$f":"J48*12","v":0}]

{"sheet":"Demanda - Serviços","index":43,"n_rows":32,"n_cols":13,"rows_kept":32,"cut":false,"hidden":true,"merged":[[2,1,2,2],[3,1,3,9]]}
[]
[]
[]
[null,"SERVIÇOS SOB DEMANDA"]
[]
[]
[null,"CÓDIGO","DESCRIÇÃO","ESPECIFICAÇÕES","QUANT ANUAL","UNIDADE","CUSTO UNITÁRIO","CUSTO ANUAL","BDI (%)","PREÇO TOTAL ANUAL"]
[null,"S.001","SOFTWARE PARA ELABORAÇÃO DE ORÇAMENTO","Software para elaboração de orçamento, ilimitado para criação, com consultas ilimitadas aos dados SINAPI e a bases adicionais de SICRO, SBC, EMBASA, SETOP, SEINFRA, ORSE, entre outras (cada licença corresponde a 5 usuários) - assinatura anual - referência OrçaFascio ou similar",2,"Serviço",null,{"$f":"E8*G8","v":0},{"$f":"'BDI - Demanda'!$E$27","v":0.17760000000000001},{"$f":"ROUND(H8*(1+I8),2)","v":0}]
[null,"S.002","ASSINATURA DE FERRAMENTA PARA PESQUISAS E COMPARAÇÕES DE PREÇOS PRATICADOS PELA ADMINISTRAÇÃO PÚBLICA","Ferramenta de consulta de preços, acessível pela internet, por login e senha, permitindo pesquisas e comparações de preços praticados pela Administração Públicas - assinatura anual -referência Banco de Preços ou similar",1,"Serviço",null,{"$f":"E9*G9","v":0},{"$f":"'BDI - Demanda'!$E$27","v":0.17760000000000001},{"$f":"ROUND(H9*(1+I9),2)","v":0}]
[null,"S.003","PESQUISA SALARIAL DE MERCADO REFERÊNCIA FIPE","Pesquisa salarial de mercado, com filtro por CBO, regionalizada e com informações por porte da empresa contratante, indicando o número de observações (frequência) - assinatura anual - referência Fipe ou similar, para os municípios de Brasília-DF e São Paulo-SP",1,"Serviço",null,0,{"$f":"'BDI - Demanda'!$E$27","v":0.17760000000000001},0]
[null,"S.004","PESQUISA SALARIAL E DE BENEFÍCIOS REFERÊNCIA CATHO","Pesquisa salarial e de benefícios, com atualização semestral, regionalizada e com informações por porte da empresa contratante, indicando salários nominais e remuneração variável - assinatura anual - referência Catho ou similar, para os estados DF e SP",1,"Serviço",null,0,{"$f":"'BDI - Demanda'!$E$27","v":0.17760000000000001},0]
[null,"S.005","PESQUISA SALARIAL DE MERCADO REFERÊNCIA SALÁRIOBR","Pesquisa salarial de mercado, com uso ilimitado, regionalizada e com informações por porte da empresa contratante, indicando o número de observações (frequência) - assinatura anual -referência SalárioBR ou similar, para os estados DF e SP",1,"Serviço",null,0,{"$f":"'BDI - Demanda'!$E$27","v":0.17760000000000001},0]
[null,"S.006","ASSINATURA DE INDICADOR, REFERÊNCIA FGV DADOS, DA FUNDAÇÃO GETULIO VARGAS","Indicador de variação de preços, referência FGV DADOS, da FUNDAÇÃO GETULIO VARGAS, organizado pelo seu Instituto Brasileiro de Economia – IBRE, com acesso a todos os módulos da modalidade Standard, no mesmo dia de divulgação oficial, para todos os componentes do IGP (IPA | IPC | INCC). Acesso a toda base histórica e indicadores futuros, para até três (3) usuários - assinatura anual. Acesso via portal IBRE com flexibilidade de consultas",1,"Serviço",null,0,{"$f":"'BDI - Demanda'!$E$27","v":0.17760000000000001},0]
[null,"S.007","SOFTWARE DE GESTÃO DE CONTRATOS E FISCALIZAÇÃO DE OBRAS PÚBLICAS","Software de gestão de contratos e fiscalização de obras públicas, abrangendo desde o planejamento até a conclusão. Deve possuir ferramentas para composição de custos, orçamentos com tabelas referenciais (SINAPI, SICRO, ORSE), controle de contratos e medições, diários de obras digital acessível por aplicativo, centralização de documentos em nuvem, relatórios gerenciais, gráficos sobre o andamento das obras e sincronização em nuvem, para até 10 usuários – assinatura anual - referência Obras.gov com módulos de Gestão de Contratos de Obras Públicas, Medições de Obras, Composição de Custos e Orçamentos, Mapa Interativo de Obras e Diário de Obras ou similar",1,"Serviço",null,0,{"$f":"'BDI - Demanda'!$E$27","v":0.17760000000000001},0]
[null,"S.008","ASSINATURA DE FERRAMENTA DE BUSCA E ORGANIZAÇÃO DE DADOS DO CAGED","Ferramenta de pesquisa acessível pela internet, por login e senha, que busque e organize os dados do CAGED referentes a salários, com classificação por nível profissional, de porte da contratante e por região, de forma ilimitada, com apresentação em relatório - assinatura anual",1,"Serviço",null,0,{"$f":"'BDI - Demanda'!$E$27","v":0.17760000000000001},0]
[null,"S.010","LOCAÇÃO DE EQUIPAMENTO PORTÁTIL DETECTOR DE 4 GASES (O2, CO, LEL, H2S)","Locação de equipamento portátil detector de 4 gases (O2, CO, LEL, H2S) ou superior, novo, com bomba integrada e mangueira de comprimento mínimo de 3 metros",2.4,"Mês",null,0,{"$f":"'BDI - Demanda'!$E$27","v":0.17760000000000001},0,null,6,{"$f":"ROUND(L16/30*12,2)","v":2.4}]
[null,"S.011","CALIBRAÇÃO DE MEDIDOR DE NÍVEL DE PRESSÃO SONORA COM ANÁLISE DE BANDA ESPECTRAL","Calibração de medidor de nível de pressão sonora com análise de banda espectral, marca 01 dB, modelo SOLO",1.2,"Serviço",null,0,{"$f":"'BDI - Demanda'!$E$27","v":0.17760000000000001},0,null,3,{"$f":"ROUND(L17/30*12,2)","v":1.2}]
[null,"S.012","CALIBRAÇÃO DE CALIBRADOR ACÚSTICO MARCA 01 DB","Calibração de calibrador acústico marca 01 dB",1.2,"Serviço",null,0,{"$f":"'BDI - Demanda'!$E$27","v":0.17760000000000001},0,null,3,1.2]
[null,"S.013","CALIBRAÇÃO DE MEDIDOR DE STRESS TÉRMICO MARCA INSTRUTHERM, MODELO TGD-400","Calibração de medidor de stress térmico marca INSTRUTHERM, modelo TGD-400.",1.2,"Serviço",null,0,{"$f":"'BDI - Demanda'!$E$27","v":0.17760000000000001},0,null,3,1.2]
[null,"S.014","CALIBRAÇÃO DO DETECTOR DE 4 GASES (O2, CO, LEL, H2S), BW TECHNOLOGIES, MODELO MAX XTII","Calibração do detector de 4 gases (O2, CO, LEL, H2S), BW TECHNOLOGIES, modelo MAX XTII",1.2,"Serviço",null,0,{"$f":"'BDI - Demanda'!$E$27","v":0.17760000000000001},0,null,3,1.2]
[null,"S.015","CALIBRAÇÃO DO LUXÍMETRO DIGITAL TENMARS, MODELO TM-209M.","Calibração do Luxímetro Digital TENMARS, modelo TM-209M",1.2,"Serviço",null,0,{"$f":"'BDI - Demanda'!$E$27","v":0.17760000000000001},0,null,3,1.2]
[null,"S.016","TERMÔMETRO INFRAVERMELHO DIGITAL, MARCA INSTRUTHERM, MODELO TI-400","Termômetro Infravermelho Digital, marca Instrutherm, modelo TI-400",1.2,"Serviço",null,{"$f":"E22*G22","v":0},{"$f":"'BDI - Demanda'!$E$27","v":0.17760000000000001},{"$f":"ROUND(H22*(1+I22),2)","v":0},null,3,1.2]
[null,"S.017","TERMO ANEMÔMETRO, MARCA INSTRUTHERM, MODELO TAFR-200","Termo Anemômetro, marca Instrutherm, Modelo TAFR-200",1.2,"Serviço",null,{"$f":"E23*G23","v":0},{"$f":"'BDI - Demanda'!$E$27","v":0.17760000000000001},{"$f":"ROUND(H23*(1+I23),2)","v":0},null,3,1.2]
[null,"S.018","CALIBRAÇÃO DO DECIBELÍMETRO DIGITAL, MARCA CENTRALBRASIL, MODELO CB-851","Calibração do Decibelímetro Digital, marca CENTRALBRASIL, modelo CB-851",1.2,"Serviço",null,0,{"$f":"'BDI - Demanda'!$E$27","v":0.17760000000000001},0,null,3,1.2]
[null,"S.019","SUBSTITUIÇÃO DO SENSOR DE DETECÇÃO DE GÁS TIPO O2","Após avaliação da necessidade de substituição, pela empresa responsável pela calibração do equipamento, deverá ser feita a devida substituição do sensor de detecção de gás tipo O2 por outro de igual característica, marca e qualidade no seguinte equipamento:\n- Detector de 4 gases (O2, CO, LEL, H2S), marca BW TECHNOLOGIES, modelo MAX XTII",1.2,"Serviço",null,0,{"$f":"'BDI - Demanda'!$E$27","v":0.17760000000000001},0,null,3,1.2]
[null,"S.020","SUBSTITUIÇÃO DO SENSOR DE DETECÇÃO DE GÁS TIPO CO","Após avaliação da necessidade de substituição, pela empresa responsável pela calibração do equipamento, deverá ser feita a devida substituição do sensor de detecção de gás tipo CO por outro de igual característica, marca e qualidade no seguinte equipamento:\n- Detector de 4 gases (O2, CO, LEL, H2S), marca BW TECHNOLOGIES, modelo MAX XTII",1.2,"Serviço",null,0,{"$f":"'BDI - Demanda'!$E$27","v":0.17760000000000001},0,null,3,1.2]
[null,"S.021","SUBSTITUIÇÃO DO SENSOR DE DETECÇÃO DE GÁS TIPO LEL","Após avaliação da necessidade de substituição, pela empresa responsável pela calibração do equipamento, deverá ser feita a devida substituição do sensor de detecção de gás tipo LEL por outro de igual característica, marca e qualidade no seguinte equipamento:\n- Detector de 4 gases (O2, CO, LEL, H2S), marca BW TECHNOLOGIES, modelo MAX XTII",1.2,"Serviço",null,0,{"$f":"'BDI - Demanda'!$E$27","v":0.17760000000000001},0,null,3,1.2]
[null,"S.022","SUBSTITUIÇÃO DO SENSOR DE DETECÇÃO DE GÁS TIPO H2S","Após avaliação da necessidade de substituição, pela empresa responsável pela calibração do equipamento, deverá ser feita a devida substituição do sensor de detecção de gás tipo H2S por outro de igual característica, marca e qualidade no seguinte equipamento:\n- Detector de 4 gases (O2, CO, LEL, H2S), marca BW TECHNOLOGIES, modelo MAX XTII",1.2,"Serviço",null,0,{"$f":"'BDI - Demanda'!$E$27","v":0.17760000000000001},0,null,3,1.2]
[null,"S.023","LOCAÇÃO DE EQUIPAMENTO EXAUSTOR/INSUFLADOR DE AR PARA ESPAÇO CONFINADO","EXAUSTOR/INSUFLADOR DE AR PARA ESPAÇOS CONFINADOS. MARCA(S)/MODELO(S) DE REFERÊNCIA:LEDGER/V300; KEBOS/KBS 400 MM; IBR/V202P",2.4,"Mês",null,0,{"$f":"'BDI - Demanda'!$E$27","v":0.17760000000000001},0,null,6,2.4]
[]
[null,null,null,null,null,null,null,null,"SOMATÓRIO TOTAL MENSAL",{"$f":"ROUND(SUM(J8:J29)/12,2)","v":0}]
[null,null,null,null,null,null,null,null,"SOMATÓRIO TOTAL ANUAL",{"$f":"J31*12","v":0}]