{"text_format":"1","workbook":"xlsx","n_sheets":38,"sheets":["GUIA PARA PREENCHIMENTO","MODELO PROPOSTA","Remunerações","Resumo","1","2","3","4","5","6","7","8","9","10","11","12","13","14","Dados Gerais","Encargos Sociais","Encargos Sociais - HE","Encargos Sociais - Plant","BDI - Geral","BDI - Demanda","EPI - Rel","SREP","EPI - N.Rel","Uniformes","Ferramentas","Equipamentos","Mat Consumo","Prof.N.Resid","Veículos","Serv.Adicionais","Demanda - H.Extras","Demanda - Transp. p. chamado","Demanda - Instalação","Demanda - Corretiva"],"not_rendered":{"charts":0,"images":4,"macros":1,"external_links":1,"defined_names":55,"comments":1,"pivot_tables":0},"unopened":[],"bounds":{"document_bytes":16777216,"sheet_cells":100000,"rows_first":2000,"rows_last":500,"rows_between":2000,"halvings":0,"cell_chars":16384,"cell_head_chars":4096},"cells_cut":0,"cells_raw":0,"read":"whole","date_system":"1900"}

{"sheet":"GUIA PARA PREENCHIMENTO","index":0,"n_rows":5,"n_cols":1,"rows_kept":5,"cut":false,"hidden":false,"merged":[]}
["GUIA PARA PREENCHIMENTO"]
[]
["1 - Preencher apenas as guias azuis:"]
[]
["2 - Recomendamos preencher somente as células com fundo azul claro. As demais possuem fórmulas e sugerimos não alterá-las."]

{"sheet":"MODELO PROPOSTA","index":1,"n_rows":97,"n_cols":7,"rows_kept":97,"cut":false,"hidden":false,"merged":[[81,1,81,3],[81,4,81,9],[82,1,82,3],[82,4,82,9],[17,1,18,9],[19,1,19,9],[21,1,21,9],[65,1,68,9],[42,1,42,2],[22,1,22,9],[34,1,34,2],[39,1,41,9],[54,1,56,9],[57,1,59,9],[61,1,63,9],[64,1,64,9],[43,1,45,9],[31,1,31,9],[46,1,48,9],[50,1,52,9],[16,3,16,4],[1,1,1,9],[4,1,4,9],[6,1,6,9],[7,1,7,9],[8,1,8,9],[9,1,9,9],[10,1,10,9],[11,1,11,9],[12,1,12,9],[14,1,14,9],[15,1,15,9],[16,1,16,2],[87,1,87,9],[23,1,23,9],[25,1,25,4],[25,5,25,9],[26,1,26,4],[26,5,26,9],[86,1,86,9],[83,1,83,9],[79,1,79,9],[72,1,74,9],[75,1,75,9],[69,1,71,9],[85,1,85,9],[53,1,53,9],[80,1,80,3],[80,4,80,9],[91,1,91,5],[96,1,96,9],[27,1,27,4],[27,5,27,9],[28,1,28,4],[28,5,28,9],[91,7,91,9],[29,1,29,4],[29,5,29,9],[30,1,30,4],[30,5,30,9],[33,1,33,9],[35,1,35,9],[36,1,37,9],[92,1,92,9],[93,1,93,9]]}
[]
[null,"MODELO DA PROPOSTA COMPLETA"]
[]
[null,"."]
[null,"I – FORMALIZAÇÃO"]
[]
[null,"PREGÃO ELETRÔNICO N. 900008/2025"]
[null,"OBJETO: Prestação de serviços continuados de manutenção, operação e modernização de sistemas de climatização, ventilação, refrigeração e combate a incêndio, incluindo instalação e manutenção corretiva sob demanda, em regime de dedicação exclusiva de mão de obra, pelo período de 36 (trinta e seis) meses."]
[null,"LICITANTE: _____________________________________________________"]
[null,"CNPJ: ________________________________________________________"]
[null,"ENDEREÇO COMPLETO: _________________________________________"]
[null,"TELEFONE:_____________________________________________________"]
[null,"E-MAIL: ________________________________________________________"]
[]
[null,"Apresentamos nossa proposta para o item único da presente licitação, de acordo com as disposições do Edital."]
[null,"Decorre do conteúdo da presente proposta a explicitação do seguinte PREÇO DE JULGAMENTO (GLOBAL para 36 MESES) PARA O ITEM:"]
[null,{"$f":"Resumo!H130","v":51266215.799999997}]
[null,{"$f":"Extenso_Valor(B17)","v":{"$error":"#NAME?"}}]
[]
[null,"(por extenso)"]
[]
[null,"No valor proposto estão incluídos todos os custos e todas as despesas, diretas e indiretas, para a execução dos serviços objeto da licitação, em conformidade com as especificações e demais condições e exigências constantes do Edital."]
[null,"Informamos que eventuais rubricas dispostas em Acordo ou Convenção Coletiva de Trabalho que não se relacionem ao custo direto da venda do serviço, tais como “Participação nos Resultados” e “Abono substitutivo de Participação nos Resultados”, serão consideradas nos custos indiretos da proposta."]
[null,"O prazo de validade da presente proposta é de ______ (por extenso) dias. (observado o disposto no Título 4 do Edital)."]
[]
[null,"Convenção coletiva de trabalho ou a norma coletiva a que estamos obrigados:"]
[null,"Data-Base:"]
[null,"Número do Registro no SRT:"]
[null,"Regime de tributação da empresa:"]
[null,"Empresa é beneficiada pela desoneração da folha de pagamento instituída pela Lei n. 12.546, de 2001, alterada pela Lei n. 13.161, de 2015?"]
[null,"Empresa adere ao PAT (Programa de Alimentação do Trabalhador)?"]
[null,"Na hipótese de adesão ao PAT e de previsão de qualquer desconto no valor do auxílio-alimentação em norma coletiva, os valores do auxílio-alimentação apresentados nesta proposta deverão corresponder aos valores líquidos efetivamente pagos pela empresa aos seus empregados."]
[]
[null,"DECLARAÇÕES"]
[null,"Declaramos que:"]
[null,"a) disponibilizaremos todos os itens necessários à execução dos serviços, sejam eles insumos ou materiais, bem como pessoal técnico adequado para a realização do objeto da presente licitação;"]
[null,"b)   seremos responsável pelo descarte ambientalmente responsável de qualquer resíduo do serviço a ser prestado, objeto desta licitação – incluindo consumíveis, peças usadas, embalagens – e que temos conhecimento da legislação ambiental sobre o descarte de materiais, em especial a Lei n. 9.605/1998 e a Lei n. 12.305/2010, além da NBR 10.004."]
[]
[]
[null,"A SEREM PRESTADAS SOMENTE NA HIPÓTESE DE LICITANTE MICROEMPRESA OU EMPRESA DE PEQUENO PORTE, EM CONFORMIDADE COM OS ARTIGOS 17, 18, 30 E 31 DA LEI COMPLEMENTAR N. 123/2006, E O ACÓRDÃO TCU 2798/2010-PLENÁRIO"]
[]
[]
[null,"Declaramos que:"]
[null,"a)   em se tratando dos serviços vedados descritos no artigo 17 da Lei Complementar n. 123/2006, notadamente os descritos no inciso XII (cessão ou locação de mão de obra), ressalvados os serviços listados nos § 5º-C, inciso VI, c/c § 5º-H do art. 18 ou no § 1º do art. 17 da referida Lei, a proposta apresentada não contempla qualquer benefício tributário referente ao SIMPLES NACIONAL, conforme os itens 4.20 e 4.21 do Edital;"]
[]
[]
[null,"b)   na hipótese de contratação desta Microempresa ou Empresa de Pequeno Porte inscrita no SIMPLES NACIONAL e executora de atividade vedada, ficamos sujeitos à exclusão obrigatória no SIMPLES NACIONAL a contar do mês seguinte ao da contratação, em consequência do que dispõem o artigo 17, inciso XII e o artigo 31, inciso II da Lei Complementar n, 123/2006, devendo entregar à Câmara dos Deputados, à título de comprovação, cópia de ofício – com comprovante de entrega e recebimento, que comunique a assinatura do contrato de prestação de serviços mediante cessão de mão de obra e encaminhado pela contratada à Secretaria Especial da Receita Federal do Brasil até o último dia útil do mês subsequente ao da contratação, consoante artigo 30, § 1º, inciso II da Lei Complementar n. 123/2006."]
[]
[]
[]
[null," A SEREM PRESTADAS SOMENTE NA HIPÓTESE DE LICITANTE NÃO BENEFICIADA PELA DESONERAÇÃO DA FOLHA DE PAGAMENTO INSTITUÍDA PELA LEI N. 12.546, DE 2011, ALTERADA PELA LEI N. 13.161, DE 2015"]
[]
[]
[null,"Declaramos, sob as penas da Lei, que:"]
[null,"a)   não recolhemos a contribuição previdenciária incidente sobre o valor da receita bruta, em substituição às contribuições previdenciárias incidentes sobre a folha de pagamento, previstas nos incisos I e III do caput do artigo 22 da Lei n. 8.212/1991, na forma do caput do artigo 7º (ou 8º) da Lei n. 12.546/2011, alterada pela Lei n. 13.161/2015;;"]
[]
[]
[null,"b)  temos ciência que nossa manifestação, conforme alínea “a” anterior, será remetida à Secretaria Especial da Receita Federal do Brasil e que, em caso de constatação de falsidade, estará sujeita às sanções administrativas cabíveis, sem prejuízo do encaminhamento dos documentos ao Ministério Público para apuração de eventual responsabilidade criminal desta declarante."]
[]
[]
[]
[null,"A SEREM PRESTADAS SOMENTE PARA A LICITANTE QUE SEJA A ATUAL TITULAR DO CONTRATO QUE SERÁ SUCEDIDO PELA CONTRATAÇÃO DECORRENTE DO PREGÃO EM EPÍGRAFE, NA HIPÓTESE DE HAVER SALÁRIO(S) PRATICADO(S) NO CONTRATO VIGENTE SUPERIOR(ES) AOS MÍNIMOS FIXADOS NO EDITAL E QUE TENHA OPTADO POR TOMAR COMO BASE EM SEUS LANCES E NA PRESENTE PROPOSTA DE PREÇOS SALÁRIO(S) FIXADO(S) NESTE EDITAL:"]
[]
[]
[null,"Declaramos que:"]
[null,"a)   estamos cientes de que deveremos apresentar à Câmara dos Deputados, no prazo improrrogável de 60 (sessenta) dias, contado da data de início da vigência do contrato, a convenção ou o acordo coletivo de trabalho, entabulado com a participação do sindicato dos trabalhadores, em que se autoriza a redução salarial, na forma do art. 7°, VI, da Constituição Federal, considerado, ainda, o disposto no subitem 10.10.2.1 do Título 10 da minuta do Termo de Contrato anexa;"]
[]
[]
[]
[null,"b) estamos cientes de que, na hipótese de não cumprirmos o disposto no teor da declaração da alínea anterior (“a”) e não logrado êxito na contratação de remanescente, sendo necessária a realização de nova licitação, caso participemos do certame, deveremos tomar como base em nossos lances e em nossa proposta de preços o(s) salário(s) maior(es), absorvendo ou acrescentando eventual diferença no BDI, sob pena de desclassificação."]
[]
[]
[null,"É OBRIGATÓRIA A COMPROVAÇÃO A QUE SE REFERE O ITEM 4.3 DO TÍTULO 4 DO TERMO DE REFERÊNCIA"]
[]
[]
[null,"(referente ao valor do Fator Acidentário de Prevenção (FAP))."]
[]
[]
[]
[null,"DADOS PARA ASSINATURA DO CONTRATO"]
[null,"Nome do signatário"]
[null,"Cargo"]
[null,"Qualificação\n(CPF, naturalidade e domicílio)"]
[null,"OBS.: O signatário deve possuir poderes de administração estabelecidos em contrato social e/ou possuir procuração com poderes para assinar contratos em nome da empresa. \nA documentação comprobatória deverá ser encaminhada quando da assinatura do contrato."]
[]
[null,"MODALIDADE DE GARANTIA:"]
[null,"De acordo com o disposto no Termo de Referência anexo ao Edital, informamos que, caso o objeto nos seja adjudicado, optaremos pela seguinte modalidade de garantia de execução do contrato (artigos 96 e seguintes da Lei 14.133/2021):"]
[null,"____________________________________"]
[]
[]
[]
[null,"Brasília,     de                     de ",null,null,null,null,2025]
[]
[null,"Assinatura do representante legal da empresa"]
[]
[]
[null,"Nome do representante legal da empresa"]

{"sheet":"Remunerações","index":2,"n_rows":46,"n_cols":11,"rows_kept":46,"cut":false,"hidden":false,"merged":[[0,1,0,10]]}
[null,"QUADRO DE REMUNERAÇÕES"]
[]
[null,null,"ITEM","POSTO DE TRABALHO","QUANTIDADE","SALÁRIO","ADICIONAL DE PERICULOSIDADE","ADICIONAL DE INSALUBRIDADE","ADICIONAL NOTURNO","SOBREAVISO OU HORA EXTRA","SALÁRIO COM ADICIONAIS"]
[null,null,1,{"$f":"HLOOKUP(C4,'Dados Gerais'!$D$6:$BI$11,6)","v":"COORDENADOR DE SERVIÇOS DE MANUTENÇÃO "},{"$f":"HLOOKUP($C4,'Dados Gerais'!$D$6:$BI$15,10)","v":1},{"$f":"'1'!$F$9","v":9062.3799999999992},{"$f":"'1'!$F$10","v":0},{"$f":"'1'!$F$11","v":0},{"$f":"'1'!$F$12","v":0},{"$f":"'1'!$F$13+'1'!$F$14","v":1428.01},{"$f":"SUM(F4:J4)","v":10490.39}]
[null,null,{"$f":"C4+1","v":2},{"$f":"HLOOKUP(C5,'Dados Gerais'!$D$6:$BI$11,6)","v":"SUPERVISOR DE MANUTENÇÃO ELETROMECÂNICA "},{"$f":"HLOOKUP($C5,'Dados Gerais'!$D$6:$BI$15,10)","v":4},{"$f":"'2'!$F$9","v":7340.02},{"$f":"'2'!$F$10","v":0},{"$f":"'2'!$F$11","v":0},{"$f":"'2'!$F$12","v":0},{"$f":"'2'!$F$13+'2'!$F$14","v":1156.6099999999999},8496.630000000001]
[null,null,{"$f":"C5+1","v":3},{"$f":"HLOOKUP(C6,'Dados Gerais'!$D$6:$BI$11,6)","v":"ENCARREGADO ELETROMECÂNICO DE INSTALAÇÕES "},{"$f":"HLOOKUP($C6,'Dados Gerais'!$D$6:$BI$15,10)","v":5},{"$f":"'3'!$F$9","v":5547.7},{"$f":"'3'!$F$10","v":1664.31},{"$f":"'3'!$F$11","v":0},{"$f":"'3'!$F$12","v":0},{"$f":"'3'!$F$13+'3'!$F$14","v":874.18},8086.1900000000005]
[null,null,4,{"$f":"HLOOKUP(C7,'Dados Gerais'!$D$6:$BI$11,6)","v":"MESTRE DE MANUTENÇÃO ELETRÔNICA"},{"$f":"HLOOKUP($C7,'Dados Gerais'!$D$6:$BI$15,10)","v":2},{"$f":"'4'!$F$9","v":4472.0600000000004},{"$f":"'4'!$F$10","v":0},{"$f":"'4'!$F$11","v":303.60000000000002},{"$f":"'4'!$F$12","v":0},{"$f":"'4'!$F$13+'4'!$F$14","v":0},4775.6600000000008]
[null,null,5,{"$f":"HLOOKUP(C8,'Dados Gerais'!$D$6:$BI$11,6)","v":"MESTRE ELETRICISTA DE MANUTENÇÃO "},{"$f":"HLOOKUP($C8,'Dados Gerais'!$D$6:$BI$15,10)","v":7},{"$f":"'5'!$F$9","v":3800},{"$f":"'5'!$F$10","v":1140},{"$f":"'5'!$F$11","v":0},{"$f":"'5'!$F$12","v":0},{"$f":"'5'!$F$13+'5'!$F$14","v":0},4940]
[null,null,6,{"$f":"HLOOKUP(C9,'Dados Gerais'!$D$6:$BI$11,6)","v":"MECÂNICO DE MÁQUINAS PESADAS - MANUTENÇÃO"},{"$f":"HLOOKUP($C9,'Dados Gerais'!$D$6:$BI$15,10)","v":26},{"$f":"'6'!$F$9","v":3765.58},{"$f":"'6'!$F$10","v":0},{"$f":"'6'!$F$11","v":303.60000000000002},{"$f":"'6'!$F$12","v":0},{"$f":"'6'!$F$13+'6'!$F$14","v":0},4069.18]
[null,null,7,{"$f":"HLOOKUP(C10,'Dados Gerais'!$D$6:$BI$11,6)","v":"OPERADOR ELETROMECÂNICO - EXPEDIENTE"},{"$f":"HLOOKUP($C10,'Dados Gerais'!$D$6:$BI$15,10)","v":4},{"$f":"'7'!$F$9","v":2727.34},{"$f":"'7'!$F$10","v":0},{"$f":"'7'!$F$11","v":303.60000000000002},{"$f":"'7'!$F$12","v":0},{"$f":"'7'!$F$13+'7'!$F$14","v":0},3030.94]
[null,null,8,{"$f":"HLOOKUP(C11,'Dados Gerais'!$D$6:$BI$11,6)","v":"OPERADOR ELETROMECÂNICO – PLANTONISTA DIURNO"},{"$f":"HLOOKUP($C11,'Dados Gerais'!$D$6:$BI$15,10)","v":6},{"$f":"'8'!$F$9","v":2727.34},{"$f":"'8'!$F$10","v":0},{"$f":"'8'!$F$11","v":303.60000000000002},{"$f":"'8'!$F$12","v":0},{"$f":"'8'!$F$13+'8'!$F$14","v":0},3030.94]
[null,null,9,{"$f":"HLOOKUP(C12,'Dados Gerais'!$D$6:$BI$11,6)","v":"OPERADOR ELETROMECÂNICO – PLANTONISTA NOTURNO"},{"$f":"HLOOKUP($C12,'Dados Gerais'!$D$6:$BI$15,10)","v":6},{"$f":"'9'!$F$9","v":2727.34},{"$f":"'9'!$F$10","v":0},{"$f":"'9'!$F$11","v":303.60000000000002},{"$f":"'9'!$F$12","v":289.32},{"$f":"'9'!$F$13+'9'!$F$14","v":0},3320.26]
[null,null,10,{"$f":"HLOOKUP(C13,'Dados Gerais'!$D$6:$BI$11,6)","v":"AUXILIAR MECÂNICO DE AR CONDICIONADO"},{"$f":"HLOOKUP($C13,'Dados Gerais'!$D$6:$BI$15,10)","v":19},{"$f":"'10'!$F$9","v":1921.17},{"$f":"'10'!$F$10","v":0},{"$f":"'10'!$F$11","v":303.60000000000002},{"$f":"'10'!$F$12","v":0},{"$f":"'10'!$F$13+'10'!$F$14","v":0},2224.77]
[null,null,11,{"$f":"HLOOKUP(C14,'Dados Gerais'!$D$6:$BI$11,6)","v":"CONTROLADOR DE MATERIAIS"},{"$f":"HLOOKUP($C14,'Dados Gerais'!$D$6:$BI$15,10)","v":3},{"$f":"'11'!$F$9","v":3500},{"$f":"'11'!$F$10","v":0},{"$f":"'11'!$F$11","v":0},{"$f":"'11'!$F$12","v":0},{"$f":"'11'!$F$13+'11'!$F$14","v":0},3500]
[null,null,12,{"$f":"HLOOKUP(C15,'Dados Gerais'!$D$6:$BI$11,6)","v":"COORDENADOR DE FACILITIES"},{"$f":"HLOOKUP($C15,'Dados Gerais'!$D$6:$BI$15,10)","v":5},{"$f":"'12'!$F$9","v":9424.8700000000008},{"$f":"'12'!$F$10","v":0},{"$f":"'12'!$F$11","v":0},{"$f":"'12'!$F$12","v":0},{"$f":"'12'!$F$13+'12'!$F$14","v":0},9424.8700000000008]
[null,null,13,{"$f":"HLOOKUP(C16,'Dados Gerais'!$D$6:$BI$11,6)","v":"OPERADOR DE CENTRAL DE DETECÇÃO E ALARME DE INCÊNDIO - PLANTONISTA DIURNO"},{"$f":"HLOOKUP($C16,'Dados Gerais'!$D$6:$BI$15,10)","v":4},{"$f":"'13'!$F$9","v":2933.92},{"$f":"'13'!$F$10","v":880.18},{"$f":"'13'!$F$11","v":0},{"$f":"'13'!$F$12","v":0},{"$f":"'13'!$F$13+'13'!$F$14","v":200.04},4014.14]
[null,null,14,{"$f":"HLOOKUP(C17,'Dados Gerais'!$D$6:$BI$11,6)","v":"OPERADOR DE CENTRAL DE DETECÇÃO E ALARME DE INCÊNDIO - PLANTONISTA NOTURNO"},{"$f":"HLOOKUP($C17,'Dados Gerais'!$D$6:$BI$15,10)","v":4},{"$f":"'14'!$F$9","v":2933.92},{"$f":"'14'!$F$10","v":880.18},{"$f":"'14'!$F$11","v":0},{"$f":"'14'!$F$12","v":364.07},{"$f":"'14'!$F$13+'14'!$F$14","v":200.04},4378.21]
[null,null,15,{"$f":"HLOOKUP(C18,'Dados Gerais'!$D$6:$BI$11,6)","v":0},{"$f":"HLOOKUP($C18,'Dados Gerais'!$D$6:$BI$15,10)","v":0},{"$f":"#REF!","v":{"$error":"#REF!"}},{"$f":"#REF!","v":{"$error":"#REF!"}},{"$f":"#REF!","v":{"$error":"#REF!"}},{"$f":"#REF!","v":{"$error":"#REF!"}},{"$f":"#REF!+#REF!","v":{"$error":"#REF!"}},{"$error":"#REF!"}]
[null,null,16,{"$f":"HLOOKUP(C19,'Dados Gerais'!$D$6:$BI$11,6)","v":0},{"$f":"HLOOKUP($C19,'Dados Gerais'!$D$6:$BI$15,10)","v":0},{"$f":"#REF!","v":{"$error":"#REF!"}},{"$f":"#REF!","v":{"$error":"#REF!"}},{"$f":"#REF!","v":{"$error":"#REF!"}},{"$f":"#REF!","v":{"$error":"#REF!"}},{"$f":"#REF!+#REF!","v":{"$error":"#REF!"}},{"$error":"#REF!"}]
[null,null,17,{"$f":"HLOOKUP(C20,'Dados Gerais'!$D$6:$BI$11,6)","v":0},{"$f":"HLOOKUP($C20,'Dados Gerais'!$D$6:$BI$15,10)","v":0},{"$f":"#REF!","v":{"$error":"#REF!"}},{"$f":"#REF!","v":{"$error":"#REF!"}},{"$f":"#REF!","v":{"$error":"#REF!"}},{"$f":"#REF!","v":{"$error":"#REF!"}},{"$f":"#REF!+#REF!","v":{"$error":"#REF!"}},{"$error":"#REF!"}]
[null,null,18,{"$f":"HLOOKUP(C21,'Dados Gerais'!$D$6:$BI$11,6)","v":0},{"$f":"HLOOKUP($C21,'Dados Gerais'!$D$6:$BI$15,10)","v":0},{"$f":"#REF!","v":{"$error":"#REF!"}},{"$f":"#REF!","v":{"$error":"#REF!"}},{"$f":"#REF!","v":{"$error":"#REF!"}},{"$f":"#REF!","v":{"$error":"#REF!"}},{"$f":"#REF!+#REF!","v":{"$error":"#REF!"}},{"$error":"#REF!"}]
[null,null,19,{"$f":"HLOOKUP(C22,'Dados Gerais'!$D$6:$BI$11,6)","v":0},{"$f":"HLOOKUP($C22,'Dados Gerais'!$D$6:$BI$15,10)","v":0},{"$f":"#REF!","v":{"$error":"#REF!"}},{"$f":"#REF!","v":{"$error":"#REF!"}},{"$f":"#REF!","v":{"$error":"#REF!"}},{"$f":"#REF!","v":{"$error":"#REF!"}},{"$f":"#REF!+#REF!","v":{"$error":"#REF!"}},{"$error":"#REF!"}]
[null,null,20,{"$f":"HLOOKUP(C23,'Dados Gerais'!$D$6:$BI$11,6)","v":0},{"$f":"HLOOKUP($C23,'Dados Gerais'!$D$6:$BI$15,10)","v":0},{"$f":"#REF!","v":{"$error":"#REF!"}},{"$f":"#REF!","v":{"$error":"#REF!"}},{"$f":"#REF!","v":{"$error":"#REF!"}},{"$f":"#REF!","v":{"$error":"#REF!"}},{"$f":"#REF!+#REF!","v":{"$error":"#REF!"}},{"$error":"#REF!"}]
[null,null,21,{"$f":"HLOOKUP(C24,'Dados Gerais'!$D$6:$BI$11,6)","v":0},{"$f":"HLOOKUP($C24,'Dados Gerais'!$D$6:$BI$15,10)","v":0},{"$f":"'1'!$F$9","v":9062.3799999999992},{"$f":"'1'!$F$10","v":0},{"$f":"'1'!$F$11","v":0},{"$f":"'1'!$F$12","v":0},{"$f":"'1'!$F$13+'1'!$F$14","v":1428.01},10490.39]
[null,null,22,{"$f":"HLOOKUP(C25,'Dados Gerais'!$D$6:$BI$11,6)","v":0},{"$f":"HLOOKUP($C25,'Dados Gerais'!$D$6:$BI$15,10)","v":0},{"$f":"'1'!$F$9","v":9062.3799999999992},{"$f":"'1'!$F$10","v":0},{"$f":"'1'!$F$11","v":0},{"$f":"'1'!$F$12","v":0},{"$f":"'1'!$F$13+'1'!$F$14","v":1428.01},10490.39]
[null,null,23,{"$f":"HLOOKUP(C26,'Dados Gerais'!$D$6:$BI$11,6)","v":0},{"$f":"HLOOKUP($C26,'Dados Gerais'!$D$6:$BI$15,10)","v":0},{"$f":"'1'!$F$9","v":9062.3799999999992},{"$f":"'1'!$F$10","v":0},{"$f":"'1'!$F$11","v":0},{"$f":"'1'!$F$12","v":0},{"$f":"'1'!$F$13+'1'!$F$14","v":1428.01},10490.39]
[null,null,24,{"$f":"HLOOKUP(C27,'Dados Gerais'!$D$6:$BI$11,6)","v":0},{"$f":"HLOOKUP($C27,'Dados Gerais'!$D$6:$BI$15,10)","v":0},{"$f":"'1'!$F$9","v":9062.3799999999992},{"$f":"'1'!$F$10","v":0},{"$f":"'1'!$F$11","v":0},{"$f":"'1'!$F$12","v":0},{"$f":"'1'!$F$13+'1'!$F$14","v":1428.01},10490.39]
[null,null,25,{"$f":"HLOOKUP(C28,'Dados Gerais'!$D$6:$BI$11,6)","v":0},{"$f":"HLOOKUP($C28,'Dados Gerais'!$D$6:$BI$15,10)","v":0},{"$f":"'1'!$F$9","v":9062.3799999999992},{"$f":"'1'!$F$10","v":0},{"$f":"'1'!$F$11","v":0},{"$f":"'1'!$F$12","v":0},{"$f":"'1'!$F$13+'1'!$F$14","v":1428.01},10490.39]
[null,null,26,{"$f":"HLOOKUP(C29,'Dados Gerais'!$D$6:$BI$11,6)","v":0},{"$f":"HLOOKUP($C29,'Dados Gerais'!$D$6:$BI$15,10)","v":0},{"$f":"'1'!$F$9","v":9062.3799999999992},{"$f":"'1'!$F$10","v":0},{"$f":"'1'!$F$11","v":0},{"$f":"'1'!$F$12","v":0},{"$f":"'1'!$F$13+'1'!$F$14","v":1428.01},10490.39]
[null,null,27,{"$f":"HLOOKUP(C30,'Dados Gerais'!$D$6:$BI$11,6)","v":0},{"$f":"HLOOKUP($C30,'Dados Gerais'!$D$6:$BI$15,10)","v":0},{"$f":"'1'!$F$9","v":9062.3799999999992},{"$f":"'1'!$F$10","v":0},{"$f":"'1'!$F$11","v":0},{"$f":"'1'!$F$12","v":0},{"$f":"'1'!$F$13+'1'!$F$14","v":1428.01},10490.39]
[null,null,28,{"$f":"HLOOKUP(C31,'Dados Gerais'!$D$6:$BI$11,6)","v":0},{"$f":"HLOOKUP($C31,'Dados Gerais'!$D$6:$BI$15,10)","v":0},{"$f":"'1'!$F$9","v":9062.3799999999992},{"$f":"'1'!$F$10","v":0},{"$f":"'1'!$F$11","v":0},{"$f":"'1'!$F$12","v":0},{"$f":"'1'!$F$13+'1'!$F$14","v":1428.01},10490.39]
[null,null,29,{"$f":"HLOOKUP(C32,'Dados Gerais'!$D$6:$BI$11,6)","v":0},{"$f":"HLOOKUP($C32,'Dados Gerais'!$D$6:$BI$15,10)","v":0},{"$f":"'1'!$F$9","v":9062.3799999999992},{"$f":"'1'!$F$10","v":0},{"$f":"'1'!$F$11","v":0},{"$f":"'1'!$F$12","v":0},{"$f":"'1'!$F$13+'1'!$F$14","v":1428.01},10490.39]
[null,null,30,{"$f":"HLOOKUP(C33,'Dados Gerais'!$D$6:$BI$11,6)","v":0},{"$f":"HLOOKUP($C33,'Dados Gerais'!$D$6:$BI$15,10)","v":0},{"$f":"'1'!$F$9","v":9062.3799999999992},{"$f":"'1'!$F$10","v":0},{"$f":"'1'!$F$11","v":0},{"$f":"'1'!$F$12","v":0},{"$f":"'1'!$F$13+'1'!$F$14","v":1428.01},10490.39]
[null,null,31,{"$f":"HLOOKUP(C34,'Dados Gerais'!$D$6:$BI$11,6)","v":0},{"$f":"HLOOKUP($C34,'Dados Gerais'!$D$6:$BI$15,10)","v":0},{"$f":"'1'!$F$9","v":9062.3799999999992},{"$f":"'1'!$F$10","v":0},{"$f":"'1'!$F$11","v":0},{"$f":"'1'!$F$12","v":0},{"$f":"'1'!$F$13+'1'!$F$14","v":1428.01},10490.39]
[null,null,32,{"$f":"HLOOKUP(C35,'Dados Gerais'!$D$6:$BI$11,6)","v":0},{"$f":"HLOOKUP($C35,'Dados Gerais'!$D$6:$BI$15,10)","v":0},{"$f":"'1'!$F$9","v":9062.3799999999992},{"$f":"'1'!$F$10","v":0},{"$f":"'1'!$F$11","v":0},{"$f":"'1'!$F$12","v":0},{"$f":"'1'!$F$13+'1'!$F$14","v":1428.01},10490.39]
[null,null,33,{"$f":"HLOOKUP(C36,'Dados Gerais'!$D$6:$BI$11,6)","v":0},{"$f":"HLOOKUP($C36,'Dados Gerais'!$D$6:$BI$15,10)","v":0},{"$f":"'1'!$F$9","v":9062.3799999999992},{"$f":"'1'!$F$10","v":0},{"$f":"'1'!$F$11","v":0},{"$f":"'1'!$F$12","v":0},{"$f":"'1'!$F$13+'1'!$F$14","v":1428.01},10490.39]
[null,null,34,{"$f":"HLOOKUP(C37,'Dados Gerais'!$D$6:$BI$11,6)","v":0},{"$f":"HLOOKUP($C37,'Dados Gerais'!$D$6:$BI$15,10)","v":0},{"$f":"'1'!$F$9","v":9062.3799999999992},{"$f":"'1'!$F$10","v":0},{"$f":"'1'!$F$11","v":0},{"$f":"'1'!$F$12","v":0},{"$f":"'1'!$F$13+'1'!$F$14","v":1428.01},10490.39]
[null,null,35,{"$f":"HLOOKUP(C38,'Dados Gerais'!$D$6:$BI$11,6)","v":0},{"$f":"HLOOKUP($C38,'Dados Gerais'!$D$6:$BI$15,10)","v":0},{"$f":"'1'!$F$9","v":9062.3799999999992},{"$f":"'1'!$F$10","v":0},{"$f":"'1'!$F$11","v":0},{"$f":"'1'!$F$12","v":0},{"$f":"'1'!$F$13+'1'!$F$14","v":1428.01},10490.39]
[null,null,36,{"$f":"HLOOKUP(C39,'Dados Gerais'!$D$6:$BI$11,6)","v":0},{"$f":"HLOOKUP($C39,'Dados Gerais'!$D$6:$BI$15,10)","v":0},{"$f":"'1'!$F$9","v":9062.3799999999992},{"$f":"'1'!$F$10","v":0},{"$f":"'1'!$F$11","v":0},{"$f":"'1'!$F$12","v":0},{"$f":"'1'!$F$13+'1'!$F$14","v":1428.01},10490.39]
[null,null,37,{"$f":"HLOOKUP(C40,'Dados Gerais'!$D$6:$BI$11,6)","v":0},{"$f":"HLOOKUP($C40,'Dados Gerais'!$D$6:$BI$15,10)","v":0},{"$f":"'1'!$F$9","v":9062.3799999999992},{"$f":"'1'!$F$10","v":0},{"$f":"'1'!$F$11","v":0},{"$f":"'1'!$F$12","v":0},{"$f":"'1'!$F$13+'1'!$F$14","v":1428.01},10490.39]
[null,null,38,{"$f":"HLOOKUP(C41,'Dados Gerais'!$D$6:$BI$11,6)","v":0},{"$f":"HLOOKUP($C41,'Dados Gerais'!$D$6:$BI$15,10)","v":0},{"$f":"'1'!$F$9","v":9062.3799999999992},{"$f":"'1'!$F$10","v":0},{"$f":"'1'!$F$11","v":0},{"$f":"'1'!$F$12","v":0},{"$f":"'1'!$F$13+'1'!$F$14","v":1428.01},10490.39]
[null,null,39,{"$f":"HLOOKUP(C42,'Dados Gerais'!$D$6:$BI$11,6)","v":0},{"$f":"HLOOKUP($C42,'Dados Gerais'!$D$6:$BI$15,10)","v":0},{"$f":"'1'!$F$9","v":9062.3799999999992},{"$f":"'1'!$F$10","v":0},{"$f":"'1'!$F$11","v":0},{"$f":"'1'!$F$12","v":0},{"$f":"'1'!$F$13+'1'!$F$14","v":1428.01},10490.39]
[null,null,40,{"$f":"HLOOKUP(C43,'Dados Gerais'!$D$6:$BI$11,6)","v":0},{"$f":"HLOOKUP($C43,'Dados Gerais'!$D$6:$BI$15,10)","v":0},{"$f":"'1'!$F$9","v":9062.3799999999992},{"$f":"'1'!$F$10","v":0},{"$f":"'1'!$F$11","v":0},{"$f":"'1'!$F$12","v":0},{"$f":"'1'!$F$13+'1'!$F$14","v":1428.01},10490.39]
[null,null,41,{"$f":"HLOOKUP(C44,'Dados Gerais'!$D$6:$BI$11,6)","v":0},{"$f":"HLOOKUP($C44,'Dados Gerais'!$D$6:$BI$15,10)","v":0},{"$f":"'1'!$F$9","v":9062.3799999999992},{"$f":"'1'!$F$10","v":0},{"$f":"'1'!$F$11","v":0},{"$f":"'1'!$F$12","v":0},{"$f":"'1'!$F$13+'1'!$F$14","v":1428.01},10490.39]
[]
[null,null,null,"TOTAL ",{"$f":"SUM(E4:E44)","v":96}]

{"sheet":"Resumo","index":3,"n_rows":145,"n_cols":9,"rows_kept":145,"cut":false,"hidden":false,"merged":[[0,1,0,8],[142,3,142,7],[99,3,99,7],[131,3,131,7],[138,3,138,7],[3,1,3,8],[47,1,47,8],[25,1,25,8],[127,3,127,7],[69,1,69,8],[88,1,88,8],[107,3,107,7],[111,3,111,7],[118,3,118,7],[122,3,122,7]]}
[null,"1.1 - DETEC - FATURA ORDINÁRIA"]
[]
[]
[null,"1.1.1 RESUMO - TOTAIS MENSAIS - FATURA ORDINÁRIA (SEM O 13º E SEM OS ITENS SOB DEMANDA)"]
[]
[]
[null,null,"ITEM","POSTO DE TRABALHO","QUANTIDADE","PREÇO UNIT       (SEM O 13º)","DESTAQUE DO 13º","PREÇO POR EMPREGADO","PREÇO TOTAL (MENSAL)"]
[null,null,1,{"$f":"HLOOKUP(C8,'Dados Gerais'!$D$6:$BI$11,6)","v":"COORDENADOR DE SERVIÇOS DE MANUTENÇÃO "},{"$f":"'Dados Gerais'!D$15","v":1},{"$f":"'1'!$E$115","v":22682.720000000001},0,{"$f":"G8+F8","v":22682.720000000001},{"$f":"H8*E8","v":22682.720000000001}]
[null,null,2,{"$f":"HLOOKUP(C9,'Dados Gerais'!$D$6:$BI$11,6)","v":"SUPERVISOR DE MANUTENÇÃO ELETROMECÂNICA "},{"$f":"'Dados Gerais'!E$15","v":4},{"$f":"'2'!$E$115","v":18708.05},0,{"$f":"G9+F9","v":18708.05},{"$f":"H9*E9","v":74832.2}]
[null,null,3,{"$f":"HLOOKUP(C10,'Dados Gerais'!$D$6:$BI$11,6)","v":"ENCARREGADO ELETROMECÂNICO DE INSTALAÇÕES "},{"$f":"'Dados Gerais'!F$15","v":5},{"$f":"'3'!$E$115","v":17896.28},0,{"$f":"G10+F10","v":17896.28},{"$f":"H10*E10","v":89481.4}]
[null,null,4,{"$f":"HLOOKUP(C11,'Dados Gerais'!$D$6:$BI$11,6)","v":"MESTRE DE MANUTENÇÃO ELETRÔNICA"},{"$f":"'Dados Gerais'!G$15","v":2},{"$f":"'4'!$E$115","v":11352.93},0,{"$f":"G11+F11","v":11352.93},{"$f":"H11*E11","v":22705.86}]
[null,null,5,{"$f":"HLOOKUP(C12,'Dados Gerais'!$D$6:$BI$11,6)","v":"MESTRE ELETRICISTA DE MANUTENÇÃO "},{"$f":"'Dados Gerais'!H$15","v":7},{"$f":"'5'!$E$115","v":11688.05},0,{"$f":"G12+F12","v":11688.05},{"$f":"H12*E12","v":81816.349999999991}]
[null,null,6,{"$f":"HLOOKUP(C13,'Dados Gerais'!$D$6:$BI$11,6)","v":"MECÂNICO DE MÁQUINAS PESADAS - MANUTENÇÃO"},{"$f":"'Dados Gerais'!I$15","v":26},{"$f":"'6'!$E$115","v":9957.35},0,9957.35,258891.1]
[null,null,7,{"$f":"HLOOKUP(C14,'Dados Gerais'!$D$6:$BI$11,6)","v":"OPERADOR ELETROMECÂNICO - EXPEDIENTE"},{"$f":"'Dados Gerais'!J$15","v":4},{"$f":"'7'!$E$115","v":7865.08},0,7865.08,31460.32]
[null,null,8,{"$f":"HLOOKUP(C15,'Dados Gerais'!$D$6:$BI$11,6)","v":"OPERADOR ELETROMECÂNICO – PLANTONISTA DIURNO"},{"$f":"'Dados Gerais'!K$15","v":6},{"$f":"'8'!$E$115","v":7282.32},0,7282.32,43693.919999999998]
[null,null,9,{"$f":"HLOOKUP(C16,'Dados Gerais'!$D$6:$BI$11,6)","v":"OPERADOR ELETROMECÂNICO – PLANTONISTA NOTURNO"},{"$f":"'Dados Gerais'!L$15","v":6},{"$f":"'9'!$E$115","v":7872.13},0,7872.13,47232.78]
[null,null,10,{"$f":"HLOOKUP(C17,'Dados Gerais'!$D$6:$BI$11,6)","v":"AUXILIAR MECÂNICO DE AR CONDICIONADO"},{"$f":"'Dados Gerais'!M$15","v":19},{"$f":"'10'!$E$115","v":6310.42},0,6310.42,119897.98]
[null,null,11,{"$f":"HLOOKUP(C18,'Dados Gerais'!$D$6:$BI$11,6)","v":"CONTROLADOR DE MATERIAIS"},{"$f":"'Dados Gerais'!N$15","v":3},{"$f":"'11'!$E$115","v":8805.6},0,8805.6,26416.800000000003]
[null,null,12,{"$f":"HLOOKUP(C19,'Dados Gerais'!$D$6:$BI$11,6)","v":"COORDENADOR DE FACILITIES"},{"$f":"'Dados Gerais'!O$15","v":5},{"$f":"'12'!$E$115","v":20477.82},0,20477.82,102389.1]
[null,null,13,{"$f":"HLOOKUP(C20,'Dados Gerais'!$D$6:$BI$11,6)","v":"OPERADOR DE CENTRAL DE DETECÇÃO E ALARME DE INCÊNDIO - PLANTONISTA DIURNO"},{"$f":"'Dados Gerais'!P$15","v":4},{"$f":"'13'!$E$115","v":9249.69},0,9249.69,36998.76]
[null,null,14,{"$f":"HLOOKUP(C21,'Dados Gerais'!$D$6:$BI$11,6)","v":"OPERADOR DE CENTRAL DE DETECÇÃO E ALARME DE INCÊNDIO - PLANTONISTA NOTURNO"},{"$f":"'Dados Gerais'!Q$15","v":4},{"$f":"'14'!$E$115","v":9991.8700000000008},0,9991.8700000000008,39967.480000000003]
[]
[null,null,null,"TOTAL MENSAL - SALÁRIOS",null,null,null,null,{"$f":"SUM(I8:I22)","v":998466.77}]
[]
[]
[null,"1.1.2 RESUMO - TOTAIS MENSAIS - FATURA ORDINÁRIA - DESTAQUE DO 13º SALÁRIO"]
[]
[]
[null,null,"ITEM","POSTO DE TRABALHO","QUANTIDADE","PREÇO UNIT       (SEM O 13º)","DESTAQUE DO 13º","PREÇO POR EMPREGADO","PREÇO TOTAL (MENSAL)"]
[null,null,1,{"$f":"HLOOKUP(C30,'Dados Gerais'!$D$6:$BI$11,6)","v":"COORDENADOR DE SERVIÇOS DE MANUTENÇÃO "},{"$f":"'Dados Gerais'!D$15","v":1},0,{"$f":"'1'!$E$116","v":1599.96},{"$f":"G30+F30","v":1599.96},{"$f":"H30*E30","v":1599.96}]
[null,null,2,{"$f":"HLOOKUP(C31,'Dados Gerais'!$D$6:$BI$11,6)","v":"SUPERVISOR DE MANUTENÇÃO ELETROMECÂNICA "},{"$f":"'Dados Gerais'!E$15","v":4},0,{"$f":"'2'!$E$116","v":1295.8800000000001},{"$f":"G31+F31","v":1295.8800000000001},{"$f":"H31*E31","v":5183.5200000000004}]
[null,null,3,{"$f":"HLOOKUP(C32,'Dados Gerais'!$D$6:$BI$11,6)","v":"ENCARREGADO ELETROMECÂNICO DE INSTALAÇÕES "},{"$f":"'Dados Gerais'!F$15","v":5},0,{"$f":"'3'!$E$116","v":1233.27},{"$f":"G32+F32","v":1233.27},{"$f":"H32*E32","v":6166.35}]
[null,null,4,{"$f":"HLOOKUP(C33,'Dados Gerais'!$D$6:$BI$11,6)","v":"MESTRE DE MANUTENÇÃO ELETRÔNICA"},{"$f":"'Dados Gerais'!G$15","v":2},0,{"$f":"'4'!$E$116","v":728.37},{"$f":"G33+F33","v":728.37},{"$f":"H33*E33","v":1456.74}]
[null,null,5,{"$f":"HLOOKUP(C34,'Dados Gerais'!$D$6:$BI$11,6)","v":"MESTRE ELETRICISTA DE MANUTENÇÃO "},{"$f":"'Dados Gerais'!H$15","v":7},0,{"$f":"'5'!$E$116","v":753.43},{"$f":"G34+F34","v":753.43},{"$f":"H34*E34","v":5274.0099999999993}]
[null,null,6,{"$f":"HLOOKUP(C35,'Dados Gerais'!$D$6:$BI$11,6)","v":"MECÂNICO DE MÁQUINAS PESADAS - MANUTENÇÃO"},{"$f":"'Dados Gerais'!I$15","v":26},0,{"$f":"'6'!$E$116","v":620.62},{"$f":"G35+F35","v":620.62},{"$f":"H35*E35","v":16136.12}]
[null,null,7,{"$f":"HLOOKUP(C36,'Dados Gerais'!$D$6:$BI$11,6)","v":"OPERADOR ELETROMECÂNICO - EXPEDIENTE"},{"$f":"'Dados Gerais'!J$15","v":4},0,{"$f":"'7'!$E$116","v":462.26},462.26,1849.04]
[null,null,8,{"$f":"HLOOKUP(C37,'Dados Gerais'!$D$6:$BI$11,6)","v":"OPERADOR ELETROMECÂNICO – PLANTONISTA DIURNO"},{"$f":"'Dados Gerais'!K$15","v":6},0,{"$f":"'8'!$E$116","v":462.26},462.26,2773.56]
[null,null,9,{"$f":"HLOOKUP(C38,'Dados Gerais'!$D$6:$BI$11,6)","v":"OPERADOR ELETROMECÂNICO – PLANTONISTA NOTURNO"},{"$f":"'Dados Gerais'!L$15","v":6},0,{"$f":"'9'!$E$116","v":506.4},506.4,3038.3999999999996]
[null,null,10,{"$f":"HLOOKUP(C39,'Dados Gerais'!$D$6:$BI$11,6)","v":"AUXILIAR MECÂNICO DE AR CONDICIONADO"},{"$f":"'Dados Gerais'!M$15","v":19},0,{"$f":"'10'!$E$116","v":339.32},339.32,6447.08]
[null,null,11,{"$f":"HLOOKUP(C40,'Dados Gerais'!$D$6:$BI$11,6)","v":"CONTROLADOR DE MATERIAIS"},{"$f":"'Dados Gerais'!N$15","v":3},0,{"$f":"'11'!$E$116","v":533.79999999999995},533.79999999999995,1601.3999999999999]
[null,null,12,{"$f":"HLOOKUP(C41,'Dados Gerais'!$D$6:$BI$11,6)","v":"COORDENADOR DE FACILITIES"},{"$f":"'Dados Gerais'!O$15","v":5},0,{"$f":"'12'!$E$116","v":1437.44},1437.44,7187.2000000000007]
[null,null,13,{"$f":"HLOOKUP(C42,'Dados Gerais'!$D$6:$BI$11,6)","v":"OPERADOR DE CENTRAL DE DETECÇÃO E ALARME DE INCÊNDIO - PLANTONISTA DIURNO"},{"$f":"'Dados Gerais'!P$15","v":4},0,{"$f":"'13'!$E$116","v":612.23},612.23,2448.92]
[null,null,14,{"$f":"HLOOKUP(C43,'Dados Gerais'!$D$6:$BI$11,6)","v":"OPERADOR DE CENTRAL DE DETECÇÃO E ALARME DE INCÊNDIO - PLANTONISTA NOTURNO"},{"$f":"'Dados Gerais'!Q$15","v":4},0,{"$f":"'14'!$E$116","v":667.74},667.74,2670.96]
[]
[null,null,null,"TOTAL MENSAL - DESTAQUE DO 13º",null,null,null,null,{"$f":"SUM(I30:I44)","v":63833.26}]
[]
[]
[null,"1.1.3 RESUMO - TOTAIS MENSAIS - FATURA ORDINÁRIA TOTAL"]
[]
[]
[null,null,"ITEM","POSTO DE TRABALHO","QUANTIDADE","PREÇO UNIT       (SEM O 13º)","DESTAQUE DO 13º","PREÇO POR EMPREGADO","PREÇO TOTAL (MENSAL)"]
[null,null,1,{"$f":"HLOOKUP(C52,'Dados Gerais'!$D$6:$BI$11,6)","v":"COORDENADOR DE SERVIÇOS DE MANUTENÇÃO "},{"$f":"'Dados Gerais'!D$15","v":1},{"$f":"F8","v":22682.720000000001},{"$f":"G30","v":1599.96},{"$f":"G52+F52","v":24282.68},{"$f":"H52*E52","v":24282.68}]
[null,null,2,{"$f":"HLOOKUP(C53,'Dados Gerais'!$D$6:$BI$11,6)","v":"SUPERVISOR DE MANUTENÇÃO ELETROMECÂNICA "},{"$f":"'Dados Gerais'!E$15","v":4},{"$f":"F9","v":18708.05},{"$f":"G31","v":1295.8800000000001},{"$f":"G53+F53","v":20003.93},{"$f":"H53*E53","v":80015.72}]
[null,null,3,{"$f":"HLOOKUP(C54,'Dados Gerais'!$D$6:$BI$11,6)","v":"ENCARREGADO ELETROMECÂNICO DE INSTALAÇÕES "},{"$f":"'Dados Gerais'!F$15","v":5},17896.28,1233.27,19129.55,95647.75]
[null,null,4,{"$f":"HLOOKUP(C55,'Dados Gerais'!$D$6:$BI$11,6)","v":"MESTRE DE MANUTENÇÃO ELETRÔNICA"},{"$f":"'Dados Gerais'!G$15","v":2},11352.93,728.37,12081.300000000001,24162.600000000002]
[null,null,5,{"$f":"HLOOKUP(C56,'Dados Gerais'!$D$6:$BI$11,6)","v":"MESTRE ELETRICISTA DE MANUTENÇÃO "},{"$f":"'Dados Gerais'!H$15","v":7},11688.05,753.43,12441.48,87090.36]
[null,null,6,{"$f":"HLOOKUP(C57,'Dados Gerais'!$D$6:$BI$11,6)","v":"MECÂNICO DE MÁQUINAS PESADAS - MANUTENÇÃO"},{"$f":"'Dados Gerais'!I$15","v":26},9957.35,620.62,10577.970000000001,275027.22000000003]
[null,null,7,{"$f":"HLOOKUP(C58,'Dados Gerais'!$D$6:$BI$11,6)","v":"OPERADOR ELETROMECÂNICO - EXPEDIENTE"},{"$f":"'Dados Gerais'!J$15","v":4},7865.08,462.26,8327.34,33309.360000000001]
[null,null,8,{"$f":"HLOOKUP(C59,'Dados Gerais'!$D$6:$BI$11,6)","v":"OPERADOR ELETROMECÂNICO – PLANTONISTA DIURNO"},{"$f":"'Dados Gerais'!K$15","v":6},7282.32,462.26,7744.58,46467.479999999996]
[null,null,9,{"$f":"HLOOKUP(C60,'Dados Gerais'!$D$6:$BI$11,6)","v":"OPERADOR ELETROMECÂNICO – PLANTONISTA NOTURNO"},{"$f":"'Dados Gerais'!L$15","v":6},7872.13,506.4,8378.5300000000007,50271.180000000008]
[null,null,10,{"$f":"HLOOKUP(C61,'Dados Gerais'!$D$6:$BI$11,6)","v":"AUXILIAR MECÂNICO DE AR CONDICIONADO"},{"$f":"'Dados Gerais'!M$15","v":19},6310.42,339.32,6649.74,126345.06]
[null,null,11,{"$f":"HLOOKUP(C62,'Dados Gerais'!$D$6:$BI$11,6)","v":"CONTROLADOR DE MATERIAIS"},{"$f":"'Dados Gerais'!N$15","v":3},8805.6,533.79999999999995,9339.4,28018.199999999997]
[null,null,12,{"$f":"HLOOKUP(C63,'Dados Gerais'!$D$6:$BI$11,6)","v":"COORDENADOR DE FACILITIES"},{"$f":"'Dados Gerais'!O$15","v":5},20477.82,1437.44,21915.26,109576.29999999999]
[null,null,13,{"$f":"HLOOKUP(C64,'Dados Gerais'!$D$6:$BI$11,6)","v":"OPERADOR DE CENTRAL DE DETECÇÃO E ALARME DE INCÊNDIO - PLANTONISTA DIURNO"},{"$f":"'Dados Gerais'!P$15","v":4},9249.69,612.23,9861.92,39447.68]
[null,null,14,{"$f":"HLOOKUP(C65,'Dados Gerais'!$D$6:$BI$11,6)","v":"OPERADOR DE CENTRAL DE DETECÇÃO E ALARME DE INCÊNDIO - PLANTONISTA NOTURNO"},{"$f":"'Dados Gerais'!Q$15","v":4},9991.8700000000008,667.74,10659.61,42638.44]
[]
[null,null,null,"TOTAL MENSAL - SALÁRIOS",null,null,null,null,{"$f":"SUM(I52:I66)","v":1062300.0300000003}]
[]
[]
[null,"RESUMO - TOTAIS MENSAIS - ITENS COMPLEMENTARES À FOLHA"]
[]
[]
[null,null,"ITEM","DESCRIÇÃO",null,null,null,null,"PREÇO TOTAL (MENSAL)"]
[null,null,"SREP","SISTEMA DE REGISTRO ELETRÔNICO DE PRESENÇA - SREP",null,null,null,null,{"$f":"SREP!M46","v":1366.9}]
[null,null,"EPI - N.REL","EQUIPAMENTOS DE PROTEÇÃO INDIVIDUAL NÃO RELACIONADOS DIRETAMENTE A UM POSTO DE TRABALHO",null,null,null,null,{"$f":"'EPI - Rel'!L49","v":0}]
[null,null,"EPI - N.REL","EPI NÃO RELACIONADOS DIRETAMENTE A UM POSTO DE TRABALHO",null,null,null,null,{"$f":"'EPI - N.Rel'!J38","v":7661.31}]
[null,null,"UNIF.","UNIFORMES NÃO RELACIONADOS DIRETAMENTE A UM POSTO DE TRABALHO",null,null,null,null,{"$f":"Uniformes!K15","v":5159.88}]
[null,null,"FERRAM.","FERRAMENTAS NÃO RELACIONADAS DIRETAMENTE A UM POSTO DE TRABALHO",null,null,null,null,{"$f":"Ferramentas!M240","v":8087.8}]
[null,null,"EQUIPAM","EQUIPAMENTOS NÃO RELACIONADOS DIRETAMENTE A UM POSTO DE TRABALHO",null,null,null,null,{"$f":"Equipamentos!M43","v":5447}]
[null,null,"CONSUMO","MATERIAIS DE CONSUMO",null,null,null,null,{"$f":"'Mat Consumo'!J76","v":14894.01}]
[null,null,"PROF.NÃO.RESID","PROFISSIONAL NÃO-RESIDENTE",null,null,null,null,{"$f":"Prof.N.Resid!J11","v":15361.92}]
[null,null,"VEÍCULOS","VEÍCULOS PARA TRANSPORTE DE COLABORADORES E DE MATERIAIS",null,null,null,null,{"$f":"Veículos!J25","v":3754.69}]
[null,null,"SERV.ADIC","SERVIÇOS ADICIONAIS",null,null,null,null,{"$f":"Serv.Adicionais!J14","v":31234.1}]
[]
[null,null,null,"TOTAL MENSAL - ITENS COMPLEMENTARES À FOLHA",null,null,null,null,{"$f":"SUM(I74:I84)","v":92967.61}]
[]
[]
[]
[null,"RESUMO - TOTAIS MENSAIS - ITENS SOB DEMANDA"]
[]
[]
[null,null,"ITEM","DESCRIÇÃO",null,null,null,null,"PREÇO TOTAL (MENSAL)"]
[null,null,"TRANSP.","PREVISÃO DE MOVIMENTAÇÕES EM TRANSPORTE POR CHAMADO",null,null,null,null,{"$f":"'Demanda - Transp. p. chamado'!J16","v":595.04}]
[null,null,"DEMANDA - HE","HORAS EXTRAS - SOB DEMANDA",null,null,null,null,{"$f":"'Demanda - H.Extras'!M46","v":17285.39}]
[null,null,"DEMANDA - INST","MATERIAIS E SERVIÇOS PARA INSTALAÇÃO - SOB DEMANDA",null,null,null,null,{"$f":"'Demanda - Instalação'!K733","v":143042.46}]
[null,null,"DEMANDA - MANUT","MATERIAIS E SERVIÇOS PARA MANUTENÇÃO - SOB DEMANDA",null,null,null,null,{"$f":"'Demanda - Corretiva'!K1855","v":107871.02}]
[]
[null,null,null,"TOTAL MENSAL - ITENS SOB DEMANDA",null,null,null,null,{"$f":"SUM(I93:I97)","v":268793.90999999997}]
[]
[null,null,null,"TOTAL MENSAL"]
[null,null,null,"DESCRIÇÃO",null,null,null,"VALOR"]
[null,null,null,"FATURA MENSAL ORDINÁRIA - DETEC",null,null,null,{"$f":"I67","v":1062300.0300000003}]
[null,null,null,"ESTIMATIVA MENSAL - ITENS COMPLEMENTARES À FOLHA",null,null,null,{"$f":"I85","v":92967.61}]
[null,null,null,"ESTIMATIVA MENSAL - ITENS SOB DEMANDA",null,null,null,{"$f":"I98","v":268793.90999999997}]
[]
[null,null,null,null,null,null,"TOTAL MENSAL DA CONTRATAÇÃO",{"$f":"ROUND(SUM(H102:H105),2)","v":1424061.55}]
[]
[null,null,null,"TOTAL GLOBAL DA CONTRATAÇÃO - 12 MESES"]
[]
[null,null,null,null,null,null,"12 x TOTAL MENSAL",{"$f":"ROUND(H106*12,2)","v":17088738.600000001}]
[]
[null,null,null,"TOTAL MENSAL - ITENS SOB DEMANDA"]
[null,null,null,"DESCRIÇÃO",null,null,null,"VALOR"]
[null,null,null,"Materiais não relacionados diretamente a um posto de trabalho - AQUISIÇÃO SOB DEMANDA",null,null,null,{"$f":"#REF!","v":{"$error":"#REF!"}}]
[null,null,null,"Equipamentos não relacionados diretamente a um posto de trabalho - AQUISIÇÃO SOB DEMANDA",null,null,null,{"$f":"#REF!","v":{"$error":"#REF!"}}]
[]
[null,null,null,null,null,null,"TOTAL MENSAL DA CONTRATAÇÃO",{"$f":"SUM(H114:H116)","v":{"$error":"#REF!"}}]
[]
[null,null,null,"TOTAL ANUAL - ITENS SOB DEMANDA"]
[]
[null,null,null,null,null,null,"12 x TOTAL MENSAL",{"$f":"H117*12","v":{"$error":"#REF!"}}]
[]
[null,null,null,"TOTAL ANUAL GLOBAL DA CONTRATAÇÃO"]
[]
[null,null,null,null,null,null,null,{"$f":"H121+H110","v":{"$error":"#REF!"}}]
[]
[]
[null,null,null,"TOTAL GLOBAL DA CONTRATAÇÃO - 36 MESES"]
[]
[null,null,null,null,null,null,"36 x TOTAL MENSAL",{"$f":"ROUND(H106*36,2)","v":51266215.799999997}]
[]
[null,null,null,"TOTAL MENSAL - ITENS SOB DEMANDA"]
[null,null,null,"DESCRIÇÃO",null,null,null,"VALOR"]
[null,null,null,"Materiais não relacionados diretamente a um posto de trabalho - AQUISIÇÃO SOB DEMANDA",null,null,null,{"$f":"#REF!","v":{"$error":"#REF!"}}]
[null,null,null,"Equipamentos não relacionados diretamente a um posto de trabalho - AQUISIÇÃO SOB DEMANDA",null,null,null,{"$f":"#REF!","v":{"$error":"#REF!"}}]
[]
[null,null,null,null,null,null,"TOTAL MENSAL DA CONTRATAÇÃO",{"$f":"SUM(H134:H136)","v":{"$error":"#REF!"}}]
[]
[null,null,null,"TOTAL ANUAL - ITENS SOB DEMANDA"]
[]
[null,null,null,null,null,null,"12 x TOTAL MENSAL",{"$f":"H137*12","v":{"$error":"#REF!"}}]
[]
[null,null,null,"TOTAL ANUAL GLOBAL DA CONTRATAÇÃO"]
[]
[null,null,null,null,null,null,null,{"$f":"H141+H130","v":{"$error":"#REF!"}}]

{"sheet":"1","index":4,"n_rows":118,"n_cols":8,"rows_kept":118,"cut":false,"hidden":false,"merged":[[17,1,17,3],[106,1,106,3],[39,3,39,5],[46,1,46,3],[56,1,56,3],[68,3,68,5],[74,1,74,3],[83,1,83,3],[1,1,1,5],[2,1,2,5],[4,1,4,2],[5,1,5,2],[7,1,7,3]]}
[]
[null,"PLANILHA DE ESTIMATIVA DE CUSTOS"]
[null,"Padrão IN 05/2017 e IN 07/2018 - MPDG"]
[]
[null,1,null,{"$f":"HLOOKUP($B$5,'Dados Gerais'!$D$6:$BI$22,6)","v":"COORDENADOR DE SERVIÇOS DE MANUTENÇÃO "},"QUANTIDADE",{"$f":"HLOOKUP($B$5,'Dados Gerais'!$D$6:$BI$22,10)","v":1}]
[null,"CCT",null,{"$f":"HLOOKUP($B$5,'Dados Gerais'!$D$6:$BI$22,16)","v":"SINDUSCON/DF x STICOMBE/DF \nCCT 2024/2025 - 2º TA - \nN.º DF000276/2024"},"DATA-BASE",{"$f":"HLOOKUP($B$5,'Dados Gerais'!$D$6:$BI$22,17)","v":"2024-05-01"}]
[]
[null,"MÓDULO 1 - COMPOSIÇÃO DA REMUNERAÇÃO",null,null,null,"Valor"]
[null,null,"A","Salário-Base",null,{"$f":"HLOOKUP($B$5,'Dados Gerais'!$D$6:$BI$22,8)","v":9062.3799999999992}]
[null,null,"B","Adicional de Periculosidade",null,{"$f":"HLOOKUP($B$5,'Dados Gerais'!$D$6:$BI$39,26)","v":0}]
[null,null,"C","Adicional de Insalubridade",null,{"$f":"HLOOKUP($B$5,'Dados Gerais'!$D$6:$BI$39,32)","v":0}]
[null,null,"D","Adicional Noturno",null,{"$f":"HLOOKUP($B$5,'Dados Gerais'!$D$6:$BI$52,47)","v":0},null,"* Nota 1 - O Módulo 1 refere-se ao valor mensal devido ao empregado pela prestação do serviço no período de 12 meses."]
[null,null,"E","Adicional de Hora Extra",null,{"$f":"HLOOKUP($B$5,'Dados Gerais'!$D$6:$BI$69,64)","v":0},null,"* Nota 2 - O adicional de hora extra no feriado trabalhado foi suprimido pela Lei 13.467/17"]
[null,null,"F","Outros (adicional de sobreaviso)",null,{"$f":"HLOOKUP($B$5,'Dados Gerais'!$D$6:$BI$69,34)","v":1428.01},null,"* Nota 3 - ART. 7º, § 2º, DA LEI Nº 605/49.Sendo mensalista o obreiro, o adicional noturno pago de forma fixa já é considerado integrado para os efeitos do pagamento do repouso semanal remunerado, nos termos do art. 7º, § 2º, da Lei nº 605/49."]
[]
[null,null,null,"TOTAL DA REMUNERAÇÃO",null,{"$f":"SUM(F9:F14)","v":10490.39}]
[]
[null,"MÓDULO 2 - ENCARGOS E BENEFÍCIOS ANUAIS, MENSAIS E DIÁRIOS",null,null,"Percentuais","Valor"]
[null,"Submódulo 2.1 - 13º Salário, Férias e Adicional de Férias"]
[null,null,"A","13º Salário - Calculado no Módulo 7 - Destacado",0,{"$f":"ROUND(E20*F$16,2)","v":0}]
[null,null,"B","Adicional de Férias",{"$f":"'[1]Encargos Sociais'!E31","v":3.0300000000000001E-2},{"$f":"ROUND(E21*(F$16),2)","v":317.86},null,"* Nota 1 - O adicional de férias foi calculado dividindo-se por 11, para comportar os 11 meses presentes e ainda o ausente do posto"]
[]
[null,"Submódulo 2.2 - Encargos Previdenciários (GPS), Fundo de Garantia por Tempo de Serviço (FGTS) e Outras Contribuições"]
[null,null,"A","INSS (art. 22, inciso I, Lei nº 8.212/91)",{"$f":"'Encargos Sociais'!E14","v":0.2},{"$f":"ROUND(E24*($F$16+$F$41+$F$73),2)","v":2394.33},null,"* Nota 1 - Os percentuais dos encargos previdenciários, do FGTS e demais contribuições são estabelecidos por legislação vigente."]
[null,null,"B","Salário Educação (art. 3º, inciso I, Decreto nº 87.043/82)",{"$f":"'Encargos Sociais'!E15","v":2.5000000000000001E-2},{"$f":"ROUND(E25*($F$16+$F$41+$F$73),2)","v":299.29000000000002},null,"* Nota 2 - O SAT, a depender do grau de risco do serviço, irá variar entre 1%, para risco leve, de 2%, para risco médio, e de 3% para risco grave."]
[null,null,"C","SAT/RAT (art. 22, II, Lei 8.212/91 e Anexo V, Decreto 6.042/07) - Enquadramento 8211-3/00",{"$f":"'Encargos Sociais'!E16","v":0.01},119.72,null,"* Nota 3 - Base de cálculo - remuneração + ausências + terço constitucional (férias)"]
[null,null,"D","SESC ou SESI (art. 30, Lei nº 8.036/90 e art. 1º, Lei 8.154/90)",{"$f":"'Encargos Sociais'!E17","v":1.4999999999999999E-2},179.57]
[null,null,"E","SENAI ou SENAC (Decreto nº 2.318/86)",{"$f":"'Encargos Sociais'!E18","v":0.01},119.72]
[null,null,"F","SEBRAE (§ 3º, art. 8º, Lei 8.029/90, alterada pela Lei nº 8.154/90)",{"$f":"'Encargos Sociais'!E19","v":6.0000000000000001E-3},71.83]
[null,null,"G","INCRA (art. 1º, I, Decreto Lei 1.146/70 e Lei 7.787, de 30/06/89)",{"$f":"'Encargos Sociais'!E20","v":2E-3},23.94]
[null,null,"H","FGTS (Lei Complementar nº 110/01 e art. 30, Lei nº 8.036/90)",{"$f":"'Encargos Sociais'!E21","v":0.08},957.73]
[null,null,"I","SECONCI (Convenções Coletivas de Trabalho da construção)",{"$f":"'Encargos Sociais'!E22","v":0.01},119.72]
[]
[null,"Submódulo 2.3 - Benefícios Mensais e Diários"]
[null,null,"A","Auxílio Transporte",null,{"$f":"HLOOKUP($B$5,'Dados Gerais'!$D$6:$BI$95,83)","v":539.97},null,"* Nota 1 - O valor informado deverá ser o custo real do benefício (descontado o valor eventualmente pago pelo empregado)."]
[null,null,"B","Auxílio Alimentação",null,{"$f":"HLOOKUP($B$5,'Dados Gerais'!$D$6:$BI$95,90)","v":910},null,"* Nota 2 - Observar a previsão dos benefícios contidos em Acordos, Convenções e Dissídios Coletivos de Trabalho e o disposto no art. 6º da IN 5/2017"]
[null,null,"C","Assistência Médica e Familiar",null,{"$f":"HLOOKUP($B$5,'Dados Gerais'!$D$6:$BI$103,98)","v":0}]
[null,null,"D","Outros (Seguro de vida, auxílio funeral, auxílio odontológico e auxílio creche)",null,{"$f":"HLOOKUP($B$5,'Dados Gerais'!$D$6:$BI$121,115)","v":13.95}]
[]
[null,null,null,"QUADRO-RESUMO DO MÓDULO 2"]
[null,null,null,"2.1 - 13º Salário, Férias e Adicional de Férias - 13º Destacado - Calculado no Módulo 7 ",{"$f":"SUM(E20:E21)","v":3.0300000000000001E-2},{"$f":"F20+F21","v":317.86}]
[null,null,null,"2.2 - Encargos Previdenciários (GPS), Fundo de Garantia por Tempo de Serviço (FGTS) e Contribuições",{"$f":"SUM(E24:E32)","v":0.35800000000000004},{"$f":"SUM(F24:F32)","v":4285.8499999999995}]
[null,null,null,"2.3 - Benefícios Mensais e Diários",null,{"$f":"SUM(F35:F38)","v":1463.92}]
[]
[null,null,null,"TOTAL DOS ENCARGOS E BENEFÍCIOS",null,{"$f":"SUM(F41:F43)","v":6067.6299999999992}]
[]
[null,"MÓDULO 3 - PREVISÃO PARA RESCISÃO",null,null,"Percentuais","Valor"]
[null,null,"A","Aviso Prévio Indenizado (Art. 7º, inciso XXI, da CF/1988 e arts. 477, 487, §1º, e 491 da CLT)",{"$f":"'Encargos Sociais'!E36","v":3.5000000000000001E-3},{"$f":"ROUND(E48*($F$16+$F$73+$F$41),2)","v":41.9},null,"* Nota 1 - Base de cálculo - remuneração + ausências + 1/3 férias"]
[null,null,"B","Incidência do FGTS sobre o Aviso Prévio Indenizado (Súmula 305 TST)",{"$f":"'Encargos Sociais'!E37","v":2.9999999999999997E-4},3.59]
[null,null,"C","Multa do FGTS e Contribuição Social sobre o Aviso Prévio Indenizado (Art. 18, §1º, da Lei 8.036/1990 e art. 1º da LC nº 110/2001)",{"$f":"'Encargos Sociais'!E38","v":1.1000000000000001E-3},13.17]
[null,null,"D","Aviso Prévio Trabalhado (Art. 488, parágrafo único, CLT)",{"$f":"'Encargos Sociais'!E39","v":7.7999999999999996E-3},93.38]
[null,null,"E","Incidência de GPS, FGTS e outras contribuições sobre o Aviso Prévio Trabalhado",{"$f":"'Encargos Sociais'!E40","v":2.8E-3},33.520000000000003]
[null,null,"F","Multa do FGTS e Contribuição Social sobre o Aviso Prévio Trabalhado",{"$f":"'Encargos Sociais'!E41","v":3.09E-2},369.92]
[]
[null,null,null,"TOTAL DE PREVISÃO PARA RESCISÃO",null,{"$f":"SUM(F48:F53)","v":555.48}]
[]
[null,"MÓDULO 4 - CUSTO DO PROFISSIONAL AUSENTE",null,null,"Percentuais","Valor"]
[null,"Submódulo 4.1 - Ausências Legais"]
[null,null,"A","Férias (Arts. 129 e 130, inc. I, da CLT)",{"$f":"'Encargos Sociais'!E25","v":9.0899999999999995E-2},{"$f":"ROUND(E59*$F$16,2)","v":953.58},null,"* Nota 1 - O Módulo 4 refere-se às previsões para custear ausências do próprio profissional (titular do cargo)"]
[null,null,"B","Ausências Legais (Arts. 131 e 473 da CLT)",{"$f":"'Encargos Sociais'!E26","v":7.9000000000000008E-3},82.87,null,"* Nota 2 - As férias foram calculadas dividindo-se por 11, para comportar os 11 meses presentes e ainda o ausente do posto"]
[null,null,"C","Licença-Paternidade (Art. 7º, XIX, e art. 10, §1º, do ADCT, CF/1988 e Art. 1º, II, da Lei 11.770/2008)",{"$f":"'Encargos Sociais'!E27","v":8.0000000000000004E-4},8.39]
[null,null,"D","Ausência por Acidente de Trabalho (Art. 131, III, da CLT)",{"$f":"'Encargos Sociais'!E28","v":8.9999999999999998E-4},9.44]
[null,null,"E","Afastamento Maternidade (Art. 71 da Lei nº 8.213/1991)",{"$f":"'Encargos Sociais'!E29","v":3.3E-3},34.619999999999997]
[null,null,"F","Auxílio Enfermidade - Doença (Art. 59 da Lei nº 8.213/1991)",{"$f":"'Encargos Sociais'!E30","v":7.1000000000000004E-3},74.48]
[]
[null,"Submódulo 4.2 - Intrajornada"]
[null,null,"A","Intervalo para repouso ou alimentação",{"$f":"'Encargos Sociais'!E33","v":0},{"$f":"ROUND(E67*$F$16,2)","v":0}]
[]
[null,null,null,"QUADRO-RESUMO DO MÓDULO 4",null,"Valor"]
[null,null,null,"4.1 - Ausências Legais",{"$f":"SUM(E59:E64)","v":0.11089999999999998},{"$f":"ROUND(E70*$F$16,2)","v":1163.3800000000001}]
[null,null,null,"4.2 - Intrajornada",{"$f":"E67","v":0},{"$f":"ROUND(E71*$F$16,2)","v":0}]
[]
[null,null,null,"TOTAL DE PREVISÃO PARA RESCISÃO E INTERVALO INTRAJORNADA",null,{"$f":"SUM(F70:F71)","v":1163.3800000000001}]
[]
[null,"MÓDULO 5 - INSUMOS DIVERSOS",null,null,null,"Valor"]
[null,null,"A","Uniformes - aquisição",null,0]
[null,null,"B","Materiais de consumo relacionados ao posto - aquisição",null,0]
[null,null,"C","Ferramentas relacionadas ao posto - remuneração da sua depreciação / manutenção",null,0]
[null,null,"D","Equipamentos relacionados ao posto - remuneração da sua depreciação / manutenção",null,0]
[null,null,"E","Equipamentos de Proteção Individual - EPI - aquisição",null,{"$f":"'EPI - Rel'!J26","v":76.319999999999993}]
[]
[null,null,null,"TOTAL DE INSUMOS DIVERSOS",null,{"$f":"SUM(F76:F81)","v":76.319999999999993},null,"* Nota - Valores mensais por empregado"]
[]
[null,"MÓDULO 6 - CUSTOS INDIRETOS, TRIBUTOS E LUCRO - BDI",null,null,"Percentuais","Valor"]
[null,null,"A","Custos Indiretos",{"$f":"'BDI - Geral'!E7","v":3.5700000000000003E-2}]
[null,null,"A.1","Administração Central",{"$f":"'BDI - Geral'!E8","v":3.0300000000000001E-2}]
[null,null,"A.2","Seguros, Garantias e Riscos",{"$f":"'BDI - Geral'!E9","v":5.4000000000000003E-3}]
[null,null,"B","Lucro",{"$f":"'BDI - Geral'!E11","v":0.04}]
[null,null,"C","Tributos",{"$f":"SUM(E90:E91)","v":0.124}]
[null,null,"C.1","Tributos Federais (COFINS, PIS e CPRB)",{"$f":"'BDI - Geral'!E19","v":7.3999999999999996E-2}]
[null,null,"C.2","Tributos Distritais (ISS)",{"$f":"'BDI - Geral'!E24","v":0.05}]
[null,null,"D","Despesas Financeiras",{"$f":"'BDI - Geral'!E14","v":5.1000000000000004E-3}]
[]
[null,null,null,"TOTAL DE BDI",{"$f":"'BDI - Geral'!E27","v":0.2359},{"$f":"ROUND(E94*E102,2)","v":4329.5200000000004}]
[]
[null,null,null,"QUADRO-RESUMO DO CUSTO MENSAL POR EMPREGADO - SEM O 13º","Valor"]
[null,null,null,"Módulo 1 - Composição da Remuneração",{"$f":"F16","v":10490.39}]
[null,null,null,"Módulo 2 - Encargos e Benefícios Anuais, Mensais e Diários",{"$f":"F45","v":6067.6299999999992}]
[null,null,null,"Módulo 3 - Provisão para Rescisão",{"$f":"F55","v":555.48}]
[null,null,null,"Módulo 4 - Custo de Reposição do Profissional Ausente",{"$f":"F73","v":1163.3800000000001}]
[null,null,null,"Módulo 5 - Insumos Diversos",{"$f":"F82","v":76.319999999999993}]
[null,null,null,"SUBTOTAL (A+B+C+D+E)",{"$f":"SUM(E97:E101)","v":18353.199999999997}]
[null,null,null,"Módulo 6 - Custos Indiretos, Tributos e Lucro",{"$f":"F94","v":4329.5200000000004}]
[]
[null,null,null,"TOTAL DO POSTO",{"$f":"SUM(E102:E103)","v":22682.719999999998}]
[]
[null,"MÓDULO 7 - DESTAQUE DO MÓDULO 2 - 13º SALÁRIO",null,null,"Percentuais","Valor"]
[null,null,"A","13º Salário",{"$f":"'Encargos Sociais'!E32*12/11","v":9.0872727272727272E-2},{"$f":"ROUND(E108*F$16,2)","v":953.29},null,"* Nota 1 - Incluindo-se a reincidência das férias do substituto sobre o titular"]
[null,null,"B","Encargos Sociais sobre o 13º Salário - Taxa calculada no SUBMÓDULO 2.2",{"$f":"SUM($E$24:$E$32)","v":0.35800000000000004},{"$f":"ROUND(E109*$F$108,2)","v":341.28},null,"* Nota 2 - 13º e reflexos calculados à parte a fim de aprovisionamento"]
[null,null,"C","BDI sobre o 13º Salário - Taxa calculada no MÓDULO 6",{"$f":"E94","v":0.2359},{"$f":"ROUND(E110*($F$108+$F$109),2)","v":305.39}]
[]
[null,null,null,"TOTAL DO DESTAQUE DO 13º SALÁRIO",null,{"$f":"SUM(F108:F110)","v":1599.96}]
[]
[null,null,null,"QUADRO-RESUMO DO CUSTO MENSAL POR EMPREGADO","Valor"]
[null,null,null,"Custo total - sem o 13º Salário",{"$f":"ROUND(E105,2)","v":22682.720000000001}]
[null,null,null,"Destaque do 13º Salário (valor mensal)",{"$f":"ROUND(F112,2)","v":1599.96}]
[]
[null,null,null,"TOTAL DO POSTO",{"$f":"E115+E116","v":24282.68}]

{"sheet":"2","index":5,"n_rows":118,"n_cols":8,"rows_kept":118,"cut":false,"hidden":false,"merged":[[106,1,106,3],[39,3,39,5],[46,1,46,3],[56,1,56,3],[68,3,68,5],[74,1,74,3],[83,1,83,3],[17,1,17,3],[1,1,1,5],[2,1,2,5],[4,1,4,2],[5,1,5,2],[7,1,7,3]]}
[]
[null,"PLANILHA DE ESTIMATIVA DE CUSTOS"]
[null,"Padrão IN 05/2017 e IN 07/2018 - MPDG"]
[]
[null,2,null,{"$f":"HLOOKUP($B$5,'Dados Gerais'!$D$6:$BI$22,6)","v":"SUPERVISOR DE MANUTENÇÃO ELETROMECÂNICA "},"QUANTIDADE",{"$f":"HLOOKUP($B$5,'Dados Gerais'!$D$6:$BI$22,10)","v":4}]
[null,"CCT",null,{"$f":"HLOOKUP($B$5,'Dados Gerais'!$D$6:$BI$22,16)","v":"SINDUSCON/DF x STICOMBE/DF \nCCT 2024/2025 - 2º TA - \nN.º DF000276/2024"},"DATA-BASE",{"$f":"HLOOKUP($B$5,'Dados Gerais'!$D$6:$BI$22,17)","v":"2024-05-01"}]
[]
[null,"MÓDULO 1 - COMPOSIÇÃO DA REMUNERAÇÃO",null,null,null,"Valor"]
[null,null,"A","Salário-Base",null,{"$f":"HLOOKUP($B$5,'Dados Gerais'!$D$6:$BI$22,8)","v":7340.02}]
[null,null,"B","Adicional de Periculosidade",null,{"$f":"HLOOKUP($B$5,'Dados Gerais'!$D$6:$BI$39,26)","v":0}]
[null,null,"C","Adicional de Insalubridade",null,{"$f":"HLOOKUP($B$5,'Dados Gerais'!$D$6:$BI$39,32)","v":0}]
[null,null,"D","Adicional Noturno",null,{"$f":"HLOOKUP($B$5,'Dados Gerais'!$D$6:$BI$52,47)","v":0},null,"* Nota 1 - O Módulo 1 refere-se ao valor mensal devido ao empregado pela prestação do serviço no período de 12 meses."]
[null,null,"E","Adicional de Hora Extra",null,{"$f":"HLOOKUP($B$5,'Dados Gerais'!$D$6:$BI$69,64)","v":0},null,"* Nota 2 - O adicional de hora extra no feriado trabalhado foi suprimido pela Lei 13.467/17"]
[null,null,"F","Outros (adicional de sobreaviso)",null,{"$f":"HLOOKUP($B$5,'Dados Gerais'!$D$6:$BI$69,34)","v":1156.6099999999999},null,"* Nota 3 - ART. 7º, § 2º, DA LEI Nº 605/49.Sendo mensalista o obreiro, o adicional noturno pago de forma fixa já é considerado integrado para os efeitos do pagamento do repouso semanal remunerado, nos termos do art. 7º, § 2º, da Lei nº 605/49."]
[]
[null,null,null,"TOTAL DA REMUNERAÇÃO",null,{"$f":"SUM(F9:F14)","v":8496.630000000001}]
[]
[null,"MÓDULO 2 - ENCARGOS E BENEFÍCIOS ANUAIS, MENSAIS E DIÁRIOS",null,null,"Percentuais","Valor"]
[null,"Submódulo 2.1 - 13º Salário, Férias e Adicional de Férias"]
[null,null,"A","13º Salário - Calculado no Módulo 7 - Destacado",0,{"$f":"ROUND(E20*F$16,2)","v":0}]
[null,null,"B","Adicional de Férias",{"$f":"'[1]Encargos Sociais'!E31","v":3.0300000000000001E-2},{"$f":"ROUND(E21*(F$16),2)","v":257.45},null,"* Nota 1 - O adicional de férias foi calculado dividindo-se por 11, para comportar os 11 meses presentes e ainda o ausente do posto"]
[]
[null,"Submódulo 2.2 - Encargos Previdenciários (GPS), Fundo de Garantia por Tempo de Serviço (FGTS) e Outras Contribuições"]
[null,null,"A","INSS (art. 22, inciso I, Lei nº 8.212/91)",{"$f":"'Encargos Sociais'!E14","v":0.2},{"$f":"ROUND(E24*($F$16+$F$41+$F$73),2)","v":1939.27},null,"* Nota 1 - Os percentuais dos encargos previdenciários, do FGTS e demais contribuições são estabelecidos por legislação vigente."]
[null,null,"B","Salário Educação (art. 3º, inciso I, Decreto nº 87.043/82)",{"$f":"'Encargos Sociais'!E15","v":2.5000000000000001E-2},{"$f":"ROUND(E25*($F$16+$F$41+$F$73),2)","v":242.41},null,"* Nota 2 - O SAT, a depender do grau de risco do serviço, irá variar entre 1%, para risco leve, de 2%, para risco médio, e de 3% para risco grave."]
[null,null,"C","SAT/RAT (art. 22, II, Lei 8.212/91 e Anexo V, Decreto 6.042/07) - Enquadramento 8211-3/00",{"$f":"'Encargos Sociais'!E16","v":0.01},96.96,null,"* Nota 3 - Base de cálculo - remuneração + ausências + terço constitucional (férias)"]
[null,null,"D","SESC ou SESI (art. 30, Lei nº 8.036/90 e art. 1º, Lei 8.154/90)",{"$f":"'Encargos Sociais'!E17","v":1.4999999999999999E-2},145.44999999999999]
[null,null,"E","SENAI ou SENAC (Decreto nº 2.318/86)",{"$f":"'Encargos Sociais'!E18","v":0.01},96.96]
[null,null,"F","SEBRAE (§ 3º, art. 8º, Lei 8.029/90, alterada pela Lei nº 8.154/90)",{"$f":"'Encargos Sociais'!E19","v":6.0000000000000001E-3},58.18]
[null,null,"G","INCRA (art. 1º, I, Decreto Lei 1.146/70 e Lei 7.787, de 30/06/89)",{"$f":"'Encargos Sociais'!E20","v":2E-3},19.39]
[null,null,"H","FGTS (Lei Complementar nº 110/01 e art. 30, Lei nº 8.036/90)",{"$f":"'Encargos Sociais'!E21","v":0.08},775.71]
[null,null,"I","SECONCI (Convenções Coletivas de Trabalho da construção)",{"$f":"'Encargos Sociais'!E22","v":0.01},96.96]
[]
[null,"Submódulo 2.3 - Benefícios Mensais e Diários"]
[null,null,"A","Auxílio Transporte",null,{"$f":"HLOOKUP($B$5,'Dados Gerais'!$D$6:$BI$95,83)","v":539.97},null,"* Nota 1 - O valor informado deverá ser o custo real do benefício (descontado o valor eventualmente pago pelo empregado)."]
[null,null,"B","Auxílio Alimentação",null,{"$f":"HLOOKUP($B$5,'Dados Gerais'!$D$6:$BI$95,90)","v":910},null,"* Nota 2 - Observar a previsão dos benefícios contidos em Acordos, Convenções e Dissídios Coletivos de Trabalho e o disposto no art. 6º da IN 5/2017"]
[null,null,"C","Assistência Médica e Familiar",null,{"$f":"HLOOKUP($B$5,'Dados Gerais'!$D$6:$BI$103,98)","v":0}]
[null,null,"D","Outros (Seguro de vida, auxílio funeral, auxílio odontológico e auxílio creche)",null,{"$f":"HLOOKUP($B$5,'Dados Gerais'!$D$6:$BI$121,115)","v":13.95}]
[]
[null,null,null,"QUADRO-RESUMO DO MÓDULO 2"]
[null,null,null,"2.1 - 13º Salário, Férias e Adicional de Férias - 13º Destacado - Calculado no Módulo 7 ",{"$f":"SUM(E20:E21)","v":3.0300000000000001E-2},{"$f":"F20+F21","v":257.45}]
[null,null,null,"2.2 - Encargos Previdenciários (GPS), Fundo de Garantia por Tempo de Serviço (FGTS) e Contribuições",{"$f":"SUM(E24:E32)","v":0.35800000000000004},{"$f":"SUM(F24:F32)","v":3471.2899999999995}]
[null,null,null,"2.3 - Benefícios Mensais e Diários",null,{"$f":"SUM(F35:F38)","v":1463.92}]
[]
[null,null,null,"TOTAL DOS ENCARGOS E BENEFÍCIOS",null,{"$f":"SUM(F41:F43)","v":5192.66}]
[]
[null,"MÓDULO 3 - PREVISÃO PARA RESCISÃO",null,null,"Percentuais","Valor"]
[null,null,"A","Aviso Prévio Indenizado (Art. 7º, inciso XXI, da CF/1988 e arts. 477, 487, §1º, e 491 da CLT)",{"$f":"'Encargos Sociais'!E36","v":3.5000000000000001E-3},{"$f":"ROUND(E48*($F$16+$F$73+$F$41),2)","v":33.94},null,"* Nota 1 - Base de cálculo - remuneração + ausências + 1/3 férias"]
[null,null,"B","Incidência do FGTS sobre o Aviso Prévio Indenizado (Súmula 305 TST)",{"$f":"'Encargos Sociais'!E37","v":2.9999999999999997E-4},2.91]
[null,null,"C","Multa do FGTS e Contribuição Social sobre o Aviso Prévio Indenizado (Art. 18, §1º, da Lei 8.036/1990 e art. 1º da LC nº 110/2001)",{"$f":"'Encargos Sociais'!E38","v":1.1000000000000001E-3},10.67]
[null,null,"D","Aviso Prévio Trabalhado (Art. 488, parágrafo único, CLT)",{"$f":"'Encargos Sociais'!E39","v":7.7999999999999996E-3},75.63]
[null,null,"E","Incidência de GPS, FGTS e outras contribuições sobre o Aviso Prévio Trabalhado",{"$f":"'Encargos Sociais'!E40","v":2.8E-3},27.15]
[null,null,"F","Multa do FGTS e Contribuição Social sobre o Aviso Prévio Trabalhado",{"$f":"'Encargos Sociais'!E41","v":3.09E-2},299.62]
[]
[null,null,null,"TOTAL DE PREVISÃO PARA RESCISÃO",null,{"$f":"SUM(F48:F53)","v":449.91999999999996}]
[]
[null,"MÓDULO 4 - CUSTO DO PROFISSIONAL AUSENTE",null,null,"Percentuais","Valor"]
[null,"Submódulo 4.1 - Ausências Legais"]
[null,null,"A","Férias (Arts. 129 e 130, inc. I, da CLT)",{"$f":"'Encargos Sociais'!E25","v":9.0899999999999995E-2},{"$f":"ROUND(E59*$F$16,2)","v":772.34},null,"* Nota 1 - O Módulo 4 refere-se às previsões para custear ausências do próprio profissional (titular do cargo)"]
[null,null,"B","Ausências Legais (Arts. 131 e 473 da CLT)",{"$f":"'Encargos Sociais'!E26","v":7.9000000000000008E-3},67.12,null,"* Nota 2 - As férias foram calculadas dividindo-se por 11, para comportar os 11 meses presentes e ainda o ausente do posto"]
[null,null,"C","Licença-Paternidade (Art. 7º, XIX, e art. 10, §1º, do ADCT, CF/1988 e Art. 1º, II, da Lei 11.770/2008)",{"$f":"'Encargos Sociais'!E27","v":8.0000000000000004E-4},6.8]
[null,null,"D","Ausência por Acidente de Trabalho (Art. 131, III, da CLT)",{"$f":"'Encargos Sociais'!E28","v":8.9999999999999998E-4},7.65]
[null,null,"E","Afastamento Maternidade (Art. 71 da Lei nº 8.213/1991)",{"$f":"'Encargos Sociais'!E29","v":3.3E-3},28.04]
[null,null,"F","Auxílio Enfermidade - Doença (Art. 59 da Lei nº 8.213/1991)",{"$f":"'Encargos Sociais'!E30","v":7.1000000000000004E-3},60.33]
[]
[null,"Submódulo 4.2 - Intrajornada"]
[null,null,"A","Intervalo para repouso ou alimentação",{"$f":"'Encargos Sociais'!E33","v":0},{"$f":"ROUND(E67*$F$16,2)","v":0}]
[]
[null,null,null,"QUADRO-RESUMO DO MÓDULO 4",null,"Valor"]
[null,null,null,"4.1 - Ausências Legais",{"$f":"SUM(E59:E64)","v":0.11089999999999998},{"$f":"ROUND(E70*$F$16,2)","v":942.28}]
[null,null,null,"4.2 - Intrajornada",{"$f":"E67","v":0},{"$f":"ROUND(E71*$F$16,2)","v":0}]
[]
[null,null,null,"TOTAL DE PREVISÃO PARA RESCISÃO E INTERVALO INTRAJORNADA",null,{"$f":"SUM(F70:F71)","v":942.28}]
[]
[null,"MÓDULO 5 - INSUMOS DIVERSOS",null,null,null,"Valor"]
[null,null,"A","Uniformes - aquisição",null,0]
[null,null,"B","Materiais de consumo relacionados ao posto - aquisição",null,0]
[null,null,"C","Ferramentas relacionadas ao posto - remuneração da sua depreciação / manutenção",null,0]
[null,null,"D","Equipamentos relacionados ao posto - remuneração da sua depreciação / manutenção",null,0]
[null,null,"E","Equipamentos de Proteção Individual - EPI - aquisição",null,{"$f":"'EPI - Rel'!J8","v":55.7}]
[]
[null,null,null,"TOTAL DE INSUMOS DIVERSOS",null,{"$f":"SUM(F76:F81)","v":55.7},null,"* Nota - Valores mensais por empregado"]
[]
[null,"MÓDULO 6 - CUSTOS INDIRETOS, TRIBUTOS E LUCRO - BDI",null,null,"Percentuais","Valor"]
[null,null,"A","Custos Indiretos",{"$f":"'BDI - Geral'!E7","v":3.5700000000000003E-2}]
[null,null,"A.1","Administração Central",{"$f":"'BDI - Geral'!E8","v":3.0300000000000001E-2}]
[null,null,"A.2","Seguros, Garantias e Riscos",{"$f":"'BDI - Geral'!E9","v":5.4000000000000003E-3}]
[null,null,"B","Lucro",{"$f":"'BDI - Geral'!E11","v":0.04}]
[null,null,"C","Tributos",{"$f":"SUM(E90:E91)","v":0.124}]
[null,null,"C.1","Tributos Federais (COFINS, PIS e CPRB)",{"$f":"'BDI - Geral'!E19","v":7.3999999999999996E-2}]
[null,null,"C.2","Tributos Distritais (ISS)",{"$f":"'BDI - Geral'!E24","v":0.05}]
[null,null,"D","Despesas Financeiras",{"$f":"'BDI - Geral'!E14","v":5.1000000000000004E-3}]
[]
[null,null,null,"TOTAL DE BDI",{"$f":"'BDI - Geral'!E27","v":0.2359},{"$f":"ROUND(E94*E102,2)","v":3570.86}]
[]
[null,null,null,"QUADRO-RESUMO DO CUSTO MENSAL POR EMPREGADO - SEM O 13º","Valor"]
[null,null,null,"Módulo 1 - Composição da Remuneração",{"$f":"F16","v":8496.630000000001}]
[null,null,null,"Módulo 2 - Encargos e Benefícios Anuais, Mensais e Diários",{"$f":"F45","v":5192.66}]
[null,null,null,"Módulo 3 - Provisão para Rescisão",{"$f":"F55","v":449.91999999999996}]
[null,null,null,"Módulo 4 - Custo de Reposição do Profissional Ausente",{"$f":"F73","v":942.28}]
[null,null,null,"Módulo 5 - Insumos Diversos",{"$f":"F82","v":55.7}]
[null,null,null,"SUBTOTAL (A+B+C+D+E)",{"$f":"SUM(E97:E101)","v":15137.190000000002}]
[null,null,null,"Módulo 6 - Custos Indiretos, Tributos e Lucro",{"$f":"F94","v":3570.86}]
[]
[null,null,null,"TOTAL DO POSTO",{"$f":"SUM(E102:E103)","v":18708.050000000003}]
[]
[null,"MÓDULO 7 - DESTAQUE DO MÓDULO 2 - 13º SALÁRIO",null,null,"Percentuais","Valor"]
[null,null,"A","13º Salário",{"$f":"'Encargos Sociais'!E32*12/11","v":9.0872727272727272E-2},{"$f":"ROUND(E108*F$16,2)","v":772.11},null,"* Nota 1 - Incluindo-se a reincidência das férias do substituto sobre o titular"]
[null,null,"B","Encargos Sociais sobre o 13º Salário - Taxa calculada no SUBMÓDULO 2.2",{"$f":"SUM($E$24:$E$32)","v":0.35800000000000004},{"$f":"ROUND(E109*$F$108,2)","v":276.42},null,"* Nota 2 - 13º e reflexos calculados à parte a fim de aprovisionamento"]
[null,null,"C","BDI sobre o 13º Salário - Taxa calculada no MÓDULO 6",{"$f":"E94","v":0.2359},{"$f":"ROUND(E110*($F$108+$F$109),2)","v":247.35}]
[]
[null,null,null,"TOTAL DO DESTAQUE DO 13º SALÁRIO",null,{"$f":"SUM(F108:F110)","v":1295.8799999999999}]
[]
[null,null,null,"QUADRO-RESUMO DO CUSTO MENSAL POR EMPREGADO","Valor"]
[null,null,null,"Custo total - sem o 13º Salário",{"$f":"ROUND(E105,2)","v":18708.05}]
[null,null,null,"Destaque do 13º Salário (valor mensal)",{"$f":"ROUND(F112,2)","v":1295.8800000000001}]
[]
[null,null,null,"TOTAL DO POSTO",{"$f":"E115+E116","v":20003.93}]

{"sheet":"3","index":6,"n_rows":118,"n_cols":8,"rows_kept":118,"cut":false,"hidden":false,"merged":[[106,1,106,3],[39,3,39,5],[46,1,46,3],[56,1,56,3],[68,3,68,5],[74,1,74,3],[83,1,83,3],[17,1,17,3],[1,1,1,5],[2,1,2,5],[4,1,4,2],[5,1,5,2],[7,1,7,3]]}
[]
[null,"PLANILHA DE ESTIMATIVA DE CUSTOS"]
[null,"Padrão IN 05/2017 e IN 07/2018 - MPDG"]
[]
[null,3,null,{"$f":"HLOOKUP($B$5,'Dados Gerais'!$D$6:$BI$22,6)","v":"ENCARREGADO ELETROMECÂNICO DE INSTALAÇÕES "},"QUANTIDADE",{"$f":"HLOOKUP($B$5,'Dados Gerais'!$D$6:$BI$22,10)","v":5}]
[null,"CCT",null,{"$f":"HLOOKUP($B$5,'Dados Gerais'!$D$6:$BI$22,16)","v":"SINDUSCON/DF x STICOMBE/DF \nCCT 2024/2025 - 2º TA - \nN.º DF000276/2024"},"DATA-BASE",{"$f":"HLOOKUP($B$5,'Dados Gerais'!$D$6:$BI$22,17)","v":"2024-05-01"}]
[]
[null,"MÓDULO 1 - COMPOSIÇÃO DA REMUNERAÇÃO",null,null,null,"Valor"]
[null,null,"A","Salário-Base",null,{"$f":"HLOOKUP($B$5,'Dados Gerais'!$D$6:$BI$22,8)","v":5547.7}]
[null,null,"B","Adicional de Periculosidade",null,{"$f":"HLOOKUP($B$5,'Dados Gerais'!$D$6:$BI$39,26)","v":1664.31}]
[null,null,"C","Adicional de Insalubridade",null,{"$f":"HLOOKUP($B$5,'Dados Gerais'!$D$6:$BI$39,32)","v":0}]
[null,null,"D","Adicional Noturno",null,{"$f":"HLOOKUP($B$5,'Dados Gerais'!$D$6:$BI$52,47)","v":0},null,"* Nota 1 - O Módulo 1 refere-se ao valor mensal devido ao empregado pela prestação do serviço no período de 12 meses."]
[null,null,"E","Adicional de Hora Extra",null,{"$f":"HLOOKUP($B$5,'Dados Gerais'!$D$6:$BI$69,64)","v":0},null,"* Nota 2 - O adicional de hora extra no feriado trabalhado foi suprimido pela Lei 13.467/17"]
[null,null,"F","Outros (adicional de sobreaviso)",null,{"$f":"HLOOKUP($B$5,'Dados Gerais'!$D$6:$BI$69,34)","v":874.18},null,"* Nota 3 - ART. 7º, § 2º, DA LEI Nº 605/49.Sendo mensalista o obreiro, o adicional noturno pago de forma fixa já é considerado integrado para os efeitos do pagamento do repouso semanal remunerado, nos termos do art. 7º, § 2º, da Lei nº 605/49."]
[]
[null,null,null,"TOTAL DA REMUNERAÇÃO",null,{"$f":"SUM(F9:F14)","v":8086.1900000000005}]
[]
[null,"MÓDULO 2 - ENCARGOS E BENEFÍCIOS ANUAIS, MENSAIS E DIÁRIOS",null,null,"Percentuais","Valor"]
[null,"Submódulo 2.1 - 13º Salário, Férias e Adicional de Férias"]
[null,null,"A","13º Salário - Calculado no Módulo 7 - Destacado",0,{"$f":"ROUND(E20*F$16,2)","v":0}]
[null,null,"B","Adicional de Férias",{"$f":"'[1]Encargos Sociais'!E31","v":3.0300000000000001E-2},{"$f":"ROUND(E21*(F$16),2)","v":245.01},null,"* Nota 1 - O adicional de férias foi calculado dividindo-se por 11, para comportar os 11 meses presentes e ainda o ausente do posto"]
[]
[null,"Submódulo 2.2 - Encargos Previdenciários (GPS), Fundo de Garantia por Tempo de Serviço (FGTS) e Outras Contribuições"]
[null,null,"A","INSS (art. 22, inciso I, Lei nº 8.212/91)",{"$f":"'Encargos Sociais'!E14","v":0.2},{"$f":"ROUND(E24*($F$16+$F$41+$F$73),2)","v":1845.59},null,"* Nota 1 - Os percentuais dos encargos previdenciários, do FGTS e demais contribuições são estabelecidos por legislação vigente."]
[null,null,"B","Salário Educação (art. 3º, inciso I, Decreto nº 87.043/82)",{"$f":"'Encargos Sociais'!E15","v":2.5000000000000001E-2},{"$f":"ROUND(E25*($F$16+$F$41+$F$73),2)","v":230.7},null,"* Nota 2 - O SAT, a depender do grau de risco do serviço, irá variar entre 1%, para risco leve, de 2%, para risco médio, e de 3% para risco grave."]
[null,null,"C","SAT/RAT (art. 22, II, Lei 8.212/91 e Anexo V, Decreto 6.042/07) - Enquadramento 8211-3/00",{"$f":"'Encargos Sociais'!E16","v":0.01},92.28,null,"* Nota 3 - Base de cálculo - remuneração + ausências + terço constitucional (férias)"]
[null,null,"D","SESC ou SESI (art. 30, Lei nº 8.036/90 e art. 1º, Lei 8.154/90)",{"$f":"'Encargos Sociais'!E17","v":1.4999999999999999E-2},138.41999999999999]
[null,null,"E","SENAI ou SENAC (Decreto nº 2.318/86)",{"$f":"'Encargos Sociais'!E18","v":0.01},92.28]
[null,null,"F","SEBRAE (§ 3º, art. 8º, Lei 8.029/90, alterada pela Lei nº 8.154/90)",{"$f":"'Encargos Sociais'!E19","v":6.0000000000000001E-3},55.37]
[null,null,"G","INCRA (art. 1º, I, Decreto Lei 1.146/70 e Lei 7.787, de 30/06/89)",{"$f":"'Encargos Sociais'!E20","v":2E-3},18.46]
[null,null,"H","FGTS (Lei Complementar nº 110/01 e art. 30, Lei nº 8.036/90)",{"$f":"'Encargos Sociais'!E21","v":0.08},738.24]
[null,null,"I","SECONCI (Convenções Coletivas de Trabalho da construção)",{"$f":"'Encargos Sociais'!E22","v":0.01},92.28]
[]
[null,"Submódulo 2.3 - Benefícios Mensais e Diários"]
[null,null,"A","Auxílio Transporte",null,{"$f":"HLOOKUP($B$5,'Dados Gerais'!$D$6:$BI$95,83)","v":539.97},null,"* Nota 1 - O valor informado deverá ser o custo real do benefício (descontado o valor eventualmente pago pelo empregado)."]
[null,null,"B","Auxílio Alimentação",null,{"$f":"HLOOKUP($B$5,'Dados Gerais'!$D$6:$BI$95,90)","v":910},null,"* Nota 2 - Observar a previsão dos benefícios contidos em Acordos, Convenções e Dissídios Coletivos de Trabalho e o disposto no art. 6º da IN 5/2017"]
[null,null,"C","Assistência Médica e Familiar",null,{"$f":"HLOOKUP($B$5,'Dados Gerais'!$D$6:$BI$103,98)","v":0}]
[null,null,"D","Outros (Seguro de vida, auxílio funeral, auxílio odontológico e auxílio creche)",null,{"$f":"HLOOKUP($B$5,'Dados Gerais'!$D$6:$BI$121,115)","v":13.95}]
[]
[null,null,null,"QUADRO-RESUMO DO MÓDULO 2"]
[null,null,null,"2.1 - 13º Salário, Férias e Adicional de Férias - 13º Destacado - Calculado no Módulo 7 ",{"$f":"SUM(E20:E21)","v":3.0300000000000001E-2},{"$f":"F20+F21","v":245.01}]
[null,null,null,"2.2 - Encargos Previdenciários (GPS), Fundo de Garantia por Tempo de Serviço (FGTS) e Contribuições",{"$f":"SUM(E24:E32)","v":0.35800000000000004},{"$f":"SUM(F24:F32)","v":3303.6200000000003}]
[null,null,null,"2.3 - Benefícios Mensais e Diários",null,{"$f":"SUM(F35:F38)","v":1463.92}]
[]
[null,null,null,"TOTAL DOS ENCARGOS E BENEFÍCIOS",null,{"$f":"SUM(F41:F43)","v":5012.55}]
[]
[null,"MÓDULO 3 - PREVISÃO PARA RESCISÃO",null,null,"Percentuais","Valor"]
[null,null,"A","Aviso Prévio Indenizado (Art. 7º, inciso XXI, da CF/1988 e arts. 477, 487, §1º, e 491 da CLT)",{"$f":"'Encargos Sociais'!E36","v":3.5000000000000001E-3},{"$f":"ROUND(E48*($F$16+$F$73+$F$41),2)","v":32.299999999999997},null,"* Nota 1 - Base de cálculo - remuneração + ausências + 1/3 férias"]
[null,null,"B","Incidência do FGTS sobre o Aviso Prévio Indenizado (Súmula 305 TST)",{"$f":"'Encargos Sociais'!E37","v":2.9999999999999997E-4},2.77]
[null,null,"C","Multa do FGTS e Contribuição Social sobre o Aviso Prévio Indenizado (Art. 18, §1º, da Lei 8.036/1990 e art. 1º da LC nº 110/2001)",{"$f":"'Encargos Sociais'!E38","v":1.1000000000000001E-3},10.15]
[null,null,"D","Aviso Prévio Trabalhado (Art. 488, parágrafo único, CLT)",{"$f":"'Encargos Sociais'!E39","v":7.7999999999999996E-3},71.98]
[null,null,"E","Incidência de GPS, FGTS e outras contribuições sobre o Aviso Prévio Trabalhado",{"$f":"'Encargos Sociais'!E40","v":2.8E-3},25.84]
[null,null,"F","Multa do FGTS e Contribuição Social sobre o Aviso Prévio Trabalhado",{"$f":"'Encargos Sociais'!E41","v":3.09E-2},285.14]
[]
[null,null,null,"TOTAL DE PREVISÃO PARA RESCISÃO",null,{"$f":"SUM(F48:F53)","v":428.17999999999995}]
[]
[null,"MÓDULO 4 - CUSTO DO PROFISSIONAL AUSENTE",null,null,"Percentuais","Valor"]
[null,"Submódulo 4.1 - Ausências Legais"]
[null,null,"A","Férias (Arts. 129 e 130, inc. I, da CLT)",{"$f":"'Encargos Sociais'!E25","v":9.0899999999999995E-2},{"$f":"ROUND(E59*$F$16,2)","v":735.03},null,"* Nota 1 - O Módulo 4 refere-se às previsões para custear ausências do próprio profissional (titular do cargo)"]
[null,null,"B","Ausências Legais (Arts. 131 e 473 da CLT)",{"$f":"'Encargos Sociais'!E26","v":7.9000000000000008E-3},63.88,null,"* Nota 2 - As férias foram calculadas dividindo-se por 11, para comportar os 11 meses presentes e ainda o ausente do posto"]
[null,null,"C","Licença-Paternidade (Art. 7º, XIX, e art. 10, §1º, do ADCT, CF/1988 e Art. 1º, II, da Lei 11.770/2008)",{"$f":"'Encargos Sociais'!E27","v":8.0000000000000004E-4},6.47]
[null,null,"D","Ausência por Acidente de Trabalho (Art. 131, III, da CLT)",{"$f":"'Encargos Sociais'!E28","v":8.9999999999999998E-4},7.28]
[null,null,"E","Afastamento Maternidade (Art. 71 da Lei nº 8.213/1991)",{"$f":"'Encargos Sociais'!E29","v":3.3E-3},26.68]
[null,null,"F","Auxílio Enfermidade - Doença (Art. 59 da Lei nº 8.213/1991)",{"$f":"'Encargos Sociais'!E30","v":7.1000000000000004E-3},57.41]
[]
[null,"Submódulo 4.2 - Intrajornada"]
[null,null,"A","Intervalo para repouso ou alimentação",{"$f":"'Encargos Sociais'!E33","v":0},{"$f":"ROUND(E67*$F$16,2)","v":0}]
[]
[null,null,null,"QUADRO-RESUMO DO MÓDULO 4",null,"Valor"]
[null,null,null,"4.1 - Ausências Legais",{"$f":"SUM(E59:E64)","v":0.11089999999999998},{"$f":"ROUND(E70*$F$16,2)","v":896.76}]
[null,null,null,"4.2 - Intrajornada",{"$f":"E67","v":0},{"$f":"ROUND(E71*$F$16,2)","v":0}]
[]
[null,null,null,"TOTAL DE PREVISÃO PARA RESCISÃO E INTERVALO INTRAJORNADA",null,{"$f":"SUM(F70:F71)","v":896.76}]
[]
[null,"MÓDULO 5 - INSUMOS DIVERSOS",null,null,null,"Valor"]
[null,null,"A","Uniformes - aquisição",null,0]
[null,null,"B","Materiais de consumo relacionados ao posto - aquisição",null,0]
[null,null,"C","Ferramentas relacionadas ao posto - remuneração da sua depreciação / manutenção",null,0]
[null,null,"D","Equipamentos relacionados ao posto - remuneração da sua depreciação / manutenção",null,0]
[null,null,"E","Equipamentos de Proteção Individual - EPI - aquisição",null,{"$f":"'EPI - Rel'!J44","v":56.68}]
[]
[null,null,null,"TOTAL DE INSUMOS DIVERSOS",null,{"$f":"SUM(F76:F81)","v":56.68},null,"* Nota - Valores mensais por empregado"]
[]
[null,"MÓDULO 6 - CUSTOS INDIRETOS, TRIBUTOS E LUCRO - BDI",null,null,"Percentuais","Valor"]
[null,null,"A","Custos Indiretos",{"$f":"'BDI - Geral'!E7","v":3.5700000000000003E-2}]
[null,null,"A.1","Administração Central",{"$f":"'BDI - Geral'!E8","v":3.0300000000000001E-2}]
[null,null,"A.2","Seguros, Garantias e Riscos",{"$f":"'BDI - Geral'!E9","v":5.4000000000000003E-3}]
[null,null,"B","Lucro",{"$f":"'BDI - Geral'!E11","v":0.04}]
[null,null,"C","Tributos",{"$f":"SUM(E90:E91)","v":0.124}]
[null,null,"C.1","Tributos Federais (COFINS, PIS e CPRB)",{"$f":"'BDI - Geral'!E19","v":7.3999999999999996E-2}]
[null,null,"C.2","Tributos Distritais (ISS)",{"$f":"'BDI - Geral'!E24","v":0.05}]
[null,null,"D","Despesas Financeiras",{"$f":"'BDI - Geral'!E14","v":5.1000000000000004E-3}]
[]
[null,null,null,"TOTAL DE BDI",{"$f":"'BDI - Geral'!E27","v":0.2359},{"$f":"ROUND(E94*E102,2)","v":3415.92}]
[]
[null,null,null,"QUADRO-RESUMO DO CUSTO MENSAL POR EMPREGADO - SEM O 13º","Valor"]
[null,null,null,"Módulo 1 - Composição da Remuneração",{"$f":"F16","v":8086.1900000000005}]
[null,null,null,"Módulo 2 - Encargos e Benefícios Anuais, Mensais e Diários",{"$f":"F45","v":5012.55}]
[null,null,null,"Módulo 3 - Provisão para Rescisão",{"$f":"F55","v":428.17999999999995}]
[null,null,null,"Módulo 4 - Custo de Reposição do Profissional Ausente",{"$f":"F73","v":896.76}]
[null,null,null,"Módulo 5 - Insumos Diversos",{"$f":"F82","v":56.68}]
[null,null,null,"SUBTOTAL (A+B+C+D+E)",{"$f":"SUM(E97:E101)","v":14480.360000000002}]
[null,null,null,"Módulo 6 - Custos Indiretos, Tributos e Lucro",{"$f":"F94","v":3415.92}]
[]
[null,null,null,"TOTAL DO POSTO",{"$f":"SUM(E102:E103)","v":17896.280000000002}]
[]
[null,"MÓDULO 7 - DESTAQUE DO MÓDULO 2 - 13º SALÁRIO",null,null,"Percentuais","Valor"]
[null,null,"A","13º Salário",{"$f":"'Encargos Sociais'!E32*12/11","v":9.0872727272727272E-2},{"$f":"ROUND(E108*F$16,2)","v":734.81},null,"* Nota 1 - Incluindo-se a reincidência das férias do substituto sobre o titular"]
[null,null,"B","Encargos Sociais sobre o 13º Salário - Taxa calculada no SUBMÓDULO 2.2",{"$f":"SUM($E$24:$E$32)","v":0.35800000000000004},{"$f":"ROUND(E109*$F$108,2)","v":263.06},null,"* Nota 2 - 13º e reflexos calculados à parte a fim de aprovisionamento"]
[null,null,"C","BDI sobre o 13º Salário - Taxa calculada no MÓDULO 6",{"$f":"E94","v":0.2359},{"$f":"ROUND(E110*($F$108+$F$109),2)","v":235.4}]
[]
[null,null,null,"TOTAL DO DESTAQUE DO 13º SALÁRIO",null,{"$f":"SUM(F108:F110)","v":1233.27}]
[]
[null,null,null,"QUADRO-RESUMO DO CUSTO MENSAL POR EMPREGADO","Valor"]
[null,null,null,"Custo total - sem o 13º Salário",{"$f":"ROUND(E105,2)","v":17896.28}]
[null,null,null,"Destaque do 13º Salário (valor mensal)",{"$f":"ROUND(F112,2)","v":1233.27}]
[]
[null,null,null,"TOTAL DO POSTO",{"$f":"E115+E116","v":19129.55}]

{"sheet":"4","index":7,"n_rows":118,"n_cols":8,"rows_kept":118,"cut":false,"hidden":false,"merged":[[106,1,106,3],[39,3,39,5],[46,1,46,3],[56,1,56,3],[68,3,68,5],[74,1,74,3],[83,1,83,3],[17,1,17,3],[1,1,1,5],[2,1,2,5],[4,1,4,2],[5,1,5,2],[7,1,7,3]]}
[]
[null,"PLANILHA DE ESTIMATIVA DE CUSTOS"]
[null,"Padrão IN 05/2017 e IN 07/2018 - MPDG"]
[]
[null,4,null,{"$f":"HLOOKUP($B$5,'Dados Gerais'!$D$6:$BI$22,6)","v":"MESTRE DE MANUTENÇÃO ELETRÔNICA"},"QUANTIDADE",{"$f":"HLOOKUP($B$5,'Dados Gerais'!$D$6:$BI$22,10)","v":2}]
[null,"CCT",null,{"$f":"HLOOKUP($B$5,'Dados Gerais'!$D$6:$BI$22,16)","v":"SINDUSCON/DF x STICOMBE/DF \nCCT 2024/2025 - 2º TA - \nN.º DF000276/2024"},"DATA-BASE",{"$f":"HLOOKUP($B$5,'Dados Gerais'!$D$6:$BI$22,17)","v":"2024-05-01"}]
[]
[null,"MÓDULO 1 - COMPOSIÇÃO DA REMUNERAÇÃO",null,null,null,"Valor"]
[null,null,"A","Salário-Base",null,{"$f":"HLOOKUP($B$5,'Dados Gerais'!$D$6:$BI$22,8)","v":4472.0600000000004}]
[null,null,"B","Adicional de Periculosidade",null,{"$f":"HLOOKUP($B$5,'Dados Gerais'!$D$6:$BI$39,26)","v":0}]
[null,null,"C","Adicional de Insalubridade",null,{"$f":"HLOOKUP($B$5,'Dados Gerais'!$D$6:$BI$39,32)","v":303.60000000000002}]
[null,null,"D","Adicional Noturno",null,{"$f":"HLOOKUP($B$5,'Dados Gerais'!$D$6:$BI$52,47)","v":0},null,"* Nota 1 - O Módulo 1 refere-se ao valor mensal devido ao empregado pela prestação do serviço no período de 12 meses."]
[null,null,"E","Adicional de Hora Extra",null,{"$f":"HLOOKUP($B$5,'Dados Gerais'!$D$6:$BI$69,64)","v":0},null,"* Nota 2 - O adicional de hora extra no feriado trabalhado foi suprimido pela Lei 13.467/17"]
[null,null,"F","Outros (adicional de sobreaviso)",null,{"$f":"HLOOKUP($B$5,'Dados Gerais'!$D$6:$BI$69,34)","v":0},null,"* Nota 3 - ART. 7º, § 2º, DA LEI Nº 605/49.Sendo mensalista o obreiro, o adicional noturno pago de forma fixa já é considerado integrado para os efeitos do pagamento do repouso semanal remunerado, nos termos do art. 7º, § 2º, da Lei nº 605/49."]
[]
[null,null,null,"TOTAL DA REMUNERAÇÃO",null,{"$f":"SUM(F9:F14)","v":4775.6600000000008}]
[]
[null,"MÓDULO 2 - ENCARGOS E BENEFÍCIOS ANUAIS, MENSAIS E DIÁRIOS",null,null,"Percentuais","Valor"]
[null,"Submódulo 2.1 - 13º Salário, Férias e Adicional de Férias"]
[null,null,"A","13º Salário - Calculado no Módulo 7 - Destacado",0,{"$f":"ROUND(E20*F$16,2)","v":0}]
[null,null,"B","Adicional de Férias",{"$f":"'[1]Encargos Sociais'!E31","v":3.0300000000000001E-2},{"$f":"ROUND(E21*(F$16),2)","v":144.69999999999999},null,"* Nota 1 - O adicional de férias foi calculado dividindo-se por 11, para comportar os 11 meses presentes e ainda o ausente do posto"]
[]
[null,"Submódulo 2.2 - Encargos Previdenciários (GPS), Fundo de Garantia por Tempo de Serviço (FGTS) e Outras Contribuições"]
[null,null,"A","INSS (art. 22, inciso I, Lei nº 8.212/91)",{"$f":"'Encargos Sociais'!E14","v":0.2},{"$f":"ROUND(E24*($F$16+$F$41+$F$73),2)","v":1090},null,"* Nota 1 - Os percentuais dos encargos previdenciários, do FGTS e demais contribuições são estabelecidos por legislação vigente."]
[null,null,"B","Salário Educação (art. 3º, inciso I, Decreto nº 87.043/82)",{"$f":"'Encargos Sociais'!E15","v":2.5000000000000001E-2},{"$f":"ROUND(E25*($F$16+$F$41+$F$73),2)","v":136.25},null,"* Nota 2 - O SAT, a depender do grau de risco do serviço, irá variar entre 1%, para risco leve, de 2%, para risco médio, e de 3% para risco grave."]
[null,null,"C","SAT/RAT (art. 22, II, Lei 8.212/91 e Anexo V, Decreto 6.042/07) - Enquadramento 8211-3/00",{"$f":"'Encargos Sociais'!E16","v":0.01},54.5,null,"* Nota 3 - Base de cálculo - remuneração + ausências + terço constitucional (férias)"]
[null,null,"D","SESC ou SESI (art. 30, Lei nº 8.036/90 e art. 1º, Lei 8.154/90)",{"$f":"'Encargos Sociais'!E17","v":1.4999999999999999E-2},81.75]
[null,null,"E","SENAI ou SENAC (Decreto nº 2.318/86)",{"$f":"'Encargos Sociais'!E18","v":0.01},54.5]
[null,null,"F","SEBRAE (§ 3º, art. 8º, Lei 8.029/90, alterada pela Lei nº 8.154/90)",{"$f":"'Encargos Sociais'!E19","v":6.0000000000000001E-3},32.700000000000003]
[null,null,"G","INCRA (art. 1º, I, Decreto Lei 1.146/70 e Lei 7.787, de 30/06/89)",{"$f":"'Encargos Sociais'!E20","v":2E-3},10.9]
[null,null,"H","FGTS (Lei Complementar nº 110/01 e art. 30, Lei nº 8.036/90)",{"$f":"'Encargos Sociais'!E21","v":0.08},436]
[null,null,"I","SECONCI (Convenções Coletivas de Trabalho da construção)",{"$f":"'Encargos Sociais'!E22","v":0.01},54.5]
[]
[null,"Submódulo 2.3 - Benefícios Mensais e Diários"]
[null,null,"A","Auxílio Transporte",null,{"$f":"HLOOKUP($B$5,'Dados Gerais'!$D$6:$BI$95,83)","v":539.97},null,"* Nota 1 - O valor informado deverá ser o custo real do benefício (descontado o valor eventualmente pago pelo empregado)."]
[null,null,"B","Auxílio Alimentação",null,{"$f":"HLOOKUP($B$5,'Dados Gerais'!$D$6:$BI$95,90)","v":910},null,"* Nota 2 - Observar a previsão dos benefícios contidos em Acordos, Convenções e Dissídios Coletivos de Trabalho e o disposto no art. 6º da IN 5/2017"]
[null,null,"C","Assistência Médica e Familiar",null,{"$f":"HLOOKUP($B$5,'Dados Gerais'!$D$6:$BI$103,98)","v":0}]
[null,null,"D","Outros (Seguro de vida, auxílio funeral, auxílio odontológico e auxílio creche)",null,{"$f":"HLOOKUP($B$5,'Dados Gerais'!$D$6:$BI$121,115)","v":13.95}]
[]
[null,null,null,"QUADRO-RESUMO DO MÓDULO 2"]
[null,null,null,"2.1 - 13º Salário, Férias e Adicional de Férias - 13º Destacado - Calculado no Módulo 7 ",{"$f":"SUM(E20:E21)","v":3.0300000000000001E-2},{"$f":"F20+F21","v":144.69999999999999}]
[null,null,null,"2.2 - Encargos Previdenciários (GPS), Fundo de Garantia por Tempo de Serviço (FGTS) e Contribuições",{"$f":"SUM(E24:E32)","v":0.35800000000000004},{"$f":"SUM(F24:F32)","v":1951.1000000000001}]
[null,null,null,"2.3 - Benefícios Mensais e Diários",null,{"$f":"SUM(F35:F38)","v":1463.92}]
[]
[null,null,null,"TOTAL DOS ENCARGOS E BENEFÍCIOS",null,{"$f":"SUM(F41:F43)","v":3559.7200000000003}]
[]
[null,"MÓDULO 3 - PREVISÃO PARA RESCISÃO",null,null,"Percentuais","Valor"]
[null,null,"A","Aviso Prévio Indenizado (Art. 7º, inciso XXI, da CF/1988 e arts. 477, 487, §1º, e 491 da CLT)",{"$f":"'Encargos Sociais'!E36","v":3.5000000000000001E-3},{"$f":"ROUND(E48*($F$16+$F$73+$F$41),2)","v":19.07},null,"* Nota 1 - Base de cálculo - remuneração + ausências + 1/3 férias"]
[null,null,"B","Incidência do FGTS sobre o Aviso Prévio Indenizado (Súmula 305 TST)",{"$f":"'Encargos Sociais'!E37","v":2.9999999999999997E-4},1.63]
[null,null,"C","Multa do FGTS e Contribuição Social sobre o Aviso Prévio Indenizado (Art. 18, §1º, da Lei 8.036/1990 e art. 1º da LC nº 110/2001)",{"$f":"'Encargos Sociais'!E38","v":1.1000000000000001E-3},5.99]
[null,null,"D","Aviso Prévio Trabalhado (Art. 488, parágrafo único, CLT)",{"$f":"'Encargos Sociais'!E39","v":7.7999999999999996E-3},42.51]
[null,null,"E","Incidência de GPS, FGTS e outras contribuições sobre o Aviso Prévio Trabalhado",{"$f":"'Encargos Sociais'!E40","v":2.8E-3},15.26]
[null,null,"F","Multa do FGTS e Contribuição Social sobre o Aviso Prévio Trabalhado",{"$f":"'Encargos Sociais'!E41","v":3.09E-2},168.4]
[]
[null,null,null,"TOTAL DE PREVISÃO PARA RESCISÃO",null,{"$f":"SUM(F48:F53)","v":252.86}]
[]
[null,"MÓDULO 4 - CUSTO DO PROFISSIONAL AUSENTE",null,null,"Percentuais","Valor"]
[null,"Submódulo 4.1 - Ausências Legais"]
[null,null,"A","Férias (Arts. 129 e 130, inc. I, da CLT)",{"$f":"'Encargos Sociais'!E25","v":9.0899999999999995E-2},{"$f":"ROUND(E59*$F$16,2)","v":434.11},null,"* Nota 1 - O Módulo 4 refere-se às previsões para custear ausências do próprio profissional (titular do cargo)"]
[null,null,"B","Ausências Legais (Arts. 131 e 473 da CLT)",{"$f":"'Encargos Sociais'!E26","v":7.9000000000000008E-3},37.729999999999997,null,"* Nota 2 - As férias foram calculadas dividindo-se por 11, para comportar os 11 meses presentes e ainda o ausente do posto"]
[null,null,"C","Licença-Paternidade (Art. 7º, XIX, e art. 10, §1º, do ADCT, CF/1988 e Art. 1º, II, da Lei 11.770/2008)",{"$f":"'Encargos Sociais'!E27","v":8.0000000000000004E-4},3.82]
[null,null,"D","Ausência por Acidente de Trabalho (Art. 131, III, da CLT)",{"$f":"'Encargos Sociais'!E28","v":8.9999999999999998E-4},4.3]
[null,null,"E","Afastamento Maternidade (Art. 71 da Lei nº 8.213/1991)",{"$f":"'Encargos Sociais'!E29","v":3.3E-3},15.76]
[null,null,"F","Auxílio Enfermidade - Doença (Art. 59 da Lei nº 8.213/1991)",{"$f":"'Encargos Sociais'!E30","v":7.1000000000000004E-3},33.909999999999997]
[]
[null,"Submódulo 4.2 - Intrajornada"]
[null,null,"A","Intervalo para repouso ou alimentação",{"$f":"'Encargos Sociais'!E33","v":0},{"$f":"ROUND(E67*$F$16,2)","v":0}]
[]
[null,null,null,"QUADRO-RESUMO DO MÓDULO 4",null,"Valor"]
[null,null,null,"4.1 - Ausências Legais",{"$f":"SUM(E59:E64)","v":0.11089999999999998},{"$f":"ROUND(E70*$F$16,2)","v":529.62}]
[null,null,null,"4.2 - Intrajornada",{"$f":"E67","v":0},{"$f":"ROUND(E71*$F$16,2)","v":0}]
[]
[null,null,null,"TOTAL DE PREVISÃO PARA RESCISÃO E INTERVALO INTRAJORNADA",null,{"$f":"SUM(F70:F71)","v":529.62}]
[]
[null,"MÓDULO 5 - INSUMOS DIVERSOS",null,null,null,"Valor"]
[null,null,"A","Uniformes - aquisição",null,0]
[null,null,"B","Materiais de consumo relacionados ao posto - aquisição",null,0]
[null,null,"C","Ferramentas relacionadas ao posto - remuneração da sua depreciação / manutenção",null,0]
[null,null,"D","Equipamentos relacionados ao posto - remuneração da sua depreciação / manutenção",null,0]
[null,null,"E","Equipamentos de Proteção Individual - EPI - aquisição",null,{"$f":"'EPI - Rel'!J61","v":68.099999999999994}]
[]
[null,null,null,"TOTAL DE INSUMOS DIVERSOS",null,{"$f":"SUM(F76:F81)","v":68.099999999999994},null,"* Nota - Valores mensais por empregado"]
[]
[null,"MÓDULO 6 - CUSTOS INDIRETOS, TRIBUTOS E LUCRO - BDI",null,null,"Percentuais","Valor"]
[null,null,"A","Custos Indiretos",{"$f":"'BDI - Geral'!E7","v":3.5700000000000003E-2}]
[null,null,"A.1","Administração Central",{"$f":"'BDI - Geral'!E8","v":3.0300000000000001E-2}]
[null,null,"A.2","Seguros, Garantias e Riscos",{"$f":"'BDI - Geral'!E9","v":5.4000000000000003E-3}]
[null,null,"B","Lucro",{"$f":"'BDI - Geral'!E11","v":0.04}]
[null,null,"C","Tributos",{"$f":"SUM(E90:E91)","v":0.124}]
[null,null,"C.1","Tributos Federais (COFINS, PIS e CPRB)",{"$f":"'BDI - Geral'!E19","v":7.3999999999999996E-2}]
[null,null,"C.2","Tributos Distritais (ISS)",{"$f":"'BDI - Geral'!E24","v":0.05}]
[null,null,"D","Despesas Financeiras",{"$f":"'BDI - Geral'!E14","v":5.1000000000000004E-3}]
[]
[null,null,null,"TOTAL DE BDI",{"$f":"'BDI - Geral'!E27","v":0.2359},{"$f":"ROUND(E94*E102,2)","v":2166.9699999999998}]
[]
[null,null,null,"QUADRO-RESUMO DO CUSTO MENSAL POR EMPREGADO - SEM O 13º","Valor"]
[null,null,null,"Módulo 1 - Composição da Remuneração",{"$f":"F16","v":4775.6600000000008}]
[null,null,null,"Módulo 2 - Encargos e Benefícios Anuais, Mensais e Diários",{"$f":"F45","v":3559.7200000000003}]
[null,null,null,"Módulo 3 - Provisão para Rescisão",{"$f":"F55","v":252.86}]
[null,null,null,"Módulo 4 - Custo de Reposição do Profissional Ausente",{"$f":"F73","v":529.62}]
[null,null,null,"Módulo 5 - Insumos Diversos",{"$f":"F82","v":68.099999999999994}]
[null,null,null,"SUBTOTAL (A+B+C+D+E)",{"$f":"SUM(E97:E101)","v":9185.9600000000028}]
[null,null,null,"Módulo 6 - Custos Indiretos, Tributos e Lucro",{"$f":"F94","v":2166.9699999999998}]
[]
[null,null,null,"TOTAL DO POSTO",{"$f":"SUM(E102:E103)","v":11352.930000000002}]
[]
[null,"MÓDULO 7 - DESTAQUE DO MÓDULO 2 - 13º SALÁRIO",null,null,"Percentuais","Valor"]
[null,null,"A","13º Salário",{"$f":"'Encargos Sociais'!E32*12/11","v":9.0872727272727272E-2},{"$f":"ROUND(E108*F$16,2)","v":433.98},null,"* Nota 1 - Incluindo-se a reincidência das férias do substituto sobre o titular"]
[null,null,"B","Encargos Sociais sobre o 13º Salário - Taxa calculada no SUBMÓDULO 2.2",{"$f":"SUM($E$24:$E$32)","v":0.35800000000000004},{"$f":"ROUND(E109*$F$108,2)","v":155.36000000000001},null,"* Nota 2 - 13º e reflexos calculados à parte a fim de aprovisionamento"]
[null,null,"C","BDI sobre o 13º Salário - Taxa calculada no MÓDULO 6",{"$f":"E94","v":0.2359},{"$f":"ROUND(E110*($F$108+$F$109),2)","v":139.03}]
[]
[null,null,null,"TOTAL DO DESTAQUE DO 13º SALÁRIO",null,{"$f":"SUM(F108:F110)","v":728.37}]
[]
[null,null,null,"QUADRO-RESUMO DO CUSTO MENSAL POR EMPREGADO","Valor"]
[null,null,null,"Custo total - sem o 13º Salário",{"$f":"ROUND(E105,2)","v":11352.93}]
[null,null,null,"Destaque do 13º Salário (valor mensal)",{"$f":"ROUND(F112,2)","v":728.37}]
[]
[null,null,null,"TOTAL DO POSTO",{"$f":"E115+E116","v":12081.300000000001}]

{"sheet":"5","index":8,"n_rows":118,"n_cols":8,"rows_kept":118,"cut":false,"hidden":false,"merged":[[106,1,106,3],[39,3,39,5],[46,1,46,3],[56,1,56,3],[68,3,68,5],[74,1,74,3],[83,1,83,3],[17,1,17,3],[1,1,1,5],[2,1,2,5],[4,1,4,2],[5,1,5,2],[7,1,7,3]]}
[]
[null,"PLANILHA DE ESTIMATIVA DE CUSTOS"]
[null,"Padrão IN 05/2017 e IN 07/2018 - MPDG"]
[]
[null,5,null,{"$f":"HLOOKUP($B$5,'Dados Gerais'!$D$6:$BI$22,6)","v":"MESTRE ELETRICISTA DE MANUTENÇÃO "},"QUANTIDADE",{"$f":"HLOOKUP($B$5,'Dados Gerais'!$D$6:$BI$22,10)","v":7}]
[null,"CCT",null,{"$f":"HLOOKUP($B$5,'Dados Gerais'!$D$6:$BI$22,16)","v":"SINDUSCON/DF x STICOMBE/DF \nCCT 2024/2025 - 2º TA - \nN.º DF000276/2024"},"DATA-BASE",{"$f":"HLOOKUP($B$5,'Dados Gerais'!$D$6:$BI$22,17)","v":"2024-05-01"}]
[]
[null,"MÓDULO 1 - COMPOSIÇÃO DA REMUNERAÇÃO",null,null,null,"Valor"]
[null,null,"A","Salário-Base",null,{"$f":"HLOOKUP($B$5,'Dados Gerais'!$D$6:$BI$22,8)","v":3800}]
[null,null,"B","Adicional de Periculosidade",null,{"$f":"HLOOKUP($B$5,'Dados Gerais'!$D$6:$BI$39,26)","v":1140}]
[null,null,"C","Adicional de Insalubridade",null,{"$f":"HLOOKUP($B$5,'Dados Gerais'!$D$6:$BI$39,32)","v":0}]
[null,null,"D","Adicional Noturno",null,{"$f":"HLOOKUP($B$5,'Dados Gerais'!$D$6:$BI$52,47)","v":0},null,"* Nota 1 - O Módulo 1 refere-se ao valor mensal devido ao empregado pela prestação do serviço no período de 12 meses."]
[null,null,"E","Adicional de Hora Extra",null,{"$f":"HLOOKUP($B$5,'Dados Gerais'!$D$6:$BI$69,64)","v":0},null,"* Nota 2 - O adicional de hora extra no feriado trabalhado foi suprimido pela Lei 13.467/17"]
[null,null,"F","Outros (adicional de sobreaviso)",null,{"$f":"HLOOKUP($B$5,'Dados Gerais'!$D$6:$BI$69,34)","v":0},null,"* Nota 3 - ART. 7º, § 2º, DA LEI Nº 605/49.Sendo mensalista o obreiro, o adicional noturno pago de forma fixa já é considerado integrado para os efeitos do pagamento do repouso semanal remunerado, nos termos do art. 7º, § 2º, da Lei nº 605/49."]
[]
[null,null,null,"TOTAL DA REMUNERAÇÃO",null,{"$f":"SUM(F9:F14)","v":4940}]
[]
[null,"MÓDULO 2 - ENCARGOS E BENEFÍCIOS ANUAIS, MENSAIS E DIÁRIOS",null,null,"Percentuais","Valor"]
[null,"Submódulo 2.1 - 13º Salário, Férias e Adicional de Férias"]
[null,null,"A","13º Salário - Calculado no Módulo 7 - Destacado",0,{"$f":"ROUND(E20*F$16,2)","v":0}]
[null,null,"B","Adicional de Férias",{"$f":"'[1]Encargos Sociais'!E31","v":3.0300000000000001E-2},{"$f":"ROUND(E21*(F$16),2)","v":149.68},null,"* Nota 1 - O adicional de férias foi calculado dividindo-se por 11, para comportar os 11 meses presentes e ainda o ausente do posto"]
[]
[null,"Submódulo 2.2 - Encargos Previdenciários (GPS), Fundo de Garantia por Tempo de Serviço (FGTS) e Outras Contribuições"]
[null,null,"A","INSS (art. 22, inciso I, Lei nº 8.212/91)",{"$f":"'Encargos Sociais'!E14","v":0.2},{"$f":"ROUND(E24*($F$16+$F$41+$F$73),2)","v":1127.51},null,"* Nota 1 - Os percentuais dos encargos previdenciários, do FGTS e demais contribuições são estabelecidos por legislação vigente."]
[null,null,"B","Salário Educação (art. 3º, inciso I, Decreto nº 87.043/82)",{"$f":"'Encargos Sociais'!E15","v":2.5000000000000001E-2},{"$f":"ROUND(E25*($F$16+$F$41+$F$73),2)","v":140.94},null,"* Nota 2 - O SAT, a depender do grau de risco do serviço, irá variar entre 1%, para risco leve, de 2%, para risco médio, e de 3% para risco grave."]
[null,null,"C","SAT/RAT (art. 22, II, Lei 8.212/91 e Anexo V, Decreto 6.042/07) - Enquadramento 8211-3/00",{"$f":"'Encargos Sociais'!E16","v":0.01},56.38,null,"* Nota 3 - Base de cálculo - remuneração + ausências + terço constitucional (férias)"]
[null,null,"D","SESC ou SESI (art. 30, Lei nº 8.036/90 e art. 1º, Lei 8.154/90)",{"$f":"'Encargos Sociais'!E17","v":1.4999999999999999E-2},84.56]
[null,null,"E","SENAI ou SENAC (Decreto nº 2.318/86)",{"$f":"'Encargos Sociais'!E18","v":0.01},56.38]
[null,null,"F","SEBRAE (§ 3º, art. 8º, Lei 8.029/90, alterada pela Lei nº 8.154/90)",{"$f":"'Encargos Sociais'!E19","v":6.0000000000000001E-3},33.83]
[null,null,"G","INCRA (art. 1º, I, Decreto Lei 1.146/70 e Lei 7.787, de 30/06/89)",{"$f":"'Encargos Sociais'!E20","v":2E-3},11.28]
[null,null,"H","FGTS (Lei Complementar nº 110/01 e art. 30, Lei nº 8.036/90)",{"$f":"'Encargos Sociais'!E21","v":0.08},451]
[null,null,"I","SECONCI (Convenções Coletivas de Trabalho da construção)",{"$f":"'Encargos Sociais'!E22","v":0.01},56.38]
[]
[null,"Submódulo 2.3 - Benefícios Mensais e Diários"]
[null,null,"A","Auxílio Transporte",null,{"$f":"HLOOKUP($B$5,'Dados Gerais'!$D$6:$BI$95,83)","v":539.97},null,"* Nota 1 - O valor informado deverá ser o custo real do benefício (descontado o valor eventualmente pago pelo empregado)."]
[null,null,"B","Auxílio Alimentação",null,{"$f":"HLOOKUP($B$5,'Dados Gerais'!$D$6:$BI$95,90)","v":910},null,"* Nota 2 - Observar a previsão dos benefícios contidos em Acordos, Convenções e Dissídios Coletivos de Trabalho e o disposto no art. 6º da IN 5/2017"]
[null,null,"C","Assistência Médica e Familiar",null,{"$f":"HLOOKUP($B$5,'Dados Gerais'!$D$6:$BI$103,98)","v":0}]
[null,null,"D","Outros (Seguro de vida, auxílio funeral, auxílio odontológico e auxílio creche)",null,{"$f":"HLOOKUP($B$5,'Dados Gerais'!$D$6:$BI$121,115)","v":13.95}]
[]
[null,null,null,"QUADRO-RESUMO DO MÓDULO 2"]
[null,null,null,"2.1 - 13º Salário, Férias e Adicional de Férias - 13º Destacado - Calculado no Módulo 7 ",{"$f":"SUM(E20:E21)","v":3.0300000000000001E-2},{"$f":"F20+F21","v":149.68}]
[null,null,null,"2.2 - Encargos Previdenciários (GPS), Fundo de Garantia por Tempo de Serviço (FGTS) e Contribuições",{"$f":"SUM(E24:E32)","v":0.35800000000000004},{"$f":"SUM(F24:F32)","v":2018.2600000000002}]
[null,null,null,"2.3 - Benefícios Mensais e Diários",null,{"$f":"SUM(F35:F38)","v":1463.92}]
[]
[null,null,null,"TOTAL DOS ENCARGOS E BENEFÍCIOS",null,{"$f":"SUM(F41:F43)","v":3631.86}]
[]
[null,"MÓDULO 3 - PREVISÃO PARA RESCISÃO",null,null,"Percentuais","Valor"]
[null,null,"A","Aviso Prévio Indenizado (Art. 7º, inciso XXI, da CF/1988 e arts. 477, 487, §1º, e 491 da CLT)",{"$f":"'Encargos Sociais'!E36","v":3.5000000000000001E-3},{"$f":"ROUND(E48*($F$16+$F$73+$F$41),2)","v":19.73},null,"* Nota 1 - Base de cálculo - remuneração + ausências + 1/3 férias"]
[null,null,"B","Incidência do FGTS sobre o Aviso Prévio Indenizado (Súmula 305 TST)",{"$f":"'Encargos Sociais'!E37","v":2.9999999999999997E-4},1.69]
[null,null,"C","Multa do FGTS e Contribuição Social sobre o Aviso Prévio Indenizado (Art. 18, §1º, da Lei 8.036/1990 e art. 1º da LC nº 110/2001)",{"$f":"'Encargos Sociais'!E38","v":1.1000000000000001E-3},6.2]
[null,null,"D","Aviso Prévio Trabalhado (Art. 488, parágrafo único, CLT)",{"$f":"'Encargos Sociais'!E39","v":7.7999999999999996E-3},43.97]
[null,null,"E","Incidência de GPS, FGTS e outras contribuições sobre o Aviso Prévio Trabalhado",{"$f":"'Encargos Sociais'!E40","v":2.8E-3},15.79]
[null,null,"F","Multa do FGTS e Contribuição Social sobre o Aviso Prévio Trabalhado",{"$f":"'Encargos Sociais'!E41","v":3.09E-2},174.2]
[]
[null,null,null,"TOTAL DE PREVISÃO PARA RESCISÃO",null,{"$f":"SUM(F48:F53)","v":261.58}]
[]
[null,"MÓDULO 4 - CUSTO DO PROFISSIONAL AUSENTE",null,null,"Percentuais","Valor"]
[null,"Submódulo 4.1 - Ausências Legais"]
[null,null,"A","Férias (Arts. 129 e 130, inc. I, da CLT)",{"$f":"'Encargos Sociais'!E25","v":9.0899999999999995E-2},{"$f":"ROUND(E59*$F$16,2)","v":449.05},null,"* Nota 1 - O Módulo 4 refere-se às previsões para custear ausências do próprio profissional (titular do cargo)"]
[null,null,"B","Ausências Legais (Arts. 131 e 473 da CLT)",{"$f":"'Encargos Sociais'!E26","v":7.9000000000000008E-3},39.03,null,"* Nota 2 - As férias foram calculadas dividindo-se por 11, para comportar os 11 meses presentes e ainda o ausente do posto"]
[null,null,"C","Licença-Paternidade (Art. 7º, XIX, e art. 10, §1º, do ADCT, CF/1988 e Art. 1º, II, da Lei 11.770/2008)",{"$f":"'Encargos Sociais'!E27","v":8.0000000000000004E-4},3.95]
[null,null,"D","Ausência por Acidente de Trabalho (Art. 131, III, da CLT)",{"$f":"'Encargos Sociais'!E28","v":8.9999999999999998E-4},4.45]
[null,null,"E","Afastamento Maternidade (Art. 71 da Lei nº 8.213/1991)",{"$f":"'Encargos Sociais'!E29","v":3.3E-3},16.3]
[null,null,"F","Auxílio Enfermidade - Doença (Art. 59 da Lei nº 8.213/1991)",{"$f":"'Encargos Sociais'!E30","v":7.1000000000000004E-3},35.07]
[]
[null,"Submódulo 4.2 - Intrajornada"]
[null,null,"A","Intervalo para repouso ou alimentação",{"$f":"'Encargos Sociais'!E33","v":0},{"$f":"ROUND(E67*$F$16,2)","v":0}]
[]
[null,null,null,"QUADRO-RESUMO DO MÓDULO 4",null,"Valor"]
[null,null,null,"4.1 - Ausências Legais",{"$f":"SUM(E59:E64)","v":0.11089999999999998},{"$f":"ROUND(E70*$F$16,2)","v":547.85}]
[null,null,null,"4.2 - Intrajornada",{"$f":"E67","v":0},{"$f":"ROUND(E71*$F$16,2)","v":0}]
[]
[null,null,null,"TOTAL DE PREVISÃO PARA RESCISÃO E INTERVALO INTRAJORNADA",null,{"$f":"SUM(F70:F71)","v":547.85}]
[]
[null,"MÓDULO 5 - INSUMOS DIVERSOS",null,null,null,"Valor"]
[null,null,"A","Uniformes - aquisição",null,0]
[null,null,"B","Materiais de consumo relacionados ao posto - aquisição",null,0]
[null,null,"C","Ferramentas relacionadas ao posto - remuneração da sua depreciação / manutenção",null,0]
[null,null,"D","Equipamentos relacionados ao posto - remuneração da sua depreciação / manutenção",null,0]
[null,null,"E","Equipamentos de Proteção Individual - EPI - aquisição",null,{"$f":"'EPI - Rel'!J100","v":75.83}]
[]
[null,null,null,"TOTAL DE INSUMOS DIVERSOS",null,{"$f":"SUM(F76:F81)","v":75.83},null,"* Nota - Valores mensais por empregado"]
[]
[null,"MÓDULO 6 - CUSTOS INDIRETOS, TRIBUTOS E LUCRO - BDI",null,null,"Percentuais","Valor"]
[null,null,"A","Custos Indiretos",{"$f":"'BDI - Geral'!E7","v":3.5700000000000003E-2}]
[null,null,"A.1","Administração Central",{"$f":"'BDI - Geral'!E8","v":3.0300000000000001E-2}]
[null,null,"A.2","Seguros, Garantias e Riscos",{"$f":"'BDI - Geral'!E9","v":5.4000000000000003E-3}]
[null,null,"B","Lucro",{"$f":"'BDI - Geral'!E11","v":0.04}]
[null,null,"C","Tributos",{"$f":"SUM(E90:E91)","v":0.124}]
[null,null,"C.1","Tributos Federais (COFINS, PIS e CPRB)",{"$f":"'BDI - Geral'!E19","v":7.3999999999999996E-2}]
[null,null,"C.2","Tributos Distritais (ISS)",{"$f":"'BDI - Geral'!E24","v":0.05}]
[null,null,"D","Despesas Financeiras",{"$f":"'BDI - Geral'!E14","v":5.1000000000000004E-3}]
[]
[null,null,null,"TOTAL DE BDI",{"$f":"'BDI - Geral'!E27","v":0.2359},{"$f":"ROUND(E94*E102,2)","v":2230.9299999999998}]
[]
[null,null,null,"QUADRO-RESUMO DO CUSTO MENSAL POR EMPREGADO - SEM O 13º","Valor"]
[null,null,null,"Módulo 1 - Composição da Remuneração",{"$f":"F16","v":4940}]
[null,null,null,"Módulo 2 - Encargos e Benefícios Anuais, Mensais e Diários",{"$f":"F45","v":3631.86}]
[null,null,null,"Módulo 3 - Provisão para Rescisão",{"$f":"F55","v":261.58}]
[null,null,null,"Módulo 4 - Custo de Reposição do Profissional Ausente",{"$f":"F73","v":547.85}]
[null,null,null,"Módulo 5 - Insumos Diversos",{"$f":"F82","v":75.83}]
[null,null,null,"SUBTOTAL (A+B+C+D+E)",{"$f":"SUM(E97:E101)","v":9457.1200000000008}]
[null,null,null,"Módulo 6 - Custos Indiretos, Tributos e Lucro",{"$f":"F94","v":2230.9299999999998}]
[]
[null,null,null,"TOTAL DO POSTO",{"$f":"SUM(E102:E103)","v":11688.050000000001}]
[]
[null,"MÓDULO 7 - DESTAQUE DO MÓDULO 2 - 13º SALÁRIO",null,null,"Percentuais","Valor"]
[null,null,"A","13º Salário",{"$f":"'Encargos Sociais'!E32*12/11","v":9.0872727272727272E-2},{"$f":"ROUND(E108*F$16,2)","v":448.91},null,"* Nota 1 - Incluindo-se a reincidência das férias do substituto sobre o titular"]
[null,null,"B","Encargos Sociais sobre o 13º Salário - Taxa calculada no SUBMÓDULO 2.2",{"$f":"SUM($E$24:$E$32)","v":0.35800000000000004},{"$f":"ROUND(E109*$F$108,2)","v":160.71},null,"* Nota 2 - 13º e reflexos calculados à parte a fim de aprovisionamento"]
[null,null,"C","BDI sobre o 13º Salário - Taxa calculada no MÓDULO 6",{"$f":"E94","v":0.2359},{"$f":"ROUND(E110*($F$108+$F$109),2)","v":143.81}]
[]
[null,null,null,"TOTAL DO DESTAQUE DO 13º SALÁRIO",null,{"$f":"SUM(F108:F110)","v":753.43000000000006}]
[]
[null,null,null,"QUADRO-RESUMO DO CUSTO MENSAL POR EMPREGADO","Valor"]
[null,null,null,"Custo total - sem o 13º Salário",{"$f":"ROUND(E105,2)","v":11688.05}]
[null,null,null,"Destaque do 13º Salário (valor mensal)",{"$f":"ROUND(F112,2)","v":753.43}]
[]
[null,null,null,"TOTAL DO POSTO",{"$f":"E115+E116","v":12441.48}]

{"sheet":"6","index":9,"n_rows":118,"n_cols":8,"rows_kept":118,"cut":false,"hidden":false,"merged":[[106,1,106,3],[39,3,39,5],[46,1,46,3],[56,1,56,3],[68,3,68,5],[74,1,74,3],[83,1,83,3],[17,1,17,3],[1,1,1,5],[2,1,2,5],[4,1,4,2],[5,1,5,2],[7,1,7,3]]}
[]
[null,"PLANILHA DE ESTIMATIVA DE CUSTOS"]
[null,"Padrão IN 05/2017 e IN 07/2018 - MPDG"]
[]
[null,6,null,{"$f":"HLOOKUP($B$5,'Dados Gerais'!$D$6:$BI$22,6)","v":"MECÂNICO DE MÁQUINAS PESADAS - MANUTENÇÃO"},"QUANTIDADE",{"$f":"HLOOKUP($B$5,'Dados Gerais'!$D$6:$BI$22,10)","v":26}]
[null,"CCT",null,{"$f":"HLOOKUP($B$5,'Dados Gerais'!$D$6:$BI$22,16)","v":"SINDUSCON/DF x STICOMBE/DF \nCCT 2024/2025 - 2º TA - \nN.º DF000276/2024"},"DATA-BASE",{"$f":"HLOOKUP($B$5,'Dados Gerais'!$D$6:$BI$22,17)","v":"2024-05-01"}]
[]
[null,"MÓDULO 1 - COMPOSIÇÃO DA REMUNERAÇÃO",null,null,null,"Valor"]
[null,null,"A","Salário-Base",null,{"$f":"HLOOKUP($B$5,'Dados Gerais'!$D$6:$BI$22,8)","v":3765.58}]
[null,null,"B","Adicional de Periculosidade",null,{"$f":"HLOOKUP($B$5,'Dados Gerais'!$D$6:$BI$39,26)","v":0}]
[null,null,"C","Adicional de Insalubridade",null,{"$f":"HLOOKUP($B$5,'Dados Gerais'!$D$6:$BI$39,32)","v":303.60000000000002}]
[null,null,"D","Adicional Noturno",null,{"$f":"HLOOKUP($B$5,'Dados Gerais'!$D$6:$BI$52,47)","v":0},null,"* Nota 1 - O Módulo 1 refere-se ao valor mensal devido ao empregado pela prestação do serviço no período de 12 meses."]
[null,null,"E","Adicional de Hora Extra",null,{"$f":"HLOOKUP($B$5,'Dados Gerais'!$D$6:$BI$69,64)","v":0},null,"* Nota 2 - O adicional de hora extra no feriado trabalhado foi suprimido pela Lei 13.467/17"]
[null,null,"F","Outros (adicional de sobreaviso)",null,{"$f":"HLOOKUP($B$5,'Dados Gerais'!$D$6:$BI$69,34)","v":0},null,"* Nota 3 - ART. 7º, § 2º, DA LEI Nº 605/49.Sendo mensalista o obreiro, o adicional noturno pago de forma fixa já é considerado integrado para os efeitos do pagamento do repouso semanal remunerado, nos termos do art. 7º, § 2º, da Lei nº 605/49."]
[]
[null,null,null,"TOTAL DA REMUNERAÇÃO",null,{"$f":"SUM(F9:F14)","v":4069.18}]
[]
[null,"MÓDULO 2 - ENCARGOS E BENEFÍCIOS ANUAIS, MENSAIS E DIÁRIOS",null,null,"Percentuais","Valor"]
[null,"Submódulo 2.1 - 13º Salário, Férias e Adicional de Férias"]
[null,null,"A","13º Salário - Calculado no Módulo 7 - Destacado",0,{"$f":"ROUND(E20*F$16,2)","v":0}]
[null,null,"B","Adicional de Férias",{"$f":"'[1]Encargos Sociais'!E31","v":3.0300000000000001E-2},{"$f":"ROUND(E21*(F$16),2)","v":123.3},null,"* Nota 1 - O adicional de férias foi calculado dividindo-se por 11, para comportar os 11 meses presentes e ainda o ausente do posto"]
[]
[null,"Submódulo 2.2 - Encargos Previdenciários (GPS), Fundo de Garantia por Tempo de Serviço (FGTS) e Outras Contribuições"]
[null,null,"A","INSS (art. 22, inciso I, Lei nº 8.212/91)",{"$f":"'Encargos Sociais'!E14","v":0.2},{"$f":"ROUND(E24*($F$16+$F$41+$F$73),2)","v":928.75},null,"* Nota 1 - Os percentuais dos encargos previdenciários, do FGTS e demais contribuições são estabelecidos por legislação vigente."]
[null,null,"B","Salário Educação (art. 3º, inciso I, Decreto nº 87.043/82)",{"$f":"'Encargos Sociais'!E15","v":2.5000000000000001E-2},{"$f":"ROUND(E25*($F$16+$F$41+$F$73),2)","v":116.09},null,"* Nota 2 - O SAT, a depender do grau de risco do serviço, irá variar entre 1%, para risco leve, de 2%, para risco médio, e de 3% para risco grave."]
[null,null,"C","SAT/RAT (art. 22, II, Lei 8.212/91 e Anexo V, Decreto 6.042/07) - Enquadramento 8211-3/00",{"$f":"'Encargos Sociais'!E16","v":0.01},46.44,null,"* Nota 3 - Base de cálculo - remuneração + ausências + terço constitucional (férias)"]
[null,null,"D","SESC ou SESI (art. 30, Lei nº 8.036/90 e art. 1º, Lei 8.154/90)",{"$f":"'Encargos Sociais'!E17","v":1.4999999999999999E-2},69.66]
[null,null,"E","SENAI ou SENAC (Decreto nº 2.318/86)",{"$f":"'Encargos Sociais'!E18","v":0.01},46.44]
[null,null,"F","SEBRAE (§ 3º, art. 8º, Lei 8.029/90, alterada pela Lei nº 8.154/90)",{"$f":"'Encargos Sociais'!E19","v":6.0000000000000001E-3},27.86]
[null,null,"G","INCRA (art. 1º, I, Decreto Lei 1.146/70 e Lei 7.787, de 30/06/89)",{"$f":"'Encargos Sociais'!E20","v":2E-3},9.2899999999999991]
[null,null,"H","FGTS (Lei Complementar nº 110/01 e art. 30, Lei nº 8.036/90)",{"$f":"'Encargos Sociais'!E21","v":0.08},371.5]
[null,null,"I","SECONCI (Convenções Coletivas de Trabalho da construção)",{"$f":"'Encargos Sociais'!E22","v":0.01},46.44]
[]
[null,"Submódulo 2.3 - Benefícios Mensais e Diários"]
[null,null,"A","Auxílio Transporte",null,{"$f":"HLOOKUP($B$5,'Dados Gerais'!$D$6:$BI$95,83)","v":539.97},null,"* Nota 1 - O valor informado deverá ser o custo real do benefício (descontado o valor eventualmente pago pelo empregado)."]
[null,null,"B","Auxílio Alimentação",null,{"$f":"HLOOKUP($B$5,'Dados Gerais'!$D$6:$BI$95,90)","v":910},null,"* Nota 2 - Observar a previsão dos benefícios contidos em Acordos, Convenções e Dissídios Coletivos de Trabalho e o disposto no art. 6º da IN 5/2017"]
[null,null,"C","Assistência Médica e Familiar",null,{"$f":"HLOOKUP($B$5,'Dados Gerais'!$D$6:$BI$103,98)","v":0}]
[null,null,"D","Outros (Seguro de vida, auxílio funeral, auxílio odontológico e auxílio creche)",null,{"$f":"HLOOKUP($B$5,'Dados Gerais'!$D$6:$BI$121,115)","v":13.95}]
[]
[null,null,null,"QUADRO-RESUMO DO MÓDULO 2"]
[null,null,null,"2.1 - 13º Salário, Férias e Adicional de Férias - 13º Destacado - Calculado no Módulo 7 ",{"$f":"SUM(E20:E21)","v":3.0300000000000001E-2},{"$f":"F20+F21","v":123.3}]
[null,null,null,"2.2 - Encargos Previdenciários (GPS), Fundo de Garantia por Tempo de Serviço (FGTS) e Contribuições",{"$f":"SUM(E24:E32)","v":0.35800000000000004},{"$f":"SUM(F24:F32)","v":1662.47}]
[null,null,null,"2.3 - Benefícios Mensais e Diários",null,{"$f":"SUM(F35:F38)","v":1463.92}]
[]
[null,null,null,"TOTAL DOS ENCARGOS E BENEFÍCIOS",null,{"$f":"SUM(F41:F43)","v":3249.69}]
[]
[null,"MÓDULO 3 - PREVISÃO PARA RESCISÃO",null,null,"Percentuais","Valor"]
[null,null,"A","Aviso Prévio Indenizado (Art. 7º, inciso XXI, da CF/1988 e arts. 477, 487, §1º, e 491 da CLT)",{"$f":"'Encargos Sociais'!E36","v":3.5000000000000001E-3},{"$f":"ROUND(E48*($F$16+$F$73+$F$41),2)","v":16.25},null,"* Nota 1 - Base de cálculo - remuneração + ausências + 1/3 férias"]
[null,null,"B","Incidência do FGTS sobre o Aviso Prévio Indenizado (Súmula 305 TST)",{"$f":"'Encargos Sociais'!E37","v":2.9999999999999997E-4},1.39]
[null,null,"C","Multa do FGTS e Contribuição Social sobre o Aviso Prévio Indenizado (Art. 18, §1º, da Lei 8.036/1990 e art. 1º da LC nº 110/2001)",{"$f":"'Encargos Sociais'!E38","v":1.1000000000000001E-3},5.1100000000000003]
[null,null,"D","Aviso Prévio Trabalhado (Art. 488, parágrafo único, CLT)",{"$f":"'Encargos Sociais'!E39","v":7.7999999999999996E-3},36.22]
[null,null,"E","Incidência de GPS, FGTS e outras contribuições sobre o Aviso Prévio Trabalhado",{"$f":"'Encargos Sociais'!E40","v":2.8E-3},13]
[null,null,"F","Multa do FGTS e Contribuição Social sobre o Aviso Prévio Trabalhado",{"$f":"'Encargos Sociais'!E41","v":3.09E-2},143.49]
[]
[null,null,null,"TOTAL DE PREVISÃO PARA RESCISÃO",null,{"$f":"SUM(F48:F53)","v":215.46}]
[]
[null,"MÓDULO 4 - CUSTO DO PROFISSIONAL AUSENTE",null,null,"Percentuais","Valor"]
[null,"Submódulo 4.1 - Ausências Legais"]
[null,null,"A","Férias (Arts. 129 e 130, inc. I, da CLT)",{"$f":"'Encargos Sociais'!E25","v":9.0899999999999995E-2},{"$f":"ROUND(E59*$F$16,2)","v":369.89},null,"* Nota 1 - O Módulo 4 refere-se às previsões para custear ausências do próprio profissional (titular do cargo)"]
[null,null,"B","Ausências Legais (Arts. 131 e 473 da CLT)",{"$f":"'Encargos Sociais'!E26","v":7.9000000000000008E-3},32.15,null,"* Nota 2 - As férias foram calculadas dividindo-se por 11, para comportar os 11 meses presentes e ainda o ausente do posto"]
[null,null,"C","Licença-Paternidade (Art. 7º, XIX, e art. 10, §1º, do ADCT, CF/1988 e Art. 1º, II, da Lei 11.770/2008)",{"$f":"'Encargos Sociais'!E27","v":8.0000000000000004E-4},3.26]
[null,null,"D","Ausência por Acidente de Trabalho (Art. 131, III, da CLT)",{"$f":"'Encargos Sociais'!E28","v":8.9999999999999998E-4},3.66]
[null,null,"E","Afastamento Maternidade (Art. 71 da Lei nº 8.213/1991)",{"$f":"'Encargos Sociais'!E29","v":3.3E-3},13.43]
[null,null,"F","Auxílio Enfermidade - Doença (Art. 59 da Lei nº 8.213/1991)",{"$f":"'Encargos Sociais'!E30","v":7.1000000000000004E-3},28.89]
[]
[null,"Submódulo 4.2 - Intrajornada"]
[null,null,"A","Intervalo para repouso ou alimentação",{"$f":"'Encargos Sociais'!E33","v":0},{"$f":"ROUND(E67*$F$16,2)","v":0}]
[]
[null,null,null,"QUADRO-RESUMO DO MÓDULO 4",null,"Valor"]
[null,null,null,"4.1 - Ausências Legais",{"$f":"SUM(E59:E64)","v":0.11089999999999998},{"$f":"ROUND(E70*$F$16,2)","v":451.27}]
[null,null,null,"4.2 - Intrajornada",{"$f":"E67","v":0},{"$f":"ROUND(E71*$F$16,2)","v":0}]
[]
[null,null,null,"TOTAL DE PREVISÃO PARA RESCISÃO E INTERVALO INTRAJORNADA",null,{"$f":"SUM(F70:F71)","v":451.27}]
[]
[null,"MÓDULO 5 - INSUMOS DIVERSOS",null,null,null,"Valor"]
[null,null,"A","Uniformes - aquisição",null,0]
[null,null,"B","Materiais de consumo relacionados ao posto - aquisição",null,0]
[null,null,"C","Ferramentas relacionadas ao posto - remuneração da sua depreciação / manutenção",null,0]
[null,null,"D","Equipamentos relacionados ao posto - remuneração da sua depreciação / manutenção",null,0]
[null,null,"E","Equipamentos de Proteção Individual - EPI - aquisição",null,{"$f":"'EPI - Rel'!J81","v":71.16}]
[]
[null,null,null,"TOTAL DE INSUMOS DIVERSOS",null,{"$f":"SUM(F76:F81)","v":71.16},null,"* Nota - Valores mensais por empregado"]
[]
[null,"MÓDULO 6 - CUSTOS INDIRETOS, TRIBUTOS E LUCRO - BDI",null,null,"Percentuais","Valor"]
[null,null,"A","Custos Indiretos",{"$f":"'BDI - Geral'!E7","v":3.5700000000000003E-2}]
[null,null,"A.1","Administração Central",{"$f":"'BDI - Geral'!E8","v":3.0300000000000001E-2}]
[null,null,"A.2","Seguros, Garantias e Riscos",{"$f":"'BDI - Geral'!E9","v":5.4000000000000003E-3}]
[null,null,"B","Lucro",{"$f":"'BDI - Geral'!E11","v":0.04}]
[null,null,"C","Tributos",{"$f":"SUM(E90:E91)","v":0.124}]
[null,null,"C.1","Tributos Federais (COFINS, PIS e CPRB)",{"$f":"'BDI - Geral'!E19","v":7.3999999999999996E-2}]
[null,null,"C.2","Tributos Distritais (ISS)",{"$f":"'BDI - Geral'!E24","v":0.05}]
[null,null,"D","Despesas Financeiras",{"$f":"'BDI - Geral'!E14","v":5.1000000000000004E-3}]
[]
[null,null,null,"TOTAL DE BDI",{"$f":"'BDI - Geral'!E27","v":0.2359},{"$f":"ROUND(E94*E102,2)","v":1900.59}]
[]
[null,null,null,"QUADRO-RESUMO DO CUSTO MENSAL POR EMPREGADO - SEM O 13º","Valor"]
[null,null,null,"Módulo 1 - Composição da Remuneração",{"$f":"F16","v":4069.18}]
[null,null,null,"Módulo 2 - Encargos e Benefícios Anuais, Mensais e Diários",{"$f":"F45","v":3249.69}]
[null,null,null,"Módulo 3 - Provisão para Rescisão",{"$f":"F55","v":215.46}]
[null,null,null,"Módulo 4 - Custo de Reposição do Profissional Ausente",{"$f":"F73","v":451.27}]
[null,null,null,"Módulo 5 - Insumos Diversos",{"$f":"F82","v":71.16}]
[null,null,null,"SUBTOTAL (A+B+C+D+E)",{"$f":"SUM(E97:E101)","v":8056.76}]
[null,null,null,"Módulo 6 - Custos Indiretos, Tributos e Lucro",{"$f":"F94","v":1900.59}]
[]
[null,null,null,"TOTAL DO POSTO",{"$f":"SUM(E102:E103)","v":9957.35}]
[]
[null,"MÓDULO 7 - DESTAQUE DO MÓDULO 2 - 13º SALÁRIO",null,null,"Percentuais","Valor"]
[null,null,"A","13º Salário",{"$f":"'Encargos Sociais'!E32*12/11","v":9.0872727272727272E-2},{"$f":"ROUND(E108*F$16,2)","v":369.78},null,"* Nota 1 - Incluindo-se a reincidência das férias do substituto sobre o titular"]
[null,null,"B","Encargos Sociais sobre o 13º Salário - Taxa calculada no SUBMÓDULO 2.2",{"$f":"SUM($E$24:$E$32)","v":0.35800000000000004},{"$f":"ROUND(E109*$F$108,2)","v":132.38},null,"* Nota 2 - 13º e reflexos calculados à parte a fim de aprovisionamento"]
[null,null,"C","BDI sobre o 13º Salário - Taxa calculada no MÓDULO 6",{"$f":"E94","v":0.2359},{"$f":"ROUND(E110*($F$108+$F$109),2)","v":118.46}]
[]
[null,null,null,"TOTAL DO DESTAQUE DO 13º SALÁRIO",null,{"$f":"SUM(F108:F110)","v":620.62}]
[]
[null,null,null,"QUADRO-RESUMO DO CUSTO MENSAL POR EMPREGADO","Valor"]
[null,null,null,"Custo total - sem o 13º Salário",{"$f":"ROUND(E105,2)","v":9957.35}]
[null,null,null,"Destaque do 13º Salário (valor mensal)",{"$f":"ROUND(F112,2)","v":620.62}]
[]
[null,null,null,"TOTAL DO POSTO",{"$f":"E115+E116","v":10577.970000000001}]

{"sheet":"7","index":10,"n_rows":118,"n_cols":8,"rows_kept":118,"cut":false,"hidden":false,"merged":[[106,1,106,3],[39,3,39,5],[46,1,46,3],[56,1,56,3],[68,3,68,5],[74,1,74,3],[83,1,83,3],[17,1,17,3],[1,1,1,5],[2,1,2,5],[4,1,4,2],[5,1,5,2],[7,1,7,3]]}
[]
[null,"PLANILHA DE ESTIMATIVA DE CUSTOS"]
[null,"Padrão IN 05/2017 e IN 07/2018 - MPDG"]
[]
[null,7,null,{"$f":"HLOOKUP($B$5,'Dados Gerais'!$D$6:$BI$22,6)","v":"OPERADOR ELETROMECÂNICO - EXPEDIENTE"},"QUANTIDADE",{"$f":"HLOOKUP($B$5,'Dados Gerais'!$D$6:$BI$22,10)","v":4}]
[null,"CCT",null,{"$f":"HLOOKUP($B$5,'Dados Gerais'!$D$6:$BI$22,16)","v":"SINDUSCON/DF x STICOMBE/DF \nCCT 2024/2025 - 2º TA - \nN.º DF000276/2024"},"DATA-BASE",{"$f":"HLOOKUP($B$5,'Dados Gerais'!$D$6:$BI$22,17)","v":"2024-05-01"}]
[]
[null,"MÓDULO 1 - COMPOSIÇÃO DA REMUNERAÇÃO",null,null,null,"Valor"]
[null,null,"A","Salário-Base",null,{"$f":"HLOOKUP($B$5,'Dados Gerais'!$D$6:$BI$22,8)","v":2727.34}]
[null,null,"B","Adicional de Periculosidade",null,{"$f":"HLOOKUP($B$5,'Dados Gerais'!$D$6:$BI$39,26)","v":0}]
[null,null,"C","Adicional de Insalubridade",null,{"$f":"HLOOKUP($B$5,'Dados Gerais'!$D$6:$BI$39,32)","v":303.60000000000002}]
[null,null,"D","Adicional Noturno",null,{"$f":"HLOOKUP($B$5,'Dados Gerais'!$D$6:$BI$52,47)","v":0},null,"* Nota 1 - O Módulo 1 refere-se ao valor mensal devido ao empregado pela prestação do serviço no período de 12 meses."]
[null,null,"E","Adicional de Hora Extra",null,{"$f":"HLOOKUP($B$5,'Dados Gerais'!$D$6:$BI$69,64)","v":0},null,"* Nota 2 - O adicional de hora extra no feriado trabalhado foi suprimido pela Lei 13.467/17"]
[null,null,"F","Outros (adicional de sobreaviso)",null,{"$f":"HLOOKUP($B$5,'Dados Gerais'!$D$6:$BI$69,34)","v":0},null,"* Nota 3 - ART. 7º, § 2º, DA LEI Nº 605/49.Sendo mensalista o obreiro, o adicional noturno pago de forma fixa já é considerado integrado para os efeitos do pagamento do repouso semanal remunerado, nos termos do art. 7º, § 2º, da Lei nº 605/49."]
[]
[null,null,null,"TOTAL DA REMUNERAÇÃO",null,{"$f":"SUM(F9:F14)","v":3030.94}]
[]
[null,"MÓDULO 2 - ENCARGOS E BENEFÍCIOS ANUAIS, MENSAIS E DIÁRIOS",null,null,"Percentuais","Valor"]
[null,"Submódulo 2.1 - 13º Salário, Férias e Adicional de Férias"]
[null,null,"A","13º Salário - Calculado no Módulo 7 - Destacado",0,{"$f":"ROUND(E20*F$16,2)","v":0}]
[null,null,"B","Adicional de Férias",{"$f":"'[1]Encargos Sociais'!E31","v":3.0300000000000001E-2},{"$f":"ROUND(E21*(F$16),2)","v":91.84},null,"* Nota 1 - O adicional de férias foi calculado dividindo-se por 11, para comportar os 11 meses presentes e ainda o ausente do posto"]
[]
[null,"Submódulo 2.2 - Encargos Previdenciários (GPS), Fundo de Garantia por Tempo de Serviço (FGTS) e Outras Contribuições"]
[null,null,"A","INSS (art. 22, inciso I, Lei nº 8.212/91)",{"$f":"'Encargos Sociais'!E14","v":0.2},{"$f":"ROUND(E24*($F$16+$F$41+$F$73),2)","v":691.78},null,"* Nota 1 - Os percentuais dos encargos previdenciários, do FGTS e demais contribuições são estabelecidos por legislação vigente."]
[null,null,"B","Salário Educação (art. 3º, inciso I, Decreto nº 87.043/82)",{"$f":"'Encargos Sociais'!E15","v":2.5000000000000001E-2},{"$f":"ROUND(E25*($F$16+$F$41+$F$73),2)","v":86.47},null,"* Nota 2 - O SAT, a depender do grau de risco do serviço, irá variar entre 1%, para risco leve, de 2%, para risco médio, e de 3% para risco grave."]
[null,null,"C","SAT/RAT (art. 22, II, Lei 8.212/91 e Anexo V, Decreto 6.042/07) - Enquadramento 8211-3/00",{"$f":"'Encargos Sociais'!E16","v":0.01},34.590000000000003,null,"* Nota 3 - Base de cálculo - remuneração + ausências + terço constitucional (férias)"]
[null,null,"D","SESC ou SESI (art. 30, Lei nº 8.036/90 e art. 1º, Lei 8.154/90)",{"$f":"'Encargos Sociais'!E17","v":1.4999999999999999E-2},51.88]
[null,null,"E","SENAI ou SENAC (Decreto nº 2.318/86)",{"$f":"'Encargos Sociais'!E18","v":0.01},34.590000000000003]
[null,null,"F","SEBRAE (§ 3º, art. 8º, Lei 8.029/90, alterada pela Lei nº 8.154/90)",{"$f":"'Encargos Sociais'!E19","v":6.0000000000000001E-3},20.75]
[null,null,"G","INCRA (art. 1º, I, Decreto Lei 1.146/70 e Lei 7.787, de 30/06/89)",{"$f":"'Encargos Sociais'!E20","v":2E-3},6.92]
[null,null,"H","FGTS (Lei Complementar nº 110/01 e art. 30, Lei nº 8.036/90)",{"$f":"'Encargos Sociais'!E21","v":0.08},276.70999999999998]
[null,null,"I","SECONCI (Convenções Coletivas de Trabalho da construção)",{"$f":"'Encargos Sociais'!E22","v":0.01},34.590000000000003]
[]
[null,"Submódulo 2.3 - Benefícios Mensais e Diários"]
[null,null,"A","Auxílio Transporte",null,{"$f":"HLOOKUP($B$5,'Dados Gerais'!$D$6:$BI$95,83)","v":539.97},null,"* Nota 1 - O valor informado deverá ser o custo real do benefício (descontado o valor eventualmente pago pelo empregado)."]
[null,null,"B","Auxílio Alimentação",null,{"$f":"HLOOKUP($B$5,'Dados Gerais'!$D$6:$BI$95,90)","v":910},null,"* Nota 2 - Observar a previsão dos benefícios contidos em Acordos, Convenções e Dissídios Coletivos de Trabalho e o disposto no art. 6º da IN 5/2017"]
[null,null,"C","Assistência Médica e Familiar",null,{"$f":"HLOOKUP($B$5,'Dados Gerais'!$D$6:$BI$103,98)","v":0}]
[null,null,"D","Outros (Seguro de vida, auxílio funeral, auxílio odontológico e auxílio creche)",null,{"$f":"HLOOKUP($B$5,'Dados Gerais'!$D$6:$BI$121,115)","v":13.95}]
[]
[null,null,null,"QUADRO-RESUMO DO MÓDULO 2"]
[null,null,null,"2.1 - 13º Salário, Férias e Adicional de Férias - 13º Destacado - Calculado no Módulo 7 ",{"$f":"SUM(E20:E21)","v":3.0300000000000001E-2},{"$f":"F20+F21","v":91.84}]
[null,null,null,"2.2 - Encargos Previdenciários (GPS), Fundo de Garantia por Tempo de Serviço (FGTS) e Contribuições",{"$f":"SUM(E24:E32)","v":0.35800000000000004},{"$f":"SUM(F24:F32)","v":1238.28}]
[null,null,null,"2.3 - Benefícios Mensais e Diários",null,{"$f":"SUM(F35:F38)","v":1463.92}]
[]
[null,null,null,"TOTAL DOS ENCARGOS E BENEFÍCIOS",null,{"$f":"SUM(F41:F43)","v":2794.04}]
[]
[null,"MÓDULO 3 - PREVISÃO PARA RESCISÃO",null,null,"Percentuais","Valor"]
[null,null,"A","Aviso Prévio Indenizado (Art. 7º, inciso XXI, da CF/1988 e arts. 477, 487, §1º, e 491 da CLT)",{"$f":"'Encargos Sociais'!E36","v":3.5000000000000001E-3},{"$f":"ROUND(E48*($F$16+$F$73+$F$41),2)","v":12.11},null,"* Nota 1 - Base de cálculo - remuneração + ausências + 1/3 férias"]
[null,null,"B","Incidência do FGTS sobre o Aviso Prévio Indenizado (Súmula 305 TST)",{"$f":"'Encargos Sociais'!E37","v":2.9999999999999997E-4},1.04]
[null,null,"C","Multa do FGTS e Contribuição Social sobre o Aviso Prévio Indenizado (Art. 18, §1º, da Lei 8.036/1990 e art. 1º da LC nº 110/2001)",{"$f":"'Encargos Sociais'!E38","v":1.1000000000000001E-3},3.8]
[null,null,"D","Aviso Prévio Trabalhado (Art. 488, parágrafo único, CLT)",{"$f":"'Encargos Sociais'!E39","v":7.7999999999999996E-3},26.98]
[null,null,"E","Incidência de GPS, FGTS e outras contribuições sobre o Aviso Prévio Trabalhado",{"$f":"'Encargos Sociais'!E40","v":2.8E-3},9.68]
[null,null,"F","Multa do FGTS e Contribuição Social sobre o Aviso Prévio Trabalhado",{"$f":"'Encargos Sociais'!E41","v":3.09E-2},106.88]
[]
[null,null,null,"TOTAL DE PREVISÃO PARA RESCISÃO",null,{"$f":"SUM(F48:F53)","v":160.49}]
[]
[null,"MÓDULO 4 - CUSTO DO PROFISSIONAL AUSENTE",null,null,"Percentuais","Valor"]
[null,"Submódulo 4.1 - Ausências Legais"]
[null,null,"A","Férias (Arts. 129 e 130, inc. I, da CLT)",{"$f":"'Encargos Sociais'!E25","v":9.0899999999999995E-2},{"$f":"ROUND(E59*$F$16,2)","v":275.51},null,"* Nota 1 - O Módulo 4 refere-se às previsões para custear ausências do próprio profissional (titular do cargo)"]
[null,null,"B","Ausências Legais (Arts. 131 e 473 da CLT)",{"$f":"'Encargos Sociais'!E26","v":7.9000000000000008E-3},23.94,null,"* Nota 2 - As férias foram calculadas dividindo-se por 11, para comportar os 11 meses presentes e ainda o ausente do posto"]
[null,null,"C","Licença-Paternidade (Art. 7º, XIX, e art. 10, §1º, do ADCT, CF/1988 e Art. 1º, II, da Lei 11.770/2008)",{"$f":"'Encargos Sociais'!E27","v":8.0000000000000004E-4},2.42]
[null,null,"D","Ausência por Acidente de Trabalho (Art. 131, III, da CLT)",{"$f":"'Encargos Sociais'!E28","v":8.9999999999999998E-4},2.73]
[null,null,"E","Afastamento Maternidade (Art. 71 da Lei nº 8.213/1991)",{"$f":"'Encargos Sociais'!E29","v":3.3E-3},10]
[null,null,"F","Auxílio Enfermidade - Doença (Art. 59 da Lei nº 8.213/1991)",{"$f":"'Encargos Sociais'!E30","v":7.1000000000000004E-3},21.52]
[]
[null,"Submódulo 4.2 - Intrajornada"]
[null,null,"A","Intervalo para repouso ou alimentação",{"$f":"'Encargos Sociais'!E33","v":0},{"$f":"ROUND(E67*$F$16,2)","v":0}]
[]
[null,null,null,"QUADRO-RESUMO DO MÓDULO 4",null,"Valor"]
[null,null,null,"4.1 - Ausências Legais",{"$f":"SUM(E59:E64)","v":0.11089999999999998},{"$f":"ROUND(E70*$F$16,2)","v":336.13}]
[null,null,null,"4.2 - Intrajornada",{"$f":"E67","v":0},{"$f":"ROUND(E71*$F$16,2)","v":0}]
[]
[null,null,null,"TOTAL DE PREVISÃO PARA RESCISÃO E INTERVALO INTRAJORNADA",null,{"$f":"SUM(F70:F71)","v":336.13}]
[]
[null,"MÓDULO 5 - INSUMOS DIVERSOS",null,null,null,"Valor"]
[null,null,"A","Uniformes - aquisição",null,0]
[null,null,"B","Materiais de consumo relacionados ao posto - aquisição",null,0]
[null,null,"C","Ferramentas relacionadas ao posto - remuneração da sua depreciação / manutenção",null,0]
[null,null,"D","Equipamentos relacionados ao posto - remuneração da sua depreciação / manutenção",null,0]
[null,null,"E","Equipamentos de Proteção Individual - EPI - aquisição",null,{"$f":"'EPI - Rel'!J141","v":42.25}]
[]
[null,null,null,"TOTAL DE INSUMOS DIVERSOS",null,{"$f":"SUM(F76:F81)","v":42.25},null,"* Nota - Valores mensais por empregado"]
[]
[null,"MÓDULO 6 - CUSTOS INDIRETOS, TRIBUTOS E LUCRO - BDI",null,null,"Percentuais","Valor"]
[null,null,"A","Custos Indiretos",{"$f":"'BDI - Geral'!E7","v":3.5700000000000003E-2}]
[null,null,"A.1","Administração Central",{"$f":"'BDI - Geral'!E8","v":3.0300000000000001E-2}]
[null,null,"A.2","Seguros, Garantias e Riscos",{"$f":"'BDI - Geral'!E9","v":5.4000000000000003E-3}]
[null,null,"B","Lucro",{"$f":"'BDI - Geral'!E11","v":0.04}]
[null,null,"C","Tributos",{"$f":"SUM(E90:E91)","v":0.124}]
[null,null,"C.1","Tributos Federais (COFINS, PIS e CPRB)",{"$f":"'BDI - Geral'!E19","v":7.3999999999999996E-2}]
[null,null,"C.2","Tributos Distritais (ISS)",{"$f":"'BDI - Geral'!E24","v":0.05}]
[null,null,"D","Despesas Financeiras",{"$f":"'BDI - Geral'!E14","v":5.1000000000000004E-3}]
[]
[null,null,null,"TOTAL DE BDI",{"$f":"'BDI - Geral'!E27","v":0.2359},{"$f":"ROUND(E94*E102,2)","v":1501.23}]
[]
[null,null,null,"QUADRO-RESUMO DO CUSTO MENSAL POR EMPREGADO - SEM O 13º","Valor"]
[null,null,null,"Módulo 1 - Composição da Remuneração",{"$f":"F16","v":3030.94}]
[null,null,null,"Módulo 2 - Encargos e Benefícios Anuais, Mensais e Diários",{"$f":"F45","v":2794.04}]
[null,null,null,"Módulo 3 - Provisão para Rescisão",{"$f":"F55","v":160.49}]
[null,null,null,"Módulo 4 - Custo de Reposição do Profissional Ausente",{"$f":"F73","v":336.13}]
[null,null,null,"Módulo 5 - Insumos Diversos",{"$f":"F82","v":42.25}]
[null,null,null,"SUBTOTAL (A+B+C+D+E)",{"$f":"SUM(E97:E101)","v":6363.8499999999995}]
[null,null,null,"Módulo 6 - Custos Indiretos, Tributos e Lucro",{"$f":"F94","v":1501.23}]
[]
[null,null,null,"TOTAL DO POSTO",{"$f":"SUM(E102:E103)","v":7865.08}]
[]
[null,"MÓDULO 7 - DESTAQUE DO MÓDULO 2 - 13º SALÁRIO",null,null,"Percentuais","Valor"]
[null,null,"A","13º Salário",{"$f":"'Encargos Sociais'!E32*12/11","v":9.0872727272727272E-2},{"$f":"ROUND(E108*F$16,2)","v":275.43},null,"* Nota 1 - Incluindo-se a reincidência das férias do substituto sobre o titular"]
[null,null,"B","Encargos Sociais sobre o 13º Salário - Taxa calculada no SUBMÓDULO 2.2",{"$f":"SUM($E$24:$E$32)","v":0.35800000000000004},{"$f":"ROUND(E109*$F$108,2)","v":98.6},null,"* Nota 2 - 13º e reflexos calculados à parte a fim de aprovisionamento"]
[null,null,"C","BDI sobre o 13º Salário - Taxa calculada no MÓDULO 6",{"$f":"E94","v":0.2359},{"$f":"ROUND(E110*($F$108+$F$109),2)","v":88.23}]
[]
[null,null,null,"TOTAL DO DESTAQUE DO 13º SALÁRIO",null,{"$f":"SUM(F108:F110)","v":462.26}]
[]
[null,null,null,"QUADRO-RESUMO DO CUSTO MENSAL POR EMPREGADO","Valor"]
[null,null,null,"Custo total - sem o 13º Salário",{"$f":"ROUND(E105,2)","v":7865.08}]
[null,null,null,"Destaque do 13º Salário (valor mensal)",{"$f":"ROUND(F112,2)","v":462.26}]
[]
[null,null,null,"TOTAL DO POSTO",{"$f":"E115+E116","v":8327.34}]

{"sheet":"8","index":11,"n_rows":118,"n_cols":8,"rows_kept":118,"cut":false,"hidden":false,"merged":[[106,1,106,3],[39,3,39,5],[46,1,46,3],[56,1,56,3],[68,3,68,5],[74,1,74,3],[83,1,83,3],[17,1,17,3],[1,1,1,5],[2,1,2,5],[4,1,4,2],[5,1,5,2],[7,1,7,3]]}
[]
[null,"PLANILHA DE ESTIMATIVA DE CUSTOS"]
[null,"Padrão IN 05/2017 e IN 07/2018 - MPDG"]
[]
[null,8,null,{"$f":"HLOOKUP($B$5,'Dados Gerais'!$D$6:$BI$22,6)","v":"OPERADOR ELETROMECÂNICO – PLANTONISTA DIURNO"},"QUANTIDADE",{"$f":"HLOOKUP($B$5,'Dados Gerais'!$D$6:$BI$22,10)","v":6}]
[null,"CCT",null,{"$f":"HLOOKUP($B$5,'Dados Gerais'!$D$6:$BI$22,16)","v":"SINDUSCON/DF x STICOMBE/DF \nCCT 2024/2025 - 2º TA - \nN.º DF000276/2024"},"DATA-BASE",{"$f":"HLOOKUP($B$5,'Dados Gerais'!$D$6:$BI$22,17)","v":"2024-05-01"}]
[]
[null,"MÓDULO 1 - COMPOSIÇÃO DA REMUNERAÇÃO",null,null,null,"Valor"]
[null,null,"A","Salário-Base",null,{"$f":"HLOOKUP($B$5,'Dados Gerais'!$D$6:$BI$22,8)","v":2727.34}]
[null,null,"B","Adicional de Periculosidade",null,{"$f":"HLOOKUP($B$5,'Dados Gerais'!$D$6:$BI$39,26)","v":0}]
[null,null,"C","Adicional de Insalubridade",null,{"$f":"HLOOKUP($B$5,'Dados Gerais'!$D$6:$BI$39,32)","v":303.60000000000002}]
[null,null,"D","Adicional Noturno",null,{"$f":"HLOOKUP($B$5,'Dados Gerais'!$D$6:$BI$52,47)","v":0},null,"* Nota 1 - O Módulo 1 refere-se ao valor mensal devido ao empregado pela prestação do serviço no período de 12 meses."]
[null,null,"E","Adicional de Hora Extra",null,{"$f":"HLOOKUP($B$5,'Dados Gerais'!$D$6:$BI$69,64)","v":0},null,"* Nota 2 - O adicional de hora extra no feriado trabalhado foi suprimido pela Lei 13.467/17"]
[null,null,"F","Outros (adicional de sobreaviso)",null,{"$f":"HLOOKUP($B$5,'Dados Gerais'!$D$6:$BI$69,34)","v":0},null,"* Nota 3 - ART. 7º, § 2º, DA LEI Nº 605/49.Sendo mensalista o obreiro, o adicional noturno pago de forma fixa já é considerado integrado para os efeitos do pagamento do repouso semanal remunerado, nos termos do art. 7º, § 2º, da Lei nº 605/49."]
[]
[null,null,null,"TOTAL DA REMUNERAÇÃO",null,{"$f":"SUM(F9:F14)","v":3030.94}]
[]
[null,"MÓDULO 2 - ENCARGOS E BENEFÍCIOS ANUAIS, MENSAIS E DIÁRIOS",null,null,"Percentuais","Valor"]
[null,"Submódulo 2.1 - 13º Salário, Férias e Adicional de Férias"]
[null,null,"A","13º Salário - Calculado no Módulo 7 - Destacado",0,{"$f":"ROUND(E20*F$16,2)","v":0}]
[null,null,"B","Adicional de Férias",{"$f":"'[1]Encargos Sociais'!E31","v":3.0300000000000001E-2},{"$f":"ROUND(E21*(F$16),2)","v":91.84},null,"* Nota 1 - O adicional de férias foi calculado dividindo-se por 11, para comportar os 11 meses presentes e ainda o ausente do posto"]
[]
[null,"Submódulo 2.2 - Encargos Previdenciários (GPS), Fundo de Garantia por Tempo de Serviço (FGTS) e Outras Contribuições"]
[null,null,"A","INSS (art. 22, inciso I, Lei nº 8.212/91)",{"$f":"'Encargos Sociais'!E14","v":0.2},{"$f":"ROUND(E24*($F$16+$F$41+$F$73),2)","v":711.99},null,"* Nota 1 - Os percentuais dos encargos previdenciários, do FGTS e demais contribuições são estabelecidos por legislação vigente."]
[null,null,"B","Salário Educação (art. 3º, inciso I, Decreto nº 87.043/82)",{"$f":"'Encargos Sociais'!E15","v":2.5000000000000001E-2},{"$f":"ROUND(E25*($F$16+$F$41+$F$73),2)","v":89},null,"* Nota 2 - O SAT, a depender do grau de risco do serviço, irá variar entre 1%, para risco leve, de 2%, para risco médio, e de 3% para risco grave."]
[null,null,"C","SAT/RAT (art. 22, II, Lei 8.212/91 e Anexo V, Decreto 6.042/07) - Enquadramento 8211-3/00",{"$f":"'Encargos Sociais'!E16","v":0.01},35.6,null,"* Nota 3 - Base de cálculo - remuneração + ausências + terço constitucional (férias)"]
[null,null,"D","SESC ou SESI (art. 30, Lei nº 8.036/90 e art. 1º, Lei 8.154/90)",{"$f":"'Encargos Sociais'!E17","v":1.4999999999999999E-2},53.4]
[null,null,"E","SENAI ou SENAC (Decreto nº 2.318/86)",{"$f":"'Encargos Sociais'!E18","v":0.01},35.6]
[null,null,"F","SEBRAE (§ 3º, art. 8º, Lei 8.029/90, alterada pela Lei nº 8.154/90)",{"$f":"'Encargos Sociais'!E19","v":6.0000000000000001E-3},21.36]
[null,null,"G","INCRA (art. 1º, I, Decreto Lei 1.146/70 e Lei 7.787, de 30/06/89)",{"$f":"'Encargos Sociais'!E20","v":2E-3},7.12]
[null,null,"H","FGTS (Lei Complementar nº 110/01 e art. 30, Lei nº 8.036/90)",{"$f":"'Encargos Sociais'!E21","v":0.08},284.8]
[null,null,"I","SECONCI (Convenções Coletivas de Trabalho da construção)",{"$f":"'Encargos Sociais'!E22","v":0.01},35.6]
[]
[null,"Submódulo 2.3 - Benefícios Mensais e Diários"]
[null,null,"A","Auxílio Transporte",null,{"$f":"HLOOKUP($B$5,'Dados Gerais'!$D$6:$BI$95,83)","v":311.52},null,"* Nota 1 - O valor informado deverá ser o custo real do benefício (descontado o valor eventualmente pago pelo empregado)."]
[null,null,"B","Auxílio Alimentação",null,{"$f":"HLOOKUP($B$5,'Dados Gerais'!$D$6:$BI$95,90)","v":525},null,"* Nota 2 - Observar a previsão dos benefícios contidos em Acordos, Convenções e Dissídios Coletivos de Trabalho e o disposto no art. 6º da IN 5/2017"]
[null,null,"C","Assistência Médica e Familiar",null,{"$f":"HLOOKUP($B$5,'Dados Gerais'!$D$6:$BI$103,98)","v":0}]
[null,null,"D","Outros (Seguro de vida, auxílio funeral, auxílio odontológico e auxílio creche)",null,{"$f":"HLOOKUP($B$5,'Dados Gerais'!$D$6:$BI$121,115)","v":13.95}]
[]
[null,null,null,"QUADRO-RESUMO DO MÓDULO 2"]
[null,null,null,"2.1 - 13º Salário, Férias e Adicional de Férias - 13º Destacado - Calculado no Módulo 7 ",{"$f":"SUM(E20:E21)","v":3.0300000000000001E-2},{"$f":"F20+F21","v":91.84}]
[null,null,null,"2.2 - Encargos Previdenciários (GPS), Fundo de Garantia por Tempo de Serviço (FGTS) e Contribuições",{"$f":"SUM(E24:E32)","v":0.35800000000000004},{"$f":"SUM(F24:F32)","v":1274.47}]
[null,null,null,"2.3 - Benefícios Mensais e Diários",null,{"$f":"SUM(F35:F38)","v":850.47}]
[]
[null,null,null,"TOTAL DOS ENCARGOS E BENEFÍCIOS",null,{"$f":"SUM(F41:F43)","v":2216.7799999999997}]
[]
[null,"MÓDULO 3 - PREVISÃO PARA RESCISÃO",null,null,"Percentuais","Valor"]
[null,null,"A","Aviso Prévio Indenizado (Art. 7º, inciso XXI, da CF/1988 e arts. 477, 487, §1º, e 491 da CLT)",{"$f":"'Encargos Sociais'!E36","v":3.5000000000000001E-3},{"$f":"ROUND(E48*($F$16+$F$73+$F$41),2)","v":12.46},null,"* Nota 1 - Base de cálculo - remuneração + ausências + 1/3 férias"]
[null,null,"B","Incidência do FGTS sobre o Aviso Prévio Indenizado (Súmula 305 TST)",{"$f":"'Encargos Sociais'!E37","v":2.9999999999999997E-4},1.07]
[null,null,"C","Multa do FGTS e Contribuição Social sobre o Aviso Prévio Indenizado (Art. 18, §1º, da Lei 8.036/1990 e art. 1º da LC nº 110/2001)",{"$f":"'Encargos Sociais'!E38","v":1.1000000000000001E-3},3.92]
[null,null,"D","Aviso Prévio Trabalhado (Art. 488, parágrafo único, CLT)",{"$f":"'Encargos Sociais'!E39","v":7.7999999999999996E-3},27.77]
[null,null,"E","Incidência de GPS, FGTS e outras contribuições sobre o Aviso Prévio Trabalhado",{"$f":"'Encargos Sociais'!E40","v":2.8E-3},9.9700000000000006]
[null,null,"F","Multa do FGTS e Contribuição Social sobre o Aviso Prévio Trabalhado",{"$f":"'Encargos Sociais'!E41","v":3.09E-2},110]
[]
[null,null,null,"TOTAL DE PREVISÃO PARA RESCISÃO",null,{"$f":"SUM(F48:F53)","v":165.19}]
[]
[null,"MÓDULO 4 - CUSTO DO PROFISSIONAL AUSENTE",null,null,"Percentuais","Valor"]
[null,"Submódulo 4.1 - Ausências Legais"]
[null,null,"A","Férias (Arts. 129 e 130, inc. I, da CLT)",{"$f":"'Encargos Sociais'!E25","v":9.0899999999999995E-2},{"$f":"ROUND(E59*$F$16,2)","v":275.51},null,"* Nota 1 - O Módulo 4 refere-se às previsões para custear ausências do próprio profissional (titular do cargo)"]
[null,null,"B","Ausências Legais (Arts. 131 e 473 da CLT)",{"$f":"'Encargos Sociais'!E26","v":7.9000000000000008E-3},23.94,null,"* Nota 2 - As férias foram calculadas dividindo-se por 11, para comportar os 11 meses presentes e ainda o ausente do posto"]
[null,null,"C","Licença-Paternidade (Art. 7º, XIX, e art. 10, §1º, do ADCT, CF/1988 e Art. 1º, II, da Lei 11.770/2008)",{"$f":"'Encargos Sociais'!E27","v":8.0000000000000004E-4},2.42]
[null,null,"D","Ausência por Acidente de Trabalho (Art. 131, III, da CLT)",{"$f":"'Encargos Sociais'!E28","v":8.9999999999999998E-4},2.73]
[null,null,"E","Afastamento Maternidade (Art. 71 da Lei nº 8.213/1991)",{"$f":"'Encargos Sociais'!E29","v":3.3E-3},10]
[null,null,"F","Auxílio Enfermidade - Doença (Art. 59 da Lei nº 8.213/1991)",{"$f":"'Encargos Sociais'!E30","v":7.1000000000000004E-3},21.52]
[]
[null,"Submódulo 4.2 - Feriados remunerados"]
[null,null,"I","Feriados remunerados (plantonistas)",{"$f":"'Encargos Sociais - Plant'!E33","v":3.3333333333333333E-2},{"$f":"ROUND(E67*$F$16,2)","v":101.03}]
[]
[null,null,null,"QUADRO-RESUMO DO MÓDULO 4",null,"Valor"]
[null,null,null,"4.1 - Ausências Legais",{"$f":"SUM(E59:E64)","v":0.11089999999999998},{"$f":"ROUND(E70*$F$16,2)","v":336.13}]
[null,null,null,"4.2 - Feriados remunerados (plantonistas)",{"$f":"E67","v":3.3333333333333333E-2},{"$f":"ROUND(E71*$F$16,2)","v":101.03}]
[]
[null,null,null,"TOTAL DE PREVISÃO PARA RESCISÃO E INTERVALO INTRAJORNADA",null,{"$f":"SUM(F70:F71)","v":437.15999999999997}]
[]
[null,"MÓDULO 5 - INSUMOS DIVERSOS",null,null,null,"Valor"]
[null,null,"A","Uniformes - aquisição",null,0]
[null,null,"B","Materiais de consumo relacionados ao posto - aquisição",null,0]
[null,null,"C","Ferramentas relacionadas ao posto - remuneração da sua depreciação / manutenção",null,0]
[null,null,"D","Equipamentos relacionados ao posto - remuneração da sua depreciação / manutenção",null,0]
[null,null,"E","Equipamentos de Proteção Individual - EPI - aquisição",null,{"$f":"'EPI - Rel'!J141","v":42.25}]
[]
[null,null,null,"TOTAL DE INSUMOS DIVERSOS",null,{"$f":"SUM(F76:F81)","v":42.25},null,"* Nota - Valores mensais por empregado"]
[]
[null,"MÓDULO 6 - CUSTOS INDIRETOS, TRIBUTOS E LUCRO - BDI",null,null,"Percentuais","Valor"]
[null,null,"A","Custos Indiretos",{"$f":"'BDI - Geral'!E7","v":3.5700000000000003E-2}]
[null,null,"A.1","Administração Central",{"$f":"'BDI - Geral'!E8","v":3.0300000000000001E-2}]
[null,null,"A.2","Seguros, Garantias e Riscos",{"$f":"'BDI - Geral'!E9","v":5.4000000000000003E-3}]
[null,null,"B","Lucro",{"$f":"'BDI - Geral'!E11","v":0.04}]
[null,null,"C","Tributos",{"$f":"SUM(E90:E91)","v":0.124}]
[null,null,"C.1","Tributos Federais (COFINS, PIS e CPRB)",{"$f":"'BDI - Geral'!E19","v":7.3999999999999996E-2}]
[null,null,"C.2","Tributos Distritais (ISS)",{"$f":"'BDI - Geral'!E24","v":0.05}]
[null,null,"D","Despesas Financeiras",{"$f":"'BDI - Geral'!E14","v":5.1000000000000004E-3}]
[]
[null,null,null,"TOTAL DE BDI",{"$f":"'BDI - Geral'!E27","v":0.2359},{"$f":"ROUND(E94*E102,2)","v":1390}]
[]
[null,null,null,"QUADRO-RESUMO DO CUSTO MENSAL POR EMPREGADO - SEM O 13º","Valor"]
[null,null,null,"Módulo 1 - Composição da Remuneração",{"$f":"F16","v":3030.94}]
[null,null,null,"Módulo 2 - Encargos e Benefícios Anuais, Mensais e Diários",{"$f":"F45","v":2216.7799999999997}]
[null,null,null,"Módulo 3 - Provisão para Rescisão",{"$f":"F55","v":165.19}]
[null,null,null,"Módulo 4 - Custo de Reposição do Profissional Ausente",{"$f":"F73","v":437.15999999999997}]
[null,null,null,"Módulo 5 - Insumos Diversos",{"$f":"F82","v":42.25}]
[null,null,null,"SUBTOTAL (A+B+C+D+E)",{"$f":"SUM(E97:E101)","v":5892.3199999999988}]
[null,null,null,"Módulo 6 - Custos Indiretos, Tributos e Lucro",{"$f":"F94","v":1390}]
[]
[null,null,null,"TOTAL DO POSTO",{"$f":"SUM(E102:E103)","v":7282.3199999999988}]
[]
[null,"MÓDULO 7 - DESTAQUE DO MÓDULO 2 - 13º SALÁRIO",null,null,"Percentuais","Valor"]
[null,null,"A","13º Salário",{"$f":"'Encargos Sociais'!E32*12/11","v":9.0872727272727272E-2},{"$f":"ROUND(E108*F$16,2)","v":275.43},null,"* Nota 1 - Incluindo-se a reincidência das férias do substituto sobre o titular"]
[null,null,"B","Encargos Sociais sobre o 13º Salário - Taxa calculada no SUBMÓDULO 2.2",{"$f":"SUM($E$24:$E$32)","v":0.35800000000000004},{"$f":"ROUND(E109*$F$108,2)","v":98.6},null,"* Nota 2 - 13º e reflexos calculados à parte a fim de aprovisionamento"]
[null,null,"C","BDI sobre o 13º Salário - Taxa calculada no MÓDULO 6",{"$f":"E94","v":0.2359},{"$f":"ROUND(E110*($F$108+$F$109),2)","v":88.23}]
[]
[null,null,null,"TOTAL DO DESTAQUE DO 13º SALÁRIO",null,{"$f":"SUM(F108:F110)","v":462.26}]
[]
[null,null,null,"QUADRO-RESUMO DO CUSTO MENSAL POR EMPREGADO","Valor"]
[null,null,null,"Custo total - sem o 13º Salário",{"$f":"ROUND(E105,2)","v":7282.32}]
[null,null,null,"Destaque do 13º Salário (valor mensal)",{"$f":"ROUND(F112,2)","v":462.26}]
[]
[null,null,null,"TOTAL DO POSTO",{"$f":"E115+E116","v":7744.58}]

{"sheet":"9","index":12,"n_rows":118,"n_cols":8,"rows_kept":118,"cut":false,"hidden":false,"merged":[[106,1,106,3],[39,3,39,5],[46,1,46,3],[56,1,56,3],[68,3,68,5],[74,1,74,3],[83,1,83,3],[17,1,17,3],[1,1,1,5],[2,1,2,5],[4,1,4,2],[5,1,5,2],[7,1,7,3]]}
[]
[null,"PLANILHA DE ESTIMATIVA DE CUSTOS"]
[null,"Padrão IN 05/2017 e IN 07/2018 - MPDG"]
[]
[null,9,null,{"$f":"HLOOKUP($B$5,'Dados Gerais'!$D$6:$BI$22,6)","v":"OPERADOR ELETROMECÂNICO – PLANTONISTA NOTURNO"},"QUANTIDADE",{"$f":"HLOOKUP($B$5,'Dados Gerais'!$D$6:$BI$22,10)","v":6}]
[null,"CCT",null,{"$f":"HLOOKUP($B$5,'Dados Gerais'!$D$6:$BI$22,16)","v":"SINDUSCON/DF x STICOMBE/DF \nCCT 2024/2025 - 2º TA - \nN.º DF000276/2024"},"DATA-BASE",{"$f":"HLOOKUP($B$5,'Dados Gerais'!$D$6:$BI$22,17)","v":"2024-05-01"}]
[]
[null,"MÓDULO 1 - COMPOSIÇÃO DA REMUNERAÇÃO",null,null,null,"Valor"]
[null,null,"A","Salário-Base",null,{"$f":"HLOOKUP($B$5,'Dados Gerais'!$D$6:$BI$22,8)","v":2727.34}]
[null,null,"B","Adicional de Periculosidade",null,{"$f":"HLOOKUP($B$5,'Dados Gerais'!$D$6:$BI$39,26)","v":0}]
[null,null,"C","Adicional de Insalubridade",null,{"$f":"HLOOKUP($B$5,'Dados Gerais'!$D$6:$BI$39,32)","v":303.60000000000002}]
[null,null,"D","Adicional Noturno",null,{"$f":"HLOOKUP($B$5,'Dados Gerais'!$D$6:$BI$52,47)","v":289.32},null,"* Nota 1 - O Módulo 1 refere-se ao valor mensal devido ao empregado pela prestação do serviço no período de 12 meses."]
[null,null,"E","Adicional de Hora Extra",null,{"$f":"HLOOKUP($B$5,'Dados Gerais'!$D$6:$BI$69,64)","v":0},null,"* Nota 2 - O adicional de hora extra no feriado trabalhado foi suprimido pela Lei 13.467/17"]
[null,null,"F","Outros (adicional de sobreaviso)",null,{"$f":"HLOOKUP($B$5,'Dados Gerais'!$D$6:$BI$69,34)","v":0},null,"* Nota 3 - ART. 7º, § 2º, DA LEI Nº 605/49.Sendo mensalista o obreiro, o adicional noturno pago de forma fixa já é considerado integrado para os efeitos do pagamento do repouso semanal remunerado, nos termos do art. 7º, § 2º, da Lei nº 605/49."]
[]
[null,null,null,"TOTAL DA REMUNERAÇÃO",null,{"$f":"SUM(F9:F14)","v":3320.26}]
[]
[null,"MÓDULO 2 - ENCARGOS E BENEFÍCIOS ANUAIS, MENSAIS E DIÁRIOS",null,null,"Percentuais","Valor"]
[null,"Submódulo 2.1 - 13º Salário, Férias e Adicional de Férias"]
[null,null,"A","13º Salário - Calculado no Módulo 7 - Destacado",0,{"$f":"ROUND(E20*F$16,2)","v":0}]
[null,null,"B","Adicional de Férias",{"$f":"'[1]Encargos Sociais'!E31","v":3.0300000000000001E-2},{"$f":"ROUND(E21*(F$16),2)","v":100.6},null,"* Nota 1 - O adicional de férias foi calculado dividindo-se por 11, para comportar os 11 meses presentes e ainda o ausente do posto"]
[]
[null,"Submódulo 2.2 - Encargos Previdenciários (GPS), Fundo de Garantia por Tempo de Serviço (FGTS) e Outras Contribuições"]
[null,null,"A","INSS (art. 22, inciso I, Lei nº 8.212/91)",{"$f":"'Encargos Sociais'!E14","v":0.2},{"$f":"ROUND(E24*($F$16+$F$41+$F$73),2)","v":779.95},null,"* Nota 1 - Os percentuais dos encargos previdenciários, do FGTS e demais contribuições são estabelecidos por legislação vigente."]
[null,null,"B","Salário Educação (art. 3º, inciso I, Decreto nº 87.043/82)",{"$f":"'Encargos Sociais'!E15","v":2.5000000000000001E-2},{"$f":"ROUND(E25*($F$16+$F$41+$F$73),2)","v":97.49},null,"* Nota 2 - O SAT, a depender do grau de risco do serviço, irá variar entre 1%, para risco leve, de 2%, para risco médio, e de 3% para risco grave."]
[null,null,"C","SAT/RAT (art. 22, II, Lei 8.212/91 e Anexo V, Decreto 6.042/07) - Enquadramento 8211-3/00",{"$f":"'Encargos Sociais'!E16","v":0.01},39,null,"* Nota 3 - Base de cálculo - remuneração + ausências + terço constitucional (férias)"]
[null,null,"D","SESC ou SESI (art. 30, Lei nº 8.036/90 e art. 1º, Lei 8.154/90)",{"$f":"'Encargos Sociais'!E17","v":1.4999999999999999E-2},58.5]
[null,null,"E","SENAI ou SENAC (Decreto nº 2.318/86)",{"$f":"'Encargos Sociais'!E18","v":0.01},39]
[null,null,"F","SEBRAE (§ 3º, art. 8º, Lei 8.029/90, alterada pela Lei nº 8.154/90)",{"$f":"'Encargos Sociais'!E19","v":6.0000000000000001E-3},23.4]
[null,null,"G","INCRA (art. 1º, I, Decreto Lei 1.146/70 e Lei 7.787, de 30/06/89)",{"$f":"'Encargos Sociais'!E20","v":2E-3},7.8]
[null,null,"H","FGTS (Lei Complementar nº 110/01 e art. 30, Lei nº 8.036/90)",{"$f":"'Encargos Sociais'!E21","v":0.08},311.98]
[null,null,"I","SECONCI (Convenções Coletivas de Trabalho da construção)",{"$f":"'Encargos Sociais'!E22","v":0.01},39]
[]
[null,"Submódulo 2.3 - Benefícios Mensais e Diários"]
[null,null,"A","Auxílio Transporte",null,{"$f":"HLOOKUP($B$5,'Dados Gerais'!$D$6:$BI$95,83)","v":311.52},null,"* Nota 1 - O valor informado deverá ser o custo real do benefício (descontado o valor eventualmente pago pelo empregado)."]
[null,null,"B","Auxílio Alimentação",null,{"$f":"HLOOKUP($B$5,'Dados Gerais'!$D$6:$BI$95,90)","v":525},null,"* Nota 2 - Observar a previsão dos benefícios contidos em Acordos, Convenções e Dissídios Coletivos de Trabalho e o disposto no art. 6º da IN 5/2017"]
[null,null,"C","Assistência Médica e Familiar",null,{"$f":"HLOOKUP($B$5,'Dados Gerais'!$D$6:$BI$103,98)","v":0}]
[null,null,"D","Outros (Seguro de vida, auxílio funeral, auxílio odontológico e auxílio creche)",null,{"$f":"HLOOKUP($B$5,'Dados Gerais'!$D$6:$BI$121,115)","v":13.95}]
[]
[null,null,null,"QUADRO-RESUMO DO MÓDULO 2"]
[null,null,null,"2.1 - 13º Salário, Férias e Adicional de Férias - 13º Destacado - Calculado no Módulo 7 ",{"$f":"SUM(E20:E21)","v":3.0300000000000001E-2},{"$f":"F20+F21","v":100.6}]
[null,null,null,"2.2 - Encargos Previdenciários (GPS), Fundo de Garantia por Tempo de Serviço (FGTS) e Contribuições",{"$f":"SUM(E24:E32)","v":0.35800000000000004},{"$f":"SUM(F24:F32)","v":1396.1200000000001}]
[null,null,null,"2.3 - Benefícios Mensais e Diários",null,{"$f":"SUM(F35:F38)","v":850.47}]
[]
[null,null,null,"TOTAL DOS ENCARGOS E BENEFÍCIOS",null,{"$f":"SUM(F41:F43)","v":2347.19}]
[]
[null,"MÓDULO 3 - PREVISÃO PARA RESCISÃO",null,null,"Percentuais","Valor"]
[null,null,"A","Aviso Prévio Indenizado (Art. 7º, inciso XXI, da CF/1988 e arts. 477, 487, §1º, e 491 da CLT)",{"$f":"'Encargos Sociais'!E36","v":3.5000000000000001E-3},{"$f":"ROUND(E48*($F$16+$F$73+$F$41),2)","v":13.65},null,"* Nota 1 - Base de cálculo - remuneração + ausências + 1/3 férias"]
[null,null,"B","Incidência do FGTS sobre o Aviso Prévio Indenizado (Súmula 305 TST)",{"$f":"'Encargos Sociais'!E37","v":2.9999999999999997E-4},1.17]
[null,null,"C","Multa do FGTS e Contribuição Social sobre o Aviso Prévio Indenizado (Art. 18, §1º, da Lei 8.036/1990 e art. 1º da LC nº 110/2001)",{"$f":"'Encargos Sociais'!E38","v":1.1000000000000001E-3},4.29]
[null,null,"D","Aviso Prévio Trabalhado (Art. 488, parágrafo único, CLT)",{"$f":"'Encargos Sociais'!E39","v":7.7999999999999996E-3},30.42]
[null,null,"E","Incidência de GPS, FGTS e outras contribuições sobre o Aviso Prévio Trabalhado",{"$f":"'Encargos Sociais'!E40","v":2.8E-3},10.92]
[null,null,"F","Multa do FGTS e Contribuição Social sobre o Aviso Prévio Trabalhado",{"$f":"'Encargos Sociais'!E41","v":3.09E-2},120.5]
[]
[null,null,null,"TOTAL DE PREVISÃO PARA RESCISÃO",null,{"$f":"SUM(F48:F53)","v":180.95}]
[]
[null,"MÓDULO 4 - CUSTO DO PROFISSIONAL AUSENTE",null,null,"Percentuais","Valor"]
[null,"Submódulo 4.1 - Ausências Legais"]
[null,null,"A","Férias (Arts. 129 e 130, inc. I, da CLT)",{"$f":"'Encargos Sociais'!E25","v":9.0899999999999995E-2},{"$f":"ROUND(E59*$F$16,2)","v":301.81},null,"* Nota 1 - O Módulo 4 refere-se às previsões para custear ausências do próprio profissional (titular do cargo)"]
[null,null,"B","Ausências Legais (Arts. 131 e 473 da CLT)",{"$f":"'Encargos Sociais'!E26","v":7.9000000000000008E-3},26.23,null,"* Nota 2 - As férias foram calculadas dividindo-se por 11, para comportar os 11 meses presentes e ainda o ausente do posto"]
[null,null,"C","Licença-Paternidade (Art. 7º, XIX, e art. 10, §1º, do ADCT, CF/1988 e Art. 1º, II, da Lei 11.770/2008)",{"$f":"'Encargos Sociais'!E27","v":8.0000000000000004E-4},2.66]
[null,null,"D","Ausência por Acidente de Trabalho (Art. 131, III, da CLT)",{"$f":"'Encargos Sociais'!E28","v":8.9999999999999998E-4},2.99]
[null,null,"E","Afastamento Maternidade (Art. 71 da Lei nº 8.213/1991)",{"$f":"'Encargos Sociais'!E29","v":3.3E-3},10.96]
[null,null,"F","Auxílio Enfermidade - Doença (Art. 59 da Lei nº 8.213/1991)",{"$f":"'Encargos Sociais'!E30","v":7.1000000000000004E-3},23.57]
[]
[null,"Submódulo 4.2 - Feriados remunerados"]
[null,null,"I","Feriados remunerados (plantonistas)",{"$f":"'Encargos Sociais - Plant'!E33","v":3.3333333333333333E-2},{"$f":"ROUND(E67*$F$16,2)","v":110.68}]
[]
[null,null,null,"QUADRO-RESUMO DO MÓDULO 4",null,"Valor"]
[null,null,null,"4.1 - Ausências Legais",{"$f":"SUM(E59:E64)","v":0.11089999999999998},{"$f":"ROUND(E70*$F$16,2)","v":368.22}]
[null,null,null,"4.2 - Feriados remunerados (plantonistas)",{"$f":"E67","v":3.3333333333333333E-2},{"$f":"ROUND(E71*$F$16,2)","v":110.68}]
[]
[null,null,null,"TOTAL DE PREVISÃO PARA RESCISÃO E INTERVALO INTRAJORNADA",null,{"$f":"SUM(F70:F71)","v":478.90000000000003}]
[]
[null,"MÓDULO 5 - INSUMOS DIVERSOS",null,null,null,"Valor"]
[null,null,"A","Uniformes - aquisição",null,0]
[null,null,"B","Materiais de consumo relacionados ao posto - aquisição",null,0]
[null,null,"C","Ferramentas relacionadas ao posto - remuneração da sua depreciação / manutenção",null,0]
[null,null,"D","Equipamentos relacionados ao posto - remuneração da sua depreciação / manutenção",null,0]
[null,null,"E","Equipamentos de Proteção Individual - EPI - aquisição",null,{"$f":"'EPI - Rel'!J141","v":42.25}]
[]
[null,null,null,"TOTAL DE INSUMOS DIVERSOS",null,{"$f":"SUM(F76:F81)","v":42.25},null,"* Nota - Valores mensais por empregado"]
[]
[null,"MÓDULO 6 - CUSTOS INDIRETOS, TRIBUTOS E LUCRO - BDI",null,null,"Percentuais","Valor"]
[null,null,"A","Custos Indiretos",{"$f":"'BDI - Geral'!E7","v":3.5700000000000003E-2}]
[null,null,"A.1","Administração Central",{"$f":"'BDI - Geral'!E8","v":3.0300000000000001E-2}]
[null,null,"A.2","Seguros, Garantias e Riscos",{"$f":"'BDI - Geral'!E9","v":5.4000000000000003E-3}]
[null,null,"B","Lucro",{"$f":"'BDI - Geral'!E11","v":0.04}]
[null,null,"C","Tributos",{"$f":"SUM(E90:E91)","v":0.124}]
[null,null,"C.1","Tributos Federais (COFINS, PIS e CPRB)",{"$f":"'BDI - Geral'!E19","v":7.3999999999999996E-2}]
[null,null,"C.2","Tributos Distritais (ISS)",{"$f":"'BDI - Geral'!E24","v":0.05}]
[null,null,"D","Despesas Financeiras",{"$f":"'BDI - Geral'!E14","v":5.1000000000000004E-3}]
[]
[null,null,null,"TOTAL DE BDI",{"$f":"'BDI - Geral'!E27","v":0.2359},{"$f":"ROUND(E94*E102,2)","v":1502.58}]
[]
[null,null,null,"QUADRO-RESUMO DO CUSTO MENSAL POR EMPREGADO - SEM O 13º","Valor"]
[null,null,null,"Módulo 1 - Composição da Remuneração",{"$f":"F16","v":3320.26}]
[null,null,null,"Módulo 2 - Encargos e Benefícios Anuais, Mensais e Diários",{"$f":"F45","v":2347.19}]
[null,null,null,"Módulo 3 - Provisão para Rescisão",{"$f":"F55","v":180.95}]
[null,null,null,"Módulo 4 - Custo de Reposição do Profissional Ausente",{"$f":"F73","v":478.90000000000003}]
[null,null,null,"Módulo 5 - Insumos Diversos",{"$f":"F82","v":42.25}]
[null,null,null,"SUBTOTAL (A+B+C+D+E)",{"$f":"SUM(E97:E101)","v":6369.55}]
[null,null,null,"Módulo 6 - Custos Indiretos, Tributos e Lucro",{"$f":"F94","v":1502.58}]
[]
[null,null,null,"TOTAL DO POSTO",{"$f":"SUM(E102:E103)","v":7872.13}]
[]
[null,"MÓDULO 7 - DESTAQUE DO MÓDULO 2 - 13º SALÁRIO",null,null,"Percentuais","Valor"]
[null,null,"A","13º Salário",{"$f":"'Encargos Sociais'!E32*12/11","v":9.0872727272727272E-2},{"$f":"ROUND(E108*F$16,2)","v":301.72000000000003},null,"* Nota 1 - Incluindo-se a reincidência das férias do substituto sobre o titular"]
[null,null,"B","Encargos Sociais sobre o 13º Salário - Taxa calculada no SUBMÓDULO 2.2",{"$f":"SUM($E$24:$E$32)","v":0.35800000000000004},{"$f":"ROUND(E109*$F$108,2)","v":108.02},null,"* Nota 2 - 13º e reflexos calculados à parte a fim de aprovisionamento"]
[null,null,"C","BDI sobre o 13º Salário - Taxa calculada no MÓDULO 6",{"$f":"E94","v":0.2359},{"$f":"ROUND(E110*($F$108+$F$109),2)","v":96.66}]
[]
[null,null,null,"TOTAL DO DESTAQUE DO 13º SALÁRIO",null,{"$f":"SUM(F108:F110)","v":506.4}]
[]
[null,null,null,"QUADRO-RESUMO DO CUSTO MENSAL POR EMPREGADO","Valor"]
[null,null,null,"Custo total - sem o 13º Salário",{"$f":"ROUND(E105,2)","v":7872.13}]
[null,null,null,"Destaque do 13º Salário (valor mensal)",{"$f":"ROUND(F112,2)","v":506.4}]
[]
[null,null,null,"TOTAL DO POSTO",{"$f":"E115+E116","v":8378.5300000000007}]

{"sheet":"10","index":13,"n_rows":118,"n_cols":8,"rows_kept":118,"cut":false,"hidden":false,"merged":[[106,1,106,3],[39,3,39,5],[46,1,46,3],[56,1,56,3],[68,3,68,5],[74,1,74,3],[83,1,83,3],[17,1,17,3],[1,1,1,5],[2,1,2,5],[4,1,4,2],[5,1,5,2],[7,1,7,3]]}
[]
[null,"PLANILHA DE ESTIMATIVA DE CUSTOS"]
[null,"Padrão IN 05/2017 e IN 07/2018 - MPDG"]
[]
[null,10,null,{"$f":"HLOOKUP($B$5,'Dados Gerais'!$D$6:$BI$22,6)","v":"AUXILIAR MECÂNICO DE AR CONDICIONADO"},"QUANTIDADE",{"$f":"HLOOKUP($B$5,'Dados Gerais'!$D$6:$BI$22,10)","v":19}]
[null,"CCT",null,{"$f":"HLOOKUP($B$5,'Dados Gerais'!$D$6:$BI$22,16)","v":"SINDUSCON/DF x STICOMBE/DF \nCCT 2024/2025 - 2º TA - \nN.º DF000276/2024"},"DATA-BASE",{"$f":"HLOOKUP($B$5,'Dados Gerais'!$D$6:$BI$22,17)","v":"2024-05-01"}]
[]
[null,"MÓDULO 1 - COMPOSIÇÃO DA REMUNERAÇÃO",null,null,null,"Valor"]
[null,null,"A","Salário-Base",null,{"$f":"HLOOKUP($B$5,'Dados Gerais'!$D$6:$BI$22,8)","v":1921.17}]
[null,null,"B","Adicional de Periculosidade",null,{"$f":"HLOOKUP($B$5,'Dados Gerais'!$D$6:$BI$39,26)","v":0}]
[null,null,"C","Adicional de Insalubridade",null,{"$f":"HLOOKUP($B$5,'Dados Gerais'!$D$6:$BI$39,32)","v":303.60000000000002}]
[null,null,"D","Adicional Noturno",null,{"$f":"HLOOKUP($B$5,'Dados Gerais'!$D$6:$BI$52,47)","v":0},null,"* Nota 1 - O Módulo 1 refere-se ao valor mensal devido ao empregado pela prestação do serviço no período de 12 meses."]
[null,null,"E","Adicional de Hora Extra",null,{"$f":"HLOOKUP($B$5,'Dados Gerais'!$D$6:$BI$69,64)","v":0},null,"* Nota 2 - O adicional de hora extra no feriado trabalhado foi suprimido pela Lei 13.467/17"]
[null,null,"F","Outros (adicional de sobreaviso)",null,{"$f":"HLOOKUP($B$5,'Dados Gerais'!$D$6:$BI$69,34)","v":0},null,"* Nota 3 - ART. 7º, § 2º, DA LEI Nº 605/49.Sendo mensalista o obreiro, o adicional noturno pago de forma fixa já é considerado integrado para os efeitos do pagamento do repouso semanal remunerado, nos termos do art. 7º, § 2º, da Lei nº 605/49."]
[]
[null,null,null,"TOTAL DA REMUNERAÇÃO",null,{"$f":"SUM(F9:F14)","v":2224.77}]
[]
[null,"MÓDULO 2 - ENCARGOS E BENEFÍCIOS ANUAIS, MENSAIS E DIÁRIOS",null,null,"Percentuais","Valor"]
[null,"Submódulo 2.1 - 13º Salário, Férias e Adicional de Férias"]
[null,null,"A","13º Salário - Calculado no Módulo 7 - Destacado",0,{"$f":"ROUND(E20*F$16,2)","v":0}]
[null,null,"B","Adicional de Férias",{"$f":"'[1]Encargos Sociais'!E31","v":3.0300000000000001E-2},{"$f":"ROUND(E21*(F$16),2)","v":67.41},null,"* Nota 1 - O adicional de férias foi calculado dividindo-se por 11, para comportar os 11 meses presentes e ainda o ausente do posto"]
[]
[null,"Submódulo 2.2 - Encargos Previdenciários (GPS), Fundo de Garantia por Tempo de Serviço (FGTS) e Outras Contribuições"]
[null,null,"A","INSS (art. 22, inciso I, Lei nº 8.212/91)",{"$f":"'Encargos Sociais'!E14","v":0.2},{"$f":"ROUND(E24*($F$16+$F$41+$F$73),2)","v":507.78},null,"* Nota 1 - Os percentuais dos encargos previdenciários, do FGTS e demais contribuições são estabelecidos por legislação vigente."]
[null,null,"B","Salário Educação (art. 3º, inciso I, Decreto nº 87.043/82)",{"$f":"'Encargos Sociais'!E15","v":2.5000000000000001E-2},{"$f":"ROUND(E25*($F$16+$F$41+$F$73),2)","v":63.47},null,"* Nota 2 - O SAT, a depender do grau de risco do serviço, irá variar entre 1%, para risco leve, de 2%, para risco médio, e de 3% para risco grave."]
[null,null,"C","SAT/RAT (art. 22, II, Lei 8.212/91 e Anexo V, Decreto 6.042/07) - Enquadramento 8211-3/00",{"$f":"'Encargos Sociais'!E16","v":0.01},25.39,null,"* Nota 3 - Base de cálculo - remuneração + ausências + terço constitucional (férias)"]
[null,null,"D","SESC ou SESI (art. 30, Lei nº 8.036/90 e art. 1º, Lei 8.154/90)",{"$f":"'Encargos Sociais'!E17","v":1.4999999999999999E-2},38.08]
[null,null,"E","SENAI ou SENAC (Decreto nº 2.318/86)",{"$f":"'Encargos Sociais'!E18","v":0.01},25.39]
[null,null,"F","SEBRAE (§ 3º, art. 8º, Lei 8.029/90, alterada pela Lei nº 8.154/90)",{"$f":"'Encargos Sociais'!E19","v":6.0000000000000001E-3},15.23]
[null,null,"G","INCRA (art. 1º, I, Decreto Lei 1.146/70 e Lei 7.787, de 30/06/89)",{"$f":"'Encargos Sociais'!E20","v":2E-3},5.08]
[null,null,"H","FGTS (Lei Complementar nº 110/01 e art. 30, Lei nº 8.036/90)",{"$f":"'Encargos Sociais'!E21","v":0.08},203.11]
[null,null,"I","SECONCI (Convenções Coletivas de Trabalho da construção)",{"$f":"'Encargos Sociais'!E22","v":0.01},25.39]
[]
[null,"Submódulo 2.3 - Benefícios Mensais e Diários"]
[null,null,"A","Auxílio Transporte",null,{"$f":"HLOOKUP($B$5,'Dados Gerais'!$D$6:$BI$95,83)","v":539.97},null,"* Nota 1 - O valor informado deverá ser o custo real do benefício (descontado o valor eventualmente pago pelo empregado)."]
[null,null,"B","Auxílio Alimentação",null,{"$f":"HLOOKUP($B$5,'Dados Gerais'!$D$6:$BI$95,90)","v":910},null,"* Nota 2 - Observar a previsão dos benefícios contidos em Acordos, Convenções e Dissídios Coletivos de Trabalho e o disposto no art. 6º da IN 5/2017"]
[null,null,"C","Assistência Médica e Familiar",null,{"$f":"HLOOKUP($B$5,'Dados Gerais'!$D$6:$BI$103,98)","v":0}]
[null,null,"D","Outros (Seguro de vida, auxílio funeral, auxílio odontológico e auxílio creche)",null,{"$f":"HLOOKUP($B$5,'Dados Gerais'!$D$6:$BI$121,115)","v":13.95}]
[]
[null,null,null,"QUADRO-RESUMO DO MÓDULO 2"]
[null,null,null,"2.1 - 13º Salário, Férias e Adicional de Férias - 13º Destacado - Calculado no Módulo 7 ",{"$f":"SUM(E20:E21)","v":3.0300000000000001E-2},{"$f":"F20+F21","v":67.41}]
[null,null,null,"2.2 - Encargos Previdenciários (GPS), Fundo de Garantia por Tempo de Serviço (FGTS) e Contribuições",{"$f":"SUM(E24:E32)","v":0.35800000000000004},{"$f":"SUM(F24:F32)","v":908.92000000000007}]
[null,null,null,"2.3 - Benefícios Mensais e Diários",null,{"$f":"SUM(F35:F38)","v":1463.92}]
[]
[null,null,null,"TOTAL DOS ENCARGOS E BENEFÍCIOS",null,{"$f":"SUM(F41:F43)","v":2440.25}]
[]
[null,"MÓDULO 3 - PREVISÃO PARA RESCISÃO",null,null,"Percentuais","Valor"]
[null,null,"A","Aviso Prévio Indenizado (Art. 7º, inciso XXI, da CF/1988 e arts. 477, 487, §1º, e 491 da CLT)",{"$f":"'Encargos Sociais'!E36","v":3.5000000000000001E-3},{"$f":"ROUND(E48*($F$16+$F$73+$F$41),2)","v":8.89},null,"* Nota 1 - Base de cálculo - remuneração + ausências + 1/3 férias"]
[null,null,"B","Incidência do FGTS sobre o Aviso Prévio Indenizado (Súmula 305 TST)",{"$f":"'Encargos Sociais'!E37","v":2.9999999999999997E-4},0.76]
[null,null,"C","Multa do FGTS e Contribuição Social sobre o Aviso Prévio Indenizado (Art. 18, §1º, da Lei 8.036/1990 e art. 1º da LC nº 110/2001)",{"$f":"'Encargos Sociais'!E38","v":1.1000000000000001E-3},2.79]
[null,null,"D","Aviso Prévio Trabalhado (Art. 488, parágrafo único, CLT)",{"$f":"'Encargos Sociais'!E39","v":7.7999999999999996E-3},19.8]
[null,null,"E","Incidência de GPS, FGTS e outras contribuições sobre o Aviso Prévio Trabalhado",{"$f":"'Encargos Sociais'!E40","v":2.8E-3},7.11]
[null,null,"F","Multa do FGTS e Contribuição Social sobre o Aviso Prévio Trabalhado",{"$f":"'Encargos Sociais'!E41","v":3.09E-2},78.45]
[]
[null,null,null,"TOTAL DE PREVISÃO PARA RESCISÃO",null,{"$f":"SUM(F48:F53)","v":117.80000000000001}]
[]
[null,"MÓDULO 4 - CUSTO DO PROFISSIONAL AUSENTE",null,null,"Percentuais","Valor"]
[null,"Submódulo 4.1 - Ausências Legais"]
[null,null,"A","Férias (Arts. 129 e 130, inc. I, da CLT)",{"$f":"'Encargos Sociais'!E25","v":9.0899999999999995E-2},{"$f":"ROUND(E59*$F$16,2)","v":202.23},null,"* Nota 1 - O Módulo 4 refere-se às previsões para custear ausências do próprio profissional (titular do cargo)"]
[null,null,"B","Ausências Legais (Arts. 131 e 473 da CLT)",{"$f":"'Encargos Sociais'!E26","v":7.9000000000000008E-3},17.579999999999998,null,"* Nota 2 - As férias foram calculadas dividindo-se por 11, para comportar os 11 meses presentes e ainda o ausente do posto"]
[null,null,"C","Licença-Paternidade (Art. 7º, XIX, e art. 10, §1º, do ADCT, CF/1988 e Art. 1º, II, da Lei 11.770/2008)",{"$f":"'Encargos Sociais'!E27","v":8.0000000000000004E-4},1.78]
[null,null,"D","Ausência por Acidente de Trabalho (Art. 131, III, da CLT)",{"$f":"'Encargos Sociais'!E28","v":8.9999999999999998E-4},2]
[null,null,"E","Afastamento Maternidade (Art. 71 da Lei nº 8.213/1991)",{"$f":"'Encargos Sociais'!E29","v":3.3E-3},7.34]
[null,null,"F","Auxílio Enfermidade - Doença (Art. 59 da Lei nº 8.213/1991)",{"$f":"'Encargos Sociais'!E30","v":7.1000000000000004E-3},15.8]
[]
[null,"Submódulo 4.2 - Intrajornada"]
[null,null,"A","Intervalo para repouso ou alimentação",{"$f":"'Encargos Sociais'!E33","v":0},{"$f":"ROUND(E67*$F$16,2)","v":0}]
[]
[null,null,null,"QUADRO-RESUMO DO MÓDULO 4",null,"Valor"]
[null,null,null,"4.1 - Ausências Legais",{"$f":"SUM(E59:E64)","v":0.11089999999999998},{"$f":"ROUND(E70*$F$16,2)","v":246.73}]
[null,null,null,"4.2 - Intrajornada",{"$f":"E67","v":0},{"$f":"ROUND(E71*$F$16,2)","v":0}]
[]
[null,null,null,"TOTAL DE PREVISÃO PARA RESCISÃO E INTERVALO INTRAJORNADA",null,{"$f":"SUM(F70:F71)","v":246.73}]
[]
[null,"MÓDULO 5 - INSUMOS DIVERSOS",null,null,null,"Valor"]
[null,null,"A","Uniformes - aquisição",null,0]
[null,null,"B","Materiais de consumo relacionados ao posto - aquisição",null,0]
[null,null,"C","Ferramentas relacionadas ao posto - remuneração da sua depreciação / manutenção",null,0]
[null,null,"D","Equipamentos relacionados ao posto - remuneração da sua depreciação / manutenção",null,0]
[null,null,"E","Equipamentos de Proteção Individual - EPI - aquisição",null,{"$f":"'EPI - Rel'!J119","v":76.38}]
[]
[null,null,null,"TOTAL DE INSUMOS DIVERSOS",null,{"$f":"SUM(F76:F81)","v":76.38},null,"* Nota - Valores mensais por empregado"]
[]
[null,"MÓDULO 6 - CUSTOS INDIRETOS, TRIBUTOS E LUCRO - BDI",null,null,"Percentuais","Valor"]
[null,null,"A","Custos Indiretos",{"$f":"'BDI - Geral'!E7","v":3.5700000000000003E-2}]
[null,null,"A.1","Administração Central",{"$f":"'BDI - Geral'!E8","v":3.0300000000000001E-2}]
[null,null,"A.2","Seguros, Garantias e Riscos",{"$f":"'BDI - Geral'!E9","v":5.4000000000000003E-3}]
[null,null,"B","Lucro",{"$f":"'BDI - Geral'!E11","v":0.04}]
[null,null,"C","Tributos",{"$f":"SUM(E90:E91)","v":0.124}]
[null,null,"C.1","Tributos Federais (COFINS, PIS e CPRB)",{"$f":"'BDI - Geral'!E19","v":7.3999999999999996E-2}]
[null,null,"C.2","Tributos Distritais (ISS)",{"$f":"'BDI - Geral'!E24","v":0.05}]
[null,null,"D","Despesas Financeiras",{"$f":"'BDI - Geral'!E14","v":5.1000000000000004E-3}]
[]
[null,null,null,"TOTAL DE BDI",{"$f":"'BDI - Geral'!E27","v":0.2359},{"$f":"ROUND(E94*E102,2)","v":1204.49}]
[]
[null,null,null,"QUADRO-RESUMO DO CUSTO MENSAL POR EMPREGADO - SEM O 13º","Valor"]
[null,null,null,"Módulo 1 - Composição da Remuneração",{"$f":"F16","v":2224.77}]
[null,null,null,"Módulo 2 - Encargos e Benefícios Anuais, Mensais e Diários",{"$f":"F45","v":2440.25}]
[null,null,null,"Módulo 3 - Provisão para Rescisão",{"$f":"F55","v":117.80000000000001}]
[null,null,null,"Módulo 4 - Custo de Reposição do Profissional Ausente",{"$f":"F73","v":246.73}]
[null,null,null,"Módulo 5 - Insumos Diversos",{"$f":"F82","v":76.38}]
[null,null,null,"SUBTOTAL (A+B+C+D+E)",{"$f":"SUM(E97:E101)","v":5105.93}]
[null,null,null,"Módulo 6 - Custos Indiretos, Tributos e Lucro",{"$f":"F94","v":1204.49}]
[]
[null,null,null,"TOTAL DO POSTO",{"$f":"SUM(E102:E103)","v":6310.42}]
[]
[null,"MÓDULO 7 - DESTAQUE DO MÓDULO 2 - 13º SALÁRIO",null,null,"Percentuais","Valor"]
[null,null,"A","13º Salário",{"$f":"'Encargos Sociais'!E32*12/11","v":9.0872727272727272E-2},{"$f":"ROUND(E108*F$16,2)","v":202.17},null,"* Nota 1 - Incluindo-se a reincidência das férias do substituto sobre o titular"]
[null,null,"B","Encargos Sociais sobre o 13º Salário - Taxa calculada no SUBMÓDULO 2.2",{"$f":"SUM($E$24:$E$32)","v":0.35800000000000004},{"$f":"ROUND(E109*$F$108,2)","v":72.38},null,"* Nota 2 - 13º e reflexos calculados à parte a fim de aprovisionamento"]
[null,null,"C","BDI sobre o 13º Salário - Taxa calculada no MÓDULO 6",{"$f":"E94","v":0.2359},{"$f":"ROUND(E110*($F$108+$F$109),2)","v":64.77}]
[]
[null,null,null,"TOTAL DO DESTAQUE DO 13º SALÁRIO",null,{"$f":"SUM(F108:F110)","v":339.31999999999994}]
[]
[null,null,null,"QUADRO-RESUMO DO CUSTO MENSAL POR EMPREGADO","Valor"]
[null,null,null,"Custo total - sem o 13º Salário",{"$f":"ROUND(E105,2)","v":6310.42}]
[null,null,null,"Destaque do 13º Salário (valor mensal)",{"$f":"ROUND(F112,2)","v":339.32}]
[]
[null,null,null,"TOTAL DO POSTO",{"$f":"E115+E116","v":6649.74}]

{"sheet":"11","index":14,"n_rows":118,"n_cols":8,"rows_kept":118,"cut":false,"hidden":false,"merged":[[106,1,106,3],[39,3,39,5],[46,1,46,3],[56,1,56,3],[68,3,68,5],[74,1,74,3],[83,1,83,3],[17,1,17,3],[1,1,1,5],[2,1,2,5],[4,1,4,2],[5,1,5,2],[7,1,7,3]]}
[]
[null,"PLANILHA DE ESTIMATIVA DE CUSTOS"]
[null,"Padrão IN 05/2017 e IN 07/2018 - MPDG"]
[]
[null,11,null,{"$f":"HLOOKUP($B$5,'Dados Gerais'!$D$6:$BI$22,6)","v":"CONTROLADOR DE MATERIAIS"},"QUANTIDADE",{"$f":"HLOOKUP($B$5,'Dados Gerais'!$D$6:$BI$22,10)","v":3}]
[null,"CCT",null,{"$f":"HLOOKUP($B$5,'Dados Gerais'!$D$6:$BI$22,16)","v":"SINDUSCON/DF x STICOMBE/DF \nCCT 2024/2025 - 2º TA - \nN.º DF000276/2024"},"DATA-BASE",{"$f":"HLOOKUP($B$5,'Dados Gerais'!$D$6:$BI$22,17)","v":"2024-05-01"}]
[]
[null,"MÓDULO 1 - COMPOSIÇÃO DA REMUNERAÇÃO",null,null,null,"Valor"]
[null,null,"A","Salário-Base",null,{"$f":"HLOOKUP($B$5,'Dados Gerais'!$D$6:$BI$22,8)","v":3500}]
[null,null,"B","Adicional de Periculosidade",null,{"$f":"HLOOKUP($B$5,'Dados Gerais'!$D$6:$BI$39,26)","v":0}]
[null,null,"C","Adicional de Insalubridade",null,{"$f":"HLOOKUP($B$5,'Dados Gerais'!$D$6:$BI$39,32)","v":0}]
[null,null,"D","Adicional Noturno",null,{"$f":"HLOOKUP($B$5,'Dados Gerais'!$D$6:$BI$52,47)","v":0},null,"* Nota 1 - O Módulo 1 refere-se ao valor mensal devido ao empregado pela prestação do serviço no período de 12 meses."]
[null,null,"E","Adicional de Hora Extra",null,{"$f":"HLOOKUP($B$5,'Dados Gerais'!$D$6:$BI$69,64)","v":0},null,"* Nota 2 - O adicional de hora extra no feriado trabalhado foi suprimido pela Lei 13.467/17"]
[null,null,"F","Outros (adicional de sobreaviso)",null,{"$f":"HLOOKUP($B$5,'Dados Gerais'!$D$6:$BI$69,34)","v":0},null,"* Nota 3 - ART. 7º, § 2º, DA LEI Nº 605/49.Sendo mensalista o obreiro, o adicional noturno pago de forma fixa já é considerado integrado para os efeitos do pagamento do repouso semanal remunerado, nos termos do art. 7º, § 2º, da Lei nº 605/49."]
[]
[null,null,null,"TOTAL DA REMUNERAÇÃO",null,{"$f":"SUM(F9:F14)","v":3500}]
[]
[null,"MÓDULO 2 - ENCARGOS E BENEFÍCIOS ANUAIS, MENSAIS E DIÁRIOS",null,null,"Percentuais","Valor"]
[null,"Submódulo 2.1 - 13º Salário, Férias e Adicional de Férias"]
[null,null,"A","13º Salário - Calculado no Módulo 7 - Destacado",0,{"$f":"ROUND(E20*F$16,2)","v":0}]
[null,null,"B","Adicional de Férias",{"$f":"'[1]Encargos Sociais'!E31","v":3.0300000000000001E-2},{"$f":"ROUND(E21*(F$16),2)","v":106.05},null,"* Nota 1 - O adicional de férias foi calculado dividindo-se por 11, para comportar os 11 meses presentes e ainda o ausente do posto"]
[]
[null,"Submódulo 2.2 - Encargos Previdenciários (GPS), Fundo de Garantia por Tempo de Serviço (FGTS) e Outras Contribuições"]
[null,null,"A","INSS (art. 22, inciso I, Lei nº 8.212/91)",{"$f":"'Encargos Sociais'!E14","v":0.2},{"$f":"ROUND(E24*($F$16+$F$41+$F$73),2)","v":798.84},null,"* Nota 1 - Os percentuais dos encargos previdenciários, do FGTS e demais contribuições são estabelecidos por legislação vigente."]
[null,null,"B","Salário Educação (art. 3º, inciso I, Decreto nº 87.043/82)",{"$f":"'Encargos Sociais'!E15","v":2.5000000000000001E-2},{"$f":"ROUND(E25*($F$16+$F$41+$F$73),2)","v":99.86},null,"* Nota 2 - O SAT, a depender do grau de risco do serviço, irá variar entre 1%, para risco leve, de 2%, para risco médio, e de 3% para risco grave."]
[null,null,"C","SAT/RAT (art. 22, II, Lei 8.212/91 e Anexo V, Decreto 6.042/07) - Enquadramento 8211-3/00",{"$f":"'Encargos Sociais'!E16","v":0.01},39.94,null,"* Nota 3 - Base de cálculo - remuneração + ausências + terço constitucional (férias)"]
[null,null,"D","SESC ou SESI (art. 30, Lei nº 8.036/90 e art. 1º, Lei 8.154/90)",{"$f":"'Encargos Sociais'!E17","v":1.4999999999999999E-2},59.91]
[null,null,"E","SENAI ou SENAC (Decreto nº 2.318/86)",{"$f":"'Encargos Sociais'!E18","v":0.01},39.94]
[null,null,"F","SEBRAE (§ 3º, art. 8º, Lei 8.029/90, alterada pela Lei nº 8.154/90)",{"$f":"'Encargos Sociais'!E19","v":6.0000000000000001E-3},23.97]
[null,null,"G","INCRA (art. 1º, I, Decreto Lei 1.146/70 e Lei 7.787, de 30/06/89)",{"$f":"'Encargos Sociais'!E20","v":2E-3},7.99]
[null,null,"H","FGTS (Lei Complementar nº 110/01 e art. 30, Lei nº 8.036/90)",{"$f":"'Encargos Sociais'!E21","v":0.08},319.54000000000002]
[null,null,"I","SECONCI (Convenções Coletivas de Trabalho da construção)",{"$f":"'Encargos Sociais'!E22","v":0.01},39.94]
[]
[null,"Submódulo 2.3 - Benefícios Mensais e Diários"]
[null,null,"A","Auxílio Transporte",null,{"$f":"HLOOKUP($B$5,'Dados Gerais'!$D$6:$BI$95,83)","v":539.97},null,"* Nota 1 - O valor informado deverá ser o custo real do benefício (descontado o valor eventualmente pago pelo empregado)."]
[null,null,"B","Auxílio Alimentação",null,{"$f":"HLOOKUP($B$5,'Dados Gerais'!$D$6:$BI$95,90)","v":910},null,"* Nota 2 - Observar a previsão dos benefícios contidos em Acordos, Convenções e Dissídios Coletivos de Trabalho e o disposto no art. 6º da IN 5/2017"]
[null,null,"C","Assistência Médica e Familiar",null,{"$f":"HLOOKUP($B$5,'Dados Gerais'!$D$6:$BI$103,98)","v":0}]
[null,null,"D","Outros (Seguro de vida, auxílio funeral, auxílio odontológico e auxílio creche)",null,{"$f":"HLOOKUP($B$5,'Dados Gerais'!$D$6:$BI$121,115)","v":13.95}]
[]
[null,null,null,"QUADRO-RESUMO DO MÓDULO 2"]
[null,null,null,"2.1 - 13º Salário, Férias e Adicional de Férias - 13º Destacado - Calculado no Módulo 7 ",{"$f":"SUM(E20:E21)","v":3.0300000000000001E-2},{"$f":"F20+F21","v":106.05}]
[null,null,null,"2.2 - Encargos Previdenciários (GPS), Fundo de Garantia por Tempo de Serviço (FGTS) e Contribuições",{"$f":"SUM(E24:E32)","v":0.35800000000000004},{"$f":"SUM(F24:F32)","v":1429.93}]
[null,null,null,"2.3 - Benefícios Mensais e Diários",null,{"$f":"SUM(F35:F38)","v":1463.92}]
[]
[null,null,null,"TOTAL DOS ENCARGOS E BENEFÍCIOS",null,{"$f":"SUM(F41:F43)","v":2999.9}]
[]
[null,"MÓDULO 3 - PREVISÃO PARA RESCISÃO",null,null,"Percentuais","Valor"]
[null,null,"A","Aviso Prévio Indenizado (Art. 7º, inciso XXI, da CF/1988 e arts. 477, 487, §1º, e 491 da CLT)",{"$f":"'Encargos Sociais'!E36","v":3.5000000000000001E-3},{"$f":"ROUND(E48*($F$16+$F$73+$F$41),2)","v":13.98},null,"* Nota 1 - Base de cálculo - remuneração + ausências + 1/3 férias"]
[null,null,"B","Incidência do FGTS sobre o Aviso Prévio Indenizado (Súmula 305 TST)",{"$f":"'Encargos Sociais'!E37","v":2.9999999999999997E-4},1.2]
[null,null,"C","Multa do FGTS e Contribuição Social sobre o Aviso Prévio Indenizado (Art. 18, §1º, da Lei 8.036/1990 e art. 1º da LC nº 110/2001)",{"$f":"'Encargos Sociais'!E38","v":1.1000000000000001E-3},4.3899999999999997]
[null,null,"D","Aviso Prévio Trabalhado (Art. 488, parágrafo único, CLT)",{"$f":"'Encargos Sociais'!E39","v":7.7999999999999996E-3},31.15]
[null,null,"E","Incidência de GPS, FGTS e outras contribuições sobre o Aviso Prévio Trabalhado",{"$f":"'Encargos Sociais'!E40","v":2.8E-3},11.18]
[null,null,"F","Multa do FGTS e Contribuição Social sobre o Aviso Prévio Trabalhado",{"$f":"'Encargos Sociais'!E41","v":3.09E-2},123.42]
[]
[null,null,null,"TOTAL DE PREVISÃO PARA RESCISÃO",null,{"$f":"SUM(F48:F53)","v":185.32}]
[]
[null,"MÓDULO 4 - CUSTO DO PROFISSIONAL AUSENTE",null,null,"Percentuais","Valor"]
[null,"Submódulo 4.1 - Ausências Legais"]
[null,null,"A","Férias (Arts. 129 e 130, inc. I, da CLT)",{"$f":"'Encargos Sociais'!E25","v":9.0899999999999995E-2},{"$f":"ROUND(E59*$F$16,2)","v":318.14999999999998},null,"* Nota 1 - O Módulo 4 refere-se às previsões para custear ausências do próprio profissional (titular do cargo)"]
[null,null,"B","Ausências Legais (Arts. 131 e 473 da CLT)",{"$f":"'Encargos Sociais'!E26","v":7.9000000000000008E-3},27.65,null,"* Nota 2 - As férias foram calculadas dividindo-se por 11, para comportar os 11 meses presentes e ainda o ausente do posto"]
[null,null,"C","Licença-Paternidade (Art. 7º, XIX, e art. 10, §1º, do ADCT, CF/1988 e Art. 1º, II, da Lei 11.770/2008)",{"$f":"'Encargos Sociais'!E27","v":8.0000000000000004E-4},2.8]
[null,null,"D","Ausência por Acidente de Trabalho (Art. 131, III, da CLT)",{"$f":"'Encargos Sociais'!E28","v":8.9999999999999998E-4},3.15]
[null,null,"E","Afastamento Maternidade (Art. 71 da Lei nº 8.213/1991)",{"$f":"'Encargos Sociais'!E29","v":3.3E-3},11.55]
[null,null,"F","Auxílio Enfermidade - Doença (Art. 59 da Lei nº 8.213/1991)",{"$f":"'Encargos Sociais'!E30","v":7.1000000000000004E-3},24.85]
[]
[null,"Submódulo 4.2 - Intrajornada"]
[null,null,"A","Intervalo para repouso ou alimentação",{"$f":"'Encargos Sociais'!E33","v":0},{"$f":"ROUND(E67*$F$16,2)","v":0}]
[]
[null,null,null,"QUADRO-RESUMO DO MÓDULO 4",null,"Valor"]
[null,null,null,"4.1 - Ausências Legais",{"$f":"SUM(E59:E64)","v":0.11089999999999998},{"$f":"ROUND(E70*$F$16,2)","v":388.15}]
[null,null,null,"4.2 - Intrajornada",{"$f":"E67","v":0},{"$f":"ROUND(E71*$F$16,2)","v":0}]
[]
[null,null,null,"TOTAL DE PREVISÃO PARA RESCISÃO E INTERVALO INTRAJORNADA",null,{"$f":"SUM(F70:F71)","v":388.15}]
[]
[null,"MÓDULO 5 - INSUMOS DIVERSOS",null,null,null,"Valor"]
[null,null,"A","Uniformes - aquisição",null,0]
[null,null,"B","Materiais de consumo relacionados ao posto - aquisição",null,0]
[null,null,"C","Ferramentas relacionadas ao posto - remuneração da sua depreciação / manutenção",null,0]
[null,null,"D","Equipamentos relacionados ao posto - remuneração da sua depreciação / manutenção",null,0]
[null,null,"E","Equipamentos de Proteção Individual - EPI - aquisição",null,{"$f":"'EPI - Rel'!J165","v":51.48}]
[]
[null,null,null,"TOTAL DE INSUMOS DIVERSOS",null,{"$f":"SUM(F76:F81)","v":51.48},null,"* Nota - Valores mensais por empregado"]
[]
[null,"MÓDULO 6 - CUSTOS INDIRETOS, TRIBUTOS E LUCRO - BDI",null,null,"Percentuais","Valor"]
[null,null,"A","Custos Indiretos",{"$f":"'BDI - Geral'!E7","v":3.5700000000000003E-2}]
[null,null,"A.1","Administração Central",{"$f":"'BDI - Geral'!E8","v":3.0300000000000001E-2}]
[null,null,"A.2","Seguros, Garantias e Riscos",{"$f":"'BDI - Geral'!E9","v":5.4000000000000003E-3}]
[null,null,"B","Lucro",{"$f":"'BDI - Geral'!E11","v":0.04}]
[null,null,"C","Tributos",{"$f":"SUM(E90:E91)","v":0.124}]
[null,null,"C.1","Tributos Federais (COFINS, PIS e CPRB)",{"$f":"'BDI - Geral'!E19","v":7.3999999999999996E-2}]
[null,null,"C.2","Tributos Distritais (ISS)",{"$f":"'BDI - Geral'!E24","v":0.05}]
[null,null,"D","Despesas Financeiras",{"$f":"'BDI - Geral'!E14","v":5.1000000000000004E-3}]
[]
[null,null,null,"TOTAL DE BDI",{"$f":"'BDI - Geral'!E27","v":0.2359},{"$f":"ROUND(E94*E102,2)","v":1680.75}]
[]
[null,null,null,"QUADRO-RESUMO DO CUSTO MENSAL POR EMPREGADO - SEM O 13º","Valor"]
[null,null,null,"Módulo 1 - Composição da Remuneração",{"$f":"F16","v":3500}]
[null,null,null,"Módulo 2 - Encargos e Benefícios Anuais, Mensais e Diários",{"$f":"F45","v":2999.9}]
[null,null,null,"Módulo 3 - Provisão para Rescisão",{"$f":"F55","v":185.32}]
[null,null,null,"Módulo 4 - Custo de Reposição do Profissional Ausente",{"$f":"F73","v":388.15}]
[null,null,null,"Módulo 5 - Insumos Diversos",{"$f":"F82","v":51.48}]
[null,null,null,"SUBTOTAL (A+B+C+D+E)",{"$f":"SUM(E97:E101)","v":7124.8499999999985}]
[null,null,null,"Módulo 6 - Custos Indiretos, Tributos e Lucro",{"$f":"F94","v":1680.75}]
[]
[null,null,null,"TOTAL DO POSTO",{"$f":"SUM(E102:E103)","v":8805.5999999999985}]
[]
[null,"MÓDULO 7 - DESTAQUE DO MÓDULO 2 - 13º SALÁRIO",null,null,"Percentuais","Valor"]
[null,null,"A","13º Salário",{"$f":"'Encargos Sociais'!E32*12/11","v":9.0872727272727272E-2},{"$f":"ROUND(E108*F$16,2)","v":318.05},null,"* Nota 1 - Incluindo-se a reincidência das férias do substituto sobre o titular"]
[null,null,"B","Encargos Sociais sobre o 13º Salário - Taxa calculada no SUBMÓDULO 2.2",{"$f":"SUM($E$24:$E$32)","v":0.35800000000000004},{"$f":"ROUND(E109*$F$108,2)","v":113.86},null,"* Nota 2 - 13º e reflexos calculados à parte a fim de aprovisionamento"]
[null,null,"C","BDI sobre o 13º Salário - Taxa calculada no MÓDULO 6",{"$f":"E94","v":0.2359},{"$f":"ROUND(E110*($F$108+$F$109),2)","v":101.89}]
[]
[null,null,null,"TOTAL DO DESTAQUE DO 13º SALÁRIO",null,{"$f":"SUM(F108:F110)","v":533.80000000000007}]
[]
[null,null,null,"QUADRO-RESUMO DO CUSTO MENSAL POR EMPREGADO","Valor"]
[null,null,null,"Custo total - sem o 13º Salário",{"$f":"ROUND(E105,2)","v":8805.6}]
[null,null,null,"Destaque do 13º Salário (valor mensal)",{"$f":"ROUND(F112,2)","v":533.79999999999995}]
[]
[null,null,null,"TOTAL DO POSTO",{"$f":"E115+E116","v":9339.4}]

{"sheet":"12","index":15,"n_rows":118,"n_cols":8,"rows_kept":118,"cut":false,"hidden":false,"merged":[[106,1,106,3],[39,3,39,5],[46,1,46,3],[56,1,56,3],[68,3,68,5],[74,1,74,3],[83,1,83,3],[17,1,17,3],[1,1,1,5],[2,1,2,5],[4,1,4,2],[5,1,5,2],[7,1,7,3]]}
[]
[null,"PLANILHA DE ESTIMATIVA DE CUSTOS"]
[null,"Padrão IN 05/2017 e IN 07/2018 - MPDG"]
[]
[null,12,null,{"$f":"HLOOKUP($B$5,'Dados Gerais'!$D$6:$BI$22,6)","v":"COORDENADOR DE FACILITIES"},"QUANTIDADE",{"$f":"HLOOKUP($B$5,'Dados Gerais'!$D$6:$BI$22,10)","v":5}]
[null,"CCT",null,{"$f":"HLOOKUP($B$5,'Dados Gerais'!$D$6:$BI$22,16)","v":"SINDUSCON/DF x STICOMBE/DF \nCCT 2024/2025 - 2º TA - \nN.º DF000276/2024"},"DATA-BASE",{"$f":"HLOOKUP($B$5,'Dados Gerais'!$D$6:$BI$22,17)","v":"2024-05-01"}]
[]
[null,"MÓDULO 1 - COMPOSIÇÃO DA REMUNERAÇÃO",null,null,null,"Valor"]
[null,null,"A","Salário-Base",null,{"$f":"HLOOKUP($B$5,'Dados Gerais'!$D$6:$BI$22,8)","v":9424.8700000000008}]
[null,null,"B","Adicional de Periculosidade",null,{"$f":"HLOOKUP($B$5,'Dados Gerais'!$D$6:$BI$39,26)","v":0}]
[null,null,"C","Adicional de Insalubridade",null,{"$f":"HLOOKUP($B$5,'Dados Gerais'!$D$6:$BI$39,32)","v":0}]
[null,null,"D","Adicional Noturno",null,{"$f":"HLOOKUP($B$5,'Dados Gerais'!$D$6:$BI$52,47)","v":0},null,"* Nota 1 - O Módulo 1 refere-se ao valor mensal devido ao empregado pela prestação do serviço no período de 12 meses."]
[null,null,"E","Adicional de Hora Extra",null,{"$f":"HLOOKUP($B$5,'Dados Gerais'!$D$6:$BI$69,64)","v":0},null,"* Nota 2 - O adicional de hora extra no feriado trabalhado foi suprimido pela Lei 13.467/17"]
[null,null,"F","Outros (adicional de sobreaviso)",null,{"$f":"HLOOKUP($B$5,'Dados Gerais'!$D$6:$BI$69,34)","v":0},null,"* Nota 3 - ART. 7º, § 2º, DA LEI Nº 605/49.Sendo mensalista o obreiro, o adicional noturno pago de forma fixa já é considerado integrado para os efeitos do pagamento do repouso semanal remunerado, nos termos do art. 7º, § 2º, da Lei nº 605/49."]
[]
[null,null,null,"TOTAL DA REMUNERAÇÃO",null,{"$f":"SUM(F9:F14)","v":9424.8700000000008}]
[]
[null,"MÓDULO 2 - ENCARGOS E BENEFÍCIOS ANUAIS, MENSAIS E DIÁRIOS",null,null,"Percentuais","Valor"]
[null,"Submódulo 2.1 - 13º Salário, Férias e Adicional de Férias"]
[null,null,"A","13º Salário - Calculado no Módulo 7 - Destacado",0,{"$f":"ROUND(E20*F$16,2)","v":0}]
[null,null,"B","Adicional de Férias",{"$f":"'[1]Encargos Sociais'!E31","v":3.0300000000000001E-2},{"$f":"ROUND(E21*(F$16),2)","v":285.57},null,"* Nota 1 - O adicional de férias foi calculado dividindo-se por 11, para comportar os 11 meses presentes e ainda o ausente do posto"]
[]
[null,"Submódulo 2.2 - Encargos Previdenciários (GPS), Fundo de Garantia por Tempo de Serviço (FGTS) e Outras Contribuições"]
[null,null,"A","INSS (art. 22, inciso I, Lei nº 8.212/91)",{"$f":"'Encargos Sociais'!E14","v":0.2},{"$f":"ROUND(E24*($F$16+$F$41+$F$73),2)","v":2151.13},null,"* Nota 1 - Os percentuais dos encargos previdenciários, do FGTS e demais contribuições são estabelecidos por legislação vigente."]
[null,null,"B","Salário Educação (art. 3º, inciso I, Decreto nº 87.043/82)",{"$f":"'Encargos Sociais'!E15","v":2.5000000000000001E-2},{"$f":"ROUND(E25*($F$16+$F$41+$F$73),2)","v":268.89},null,"* Nota 2 - O SAT, a depender do grau de risco do serviço, irá variar entre 1%, para risco leve, de 2%, para risco médio, e de 3% para risco grave."]
[null,null,"C","SAT/RAT (art. 22, II, Lei 8.212/91 e Anexo V, Decreto 6.042/07) - Enquadramento 8211-3/00",{"$f":"'Encargos Sociais'!E16","v":0.01},107.56,null,"* Nota 3 - Base de cálculo - remuneração + ausências + terço constitucional (férias)"]
[null,null,"D","SESC ou SESI (art. 30, Lei nº 8.036/90 e art. 1º, Lei 8.154/90)",{"$f":"'Encargos Sociais'!E17","v":1.4999999999999999E-2},161.33000000000001]
[null,null,"E","SENAI ou SENAC (Decreto nº 2.318/86)",{"$f":"'Encargos Sociais'!E18","v":0.01},107.56]
[null,null,"F","SEBRAE (§ 3º, art. 8º, Lei 8.029/90, alterada pela Lei nº 8.154/90)",{"$f":"'Encargos Sociais'!E19","v":6.0000000000000001E-3},64.53]
[null,null,"G","INCRA (art. 1º, I, Decreto Lei 1.146/70 e Lei 7.787, de 30/06/89)",{"$f":"'Encargos Sociais'!E20","v":2E-3},21.51]
[null,null,"H","FGTS (Lei Complementar nº 110/01 e art. 30, Lei nº 8.036/90)",{"$f":"'Encargos Sociais'!E21","v":0.08},860.45]
[null,null,"I","SECONCI (Convenções Coletivas de Trabalho da construção)",{"$f":"'Encargos Sociais'!E22","v":0.01},107.56]
[]
[null,"Submódulo 2.3 - Benefícios Mensais e Diários"]
[null,null,"A","Auxílio Transporte",null,{"$f":"HLOOKUP($B$5,'Dados Gerais'!$D$6:$BI$95,83)","v":539.97},null,"* Nota 1 - O valor informado deverá ser o custo real do benefício (descontado o valor eventualmente pago pelo empregado)."]
[null,null,"B","Auxílio Alimentação",null,{"$f":"HLOOKUP($B$5,'Dados Gerais'!$D$6:$BI$95,90)","v":910},null,"* Nota 2 - Observar a previsão dos benefícios contidos em Acordos, Convenções e Dissídios Coletivos de Trabalho e o disposto no art. 6º da IN 5/2017"]
[null,null,"C","Assistência Médica e Familiar",null,{"$f":"HLOOKUP($B$5,'Dados Gerais'!$D$6:$BI$103,98)","v":0}]
[null,null,"D","Outros (Seguro de vida, auxílio funeral, auxílio odontológico e auxílio creche)",null,{"$f":"HLOOKUP($B$5,'Dados Gerais'!$D$6:$BI$121,115)","v":13.95}]
[]
[null,null,null,"QUADRO-RESUMO DO MÓDULO 2"]
[null,null,null,"2.1 - 13º Salário, Férias e Adicional de Férias - 13º Destacado - Calculado no Módulo 7 ",{"$f":"SUM(E20:E21)","v":3.0300000000000001E-2},{"$f":"F20+F21","v":285.57}]
[null,null,null,"2.2 - Encargos Previdenciários (GPS), Fundo de Garantia por Tempo de Serviço (FGTS) e Contribuições",{"$f":"SUM(E24:E32)","v":0.35800000000000004},{"$f":"SUM(F24:F32)","v":3850.52}]
[null,null,null,"2.3 - Benefícios Mensais e Diários",null,{"$f":"SUM(F35:F38)","v":1463.92}]
[]
[null,null,null,"TOTAL DOS ENCARGOS E BENEFÍCIOS",null,{"$f":"SUM(F41:F43)","v":5600.01}]
[]
[null,"MÓDULO 3 - PREVISÃO PARA RESCISÃO",null,null,"Percentuais","Valor"]
[null,null,"A","Aviso Prévio Indenizado (Art. 7º, inciso XXI, da CF/1988 e arts. 477, 487, §1º, e 491 da CLT)",{"$f":"'Encargos Sociais'!E36","v":3.5000000000000001E-3},{"$f":"ROUND(E48*($F$16+$F$73+$F$41),2)","v":37.64},null,"* Nota 1 - Base de cálculo - remuneração + ausências + 1/3 férias"]
[null,null,"B","Incidência do FGTS sobre o Aviso Prévio Indenizado (Súmula 305 TST)",{"$f":"'Encargos Sociais'!E37","v":2.9999999999999997E-4},3.23]
[null,null,"C","Multa do FGTS e Contribuição Social sobre o Aviso Prévio Indenizado (Art. 18, §1º, da Lei 8.036/1990 e art. 1º da LC nº 110/2001)",{"$f":"'Encargos Sociais'!E38","v":1.1000000000000001E-3},11.83]
[null,null,"D","Aviso Prévio Trabalhado (Art. 488, parágrafo único, CLT)",{"$f":"'Encargos Sociais'!E39","v":7.7999999999999996E-3},83.89]
[null,null,"E","Incidência de GPS, FGTS e outras contribuições sobre o Aviso Prévio Trabalhado",{"$f":"'Encargos Sociais'!E40","v":2.8E-3},30.12]
[null,null,"F","Multa do FGTS e Contribuição Social sobre o Aviso Prévio Trabalhado",{"$f":"'Encargos Sociais'!E41","v":3.09E-2},332.35]
[]
[null,null,null,"TOTAL DE PREVISÃO PARA RESCISÃO",null,{"$f":"SUM(F48:F53)","v":499.06000000000006}]
[]
[null,"MÓDULO 4 - CUSTO DO PROFISSIONAL AUSENTE",null,null,"Percentuais","Valor"]
[null,"Submódulo 4.1 - Ausências Legais"]
[null,null,"A","Férias (Arts. 129 e 130, inc. I, da CLT)",{"$f":"'Encargos Sociais'!E25","v":9.0899999999999995E-2},{"$f":"ROUND(E59*$F$16,2)","v":856.72},null,"* Nota 1 - O Módulo 4 refere-se às previsões para custear ausências do próprio profissional (titular do cargo)"]
[null,null,"B","Ausências Legais (Arts. 131 e 473 da CLT)",{"$f":"'Encargos Sociais'!E26","v":7.9000000000000008E-3},74.459999999999994,null,"* Nota 2 - As férias foram calculadas dividindo-se por 11, para comportar os 11 meses presentes e ainda o ausente do posto"]
[null,null,"C","Licença-Paternidade (Art. 7º, XIX, e art. 10, §1º, do ADCT, CF/1988 e Art. 1º, II, da Lei 11.770/2008)",{"$f":"'Encargos Sociais'!E27","v":8.0000000000000004E-4},7.54]
[null,null,"D","Ausência por Acidente de Trabalho (Art. 131, III, da CLT)",{"$f":"'Encargos Sociais'!E28","v":8.9999999999999998E-4},8.48]
[null,null,"E","Afastamento Maternidade (Art. 71 da Lei nº 8.213/1991)",{"$f":"'Encargos Sociais'!E29","v":3.3E-3},31.1]
[null,null,"F","Auxílio Enfermidade - Doença (Art. 59 da Lei nº 8.213/1991)",{"$f":"'Encargos Sociais'!E30","v":7.1000000000000004E-3},66.92]
[]
[null,"Submódulo 4.2 - Intrajornada"]
[null,null,"A","Intervalo para repouso ou alimentação",{"$f":"'Encargos Sociais'!E33","v":0},{"$f":"ROUND(E67*$F$16,2)","v":0}]
[]
[null,null,null,"QUADRO-RESUMO DO MÓDULO 4",null,"Valor"]
[null,null,null,"4.1 - Ausências Legais",{"$f":"SUM(E59:E64)","v":0.11089999999999998},{"$f":"ROUND(E70*$F$16,2)","v":1045.22}]
[null,null,null,"4.2 - Intrajornada",{"$f":"E67","v":0},{"$f":"ROUND(E71*$F$16,2)","v":0}]
[]
[null,null,null,"TOTAL DE PREVISÃO PARA RESCISÃO E INTERVALO INTRAJORNADA",null,{"$f":"SUM(F70:F71)","v":1045.22}]
[]
[null,"MÓDULO 5 - INSUMOS DIVERSOS",null,null,null,"Valor"]
[null,null,"A","Uniformes - aquisição",null,0]
[null,null,"B","Materiais de consumo relacionados ao posto - aquisição",null,0]
[null,null,"C","Ferramentas relacionadas ao posto - remuneração da sua depreciação / manutenção",null,0]
[null,null,"D","Equipamentos relacionados ao posto - remuneração da sua depreciação / manutenção",null,0]
[null,null,"E","Equipamentos de Proteção Individual - EPI - aquisição",null,0]
[]
[null,null,null,"TOTAL DE INSUMOS DIVERSOS",null,{"$f":"SUM(F76:F81)","v":0},null,"* Nota - Valores mensais por empregado"]
[]
[null,"MÓDULO 6 - CUSTOS INDIRETOS, TRIBUTOS E LUCRO - BDI",null,null,"Percentuais","Valor"]
[null,null,"A","Custos Indiretos",{"$f":"'BDI - Geral'!E7","v":3.5700000000000003E-2}]
[null,null,"A.1","Administração Central",{"$f":"'BDI - Geral'!E8","v":3.0300000000000001E-2}]
[null,null,"A.2","Seguros, Garantias e Riscos",{"$f":"'BDI - Geral'!E9","v":5.4000000000000003E-3}]
[null,null,"B","Lucro",{"$f":"'BDI - Geral'!E11","v":0.04}]
[null,null,"C","Tributos",{"$f":"SUM(E90:E91)","v":0.124}]
[null,null,"C.1","Tributos Federais (COFINS, PIS e CPRB)",{"$f":"'BDI - Geral'!E19","v":7.3999999999999996E-2}]
[null,null,"C.2","Tributos Distritais (ISS)",{"$f":"'BDI - Geral'!E24","v":0.05}]
[null,null,"D","Despesas Financeiras",{"$f":"'BDI - Geral'!E14","v":5.1000000000000004E-3}]
[]
[null,null,null,"TOTAL DE BDI",{"$f":"'BDI - Geral'!E27","v":0.2359},{"$f":"ROUND(E94*E102,2)","v":3908.66}]
[]
[null,null,null,"QUADRO-RESUMO DO CUSTO MENSAL POR EMPREGADO - SEM O 13º","Valor"]
[null,null,null,"Módulo 1 - Composição da Remuneração",{"$f":"F16","v":9424.8700000000008}]
[null,null,null,"Módulo 2 - Encargos e Benefícios Anuais, Mensais e Diários",{"$f":"F45","v":5600.01}]
[null,null,null,"Módulo 3 - Provisão para Rescisão",{"$f":"F55","v":499.06000000000006}]
[null,null,null,"Módulo 4 - Custo de Reposição do Profissional Ausente",{"$f":"F73","v":1045.22}]
[null,null,null,"Módulo 5 - Insumos Diversos",{"$f":"F82","v":0}]
[null,null,null,"SUBTOTAL (A+B+C+D+E)",{"$f":"SUM(E97:E101)","v":16569.16}]
[null,null,null,"Módulo 6 - Custos Indiretos, Tributos e Lucro",{"$f":"F94","v":3908.66}]
[]
[null,null,null,"TOTAL DO POSTO",{"$f":"SUM(E102:E103)","v":20477.82}]
[]
[null,"MÓDULO 7 - DESTAQUE DO MÓDULO 2 - 13º SALÁRIO",null,null,"Percentuais","Valor"]
[null,null,"A","13º Salário",{"$f":"'Encargos Sociais'!E32*12/11","v":9.0872727272727272E-2},{"$f":"ROUND(E108*F$16,2)","v":856.46},null,"* Nota 1 - Incluindo-se a reincidência das férias do substituto sobre o titular"]
[null,null,"B","Encargos Sociais sobre o 13º Salário - Taxa calculada no SUBMÓDULO 2.2",{"$f":"SUM($E$24:$E$32)","v":0.35800000000000004},{"$f":"ROUND(E109*$F$108,2)","v":306.61},null,"* Nota 2 - 13º e reflexos calculados à parte a fim de aprovisionamento"]
[null,null,"C","BDI sobre o 13º Salário - Taxa calculada no MÓDULO 6",{"$f":"E94","v":0.2359},{"$f":"ROUND(E110*($F$108+$F$109),2)","v":274.37}]
[]
[null,null,null,"TOTAL DO DESTAQUE DO 13º SALÁRIO",null,{"$f":"SUM(F108:F110)","v":1437.44}]
[]
[null,null,null,"QUADRO-RESUMO DO CUSTO MENSAL POR EMPREGADO","Valor"]
[null,null,null,"Custo total - sem o 13º Salário",{"$f":"ROUND(E105,2)","v":20477.82}]
[null,null,null,"Destaque do 13º Salário (valor mensal)",{"$f":"ROUND(F112,2)","v":1437.44}]
[]
[null,null,null,"TOTAL DO POSTO",{"$f":"E115+E116","v":21915.26}]

{"sheet":"13","index":16,"n_rows":118,"n_cols":8,"rows_kept":118,"cut":false,"hidden":false,"merged":[[106,1,106,3],[39,3,39,5],[46,1,46,3],[56,1,56,3],[68,3,68,5],[74,1,74,3],[83,1,83,3],[17,1,17,3],[1,1,1,5],[2,1,2,5],[4,1,4,2],[5,1,5,2],[7,1,7,3]]}
[]
[null,"PLANILHA DE ESTIMATIVA DE CUSTOS"]
[null,"Padrão IN 05/2017 e IN 07/2018 - MPDG"]
[]
[null,13,null,{"$f":"HLOOKUP($B$5,'Dados Gerais'!$D$6:$BI$22,6)","v":"OPERADOR DE CENTRAL DE DETECÇÃO E ALARME DE INCÊNDIO - PLANTONISTA DIURNO"},"QUANTIDADE",{"$f":"HLOOKUP($B$5,'Dados Gerais'!$D$6:$BI$22,10)","v":4}]
[null,"CCT",null,{"$f":"HLOOKUP($B$5,'Dados Gerais'!$D$6:$BI$22,16)","v":"SINDUSCON/DF x STICOMBE/DF \nCCT 2024/2025 - 2º TA - \nN.º DF000276/2024"},"DATA-BASE",{"$f":"HLOOKUP($B$5,'Dados Gerais'!$D$6:$BI$22,17)","v":"2024-05-01"}]
[]
[null,"MÓDULO 1 - COMPOSIÇÃO DA REMUNERAÇÃO",null,null,null,"Valor"]
[null,null,"A","Salário-Base",null,{"$f":"HLOOKUP($B$5,'Dados Gerais'!$D$6:$BI$22,8)","v":2933.92}]
[null,null,"B","Adicional de Periculosidade",null,{"$f":"HLOOKUP($B$5,'Dados Gerais'!$D$6:$BI$39,26)","v":880.18}]
[null,null,"C","Adicional de Insalubridade",null,{"$f":"HLOOKUP($B$5,'Dados Gerais'!$D$6:$BI$39,32)","v":0}]
[null,null,"D","Adicional Noturno",null,{"$f":"HLOOKUP($B$5,'Dados Gerais'!$D$6:$BI$52,47)","v":0},null,"* Nota 1 - O Módulo 1 refere-se ao valor mensal devido ao empregado pela prestação do serviço no período de 12 meses."]
[null,null,"E","Adicional de Hora Extra",null,{"$f":"HLOOKUP($B$5,'Dados Gerais'!$D$6:$BI$69,64)","v":200.04},null,"* Nota 2 - O adicional de hora extra no feriado trabalhado foi suprimido pela Lei 13.467/17"]
[null,null,"F","Outros (adicional de sobreaviso)",null,{"$f":"HLOOKUP($B$5,'Dados Gerais'!$D$6:$BI$69,34)","v":0},null,"* Nota 3 - ART. 7º, § 2º, DA LEI Nº 605/49.Sendo mensalista o obreiro, o adicional noturno pago de forma fixa já é considerado integrado para os efeitos do pagamento do repouso semanal remunerado, nos termos do art. 7º, § 2º, da Lei nº 605/49."]
[]
[null,null,null,"TOTAL DA REMUNERAÇÃO",null,{"$f":"SUM(F9:F14)","v":4014.14}]
[]
[null,"MÓDULO 2 - ENCARGOS E BENEFÍCIOS ANUAIS, MENSAIS E DIÁRIOS",null,null,"Percentuais","Valor"]
[null,"Submódulo 2.1 - 13º Salário, Férias e Adicional de Férias"]
[null,null,"A","13º Salário - Calculado no Módulo 7 - Destacado",0,{"$f":"ROUND(E20*F$16,2)","v":0}]
[null,null,"B","Adicional de Férias",{"$f":"'[1]Encargos Sociais'!E31","v":3.0300000000000001E-2},{"$f":"ROUND(E21*(F$16),2)","v":121.63},null,"* Nota 1 - O adicional de férias foi calculado dividindo-se por 11, para comportar os 11 meses presentes e ainda o ausente do posto"]
[]
[null,"Submódulo 2.2 - Encargos Previdenciários (GPS), Fundo de Garantia por Tempo de Serviço (FGTS) e Outras Contribuições"]
[null,null,"A","INSS (art. 22, inciso I, Lei nº 8.212/91)",{"$f":"'Encargos Sociais'!E14","v":0.2},{"$f":"ROUND(E24*($F$16+$F$41+$F$73),2)","v":942.95},null,"* Nota 1 - Os percentuais dos encargos previdenciários, do FGTS e demais contribuições são estabelecidos por legislação vigente."]
[null,null,"B","Salário Educação (art. 3º, inciso I, Decreto nº 87.043/82)",{"$f":"'Encargos Sociais'!E15","v":2.5000000000000001E-2},{"$f":"ROUND(E25*($F$16+$F$41+$F$73),2)","v":117.87},null,"* Nota 2 - O SAT, a depender do grau de risco do serviço, irá variar entre 1%, para risco leve, de 2%, para risco médio, e de 3% para risco grave."]
[null,null,"C","SAT/RAT (art. 22, II, Lei 8.212/91 e Anexo V, Decreto 6.042/07) - Enquadramento 8211-3/00",{"$f":"'Encargos Sociais'!E16","v":0.01},47.15,null,"* Nota 3 - Base de cálculo - remuneração + ausências + terço constitucional (férias)"]
[null,null,"D","SESC ou SESI (art. 30, Lei nº 8.036/90 e art. 1º, Lei 8.154/90)",{"$f":"'Encargos Sociais'!E17","v":1.4999999999999999E-2},70.72]
[null,null,"E","SENAI ou SENAC (Decreto nº 2.318/86)",{"$f":"'Encargos Sociais'!E18","v":0.01},47.15]
[null,null,"F","SEBRAE (§ 3º, art. 8º, Lei 8.029/90, alterada pela Lei nº 8.154/90)",{"$f":"'Encargos Sociais'!E19","v":6.0000000000000001E-3},28.29]
[null,null,"G","INCRA (art. 1º, I, Decreto Lei 1.146/70 e Lei 7.787, de 30/06/89)",{"$f":"'Encargos Sociais'!E20","v":2E-3},9.43]
[null,null,"H","FGTS (Lei Complementar nº 110/01 e art. 30, Lei nº 8.036/90)",{"$f":"'Encargos Sociais'!E21","v":0.08},377.18]
[null,null,"I","SECONCI (Convenções Coletivas de Trabalho da construção)",{"$f":"'Encargos Sociais'!E22","v":0.01},47.15]
[]
[null,"Submódulo 2.3 - Benefícios Mensais e Diários"]
[null,null,"A","Auxílio Transporte",null,{"$f":"HLOOKUP($B$5,'Dados Gerais'!$D$6:$BI$95,83)","v":311.52},null,"* Nota 1 - O valor informado deverá ser o custo real do benefício (descontado o valor eventualmente pago pelo empregado)."]
[null,null,"B","Auxílio Alimentação",null,{"$f":"HLOOKUP($B$5,'Dados Gerais'!$D$6:$BI$95,90)","v":525},null,"* Nota 2 - Observar a previsão dos benefícios contidos em Acordos, Convenções e Dissídios Coletivos de Trabalho e o disposto no art. 6º da IN 5/2017"]
[null,null,"C","Assistência Médica e Familiar",null,{"$f":"HLOOKUP($B$5,'Dados Gerais'!$D$6:$BI$103,98)","v":0}]
[null,null,"D","Outros (Seguro de vida, auxílio funeral, auxílio odontológico e auxílio creche)",null,{"$f":"HLOOKUP($B$5,'Dados Gerais'!$D$6:$BI$121,115)","v":13.95}]
[]
[null,null,null,"QUADRO-RESUMO DO MÓDULO 2"]
[null,null,null,"2.1 - 13º Salário, Férias e Adicional de Férias - 13º Destacado - Calculado no Módulo 7 ",{"$f":"SUM(E20:E21)","v":3.0300000000000001E-2},{"$f":"F20+F21","v":121.63}]
[null,null,null,"2.2 - Encargos Previdenciários (GPS), Fundo de Garantia por Tempo de Serviço (FGTS) e Contribuições",{"$f":"SUM(E24:E32)","v":0.35800000000000004},{"$f":"SUM(F24:F32)","v":1687.8900000000006}]
[null,null,null,"2.3 - Benefícios Mensais e Diários",null,{"$f":"SUM(F35:F38)","v":850.47}]
[]
[null,null,null,"TOTAL DOS ENCARGOS E BENEFÍCIOS",null,{"$f":"SUM(F41:F43)","v":2659.9900000000007}]
[]
[null,"MÓDULO 3 - PREVISÃO PARA RESCISÃO",null,null,"Percentuais","Valor"]
[null,null,"A","Aviso Prévio Indenizado (Art. 7º, inciso XXI, da CF/1988 e arts. 477, 487, §1º, e 491 da CLT)",{"$f":"'Encargos Sociais'!E36","v":3.5000000000000001E-3},{"$f":"ROUND(E48*($F$16+$F$73+$F$41),2)","v":16.5},null,"* Nota 1 - Base de cálculo - remuneração + ausências + 1/3 férias"]
[null,null,"B","Incidência do FGTS sobre o Aviso Prévio Indenizado (Súmula 305 TST)",{"$f":"'Encargos Sociais'!E37","v":2.9999999999999997E-4},1.41]
[null,null,"C","Multa do FGTS e Contribuição Social sobre o Aviso Prévio Indenizado (Art. 18, §1º, da Lei 8.036/1990 e art. 1º da LC nº 110/2001)",{"$f":"'Encargos Sociais'!E38","v":1.1000000000000001E-3},5.19]
[null,null,"D","Aviso Prévio Trabalhado (Art. 488, parágrafo único, CLT)",{"$f":"'Encargos Sociais'!E39","v":7.7999999999999996E-3},36.770000000000003]
[null,null,"E","Incidência de GPS, FGTS e outras contribuições sobre o Aviso Prévio Trabalhado",{"$f":"'Encargos Sociais'!E40","v":2.8E-3},13.2]
[null,null,"F","Multa do FGTS e Contribuição Social sobre o Aviso Prévio Trabalhado",{"$f":"'Encargos Sociais'!E41","v":3.09E-2},145.69]
[]
[null,null,null,"TOTAL DE PREVISÃO PARA RESCISÃO",null,{"$f":"SUM(F48:F53)","v":218.76}]
[]
[null,"MÓDULO 4 - CUSTO DO PROFISSIONAL AUSENTE",null,null,"Percentuais","Valor"]
[null,"Submódulo 4.1 - Ausências Legais"]
[null,null,"A","Férias (Arts. 129 e 130, inc. I, da CLT)",{"$f":"'Encargos Sociais'!E25","v":9.0899999999999995E-2},{"$f":"ROUND(E59*$F$16,2)","v":364.89},null,"* Nota 1 - O Módulo 4 refere-se às previsões para custear ausências do próprio profissional (titular do cargo)"]
[null,null,"B","Ausências Legais (Arts. 131 e 473 da CLT)",{"$f":"'Encargos Sociais'!E26","v":7.9000000000000008E-3},31.71,null,"* Nota 2 - As férias foram calculadas dividindo-se por 11, para comportar os 11 meses presentes e ainda o ausente do posto"]
[null,null,"C","Licença-Paternidade (Art. 7º, XIX, e art. 10, §1º, do ADCT, CF/1988 e Art. 1º, II, da Lei 11.770/2008)",{"$f":"'Encargos Sociais'!E27","v":8.0000000000000004E-4},3.21]
[null,null,"D","Ausência por Acidente de Trabalho (Art. 131, III, da CLT)",{"$f":"'Encargos Sociais'!E28","v":8.9999999999999998E-4},3.61]
[null,null,"E","Afastamento Maternidade (Art. 71 da Lei nº 8.213/1991)",{"$f":"'Encargos Sociais'!E29","v":3.3E-3},13.25]
[null,null,"F","Auxílio Enfermidade - Doença (Art. 59 da Lei nº 8.213/1991)",{"$f":"'Encargos Sociais'!E30","v":7.1000000000000004E-3},28.5]
[]
[null,"Submódulo 4.2 - Feriados remunerados"]
[null,null,"I","Feriados remunerados (plantonistas)",{"$f":"'Encargos Sociais - Plant'!E33","v":3.3333333333333333E-2},{"$f":"ROUND(E67*$F$16,2)","v":133.80000000000001}]
[]
[null,null,null,"QUADRO-RESUMO DO MÓDULO 4",null,"Valor"]
[null,null,null,"4.1 - Ausências Legais",{"$f":"SUM(E59:E64)","v":0.11089999999999998},{"$f":"ROUND(E70*$F$16,2)","v":445.17}]
[null,null,null,"4.2 - Feriados remunerados (plantonistas)",{"$f":"E67","v":3.3333333333333333E-2},{"$f":"ROUND(E71*$F$16,2)","v":133.80000000000001}]
[]
[null,null,null,"TOTAL DE PREVISÃO PARA RESCISÃO E INTERVALO INTRAJORNADA",null,{"$f":"SUM(F70:F71)","v":578.97}]
[]
[null,"MÓDULO 5 - INSUMOS DIVERSOS",null,null,null,"Valor"]
[null,null,"A","Uniformes - aquisição",null,0]
[null,null,"B","Materiais de consumo relacionados ao posto - aquisição",null,0]
[null,null,"C","Ferramentas relacionadas ao posto - remuneração da sua depreciação / manutenção",null,0]
[null,null,"D","Equipamentos relacionados ao posto - remuneração da sua depreciação / manutenção",null,0]
[null,null,"E","Equipamentos de Proteção Individual - EPI - aquisição",null,{"$f":"'EPI - Rel'!J157","v":12.31}]
[]
[null,null,null,"TOTAL DE INSUMOS DIVERSOS",null,{"$f":"SUM(F76:F81)","v":12.31},null,"* Nota - Valores mensais por empregado"]
[]
[null,"MÓDULO 6 - CUSTOS INDIRETOS, TRIBUTOS E LUCRO - BDI",null,null,"Percentuais","Valor"]
[null,null,"A","Custos Indiretos",{"$f":"'BDI - Geral'!E7","v":3.5700000000000003E-2}]
[null,null,"A.1","Administração Central",{"$f":"'BDI - Geral'!E8","v":3.0300000000000001E-2}]
[null,null,"A.2","Seguros, Garantias e Riscos",{"$f":"'BDI - Geral'!E9","v":5.4000000000000003E-3}]
[null,null,"B","Lucro",{"$f":"'BDI - Geral'!E11","v":0.04}]
[null,null,"C","Tributos",{"$f":"SUM(E90:E91)","v":0.124}]
[null,null,"C.1","Tributos Federais (COFINS, PIS e CPRB)",{"$f":"'BDI - Geral'!E19","v":7.3999999999999996E-2}]
[null,null,"C.2","Tributos Distritais (ISS)",{"$f":"'BDI - Geral'!E24","v":0.05}]
[null,null,"D","Despesas Financeiras",{"$f":"'BDI - Geral'!E14","v":5.1000000000000004E-3}]
[]
[null,null,null,"TOTAL DE BDI",{"$f":"'BDI - Geral'!E27","v":0.2359},{"$f":"ROUND(E94*E102,2)","v":1765.52}]
[]
[null,null,null,"QUADRO-RESUMO DO CUSTO MENSAL POR EMPREGADO - SEM O 13º","Valor"]
[null,null,null,"Módulo 1 - Composição da Remuneração",{"$f":"F16","v":4014.14}]
[null,null,null,"Módulo 2 - Encargos e Benefícios Anuais, Mensais e Diários",{"$f":"F45","v":2659.9900000000007}]
[null,null,null,"Módulo 3 - Provisão para Rescisão",{"$f":"F55","v":218.76}]
[null,null,null,"Módulo 4 - Custo de Reposição do Profissional Ausente",{"$f":"F73","v":578.97}]
[null,null,null,"Módulo 5 - Insumos Diversos",{"$f":"F82","v":12.31}]
[null,null,null,"SUBTOTAL (A+B+C+D+E)",{"$f":"SUM(E97:E101)","v":7484.1700000000019}]
[null,null,null,"Módulo 6 - Custos Indiretos, Tributos e Lucro",{"$f":"F94","v":1765.52}]
[]
[null,null,null,"TOTAL DO POSTO",{"$f":"SUM(E102:E103)","v":9249.6900000000023}]
[]
[null,"MÓDULO 7 - DESTAQUE DO MÓDULO 2 - 13º SALÁRIO",null,null,"Percentuais","Valor"]
[null,null,"A","13º Salário",{"$f":"'Encargos Sociais'!E32*12/11","v":9.0872727272727272E-2},{"$f":"ROUND(E108*F$16,2)","v":364.78},null,"* Nota 1 - Incluindo-se a reincidência das férias do substituto sobre o titular"]
[null,null,"B","Encargos Sociais sobre o 13º Salário - Taxa calculada no SUBMÓDULO 2.2",{"$f":"SUM($E$24:$E$32)","v":0.35800000000000004},{"$f":"ROUND(E109*$F$108,2)","v":130.59},null,"* Nota 2 - 13º e reflexos calculados à parte a fim de aprovisionamento"]
[null,null,"C","BDI sobre o 13º Salário - Taxa calculada no MÓDULO 6",{"$f":"E94","v":0.2359},{"$f":"ROUND(E110*($F$108+$F$109),2)","v":116.86}]
[]
[null,null,null,"TOTAL DO DESTAQUE DO 13º SALÁRIO",null,{"$f":"SUM(F108:F110)","v":612.23}]
[]
[null,null,null,"QUADRO-RESUMO DO CUSTO MENSAL POR EMPREGADO","Valor"]
[null,null,null,"Custo total - sem o 13º Salário",{"$f":"ROUND(E105,2)","v":9249.69}]
[null,null,null,"Destaque do 13º Salário (valor mensal)",{"$f":"ROUND(F112,2)","v":612.23}]
[]
[null,null,null,"TOTAL DO POSTO",{"$f":"E115+E116","v":9861.92}]

{"sheet":"14","index":17,"n_rows":118,"n_cols":8,"rows_kept":118,"cut":false,"hidden":false,"merged":[[106,1,106,3],[39,3,39,5],[46,1,46,3],[56,1,56,3],[68,3,68,5],[74,1,74,3],[83,1,83,3],[17,1,17,3],[1,1,1,5],[2,1,2,5],[4,1,4,2],[5,1,5,2],[7,1,7,3]]}
[]
[null,"PLANILHA DE ESTIMATIVA DE CUSTOS"]
[null,"Padrão IN 05/2017 e IN 07/2018 - MPDG"]
[]
[null,14,null,{"$f":"HLOOKUP($B$5,'Dados Gerais'!$D$6:$BI$22,6)","v":"OPERADOR DE CENTRAL DE DETECÇÃO E ALARME DE INCÊNDIO - PLANTONISTA NOTURNO"},"QUANTIDADE",{"$f":"HLOOKUP($B$5,'Dados Gerais'!$D$6:$BI$22,10)","v":4}]
[null,"CCT",null,{"$f":"HLOOKUP($B$5,'Dados Gerais'!$D$6:$BI$22,16)","v":"SINDUSCON/DF x STICOMBE/DF \nCCT 2024/2025 - 2º TA - \nN.º DF000276/2024"},"DATA-BASE",{"$f":"HLOOKUP($B$5,'Dados Gerais'!$D$6:$BI$22,17)","v":"2024-05-01"}]
[]
[null,"MÓDULO 1 - COMPOSIÇÃO DA REMUNERAÇÃO",null,null,null,"Valor"]
[null,null,"A","Salário-Base",null,{"$f":"HLOOKUP($B$5,'Dados Gerais'!$D$6:$BI$22,8)","v":2933.92}]
[null,null,"B","Adicional de Periculosidade",null,{"$f":"HLOOKUP($B$5,'Dados Gerais'!$D$6:$BI$39,26)","v":880.18}]
[null,null,"C","Adicional de Insalubridade",null,{"$f":"HLOOKUP($B$5,'Dados Gerais'!$D$6:$BI$39,32)","v":0}]
[null,null,"D","Adicional Noturno",null,{"$f":"HLOOKUP($B$5,'Dados Gerais'!$D$6:$BI$52,47)","v":364.07},null,"* Nota 1 - O Módulo 1 refere-se ao valor mensal devido ao empregado pela prestação do serviço no período de 12 meses."]
[null,null,"E","Adicional de Hora Extra",null,{"$f":"HLOOKUP($B$5,'Dados Gerais'!$D$6:$BI$69,64)","v":200.04},null,"* Nota 2 - O adicional de hora extra no feriado trabalhado foi suprimido pela Lei 13.467/17"]
[null,null,"F","Outros (adicional de sobreaviso)",null,{"$f":"HLOOKUP($B$5,'Dados Gerais'!$D$6:$BI$69,34)","v":0},null,"* Nota 3 - ART. 7º, § 2º, DA LEI Nº 605/49.Sendo mensalista o obreiro, o adicional noturno pago de forma fixa já é considerado integrado para os efeitos do pagamento do repouso semanal remunerado, nos termos do art. 7º, § 2º, da Lei nº 605/49."]
[]
[null,null,null,"TOTAL DA REMUNERAÇÃO",null,{"$f":"SUM(F9:F14)","v":4378.21}]
[]
[null,"MÓDULO 2 - ENCARGOS E BENEFÍCIOS ANUAIS, MENSAIS E DIÁRIOS",null,null,"Percentuais","Valor"]
[null,"Submódulo 2.1 - 13º Salário, Férias e Adicional de Férias"]
[null,null,"A","13º Salário - Calculado no Módulo 7 - Destacado",0,{"$f":"ROUND(E20*F$16,2)","v":0}]
[null,null,"B","Adicional de Férias",{"$f":"'[1]Encargos Sociais'!E31","v":3.0300000000000001E-2},{"$f":"ROUND(E21*(F$16),2)","v":132.66},null,"* Nota 1 - O adicional de férias foi calculado dividindo-se por 11, para comportar os 11 meses presentes e ainda o ausente do posto"]
[]
[null,"Submódulo 2.2 - Encargos Previdenciários (GPS), Fundo de Garantia por Tempo de Serviço (FGTS) e Outras Contribuições"]
[null,null,"A","INSS (art. 22, inciso I, Lei nº 8.212/91)",{"$f":"'Encargos Sociais'!E14","v":0.2},{"$f":"ROUND(E24*($F$16+$F$41+$F$73),2)","v":1028.47},null,"* Nota 1 - Os percentuais dos encargos previdenciários, do FGTS e demais contribuições são estabelecidos por legislação vigente."]
[null,null,"B","Salário Educação (art. 3º, inciso I, Decreto nº 87.043/82)",{"$f":"'Encargos Sociais'!E15","v":2.5000000000000001E-2},128.56,null,"* Nota 2 - O SAT, a depender do grau de risco do serviço, irá variar entre 1%, para risco leve, de 2%, para risco médio, e de 3% para risco grave."]
[null,null,"C","SAT/RAT (art. 22, II, Lei 8.212/91 e Anexo V, Decreto 6.042/07) - Enquadramento 8211-3/00",{"$f":"'Encargos Sociais'!E16","v":0.01},51.42,null,"* Nota 3 - Base de cálculo - remuneração + ausências + terço constitucional (férias)"]
[null,null,"D","SESC ou SESI (art. 30, Lei nº 8.036/90 e art. 1º, Lei 8.154/90)",{"$f":"'Encargos Sociais'!E17","v":1.4999999999999999E-2},77.14]
[null,null,"E","SENAI ou SENAC (Decreto nº 2.318/86)",{"$f":"'Encargos Sociais'!E18","v":0.01},51.42]
[null,null,"F","SEBRAE (§ 3º, art. 8º, Lei 8.029/90, alterada pela Lei nº 8.154/90)",{"$f":"'Encargos Sociais'!E19","v":6.0000000000000001E-3},30.85]
[null,null,"G","INCRA (art. 1º, I, Decreto Lei 1.146/70 e Lei 7.787, de 30/06/89)",{"$f":"'Encargos Sociais'!E20","v":2E-3},10.28]
[null,null,"H","FGTS (Lei Complementar nº 110/01 e art. 30, Lei nº 8.036/90)",{"$f":"'Encargos Sociais'!E21","v":0.08},411.39]
[null,null,"I","SECONCI (Convenções Coletivas de Trabalho da construção)",{"$f":"'Encargos Sociais'!E22","v":0.01},51.42]
[]
[null,"Submódulo 2.3 - Benefícios Mensais e Diários"]
[null,null,"A","Auxílio Transporte",null,{"$f":"HLOOKUP($B$5,'Dados Gerais'!$D$6:$BI$95,83)","v":311.52},null,"* Nota 1 - O valor informado deverá ser o custo real do benefício (descontado o valor eventualmente pago pelo empregado)."]
[null,null,"B","Auxílio Alimentação",null,{"$f":"HLOOKUP($B$5,'Dados Gerais'!$D$6:$BI$95,90)","v":525},null,"* Nota 2 - Observar a previsão dos benefícios contidos em Acordos, Convenções e Dissídios Coletivos de Trabalho e o disposto no art. 6º da IN 5/2017"]
[null,null,"C","Assistência Médica e Familiar",null,{"$f":"HLOOKUP($B$5,'Dados Gerais'!$D$6:$BI$103,98)","v":0}]
[null,null,"D","Outros (Seguro de vida, auxílio funeral, auxílio odontológico e auxílio creche)",null,{"$f":"HLOOKUP($B$5,'Dados Gerais'!$D$6:$BI$121,115)","v":13.95}]
[]
[null,null,null,"QUADRO-RESUMO DO MÓDULO 2"]
[null,null,null,"2.1 - 13º Salário, Férias e Adicional de Férias - 13º Destacado - Calculado no Módulo 7 ",{"$f":"SUM(E20:E21)","v":3.0300000000000001E-2},{"$f":"F20+F21","v":132.66}]
[null,null,null,"2.2 - Encargos Previdenciários (GPS), Fundo de Garantia por Tempo de Serviço (FGTS) e Contribuições",{"$f":"SUM(E24:E32)","v":0.35800000000000004},{"$f":"SUM(F24:F32)","v":1840.9500000000003}]
[null,null,null,"2.3 - Benefícios Mensais e Diários",null,{"$f":"SUM(F35:F38)","v":850.47}]
[]
[null,null,null,"TOTAL DOS ENCARGOS E BENEFÍCIOS",null,{"$f":"SUM(F41:F43)","v":2824.0800000000004}]
[]
[null,"MÓDULO 3 - PREVISÃO PARA RESCISÃO",null,null,"Percentuais","Valor"]
[null,null,"A","Aviso Prévio Indenizado (Art. 7º, inciso XXI, da CF/1988 e arts. 477, 487, §1º, e 491 da CLT)",{"$f":"'Encargos Sociais'!E36","v":3.5000000000000001E-3},{"$f":"ROUND(E48*($F$16+$F$73+$F$41),2)","v":18},null,"* Nota 1 - Base de cálculo - remuneração + ausências + 1/3 férias"]
[null,null,"B","Incidência do FGTS sobre o Aviso Prévio Indenizado (Súmula 305 TST)",{"$f":"'Encargos Sociais'!E37","v":2.9999999999999997E-4},1.54]
[null,null,"C","Multa do FGTS e Contribuição Social sobre o Aviso Prévio Indenizado (Art. 18, §1º, da Lei 8.036/1990 e art. 1º da LC nº 110/2001)",{"$f":"'Encargos Sociais'!E38","v":1.1000000000000001E-3},5.66]
[null,null,"D","Aviso Prévio Trabalhado (Art. 488, parágrafo único, CLT)",{"$f":"'Encargos Sociais'!E39","v":7.7999999999999996E-3},40.11]
[null,null,"E","Incidência de GPS, FGTS e outras contribuições sobre o Aviso Prévio Trabalhado",{"$f":"'Encargos Sociais'!E40","v":2.8E-3},14.4]
[null,null,"F","Multa do FGTS e Contribuição Social sobre o Aviso Prévio Trabalhado",{"$f":"'Encargos Sociais'!E41","v":3.09E-2},158.9]
[]
[null,null,null,"TOTAL DE PREVISÃO PARA RESCISÃO",null,{"$f":"SUM(F48:F53)","v":238.61}]
[]
[null,"MÓDULO 4 - CUSTO DO PROFISSIONAL AUSENTE",null,null,"Percentuais","Valor"]
[null,"Submódulo 4.1 - Ausências Legais"]
[null,null,"A","Férias (Arts. 129 e 130, inc. I, da CLT)",{"$f":"'Encargos Sociais'!E25","v":9.0899999999999995E-2},{"$f":"ROUND(E59*$F$16,2)","v":397.98},null,"* Nota 1 - O Módulo 4 refere-se às previsões para custear ausências do próprio profissional (titular do cargo)"]
[null,null,"B","Ausências Legais (Arts. 131 e 473 da CLT)",{"$f":"'Encargos Sociais'!E26","v":7.9000000000000008E-3},34.590000000000003,null,"* Nota 2 - As férias foram calculadas dividindo-se por 11, para comportar os 11 meses presentes e ainda o ausente do posto"]
[null,null,"C","Licença-Paternidade (Art. 7º, XIX, e art. 10, §1º, do ADCT, CF/1988 e Art. 1º, II, da Lei 11.770/2008)",{"$f":"'Encargos Sociais'!E27","v":8.0000000000000004E-4},3.5]
[null,null,"D","Ausência por Acidente de Trabalho (Art. 131, III, da CLT)",{"$f":"'Encargos Sociais'!E28","v":8.9999999999999998E-4},3.94]
[null,null,"E","Afastamento Maternidade (Art. 71 da Lei nº 8.213/1991)",{"$f":"'Encargos Sociais'!E29","v":3.3E-3},14.45]
[null,null,"F","Auxílio Enfermidade - Doença (Art. 59 da Lei nº 8.213/1991)",{"$f":"'Encargos Sociais'!E30","v":7.1000000000000004E-3},31.09]
[]
[null,"Submódulo 4.2 - Feriados remunerados"]
[null,null,"I","Feriados remunerados (plantonistas)",{"$f":"'Encargos Sociais - Plant'!E33","v":3.3333333333333333E-2},{"$f":"ROUND(E67*$F$16,2)","v":145.94}]
[]
[null,null,null,"QUADRO-RESUMO DO MÓDULO 4",null,"Valor"]
[null,null,null,"4.1 - Ausências Legais",{"$f":"SUM(E59:E64)","v":0.11089999999999998},{"$f":"ROUND(E70*$F$16,2)","v":485.54}]
[null,null,null,"4.2 - Feriados remunerados (plantonistas)",{"$f":"E67","v":3.3333333333333333E-2},{"$f":"ROUND(E71*$F$16,2)","v":145.94}]
[]
[null,null,null,"TOTAL DE PREVISÃO PARA RESCISÃO E INTERVALO INTRAJORNADA",null,{"$f":"SUM(F70:F71)","v":631.48}]
[]
[null,"MÓDULO 5 - INSUMOS DIVERSOS",null,null,null,"Valor"]
[null,null,"A","Uniformes - aquisição",null,0]
[null,null,"B","Materiais de consumo relacionados ao posto - aquisição",null,0]
[null,null,"C","Ferramentas relacionadas ao posto - remuneração da sua depreciação / manutenção",null,0]
[null,null,"D","Equipamentos relacionados ao posto - remuneração da sua depreciação / manutenção",null,0]
[null,null,"E","Equipamentos de Proteção Individual - EPI - aquisição",null,{"$f":"'EPI - Rel'!J157","v":12.31}]
[]
[null,null,null,"TOTAL DE INSUMOS DIVERSOS",null,{"$f":"SUM(F76:F81)","v":12.31},null,"* Nota - Valores mensais por empregado"]
[]
[null,"MÓDULO 6 - CUSTOS INDIRETOS, TRIBUTOS E LUCRO - BDI",null,null,"Percentuais","Valor"]
[null,null,"A","Custos Indiretos",{"$f":"'BDI - Geral'!E7","v":3.5700000000000003E-2}]
[null,null,"A.1","Administração Central",{"$f":"'BDI - Geral'!E8","v":3.0300000000000001E-2}]
[null,null,"A.2","Seguros, Garantias e Riscos",{"$f":"'BDI - Geral'!E9","v":5.4000000000000003E-3}]
[null,null,"B","Lucro",{"$f":"'BDI - Geral'!E11","v":0.04}]
[null,null,"C","Tributos",{"$f":"SUM(E90:E91)","v":0.124}]
[null,null,"C.1","Tributos Federais (COFINS, PIS e CPRB)",{"$f":"'BDI - Geral'!E19","v":7.3999999999999996E-2}]
[null,null,"C.2","Tributos Distritais (ISS)",{"$f":"'BDI - Geral'!E24","v":0.05}]
[null,null,"D","Despesas Financeiras",{"$f":"'BDI - Geral'!E14","v":5.1000000000000004E-3}]
[]
[null,null,null,"TOTAL DE BDI",{"$f":"'BDI - Geral'!E27","v":0.2359},{"$f":"ROUND(E94*E102,2)","v":1907.18}]
[]
[null,null,null,"QUADRO-RESUMO DO CUSTO MENSAL POR EMPREGADO - SEM O 13º","Valor"]
[null,null,null,"Módulo 1 - Composição da Remuneração",{"$f":"F16","v":4378.21}]
[null,null,null,"Módulo 2 - Encargos e Benefícios Anuais, Mensais e Diários",{"$f":"F45","v":2824.0800000000004}]
[null,null,null,"Módulo 3 - Provisão para Rescisão",{"$f":"F55","v":238.61}]
[null,null,null,"Módulo 4 - Custo de Reposição do Profissional Ausente",{"$f":"F73","v":631.48}]
[null,null,null,"Módulo 5 - Insumos Diversos",{"$f":"F82","v":12.31}]
[null,null,null,"SUBTOTAL (A+B+C+D+E)",{"$f":"SUM(E97:E101)","v":8084.6900000000014}]
[null,null,null,"Módulo 6 - Custos Indiretos, Tributos e Lucro",{"$f":"F94","v":1907.18}]
[]
[null,null,null,"TOTAL DO POSTO",{"$f":"SUM(E102:E103)","v":9991.8700000000008}]
[]
[null,"MÓDULO 7 - DESTAQUE DO MÓDULO 2 - 13º SALÁRIO",null,null,"Percentuais","Valor"]
[null,null,"A","13º Salário",{"$f":"'Encargos Sociais'!E32*12/11","v":9.0872727272727272E-2},{"$f":"ROUND(E108*F$16,2)","v":397.86},null,"* Nota 1 - Incluindo-se a reincidência das férias do substituto sobre o titular"]
[null,null,"B","Encargos Sociais sobre o 13º Salário - Taxa calculada no SUBMÓDULO 2.2",{"$f":"SUM($E$24:$E$32)","v":0.35800000000000004},{"$f":"ROUND(E109*$F$108,2)","v":142.43},null,"* Nota 2 - 13º e reflexos calculados à parte a fim de aprovisionamento"]
[null,null,"C","BDI sobre o 13º Salário - Taxa calculada no MÓDULO 6",{"$f":"E94","v":0.2359},{"$f":"ROUND(E110*($F$108+$F$109),2)","v":127.45}]
[]
[null,null,null,"TOTAL DO DESTAQUE DO 13º SALÁRIO",null,{"$f":"SUM(F108:F110)","v":667.74}]
[]
[null,null,null,"QUADRO-RESUMO DO CUSTO MENSAL POR EMPREGADO","Valor"]
[null,null,null,"Custo total - sem o 13º Salário",{"$f":"ROUND(E105,2)","v":9991.8700000000008}]
[null,null,null,"Destaque do 13º Salário (valor mensal)",{"$f":"ROUND(F112,2)","v":667.74}]
[]
[null,null,null,"TOTAL DO POSTO",{"$f":"E115+E116","v":10659.61}]

{"sheet":"Dados Gerais","index":18,"n_rows":124,"n_cols":61,"rows_kept":124,"cut":false,"hidden":false,"merged":[[3,1,3,2]]}
[]
[]
[]
[null,"INFORMAÇÕES DE ENTRADA"]
[]
[null,null,null,1,2,3,4,5,6,7,8,9,10,11,12,13,14,15,16,17,18,19,20,21,22,23,24,25,26,27,28,29,30,31,32,33,34,35,36,null,40,41,42,43,44,45,46,47,48,49,50,51,52,53,54,55,56,57,58,59,60]
[null,"",null,"CARGO 1","CARGO 2","CARGO 3","CARGO 4","CARGO 5","CARGO 6","CARGO 7","CARGO 8","CARGO 9","CARGO 10","CARGO 11","CARGO 12","CARGO 13","CARGO 14","CARGO 15","CARGO 16","CARGO 17","CARGO 18","CARGO 19","CARGO 20","CARGO 21","CARGO 22","CARGO 23","CARGO 24","CARGO 25","CARGO 26","CARGO 27","CARGO 28","CARGO 29","CARGO 30","CARGO 31","CARGO 32","CARGO 33","CARGO 34","CARGO 35","CARGO 36",null,"CARGO 40","CARGO 41","CARGO 42","CARGO 43","CARGO 44","CARGO 45","CARGO 46","CARGO 47","CARGO 48","CARGO 49","CARGO 50","CARGO 51","CARGO 52","CARGO 53","CARGO 54","CARGO 55","CARGO 56","CARGO 57","CARGO 58","CARGO 59","CARGO 60"]
[null,"INFORMAÇÕES BÁSICAS"]
[]
[null,"DESCRIÇÃO DOS POSTOS DE SERVIÇO"]
[null,null,null,"COORDENADOR DE SERVIÇOS DE MANUTENÇÃO ","SUPERVISOR DE MANUTENÇÃO ELETROMECÂNICA ","ENCARREGADO ELETROMECÂNICO DE INSTALAÇÕES ","MESTRE DE MANUTENÇÃO ELETRÔNICA","MESTRE ELETRICISTA DE MANUTENÇÃO ","MECÂNICO DE MÁQUINAS PESADAS - MANUTENÇÃO","OPERADOR ELETROMECÂNICO - EXPEDIENTE","OPERADOR ELETROMECÂNICO – PLANTONISTA DIURNO","OPERADOR ELETROMECÂNICO – PLANTONISTA NOTURNO","AUXILIAR MECÂNICO DE AR CONDICIONADO","CONTROLADOR DE MATERIAIS","COORDENADOR DE FACILITIES","OPERADOR DE CENTRAL DE DETECÇÃO E ALARME DE INCÊNDIO - PLANTONISTA DIURNO","OPERADOR DE CENTRAL DE DETECÇÃO E ALARME DE INCÊNDIO - PLANTONISTA NOTURNO"]
[null,"REMUNERAÇÕES"]
[null,null,null,9062.3799999999992,7340.02,5547.7,4472.0600000000004,3800,3765.58,2727.34,2727.34,2727.34,1921.17,3500,9424.8700000000008,2933.92,2933.92]
[null,"QUANTIDADE DE POSTOS"]
[null,null,null,1,4,5,2,7,26,4,6,6,19,3,5,4,4]
[null,"JORNADA"]
[null,null,"HORAS/DIA",8,{"$f":"D17","v":8},{"$f":"E17","v":8},8,8,8,8,8,8,8,8,8,8,8]
[null,null,"DIAS/MÊS",26,{"$f":"D18","v":26},{"$f":"E18","v":26},26,26,{"$f":"H18","v":26},{"$f":"I18","v":26},15,{"$f":"K18","v":15},{"$f":"J18","v":26},{"$f":"M18","v":26},{"$f":"N18","v":26},{"$f":"L18","v":15},{"$f":"P18","v":15}]
[null,null,"HORAS/MÊS",220,{"$f":"D19","v":220},{"$f":"E19","v":220},220,220,220,220,220,220,220,220,220,220,220]
[null,"CCT UTILIZADA"]
[null,null,"SINDICATOS E REFERÊNCIA","SINDUSCON/DF x STICOMBE/DF \nCCT 2024/2025 - 2º TA - \nN.º DF000276/2024",{"$f":"D21","v":"SINDUSCON/DF x STICOMBE/DF \nCCT 2024/2025 - 2º TA - \nN.º DF000276/2024"},{"$f":"E21","v":"SINDUSCON/DF x STICOMBE/DF \nCCT 2024/2025 - 2º TA - \nN.º DF000276/2024"},"SINDUSCON/DF x STICOMBE/DF \nCCT 2024/2025 - 2º TA - \nN.º DF000276/2024","SINDUSCON/DF x STICOMBE/DF \nCCT 2024/2025 - 2º TA - \nN.º DF000276/2024","SINDUSCON/DF x STICOMBE/DF \nCCT 2024/2025 - 2º TA - \nN.º DF000276/2024","SINDUSCON/DF x STICOMBE/DF \nCCT 2024/2025 - 2º TA - \nN.º DF000276/2024","SINDUSCON/DF x STICOMBE/DF \nCCT 2024/2025 - 2º TA - \nN.º DF000276/2024","SINDUSCON/DF x STICOMBE/DF \nCCT 2024/2025 - 2º TA - \nN.º DF000276/2024","SINDUSCON/DF x STICOMBE/DF \nCCT 2024/2025 - 2º TA - \nN.º DF000276/2024","SINDUSCON/DF x STICOMBE/DF \nCCT 2024/2025 - 2º TA - \nN.º DF000276/2024","SINDUSCON/DF x STICOMBE/DF \nCCT 2024/2025 - 2º TA - \nN.º DF000276/2024","SINDUSCON/DF x STICOMBE/DF \nCCT 2024/2025 - 2º TA - \nN.º DF000276/2024","SINDUSCON/DF x STICOMBE/DF \nCCT 2024/2025 - 2º TA - \nN.º DF000276/2024"]
[null,null,"DATA-BASE","2024-05-01",{"$f":"D22","v":"2024-05-01"},{"$f":"E22","v":"2024-05-01"},"2024-05-01","2024-05-01","2024-05-01","2024-05-01","2024-05-01","2024-05-01","2024-05-01","2024-05-01","2024-05-01","2024-05-01","2024-05-01"]
[]
[null,"ADICIONAIS LEGAIS E GRATIFICAÇÕES"]
[]
[null,"PERICULOSIDADE (PERCENTUAL)"]
[null,null,null,0,0,0.3,0,0.3,0,0,0,0,0,0,0,0.3,0.3,null,null,null,null,null,null,null,0.3,0.3,0,0,0,0,0,0,0,0,0,0,0,0,0]
[null,"BASE DE CÁLCULO DO ADICIONAL DE PERICULOSIDADE (SALÁRIO BÁSICO)"]
[null,null,null,{"$f":"D13","v":9062.3799999999992},{"$f":"E13","v":7340.02},{"$f":"F13","v":5547.7},4472.0600000000004,3800,{"$f":"I13","v":3765.58},2727.34,2727.34,2727.34,1921.17,3500,9424.8700000000008,2933.92,2933.92,null,null,null,null,null,null,null,{"$f":"Y13","v":0},{"$f":"Z13","v":0},{"$f":"AA13","v":0},0,0,0,0,0,0,0,0,0,0,0,0]
[null,"VALOR MENSAL DO ADICIONAL DE PERICULOSIDADE"]
[null,null,null,{"$f":"ROUND(D27*D13,2)","v":0},{"$f":"ROUND(E27*E13,2)","v":0},{"$f":"ROUND(F27*F13,2)","v":1664.31},0,1140,{"$f":"ROUND(I27*I13,2)","v":0},0,0,0,0,0,0,880.18,880.18,null,null,null,null,null,null,null,{"$f":"ROUND(Y27*Y13,2)","v":0},{"$f":"ROUND(Z27*Z13,2)","v":0},{"$f":"ROUND(AA27*AA13,2)","v":0},0,0,0,0,0,0,0,0,0,0,0,0]
[null,"INSALUBRIDADE (PERCENTUAL)"]
[null,null,null,0,0,0,0.2,0,0.2,0.2,0.2,0.2,0.2,0,0,0,0,null,null,null,null,null,null,null,0,0,0,0,0,0,0,0,0,0,0,0,0,0,0]
[null,"BASE DE CÁLCULO DO ADICIONAL DE INSALUBRIDADE (SALÁRIO MÍNIMO LEGAL)"]
[null,null,null,1518,{"$f":"D35","v":1518},{"$f":"E35","v":1518},1518,1518,1518,1518,1518,1518,1518,1518,1518,1518,1518,null,null,null,null,null,null,null,1100,1100,1100,1100,1100,1100,null,null,null,null,null,null,null,1100]
[null,"VALOR MENSAL DO ADICIONAL DE INSALUBRIDADE"]
[null,null,null,{"$f":"ROUND(D33*D35,2)","v":0},{"$f":"ROUND(E33*E35,2)","v":0},{"$f":"ROUND(F33*F35,2)","v":0},{"$f":"ROUND(G33*G35,2)","v":303.60000000000002},0,{"$f":"ROUND(I33*I35,2)","v":303.60000000000002},303.60000000000002,303.60000000000002,303.60000000000002,303.60000000000002,{"$f":"ROUND(N33*N35,2)","v":0},{"$f":"ROUND(O33*O35,2)","v":0},{"$f":"ROUND(P33*P35,2)","v":0},{"$f":"ROUND(Q33*Q35,2)","v":0},null,null,null,null,null,null,null,{"$f":"ROUND(Y33*Y35,2)","v":0},0,0,0,0,0,{"$f":"ROUND(AE33*AE35,2)","v":0},0,0,0,0,0,0,0,0]
[null,"ADICIONAL DE SOBREAVISO - 1/3 do valor da hora normal (estimado 104h por mês)"]
[null,null,null,{"$f":"ROUND((104/D19)*D13/3,2)","v":1428.01},{"$f":"ROUND((104/E19)*E13/3,2)","v":1156.6099999999999},{"$f":"ROUND((104/F19)*F13/3,2)","v":874.18},0,0,0,0,0,0,0,0,0,0,0,null,null,null,null,null,null,null,0,0,0,0,0,0,0,0,0,0,0,0,0,0,0]
[]
[null,"ADICIONAL NOTURNO"]
[]
[null,"INCIDÊNCIA (PERCENTUAL)"]
[null,null,null,0.2,0.2,0.2,0.2,0.2,0.2,0.2,0.2,0.2,0.2,0.2,0.2,0.2,0.2,null,null,null,null,null,null,null,0.2,0.2,0.2,0.2,0.2,0.2,0.2,0.2,0.2,0.2,0.2,0.2,0.2,0.2,0.2]
[null,"HORAS REAIS POR DIA"]
[null,null,null,0,0,0,0,0,0,0,0,7,0,0,0,0,7,null,null,null,null,null,null,null,0,0,0,0,0,0,0,0,0,0,0,0,0,0,0,0]
[null,"HORAS FICTAS POR DIA"]
[null,null,null,{"$f":"D46*8/7","v":0},{"$f":"E46*8/7","v":0},{"$f":"F46*8/7","v":0},0,0,{"$f":"I46*8/7","v":0},0,0,{"$f":"L46","v":7},0,0,0,0,{"$f":"Q46","v":7},null,null,null,null,null,null,null,{"$f":"Y46*8/7","v":0},{"$f":"Z46*8/7","v":0},{"$f":"AA46*8/7","v":0},0,0,0,0,0,0,0,0,0,0,0,0]
[null,"BASE DE CÁLCULO DO ADICIONAL NOTURNO (INCLUINDO ADICIONAIS E GRATIFICAÇÕES)"]
[null,null,null,{"$f":"D13+D31+D37+D39","v":10490.39},{"$f":"E13+E31+E37+E39","v":8496.630000000001},{"$f":"F13+F31+F37+F39","v":8086.1900000000005},4775.6600000000008,4940,{"$f":"I13+I31+I37+I39","v":4069.18},3030.94,3030.94,3030.94,2224.77,3500,9424.8700000000008,3814.1,3814.1,null,null,null,null,null,null,null,{"$f":"Y13+Y31+Y37+Y39","v":0},{"$f":"Z13+Z31+Z37+Z39","v":0},{"$f":"AA13+AA31+AA37+AA39","v":0},0,0,0,0,0,0,0,0,0,0,0,0]
[null,"VALOR MENSAL DO ADICIONAL NOTURNO (HORA NORMAL + HORA REDUZIDA) - POR POSTO"]
[null,null,null,{"$f":"ROUND(D48*D18*D44*D50/D19,2)","v":0},{"$f":"ROUND(E48*E18*E44*E50/E19,2)","v":0},{"$f":"ROUND(F48*F18*F44*F50/F19,2)","v":0},0,0,{"$f":"ROUND(I48*I18*I44*I50/I19,2)","v":0},0,0,289.32,0,0,0,0,{"$f":"ROUND(Q48*Q18*Q44*Q50/Q19,2)","v":364.07},null,null,null,null,null,null,null,{"$f":"ROUND(Y48*Y18*Y44*Y50/Y19,2)","v":{"$error":"#DIV/0!"}},{"$f":"ROUND(Z48*Z18*Z44*Z50/Z19,2)","v":{"$error":"#DIV/0!"}},{"$f":"ROUND(AA48*AA18*AA44*AA50/AA19,2)","v":{"$error":"#DIV/0!"}},{"$error":"#DIV/0!"},{"$error":"#DIV/0!"},{"$error":"#DIV/0!"},{"$error":"#DIV/0!"},{"$error":"#DIV/0!"},{"$error":"#DIV/0!"},{"$error":"#DIV/0!"},{"$error":"#DIV/0!"},{"$error":"#DIV/0!"},{"$error":"#DIV/0!"},{"$error":"#DIV/0!"},{"$error":"#DIV/0!"}]
[]
[null,"ADICIONAL DE HORA EXTRA"]
[]
[null,"INCIDÊNCIA (PERCENTUAL 1)"]
[null,null,null,0.5,0.5,0.5,0.5,0.5,0.5,0.5,0.5,0.5,0.5,0.5,0.5,0.5,0.5,null,null,null,null,null,null,null,0.5,0.5,0.5,0.5,0.5,0.5,0.5,0.5,0.5,0.5,0.5,0.5,0.5,0.5,0.5]
[null,"HORAS EXTRAS POR MÊS (PERCENTUAL 1)"]
[null,null,null,0,0,0,0,0,0,0,0,0,0,0,0,0,0,null,null,null,null,null,null,null,0,0,0,0,0,0,0,0,0,0,0,0,0,0,0]
[null,"VALOR MENSAL DO ADICIONAL DE HORAS EXTRAS (PERCENTUAL 1) - POR POSTO"]
[null,null,null,{"$f":"ROUND(D59*D57*D13/D19,2)","v":0},{"$f":"ROUND(E59*E57*E13/E19,2)","v":0},{"$f":"ROUND(F59*F57*F13/F19,2)","v":0},0,0,{"$f":"ROUND(I59*I57*I13/I19,2)","v":0},0,0,0,0,0,0,0,0,null,null,null,null,null,null,null,{"$f":"ROUND(Y59*Y57*Y13/Y19,2)","v":{"$error":"#DIV/0!"}},{"$f":"ROUND(Z59*Z57*Z13/Z19,2)","v":{"$error":"#DIV/0!"}},{"$f":"ROUND(AA59*AA57*AA13/AA19,2)","v":{"$error":"#DIV/0!"}},{"$error":"#DIV/0!"},{"$error":"#DIV/0!"},{"$error":"#DIV/0!"},{"$error":"#DIV/0!"},{"$error":"#DIV/0!"},{"$error":"#DIV/0!"},{"$error":"#DIV/0!"},{"$error":"#DIV/0!"},{"$error":"#DIV/0!"},{"$error":"#DIV/0!"},{"$error":"#DIV/0!"},{"$error":"#DIV/0!"}]
[null,"INCIDÊNCIA (PERCENTUAL 2)"]
[null,null,null,1,1,1,1,1,1,1,1,1,1,1,1,1,1,null,null,null,null,null,null,null,1,1,1,1,1,1,1,1,1,1,1,1,1,1,1]
[null,"HORAS EXTRAS POR MÊS (PERCENTUAL 2)"]
[null,null,null,0,0,0,0,0,0,0,0,0,0,0,0,15,15,null,null,null,null,null,null,null,0,0,0,0,0,0,0,0,0,0,0,0,0,0,0]
[null,"VALOR MENSAL DO ADICIONAL DE HORAS EXTRAS (PERCENTUAL 2) - POR POSTO"]
[null,null,null,{"$f":"ROUND(D65*D63*D13/D19,2)","v":0},{"$f":"ROUND(E65*E63*E13/E19,2)","v":0},{"$f":"ROUND(F65*F63*F13/F19,2)","v":0},0,0,{"$f":"ROUND(I65*I63*I13/I19,2)","v":0},0,0,0,0,0,0,{"$f":"ROUND(P65*P63*P13/P19,2)","v":200.04},200.04,null,null,null,null,null,null,null,{"$f":"ROUND(Y65*Y63*Y13/Y19,2)","v":{"$error":"#DIV/0!"}},{"$f":"ROUND(Z65*Z63*Z13/Z19,2)","v":{"$error":"#DIV/0!"}},{"$f":"ROUND(AA65*AA63*AA13/AA19,2)","v":{"$error":"#DIV/0!"}},{"$error":"#DIV/0!"},{"$error":"#DIV/0!"},{"$error":"#DIV/0!"},{"$error":"#DIV/0!"},{"$error":"#DIV/0!"},{"$error":"#DIV/0!"},{"$error":"#DIV/0!"},{"$error":"#DIV/0!"},{"$error":"#DIV/0!"},{"$error":"#DIV/0!"},{"$error":"#DIV/0!"},{"$error":"#DIV/0!"}]
[null,"TOTAL MENSAL DOS ADICIONAIS DE HORAS EXTRAS - POR POSTO"]
[null,null,null,{"$f":"D67+D61","v":0},{"$f":"E67+E61","v":0},{"$f":"F67+F61","v":0},0,0,{"$f":"I67+I61","v":0},0,0,0,0,0,0,{"$f":"ROUND(P67+P61,2)","v":200.04},{"$f":"ROUND(Q67+Q61,2)","v":200.04},null,null,null,null,null,null,null,{"$f":"Y67+Y61","v":{"$error":"#DIV/0!"}},{"$f":"Z67+Z61","v":{"$error":"#DIV/0!"}},{"$f":"AA67+AA61","v":{"$error":"#DIV/0!"}},{"$error":"#DIV/0!"},{"$error":"#DIV/0!"},{"$error":"#DIV/0!"},{"$error":"#DIV/0!"},{"$error":"#DIV/0!"},{"$error":"#DIV/0!"},{"$error":"#DIV/0!"},{"$error":"#DIV/0!"},{"$error":"#DIV/0!"},{"$error":"#DIV/0!"},{"$error":"#DIV/0!"},{"$error":"#DIV/0!"}]
[]
[null,"BENEFÍCIOS COMUNS - AUXÍLIO TRANSPORTE"]
[]
[null,"DISTRIBUIÇÃO ESTIMADA DE PROCEDÊNCIA"]
[null,null,"Cidade-satélite",{"$f":"100%-D75","v":0.33999999999999997},{"$f":"D74","v":0.33999999999999997},{"$f":"E74","v":0.33999999999999997},0.33999999999999997,0.33999999999999997,0.33999999999999997,0.33999999999999997,0.33999999999999997,0.33999999999999997,0.33999999999999997,0.33999999999999997,0.33999999999999997,0.33999999999999997,0.33999999999999997,null,null,null,null,null,null,null,0.68,0.68,0.68,0.68,0.68,0.68,0.68,0.68,0.68,0.68,0.68,0.68,0.68,0.68,0.68]
[null,null,"Região do entorno (média ponderada do contrato atual)",{"$f":"ROUND(23/35,2)","v":0.66},{"$f":"D75","v":0.66},0.66,0.66,0.66,0.66,0.66,0.66,0.66,0.66,0.66,0.66,0.66,0.66,null,null,null,null,null,null,null,0.32,0.32,0.32,0.32,0.32,0.32,0.32,0.32,0.32,0.32,0.32,0.32,0.32,0.32,0.32]
[null,null,"Esplanada - apenas para os que vêm do entorno",{"$f":"D75","v":0.66},0.66,0.66,0.66,0.66,0.66,0.66,0.66,0.66,0.66,0.66,0.66,0.66,0.66,null,null,null,null,null,null,null,{"$f":"Y75","v":0.32},{"$f":"Z75","v":0.32},{"$f":"AA75","v":0.32},0.32,0.32,0.32,0.32,0.32,0.32,0.32,0.32,0.32,0.32,0.32,0.32]
[null,"VALORES DOS VALES"]
[null,null,"Cidade-satélite",5.5,{"$f":"D78","v":5.5},5.5,5.5,5.5,5.5,5.5,5.5,5.5,5.5,5.5,5.5,5.5,5.5,null,null,null,null,null,null,null,null,null,{"$f":"V78","v":0},0,0,0,0,0,0,0,0,0,0,0,0]
[null,null,"Região do entorno (média ponderada do contrato atual)",10.15,{"$f":"D79","v":10.15},10.15,10.15,10.15,10.15,10.15,10.15,10.15,10.15,10.15,10.15,10.15,10.15,null,null,null,null,null,null,null,null,null,0,0,0,0,0,0,0,0,0,0,0,0,0]
[null,null,"Esplanada",2.75,{"$f":"D80","v":2.75},2.75,2.75,2.75,2.75,2.75,2.75,2.75,2.75,2.75,2.75,2.75,2.75,null,null,null,null,null,null,null,null,null,0,0,0,0,0,0,0,0,0,0,0,0,0]
[null,"VALOR MENSAL BRUTO DE PAGAMENTO - POR POSTO"]
[null,null,null,{"$f":"ROUND((D74*D78+D75*D79+D76*D80)*2*D18,2)","v":539.97},{"$f":"ROUND((E74*E78+E75*E79+E76*E80)*2*E18,2)","v":539.97},{"$f":"ROUND((F74*F78+F75*F79+F76*F80)*2*F18,2)","v":539.97},539.97,539.97,{"$f":"ROUND((I74*I78+I75*I79+I76*I80)*2*I18,2)","v":539.97},539.97,311.52,311.52,539.97,539.97,539.97,311.52,311.52,null,null,null,null,null,null,null,{"$f":"ROUND((Y74*Y78+Y75*Y79+Y76*Y80)*2*Y18,2)","v":0},{"$f":"ROUND((Z74*Z78+Z75*Z79+Z76*Z80)*2*Z18,2)","v":0},{"$f":"ROUND((AA74*AA78+AA75*AA79+AA76*AA80)*2*AA18,2)","v":0},0,0,0,0,0,0,0,0,0,0,0,0]
[null,"PERCENTUAL DE DESCONTO"]
[null,null,null,0,{"$f":"D84","v":0},{"$f":"E84","v":0},0,0,0,0,0,0,0,0,0,0,0,null,null,null,null,null,null,null,{"$f":"X84","v":0},{"$f":"Y84","v":0},{"$f":"Z84","v":0},0,0,0,0,0,0,0,0,0,0,0,0]
[null,"VALOR MENSAL DO DESCONTO - POR POSTO"]
[null,null,null,{"$f":"ROUND(D84*D13,2)","v":0},{"$f":"ROUND(E84*E13,2)","v":0},{"$f":"ROUND(F84*F13,2)","v":0},0,0,{"$f":"ROUND(I84*I13,2)","v":0},0,0,0,0,0,0,0,0,null,null,null,null,null,null,null,{"$f":"ROUND(Y84*Y13,2)","v":0},{"$f":"ROUND(Z84*Z13,2)","v":0},{"$f":"ROUND(AA84*AA13,2)","v":0},0,0,0,0,0,0,0,0,0,0,0,0]
[null,"VALOR MENSAL LÍQUIDO DO VALE TRANSPORTE - POR POSTO"]
[null,null,null,{"$f":"IF(D82>D86,D82-D86,0)","v":539.97},{"$f":"IF(E82>E86,E82-E86,0)","v":539.97},{"$f":"IF(F82>F86,F82-F86,0)","v":539.97},539.97,539.97,{"$f":"IF(I82>I86,I82-I86,0)","v":539.97},539.97,311.52,311.52,539.97,539.97,539.97,311.52,311.52,null,null,null,null,null,null,null,{"$f":"IF(Y82>Y86,Y82-Y86,0)","v":0},{"$f":"IF(Z82>Z86,Z82-Z86,0)","v":0},{"$f":"IF(AA82>AA86,AA82-AA86,0)","v":0},0,0,0,0,0,0,0,0,0,0,0,0]
[null,null,null,{"$f":"D88*D15","v":539.97},{"$f":"E88*E15","v":2159.88},{"$f":"F88*F15","v":2699.8500000000004}]
[null,"BENEFÍCIOS COMUNS - AUXÍLIO ALIMENTAÇÃO"]
[]
[null,null,"VALOR CCT",{"$f":"ROUND((25.2*0.91)+6,2)","v":28.93},{"$f":"D92","v":28.93},28.93,28.93,28.93,28.93,28.93,28.93,28.93,28.93,28.93,28.93,28.93,28.93,null,null,null,null,null,null,null,{"$f":"X92","v":0},{"$f":"Y92","v":0},{"$f":"Z92","v":0},0,0,0,0,0,0,0,0,0,0,0,0]
[null,null,"VALOR CD",35,{"$f":"D93","v":35},35,35,35,35,35,35,35,35,35,35,35,35,null,null,null,null,null,null,null,24.31,24.31,24.31,24.31,24.31,24.31,24.31,24.31,24.31,24.31,24.31,24.31,24.31,24.31,24.31]
[null,"VALOR MENSAL DO AUXÍLIO ALIMENTAÇÃO - POR POSTO"]
[null,null,null,{"$f":"ROUND(LARGE(D92:D93,1)*D18,2)","v":910},{"$f":"ROUND(LARGE(E92:E93,1)*E18,2)","v":910},{"$f":"ROUND(LARGE(F92:F93,1)*F18,2)","v":910},{"$f":"ROUND(LARGE(G92:G93,1)*G18,2)","v":910},{"$f":"ROUND(LARGE(H92:H93,1)*H18,2)","v":910},910,{"$f":"ROUND(LARGE(J92:J93,1)*J18,2)","v":910},525,525,910,910,910,525,525,null,null,null,null,null,null,null,{"$f":"ROUND(LARGE(Y92:Y93,1)*Y18,2)","v":0},{"$f":"ROUND(LARGE(Z92:Z93,1)*Z18,2)","v":0},{"$f":"ROUND(LARGE(AA92:AA93,1)*AA18,2)","v":0},0,0,0,0,0,0,0,0,0,0,0,0]
[null,null,null,{"$f":"D95*D15","v":910},{"$f":"E95*E15","v":3640},{"$f":"F95*F15","v":4550}]
[null,"BENEFÍCIOS ESPECIAIS - ASSISTÊNCIA MÉDICA E FAMILIAR"]
[]
[null,null,"OBRIGAÇÃO DE PAGTO","NÃO","NÃO","NÃO","NÃO","NÃO","NÃO","NÃO","NÃO","NÃO","NÃO","NÃO","NÃO","NÃO","NÃO",null,null,null,null,null,null,null,"NÃO","NÃO","NÃO","NÃO","NÃO","NÃO","NÃO","NÃO","NÃO","NÃO","NÃO","NÃO","NÃO","NÃO","NÃO"]
[null,null,"VALOR CCT",0,0,0,0,0,0,0,0,0,0,0,0,0,0,null,null,null,null,null,null,null,0,0,0,0,0,0,0,0,0,0,0,0,0,0,0]
[null,null,"VALOR MERCADO ",0,0,0,0,0,0,0,0,0,0,0,0,0,0,null,null,null,null,null,null,null,0,0,0,0,0,0,0,0,0,0,0,0,0,0,0]
[null,"VALOR MENSAL DO AUXÍLIO ESPECIAL - ASSISTÊNCIA MÉDICA E FAMILIAR - POR POSTO"]
[null,null,null,{"$f":"IF(D99=\"SIM\",ROUND(SMALL(D100:D101,1),2),0)","v":0},{"$f":"IF(E99=\"SIM\",ROUND(SMALL(E100:E101,1),2),0)","v":0},{"$f":"IF(F99=\"SIM\",ROUND(SMALL(F100:F101,1),2),0)","v":0},0,0,{"$f":"IF(I99=\"SIM\",ROUND(SMALL(I100:I101,1),2),0)","v":0},0,0,0,0,0,0,0,0,null,null,null,null,null,null,null,{"$f":"IF(Y99=\"SIM\",ROUND(SMALL(Y100:Y101,1),2),0)","v":0},0,0,0,0,0,0,0,0,0,0,0,0,0,0]
[]
[null,"BENEFÍCIOS ESPECIAIS - SEGURO DE VIDA E AUXÍLIO-FUNERAL, AUX ODONT, AUX CRECHE"]
[]
[null,"SEGURO DE VIDA E AUXÍLIO FUNERAL"]
[null,null,"OBRIGAÇÃO DE PAGTO","SIM","SIM","SIM","SIM","SIM","SIM","SIM","SIM","SIM","SIM","SIM","SIM","SIM","SIM",null,null,null,null,null,null,null,"SIM","SIM","SIM","SIM","SIM","SIM","SIM","SIM","SIM","SIM","SIM","SIM","SIM","SIM","SIM"]
[null,null,"VALOR CCT"]
[null,null,"VALOR MERCADO",13.95,13.95,13.95,13.95,13.95,13.95,13.95,13.95,13.95,13.95,13.95,13.95,13.95,13.95,null,null,null,null,null,null,null,null,null,18.399999999999999,18.399999999999999,18.399999999999999,18.399999999999999,18.399999999999999,18.399999999999999,18.399999999999999,18.399999999999999,18.399999999999999,18.399999999999999,18.399999999999999,18.399999999999999,18.399999999999999]
[null,"VALOR MENSAL DO AUXÍLIO ESPECIAL - SEGURO DE VIDA E AUXÍLIO FUNERAL - POR POSTO"]
[null,null,null,{"$f":"IF(D108=\"SIM\",ROUND(SMALL(D109:D110,1),2),0)","v":13.95},13.95,13.95,13.95,13.95,13.95,13.95,13.95,13.95,13.95,13.95,13.95,13.95,13.95,null,null,null,null,null,null,null,{"$f":"IF(Y108=\"SIM\",ROUND(SMALL(Y109:Y110,1),2),0)","v":{"$error":"#NUM!"}},{"$error":"#NUM!"},18.399999999999999,18.399999999999999,18.399999999999999,18.399999999999999,18.399999999999999,18.399999999999999,18.399999999999999,18.399999999999999,18.399999999999999,18.399999999999999,18.399999999999999,18.399999999999999,18.399999999999999]
[null,"AUXÍLIO ODONTOLÓGICO"]
[null,null,"OBRIGAÇÃO DE PAGTO","NÃO","NÃO","NÃO","NÃO","NÃO","NÃO","NÃO","NÃO","NÃO","NÃO","NÃO","NÃO","NÃO","NÃO",null,null,null,null,null,null,null,"NÃO","NÃO","NÃO","NÃO","NÃO","NÃO","NÃO","NÃO","NÃO","NÃO","NÃO","NÃO","NÃO","NÃO","NÃO"]
[null,null,"VALOR CCT",0,0,0,0,0,0,0,0,0,0,0,0,0,0,null,null,null,null,null,null,null,0,0,0,0,0,0,0,0,0,0,0,0,0,0,0]
[null,null,"VALOR MERCADO",0,0,0,0,0,0,0,0,0,0,0,0,0,0,null,null,null,null,null,null,null,0,0,0,0,0,0,0,0,0,0,0,0,0,0,0]
[null,"VALOR MENSAL DO AUXÍLIO ESPECIAL - AUXILIO ODONTOLOGICO - POR POSTO"]
[null,null,null,{"$f":"IF(D114=\"SIM\",ROUND(SMALL(D115:D116,1),2),0)","v":0},0,0,0,0,0,0,0,0,0,0,0,0,0,null,null,null,null,null,null,null,{"$f":"IF(Y114=\"SIM\",ROUND(SMALL(Y115:Y116,1),2),0)","v":0},0,0,0,0,0,0,0,0,0,0,0,0,0,0]
[null,"TOTAL MENSAL DOS AUXÍLIOS ESPECIAIS - POR POSTO"]
[null,null,null,{"$f":"+D112+D118","v":13.95},13.95,13.95,13.95,13.95,13.95,13.95,13.95,13.95,13.95,13.95,13.95,13.95,13.95,null,null,null,null,null,null,null,{"$f":"+Y112+Y118","v":{"$error":"#NUM!"}},{"$error":"#NUM!"},18.399999999999999,18.399999999999999,18.399999999999999,18.399999999999999,18.399999999999999,18.399999999999999,18.399999999999999,18.399999999999999,18.399999999999999,18.399999999999999,18.399999999999999,18.399999999999999,18.399999999999999]
[]
[]
[]
[null,null,null,null,null,null,null,null,null,null,null,null,null,null,null,null,null,null,null,null,null,null,null,null,{"$f":"Y95+Y88","v":0},0,0,0,0,0,0,0,0,0,0,0,0,0,0]

{"sheet":"Encargos Sociais","index":19,"n_rows":46,"n_cols":7,"rows_kept":46,"cut":false,"hidden":false,"merged":[[2,1,2,3],[3,1,3,4]]}
[]
[]
[]
[null,"ENCARGOS SOCIAIS SOBRE A MÃO DE OBRA"]
[null,null,null,null,"Percentuais"]
[]
[null,"Referência:"]
[null,null,"SINAPI/MPU"]
[]
[null,"Categorias:"]
[null,null,"TODAS, EXCETO PLANTONISTAS"]
[]
[null,"GRUPO A: Encargos Sociais Básicos - Previdenciários (GPS), Fundo de Garantia por Tempo de Serviço (FGTS) e Outras Contribuições",null,null,{"$f":"ROUND(SUM(E14:E22),4)","v":0.35799999999999998}]
[null,null,"A","INSS (art. 22, inciso I, Lei nº 8.212/91)",0.2]
[null,null,"B","Salário Educação (art. 3º, inciso I, Decreto nº 87.043/82)",2.5000000000000001E-2,null,"* Nota 1 - Os percentuais dos encargos previdenciários, do FGTS e demais contribuições são estabelecidos por legislação vigente."]
[null,null,"C","SAT/RAT (art. 22, II, Lei 8.212/91 e Anexo V, Decreto 6.042/07) - Enquadramento 9103-1/00",0.01,null,"* Nota 2 - O SAT, a depender do grau de risco do serviço, irá variar entre 1%, para risco leve, de 2%, para risco médio, e de 3% para risco grave."]
[null,null,"D","SESC ou SESI (art. 30, Lei nº 8.036/90 e art. 1º, Lei 8.154/90)",1.4999999999999999E-2,null,"* Nota 3 - Os percentuais do Submódulo 2.2 incidem sobre o Módulo 1, o Submódulo 2.1, o Módulo 3, o Módulo 4 e o Módulo 6."]
[null,null,"E","SENAI ou SENAC (Decreto nº 2.318/86)",0.01]
[null,null,"F","SEBRAE (§ 3º, art. 8º, Lei 8.029/90, alterada pela Lei nº 8.154/90)",6.0000000000000001E-3]
[null,null,"G","INCRA (art. 1º, I, Decreto Lei 1.146/70 e Lei 7.787, de 30/06/89)",2E-3]
[null,null,"H","FGTS (Lei Complementar nº 110/01 e art. 30, Lei nº 8.036/90)",0.08]
[null,null,"I","SECONCI (Convenções Coletivas de Trabalho da construção)",0.01]
[]
[null,"GRUPO B: Encargos Sociais Relacionados ao Custo do Profissional Ausente - Ausências Legais",null,null,{"$f":"ROUND(SUM(E25:E33),4)","v":0.22450000000000001}]
[null,null,"A","Férias (Arts. 129 e 130, inc. I, da CLT)",{"$f":"ROUND(1/11,4)","v":9.0899999999999995E-2},null,"* Nota 1 - As alíneas “A” a “F” referem-se somente ao custo que será pago ao repositor pelos dias \ntrabalhados quando da necessidade de substituir a mão de obra alocada na prestação do serviço."]
[null,null,"B","Ausências Legais (Arts. 131 e 473 da CLT)",{"$f":"ROUND(2/252,4)","v":7.9000000000000008E-3},null,"* Nota 2 - Adotou-se a estimativa do SINAPI de 2 dias por ano. Em 252 dias úteis por ano."]
[null,null,"C","Licença-Paternidade (Art. 7º, XIX, e art. 10, §1º, do ADCT, CF/1988 e Art. 1º, II, da Lei 11.770/2008)",{"$f":"ROUND((5/(30*12))*0.0596,4)","v":8.0000000000000004E-4},null,"* Nota 3 - Utilizada a proporção de 50% para homens, 5 dias de afastamento, e a probabilidade de um trabalhador requerer a Licença Paternidade em 5,96%, conforme SINAPI (Anuário Estatístico da Previdência Social - 2017)"]
[null,null,"D","Ausência por Acidente de Trabalho (Art. 131, III, da CLT)",{"$f":"ROUND(0.0205*15/360,4)","v":8.9999999999999998E-4},null,"* Nota 4 - Utilzada a estatística de 2,05% dos contribuintes beneficiados com a emissão do auxílio, conforme Anuário Estatístico da Previdência Social. Afastamento de 15 dias a cargo da empresa."]
[null,null,"E","Afastamento Maternidade (Art. 71 da Lei nº 8.213/1991)",{"$f":"ROUND(0.0508*(120/360)*(30+30*4/3)/360,4)","v":3.3E-3},null,"* Nota 5 - Utilizada a estimativa de 120 dias de afastamento, e a probabilidade de uma trabalhadora requerer a Licença Maternidade em 5,08%, conforme SINAPI (citando dados do IBGE 2017) - A própria previdência paga o benefício pelos 120 dias, contudo o empregador arca com o 13º e com as férias"]
[null,null,"F","Auxílio Enfermidade - Doença (Art. 59 da Lei nº 8.213/1991)",{"$f":"ROUND(((0.0376*15)+2)/360,4)","v":7.1000000000000004E-3},null,"* Nota 6 - Utilizada a estatística de 3,76% dos contribuintes beneficiados com o auxílio, conforme Anuário Estatístico da Previdência Social de 2016 (acrescidos de 2 dias ao ano, para os quais o trabalhador nem requer o benefício da Previdência - conforme SINAPI)"]
[null,null,"G","Adicional de Férias (componente do Submódulo 2.1)",{"$f":"ROUND(1/3*1/11,4)","v":3.0300000000000001E-2},null,"* Nota 7 - O adicional de férias contido no Submódulo 2.1 corresponde a 1/3 da remuneração que, por sua vez, é dividida por 12 contome Nota 1."]
[null,null,"H","13º Salário (destacado na planilha de custos)",8.3299999999999999E-2,null,"* Nota 8 - Provisiona-se, mensalmente, o proporcional a 1/12 dos valores referentes a gratificação natalina e adicional de férias."]
[null,null,"I","Intervalo para repouso ou alimentação (componente do Submódulo 4.2)",0]
[]
[null,"GRUPO C: Encargos Sociais Relacionados à Previsão para Rescisão Trabalhista",null,null,{"$f":"ROUND(SUM(E36:E41),4)","v":4.6399999999999997E-2}]
[null,null,"A","Aviso Prévio Indenizado (Art. 7º, inciso XXI, da CF/1988 e arts. 477, 487, §1º, e 491 da CLT)",{"$f":"ROUND(0.035*30/300,4)","v":3.5000000000000001E-3},null,"* Nota 1 - Considerou-se 3,5% de demitidos sem justa causa ao ano e recebendo aviso indenizado"]
[null,null,"B","Incidência do FGTS sobre o Aviso Prévio Indenizado (Súmula 305 TST)",{"$f":"ROUND(E21*E36,4)","v":2.9999999999999997E-4}]
[null,null,"C","Multa do FGTS e Contribuição Social sobre o Aviso Prévio Indenizado (Art. 18, §1º, da Lei 8.036/1990 e art. 1º da LC nº 110/2001)",{"$f":"ROUND(0.4*E21*0.035,4)","v":1.1000000000000001E-3},null,"* Nota 2 - Incide sobre a Remuneração + 13º salário (1/12) + Férias (1/12) + Adicional de Férias (1/36) x 40% multa para o empregador x 8% FGTS x taxa de rotatividade estimada 3,5%"]
[null,null,"D","Aviso Prévio Trabalhado (Art. 488, parágrafo único, CLT)",{"$f":"ROUND((7/360)*12/30,4)","v":7.7999999999999996E-3},null,"* Nota 3 - Considerou-se demissões de 100% ao final do contrato, com um prazo médio estimado de 30 meses"]
[null,null,"E","Incidência de GPS, FGTS e outras contribuições sobre o Aviso Prévio Trabalhado",{"$f":"ROUND(E39*E13,4)","v":2.8E-3}]
[null,null,"F","Multa do FGTS e Contribuição Social sobre o Aviso Prévio Trabalhado",{"$f":"ROUND((0.4*E21*(1-0.035)),4)","v":3.09E-2},null,"* Nota 4 - Incide sobre a Remuneração + 13º salário (1/12) + Férias (1/12) + Adicional de Férias (1/36) x 40% multa para o empregador x 8% FGTS x (1- taxa de rotatividade estimada Nota2)"]
[]
[null,"GRUPO D: Reincidências",null,null,{"$f":"ROUND(SUM(E44:E44),4)","v":8.0399999999999999E-2}]
[null,null,"A","Reincidência do Grupo A sobre o Grupo B",{"$f":"ROUND(E13*E24,4)","v":8.0399999999999999E-2}]
[]
[null,null,null,"SOMATÓRIO - ENCARGOS SOCIAIS SOBRE A MÃO DE OBRA",{"$f":"E43+E35+E24+E13","v":0.70930000000000004}]

{"sheet":"Encargos Sociais - HE","index":20,"n_rows":46,"n_cols":7,"rows_kept":46,"cut":false,"hidden":false,"merged":[[2,1,2,3],[3,1,3,4]]}
[]
[]
[]
[null,"ENCARGOS SOCIAIS SOBRE A MÃO DE OBRA"]
[null,null,null,null,"Percentuais"]
[]
[null,"Referência:"]
[null,null,"SINAPI/MPU"]
[]
[null,"Categorias:"]
[null,null,"TODAS, EXCETO PLANTONISTAS"]
[]
[null,"GRUPO A: Encargos Sociais Básicos - Previdenciários (GPS), Fundo de Garantia por Tempo de Serviço (FGTS) e Outras Contribuições",null,null,{"$f":"ROUND(SUM(E14:E22),4)","v":0.35799999999999998}]
[null,null,"A","INSS (art. 22, inciso I, Lei nº 8.212/91)",0.2]
[null,null,"B","Salário Educação (art. 3º, inciso I, Decreto nº 87.043/82)",2.5000000000000001E-2,null,"* Nota 1 - Os percentuais dos encargos previdenciários, do FGTS e demais contribuições são estabelecidos por legislação vigente."]
[null,null,"C","SAT/RAT (art. 22, II, Lei 8.212/91 e Anexo V, Decreto 6.042/07) - Enquadramento 9103-1/00",0.01,null,"* Nota 2 - O SAT, a depender do grau de risco do serviço, irá variar entre 1%, para risco leve, de 2%, para risco médio, e de 3% para risco grave."]
[null,null,"D","SESC ou SESI (art. 30, Lei nº 8.036/90 e art. 1º, Lei 8.154/90)",1.4999999999999999E-2,null,"* Nota 3 - Os percentuais do Submódulo 2.2 incidem sobre o Módulo 1, o Submódulo 2.1, o Módulo 3, o Módulo 4 e o Módulo 6."]
[null,null,"E","SENAI ou SENAC (Decreto nº 2.318/86)",0.01]
[null,null,"F","SEBRAE (§ 3º, art. 8º, Lei 8.029/90, alterada pela Lei nº 8.154/90)",6.0000000000000001E-3]
[null,null,"G","INCRA (art. 1º, I, Decreto Lei 1.146/70 e Lei 7.787, de 30/06/89)",2E-3]
[null,null,"H","FGTS (Lei Complementar nº 110/01 e art. 30, Lei nº 8.036/90)",0.08]
[null,null,"I","SECONCI (Convenções Coletivas de Trabalho da construção)",0.01]
[]
[null,"GRUPO B: Encargos Sociais Relacionados ao Custo do Profissional Ausente - Ausências Legais",null,null,{"$f":"ROUND(SUM(E25:E33),4)","v":0.39119999999999999}]
[null,null,"A","Férias (Arts. 129 e 130, inc. I, da CLT)",{"$f":"ROUND(1/11,4)","v":9.0899999999999995E-2},null,"* Nota 1 - As alíneas “A” a “F” referem-se somente ao custo que será pago ao repositor pelos dias \ntrabalhados quando da necessidade de substituir a mão de obra alocada na prestação do serviço."]
[null,null,"B","Ausências Legais (Arts. 131 e 473 da CLT)",{"$f":"ROUND(2/252,4)","v":7.9000000000000008E-3},null,"* Nota 2 - Adotou-se a estimativa do SINAPI de 2 dias por ano. Em 252 dias úteis por ano."]
[null,null,"C","Licença-Paternidade (Art. 7º, XIX, e art. 10, §1º, do ADCT, CF/1988 e Art. 1º, II, da Lei 11.770/2008)",{"$f":"ROUND((5/(30*12))*0.0596,4)","v":8.0000000000000004E-4},null,"* Nota 3 - Utilizada a proporção de 50% para homens, 5 dias de afastamento, e a probabilidade de um trabalhador requerer a Licença Paternidade em 5,96%, conforme SINAPI (Anuário Estatístico da Previdência Social - 2017)"]
[null,null,"D","Ausência por Acidente de Trabalho (Art. 131, III, da CLT)",{"$f":"ROUND(0.0205*15/360,4)","v":8.9999999999999998E-4},null,"* Nota 4 - Utilzada a estatística de 2,05% dos contribuintes beneficiados com a emissão do auxílio, conforme Anuário Estatístico da Previdência Social. Afastamento de 15 dias a cargo da empresa."]
[null,null,"E","Afastamento Maternidade (Art. 71 da Lei nº 8.213/1991)",{"$f":"ROUND(0.0508*(120/360)*(30+30*4/3)/360,4)","v":3.3E-3},null,"* Nota 5 - Utilizada a estimativa de 120 dias de afastamento, e a probabilidade de uma trabalhadora requerer a Licença Maternidade em 5,08%, conforme SINAPI (citando dados do IBGE 2017) - A própria previdência paga o benefício pelos 120 dias, contudo o empregador arca com o 13º e com as férias"]
[null,null,"F","Auxílio Enfermidade - Doença (Art. 59 da Lei nº 8.213/1991)",{"$f":"ROUND(((0.0376*15)+2)/360,4)","v":7.1000000000000004E-3},null,"* Nota 6 - Utilizada a estatística de 3,76% dos contribuintes beneficiados com o auxílio, conforme Anuário Estatístico da Previdência Social de 2016 (acrescidos de 2 dias ao ano, para os quais o trabalhador nem requer o benefício da Previdência - conforme SINAPI)"]
[null,null,"G","Adicional de Férias (componente do Submódulo 2.1)",{"$f":"ROUND(1/3*1/11,4)","v":3.0300000000000001E-2},null,"* Nota 7 - O adicional de férias contido no Submódulo 2.1 corresponde a 1/3 da remuneração que, por sua vez, é dividida por 12 contome Nota 1."]
[null,null,"H","13º Salário (destacado na planilha de custos)",8.3299999999999999E-2,null,"* Nota 8 - Provisiona-se, mensalmente, o proporcional a 1/12 dos valores referentes a gratificação natalina e adicional de férias."]
[null,null,"I","Repouso Semanal Remunerado (DSR)",{"$f":"5/30","v":0.16666666666666666}]
[]
[null,"GRUPO C: Encargos Sociais Relacionados à Previsão para Rescisão Trabalhista",null,null,{"$f":"ROUND(SUM(E36:E41),4)","v":4.6399999999999997E-2}]
[null,null,"A","Aviso Prévio Indenizado (Art. 7º, inciso XXI, da CF/1988 e arts. 477, 487, §1º, e 491 da CLT)",{"$f":"ROUND(0.035*30/300,4)","v":3.5000000000000001E-3},null,"* Nota 1 - Considerou-se 3,5% de demitidos sem justa causa ao ano e recebendo aviso indenizado"]
[null,null,"B","Incidência do FGTS sobre o Aviso Prévio Indenizado (Súmula 305 TST)",{"$f":"ROUND(E21*E36,4)","v":2.9999999999999997E-4}]
[null,null,"C","Multa do FGTS e Contribuição Social sobre o Aviso Prévio Indenizado (Art. 18, §1º, da Lei 8.036/1990 e art. 1º da LC nº 110/2001)",{"$f":"ROUND(0.4*E21*0.035,4)","v":1.1000000000000001E-3},null,"* Nota 2 - Incide sobre a Remuneração + 13º salário (1/12) + Férias (1/12) + Adicional de Férias (1/36) x 40% multa para o empregador x 8% FGTS x taxa de rotatividade estimada 3,5%"]
[null,null,"D","Aviso Prévio Trabalhado (Art. 488, parágrafo único, CLT)",{"$f":"ROUND((7/360)*12/30,4)","v":7.7999999999999996E-3},null,"* Nota 3 - Considerou-se demissões de 100% ao final do contrato, com um prazo médio estimado de 30 meses"]
[null,null,"E","Incidência de GPS, FGTS e outras contribuições sobre o Aviso Prévio Trabalhado",{"$f":"ROUND(E39*E13,4)","v":2.8E-3}]
[null,null,"F","Multa do FGTS e Contribuição Social sobre o Aviso Prévio Trabalhado",{"$f":"ROUND((0.4*E21*(1-0.035)),4)","v":3.09E-2},null,"* Nota 4 - Incide sobre a Remuneração + 13º salário (1/12) + Férias (1/12) + Adicional de Férias (1/36) x 40% multa para o empregador x 8% FGTS x (1- taxa de rotatividade estimada Nota2)"]
[]
[null,"GRUPO D: Reincidências",null,null,{"$f":"ROUND(SUM(E44:E44),4)","v":0.14000000000000001}]
[null,null,"A","Reincidência do Grupo A sobre o Grupo B",{"$f":"ROUND(E13*E24,4)","v":0.14000000000000001}]
[]
[null,null,null,"SOMATÓRIO - ENCARGOS SOCIAIS SOBRE A MÃO DE OBRA",{"$f":"E43+E35+E24+E13","v":0.93559999999999999}]

{"sheet":"Encargos Sociais - Plant","index":21,"n_rows":46,"n_cols":7,"rows_kept":46,"cut":false,"hidden":false,"merged":[[2,1,2,3],[3,1,3,4]]}
[]
[]
[]
[null,"ENCARGOS SOCIAIS SOBRE A MÃO DE OBRA"]
[null,null,null,null,"Percentuais"]
[]
[null,"Referência:"]
[null,null,"SINAPI/MPU"]
[]
[null,"Categorias:"]
[null,null,"8, 9, 13, 14"]
[]
[null,"GRUPO A: Encargos Sociais Básicos - Previdenciários (GPS), Fundo de Garantia por Tempo de Serviço (FGTS) e Outras Contribuições",null,null,{"$f":"ROUND(SUM(E14:E22),4)","v":0.35799999999999998}]
[null,null,"A","INSS (art. 22, inciso I, Lei nº 8.212/91)",0.2]
[null,null,"B","Salário Educação (art. 3º, inciso I, Decreto nº 87.043/82)",2.5000000000000001E-2,null,"* Nota 1 - Os percentuais dos encargos previdenciários, do FGTS e demais contribuições são estabelecidos por legislação vigente."]
[null,null,"C","SAT/RAT (art. 22, II, Lei 8.212/91 e Anexo V, Decreto 6.042/07) - Enquadramento 9103-1/00",0.01,null,"* Nota 2 - O SAT, a depender do grau de risco do serviço, irá variar entre 1%, para risco leve, de 2%, para risco médio, e de 3% para risco grave."]
[null,null,"D","SESC ou SESI (art. 30, Lei nº 8.036/90 e art. 1º, Lei 8.154/90)",1.4999999999999999E-2,null,"* Nota 3 - Os percentuais do Submódulo 2.2 incidem sobre o Módulo 1, o Submódulo 2.1, o Módulo 3, o Módulo 4 e o Módulo 6."]
[null,null,"E","SENAI ou SENAC (Decreto nº 2.318/86)",0.01]
[null,null,"F","SEBRAE (§ 3º, art. 8º, Lei 8.029/90, alterada pela Lei nº 8.154/90)",6.0000000000000001E-3]
[null,null,"G","INCRA (art. 1º, I, Decreto Lei 1.146/70 e Lei 7.787, de 30/06/89)",2E-3]
[null,null,"H","FGTS (Lei Complementar nº 110/01 e art. 30, Lei nº 8.036/90)",0.08]
[null,null,"I","SECONCI (Convenções Coletivas de Trabalho da construção)",0.01]
[]
[null,"GRUPO B: Encargos Sociais Relacionados ao Custo do Profissional Ausente - Ausências Legais",null,null,{"$f":"ROUND(SUM(E25:E33),4)","v":0.25779999999999997}]
[null,null,"A","Férias (Arts. 129 e 130, inc. I, da CLT)",{"$f":"ROUND(1/11,4)","v":9.0899999999999995E-2},null,"* Nota 1 - As alíneas “A” a “F” referem-se somente ao custo que será pago ao repositor pelos dias \ntrabalhados quando da necessidade de substituir a mão de obra alocada na prestação do serviço."]
[null,null,"B","Ausências Legais (Arts. 131 e 473 da CLT)",{"$f":"ROUND(2/252,4)","v":7.9000000000000008E-3},null,"* Nota 2 - Adotou-se a estimativa do SINAPI de 2 dias por ano. Em 252 dias úteis por ano."]
[null,null,"C","Licença-Paternidade (Art. 7º, XIX, e art. 10, §1º, do ADCT, CF/1988 e Art. 1º, II, da Lei 11.770/2008)",{"$f":"ROUND((5/(30*12))*0.0596,4)","v":8.0000000000000004E-4},null,"* Nota 3 - Utilizada a proporção de 50% para homens, 5 dias de afastamento, e a probabilidade de um trabalhador requerer a Licença Paternidade em 5,96%, conforme SINAPI (Anuário Estatístico da Previdência Social - 2017)"]
[null,null,"D","Ausência por Acidente de Trabalho (Art. 131, III, da CLT)",{"$f":"ROUND(0.0205*15/360,4)","v":8.9999999999999998E-4},null,"* Nota 4 - Utilzada a estatística de 2,05% dos contribuintes beneficiados com a emissão do auxílio, conforme Anuário Estatístico da Previdência Social. Afastamento de 15 dias a cargo da empresa."]
[null,null,"E","Afastamento Maternidade (Art. 71 da Lei nº 8.213/1991)",{"$f":"ROUND(0.0508*(120/360)*(30+30*4/3)/360,4)","v":3.3E-3},null,"* Nota 5 - Utilizada a estimativa de 120 dias de afastamento, e a probabilidade de uma trabalhadora requerer a Licença Maternidade em 5,08%, conforme SINAPI (citando dados do IBGE 2017) - A própria previdência paga o benefício pelos 120 dias, contudo o empregador arca com o 13º e com as férias"]
[null,null,"F","Auxílio Enfermidade - Doença (Art. 59 da Lei nº 8.213/1991)",{"$f":"ROUND(((0.0376*15)+2)/360,4)","v":7.1000000000000004E-3},null,"* Nota 6 - Utilizada a estatística de 3,76% dos contribuintes beneficiados com o auxílio, conforme Anuário Estatístico da Previdência Social de 2016 (acrescidos de 2 dias ao ano, para os quais o trabalhador nem requer o benefício da Previdência - conforme SINAPI)"]
[null,null,"G","Adicional de Férias (componente do Submódulo 2.1)",{"$f":"ROUND(1/3*1/11,4)","v":3.0300000000000001E-2},null,"* Nota 7 - O adicional de férias contido no Submódulo 2.1 corresponde a 1/3 da remuneração que, por sua vez, é dividida por 12 contome Nota 1."]
[null,null,"H","13º Salário (destacado na planilha de custos)",8.3299999999999999E-2,null,"* Nota 8 - Provisiona-se, mensalmente, o proporcional a 1/12 dos valores referentes a gratificação natalina e adicional de férias."]
[null,null,"I","Feriados remunerados (plantonistas)",{"$f":"12/360","v":3.3333333333333333E-2},null,"* Nota 9 - Em média, 12 feriados anuais"]
[]
[null,"GRUPO C: Encargos Sociais Relacionados à Previsão para Rescisão Trabalhista",null,null,{"$f":"ROUND(SUM(E36:E41),4)","v":4.6399999999999997E-2}]
[null,null,"A","Aviso Prévio Indenizado (Art. 7º, inciso XXI, da CF/1988 e arts. 477, 487, §1º, e 491 da CLT)",{"$f":"ROUND(0.035*30/300,4)","v":3.5000000000000001E-3},null,"* Nota 1 - Considerou-se 3,5% de demitidos sem justa causa ao ano e recebendo aviso indenizado"]
[null,null,"B","Incidência do FGTS sobre o Aviso Prévio Indenizado (Súmula 305 TST)",{"$f":"ROUND(E21*E36,4)","v":2.9999999999999997E-4}]
[null,null,"C","Multa do FGTS e Contribuição Social sobre o Aviso Prévio Indenizado (Art. 18, §1º, da Lei 8.036/1990 e art. 1º da LC nº 110/2001)",{"$f":"ROUND(0.4*E21*0.035,4)","v":1.1000000000000001E-3},null,"* Nota 2 - Incide sobre a Remuneração + 13º salário (1/12) + Férias (1/12) + Adicional de Férias (1/36) x 40% multa para o empregador x 8% FGTS x taxa de rotatividade estimada 3,5%"]
[null,null,"D","Aviso Prévio Trabalhado (Art. 488, parágrafo único, CLT)",{"$f":"ROUND((7/360)*12/30,4)","v":7.7999999999999996E-3},null,"* Nota 3 - Considerou-se demissões de 100% ao final do contrato, com um prazo médio estimado de 30 meses"]
[null,null,"E","Incidência de GPS, FGTS e outras contribuições sobre o Aviso Prévio Trabalhado",{"$f":"ROUND(E39*E13,4)","v":2.8E-3}]
[null,null,"F","Multa do FGTS e Contribuição Social sobre o Aviso Prévio Trabalhado",{"$f":"ROUND((0.4*E21*(1-0.035)),4)","v":3.09E-2},null,"* Nota 4 - Incide sobre a Remuneração + 13º salário (1/12) + Férias (1/12) + Adicional de Férias (1/36) x 40% multa para o empregador x 8% FGTS x (1- taxa de rotatividade estimada Nota2)"]
[]
[null,"GRUPO D: Reincidências",null,null,{"$f":"ROUND(SUM(E44:E44),4)","v":9.2299999999999993E-2}]
[null,null,"A","Reincidência do Grupo A sobre o Grupo B",{"$f":"ROUND(E13*E24,4)","v":9.2299999999999993E-2}]
[]
[null,null,null,"SOMATÓRIO - ENCARGOS SOCIAIS SOBRE A MÃO DE OBRA",{"$f":"E43+E35+E24+E13","v":0.75449999999999995}]

{"sheet":"BDI - Geral","index":22,"n_rows":27,"n_cols":7,"rows_kept":27,"cut":false,"hidden":false,"merged":[[2,1,2,3],[3,1,3,4],[4,1,4,3]]}
[]
[]
[]
[null,"COMPOSIÇÃO DA TAXA DE CUSTOS INDIRETOS, TRIBUTOS E LUCRO - BDI"]
[null,"APLICAÇÃO: MÃO DE OBRA, 13º, HORAS EXTRAS (SOB DEMANDA), SREP, EPI, UNIFORMES, FERRAMENTAS, EQUIPAMENTOS, MATERIAIS DE CONSUMO,PROFISSIONAIS NÃO RESIDENTES, VEÍCULOS E SERVIÇOS ADICIONAIS",null,null,"Percentuais"]
[]
[null,"Custos Indiretos da Contratada",null,null,{"$f":"SUM(E8:E9)","v":3.5700000000000003E-2}]
[null,null,"A","Administração Central - Inclui despesas para o atendimento às exigências da NR-04",3.0300000000000001E-2,null,"* Nota 1 - O Somatório da Administração Central com o Lucro deve ser inferior a 12%"]
[null,null,"B","Seguros, Garantias e Riscos",{"$f":"0.34%+0.2%","v":5.4000000000000003E-3},null,"* Nota 2 - O risco previsto para o porte do contrato majorado em mais 0,20% devido ao não pagamento dos insumos componentes do custo do posto quando da ausência do mesmo."]
[]
[null,"Lucro",null,null,{"$f":"SUM(E12:E12)","v":0.04}]
[null,null,"A","Lucro Real sobre os Custos Administrados",0.04]
[]
[null,"Despesas Financeiras",null,null,{"$f":"E15","v":5.1000000000000004E-3}]
[null,null,"A","Cálculo Baseado no Prazo para a Restituição dos Desembolsos Realizados pelo Contratado e na Taxa de Retorno Arbitrada",{"$f":"ROUND((1+E17)^(E16/252)-1,4)","v":5.1000000000000004E-3},null,"* Nota 1 - DF = [(1+TR)^(DU/252)]/100"]
[null,null,"A.1","Dias Úteis Considerados",11,null,"* Nota 2 - Diferença de dias entre o desembolso, pelo contratado, e o pagamento, pela Câmara"]
[null,null,"A.2","Taxa de Retorno",0.1225,null,"* Nota 3 - A taxa sugerida é a meta da SELIC"]
[]
[null,"Impostos - Tributos Federais",null,null,{"$f":"SUM(E20:E22)","v":7.3999999999999996E-2}]
[null,null,"A","Contribuição para o Financiamento da Seguridade Social - COFINS",{"$f":"ROUND(0.8*7.6%,4)","v":6.08E-2},null,"* Nota 1 - Redução de 20% considerando as deduções permitidas em Lei, conforme SENGE, citado pelo TCU - Acórdão 2622/2013"]
[null,null,"B","Programa de Integração Social - PIS",{"$f":"ROUND(0.8*1.65%,4)","v":1.32E-2},null,"* Nota 2 - Redução de 20% considerando as deduções permitidas em Lei, conforme SENGE, citado pelo TCU - Acórdão 2622/2013"]
[null,null,"C","Contribuição Previdenciária sobre a Receita Bruta - CPRB",0,null,"* Nota 3 - Lei 12.546/2011 - Verificar atualizações e setores beneficiados"]
[]
[null,"Impostos - Tributos Distritais",null,null,{"$f":"SUM(E25:E25)","v":0.05}]
[null,null,"A","Imposto sobre Serviço de Qualquer Natureza - ISS",0.05,null,"* Nota 1 - Adotada a alíquota de 5% considerando o enquadramento como fornecimento de mão de obra contratada pelo prestador, serviço previsto no item 17.05 do Manual do Substitutivo Tributário do ISS/DF e artigo 27 do Decreto 25.508/2005 do GDF"]
[]
[null,null,null,"SOMATÓRIO - BDI",{"$f":"ROUND((((1+E7)*(1+E11)*(1+E14)/(1-E19-E24))-1),4)","v":0.2359},null,"* Nota 1 - [(1+AC+SGR)*(1+L)*(1+DF)/(1-CONFINS-PIS-CPRB-ISS)]-1"]

{"sheet":"BDI - Demanda","index":23,"n_rows":27,"n_cols":7,"rows_kept":27,"cut":false,"hidden":false,"merged":[[2,1,2,3],[3,1,3,4],[4,1,4,3]]}
[]
[]
[]
[null,"COMPOSIÇÃO DA TAXA DE CUSTOS INDIRETOS, TRIBUTOS E LUCRO - BDI"]
[null,"APLICAÇÃO: TRANSPORTE POR CHAMADO (SOB DEMANDA), MATERIAIS E SERVIÇOS PARA INSTALAÇÃO (SOB DEMANDA), MATERIAIS E SERVIÇOS PARA MANUTENÇÃO CORRETIVA (SOB DEMANDA)",null,null,"Percentuais"]
[]
[null,"Custos Indiretos da Contratada",null,null,{"$f":"SUM(E8:E9)","v":2.07E-2}]
[null,null,"A","Administração Central - Inclui despesas para o atendimento às exigências da NR-04",1.7299999999999999E-2,null,"* Nota 1 - O Somatório da Administração Central com o Lucro deve ser inferior a 12%"]
[null,null,"B","Seguros, Garantias e Riscos",{"$f":"0.34%","v":3.4000000000000002E-3}]
[]
[null,"Lucro",null,null,{"$f":"SUM(E12:E12)","v":2.6700000000000002E-2}]
[null,null,"A","Lucro Real sobre os Custos Administrados",2.6700000000000002E-2]
[]
[null,"Despesas Financeiras",null,null,{"$f":"E15","v":5.1000000000000004E-3}]
[null,null,"A","Cálculo Baseado no Prazo para a Restituição dos Desembolsos Realizados pelo Contratado e na Taxa de Retorno Arbitrada",{"$f":"ROUND((1+E17)^(E16/252)-1,4)","v":5.1000000000000004E-3},null,"* Nota 1 - DF = [(1+TR)^(DU/252)]/100"]
[null,null,"A.1","Dias Úteis Considerados",11,null,"* Nota 2 - Diferença de dias entre o desembolso, pelo contratado, e o pagamento, pela Câmara"]
[null,null,"A.2","Taxa de Retorno",0.1225,null,"* Nota 3 - A taxa sugerida é a meta da SELIC"]
[]
[null,"Impostos - Tributos Federais",null,null,{"$f":"SUM(E20:E22)","v":9.2999999999999992E-3}]
[null,null,"A","Contribuição para o Financiamento da Seguridade Social - COFINS",{"$f":"ROUND(7.6%*10%,4)","v":7.6E-3},null,"* Nota 1 - Redução da base de cálculo para 10%, equivalente à estimativa de valor agregado sobre os itens sob demanda."]
[null,null,"B","Programa de Integração Social - PIS",{"$f":"ROUND(1.65%*10%,4)","v":1.6999999999999999E-3},null,"* Nota 2 - Redução da base de cálculo para 10%, equivalente à estimativa de valor agregado sobre os itens sob demanda."]
[null,null,"C","Contribuição Previdenciária sobre a Receita Bruta - CPRB",0,null,"* Nota 3 - Lei 12.546/2011 - Verificar atualizações e setores beneficiados"]
[]
[null,"Impostos - Tributos Distritais",null,null,{"$f":"SUM(E25:E25)","v":0.05}]
[null,null,"A","Imposto sobre Serviço de Qualquer Natureza - ISS",0.05,null,"* Nota 1 - Adotada a alíquota de 5% considerando o enquadramento como fornecimento de mão de obra contratada pelo prestador, serviço previsto no item 17.05 do Manual do Substitutivo Tributário do ISS/DF e artigo 27 do Decreto 25.508/2005 do GDF"]
[]
[null,null,null,"SOMATÓRIO - BDI",{"$f":"ROUND((((1+E7)*(1+E11)*(1+E14)/(1-E19-E24))-1),4)","v":0.1197},null,"* Nota 1 - [(1+AC+SGR)*(1+L)*(1+DF)/(1-CONFINS-PIS-CPRB-ISS)]-1"]

{"sheet":"EPI - Rel","index":24,"n_rows":175,"n_cols":10,"rows_kept":175,"cut":false,"hidden":false,"merged":[[1,1,1,3],[2,1,2,6]]}
[]
[]
[null,"EPI - EQUIPAMENTOS DE PROTEÇÃO INDIVIDUAL - AQUISIÇÃO"]
[]
[]
[null,null,"CATEGORIAS",null,null,null,"QUANTIDADE"]
[]
[null,null,2,"SUPERVISOR DE MANUTENÇÃO ELETROMECÂNICA  ",null,null,4,null,{"$f":"SUM(I11:I22)","v":668.45},{"$f":"ROUND(I8/12,2)","v":55.7}]
[]
[null,null,"ITEM","DESCRIÇÃO","QUANT ANUAL/ POSTO DE TRABALHO","UNIDADE","VALOR"]
[]
[null,null,1,"Protetor auditivo, do tipo inserção pré-moldado, de silicone, lavável, com cordão e tamanho único,  com proteção mínima de 18 dB(A) de atenuação pelo método NRRsf. Ref: 3M",3,"UND",5.2,null,{"$f":"ROUND(E12*G12,2)","v":15.6}]
[null,null,2,"Protetor auditivo, do tipo concha, constituído por duas conchas em plásticos, apresentando almofadas de espuma em suas laterais e em seu interior, haste de sustentação (acima da cabeça) em plástico rígido almofadado e metal que mantém as conchas seladas contra a região das orelhas do usuário e que sustenta as conchas.  Atenuação mínima de 20 dB(A) pelo método NRRsf. Ref.: 3M modelo Muffler",1,"UND",87.01,null,87.01]
[null,null,3,"Óculos de segurança constituídos de armação e visor confeccionados em uma única peça de policarbonato INCOLOR, anti-risco, apoio nasal de plástico maleável ou elastômero. Hastes tipo espátula confeccionadas de material plástico, com acabamento emborrachado, articuladas através de parafusos metálicos. Resistente a alto impacto, devendo apresentar a marcação na lente em conformidade com a norma ANSI/ISEA Z87.1-2015. Ref.: 3M, modelo Securefit 400.",1,"UND",55.83,null,55.83]
[null,null,4,"Óculos de segurança constituídos de armação e visor confeccionados em uma única peça de policarbonato CINZA, anti-risco, apoio nasal de plástico maleável ou elastômero. Hastes tipo espátula confeccionadas de material plástico, com acabamento emborrachado, articuladas através de parafusos metálicos. Resistente a alto impacto, devendo apresentar a marcação na lente em conformidade com a norma ANSI/ISEA Z87.1-2015. Ref.: 3M, modelo Securefit 400.",1,"UND",59.02,null,59.02]
[null,null,5,"Capacete de segurança em polietileno de alta densidade, na cor BRANCA, com aba frontal, casco com nervuras, suspensão em tecido, com Faixa anti-suor, regulagem de tamanho com ajuste simples, com jugular ajustável, proteção contra riscos elétricos. Ref.: MSA ",1,"UND",82.76,null,82.76]
[null,null,6,"Respirador purificador de ar tipo, peça semifacial filtrante para partículas (PFF2), com formato dobrável, solda ultra-sônica em todo o seu perímetro. Fita elástica branca fixada nas laterais externas do respirador, perfazendo uma alça na para fixação na parte superior da cabeça e a outra na parte inferior, para fixação na altura da nuca do usuário. A parte superior externa da peça possui tira de material metálico moldável, utilizada para ajuste no septo nasal. Na face lateral do respirador existe um dispositivo de material plástico, dotado internamente de uma válvula de exalação. DEVERÁ APRESENTAR O SELO DE APROVAÇÃO DO INMETRO. Ref.: 3M",4,"UND",5.92,null,23.68]
[null,null,7,"Luva de segurança confeccionada em vaqueta, com formato de 05 dedos, reforço na palma, reforço na costura entre o polegar e o indicador e entre os dedos anelares, punho curto (7 a 10 cm), elastico de ajuste no dorso. Ref. Plascouro",1,"PARES",18.02,null,18.02]
[null,null,8,"Luva de malha pigmentada, tricotada em 4 fios de algodão e poliéster, com pigmentos em PVC antiderrapante na palma e face dos dedos, acabamento em overloque e punho com elástico, na cor branca. Marca SuperSafety",1,"PARES",4.04,null,4.04]
[null,null,9,"Botina de segurança confeccionada em couro nobuck e material têxtil; proteção contra risco elétrico; fechamento em cadarço; colarinho acolchoado; forração em tecido transpirável; palmilha de montagem em não tecido costurada/fixada junto ao cabedal; biqueira em composite; solado em PU bidensidade bicolor com sistema de absorção de impacto, injetado diretamente no cabedal; resistência ao escorregamento SRC. Cor preta ou marrom escura (café). Ref.: Bracol, modelo Dubai.",2,"PARES",147.68,null,295.36]
[null,null,10,"Boné tipo Árabe confeccionado em helanca com viés na aba, elástico interno traseiro para ajuste de tamanho, fechamento da saia em velcro. MARCA(S) DE REFERÊNCIA: Nexus",1,"UND",11.61,null,11.61]
[null,null,11,"Creme protetor para pele. Luva químina 3 em 1. Proteção contra os produtos químicos: tintas, solventes, graxas, óleos, colas, poeiras e resinas. Resistente a água, óleo e tinta. Sem solicone. Com brnaqueador ótico. Grupo 3. Bisnaga de 200g. Ref.: Luvex Special CA 11070",1,"UND",15.52,null,15.52]
[null,null,null,null,null,null,null,null,0]
[null,null,"CATEGORIAS",null,null,null,"QUANTIDADE"]
[]
[null,null,1,"COORDENADOR DE SERVIÇOS DE MANUTENÇÃO",null,null,1,null,{"$f":"SUM(I29:I40)","v":915.81000000000006},{"$f":"ROUND(I26/12,2)","v":76.319999999999993}]
[]
[null,null,"ITEM","DESCRIÇÃO","QUANT ANUAL/ POSTO DE TRABALHO","UNIDADE","VALOR"]
[]
[null,null,1,"Protetor auditivo, do tipo inserção pré-moldado, de silicone, lavável, com cordão e tamanho único,  com proteção mínima de 18 dB(A) de atenuação pelo método NRRsf. Ref: 3M",4,"UND",5.2,null,{"$f":"ROUND(E30*G30,2)","v":20.8}]
[null,null,2,"Protetor auditivo, do tipo concha, constituído por duas conchas em plásticos, apresentando almofadas de espuma em suas laterais e em seu interior, haste de sustentação (acima da cabeça) em plástico rígido almofadado e metal que mantém as conchas seladas contra a região das orelhas do usuário e que sustenta as conchas.  Atenuação mínima de 20 dB(A) pelo método NRRsf. Ref.: 3M modelo Muffler",2,"UND",87.01,null,174.02]
[null,null,3,"Óculos de segurança constituídos de armação e visor confeccionados em uma única peça de policarbonato INCOLOR, anti-risco, apoio nasal de plástico maleável ou elastômero. Hastes tipo espátula confeccionadas de material plástico, com acabamento emborrachado, articuladas através de parafusos metálicos. Resistente a alto impacto, devendo apresentar a marcação na lente em conformidade com a norma ANSI/ISEA Z87.1-2015. Ref.: 3M, modelo Securefit 400.",2,"UND",55.83,null,111.66]
[null,null,4,"Óculos de segurança constituídos de armação e visor confeccionados em uma única peça de policarbonato CINZA, anti-risco, apoio nasal de plástico maleável ou elastômero. Hastes tipo espátula confeccionadas de material plástico, com acabamento emborrachado, articuladas através de parafusos metálicos. Resistente a alto impacto, devendo apresentar a marcação na lente em conformidade com a norma ANSI/ISEA Z87.1-2015. Ref.: 3M, modelo Securefit 400.",2,"UND",59.02,null,118.04]
[null,null,5,"Capacete de segurança em polietileno de alta densidade, na cor BRANCA, com aba frontal, casco com nervuras, suspensão em tecido, com Faixa anti-suor, regulagem de tamanho com ajuste simples, com jugular ajustável, proteção contra riscos elétricos. Ref.: MSA ",1,"UND",82.76,null,82.76]
[null,null,6,"Respirador purificador de ar tipo, peça semifacial filtrante para partículas (PFF2), com formato dobrável, solda ultra-sônica em todo o seu perímetro. Fita elástica branca fixada nas laterais externas do respirador, perfazendo uma alça na para fixação na parte superior da cabeça e a outra na parte inferior, para fixação na altura da nuca do usuário. A parte superior externa da peça possui tira de material metálico moldável, utilizada para ajuste no septo nasal. Na face lateral do respirador existe um dispositivo de material plástico, dotado internamente de uma válvula de exalação. DEVERÁ APRESENTAR O SELO DE APROVAÇÃO DO INMETRO. Ref.: 3M",4,"UND",5.92,null,23.68]
[null,null,7,"Luva de segurança confeccionada em vaqueta, com formato de 05 dedos, reforço na palma, reforço na costura entre o polegar e o indicador e entre os dedos anelares, punho curto (7 a 10 cm), elastico de ajuste no dorso. Ref. Plascouro",1,"PARES",18.02,null,18.02]
[null,null,8,"Luva de malha pigmentada, tricotada em 4 fios de algodão e poliéster, com pigmentos em PVC antiderrapante na palma e face dos dedos, acabamento em overloque e punho com elástico, na cor branca. Marca SuperSafety",1,"PARES",4.04,null,4.04]
[null,null,9,"Bota em PVC, impermeável, forrada internamente, cano médio, resistência ao escorregamento do solado SRC. Ref. MARLUVAS",1,"PARES",55.82,null,55.82]
[null,null,10,"Botina de segurança confeccionada em couro nobuck e material têxtil; proteção contra risco elétrico; fechamento em cadarço; colarinho acolchoado; forração em tecido transpirável; palmilha de montagem em não tecido costurada/fixada junto ao cabedal; biqueira em composite; solado em PU bidensidade bicolor com sistema de absorção de impacto, injetado diretamente no cabedal; resistência ao escorregamento SRC. Cor preta ou marrom escura (café). Ref.: Bracol, modelo Dubai.",2,"PARES",147.68,null,295.36]
[null,null,11,"Boné tipo Árabe confeccionado em helanca com viés na aba, elástico interno traseiro para ajuste de tamanho, fechamento da saia em velcro. MARCA(S) DE REFERÊNCIA: Nexus",1,"UND",11.61,null,11.61]
[null,null,null,null,null,null,null,null,0]
[null,null,"CATEGORIAS",null,null,null,"QUANTIDADE"]
[]
[null,null,3,"ENCARREGADO ELETROMECÂNICO DE INSTALAÇÕES  ",null,null,5,null,{"$f":"SUM(I47:I57)","v":680.19},{"$f":"ROUND(I44/12,2)","v":56.68}]
[]
[null,null,"ITEM","DESCRIÇÃO","QUANT ANUAL/ POSTO DE TRABALHO","UNIDADE","VALOR"]
[null,null,null,null,null,null,null,null,0]
[null,null,1,"Protetor auditivo, do tipo inserção pré-moldado, de silicone, lavável, com cordão e tamanho único,  com proteção mínima de 18 dB(A) de atenuação pelo método NRRsf. Ref: 3M",4,"UND",5.2,null,20.8]
[null,null,2,"Protetor auditivo, do tipo concha, constituído por duas conchas em plásticos, apresentando almofadas de espuma em suas laterais e em seu interior, haste de sustentação (acima da cabeça) em plástico rígido almofadado e metal que mantém as conchas seladas contra a região das orelhas do usuário e que sustenta as conchas.  Atenuação mínima de 20 dB(A) pelo método NRRsf. Ref.: 3M modelo Muffler",1,"UND",87.01,null,87.01]
[null,null,3,"Óculos de segurança constituídos de armação e visor confeccionados em uma única peça de policarbonato INCOLOR, anti-risco, apoio nasal de plástico maleável ou elastômero. Hastes tipo espátula confeccionadas de material plástico, com acabamento emborrachado, articuladas através de parafusos metálicos. Resistente a alto impacto, devendo apresentar a marcação na lente em conformidade com a norma ANSI/ISEA Z87.1-2015. Ref.: 3M, modelo Securefit 400.",1,"UND",55.83,null,55.83]
[null,null,4,"Óculos de segurança constituídos de armação e visor confeccionados em uma única peça de policarbonato CINZA, anti-risco, apoio nasal de plástico maleável ou elastômero. Hastes tipo espátula confeccionadas de material plástico, com acabamento emborrachado, articuladas através de parafusos metálicos. Resistente a alto impacto, devendo apresentar a marcação na lente em conformidade com a norma ANSI/ISEA Z87.1-2015. Ref.: 3M, modelo Securefit 400.",1,"UND",59.02,null,59.02]
[null,null,5,"Capacete de segurança em polietileno de alta densidade, na cor BRANCA, com aba frontal, casco com nervuras, suspensão em tecido, com Faixa anti-suor, regulagem de tamanho com ajuste simples, com jugular ajustável, proteção contra riscos elétricos. Ref.: MSA ",1,"UND",82.76,null,82.76]
[null,null,6,"Respirador purificador de ar tipo, peça semifacial filtrante para partículas (PFF2), com formato dobrável, solda ultra-sônica em todo o seu perímetro. Fita elástica branca fixada nas laterais externas do respirador, perfazendo uma alça na para fixação na parte superior da cabeça e a outra na parte inferior, para fixação na altura da nuca do usuário. A parte superior externa da peça possui tira de material metálico moldável, utilizada para ajuste no septo nasal. Na face lateral do respirador existe um dispositivo de material plástico, dotado internamente de uma válvula de exalação. DEVERÁ APRESENTAR O SELO DE APROVAÇÃO DO INMETRO. Ref.: 3M",4,"UND",5.92,null,23.68]
[null,null,7,"Luva de segurança confeccionada em vaqueta, com formato de 05 dedos, reforço na palma, reforço na costura entre o polegar e o indicador e entre os dedos anelares, punho curto (7 a 10 cm), elastico de ajuste no dorso. Ref. Plascouro",2,"PARES",18.02,null,36.04]
[null,null,8,"Luva de malha pigmentada, tricotada em 4 fios de algodão e poliéster, com pigmentos em PVC antiderrapante na palma e face dos dedos, acabamento em overloque e punho com elástico, na cor branca. Marca SuperSafety",2,"PARES",4.04,null,8.08]
[null,null,9,"Botina de segurança confeccionada em couro nobuck e material têxtil; proteção contra risco elétrico; fechamento em cadarço; colarinho acolchoado; forração em tecido transpirável; palmilha de montagem em não tecido costurada/fixada junto ao cabedal; biqueira em composite; solado em PU bidensidade bicolor com sistema de absorção de impacto, injetado diretamente no cabedal; resistência ao escorregamento SRC. Cor preta ou marrom escura (café). Ref.: Bracol, modelo Dubai.",2,"PARES",147.68,null,295.36]
[null,null,10,"Boné tipo Árabe confeccionado em helanca com viés na aba, elástico interno traseiro para ajuste de tamanho, fechamento da saia em velcro. MARCA(S) DE REFERÊNCIA: Nexus",1,"UND",11.61,null,11.61]
[null,null,null,null,null,null,null,null,0]
[null,null,"CATEGORIAS",null,null,null,"QUANTIDADE"]
[]
[null,null,4,"MESTRE DE MANUTENÇÃO ELETRÔNICA",null,null,2,null,{"$f":"SUM(I64:I77)","v":817.2},{"$f":"ROUND(I61/12,2)","v":68.099999999999994}]
[]
[null,null,"ITEM","DESCRIÇÃO","QUANT ANUAL/ POSTO DE TRABALHO","UNIDADE","VALOR"]
[null,null,null,null,null,null,null,null,0]
[null,null,1,"Protetor auditivo, do tipo inserção pré-moldado, de silicone, lavável, com cordão e tamanho único,  com proteção mínima de 18 dB(A) de atenuação pelo método NRRsf. Ref: 3M",4,"UND",5.2,null,20.8]
[null,null,2,"Protetor auditivo, do tipo concha, constituído por duas conchas em plásticos, apresentando almofadas de espuma em suas laterais e em seu interior, haste de sustentação (acima da cabeça) em plástico rígido almofadado e metal que mantém as conchas seladas contra a região das orelhas do usuário e que sustenta as conchas.  Atenuação mínima de 20 dB(A) pelo método NRRsf. Ref.: 3M modelo Muffler",1,"UND",87.01,null,87.01]
[null,null,3,"Óculos de segurança constituídos de armação e visor confeccionados em uma única peça de policarbonato INCOLOR, anti-risco, apoio nasal de plástico maleável ou elastômero. Hastes tipo espátula confeccionadas de material plástico, com acabamento emborrachado, articuladas através de parafusos metálicos. Resistente a alto impacto, devendo apresentar a marcação na lente em conformidade com a norma ANSI/ISEA Z87.1-2015. Ref.: 3M, modelo Securefit 400.",1,"UND",55.83,null,55.83]
[null,null,4,"Óculos de segurança constituídos de armação e visor confeccionados em uma única peça de policarbonato CINZA, anti-risco, apoio nasal de plástico maleável ou elastômero. Hastes tipo espátula confeccionadas de material plástico, com acabamento emborrachado, articuladas através de parafusos metálicos. Resistente a alto impacto, devendo apresentar a marcação na lente em conformidade com a norma ANSI/ISEA Z87.1-2015. Ref.: 3M, modelo Securefit 400.",1,"UND",59.02,null,59.02]
[null,null,5,"CAPACETE DE SEGURANÇA, com carneira, sistema de ajuste perimetral e jugular, tipo III (sem aba); com casco rígido; sem porosidade; não deverá ser condutor de corrente elétrica; na cor vermelha Ref. Ultra Safe",1,"UND",176.33,null,176.33]
[null,null,6,"Respirador purificador de ar tipo, peça semifacial filtrante para partículas (PFF2), com formato dobrável, solda ultra-sônica em todo o seu perímetro. Fita elástica branca fixada nas laterais externas do respirador, perfazendo uma alça na para fixação na parte superior da cabeça e a outra na parte inferior, para fixação na altura da nuca do usuário. A parte superior externa da peça possui tira de material metálico moldável, utilizada para ajuste no septo nasal. Na face lateral do respirador existe um dispositivo de material plástico, dotado internamente de uma válvula de exalação. DEVERÁ APRESENTAR O SELO DE APROVAÇÃO DO INMETRO. Ref.: 3M",4,"UND",5.92,null,23.68]
[null,null,7,"Luva de segurança confeccionada em vaqueta, com formato de 05 dedos, reforço na palma, reforço na costura entre o polegar e o indicador e entre os dedos anelares, punho curto (7 a 10 cm), elastico de ajuste no dorso. Ref. Plascouro",2,"PARES",18.02,null,36.04]
[null,null,8,"Luvas em poliuretano, cor preta, acabamento liso, com forro em poliamida, sem costura, punho tricotado c/ elástico. tamanho P, M e G. Ref. Promat modelo multitato 750 PT",2,"PARES",4.03,null,8.06]
[null,null,9,"Luva de Vaqueta com punho de raspa de 20 cm, reforço na palma, polegar e indicador confeccionado em raspa. Possui elástico de ajuste no dorso. Ref.: LUVEQ",2,"PARES",29.3,null,58.6]
[null,null,10,"Luva de malha pigmentada, tricotada em 4 fios de algodão e poliéster, com pigmentos em PVC antiderrapante na palma e face dos dedos, acabamento em overloque e punho com elástico, na cor branca. Marca SuperSafety",2,"PARES",4.04,null,8.08]
[null,null,11,"Botina de segurança, fechamento em elástico (laterais), sem componentes metálicos, cabedal em couro curtido na cor preta, dorso acolchoado, palmilha de montagem em não tecido, palmilha de conforto em tecido antibactéria e antifungos, forração interna, BIQUEIRA EM COMPOSITE, solado de poliuretano bidensidade injetado diretamente ao cabedal, solado com perfil antiderrapante (SRC) e sistemas de absorção de impacto. Deverá possuir PROTEÇÃO CONTRA RISCO ELÉTRICO. Peso máximo (por pé de calçado) de 400g. Em conformidade com a ABNT NBR ISO 20345 e NBR 16603. Ref.: MARLUVAS",2,"PARES",128.31,null,256.62]
[null,null,12,"Creme protetor para pele. Luva químina 3 em 1. Proteção contra os produtos químicos: tintas, solventes, graxas, óleos, colas, poeiras e resinas. Resistente a água, óleo e tinta. Sem solicone. Com brnaqueador ótico. Grupo 3. Bisnaga de 200g. Ref.: Luvex Special CA 11070",1,"UND",15.52,null,15.52]
[null,null,13,"Boné tipo Árabe confeccionado em helanca com viés na aba, elástico interno traseiro para ajuste de tamanho, fechamento da saia em velcro. MARCA(S) DE REFERÊNCIA: Nexus",1,"UND",11.61,null,11.61]
[null,null,null,null,null,null,null,null,0]
[null,null,"CATEGORIAS",null,null,null,"QUANTIDADE"]
[]
[null,null,6,"MECÂNICO DE MÁQUINAS PESADAS - MANUTENÇÃO  ",null,null,26,null,{"$f":"SUM(I84:I97)","v":853.89},{"$f":"ROUND(I81/12,2)","v":71.16}]
[]
[null,null,"ITEM","DESCRIÇÃO","QUANT ANUAL/ POSTO DE TRABALHO","UNIDADE","VALOR"]
[null,null,1,"Protetor auditivo, do tipo inserção pré-moldado, de silicone, lavável, com cordão e tamanho único,  com proteção mínima de 18 dB(A) de atenuação pelo método NRRsf. Ref: 3M",4,"UND",5.2,null,20.8]
[null,null,2,"Protetor auditivo, do tipo concha, constituído por duas conchas em plásticos, apresentando almofadas de espuma em suas laterais e em seu interior, haste de sustentação (acima da cabeça) em plástico rígido almofadado e metal que mantém as conchas seladas contra a região das orelhas do usuário e que sustenta as conchas.  Atenuação mínima de 20 dB(A) pelo método NRRsf. Ref.: 3M modelo Muffler",1,"UND",87.01,null,87.01]
[null,null,3,"Óculos de segurança constituídos de armação e visor confeccionados em uma única peça de policarbonato INCOLOR, anti-risco, apoio nasal de plástico maleável ou elastômero. Hastes tipo espátula confeccionadas de material plástico, com acabamento emborrachado, articuladas através de parafusos metálicos. Resistente a alto impacto, devendo apresentar a marcação na lente em conformidade com a norma ANSI/ISEA Z87.1-2015. Ref.: 3M, modelo Securefit 400.",2,"UND",55.83,null,111.66]
[null,null,4,"Óculos de segurança constituídos de armação e visor confeccionados em uma única peça de policarbonato CINZA, anti-risco, apoio nasal de plástico maleável ou elastômero. Hastes tipo espátula confeccionadas de material plástico, com acabamento emborrachado, articuladas através de parafusos metálicos. Resistente a alto impacto, devendo apresentar a marcação na lente em conformidade com a norma ANSI/ISEA Z87.1-2015. Ref.: 3M, modelo Securefit 400.",2,"UND",59.02,null,118.04]
[null,null,5,"Capacete de segurança em polietileno de alta densidade, na cor AZUL, com aba frontal, casco com nervuras, suspensão em tecido, com Faixa anti-suor, regulagem de tamanho com ajuste simples, com jugular ajustável, proteção contra riscos elétricos. Ref.: MSA ",1,"UND",63.95,null,63.95]
[null,null,6,"Respirador purificador de ar tipo, peça semifacial filtrante para partículas (PFF2), com formato dobrável, solda ultra-sônica em todo o seu perímetro. Fita elástica branca fixada nas laterais externas do respirador, perfazendo uma alça na para fixação na parte superior da cabeça e a outra na parte inferior, para fixação na altura da nuca do usuário. A parte superior externa da peça possui tira de material metálico moldável, utilizada para ajuste no septo nasal. Na face lateral do respirador existe um dispositivo de material plástico, dotado internamente de uma válvula de exalação. DEVERÁ APRESENTAR O SELO DE APROVAÇÃO DO INMETRO. Ref.: 3M",12,"UND",5.92,null,71.040000000000006]
[null,null,7,"Luva de segurança confeccionada em vaqueta, com formato de 05 dedos, reforço na palma, reforço na costura entre o polegar e o indicador e entre os dedos anelares, punho curto (7 a 10 cm), elastico de ajuste no dorso. Ref. Plascouro",2,"PARES",18.02,null,36.04]
[null,null,8,"Luva de segurança confeccionada em borracha natural (látex), espessura de 0,60mm, forrada internamente com flocos de algodão, palma antiderrapante, punho médio liso.  Tamanhos de 7 (P) ao 10 (XG).Ref.: Mucambo",2,"PARES",4.03,null,8.06]
[null,null,9,"Luva de Vaqueta com punho de raspa de 20 cm, reforço na palma, polegar e indicador confeccionado em raspa. Possui elástico de ajuste no dorso. Ref.: LUVEQ",1,"PARES",29.3,null,29.3]
[null,null,10,"Luva de malha pigmentada, tricotada em 4 fios de algodão e poliéster, com pigmentos em PVC antiderrapante na palma e face dos dedos, acabamento em overloque e punho com elástico, na cor branca. Marca SuperSafety",6,"PARES",4.04,null,24.24]
[null,null,11,"Botina de segurança, fechamento em elástico (laterais), sem componentes metálicos, cabedal em couro curtido na cor preta, dorso acolchoado, palmilha de montagem em não tecido, palmilha de conforto em tecido antibactéria e antifungos, forração interna, BIQUEIRA EM COMPOSITE, solado de poliuretano bidensidade injetado diretamente ao cabedal, solado com perfil antiderrapante (SRC) e sistemas de absorção de impacto. Deverá possuir PROTEÇÃO CONTRA RISCO ELÉTRICO. Peso máximo (por pé de calçado) de 400g. Em conformidade com a ABNT NBR ISO 20345 e NBR 16603. Ref.: MARLUVAS",2,"PARES",128.31,null,{"$f":"ROUND(E94*G94,2)","v":256.62}]
[null,null,12,"Creme protetor para pele. Luva químina 3 em 1. Proteção contra os produtos químicos: tintas, solventes, graxas, óleos, colas, poeiras e resinas. Resistente a água, óleo e tinta. Sem solicone. Com brnaqueador ótico. Grupo 3. Bisnaga de 200g. Ref.: Luvex Special CA 11070",1,"UND",15.52,null,15.52]
[null,null,13,"Boné tipo Árabe confeccionado em helanca com viés na aba, elástico interno traseiro para ajuste de tamanho, fechamento da saia em velcro. MARCA(S) DE REFERÊNCIA: Nexus",1,"UND",11.61,null,11.61]
[null,null,null,null,null,null,null,null,0]
[null,null,"CATEGORIAS",null,null,null,"QUANTIDADE"]
[]
[null,null,5,"MESTRE ELETRICISTA DE MANUTENÇÃO",null,null,7,null,{"$f":"SUM(I104:I116)","v":910.00999999999988},{"$f":"ROUND(I100/12,2)","v":75.83}]
[]
[null,null,"ITEM","DESCRIÇÃO","QUANT ANUAL/ POSTO DE TRABALHO","UNIDADE","VALOR"]
[null,null,null,null,null,null,null,null,0]
[null,null,1,"Protetor auditivo, do tipo inserção pré-moldado, de silicone, lavável, com cordão e tamanho único,  com proteção mínima de 18 dB(A) de atenuação pelo método NRRsf. Ref: 3M",3,"UND",5.2,null,15.6]
[null,null,2,"Protetor auditivo, do tipo concha, constituído por duas conchas em plásticos, apresentando almofadas de espuma em suas laterais e em seu interior, haste de sustentação (acima da cabeça) em plástico rígido almofadado e metal que mantém as conchas seladas contra a região das orelhas do usuário e que sustenta as conchas.  Atenuação mínima de 20 dB(A) pelo método NRRsf. Ref.: 3M modelo Muffler",1,"UND",87.01,null,87.01]
[null,null,3,"Óculos de segurança constituídos de armação e visor confeccionados em uma única peça de policarbonato INCOLOR, anti-risco, apoio nasal de plástico maleável ou elastômero. Hastes tipo espátula confeccionadas de material plástico, com acabamento emborrachado, articuladas através de parafusos metálicos. Resistente a alto impacto, devendo apresentar a marcação na lente em conformidade com a norma ANSI/ISEA Z87.1-2015. Ref.: 3M, modelo Securefit 400.",2,"UND",55.83,null,111.66]
[null,null,4,"Óculos de segurança constituídos de armação e visor confeccionados em uma única peça de policarbonato CINZA, anti-risco, apoio nasal de plástico maleável ou elastômero. Hastes tipo espátula confeccionadas de material plástico, com acabamento emborrachado, articuladas através de parafusos metálicos. Resistente a alto impacto, devendo apresentar a marcação na lente em conformidade com a norma ANSI/ISEA Z87.1-2015. Ref.: 3M, modelo Securefit 400.",2,"UND",59.02,null,118.04]
[null,null,5,"CAPACETE DE SEGURANÇA, com carneira, sistema de ajuste perimetral e jugular, tipo III (sem aba); com casco rígido; sem porosidade; não deverá ser condutor de corrente elétrica; na cor vermelha Ref. Ultra Safe",1,"UND",176.33,null,176.33]
[null,null,6,"Respirador purificador de ar tipo, peça semifacial filtrante para partículas (PFF2), com formato dobrável, solda ultra-sônica em todo o seu perímetro. Fita elástica branca fixada nas laterais externas do respirador, perfazendo uma alça na para fixação na parte superior da cabeça e a outra na parte inferior, para fixação na altura da nuca do usuário. A parte superior externa da peça possui tira de material metálico moldável, utilizada para ajuste no septo nasal. Na face lateral do respirador existe um dispositivo de material plástico, dotado internamente de uma válvula de exalação. DEVERÁ APRESENTAR O SELO DE APROVAÇÃO DO INMETRO. Ref.: 3M",4,"UND",5.92,null,23.68]
[null,null,7,"Luva de segurança confeccionada em vaqueta, com formato de 05 dedos, reforço na palma, reforço na costura entre o polegar e o indicador e entre os dedos anelares, punho curto (7 a 10 cm), elastico de ajuste no dorso. Ref. Plascouro",2,"PARES",18.02,null,36.04]
[null,null,8,"Luvas em poliuretano, cor preta, acabamento liso, com forro em poliamida, sem costura, punho tricotado c/ elástico. tamanho P, M e G. Ref. Promat modelo multitato 750 PT",2,"PARES",{"$f":"G90","v":18.02},null,36.04]
[null,null,9,"Luva de Vaqueta com punho de raspa de 20 cm, reforço na palma, polegar e indicador confeccionado em raspa. Possui elástico de ajuste no dorso. Ref.: LUVEQ",1,"PARES",29.3,null,29.3]
[null,null,10,"Luva de malha pigmentada, tricotada em 4 fios de algodão e poliéster, com pigmentos em PVC antiderrapante na palma e face dos dedos, acabamento em overloque e punho com elástico, na cor branca. Marca SuperSafety",2,"PARES",4.04,null,8.08]
[null,null,11,"Botina de segurança, fechamento em elástico (laterais), sem componentes metálicos, cabedal em couro curtido na cor preta, dorso acolchoado, palmilha de montagem em não tecido, palmilha de conforto em tecido antibactéria e antifungos, forração interna, BIQUEIRA EM COMPOSITE, solado de poliuretano bidensidade injetado diretamente ao cabedal, solado com perfil antiderrapante (SRC) e sistemas de absorção de impacto. Deverá possuir PROTEÇÃO CONTRA RISCO ELÉTRICO. Peso máximo (por pé de calçado) de 400g. Em conformidade com a ABNT NBR ISO 20345 e NBR 16603. Ref.: MARLUVAS",2,"PARES",128.31,null,256.62]
[null,null,12,"Boné tipo Árabe confeccionado em helanca com viés na aba, elástico interno traseiro para ajuste de tamanho, fechamento da saia em velcro. MARCA(S) DE REFERÊNCIA: Nexus",1,"UND",11.61,null,11.61]
[]
[null,null,"CATEGORIAS",null,null,null,"QUANTIDADE"]
[]
[null,null,10,"AUXILIAR MECÂNICO DE AR CONDICIONADO",null,null,19,null,{"$f":"SUM(I123:I137)","v":916.5},{"$f":"ROUND(I119/12,2)","v":76.38}]
[null,null,null,null,null,null,null,null,0]
[null,null,"ITEM","DESCRIÇÃO","QUANT ANUAL/ POSTO DE TRABALHO","UNIDADE","VALOR"]
[null,null,null,null,null,null,null,null,0]
[null,null,1,"Protetor auditivo, do tipo inserção pré-moldado, de silicone, lavável, com cordão e tamanho único,  com proteção mínima de 18 dB(A) de atenuação pelo método NRRsf. Ref: 3M",4,"UND",5.2,null,20.8]
[null,null,2,"Protetor auditivo, do tipo concha, constituído por duas conchas em plásticos, apresentando almofadas de espuma em suas laterais e em seu interior, haste de sustentação (acima da cabeça) em plástico rígido almofadado e metal que mantém as conchas seladas contra a região das orelhas do usuário e que sustenta as conchas.  Atenuação mínima de 20 dB(A) pelo método NRRsf. Ref.: 3M modelo Muffler",1,"UND",87.01,null,87.01]
[null,null,3,"Óculos de segurança constituídos de armação e visor confeccionados em uma única peça de policarbonato INCOLOR, anti-risco, apoio nasal de plástico maleável ou elastômero. Hastes tipo espátula confeccionadas de material plástico, com acabamento emborrachado, articuladas através de parafusos metálicos. Resistente a alto impacto, devendo apresentar a marcação na lente em conformidade com a norma ANSI/ISEA Z87.1-2015. Ref.: 3M, modelo Securefit 400.",2,"UND",55.83,null,111.66]
[null,null,4,"Óculos de segurança constituídos de armação e visor confeccionados em uma única peça de policarbonato CINZA, anti-risco, apoio nasal de plástico maleável ou elastômero. Hastes tipo espátula confeccionadas de material plástico, com acabamento emborrachado, articuladas através de parafusos metálicos. Resistente a alto impacto, devendo apresentar a marcação na lente em conformidade com a norma ANSI/ISEA Z87.1-2015. Ref.: 3M, modelo Securefit 400.",2,"UND",59.02,null,118.04]
[null,null,5,"Capacete de segurança em polietileno de alta densidade, na cor AZUL, com aba frontal, casco com nervuras, suspensão em tecido, com Faixa anti-suor, regulagem de tamanho com ajuste simples, com jugular ajustável, proteção contra riscos elétricos. Ref.: MSA ",1,"UND",63.95,null,63.95]
[null,null,6,"Respirador purificador de ar tipo, peça semifacial filtrante para partículas (PFF2), com formato dobrável, solda ultra-sônica em todo o seu perímetro. Fita elástica branca fixada nas laterais externas do respirador, perfazendo uma alça na para fixação na parte superior da cabeça e a outra na parte inferior, para fixação na altura da nuca do usuário. A parte superior externa da peça possui tira de material metálico moldável, utilizada para ajuste no septo nasal. Na face lateral do respirador existe um dispositivo de material plástico, dotado internamente de uma válvula de exalação. DEVERÁ APRESENTAR O SELO DE APROVAÇÃO DO INMETRO. Ref.: 3M",12,"UND",5.92,null,71.040000000000006]
[null,null,7,"Luva de segurança confeccionada em vaqueta, com formato de 05 dedos, reforço na palma, reforço na costura entre o polegar e o indicador e entre os dedos anelares, punho curto (7 a 10 cm), elastico de ajuste no dorso. Ref. Plascouro",2,"PARES",18.02,null,36.04]
[null,null,8,"Luva de segurança confeccionada em borracha natural (látex), espessura de 0,60mm, forrada internamente com flocos de algodão, palma antiderrapante, punho médio liso.  Tamanhos de 7 (P) ao 10 (XG).Ref.: Mucambo",4,"PARES",4.03,null,16.12]
[null,null,9,"Luva de Vaqueta com punho de raspa de 20 cm, reforço na palma, polegar e indicador confeccionado em raspa. Possui elástico de ajuste no dorso. Ref.: LUVEQ",1,"PARES",29.3,null,29.3]
[null,null,10,"Luva de malha pigmentada, tricotada em 4 fios de algodão e poliéster, com pigmentos em PVC antiderrapante na palma e face dos dedos, acabamento em overloque e punho com elástico, na cor branca. Marca SuperSafety",3,"PARES",4.04,null,12.12]
[null,null,11,"Avental em PVC (forrado), 70 X 120CM de largura e comprimento (aproximadamente), corpo inteiro na frente, contendo tiras fixadas no avental, que deverão ser amarradas no pescoço e na cintura. REF.: MAICOL",1,"UND",10.85,null,10.85]
[null,null,12,"Bota em PVC, impermeável, forrada internamente, cano médio, resistência ao escorregamento do solado SRC. Ref. MARLUVAS",1,"PARES",55.82,null,55.82]
[null,null,13,"Botina de segurança, fechamento em elástico (laterais), sem componentes metálicos, cabedal em couro curtido na cor preta, dorso acolchoado, palmilha de montagem em não tecido, palmilha de conforto em tecido antibactéria e antifungos, forração interna, BIQUEIRA EM COMPOSITE, solado de poliuretano bidensidade injetado diretamente ao cabedal, solado com perfil antiderrapante (SRC) e sistemas de absorção de impacto. Deverá possuir PROTEÇÃO CONTRA RISCO ELÉTRICO. Peso máximo (por pé de calçado) de 400g. Em conformidade com a ABNT NBR ISO 20345 e NBR 16603. Ref.: MARLUVAS",2,"PARES",128.31,null,256.62]
[null,null,14,"Creme protetor para pele. Luva químina 3 em 1. Proteção contra os produtos químicos: tintas, solventes, graxas, óleos, colas, poeiras e resinas. Resistente a água, óleo e tinta. Sem solicone. Com brnaqueador ótico. Grupo 3. Bisnaga de 200g. Ref.: Luvex Special CA 11070",1,"UND",15.52,null,15.52]
[null,null,15,"Boné tipo Árabe confeccionado em helanca com viés na aba, elástico interno traseiro para ajuste de tamanho, fechamento da saia em velcro. MARCA(S) DE REFERÊNCIA: Nexus",1,"UND",11.61,null,11.61]
[null,null,null,null,null,null,null,null,0]
[null,null,"CATEGORIAS",null,null,null,"QUANTIDADE"]
[null,null,null,null,null,null,null,null,0]
[null,null,7,"OPERADOR ELETROMECÂNICO - EXPEDIENTE",null,null,4,null,{"$f":"SUM(I147:I153)","v":507},{"$f":"ROUND(I141/12,2)","v":42.25}]
[null,null,8,"OPERADOR ELETROMECÂNICO - PLANTONISTA DIURNO",null,null,6,null,0]
[null,null,9,"OPERADOR ELETROMECÂNICO - PLANTONISTA NOTURNO",null,null,6,null,0]
[null,null,null,null,null,null,null,null,0]
[null,null,"ITEM","DESCRIÇÃO","QUANT ANUAL/ POSTO DE TRABALHO","UNIDADE","VALOR"]
[null,null,null,null,null,null,null,null,0]
[null,null,1,"Protetor auditivo, do tipo inserção pré-moldado, de silicone, lavável, com cordão e tamanho único,  com proteção mínima de 18 dB(A) de atenuação pelo método NRRsf. Ref: 3M",4,"UND",5.2,null,20.8]
[null,null,2,"Protetor auditivo, do tipo concha, constituído por duas conchas em plásticos, apresentando almofadas de espuma em suas laterais e em seu interior, haste de sustentação (acima da cabeça) em plástico rígido almofadado e metal que mantém as conchas seladas contra a região das orelhas do usuário e que sustenta as conchas.  Atenuação mínima de 20 dB(A) pelo método NRRsf. Ref.: 3M modelo Muffler",1,"UND",87.01,null,87.01]
[null,null,3,"Óculos de segurança constituídos de armação e visor confeccionados em uma única peça de policarbonato INCOLOR, anti-risco, apoio nasal de plástico maleável ou elastômero. Hastes tipo espátula confeccionadas de material plástico, com acabamento emborrachado, articuladas através de parafusos metálicos. Resistente a alto impacto, devendo apresentar a marcação na lente em conformidade com a norma ANSI/ISEA Z87.1-2015. Ref.: 3M, modelo Securefit 400.",1,"UND",55.83,null,55.83]
[null,null,4,"Óculos de segurança constituídos de armação e visor confeccionados em uma única peça de policarbonato CINZA, anti-risco, apoio nasal de plástico maleável ou elastômero. Hastes tipo espátula confeccionadas de material plástico, com acabamento emborrachado, articuladas através de parafusos metálicos. Resistente a alto impacto, devendo apresentar a marcação na lente em conformidade com a norma ANSI/ISEA Z87.1-2015. Ref.: 3M, modelo Securefit 400.",1,"UND",59.02,null,59.02]
[null,null,5,"Respirador purificador de ar tipo, peça semifacial filtrante para partículas (PFF2), com formato dobrável, solda ultra-sônica em todo o seu perímetro. Fita elástica branca fixada nas laterais externas do respirador, perfazendo uma alça na para fixação na parte superior da cabeça e a outra na parte inferior, para fixação na altura da nuca do usuário. A parte superior externa da peça possui tira de material metálico moldável, utilizada para ajuste no septo nasal. Na face lateral do respirador existe um dispositivo de material plástico, dotado internamente de uma válvula de exalação. DEVERÁ APRESENTAR O SELO DE APROVAÇÃO DO INMETRO. Ref.: 3M",4,"UND",5.92,null,23.68]
[null,null,6,"Luva de malha pigmentada, tricotada em 4 fios de algodão e poliéster, com pigmentos em PVC antiderrapante na palma e face dos dedos, acabamento em overloque e punho com elástico, na cor branca. Marca SuperSafety",1,"PARES",4.04,null,4.04]
[null,null,7,"Botina de segurança, fechamento em elástico (laterais), sem componentes metálicos, cabedal em couro curtido na cor preta, dorso acolchoado, palmilha de montagem em não tecido, palmilha de conforto em tecido antibactéria e antifungos, forração interna, BIQUEIRA EM COMPOSITE, solado de poliuretano bidensidade injetado diretamente ao cabedal, solado com perfil antiderrapante (SRC) e sistemas de absorção de impacto. Deverá possuir PROTEÇÃO CONTRA RISCO ELÉTRICO. Peso máximo (por pé de calçado) de 400g. Em conformidade com a ABNT NBR ISO 20345 e NBR 16603. Ref.: MARLUVAS",2,"PARES",128.31,null,256.62]
[null,null,null,null,null,null,null,null,0]
[null,null,"CATEGORIAS",null,null,null,"QUANTIDADE"]
[null,null,null,null,null,null,null,null,0]
[null,null,13,"OPERADOR DE CENTRAL DE DETECÇÃO E ALARME DE INCÊNDIO - PLANTONISTA DIURNO",null,null,4,null,{"$f":"I161","v":147.68},{"$f":"ROUND(I157/12,2)","v":12.31}]
[null,null,14,"OPERADOR DE CENTRAL DE DETECÇÃO E ALARME DE INCÊNDIO - PLANTONISTA NOTURNO",null,null,4,null,{"$f":"ROUND(E158*G158,2)","v":0}]
[null,null,null,null,null,null,null,null,0]
[null,null,"ITEM","DESCRIÇÃO","QUANT ANUAL/ POSTO DE TRABALHO","UNIDADE","VALOR"]
[null,null,1,"Botina de segurança confeccionada em couro nobuck e material têxtil; proteção contra risco elétrico; fechamento em cadarço; colarinho acolchoado; forração em tecido transpirável; palmilha de montagem em não tecido costurada/fixada junto ao cabedal; biqueira em composite; solado em PU bidensidade bicolor com sistema de absorção de impacto, injetado diretamente no cabedal; resistência ao escorregamento SRC. Cor preta ou marrom escura (café). Ref.: Bracol, modelo Dubai.",1,"PARES",147.68,null,147.68]
[null,null,null,null,null,null,null,null,0]
[null,null,"CATEGORIAS",null,null,null,"QUANTIDADE"]
[null,null,null,null,null,null,null,null,0]
[null,null,11,"CONTROLADOR DE MATERIAIS",null,null,3,null,{"$f":"SUM(I168:I175)","v":617.80000000000007},{"$f":"ROUND(I165/12,2)","v":51.48}]
[null,null,null,null,null,null,null,null,0]
[null,null,"ITEM","DESCRIÇÃO","QUANT ANUAL/ POSTO DE TRABALHO","UNIDADE","VALOR"]
[null,null,1,"Protetor auditivo, do tipo inserção pré-moldado, de silicone, lavável, com cordão e tamanho único,  com proteção mínima de 18 dB(A) de atenuação pelo método NRRsf. Ref: 3M",4,"UND",5.2,null,20.8]
[null,null,2,"Protetor auditivo, do tipo concha, constituído por duas conchas em plásticos, apresentando almofadas de espuma em suas laterais e em seu interior, haste de sustentação (acima da cabeça) em plástico rígido almofadado e metal que mantém as conchas seladas contra a região das orelhas do usuário e que sustenta as conchas.  Atenuação mínima de 20 dB(A) pelo método NRRsf. Ref.: 3M modelo Muffler",1,"UND",87.01,null,87.01]
[null,null,3,"Respirador purificador de ar tipo, peça semifacial filtrante para partículas (PFF2), com formato dobrável, solda ultra-sônica em todo o seu perímetro. Fita elástica branca fixada nas laterais externas do respirador, perfazendo uma alça na para fixação na parte superior da cabeça e a outra na parte inferior, para fixação na altura da nuca do usuário. A parte superior externa da peça possui tira de material metálico moldável, utilizada para ajuste no septo nasal. Na face lateral do respirador existe um dispositivo de material plástico, dotado internamente de uma válvula de exalação. DEVERÁ APRESENTAR O SELO DE APROVAÇÃO DO INMETRO. Ref.: 3M",5,"UND",5.92,null,29.6]
[null,null,4,"Luva de segurança confeccionada em vaqueta, com formato de 05 dedos, reforço na palma, reforço na costura entre o polegar e o indicador e entre os dedos anelares, punho curto (7 a 10 cm), elastico de ajuste no dorso. Ref. Plascouro",2,"UND",18.02,null,36.04]
[null,null,5,"Luva de malha pigmentada, tricotada em 4 fios de algodão e poliéster, com pigmentos em PVC antiderrapante na palma e face dos dedos, acabamento em overloque e punho com elástico, na cor branca. Marca SuperSafety",3,"UND",4.04,null,12.12]
[null,null,6,"Botina de segurança, fechamento em elástico (laterais), sem componentes metálicos, cabedal em couro curtido na cor preta, dorso acolchoado, palmilha de montagem em não tecido, palmilha de conforto em tecido antibactéria e antifungos, forração interna, BIQUEIRA EM COMPOSITE, solado de poliuretano bidensidade injetado diretamente ao cabedal, solado com perfil antiderrapante (SRC) e sistemas de absorção de impacto. Deverá possuir PROTEÇÃO CONTRA RISCO ELÉTRICO. Peso máximo (por pé de calçado) de 400g. Em conformidade com a ABNT NBR ISO 20345 e NBR 16603. Ref.: MARLUVAS",2,"PARES",128.31,null,256.62]
[null,null,7,"Óculos de segurança constituídos de armação e visor confeccionados em uma única peça de policarbonato INCOLOR, anti-risco, apoio nasal de plástico maleável ou elastômero. Hastes tipo espátula confeccionadas de material plástico, com acabamento emborrachado, articuladas através de parafusos metálicos. Resistente a alto impacto, devendo apresentar a marcação na lente em conformidade com a norma ANSI/ISEA Z87.1-2015. Ref.: 3M, modelo Securefit 400.",2,"UND",55.83,null,111.66]
[null,null,8,"Capacete de segurança em polietileno de alta densidade, na cor AZUL, com aba frontal, casco com nervuras, suspensão em tecido, com Faixa anti-suor, regulagem de tamanho com ajuste simples, com jugular ajustável, proteção contra riscos elétricos. Ref.: MSA ",1,"UND",63.95,null,63.95]

{"sheet":"SREP","index":25,"n_rows":75,"n_cols":15,"rows_kept":75,"cut":false,"hidden":false,"merged":[[2,1,2,3],[3,1,3,14]]}
[]
[]
[]
[null,"SISTEMA DE REGISTRO ELETRÔNICO DE PRESENÇA - SREP"]
[]
[]
[null,null,"PAGAMENTO DA DEPRECIAÇÃO"]
[null,"Cód.","ITEM","DESCRIÇÃO","QUANT ANUAL","CONTA SIAFI","VALOR DE AQ.","% RESIDUAL","VIDA ÚTIL","DEP. MENSAL","CUSTO TOTAL","BDI (%)","PREÇO TOTAL","FONTE","REFERÊNCIA"]
[]
[null,"10.01.01","P.001","Equipamento de Registro Eletrônico de Ponto, de parede, com teclado externo e leitor biométrico, em conformidade com a Portaria 1.510/2009 do MT",7,"12311.01.24\n(máquinas e equip\neletrônicos)",1705.92,0.1,10,{"$f":"G10*(1-H10)/(I10*12)","v":12.794400000000001},{"$f":"ROUND(J10*E10,3)","v":89.561000000000007},{"$f":"'BDI - Geral'!E27","v":0.2359},{"$f":"ROUND(K10*(1+L10),2)","v":110.69},"COTAÇÃO"]
[]
[]
[null,null,"PAGAMENTO DA MANUTENÇÃO"]
[null,null,"ITEM","DESCRIÇÃO",null,null,null,"K (calculado)","MENSAL DEPR.","% MAN X DEP","MENSAL MAN.","BDI (%)","PREÇO TOTAL"]
[]
[null,null,null,"Todos os itens",null,null,null,{"$f":"H23","v":1.9000396799999999},{"$f":"K10","v":89.561000000000007},{"$f":"H16","v":1.9000396799999999},{"$f":"I16*H16","v":170.16945378048001},{"$f":"L10","v":0.2359},{"$f":"ROUND(K16*(1+L16),2)","v":210.31}]
[]
[null,null,null,null,"K1","K2","K3","K4"]
[null,null,null,null,0.85,1,0.8,1.4]
[null,null,null,null,"K5","K6","K7","K8"]
[null,null,null,null,1,0.6,1.6,1.1000000000000001]
[null,null,null,null,"K9","K10","K11","RESULTADO"]
[null,null,null,"* a descrição de cada coeficiente segue abaixo",1.5,0.9,1.4,{"$f":"E19*F19*G19*H19*E21*F21*G21*H21*E23*F23*G23","v":1.9000396799999999}]
[]
[]
[null,null,"PAGAMENTO DO SOFTWARE"]
[null,"Cód.","ITEM","DESCRIÇÃO",null,null,null,null,"QUANTIDADE","UNIDADE","UNIT. MENSAL","BDI (%)","PREÇO TOTAL"]
[]
[null,"10.03.01","P.002","Software Ponto Secullum 4 - até 200 usuário - manutenção e suporte técnico com backup - Web Nuvem - Mensalidade",null,null,null,null,1,"Licença/mês",823.53,{"$f":"L35","v":0.2359},{"$f":"ROUND(I29*K29*(1+L29),2)","v":1017.8},"COTAÇÃO"]
[]
[]
[null,null,"MATERIAL DE CONSUMO ASSOCIADO"]
[null,"Cód.","ITEM","DESCRIÇÃO",null,null,"QUANTID/ANO","UNIDADE","VALOR DE AQ.","ANUAL MAT","MENSAL MAT","BDI (%)","PREÇO TOTAL"]
[]
[null,"10.04.01","P.003","Bobina térmica específica para o registrador eletrônico de ponto, com papel termossensível, superfície de impressão externa ao rolo, durabilidade de impressão mínima de 5 anos e comprimento mínimo de 300m",null,null,8,"Bobina",34.1,{"$f":"I35*G35","v":272.8},{"$f":"J35/12","v":22.733333333333334},{"$f":"L16","v":0.2359},{"$f":"ROUNDUP(K35*(1+L35),2)","v":28.1},"COTAÇÃO"]
[]
[]
[null,null,"MATERIAL DE CONSUMO ASSOCIADO"]
[null,null,"ITEM","DESCRIÇÃO",null,null,null,null,null,null,null,null,"PREÇO TOTAL"]
[]
[null,null,1,"Componente DEPRECIAÇÃO",null,null,null,null,null,null,null,null,{"$f":"M10","v":110.69}]
[null,null,2,"Componente MANUTENÇÃO",null,null,null,null,null,null,null,null,{"$f":"M16","v":210.31}]
[null,null,3,"Componente SOFTWARE",null,null,null,null,null,null,null,null,{"$f":"M29","v":1017.8}]
[null,null,4,"Componente MATERIAL DE CONSUMO ASSOCIADO",null,null,null,null,null,null,null,null,{"$f":"M35","v":28.1}]
[]
[null,null,null,null,null,null,null,null,null,null,null,"SOMATÓRIO TOTAL MENSAL",{"$f":"ROUND(SUM(M40:M45),2)","v":1366.9}]
[null,null,null,null,null,null,null,null,null,null,null,"SOMATÓRIO TOTAL ANUAL",{"$f":"ROUND(M46*12,2)","v":16402.8}]
[]
[]
[null,null,"MATERIAL DE CONSUMO ASSOCIADO"]
[null,null,"MEMÓRIA DE CÁLCULO DO COEFICIENTE DE CORRELAÇÃO MANUTENÇÃO X DEPRECIAÇÃO (K)"]
[]
[null,null,"JUSTIFICATIVAS",null,"TIPO","K1",null,"Condições de Trab","K4",null,"Tempo Vida (anos)","K6",null,"Temperatura","K8"]
[null,null,null,null,"Guindaste",0.5,null,"Em espera",0.4,null,1,0.6,null,"Muito quente (> 40º C)",1.3]
[null,null,"K1","Considerado o valor médio de 0,85","Caminhão-comum",0.8,null,"Leves",0.8,null,2,0.7,null,"Quente (30º a 40º C)",1.1000000000000001]
[null,null,"K2","Considerado o operador médio","Fora-de-estrada",1,null,"Médias",1,null,3,0.8,null,"Médio (10º a 30º C)",1]
[null,null,"K3","Consideradas ferramentas de primeira qualidade","Carregadeira",1,null,"Pesadas",1.4,null,4,0.9,null,"Frio (< 10º C)",1.2]
[null,null,"K4","Há todo o tipo de trabalho, foi considerado condições pesadas","Escavadeira",1.4,null,"Severas",2,null,5,1]
[null,null,"K5","Considerando manutenção normal","Motoescrêiper",1.1000000000000001,null,null,null,null,6,1,null,"Ritmo de Trabalho","K9"]
[null,null,"K6","Equipamentos novos","Trator de esteira",1.2,null,"Manutenção","K5",null,7,1,null,"Folgado",0.9]
[null,null,"K7","44h por dia, 252 dias por ano",null,null,null,"Excelente",0.6,null,8,1.2,null,"Médio ",1]
[null,null,"K8","Clima quente, acima de 30º C","Qualid do Operador","K2",null,"Boa",0.8,null,9,1.3,null,"Com pressa",1.5]
[null,null,"K9","Ritmo de trabalho usualmente com pressa","Excelente",0.8,null,"Média",1,null,10,1.4]
[null,null,"K10","Considerado o operador médio","Boa",0.9,null,"Ruim ",1.5,null,11,2,null,"Conh do Serviço","K10"]
[null,null,"K11","Foi considerada a opção de aluguel a terceiros, ainda que a simulação seja dos custos do contratado, contudo a execução dos serviços é em local de terceiros","Média",1,null,"Inexistente",3,null,15,2,null,"Grande ",0.8]
[null,null,null,null,"Ruim",1.2,null,null,null,null,null,null,null,"Médio     ",0.9]
[null,null,null,null,"Péssima",2,null,"Horas de Uso ","K7",6000,1,null,null,"Pouco ",1]
[null,null,null,null,null,null,null,1000,0.5,8000,1.3]
[null,null,null,null,"Qualidade do Equip","K3",null,2000,0.5,10000,1.6,null,null,"Tipo do Serviço","K11"]
[null,null,null,null,"De primeira",0.8,null,3000,0.6,12000,1.9,null,null,"Mina ou Pedreira",0.8]
[null,null,null,null,"Média",1,null,4000,0.7,15000,2.2999999999999998,null,null,"Construção Geral",1]
[null,null,null,null,"Ruim",1.5,null,5000,0.9,20000,3,null,null,"Aluguel a Terceiros",1.4]
[]
[null,null,null,null,"Fonte: "]
[null,null,null,null,"MATTOS, Aldo Dórea. Como preparar orçamentos de obras. São Paulo: Pini, 2006. 281 p., il"]

{"sheet":"EPI - N.Rel","index":26,"n_rows":39,"n_cols":13,"rows_kept":39,"cut":false,"hidden":false,"merged":[[2,1,2,3],[3,1,3,10]]}
[]
[]
[]
[null,"EPI NÃO RELACIONADOS DIRETAMENTE A UM POSTO DE TRABALHO - AQUISIÇÃO"]
[]
[]
[null,null,"ITEM","DESCRIÇÃO","QUANT ANUAL","UNIDADE","CUSTO UNITÁRIO","CUSTO ANUAL","BDI (%)","PREÇO TOTAL","FONTE"]
[]
[null,null,1,"Avental de raspa de couro tipo BARBEIRO confeccionado em raspa, mangas em raspa, elástico nas costas e punhos, tira em raspa; fivela metálica na cintura, para ajuste; costura reforçada em linha de algodão. REF.: ZANEL",6,"UND",112.96,{"$f":"G9*E9","v":677.76},{"$f":"'BDI - Geral'!E27","v":0.2359},{"$f":"H9*(1+I9)","v":837.64358400000003}]
[null,null,2,"Barreira Modular Articulável confeccionada em material plástico (polietileno), cor amarela. composta por 6 módulos, conectados entre si. aplicação: isolamento, sinalização, delimitação de áreas. Quando fechada, a sua estrutura modular resulta em um pequeno volume. Dimensões  aproximadas aberta (cm)  240 x 100 x 3. Peso máximo 12 kg",10,"UND",2177.71,{"$f":"G10*E10","v":21777.1},{"$f":"I9","v":0.2359},{"$f":"H10*(1+I10)","v":26914.317889999998}]
[null,null,3,"Bloqueador solar (1 LITRO) com fator de proteção solar no mínimo de 30 (UV FPS 30) com propriedade repelente a insetos. Inodoro MARCA(S) DE REFERÊNCIA: LUVEX.",7,"UND",117.33,821.31,{"$f":"I10","v":0.2359},1015.0570289999999]
[null,null,4,"Boné tipo Árabe confeccionado em helanca com viés na aba, elástico interno traseiro para ajuste de tamanho, fechamento da saia em velcro. ",2,"UND",11.61,23.22,0.2359,28.697597999999999]
[null,null,5,"Bota em PVC, impermeável, forrada internamente, cano médio, resistência ao escorregamento do solado SRC. Ref. MARLUVAS.",2,"PARES",55.82,111.64,0.2359,137.975876]
[null,null,6,"Calça de segurança IMPERMEÁVEL na cor amarela, tipo pijama, confeccionada em tecido de poliéster plastificado (ou similar) com PVC em uma das faces, com cordão na cintura para ajustes e costura por meio de solda eletrônica. Ref. Brascamp",50,"UND",20.84,1042,0.2359,1287.8078]
[null,null,7,"Capacete de segurança em polietileno de alta densidade, na cor AZUL, com aba frontal, casco com nervuras, suspensão em tecido, com Faixa anti-suor, regulagem de tamanho com ajuste simples, com jugular ajustável, proteção contra riscos elétricos. Ref.: MSA ",1,"UND",63.95,63.95,0.2359,79.035805000000011]
[null,null,8,"Cartucho químico para Vapores orgânicos e gases ácidos compatível com o respirador de meia peça facial Ref. 6003 3M ",90,"PARES",92.63,8336.6999999999989,0.2359,10303.327529999999]
[null,null,9,"Cinta para Amarração com catraca e gancho tipo J para amarração e transporte de cargas pesadas. Gancho e catraca em aço bicromatizado. Produzida em material 100% poliéster, quimicamente tratada para menor absorção de água. Com costuras em cor diferente para indicar sua capacidade. Capacidade mínima 5 Toneladas; Comprimento mínimo de 9 metros; Elasticidade: 7% e Largura: 50mm. Referência: ROBUSTEC",7,"CONJ",134.72999999999999,943.1099999999999,0.2359,1165.5896489999998]
[null,null,10,"Cinto de segurança tipo paraquedista; confeccionado em fita de poliéster (min. 40mm); Pontos de conexão: peitoral, umbilical, dorsal, laterais na cintura; Provido de alças de suspensão nos ombros para trabalho em espaço confinado; Ajuste nas pernas, cintura e suspensório; Alças para ferramentas; Proteção acolchoada lombar e nas pernas; em conformidade com as normas NBR 15835:2010, NBR 15836:2010. Deverá ser acompanhado de TALABARTE em Y (max. 1,50m de comprimento), 02 ganchos dupla trava em aço com abertura de 50 a 60 mm; com absorvedor de energia com ganho olhal dupla trava com abertura de 15 a 20 mm . Ref.: MG cintos, modelo Mult 1270",10,"CONJ",722.76,7227.6,0.2359,8932.5908400000008]
[null,null,12,"Corda de Segurança Semi-Estática. Diâmetro 12 milímetros. Cor branca. Carga mínima de ruptura de 20 kN. Trançado triplo (externo e interno em poliamida, intermediário em polipropileno) e alma central em multifilamento de poliamida. Possui fita de identificação (alerta) interna em multifilamento polipropileno. Ref.: 3M Altiseg",50,"METROS",10.48,524,0.2359,647.61159999999995]
[null,null,13,"Filtro mecânico para poeiras, névoas e fumos. a ser utilizado de forma combinada com o cartucho. Compatível com o respirador de meia peça facial a ser adquirido. Ref.: 5N11 3M",90,"PARES",24.05,2164.5,0.2359,2675.1055500000002]
[null,null,14,"Fita de sinalização (zebrada), com listas laranja e preta intercaladas-rolo 200 m x 70 mm. Ref.: 3M",8,"UND",72.28,578.24,0.2359,714.64681600000006]
[null,null,15,"Lente de reposição compatível com a Máscara de solda fornecida",7,"UND",18.18,127.25999999999999,0.2359,157.28063399999999]
[null,null,16,"Luva de Vaqueta com punho de raspa de 20 cm, reforço na palma, polegar e indicador confeccionado em raspa. Possui elástico de ajuste no dorso. Ref.: LUVEQ",2,"PARES",29.3,58.6,0.2359,72.423739999999995]
[null,null,17,"Luvas de segurança isolamento em borracha para alta tensão classe 00, 2,5 KV 500 volts, com luva de vaqueta (cobertura), com cinta ajustável em vaqueta, punho 15cm em raspa. Marca Ref. Orion",7,"PARES",338.72,2371.04,0.2359,2930.368336]
[null,null,17,"Macacão de segurança em Tyvek, impermeável, com capuz, para proteção química, cor branca. Ref.: Dupont",70,"UND",65.69,4598.3,0.2359,5683.0389700000005]
[null,null,17,"Máscara de solda confeccionada em policarbonato e poliamida, leve, filtro de escurecimento automático, bateria de lítio recarregável através de células solares, controle manual de tonalidade de 4/9-13, nível de sensibilidade ajustável para baixo e alto, carneira (suspensão) com aparador de suor e catraca com ajuste para baixo e para trás. Ref. Vicsa Optech Danny",14,"UND",410.51,5747.1399999999994,0.2359,7102.8903259999988]
[null,null,17,"MOSQUETÃO OVAL dupla trava de segurança em rosca; abertura mínima de 19 mm e carga de ruptura de 25 kN. Em aço.",5,"UND",26.8,134,0.2359,165.61060000000001]
[null,null,18,"Óculos de sobreposição INCOLOR, constituído de armação e visor confeccionados em uma única peça de policarbonato com apoio (do nariz) anatômico. Permite a sobreposição em óculos de grau. Hastes do tipo espátula confeccionadas do mesmo material da armação. Possui fendas para ventilação fixadas à armação e orifícios para cordão. REF. CARBOGRAFITE Mod. Provision.  ",10,"UND",11.03,110.3,0.2359,136.31977000000001]
[null,null,19,"Protetor Facial de Segurança, constituído de coroa e carneira de plástico, com regulagem de tamanho através de ajuste simples e visor em policarbonato incolor, 20cm. Ref.: Ledan",20,"UND",61.5,1230,0.2359,1520.1569999999999]
[null,null,20,"Respirador de meia peça facial, compatibilidade com filtros químicos, mecânicos ou combinados, encaixes para dois filtros/cartuchos. Diferentes opções de tamanhos para proporcionar vedação adequada aos tipos de rostos dos usuários. Ref.: 3M, modelo 6200",45,"UND",148.16,6667.2,0.2359,8239.992479999999]
[null,null,21,"Respirador purificador de ar tipo, peça semifacial filtrante para partículas (PFF2), com formato dobrável, solda ultra-sônica em todo o seu perímetro. Fita elástica branca fixada nas laterais externas do respirador, perfazendo uma alça na para fixação na parte superior da cabeça e a outra na parte inferior, para fixação na altura da nuca do usuário. A parte superior externa da peça possui tira de material metálico moldável, utilizada para ajuste no septo nasal. Na face lateral do respirador existe um dispositivo de material plástico, dotado internamente de uma válvula de exalação. DEVERÁ APRESENTAR O SELO DE APROVAÇÃO DO INMETRO. Ref.: 3M",60,"UND",5.92,355.2,0.2359,438.99167999999997]
[null,null,22,"Retentor plastico para filtro. Compatível com o respirador de meia peça facial a ser adquirido. Ref.: 3M 5011",90,"PARES",21.41,1926.9,0.2359,2381.4557100000002]
[null,null,23,"Tapete de Borracha Isolante, superfície antiderrapante e base com acabamento texturizado, tensão de ensaio 5.000 Volts, tensão de uso 1.000 Volts, espessura mínima 3 mm, dimensões aproximadas: 610 x 2000mm, cor preta. Ref.: Orion classe 0",3,"UND",313.79000000000002,941.37000000000012,0.2359,1163.4391830000002]
[null,null,24,"Tenda piramidal. Dimensões aproximadas: Comprimento: 3m; Largura: 3m; Altura: 2,5m. Estrutura em aço carbono com pintura epóxi à pó na cor branca ou azul. Pés em alumínio; Tecido impermeável. Ref. TMS",3,"UND",1562.08,4686.24,0.2359,5791.7240160000001]
[null,null,25,"Touca Árabe, sem aba, confeccionada em tecido helanca ou brim, fechamento em velcro abaixo do queixo e elástico na parte traseira para ajuste. REF.: Vale Verde",42,"UND",10.4,436.8,0.2359,539.84112000000005]
[null,null,26,"Vestimenta tipo capa (para chuva), confeccionada em PVC forrada em poliéster, fechamento frontal com botões plásticos de pressão, costuras através de solda eletrônica, com mangas e capuz, comprimento mínimo 1,15m. ref. CARBOGRAFITE",31,"UND",22.78,706.18000000000006,0.2359,872.76786200000004]
[]
[null,null,null,null,null,null,null,null,"SOMATÓRIO TOTAL MENSAL",{"$f":"ROUND(SUM(J8:K37)/12,2)","v":7661.31}]
[null,null,null,null,null,null,null,null,"SOMATÓRIO TOTAL ANUAL",{"$f":"J38*12","v":91935.72},null,null,{"$f":"SUM($H$9:$H$36)","v":74387.659999999989}]

{"sheet":"Uniformes","index":27,"n_rows":16,"n_cols":14,"rows_kept":16,"cut":false,"hidden":false,"merged":[[2,1,2,4],[3,1,3,11]]}
[]
[]
[]
[null,"UNIFORMES - AQUISIÇÃO"]
[]
[]
[null,null,null,"ITEM","DESCRIÇÃO","QUANT ANUAL","UNIDADE","CUSTO UNITÁRIO","CUSTO ANUAL","BDI (%)","PREÇO TOTAL","FONTE"]
[]
[null,null,null,"U.001","Calça jeans",{"$f":"328+56","v":384},"unid",47.27,{"$f":"H9*F9","v":18151.68},{"$f":"'BDI - Geral'!E27","v":0.2359},{"$f":"I9*(1+J9)","v":22433.661312}]
[null,null,null,"U.002","Guarda-pó com manga curta, em brim, com bolso plástico para acomodar o crachá de identificação",312,"unid",72.989999999999995,{"$f":"H10*F10","v":22772.879999999997},{"$f":"J9","v":0.2359},{"$f":"I10*(1+J10)","v":28145.002391999999}]
[null,null,null,"U.003","Meia confeccionada em lã térmica ou algodão, na cor branca ou preta",{"$f":"328+56","v":384},"par",13.75,5280,{"$f":"J10","v":0.2359},6525.5519999999997]
[null,null,null,"U.004","Camisa de gola, em algodão, com manga curta, com bolso para acomodar o crachá, em uma cor diferente do guarda-pó operacional",56,"unid",51.63,2891.28,{"$f":"J11","v":0.2359},3573.3329520000002]
[null,null,null,"U.005","Camisa com manga curta com faixa refletiva, tecido respirável, com bolso plástico para acomodar crachá de identificação\n",16,"unid",62.76,1004.16,{"$f":"J12","v":0.2359},1241.041344]
[]
[null,null,null,null,null,null,null,null,null,"SOMATÓRIO TOTAL MENSAL",{"$f":"ROUND(SUM(K8:K14)/12,2)","v":5159.88}]
[null,null,null,null,null,null,null,null,null,"SOMATÓRIO TOTAL ANUAL",{"$f":"K15*12","v":61918.559999999998},null,null,{"$f":"SUM($I$9:$I$13)","v":50100}]

{"sheet":"Ferramentas","index":28,"n_rows":269,"n_cols":15,"rows_kept":269,"cut":false,"hidden":false,"merged":[[2,1,2,3],[3,1,3,14]]}
[]
[]
[]
[null,"EQUIPAMENTOS - PAGAMENTO DA DEPRECIAÇÃO / MANUTENÇÃO"]
[]
[]
[null,null,"PAGAMENTO DA DEPRECIAÇÃO"]
[null,"CÓD.","ITEM","DESCRIÇÃO","QUANT ANUAL","UNIDADE","VALOR DE AQ.","% RESIDUAL","VIDA ÚTIL","DEP. MENSAL","CUSTO MENSAL","BDI (%)","PREÇO MENSAL","FONTE","REFERÊNCIA"]
[]
[null,null,"F.001","Alicate Amperímetro Digital Profissional Minipa Et-3200a  (marca de referência)",10,"un",360.45666666666671,0.1,10,{"$f":"G10*(1-H10)/(I10*12)","v":2.7034250000000006},{"$f":"J10*E10","v":27.034250000000007},{"$f":"'BDI - Geral'!$E$27","v":0.2359},{"$f":"ROUND(K10*(1+L10),2)","v":33.409999999999997},"Cotação"]
[null,null,"F.002","Alicate bico de papagaio 12 polegadas",26,"un",66.263333333333335,0.1,10,{"$f":"G11*(1-H11)/(I11*12)","v":0.496975},{"$f":"J11*E11","v":12.92135},{"$f":"L10","v":0.2359},{"$f":"ROUND(K11*(1+L11),2)","v":15.97},"Cotação"]
[null,null,"F.003","Alicate de bico curvo, 8\"  marca ref. BELZER OU GEDORE",26,"un",143.26333333333335,0.1,10,1.0744750000000001,27.936350000000001,{"$f":"L11","v":0.2359},{"$f":"ROUND(K12*(1+L12),2)","v":34.53},"Cotação"]
[null,null,"F.004","Alicate de bico reto de 6\" marca ref. BELZER OU GEDORE",26,"un",64.163333333333341,0.1,10,0.48122500000000007,12.511850000000003,0.2359,{"$f":"ROUND(K13*(1+L13),2)","v":15.46},"Cotação"]
[null,null,"F.005","Alicate de corte diagonal 6 polegadas profissional",10,"un",47.129999999999995,0.1,10,0.35347499999999993,3.5347499999999994,0.2359,{"$f":"ROUND(K14*(1+L14),2)","v":4.37},"Cotação"]
[null,null,"F.006","Alicate de pressão 10 polegadas emborrachado",26,"un",50.236666666666657,0.1,10,0.37677499999999997,9.796149999999999,0.2359,{"$f":"ROUND(K15*(1+L15),2)","v":12.11},"Cotação"]
[null,null,"F.007","Alicate decapador de cabos elétricos de 0,5 a 6 mm²",8,"un",172.53,0.1,10,1.2939750000000001,10.351800000000001,0.2359,{"$f":"ROUND(K16*(1+L16),2)","v":12.79},"Cotação"]
[null,null,"F.008","Alicate lacrador de tubos, marca de referência ROTHENBERGER",14,"un",278.16333333333336,0.1,10,2.0862250000000002,29.207150000000002,0.2359,{"$f":"ROUND(K17*(1+L17),2)","v":36.1},"Cotação"]
[null,null,"F.009","Alicate p/ rebite (marca de referência) POP",30,"un",97.583333333333329,0.1,10,0.73187500000000005,21.956250000000001,0.2359,{"$f":"ROUND(K18*(1+L18),2)","v":27.14},"Cotação"]
[null,null,"F.010","Alicate para crimpar terminais pré isolados de 0,5 a 6,0 mm",8,"un",165.54333333333332,0.1,10,1.2415750000000001,9.9326000000000008,0.2359,{"$f":"ROUND(K19*(1+L19),2)","v":12.28},"Cotação"]
[null,null,"F.011","Alicate de corte DIAGONAL 7.1/2 FORÇA DUPLA, REF. VONDER",16,"un",109.17333333333333,0.1,10,0.81879999999999997,13.1008,0.2359,{"$f":"ROUND(K20*(1+L20),2)","v":16.190000000000001},"Cotação"]
[null,null,"F.012","Alicate universal 8\" ref. Belzer-219022BBR  (marca de referência)",30,"un",97.596666666666678,0.1,10,0.73197500000000015,21.959250000000004,0.2359,{"$f":"ROUND(K21*(1+L21),2)","v":27.14},"Cotação"]
[null,null,"F.013","Alicate de impacto punch down REF. Wurth - 07158301",2,"un",74.69,0.1,10,0.56017499999999998,1.12035,0.2359,{"$f":"ROUND(K22*(1+L22),2)","v":1.38},"Cotação"]
[null,null,"F.014","Anemômetro digital com termohigrômetro, REF. MINIPA MDA-11A (SEM CERTIFICADO)",4,"un",398.07333333333332,0.1,10,2.9855500000000004,11.942200000000001,0.2359,{"$f":"ROUND(K23*(1+L23),2)","v":14.76},"Cotação"]
[null,null,"F.015","Arco de serra regulável 12\" ref. Tramontina-43302012  (marca de referência)",30,"un",71.076666666666668,0.1,10,0.53307499999999997,15.992249999999999,0.2359,{"$f":"ROUND(K24*(1+L24),2)","v":19.760000000000002},"Cotação"]
[null,null,"F.016","Aspirador de pó p/aspirar ar e água mínimo 20 litros 220V (Ref. WAP GTW INOX 20 1.600W 20L)",10,"un",687.67333333333329,0.1,10,5.1575499999999996,51.575499999999998,0.2359,{"$f":"ROUND(K25*(1+L25),2)","v":63.74},"Cotação"]
[null,null,"F.017","Balança eletrônica para pesagem de fluido refrigerante – MASTERCOOL (Ref. 298210 100KG)",2,"un",1714.3866666666665,0.1,10,12.857899999999999,25.715799999999998,0.2359,{"$f":"ROUND(K26*(1+L26),2)","v":31.78},"Cotação"]
[null,null,"F.018","Balança eletrônica de 0 a 25 Kg",1,"un",928.5866666666667,0.1,10,6.9644000000000004,6.9644000000000004,0.2359,{"$f":"ROUND(K27*(1+L27),2)","v":8.61},"Cotação"]
[null,null,"F.019","Bico de corte maçarico acetileno -  referência: WHITE MARTINS 1502 (bico nº 10)",6,"un",70.899999999999991,0.1,10,0.53174999999999994,3.1904999999999997,0.2359,{"$f":"ROUND(K28*(1+L28),2)","v":3.94},"Cotação"]
[null,null,"F.020","Bomba de alto vácuo 5 CFM (DUPLO ESTÁGIO)",2,"un",1100.73,0.1,10,8.2554750000000006,16.510950000000001,0.2359,{"$f":"ROUND(K29*(1+L29),2)","v":20.41},"Cotação"]
[null,null,"F.021","Bomba de alto vácuo 12 CFM (DUPLO ESTÁGIO)",2,"un",1976.5033333333333,0.1,10,14.823775000000001,29.647550000000003,0.2359,{"$f":"ROUND(K30*(1+L30),2)","v":36.64},"Cotação"]
[null,null,"F.022","Bomba de alto vácuo 18 CFM (DUPLO ESTÁGIO)",1,"un",12425.49,0.1,10,93.191175000000001,93.191175000000001,0.2359,{"$f":"ROUND(K31*(1+L31),2)","v":115.17},"Cotação"]
[null,null,"F.023","Bomba de alto vácuo 24 CFM (DUPLO ESTÁGIO)",1,"un",12800,0.1,10,96,96,0.2359,{"$f":"ROUND(K32*(1+L32),2)","v":118.65},"Cotação"]
[null,null,"F.024","Bomba de alto vácuo 30 CFM (DUPLO ESTÁGIO)",0,"un",21592.584000000003,0.1,10,161.94438000000002,0,0.2359,{"$f":"ROUND(K33*(1+L33),2)","v":0},"Cotação"]
[null,null,"F.025","Bomba de engraxar (manual) pequena – referência: VONDER BMV-0500",12,"un",167.99666666666667,0.1,10,1.2599750000000001,15.119700000000002,0.2359,{"$f":"ROUND(K34*(1+L34),2)","v":18.690000000000001},"Cotação"]
[null,null,"F.026","Bomba de óleo (manual) industrial – referência: BOZZA modelo 8631-G2, de 24 litros, com carrinho",2,"un",1286.7166666666667,0.1,10,9.6503750000000004,19.300750000000001,0.2359,{"$f":"ROUND(K35*(1+L35),2)","v":23.85},"Cotação"]
[null,null,"F.027","Bomba p/ lavagem de circuito frigorígeno (injetor de gás 141b)",1,"un",301.33,0.1,10,2.2599749999999998,2.2599749999999998,0.2359,{"$f":"ROUND(K36*(1+L36),2)","v":2.79},"Cotação"]
[null,null,"F.028","Bomba para amostra de ar para análise da qualidade do ar - referência: MERCK MAS-100 NT e certificado de calibração",1,"un",86974.04,0.1,10,652.30529999999999,652.30529999999999,0.2359,{"$f":"ROUND(K37*(1+L37),2)","v":806.18},"Cotação"]
[null,null,"F.029","Cabo de extensão trifásica, 30 metros, bitola 35 mm², para 150 A – referência: MASTER-AC CE 5150",2,"un",3041.23,0.1,10,22.809225000000001,45.618450000000003,0.2359,{"$f":"ROUND(K38*(1+L38),2)","v":56.38},"Cotação"]
[null,null,"F.030","Caixa de ferramentas com 7 gavetas e cadeado.",33,"un",156.46333333333334,0.1,10,1.173475,38.724675000000005,0.2359,{"$f":"ROUND(K39*(1+L39),2)","v":47.86},"Cotação"]
[null,null,"F.031","Caixa de ferramentas modular, com 5 (CINCO) gavetas independentes, estrutura metálica, alças dobráveis, com cadeado, rodas de alta resistência, pintura eletrostática, base e puxador para transporte, marca de ref. TRAMONTINA PRO",12,"un",281.07666666666665,0.1,10,2.1080749999999999,25.296900000000001,0.2359,{"$f":"ROUND(K40*(1+L40),2)","v":31.26},"Cotação"]
[null,null,"F.032","Caixa para ferramentas medindo 50 x 20 x 21 cm, 5 gavetas com cadeado, ref. BELZER OU GEDORE",2,"un",180.88666666666668,0.1,10,1.3566500000000004,2.7133000000000007,0.2359,{"$f":"ROUND(K41*(1+L41),2)","v":3.35},"Cotação"]
[null,null,"F.033","Capacimetro digital, REF. MINIPA MC-155",2,"un",417.21999999999997,0.1,10,3.1291500000000001,6.2583000000000002,0.2359,{"$f":"ROUND(K42*(1+L42),2)","v":7.73},"Cotação"]
[null,null,"F.034","Chave canhão 1/4\" x 6\" marca ref. BELZER OU GEDORE",26,"un",28.193333333333332,0.1,10,0.21145,5.4977,0.2359,{"$f":"ROUND(K43*(1+L43),2)","v":6.79},"Cotação"]
[null,null,"F.035","Chave canhão 3/16\" x 6\" marca ref. BELZER OU GEDORE",26,"un",22.22,0.1,10,0.16665000000000002,4.3329000000000004,0.2359,{"$f":"ROUND(K44*(1+L44),2)","v":5.36},"Cotação"]
[null,null,"F.036","Chave canhão 5/16\" x 6\" marca ref. BELZER OU GEDORE",26,"un",27.566666666666666,0.1,10,0.20674999999999999,5.3754999999999997,0.2359,{"$f":"ROUND(K45*(1+L45),2)","v":6.64},"Cotação"]
[null,null,"F.037","Chave canhão de 6 mm",26,"un",30.326666666666668,0.1,10,0.22745000000000001,5.9137000000000004,0.2359,{"$f":"ROUND(K46*(1+L46),2)","v":7.31},"Cotação"]
[null,null,"F.038","Chave combinada boca/estria especial com 18 peças de 1/4 a 1.1/4mm",15,"un",581.63333333333333,0.1,10,4.3622500000000004,65.433750000000003,0.2359,{"$f":"ROUND(K47*(1+L47),2)","v":80.87},"Cotação"]
[null,null,"F.039","Chave combinada boca/estria especial com 18 peças de 6 a 32mm",10,"un",471.50666666666666,0.1,10,3.5362999999999998,35.363,0.2359,{"$f":"ROUND(K48*(1+L48),2)","v":43.71},"Cotação"]
[null,null,"F.040","Chave corrente para tubulação de 2.1/2\"",3,"un",1803.7066666666667,0.1,10,13.527800000000001,40.583400000000005,0.2359,{"$f":"ROUND(K49*(1+L49),2)","v":50.16},"Cotação"]
[null,null,"F.041","Chave de fenda de 1/4\" x 5\" marca ref. BELZER OU GEDORE",30,"un",12.653333333333334,0.1,10,9.4900000000000012E-2,2.8470000000000004,0.2359,{"$f":"ROUND(K50*(1+L50),2)","v":3.52},"Cotação"]
[null,null,"F.042","Chave de fenda de 1/8\" x 5\" marca ref. BELZER OU GEDORE",30,"un",9.3133333333333326,0.1,10,6.9849999999999995E-2,2.0954999999999999,0.2359,{"$f":"ROUND(K51*(1+L51),2)","v":2.59},"Cotação"]
[null,null,"F.043","Chave de fenda de 3/16\" x 5\" marca ref. BELZER OU GEDORE",30,"un",9.7733333333333334,0.1,10,7.3300000000000004E-2,2.1990000000000003,0.2359,{"$f":"ROUND(K52*(1+L52),2)","v":2.72},"Cotação"]
[null,null,"F.044","Chave de fenda de 3/8\" x 5\" marca ref. BELZER OU GEDORE",30,"un",22.066666666666666,0.1,10,0.16550000000000001,4.9649999999999999,0.2359,{"$f":"ROUND(K53*(1+L53),2)","v":6.14},"Cotação"]
[null,null,"F.045","Chave de fenda de 5/16\" x 5\" marca ref. BELZER OU GEDORE",30,"un",18.033333333333331,0.1,10,0.13525000000000001,4.0575000000000001,0.2359,{"$f":"ROUND(K54*(1+L54),2)","v":5.01},"Cotação"]
[null,null,"F.046","Chave de grifo nº 14",20,"un",45.47,0.1,10,0.34102500000000002,6.8205000000000009,0.2359,{"$f":"ROUND(K55*(1+L55),2)","v":8.43},"Cotação"]
[null,null,"F.047","Chave de grifo nº 18",20,"un",65.100000000000009,0.1,10,0.48825000000000007,9.7650000000000006,0.2359,{"$f":"ROUND(K56*(1+L56),2)","v":12.07},"Cotação"]
[null,null,"F.048","Chave de grifo nº 24",10,"un",98.509999999999991,0.1,10,0.73882499999999995,7.3882499999999993,0.2359,{"$f":"ROUND(K57*(1+L57),2)","v":9.1300000000000008},"Cotação"]
[null,null,"F.049","Chave de grifo nº 36",4,"un",194.04,0.1,10,1.4553,5.8212000000000002,0.2359,{"$f":"ROUND(K58*(1+L58),2)","v":7.19},"Cotação"]
[null,null,"F.050","Chave de teste néon com ponta fenda ref. Tramontina",20,"un",17.566666666666666,0.1,10,0.13175000000000001,2.6350000000000002,0.2359,{"$f":"ROUND(K59*(1+L59),2)","v":3.26},"Cotação"]
[null,null,"F.051","Chave estrela de 1/4 a 1.1/8\" ( JOGO COM 1/4 A 1.1/4\")",14,"jogo",310.10999999999996,0.1,10,2.325825,32.561549999999997,0.2359,{"$f":"ROUND(K60*(1+L60),2)","v":40.24},"Cotação"]
[null,null,"F.052","Chave fenda toco de 1/4\"",30,"un",14.65,0.1,10,0.109875,3.2962500000000001,0.2359,{"$f":"ROUND(K61*(1+L61),2)","v":4.07},"Cotação"]
[null,null,"F.053","Chave fenda toco de 1/8”",30,"un",13.133333333333335,0.1,10,9.8500000000000018E-2,2.9550000000000005,0.2359,{"$f":"ROUND(K62*(1+L62),2)","v":3.65},"Cotação"]
[null,null,"F.054","Chave inglesa nº 12 marca ref. BELZER OU GEDORE",30,"un",160.48666666666668,0.1,10,1.2036500000000001,36.109500000000004,0.2359,{"$f":"ROUND(K63*(1+L63),2)","v":44.63},"Cotação"]
[null,null,"F.055","Chave inglesa nº 14 marca ref. BELZER OU GEDORE",2,"un",320.18666666666667,0.1,10,2.4014000000000002,4.8028000000000004,0.2359,{"$f":"ROUND(K64*(1+L64),2)","v":5.94},"Cotação"]
[null,null,"F.056","Chave inglesa nº 8 marca ref. BELZER OU GEDORE",30,"un",60.04,0.1,10,0.45030000000000003,13.509,0.2359,{"$f":"ROUND(K65*(1+L65),2)","v":16.7},"Cotação"]
[null,null,"F.057","Chave phillips 1/4\" x 6\" marca ref. BELZER OU GEDORE",30,"un",14.723333333333334,0.1,10,0.11042500000000001,3.3127500000000003,0.2359,{"$f":"ROUND(K66*(1+L66),2)","v":4.09},"Cotação"]
[null,null,"F.058","Chave phillips 3/16\" x 6\" marca ref. BELZER OU GEDORE",30,"un",12.39,0.1,10,9.2925000000000008E-2,2.7877500000000004,0.2359,{"$f":"ROUND(K67*(1+L67),2)","v":3.45},"Cotação"]
[null,null,"F.059","Chave phillips 3/8\" x 6\" marca ref. BELZER OU GEDORE",30,"un",25.86,0.1,10,0.19395000000000001,5.8185000000000002,0.2359,{"$f":"ROUND(K68*(1+L68),2)","v":7.19},"Cotação"]
[null,null,"F.060","Chave phillips 1/8\" x 6\" marca ref. BELZER OU GEDORE",30,"un",9.93,0.1,10,7.4475E-2,2.2342499999999998,0.2359,{"$f":"ROUND(K69*(1+L69),2)","v":2.76},"Cotação"]
[null,null,"F.061","Chave phillips 5/16\" x 6\" marca ref. BELZER OU GEDORE",30,"un",19.246666666666666,0.1,10,0.14435000000000001,4.3304999999999998,0.2359,{"$f":"ROUND(K70*(1+L70),2)","v":5.35},"Cotação"]
[null,null,"F.062","Chave phillips toco de 1/4\" ",30,"un",13.456666666666669,0.1,10,0.10092500000000001,3.0277500000000006,0.2359,{"$f":"ROUND(K71*(1+L71),2)","v":3.74},"Cotação"]
[null,null,"F.063","Chave phillips toco de 1/8” ",30,"un",10.583333333333334,0.1,10,7.9375000000000001E-2,2.3812500000000001,0.2359,{"$f":"ROUND(K72*(1+L72),2)","v":2.94},"Cotação"]
[null,null,"F.064","Chave tipo L nº 10 marca ref. BELZER OU GEDORE",10,"un",21.733333333333334,0.1,10,0.16300000000000001,1.6300000000000001,0.2359,{"$f":"ROUND(K73*(1+L73),2)","v":2.0099999999999998},"Cotação"]
[null,null,"F.065","Chave tipo L nº 11 marca ref. BELZER OU GEDORE",10,"un",29.723333333333333,0.1,10,0.22292500000000001,2.22925,0.2359,{"$f":"ROUND(K74*(1+L74),2)","v":2.76},"Cotação"]
[null,null,"F.066","Chave tipo L nº 12 marca ref. BELZER OU GEDORE",10,"un",31.87,0.1,10,{"$f":"G75*(1-H75)/(I75*12)","v":0.23902499999999999},{"$f":"J75*E75","v":2.39025},0.2359,{"$f":"ROUND(K75*(1+L75),2)","v":2.95},"Cotação"]
[null,null,"F.067","Chave tipo L nº 13 marca ref. BELZER OU GEDORE",10,"un",30.546666666666663,0.1,10,0.22909999999999997,2.2909999999999995,{"$f":"L75","v":0.2359},{"$f":"ROUND(K76*(1+L76),2)","v":2.83},"Cotação"]
[null,null,"F.068","Chave tipo L nº 14 marca ref. BELZER OU GEDORE",10,"un",34.593333333333334,0.1,10,0.25945000000000001,2.5945,0.2359,{"$f":"ROUND(K77*(1+L77),2)","v":3.21},"Cotação"]
[null,null,"F.069","Chave TORK longa com 10 peças, T9 a T50 – referência: WORKER-140899",14,"un",71.566666666666663,0.1,10,0.53674999999999995,7.5144999999999991,0.2359,{"$f":"ROUND(K78*(1+L78),2)","v":9.2899999999999991},"Cotação"]
[null,null,"F.070","Chaves fixas de 1/4 a 1.1/8\"",14,"un",225.52666666666667,0.1,10,1.6914500000000001,23.680300000000003,0.2359,{"$f":"ROUND(K79*(1+L79),2)","v":29.27},"Cotação"]
[null,null,"F.071","Cilindro recarregável vazio para armazenamento de fluido refrigerante tipo R-134a – 40 kg – 49 bar, válvula dupla",2,"un",2228.7600000000002,0.1,10,16.715700000000002,33.431400000000004,0.2359,{"$f":"ROUND(K80*(1+L80),2)","v":41.32},"Cotação"]
[null,null,"F.072","Compressor de ar 2 hp, 50 litros, 220v, com kit pintura – referência: SCHULZ",2,"un",2322.39,0.1,10,17.417925,34.835850000000001,0.2359,{"$f":"ROUND(K81*(1+L81),2)","v":43.05},"Cotação"]
[null,null,"F.073","Conjunto de mangueiras para manifold, 150 cm – referência: MASTERCOOL",6,"un",396.32666666666665,0.1,10,2.9724500000000003,17.834700000000002,0.2359,{"$f":"ROUND(K82*(1+L82),2)","v":22.04},"Cotação"]
[null,null,"F.074","Conjunto de solda oxigênio e acetileno (PPU) industrial – REF. GÁS NORTE GN-10",1,"un",7355,0.1,10,55.162500000000001,55.162500000000001,0.2359,{"$f":"ROUND(K83*(1+L83),2)","v":68.180000000000007},"Cotação"]
[null,null,"F.075","Conjunto de solda oxigênio e acetileno (PPU) pequeno – referência: FAMABRAS",2,"un",3368.2433333333333,0.1,10,25.261824999999998,50.523649999999996,0.2359,{"$f":"ROUND(K84*(1+L84),2)","v":62.44},"Cotação"]
[null,null,"F.076","Conjunto Manifold Eos R-401 R-134a R-22 R-12  (REF. EOS KIT P/ R22/R134A/407 E 404A)",8,"un",337.94,0.1,10,2.5345500000000003,20.276400000000002,0.2359,{"$f":"ROUND(K85*(1+L85),2)","v":25.06},"Cotação"]
[null,null,"F.077","Conjunto manifold para gases R404A, R507c e R134a, com jogo de mangueiras de 90 cm, marca de, REF. MASTERCOOL 93636-MR",4,"un",738,0.1,10,5.5350000000000001,22.14,0.2359,{"$f":"ROUND(K86*(1+L86),2)","v":27.36},"Cotação"]
[null,null,"F.078","Conjunto manifold R22, R410A, R404A, R407C com mangueira de 1,60CM e adaptador para R410A mod.36661-E-V mastercool",10,"un",410.09666666666664,0.1,10,3.0757249999999998,30.757249999999999,0.2359,{"$f":"ROUND(K87*(1+L87),2)","v":38.01},"Cotação"]
[null,null,"F.079","Cortador de Tubos de Aço, Alumínio, Cobre 1/8 A 1 1/8 (REF. RIGID-150 SERV. LEVE)",10,"un",488.12333333333328,0.1,10,3.6609249999999998,36.609249999999996,0.2359,{"$f":"ROUND(K88*(1+L88),2)","v":45.25},"Cotação"]
[null,null,"F.080","Curvador 4 em 1, 180° graus, para medidas 3/16, ¼, 3/8, ½, para uso em cobre e alumínio leves para refrigeração (tubos flexíveis), REF. KLEIN TOOLS 89030",14,"un",222.63333333333333,0.1,10,1.6697500000000001,23.3765,0.2359,{"$f":"ROUND(K89*(1+L89),2)","v":28.89},"Cotação"]
[null,null,"F.081","Detector de vazamento de gás – TESTO 316-3",1,"un",3154.146666666667,0.1,10,23.656100000000002,23.656100000000002,0.2359,{"$f":"ROUND(K90*(1+L90),2)","v":29.24},"Cotação"]
[null,null,"F.082","Escada de alumínio extensiva com 9 degraus, altura min: 2,77m",5,"un",463.57333333333332,0.1,10,3.4767999999999999,17.384,0.2359,{"$f":"ROUND(K91*(1+L91),2)","v":21.48},"Cotação"]
[null,null,"F.083","Escada de fibra RF-4",12,"un",413.44333333333333,0.1,10,3.1008249999999999,37.209899999999998,0.2359,{"$f":"ROUND(K92*(1+L92),2)","v":45.99},"Cotação"]
[null,null,"F.084","Escada de fibra TF-6",12,"un",917.44666666666672,0.1,10,6.8808500000000006,82.5702,0.2359,{"$f":"ROUND(K93*(1+L93),2)","v":102.05},"Cotação"]
[null,null,"F.085","Escova de aço manual – referência: VONDER",12,"un",16.953333333333333,0.1,10,0.12715000000000001,1.5258000000000003,0.2359,{"$f":"ROUND(K94*(1+L94),2)","v":1.89},"Cotação"]
[null,null,"F.086","Esmerilhadeira 4.1/2\", REF. BOSH GWS850 850W 220V",1,"un",427.9666666666667,0.1,10,3.2097500000000001,3.2097500000000001,0.2359,{"$f":"ROUND(K95*(1+L95),2)","v":3.97},"Cotação"]
[null,null,"F.087","Espátula nº 08 em aço forjado",30,"un",31.576666666666664,0.1,10,{"$f":"G96*(1-H96)/(I96*12)","v":0.23682499999999998},7.1047499999999992,0.2359,{"$f":"ROUND(K96*(1+L96),2)","v":8.7799999999999994},"Cotação"]
[null,null,"F.088","Espátula nº 10 em aço forjado",30,"un",38.806666666666665,0.1,10,0.29105000000000003,8.7315000000000005,0.2359,{"$f":"ROUND(K97*(1+L97),2)","v":10.79},"Cotação"]
[null,null,"F.089","Extensão com cabo de 20 metros, cabo PP 2,5 mm² - referência: TRAMONTINA FORJASUL ELETRIK",15,"un",314.99666666666661,0.1,10,2.3624749999999994,35.437124999999995,0.2359,{"$f":"ROUND(K98*(1+L98),2)","v":43.8},"Cotação"]
[null,null,"F.090","Ferro de solda - 100 Watts",10,"un",69.11,0.1,10,0.51832500000000004,5.1832500000000001,0.2359,{"$f":"ROUND(K99*(1+L99),2)","v":6.41},"Cotação"]
[null,null,"F.091","Furadeira industrial plus, REF. GBM 16-2 RE reversível 1/2\" 800w BOSH, 220V",8,"un",1360.5233333333333,0.1,10,10.203925,81.631399999999999,0.2359,{"$f":"ROUND(K100*(1+L100),2)","v":100.89},"Cotação"]
[null,null,"F.092","Flangeador de Tubos 3/16 - 1/4 - 5/16 - 3/8 - 1/2 - 5/8",14,"un",137.44,0.1,10,1.0307999999999999,14.431199999999999,0.2359,{"$f":"ROUND(K101*(1+L101),2)","v":17.84},"Cotação"]
[null,null,"F.093","Furadeira c/ impacto - 800w - Makita Mhp13 1/2 c/ impacto",10,"un",569.37666666666667,0.1,10,4.2703249999999997,42.703249999999997,0.2359,{"$f":"ROUND(K102*(1+L102),2)","v":52.78},"Cotação"]
[null,null,"F.094","Garra de 200mm, ref. BELZER",1,"un",193.81333333333336,0.1,10,1.4536000000000002,1.4536000000000002,0.2359,{"$f":"ROUND(K103*(1+L103),2)","v":1.8},"Cotação"]
[null,null,"F.095","Garra de 250mm, ref. BELZER",1,"un",260.68333333333334,0.1,10,1.955125,1.955125,0.2359,{"$f":"ROUND(K104*(1+L104),2)","v":2.42},"Cotação"]
[null,null,"F.096","Garra de 300mm, ref. BELZER",1,"un",452.08,0.1,10,3.3906000000000001,3.3906000000000001,0.2359,{"$f":"ROUND(K105*(1+L105),2)","v":4.1900000000000004},"Cotação"]
[null,null,"F.097","Jogo (talhadeira de 16mm; saca pino cônico de 6mm; saca pino paralelo de 4mm e punção de 4mm), REF. GEDORE VK246",8,"un",279.05666666666667,0.1,10,2.0929250000000001,16.743400000000001,0.2359,{"$f":"ROUND(K106*(1+L106),2)","v":20.69},"Cotação"]
[null,null,"F.098","Jogo Chave Allen 1/16\" a 1/2\" Com 12 Peças - GEDORE-4212P  (marca de referência)",20,"un",85.626666666666665,0.1,10,0.6422000000000001,12.844000000000001,0.2359,{"$f":"ROUND(K107*(1+L107),2)","v":15.87},"Cotação"]
[null,null,"F.099","Jogo de alicates para anéis internos e externos de 7 pol. com 4 peças – referência: UYUSTOOLS-als402",10,"un",121.45,0.1,10,0.9108750000000001,9.1087500000000006,0.2359,{"$f":"ROUND(K108*(1+L108),2)","v":11.26},"Cotação"]
[null,null,"F.100","Jogo de alicate saca trava bico reto e torto (com 4 peças)",10,"un",121.45,0.1,10,0.9108750000000001,9.1087500000000006,0.2359,{"$f":"ROUND(K109*(1+L109),2)","v":11.26},"Cotação"]
[null,null,"F.101","Jogo de Chave Allen 1,5 a 10mm 11 peças - BELZER-220404BR  (marca de referência)",20,"un",50.543333333333329,0.1,10,0.379075,7.5815000000000001,0.2359,{"$f":"ROUND(K110*(1+L110),2)","v":9.3699999999999992},"Cotação"]
[null,null,"F.102","Jogo de chave allen longas 1,5 mm a 10 mm com 9 peças – referência: GEDORE 42L-9M",14,"un",71.256666666666661,0.1,10,0.53442500000000004,7.4819500000000003,0.2359,{"$f":"ROUND(K111*(1+L111),2)","v":9.25},"Cotação"]
[null,null,"F.103","Jogo de chave canhão com 10 peças, 6 mm a 13 mm, ¼’’ a 5/16’’ marca ref. BELZER OU GEDORE",2,"un",380.82333333333332,0.1,10,2.8561749999999999,5.7123499999999998,0.2359,{"$f":"ROUND(K112*(1+L112),2)","v":7.06},"Cotação"]
[null,null,"F.104","Jogo de chave estrela estriadas, 8 peças, 6 a 23 mm marca ref. BELZER OU GEDORE",2,"un",302.86333333333329,0.1,10,2.2714749999999997,4.5429499999999994,0.2359,{"$f":"ROUND(K113*(1+L113),2)","v":5.61},"Cotação"]
[null,null,"F.105","Jogo de chave fixa com 8 peças, de 6 a 22 mm marca ref. BELZER OU GEDORE",10,"un",141.82666666666668,0.1,10,1.0637000000000001,10.637,0.2359,{"$f":"ROUND(K114*(1+L114),2)","v":13.15},"Cotação"]
[null,null,"F.106","Jogo de chave hexagonal abaulado com suportes de 1,5mm a 8 mm marca ref. BELZER",1,"un",93.779999999999987,0.1,10,0.70334999999999992,0.70334999999999992,0.2359,{"$f":"ROUND(K115*(1+L115),2)","v":0.87},"Cotação"]
[null,null,"F.107","Jogo de chave hexagonal longa (1,5mm; 2mm; 2,5mm; 3mm; 4mm; 5mm; 6mm; 7mm e 8 mm) marca ref. BELZER",1,"un",71.256666666666661,0.1,10,0.53442500000000004,0.53442500000000004,0.2359,{"$f":"ROUND(K116*(1+L116),2)","v":0.66},"Cotação"]
[null,null,"F.108","Jogo de chaves cabo reto tipo Torx com 7 peças, T10 a T50 marca ref. BELZER OU GEDORE REF. GEDORE 42TX-10",5,"un",240.39333333333335,0.1,10,1.8029500000000001,9.0147499999999994,0.2359,{"$f":"ROUND(K117*(1+L117),2)","v":11.14},"Cotação"]
[null,null,"F.109","Jogo de macho 1/2-13 unc aço rápido com 3 peças OSG",1,"un",290.58333333333331,0.1,10,2.1793749999999998,2.1793749999999998,0.2359,{"$f":"ROUND(K118*(1+L118),2)","v":2.69},"Cotação"]
[null,null,"F.110","Jogo de macho 1/4-20 unc aço rápido com com 3 peças",1,"un",157.45666666666668,0.1,10,1.180925,1.180925,0.2359,{"$f":"ROUND(K119*(1+L119),2)","v":1.46},"Cotação"]
[null,null,"F.111","Jogo de macho 3/8-16 unc aço rápido com com 3 peças",1,"un",210.78666666666666,0.1,10,1.5809,1.5809,0.2359,{"$f":"ROUND(K120*(1+L120),2)","v":1.95},"Cotação"]
[null,null,"F.112","Jogo de macho 5/8-11 unc aço rápido com com 3 peças",1,"un",450.57333333333332,0.1,10,3.3793000000000002,3.3793000000000002,0.2359,{"$f":"ROUND(K121*(1+L121),2)","v":4.18},"Cotação"]
[null,null,"F.113","Jogo de punções numéricos de 12,5 mm com 9 peças, referência: ROCAST",8,"un",221.93333333333331,0.1,10,1.6644999999999999,13.315999999999999,0.2359,{"$f":"ROUND(K122*(1+L122),2)","v":16.46},"Cotação"]
[null,null,"F.114","Jogo de saca pino paralelo de 2mm, 3mm, 4mm, 5mm, 6mm e 8mm, ref. BELZER",12,"un",222.5566666666667,0.1,10,1.6691750000000003,20.030100000000004,0.2359,{"$f":"ROUND(K123*(1+L123),2)","v":24.76},"Cotação"]
[null,null,"F.115","Jogo de saca polia 3 garras de 2”",2,"un",193.81333333333336,0.1,10,1.4536000000000002,2.9072000000000005,0.2359,{"$f":"ROUND(K124*(1+L124),2)","v":3.59},"Cotação"]
[null,null,"F.116","Jogo de saca polia 3 garras de 4”",4,"un",260.68333333333334,0.1,10,1.955125,7.8205,0.2359,{"$f":"ROUND(K125*(1+L125),2)","v":9.67},"Cotação"]
[null,null,"F.117","Jogo de saca polias 3 garras 6\"",2,"un",452.08,0.1,10,3.3906000000000001,6.7812000000000001,0.2359,{"$f":"ROUND(K126*(1+L126),2)","v":8.3800000000000008},"Cotação"]
[null,null,"F.118","Jogo de serra copos, bimetal com 15 peças REF. TRAMONTINA ",2,"un",846.16,0.1,10,6.3461999999999996,12.692399999999999,0.2359,{"$f":"ROUND(K127*(1+L127),2)","v":15.69},"Cotação"]
[null,null,"F.119","Jogo de soquetes 1/2 de 10mm a 32mm, REF. Belzer, 24 PEÇAS",20,"un",621.63,0.1,10,4.6622250000000003,93.244500000000002,0.2359,{"$f":"ROUND(K128*(1+L128),2)","v":115.24},"Cotação"]
[null,null,"F.120","Jogo de vazadores 4 a 32mm com 12 peças",6,"un",501.69333333333333,0.1,10,3.7627000000000002,22.5762,0.2359,{"$f":"ROUND(K129*(1+L129),2)","v":27.9},"Cotação"]
[null,null,"F.121","Kit flangeador – 1 flangeador de 1/8’’- ¾’’, 02 morsas de 1/8’’ – ¾’’, 1 cortador de tubos de 1/8’’ – 1.1/8’’, 1 chave catraca de ¼’’ a 5/16’’, 5 alargadores de tubos de 1/8’’ a ¾’’, maleta própria, marca de ref. VULKAN LOKRING VLCH-278",12,"un",264.06333333333333,0.1,10,1.980475,23.765699999999999,0.2359,{"$f":"ROUND(K130*(1+L130),2)","v":29.37},"Cotação"]
[null,null,"F.122","Lanterna de inspeção OSRAM LEDInspect 26 LEDs 6000K 220V recarregável",30,"un",311.65999999999997,0.1,10,2.3374499999999996,70.123499999999993,0.2359,{"$f":"ROUND(K131*(1+L131),2)","v":86.67},"Cotação"]
[null,null,"F.123","Lavadora de alta pressão de 1600 libras, 220V, REF. VONDER LAV1600, KARCHER K2 POWER",12,"un",609.34666666666669,0.1,10,4.5701000000000001,54.841200000000001,0.2359,{"$f":"ROUND(K132*(1+L132),2)","v":67.78},"Cotação"]
[null,null,"F.124/A","Lavadora de alta pressão de 2400 libras ÁGUA FRIA, REF. STIHL RE 232, 220V",2,"un",8459.3333333333339,0.1,10,63.445000000000007,126.89000000000001,0.2359,{"$f":"ROUND(K133*(1+L133),2)","v":156.82},"Cotação"]
[null,null,"F.124/B","Lavadora de alta pressão de 2400 libras ÁGUA QUENTE, REF. IPC BRASIL PW-H28M, 220V MONO",1,"un",22397.8,0.1,10,167.98349999999999,167.98349999999999,0.2359,{"$f":"ROUND(K134*(1+L134),2)","v":207.61},"Cotação"]
[null,null,"F.125","Lima de 1/2” cana de 10\" (SEM CABO)",12,"un",39.993333333333339,0.1,10,0.29995000000000005,3.5994000000000006,0.2359,{"$f":"ROUND(K135*(1+L135),2)","v":4.45},"Cotação"]
[null,null,"F.126","Lima Triangular (Bastarda) 10x250 MM",12,"un",58.813333333333333,0.1,10,0.44109999999999999,5.2931999999999997,0.2359,{"$f":"ROUND(K136*(1+L136),2)","v":6.54},"Cotação"]
[null,null,"F.127","Limatão redondo de 3/8” x 10\" (ALTERADA PARA 8\")",12,"un",58.436666666666667,0.1,10,0.43827500000000003,5.2593000000000005,0.2359,{"$f":"ROUND(K137*(1+L137),2)","v":6.5},"Cotação"]
[null,null,"F.128","Lixadeira angular 7\" de 2200w - 220v",1,"un",913.44333333333327,0.1,10,6.8508249999999995,6.8508249999999995,0.2359,{"$f":"ROUND(K138*(1+L138),2)","v":8.4700000000000006},"Cotação"]
[null,null,"F.129","Lixadeira manual bosch 220v",5,"un",427.9666666666667,0.1,10,3.2097500000000001,{"$f":"J139*E139","v":16.048750000000002},0.2359,{"$f":"ROUND(K139*(1+L139),2)","v":19.829999999999998},"Cotação"]
[null,null,"F.130","Macaco garrafa de 4 toneladas",1,"un",211.70000000000002,0.1,10,1.5877500000000002,1.5877500000000002,{"$f":"L139","v":0.2359},{"$f":"ROUND(K140*(1+L140),2)","v":1.96},"Cotação"]
[null,null,"F.131","Maçarico portátil – referência: HARRIS HSLT604HD",4,"un",344.88000000000005,0.1,10,2.5866000000000002,10.346400000000001,0.2359,{"$f":"ROUND(K141*(1+L141),2)","v":12.79},"Cotação"]
[null,null,"F.132","Máquina de solda elétrica – 250 A, 220V/380V, REF. SMASHWELD 277X",1,"un",7611.4466666666667,0.1,10,57.085850000000008,57.085850000000008,0.2359,{"$f":"ROUND(K142*(1+L142),2)","v":70.55},"Cotação"]
[null,null,"F.133","Máscara para solda elétrica, escurecimento automático, ton 9-13, REF. VONDER",3,"un",459.64999999999992,0.1,10,3.4473749999999996,10.342124999999999,0.2359,{"$f":"ROUND(K143*(1+L143),2)","v":12.78},"Cotação"]
[null,null,"F.134","Martelete 24mm c/Encaixe SDS PLUS 800 Watts - HR2470 Makita",6,"un",922.39666666666665,0.1,10,6.9179750000000002,41.507850000000005,0.2359,{"$f":"ROUND(K144*(1+L144),2)","v":51.3},"Cotação"]
[null,null,"F.135","Martelo anti-retrocesso de 300x40mm marca ref. TRAMONTINA",1,"un",222.03666666666666,0.1,10,1.6652750000000001,1.6652750000000001,0.2359,{"$f":"ROUND(K145*(1+L145),2)","v":2.06},"Cotação"]
[null,null,"F.136","Martelo tipo bola 300g",26,"un",59,0.1,10,0.4425,11.505000000000001,0.2359,{"$f":"ROUND(K146*(1+L146),2)","v":14.22},"Cotação"]
[null,null,"F.137","Marreta de 1.1/2 (KG)",2,"un",94.84333333333332,0.1,10,0.71132499999999999,1.42265,0.2359,{"$f":"ROUND(K147*(1+L147),2)","v":1.76},"Cotação"]
[null,null,"F.138","Marreta de 2kg",8,"un",111.53666666666668,0.1,10,0.83652500000000007,6.6922000000000006,0.2359,{"$f":"ROUND(K148*(1+L148),2)","v":8.27},"Cotação"]
[null,null,"F.139","Martelo de borracha preta com cabo em madeira 800 gramas",7,"un",89.646666666666661,0.1,10,0.67235,4.7064500000000002,0.2359,{"$f":"ROUND(K149*(1+L149),2)","v":5.82},"Cotação"]
[null,null,"F.140","Martelo p/ montador de 280 mm - ref. TRAMONTINA",1,"un",191.33,0.1,10,1.4349750000000001,1.4349750000000001,0.2359,{"$f":"ROUND(K150*(1+L150),2)","v":1.77},"Cotação"]
[null,null,"F.141","Martelo Perfurador Potencia 800W impacto por minuto: 0-5.100 RPM Rotação: 0-1300 RPM Encaixe para acessórios SDS/PLUS",1,"un",816.56666666666661,0.1,10,6.12425,6.12425,0.2359,{"$f":"ROUND(K151*(1+L151),2)","v":7.57},"Cotação"]
[null,null,"F.142","Martelo unha cabo de fibra ref. 914-23 ROBUST",4,"un",50.826666666666661,0.1,10,0.38119999999999993,1.5247999999999997,0.2359,{"$f":"ROUND(K152*(1+L152),2)","v":1.88},"Cotação"]
[null,null,"F.143","Medidor de aerodispersóides – referência: HAZ-DUST IV HD1004, 220V ou VEC TEMTOP LKC-1000S VECTUS, com data logger e certificado de calibração",1,"un",1596.5566666666666,0.1,10,11.974175000000001,11.974175000000001,0.2359,{"$f":"ROUND(K153*(1+L153),2)","v":14.8},"Cotação"]
[null,null,"F.144","Medidor de qualidade do ar interior, referência: TESTO 435-2, com sondas para medição de temperatura do ar, umidade, CO, CO2, pressão absoluta, velocidade do ar, fluxo, e com certificado de calibração",1,"un",8718.3066666666655,0.1,10,65.387299999999996,65.387299999999996,0.2359,{"$f":"ROUND(K154*(1+L154),2)","v":80.81},"Cotação"]
[null,null,"F.145","Megômetro Digital Portátil ATÉ 2000 OHMS, REF. Minipa MI-1000A",2,"un",564.14333333333332,0.1,10,4.2310749999999997,8.4621499999999994,0.2359,{"$f":"ROUND(K155*(1+L155),2)","v":10.46},"Cotação"]
[null,null,"F.146","Morsa de bancada nº 4",14,"un",206.37666666666667,0.1,10,1.547825,21.669550000000001,0.2359,{"$f":"ROUND(K156*(1+L156),2)","v":26.78},"Cotação"]
[null,null,"F.147","Moto Esmeril 1/2 Cv 110/220v",10,"un",242.97333333333336,0.1,10,1.8223,18.222999999999999,0.2359,{"$f":"ROUND(K157*(1+L157),2)","v":22.52},"Cotação"]
[null,null,"F.148","Multímetro Digital Portátil Original Minipa Et-2082c Profiss  (marca de referência)",15,"un",425.82,0.1,10,3.1936499999999999,47.90475,0.2359,{"$f":"ROUND(K158*(1+L158),2)","v":59.21},"Cotação"]
[null,null,"F.149","Nível de mão com 3 bolhas profissional (TAM. 18POL)",20,"un",40.413333333333334,0.1,10,0.30309999999999998,6.0619999999999994,0.2359,{"$f":"ROUND(K159*(1+L159),2)","v":7.49},"Cotação"]
[null,null,"F.150","Nível de mão em alumínio magnético 12” , ref. STANLEY",7,"un",50.45333333333334,0.1,10,0.37840000000000007,2.6488000000000005,0.2359,{"$f":"ROUND(K160*(1+L160),2)","v":3.27},"Cotação"]
[null,null,"F.151","Parafusadeira portátil de impacto - ref: BOSCH GSB 120-LI, 3-8\", 12V, COM 2 BATERIAS",20,"un",932.96999999999991,0.1,10,6.9972749999999992,139.94549999999998,0.2359,{"$f":"ROUND(K161*(1+L161),2)","v":172.96},"Cotação"]
[null,null,"F.152","Paquímetro digital 0-150 mm – referência: VONDER PD 150",8,"un",326.85999999999996,0.1,10,2.4514499999999999,19.611599999999999,0.2359,{"$f":"ROUND(K162*(1+L162),2)","v":24.24},"Cotação"]
[null,null,"F.153","Pendente de luz tipo gaiola com 10 metros para lâmpada de 100 watts",13,"un",76.836666666666659,0.1,10,0.57627499999999998,7.4915750000000001,0.2359,{"$f":"ROUND(K163*(1+L163),2)","v":9.26},"Cotação"]
[null,null,"F.154","Pente para aletas de serpentina de metal",20,"un",38.453333333333333,0.1,10,0.28840000000000005,5.7680000000000007,0.2359,{"$f":"ROUND(K164*(1+L164),2)","v":7.13},"Cotação"]
[null,null,"F.155","Pistola de solda blindada – 550 W – 220V, marca de referência PHILADELFIA",5,"un",204.03666666666666,0.1,10,1.5302750000000001,7.6513749999999998,0.2359,{"$f":"ROUND(K165*(1+L165),2)","v":9.4600000000000009},"Cotação"]
[null,null,"F.156","Pistola para aplicação de silicone",18,"un",57.393333333333338,0.1,10,0.43045000000000005,7.7481000000000009,0.2359,{"$f":"ROUND(K166*(1+L166),2)","v":9.58},"Cotação"]
[null,null,"F.157","Ponteiro sextavado de aço forjado 250x18mm – referência: F286 Black Jack",8,"un",34.99666666666667,0.1,10,0.26247500000000001,2.0998000000000001,0.2359,{"$f":"ROUND(K167*(1+L167),2)","v":2.6},"Cotação"]
[null,null,"F.158","Recolhedora de gás refrigerante (recolhedora de fluidos com taxa de transferência de gás (fase de vapor) de no mínimo 60 kg/hora; compatível no mínimo com os refrigerantes R-12, R-22, R-134a, R-401a e outros refrigerantes de alta pressão; Com compressor alternativo; resfriamento à ar; e acessórios: i) mínimo de 03 mangueiras de recolhimento de 3/4’’ com válvulas esfera e no mínimo 10 metros de comprimento; ii) mínimo de 03 filtros secadores com núcleo de 48 pés cúbicos; iii) cabos de 15 metros para controle e alimentação elétrica do equipamento; iv) conectores de 3/4’’-5/8’’ e 5/8’’-1/2’’. Fabricante/marca de referência: REFTEC/ EVAC COMMERCIAL CRH-A-230-3-E",0,"un",221935.19450000001,0.1,10,{"$f":"G168*(1-H168)/(I168*12)","v":1664.5139587500003},0,0.2359,{"$f":"ROUND(K168*(1+L168),2)","v":0},"Cotação"]
[null,null,"F.159","Regulador de nitrogênio, REF. SURYHA 80150152",4,"un",679.26666666666677,0.1,10,5.0945000000000009,20.378000000000004,0.2359,{"$f":"ROUND(K169*(1+L169),2)","v":25.19},"Cotação"]
[null,null,"F.160","Relógio comparador 10mm (REF. MITUTOYO 2046A)",2,"un",250.62666666666667,0.1,10,1.8796999999999999,3.7593999999999999,0.2359,{"$f":"ROUND(K170*(1+L170),2)","v":4.6500000000000004},"Cotação"]
[null,null,"F.161","Saca fusível NH com proteção",3,"un",257.3,0.1,10,1.9297500000000001,5.78925,0.2359,{"$f":"ROUND(K171*(1+L171),2)","v":7.15},"Cotação"]
[null,null,"F.162","Saca polia de 3 garras de 2\"",2,"un",193.81333333333336,0.1,10,1.4536000000000002,2.9072000000000005,0.2359,{"$f":"ROUND(K172*(1+L172),2)","v":3.59},"Cotação"]
[null,null,"F.163","Saca polia de 3 garras de 4\"",4,"un",260.68333333333334,0.1,10,1.955125,7.8205,0.2359,{"$f":"ROUND(K173*(1+L173),2)","v":9.67},"Cotação"]
[null,null,"F.164","Saca polia de 3 garras de 6\"",2,"un",452.08,0.1,10,3.3906000000000001,6.7812000000000001,0.2359,{"$f":"ROUND(K174*(1+L174),2)","v":8.3800000000000008},"Cotação"]
[null,null,"F.165","Soprador térmico para manutenção de detectores termovelocimétricos, 2000W, 220V, REF. MAKITA HG6531CK",1,"un",1236,0.1,10,9.2700000000000014,9.2700000000000014,0.2359,{"$f":"ROUND(K175*(1+L175),2)","v":11.46},"Cotação"]
[null,null,"F.166","Soquete sextavado 3/4\" 32mm",2,"un",58.143333333333338,0.1,10,0.43607500000000005,0.87215000000000009,0.2359,{"$f":"ROUND(K176*(1+L176),2)","v":1.08},"Cotação"]
[null,null,"F.167","Soquete sextavado 3/4\" 41mm",2,"un",77.936666666666667,0.1,10,0.58452499999999996,1.1690499999999999,0.2359,{"$f":"ROUND(K177*(1+L177),2)","v":1.44},"Cotação"]
[null,null,"F.168","TA SCOPE – IMI HYDRONIC",1,"un",32492.07,0.1,10,243.69052500000001,243.69052500000001,0.2359,{"$f":"ROUND(K178*(1+L178),2)","v":301.18},"Cotação"]
[null,null,"F.169","Talha manual p/ 2000kg x 10m",1,"un",2253.8233333333333,0.1,10,16.903675,16.903675,0.2359,{"$f":"ROUND(K179*(1+L179),2)","v":20.89},"Cotação"]
[null,null,"F.170","Talhadeira sextavada de aço forjado 200x18mm – referência: F295 Black Jack",10,"un",45.29666666666666,0.1,10,0.33972499999999994,3.3972499999999997,0.2359,{"$f":"ROUND(K180*(1+L180),2)","v":4.2},"Cotação"]
[null,null,"F.171","Termo-higrômetro digital – referência: INSTRUTHERM HT-260",10,"un",583.63333333333333,0.1,10,4.3772500000000001,43.772500000000001,0.2359,{"$f":"ROUND(K181*(1+L181),2)","v":54.1},"Cotação"]
[null,null,"F.172","Termômetro digital penta III FULL GAUGE",10,"un",718.29,0.1,10,5.387175,53.871749999999999,0.2359,{"$f":"ROUND(K182*(1+L182),2)","v":66.58},"Cotação"]
[null,null,"F.173","Termômetro Digital Portátil, REF. MINIPA MT-450A",5,"un",215.11333333333332,0.1,10,1.6133499999999998,8.066749999999999,0.2359,{"$f":"ROUND(K183*(1+L183),2)","v":9.9700000000000006},"Cotação"]
[null,null,"F.174","Termômetro infravermelho, faixa de medição -20°C a 500°C, marca de ref. VONDER",10,"un",289.98,0.1,10,2.1748500000000002,21.7485,0.2359,{"$f":"ROUND(K184*(1+L184),2)","v":26.88},"Cotação"]
[null,null,"F.175","Termômetro tipo espeto digital escala -50 a 300 °C",10,"un",137.65333333333334,0.1,10,1.0324,10.324,0.2359,{"$f":"ROUND(K185*(1+L185),2)","v":12.76},"Cotação"]
[null,null,"F.176","Tesoura chapa corte direito 10x1/2\" ref. Mundial ",10,"un",118.00333333333333,0.1,10,0.88502500000000006,8.8502500000000008,0.2359,{"$f":"ROUND(K186*(1+L186),2)","v":10.94},"Cotação"]
[null,null,"F.177","Tesoura chapa corte esquerdo 10x1/2\" ref. IRWIN",10,"un",118.71666666666665,0.1,10,0.89037499999999992,8.9037499999999987,0.2359,{"$f":"ROUND(K187*(1+L187),2)","v":11},"Cotação"]
[null,null,"F.178","Tesoura corneta com 12\"  corte de chapa ref. IRWIN",6,"un",145.71,0.1,10,1.0928250000000002,6.5569500000000005,0.2359,{"$f":"ROUND(K188*(1+L188),2)","v":8.1},"Cotação"]
[null,null,"F.179","Tesoura manual (chapa)",14,"un",145.71,0.1,10,1.0928250000000002,15.299550000000002,0.2359,{"$f":"ROUND(K189*(1+L189),2)","v":18.91},"Cotação"]
[null,null,"F.180","Tesoura p/ borracha e couro",10,"un",73.626666666666665,0.1,10,0.55219999999999991,5.5219999999999994,0.2359,{"$f":"ROUND(K190*(1+L190),2)","v":6.82},"Cotação"]
[null,null,"F.181","Torquímetro em aço forjado com encaixe de 1/2” ",4,"un",756.10666666666657,0.1,10,5.6707999999999998,22.683199999999999,0.2359,{"$f":"ROUND(K191*(1+L191),2)","v":28.03},"Cotação"]
[null,null,"F.182","Trena de 5 m",30,"un",25.74,0.1,10,0.19305,5.7915000000000001,0.2359,{"$f":"ROUND(K192*(1+L192),2)","v":7.16},"Cotação"]
[null,null,"F.183","Trena de 60 metros laser",1,"un",333,0.1,10,2.4975000000000001,2.4975000000000001,0.2359,{"$f":"ROUND(K193*(1+L193),2)","v":3.09},"Cotação"]
[null,null,"F.184","Vacuômetro DIGITAL COM BLUETOOTH PARA SIST. REFRIGERAÇÃO, REF. TESTO 552",2,"un",1653.5533333333333,0.1,10,12.40165,24.8033,0.2359,{"$f":"ROUND(K194*(1+L194),2)","v":30.65},"Cotação"]
[null,null,"F.185","Carrinho de transporte para cilindro de gases, REF. FORTG-FG-075 OU MARCON TM75",4,"un",1221.0033333333333,0.1,10,9.1575249999999997,36.630099999999999,0.2359,{"$f":"ROUND(K195*(1+L195),2)","v":45.27},"Cotação"]
[null,null,"F.186","Carrinho de ferramentas e suporte para morsa, com 3 gavetas, referência: MERKAVA",7,"un",1148.9433333333334,0.1,10,8.6170749999999998,60.319524999999999,0.2359,{"$f":"ROUND(K196*(1+L196),2)","v":74.55},"Cotação"]
[null,null,"F.187","Coletor Para Limpeza De Ar Condicionado Split 7k À 24k Btu",10,"un",172.22333333333333,0.1,10,1.2916750000000001,12.91675,0.2359,{"$f":"ROUND(K197*(1+L197),2)","v":15.96},"Cotação"]
[null,null,"F.188","Fasímetro DIGITAL, REF. HFA-690 HIKARI-21N065",1,"un",510.07666666666665,0.1,10,3.8255750000000002,3.8255750000000002,0.2359,{"$f":"ROUND(K198*(1+L198),2)","v":4.7300000000000004},"Cotação"]
[null,null,"F.189","Jogo de chave catraca para refrigeração com CHAVE CATRACA + FLANGEADOR + CORTADOR",12,"un",278.44666666666666,0.1,10,{"$f":"G199*(1-H199)/(I199*12)","v":2.0883500000000002},25.060200000000002,0.2359,{"$f":"ROUND(K199*(1+L199),2)","v":30.97},"Cotação"]
[null,null,"F.190","Lamparina Detectora de vazamento de gás",1,"un",582.89,0.1,10,4.3716749999999998,4.3716749999999998,0.2359,{"$f":"ROUND(K200*(1+L200),2)","v":5.4},"Cotação"]
[null,null,"F.191","Ferro solda tipo machadinha de 180W de 220V",3,"un",281.42,0.1,10,2.1106500000000001,6.3319500000000009,0.2359,{"$f":"ROUND(K201*(1+L201),2)","v":7.83},"Cotação"]
[null,null,"F.192","Máquina de Escova Rotativa Limpeza De Tubos WAW-500",1,"un",39142.68,0.1,10,293.57010000000002,293.57010000000002,0.2359,{"$f":"ROUND(K202*(1+L202),2)","v":362.82},"Cotação"]
[null,null,"F.193","Prensa cambio para Brastemp",1,"un",300,0.1,10,2.25,{"$f":"J203*E203","v":2.25},0.2359,{"$f":"ROUND(K203*(1+L203),2)","v":2.78},"Cotação"]
[null,null,"F.194","Prumo de centro envernizado e cromado de 200G",6,"un",38.216666666666669,0.1,10,0.28662500000000002,1.7197500000000001,{"$f":"L203","v":0.2359},{"$f":"ROUND(K204*(1+L204),2)","v":2.13},"Cotação"]
[null,null,"F.195","Punção de centro 5mm",12,"un",29.333333333333332,0.1,10,0.22,2.64,0.2359,{"$f":"ROUND(K205*(1+L205),2)","v":3.26},"Cotação"]
[null,null,"F.196","Saca agitador Brastemp, REF. CWH12, BWG12 CWE11",1,"un",132.63333333333333,0.1,10,0.99474999999999991,0.99474999999999991,0.2359,{"$f":"ROUND(K206*(1+L206),2)","v":1.23},"Cotação"]
[null,null,"F.197","Saca agitador Consul, REF. CWH12, BWG12 CWE11",1,"un",132.63333333333333,0.1,10,{"$f":"G207*(1-H207)/(I207*12)","v":0.99474999999999991},0.99474999999999991,0.2359,{"$f":"ROUND(K207*(1+L207),2)","v":1.23},"Cotação"]
[null,null,"F.198","Saca Cambio universal",1,"un",79.47,0.1,10,0.59602499999999992,0.59602499999999992,0.2359,{"$f":"ROUND(K208*(1+L208),2)","v":0.74},"Cotação"]
[null,null,"F.199","Saca cesto Brastemp",1,"un",76.959999999999994,0.1,10,0.57719999999999994,0.57719999999999994,0.2359,{"$f":"ROUND(K209*(1+L209),2)","v":0.71},"Cotação"]
[null,null,"F.200","Saca rolamento Brastemp",1,"un",39.69,0.1,10,0.29767499999999997,0.29767499999999997,0.2359,{"$f":"ROUND(K210*(1+L210),2)","v":0.37},"Cotação"]
[null,null,"F.201","Soprador Térmico STV200 2000W com 3 Estágios",5,"un",212.21333333333334,0.1,10,1.5916000000000001,7.9580000000000002,0.2359,{"$f":"ROUND(K211*(1+L211),2)","v":9.84},"Cotação"]
[]
[]
[null,null,"PAGAMENTO DA MANUTENÇÃO"]
[null,null,"ITEM","DESCRIÇÃO",null,null,null,"K (calculado)","MENSAL DEPR.","% MAN X DEP","MENSAL MAN.","BDI (%)","PREÇO TOTAL"]
[]
[null,null,null,null,null,null,null,{"$f":"H224","v":0.38170440000000005},{"$f":"SUM(K10:K212)","v":4736.2002999999968},{"$f":"H217","v":0.38170440000000005},{"$f":"I217*H217","v":1807.828493791319},{"$f":"'BDI - Geral'!E27","v":0.2359},{"$f":"ROUND(K217*(1+L217),2)","v":2234.3000000000002}]
[]
[null,null,null,null,"K1","K2","K3","K4"]
[null,null,null,null,0.85,0.9,0.8,1]
[null,null,null,null,"K5","K6","K7","K8"]
[null,null,null,null,1,0.6,0.5,1.1000000000000001]
[null,null,null,null,"K9","K10","K11","RESULTADO"]
[null,null,null,"* a descrição de cada coeficiente segue abaixo",1.5,0.9,1.4,{"$f":"E220*F220*G220*H220*E222*F222*G222*H222*E224*F224*G224","v":0.38170440000000005}]
[]
[]
[null,null,"MATERIAL DE CONSUMO ASSOCIADO"]
[null,"CÓD.","ITEM","DESCRIÇÃO",null,null,null,"QUANTID/MÊS","UNIDADE","VALOR DE AQ.","MENSAL MAT","BDI (%)","PREÇO TOTAL"]
[]
[null,null,null,null,null,null,null,null,null,null,{"$f":"J230*H230","v":0},{"$f":"'BDI - Geral'!E27","v":0.2359},{"$f":"ROUND(K230*(1+L230),2)","v":0}]
[]
[]
[null,null,"MATERIAL DE CONSUMO ASSOCIADO"]
[null,null,"ITEM","DESCRIÇÃO",null,null,null,null,null,null,null,null,"PREÇO TOTAL"]
[]
[null,null,1,"Componente DEPRECIAÇÃO",null,null,null,null,null,null,null,null,{"$f":"ROUND(SUM(M10:M211),2)","v":5853.5}]
[null,null,2,"Componente MANUTENÇÃO",null,null,null,null,null,null,null,null,{"$f":"M217","v":2234.3000000000002}]
[null,null,3,"Componente MATERIAL DE CONSUMO ASSOCIADO",null,null,null,null,null,null,null,null,{"$f":"ROUND(M230,2)","v":0}]
[]
[null,null,null,null,null,null,null,null,null,null,null,"SOMATÓRIO TOTAL MENSAL",{"$f":"ROUND(SUM(M235:M239),2)","v":8087.8}]
[null,null,null,null,null,null,null,null,null,null,null,"SOMATÓRIO TOTAL ANUAL",{"$f":"ROUND(M240*12,2)","v":97053.6}]
[]
[]
[null,null,"MATERIAL DE CONSUMO ASSOCIADO"]
[null,null,"MEMÓRIA DE CÁLCULO DO COEFICIENTE DE CORRELAÇÃO MANUTENÇÃO X DEPRECIAÇÃO (K)"]
[]
[null,null,"JUSTIFICATIVAS",null,"TIPO","K1","Condições de Trab","K4",null,"Tempo Vida (anos)","K6","Temperatura","K8"]
[null,null,null,null,"Guindaste",0.5,"Em espera",0.4,null,1,0.6,"Muito quente (> 40º C)",1.3]
[null,null,"K1","Considerado o valor médio de 0,85","Caminhão-comum",0.8,"Leves",0.8,null,2,0.7,"Quente (30º a 40º C)",1.1000000000000001]
[null,null,"K2","Considerado o operador bom","Fora-de-estrada",1,"Médias",1,null,3,0.8,"Médio (10º a 30º C)",1]
[null,null,"K3","Consideradas ferramentas de primeira qualidade","Carregadeira",1,"Pesadas",1.4,null,4,0.9,"Frio (< 10º C)",1.2]
[null,null,"K4","Há todo o tipo de trabalho, foi considerado o valor médio","Escavadeira",1.4,"Severas",2,null,5,1]
[null,null,"K5","Considerando manutenção normal","Motoescrêiper",1.1000000000000001,null,null,null,6,1,"Ritmo de Trabalho","K9"]
[null,null,"K6","Equipamentos novos","Trator de esteira",1.2,"Manutenção","K5",null,7,1,"Folgado",0.9]
[null,null,"K7","220h por mês, 252 dias por ano",null,null,"Excelente",0.6,null,8,1.2,"Médio ",1]
[null,null,"K8","Clima quente, acima de 30º C","Qualid do Operador","K2","Boa",0.8,null,9,1.3,"Com pressa",1.5]
[null,null,"K9","Ritmo de trabalho usualmente com pressa","Excelente",0.8,"Média",1,null,10,1.4]
[null,null,"K10","Considerado o operador médio","Boa",0.9,"Ruim ",1.5,null,11,2,"Conh do Serviço","K10"]
[null,null,"K11","Foi considerada a opção de aluguel a terceiros, ainda que a simulação seja dos custos do contratado, contudo a execução dos serviços é em local de terceiros","Média",1,"Inexistente",3,null,15,2,"Grande ",0.8]
[null,null,null,null,"Ruim",1.2,null,null,null,null,null,"Médio     ",0.9]
[null,null,null,null,"Péssima",2,"Horas de Uso ","K7",6000,1,null,"Pouco ",1]
[null,null,null,null,null,null,1000,0.5,8000,1.3]
[null,null,null,null,"Qualidade do Equip","K3",2000,0.5,10000,1.6,null,"Tipo do Serviço","K11"]
[null,null,null,null,"De primeira",0.8,3000,0.6,12000,1.9,null,"Mina ou Pedreira",0.8]
[null,null,null,null,"Média",1,4000,0.7,15000,2.2999999999999998,null,"Construção Geral",1]
[null,null,null,null,"Ruim",1.5,5000,0.9,20000,3,null,"Aluguel a Terceiros",1.4]
[]
[null,null,null,null,"Fonte: "]
[null,null,null,null,"MATTOS, Aldo Dórea. Como preparar orçamentos de obras. São Paulo: Pini, 2006. 281 p., il"]

{"sheet":"Equipamentos","index":29,"n_rows":72,"n_cols":15,"rows_kept":72,"cut":false,"hidden":false,"merged":[[2,1,2,3],[3,1,3,14]]}
[]
[]
[]
[null,"EQUIPAMENTOS - PAGAMENTO DA DEPRECIAÇÃO / MANUTENÇÃO"]
[]
[]
[null,null,"PAGAMENTO DA DEPRECIAÇÃO"]
[null,"CÓD.","ITEM","DESCRIÇÃO",null,"QUANT ANUAL","VALOR DE AQ.","% RESIDUAL","VIDA ÚTIL","DEP. MENSAL","CUSTO MENSAL","BDI (%)","PREÇO MENSAL","FONTE","REFERÊNCIA"]
[]
[null,null,"F.042","Aparelho celular smartphone",null,40,1740.42,0.1,5,{"$f":"G10*(1-H10)/(I10*12)","v":26.106300000000001},{"$f":"J10*F10","v":1044.252},{"$f":"'BDI - Geral'!$E$27","v":0.2359},{"$f":"ROUND(K10*(1+L10),2)","v":1290.5899999999999},"Cotação"]
[null,null,"F.043","Impressora multifuncional HP laserjet pro 135w ou similar",null,6,2139.3000000000002,0.1,5,32.089500000000001,{"$f":"J11*F11","v":192.53700000000001},{"$f":"L10","v":0.2359},{"$f":"ROUND(K11*(1+L11),2)","v":237.96},"Cotação"]
[null,null,"F.044","Armário tipo roupeiro de aço com 12 vãos, carenagem protetiva e pintura eletrostácia",null,8,1972.58,0,10,16.438166666666667,131.50533333333334,{"$f":"L11","v":0.2359},162.53,"Cotação"]
[null,null,"F.045","Estufa elétrica em aço inox para 30 marmitas",null,6,2870.67,0.1,{"$f":"I12","v":10},21.530025000000002,129.18015000000003,0.2359,159.65,"Cotação"]
[]
[]
[null,null,"PAGAMENTO DA MANUTENÇÃO"]
[null,null,"ITEM","DESCRIÇÃO",null,null,null,"K (calculado)","MENSAL DEPR.","% MAN X DEP","MENSAL MAN.","BDI (%)","PREÇO TOTAL"]
[]
[null,null,null,null,null,null,null,{"$f":"H26","v":0.38170440000000005},{"$f":"SUM(K10:K14)","v":1497.4744833333334},{"$f":"H19","v":0.38170440000000005},{"$f":"I19*H19","v":571.59259917606016},{"$f":"'BDI - Geral'!E27","v":0.2359},{"$f":"ROUND(K19*(1+L19),2)","v":706.43}]
[]
[null,null,null,null,"K1","K2","K3","K4"]
[null,null,null,null,0.85,0.9,0.8,1]
[null,null,null,null,"K5","K6","K7","K8"]
[null,null,null,null,1,0.6,0.5,1.1000000000000001]
[null,null,null,null,"K9","K10","K11","RESULTADO"]
[null,null,null,"* a descrição de cada coeficiente segue abaixo",1.5,0.9,1.4,{"$f":"E22*F22*G22*H22*E24*F24*G24*H24*E26*F26*G26","v":0.38170440000000005}]
[]
[]
[null,null,"MATERIAL DE CONSUMO ASSOCIADO"]
[null,"CÓD.","ITEM","DESCRIÇÃO",null,null,null,"QUANTID/MÊS","UNIDADE","VALOR DE AQ.","MENSAL MAT","BDI (%)","PREÇO TOTAL"]
[]
[null,"07.01.01","MC.001","Plano de Telefonia com, no mínimo, 200 minutos de ligações locais ilimitadas e 5,0Gb de internet no plano, por mês (referência: Vivo Controle 6Gb, Claro Controle 15Gb, Tim Controle 5Gb, Oi Controle 6Gb)",null,null,null,40,"MENSALIDADE",{"$f":"(57+69.9+46.99+39.99)/4","v":53.470000000000006},{"$f":"J32*H32","v":2138.8000000000002},{"$f":"'BDI - Geral'!E27","v":0.2359},{"$f":"ROUND(K32*(1+L32),2)","v":2643.34}]
[null,"07.01.02","MC.002","Toner Original Hp 105a W1105a 135a 135w",null,null,null,0.5,"Unid",398.9,{"$f":"J33*H33","v":199.45},{"$f":"L32","v":0.2359},{"$f":"ROUND(K33*(1+L33),2)","v":246.5}]
[]
[]
[null,null,"MATERIAL DE CONSUMO ASSOCIADO"]
[null,null,"ITEM","DESCRIÇÃO",null,null,null,null,null,null,null,null,"PREÇO TOTAL"]
[]
[null,null,1,"Componente DEPRECIAÇÃO",null,null,null,null,null,null,null,null,{"$f":"ROUND(SUM(M10:M13),2)","v":1850.73}]
[null,null,2,"Componente MANUTENÇÃO",null,null,null,null,null,null,null,null,{"$f":"M19","v":706.43}]
[null,null,3,"Componente MATERIAL DE CONSUMO ASSOCIADO",null,null,null,null,null,null,null,null,{"$f":"ROUND(M32+M33,2)","v":2889.84}]
[]
[null,null,null,null,null,null,null,null,null,null,null,"SOMATÓRIO TOTAL MENSAL",{"$f":"ROUND(SUM(M38:M42),2)","v":5447}]
[null,null,null,null,null,null,null,null,null,null,null,"SOMATÓRIO TOTAL ANUAL",{"$f":"ROUND(M43*12,2)","v":65364}]
[]
[]
[null,null,"MATERIAL DE CONSUMO ASSOCIADO"]
[null,null,"MEMÓRIA DE CÁLCULO DO COEFICIENTE DE CORRELAÇÃO MANUTENÇÃO X DEPRECIAÇÃO (K)"]
[]
[null,null,"JUSTIFICATIVAS",null,"TIPO","K1","Condições de Trab","K4",null,"Tempo Vida (anos)","K6","Temperatura","K8"]
[null,null,null,null,"Guindaste",0.5,"Em espera",0.4,null,1,0.6,"Muito quente (> 40º C)",1.3]
[null,null,"K1","Considerado o valor médio de 0,85","Caminhão-comum",0.8,"Leves",0.8,null,2,0.7,"Quente (30º a 40º C)",1.1000000000000001]
[null,null,"K2","Considerado o operador bom","Fora-de-estrada",1,"Médias",1,null,3,0.8,"Médio (10º a 30º C)",1]
[null,null,"K3","Consideradas ferramentas de primeira qualidade","Carregadeira",1,"Pesadas",1.4,null,4,0.9,"Frio (< 10º C)",1.2]
[null,null,"K4","Há todo o tipo de trabalho, foi considerado o valor médio","Escavadeira",1.4,"Severas",2,null,5,1]
[null,null,"K5","Considerando manutenção normal","Motoescrêiper",1.1000000000000001,null,null,null,6,1,"Ritmo de Trabalho","K9"]
[null,null,"K6","Equipamentos novos","Trator de esteira",1.2,"Manutenção","K5",null,7,1,"Folgado",0.9]
[null,null,"K7","220h por mês, 252 dias por ano",null,null,"Excelente",0.6,null,8,1.2,"Médio ",1]
[null,null,"K8","Clima quente, acima de 30º C","Qualid do Operador","K2","Boa",0.8,null,9,1.3,"Com pressa",1.5]
[null,null,"K9","Ritmo de trabalho usualmente com pressa","Excelente",0.8,"Média",1,null,10,1.4]
[null,null,"K10","Considerado o operador médio","Boa",0.9,"Ruim ",1.5,null,11,2,"Conh do Serviço","K10"]
[null,null,"K11","Foi considerada a opção de aluguel a terceiros, ainda que a simulação seja dos custos do contratado, contudo a execução dos serviços é em local de terceiros","Média",1,"Inexistente",3,null,15,2,"Grande ",0.8]
[null,null,null,null,"Ruim",1.2,null,null,null,null,null,"Médio     ",0.9]
[null,null,null,null,"Péssima",2,"Horas de Uso ","K7",6000,1,null,"Pouco ",1]
[null,null,null,null,null,null,1000,0.5,8000,1.3]
[null,null,null,null,"Qualidade do Equip","K3",2000,0.5,10000,1.6,null,"Tipo do Serviço","K11"]
[null,null,null,null,"De primeira",0.8,3000,0.6,12000,1.9,null,"Mina ou Pedreira",0.8]
[null,null,null,null,"Média",1,4000,0.7,15000,2.2999999999999998,null,"Construção Geral",1]
[null,null,null,null,"Ruim",1.5,5000,0.9,20000,3,null,"Aluguel a Terceiros",1.4]
[]
[null,null,null,null,"Fonte: "]
[null,null,null,null,"MATTOS, Aldo Dórea. Como preparar orçamentos de obras. São Paulo: Pini, 2006. 281 p., il"]

{"sheet":"Mat Consumo","index":30,"n_rows":77,"n_cols":13,"rows_kept":77,"cut":false,"hidden":false,"merged":[[2,1,2,3],[3,1,3,10]]}
[]
[]
[]
[null,"MATERIAIS DE CONSUMO - AQUISIÇÃO"]
[]
[]
[null,null,"ITEM","DESCRIÇÃO","QUANT ANUAL","UNIDADE","CUSTO UNITÁRIO","CUSTO ANUAL","BDI (%)","PREÇO TOTAL","FONTE"]
[]
[null,null,"M.001","Abraçadeira de 5/8\" X 3/4\" (em aço, rosca sem fim)",120,"un",9.8000000000000007,{"$f":"G9*E9","v":1176},{"$f":"'BDI - Geral'!E27","v":0.2359},{"$f":"H9*(1+I9)","v":1453.4184}]
[null,null,"M.002","Abraçadeira nylon 100x2,5mm (pacote com 100 unidades)",5,"pct",4.2166666666666668,{"$f":"G10*E10","v":21.083333333333336},{"$f":"I9","v":0.2359},{"$f":"H10*(1+I10)","v":26.056891666666669}]
[null,null,"M.003","Abraçadeira nylon 200x2,5mm (pacote com 100 unidades)",5,"pct",9.1433333333333326,45.716666666666661,{"$f":"I10","v":0.2359},56.50122833333333]
[null,null,"M.004","Abraçadeira nylon 140x3,5mm (pacote com 100 unidades)",5,"pct",10.479999999999999,52.399999999999991,0.2359,64.76115999999999]
[null,null,"M.005","Abraçadeira nylon 200x3,5mm (pacote com 100 unidades)",5,"pct",17.98,89.9,0.2359,111.10741]
[null,null,"M.006","Água sanitária (Ref. kiboa) 1L",144,"un",4.8500000000000005,698.40000000000009,0.2359,863.15256000000011]
[null,null,"M.007","Álcool isopropílico – litro",100,"un",35.553333333333335,3555.3333333333335,0.2359,4394.0364666666665]
[null,null,"M.008","Lâmina para Arco de serra 12\" - marca de referência 149 Starret",60,"un",14.466666666666667,868,0.2359,1072.7611999999999]
[null,null,"M.009","Bateria de 1,5V LR44",48,"un",4.5366666666666662,217.76,0.2359,269.12958399999997]
[null,null,"M.010","Bateria de 6V",48,"un",14.856666666666667,713.12,0.2359,881.34500800000001]
[null,null,"M.011","Bateria de 9V",24,"un",22.649999999999995,543.59999999999991,0.2359,671.83523999999989]
[null,null,"M.012","Bico de ferro/mangueira 3/4'' para torneira 3/4''",5,"un",10.136666666666667,50.683333333333337,0.2359,62.63953166666667]
[null,null,"M.013","Palha de aço - marca de referência Bombril",360,"un",3.5166666666666671,1266.0000000000002,0.2359,1564.6494000000002]
[null,null,"M.014","Caneta - marca de referência Bic",24,"un",1.7129999999999999,41.111999999999995,0.2359,50.810320799999992]
[null,null,"M.015","Caneta corretivo",3,"un",18.7,56.099999999999994,0.2359,69.333989999999986]
[null,null,"M.016","Caneta marcador permanente",3,"un",12.796666666666667,38.39,0.2359,47.446201000000002]
[null,null,"M.017","Clip para cabo de aço de 1/2",12,"un",6.7516666666666678,81.02000000000001,0.2359,100.13261800000001]
[null,null,"M.018","Cola química - (Ref. Durepox) massa 250g",24,"un",25.409999999999997,609.83999999999992,0.2359,753.70125599999994]
[null,null,"M.019","Cola - Ref. Superbond 20G",48,"un",12.896666666666667,619.04,0.2359,765.07153599999992]
[null,null,"M.020","Detergente ácido FX 1100 ativado (galão 5 litros)",180,"un",52.383333333333333,9429,0.2359,11653.301100000001]
[null,null,"M.021","Desengraxante Thilex 1.4 (galão 5 litros)",180,"un",187.73333333333335,33792,0.2359,41763.532800000001]
[null,null,"M.022","Escova de aço manual com cabo madeira 3 linhas - marca de referência 1777/3 Osborn",24,"un",6.8966666666666656,165.51999999999998,0.2359,204.56616799999998]
[null,null,"M.023","Espanador de pena nº 45",12,"un",58.366666666666667,700.4,0.2359,865.62436000000002]
[null,null,"M.024","Estopa",62,"kg",15.73,975.26,0.2359,1205.323834]
[null,null,"M.025","Filtro de sucção para lava-jato (Saco coletor filtro descartável aspirador WAP ST 20L - com 3 un)",24,"sc",64.900000000000006,1557.6000000000001,0.2359,1925.0378400000002]
[null,null,"M.026","Fita alta fusão 19mm x 10m",60,"un",37.473333333333336,2248.4,0.2359,2778.79756]
[null,null,"M.027","Fita Isolante 20m - marca de referência 3M",65,"un",27.929999999999996,1815.4499999999998,0.2359,2243.7146549999998]
[null,null,"M.028","Fita veda rosca 18 x 50m",65,"un",14.56,946.4,0.2359,1169.6557599999999]
[null,null,"M.029","Grampeador - marca de referência Mercur",2,"un",62.6,125.2,0.2359,154.73468]
[null,null,"M.030","Graxa azul",30,"kg",88.719999999999985,2661.5999999999995,0.2359,3289.4714399999993]
[null,null,"M.031","Lâmpada incandescente de 100w de 220 V",40,"un",23.599999999999998,943.99999999999989,0.2359,1166.6895999999999]
[null,null,"M.032","Lápis carpinteiro",10,"un",4.873333333333334,48.733333333333341,0.2359,60.229526666666679]
[null,null,"M.033","Livro ata páginas numeradas (ocorrência) 100 fls",10,"un",22.709999999999997,227.09999999999997,0.2359,280.67288999999994]
[null,null,"M.034","Livro de inspeção do trabalho 50 FOLHAS",2,"un",22.166666666666668,44.333333333333336,0.2359,54.791566666666668]
[null,null,"M.035","Metasil Desix bactericida (galão 5 litros)",120,"un",78.63,9435.5999999999985,0.2359,11661.458039999998]
[null,null,"M.036","Metasil Jato Plus detergente (galão 5 litros)",120,"un",109.96,13195.199999999999,0.2359,16307.947679999999]
[null,null,"M.037","Metasil R-280 desincrustante (galão 5 litros)",120,"un",169.13333333333333,20296,0.2359,25083.826400000002]
[null,null,"M.038","Metasil Metacoil detergente (galão 5 litros)",60,"un",92.600000000000009,5556.0000000000009,0.2359,6866.6604000000007]
[null,null,"M.039","Pano para chão alvejado",180,"un",5.6019999999999994,1008.3599999999999,0.2359,1246.2321239999999]
[null,null,"M.040","Papel A4 (Resma com 500 folhas)",30,"un",30.213333333333335,906.40000000000009,0.2359,1120.2197600000002]
[null,null,"M.041","Parafina sólida",3,"kg",46.233333333333327,138.69999999999999,0.2359,171.41932999999997]
[null,null,"M.046","Pasta Joia (Multiuso desengraxante 500g)",40,"un",7.8266666666666671,313.06666666666666,{"$f":"I49","v":0.2359},386.91909333333331]
[null,null,"M.047","Pasta para solda de 110 gramas",3,"un",18.326666666666668,54.980000000000004,0.2359,67.949781999999999]
[null,null,"M.048","Pincel para quadro branco",6,"un",11.796666666666667,70.78,0.2359,87.477001999999999]
[null,null,"M.049","Pincel 1” metal/madeira",20,"un",6.5,130,0.2359,160.667]
[null,null,"M.050","Pino adaptador universal cinza",5,"un",3.9899999999999998,19.95,0.2359,24.656205]
[null,null,"M.051","Querosene – litro",12,"un",25.283333333333331,303.39999999999998,0.2359,374.97206]
[null,null,"M.052","Régua de 30cm em acrílico",2,"un",6.4733333333333336,12.946666666666667,0.2359,16.000785333333333]
[null,null,"M.053","Rodo médio 60cm em madeira",10,"un",17.466666666666665,174.66666666666666,0.2359,215.87053333333333]
[null,null,"M.054","Rodo médio de 40cm em madeira",15,"un",15.123333333333335,226.85000000000002,0.2359,280.36391500000002]
[null,null,"M.055","Sabão Líquido (marca de referência Argus)",200,"lt",10.017999999999999,2003.5999999999997,0.2359,2476.2492399999996]
[null,null,"M.056","Saco para aspirador de pó GT 3000 Electrolux  (marca de referência)",120,"un",7.532222222222221,903.86666666666656,0.2359,1117.0888133333333]
[null,null,"M.057","Saco para lixo com 100 unidades 100L",12,"un",31.626666666666665,379.52,0.2359,469.048768]
[null,null,"M.058","Soda cáustica 1L",200,"un",23.066666666666663,4613.3333333333321,0.2359,5701.6186666666654]
[null,null,"M.059","Solda azul 500 gramas 60/40 msx -10",3,"un",118.77333333333335,356.32000000000005,0.2359,440.37588800000009]
[null,null,"M.060","Solução para bateria (água destilada) – 1 litro",12,"un",12.833333333333334,154,0.2359,190.32859999999999]
[null,null,"M.061","Spray de fumaça para teste de detectores - lata 400ml",12,"un",65.296666666666667,783.56,0.2359,968.40180399999997]
[null,null,"M.062","Suma Grill (D94) - detergente desincrustante alcalino para remoção de gordura carbonizada  (galão de 5 litros)",40,"un",145.15,5806,0.2359,7175.6354000000001]
[null,null,"M.063","Terminal tipo garfo de 1,5mm a 2,5mm",50,"un",0.23606666666666665,11.803333333333333,0.2359,14.587739666666666]
[null,null,"M.064","Terminal tipo olhal de 16mm",20,"un",1.502,30.04,0.2359,37.126435999999998]
[null,null,"M.065","Terminal tipo pino de 1,5mm a 2,5mm",50,"un",0.29380000000000001,14.69,0.2359,18.155370999999999]
[null,null,"M.066","Toner para impressora laserjet HP (Ref. W1030X preto)",6,"un",628.86333333333334,3773.1800000000003,0.2359,{"$f":"H70*(1+I70)","v":4663.2731620000004}]
[null,null,"M.067","Trapo 25 kg",20,"un",165.66,3313.2,{"$f":"I70","v":0.2359},4094.78388]
[null,null,"M.068","Vassoura piaçava ",10,"un",17.536666666666665,175.36666666666665,0.2359,216.73566333333332]
[null,null,"M.069","Veja multiuso (marca de referência) - 500ml",240,"un",7.1266666666666678,1710.4000000000003,0.2359,2113.8833600000003]
[null,null,"M.070","WD 40  (marca de referência) - 300ml",52,"un",44.566666666666663,{"$f":"G74*E74","v":2317.4666666666662},0.2359,2864.1570533333329]
[]
[null,null,null,null,null,null,null,null,"SOMATÓRIO TOTAL MENSAL",{"$f":"ROUND(SUM(J8:J75)/12,2)","v":14894.01}]
[null,null,null,null,null,null,null,null,"SOMATÓRIO TOTAL ANUAL",{"$f":"J76*12","v":178728.12},null,null,{"$f":"SUM($H$9:$H$74)","v":144613.74200000003}]

{"sheet":"Prof.N.Resid","index":31,"n_rows":12,"n_cols":14,"rows_kept":12,"cut":false,"hidden":false,"merged":[[2,1,2,3],[3,1,3,10]]}
[]
[]
[]
[null,"SERVIÇO DE PROFISSIONAL NÃO RESIDENTE"]
[]
[]
[null,null,"ITEM","DESCRIÇÃO","QUANT ANUAL","UNIDADE","CUSTO UNITÁRIO","CUSTO ANUAL","BDI (%)","PREÇO TOTAL","FONTE"]
[]
[null,null,"PRO.1","ENGENHEIRO MECÂNICO (MEIO PERÍODO) - DISPONIBILIDADE - COM ENCARGOS COMPLEMENTARES",12,"mês",{"$f":"24859.48/2","v":12429.74},{"$f":"G9*E9","v":149156.88},{"$f":"'BDI - Geral'!E27","v":0.2359},{"$f":"ROUND(H9*(1+I9),2)","v":184342.99},"SINAPI"]
[]
[null,null,null,null,null,null,null,null,"SOMATÓRIO TOTAL MENSAL",{"$f":"ROUND(SUM(J8:J10)/12,2)","v":15361.92}]
[null,null,null,null,null,null,null,null,"SOMATÓRIO TOTAL ANUAL",{"$f":"J11*12","v":184343.04000000001},null,null,{"$f":"SUM($H$9:$H$9)","v":149156.88},"por ano sem bdi"]

{"sheet":"Veículos","index":32,"n_rows":26,"n_cols":11,"rows_kept":26,"cut":false,"hidden":false,"merged":[[2,1,2,3],[3,1,3,10],[7,3,7,4],[9,3,9,4]]}
[]
[]
[]
[null,"VEÍCULOS PARA TRANSPORTE DE COLABORADORES E DE MATERIAIS"]
[]
[]
[null,"DISPONIBILIDADE DO BEM"]
[null,"ITEM","DESCRIÇÃO (MODELO DE REFERÊNCIA)","MÉTODO DE CÁLCULO",null,"CUSTO","QUANTIDADE","CUSTO TOTAL","BDI (%)","PREÇO TOTAL","FONTE"]
[]
[null,"V.01","STRADA FREEDOM CD 1.3 +8V FLEX 4P C/AR","Aluguel mensal (inclui depreciação, manutenção (preventiva, preditiva e corretiva), assistência 24h e seguro)",null,2463.4699999999998,1,{"$f":"F10*G10","v":2463.4699999999998},{"$f":"'BDI - Geral'!E27","v":0.2359},{"$f":"ROUND(H10*(1+I10),2)","v":3044.6},"COTAÇÃO"]
[]
[]
[null,"CONSUMOS DA OPERAÇÃO"]
[null,"ITEM","DESCRIÇÃO","RODAGEM MÉDIA MENSAL (km/mês)","CONSUMO MÉDIO (km/l)","CONSUMO MENSAL (l/mês)","CUSTO COMBUSTIVEL","CUSTO TOTAL","BDI (%)","PREÇO TOTAL","FONTE"]
[]
[null,"C.01","Gasolina Comum",1000,10.1,{"$f":"D16/E16","v":99.009900990099013},5.8029999999999999,{"$f":"G16*F16","v":574.55445544554459},{"$f":"I10","v":0.2359},{"$f":"ROUND(H16*(1+I16),2)","v":710.09},"SITE"]
[]
[]
[]
[null,null,"DESCRIÇÃO",null,null,null,null,null,null,"PREÇO TOTAL"]
[]
[null,null,"DISPONIBILIDADE DO BEM",null,null,null,null,null,null,{"$f":"J10","v":3044.6}]
[null,null,"CONSUMOS DA OPERAÇÃO",null,null,null,null,null,null,{"$f":"J16","v":710.09}]
[]
[null,null,null,null,null,null,null,null,"SOMATÓRIO TOTAL MENSAL",{"$f":"ROUND(SUM(J21:J24),2)","v":3754.69}]
[null,null,null,null,null,null,null,null,"SOMATÓRIO TOTAL ANUAL",{"$f":"J25*12","v":45056.28}]

{"sheet":"Serv.Adicionais","index":33,"n_rows":15,"n_cols":14,"rows_kept":15,"cut":false,"hidden":false,"merged":[[2,1,2,3],[3,1,3,10]]}
[]
[]
[]
[null,"SERVIÇOS ADICIONAIS"]
[]
[]
[null,null,"ITEM","DESCRIÇÃO","QUANT ANUAL","UNIDADE","CUSTO UNITÁRIO","CUSTO ANUAL","BDI (%)","PREÇO TOTAL","FONTE"]
[]
[null,null,"ADI.1","Manutenção preventiva e corretiva nas unidades resfriadoras de líquido dos sistemas de ar condicionado",12,"serv",{"$f":"1980.5+3961","v":5941.5},{"$f":"G9*E9","v":71298},{"$f":"'BDI - Geral'!E27","v":0.2359},{"$f":"ROUND(H9*(1+I9),2)","v":88117.2},"SINAPI",null,null,"*valores mensais - contratos Proclima e Dclima"]
[null,null,"ADI.2","Tratamento químico das águas de condensação e gelada do sistema de ar condicionado",12,"serv",6000,{"$f":"G10*E10","v":72000},{"$f":"I9","v":0.2359},{"$f":"ROUND(H10*(1+I10),2)","v":88984.8},null,null,null,"*valor mensal - contrato DUTOS QUÍMICA"]
[null,null,"ADI.3","Software para gerenciamento da manutenção – referência: FIIX CMMS, 8 licenças profissionais",12,"serv",{"$f":"8*75*5.5*1.0925","v":3605.25},43263,{"$f":"I10","v":0.2359},53468.74,null,null,null,"*9,25% de tributos sobre importação de software"]
[null,null,"ADI.4","Serviço de locação de Munck com lança telescópica - custo horário completo, incluíndo combustível, operador e demais custos da máquina - diária",120,"serv",972.56,116707.2,{"$f":"I11","v":0.2359},144238.43,null,null,null,"* U$ 1 = R$ 5,50"]
[]
[null,null,null,null,null,null,null,null,"SOMATÓRIO TOTAL MENSAL",{"$f":"ROUND(SUM(J8:J13)/12,2)","v":31234.1}]
[null,null,null,null,null,null,null,null,"SOMATÓRIO TOTAL ANUAL",{"$f":"J14*12","v":374809.19999999995},null,null,{"$f":"SUM($H$9:$H$9)","v":71298},"por ano sem bdi"]

{"sheet":"Demanda - H.Extras","index":34,"n_rows":61,"n_cols":15,"rows_kept":61,"cut":false,"hidden":false,"merged":[[0,1,0,14],[3,1,3,14],[36,3,36,13],[54,3,54,9],[58,3,58,9],[20,1,20,14],[37,12,37,13],[38,12,38,13],[40,12,40,13],[44,12,44,13],[45,12,45,13],[47,3,47,9]]}
[null,"HORAS EXTRAS SOB DEMANDA"]
[]
[]
[null,"SERVIÇO EXTRAORDINÁRIO REALIZADO NOS SÁBADOS - ADICIONAL 50% - ESTIMATIVA"]
[]
[]
[null,null,"ITEM","POSTO DE TRABALHO","REMUNERAÇÃO","ADICIONAIS PERIC/INSAL","CUSTO DA HORA+50%","HORAS/ DIA","REMUNERAÇÃO /DIA","VA + VT (DIA)","ENCARGOS SOCIAIS HE","CUSTO/ SÁBADO","POSTOS/ SÁBADO","SÁBADOS/ ANO","TOTAL MENSAL"]
[null,null,1,"Coordenador de serviços de manutenção ",{"$f":"Remunerações!F4","v":9062.3799999999992},{"$f":"Remunerações!G4+Remunerações!H4","v":0},{"$f":"1.5*(E8+F8)/220","v":61.788954545454544},9,{"$f":"G8*H8","v":556.1005909090909},{"$f":"('Dados Gerais'!D95+'Dados Gerais'!D88)/'Dados Gerais'!D18","v":55.768076923076926},{"$f":"'Encargos Sociais - HE'!$E$46","v":0.93559999999999999},{"$f":"(I8+J8)*(1+K8)","v":1184.332993455944},1,6,{"$f":"L8*M8*N8/12","v":592.166496727972}]
[null,null,2,"Supervisor de manutenção eletromecânica ",{"$f":"Remunerações!F5","v":7340.02},{"$f":"Remunerações!G5+Remunerações!H5","v":0},50.045590909090912,{"$f":"H8","v":9},450.41031818181818,{"$f":"J8","v":55.768076923076926},{"$f":"K8","v":0.93559999999999999},{"$f":"(I9+J9)*(1+K9)","v":979.75890156503499},3,6,{"$f":"L9*M9*N9/12","v":1469.6383523475524}]
[null,null,3,"Encarregado eletromecânico de instalações ",{"$f":"Remunerações!F6","v":5547.7},{"$f":"Remunerações!G6+Remunerações!H6","v":1664.31},49.172795454545451,9,442.55515909090906,{"$f":"J9","v":55.768076923076926},0.93559999999999999,964.55445562867123,3,6,1446.8316834430068]
[null,null,4,"Mestre de manutenção eletrônica",{"$f":"Remunerações!F7","v":4472.0600000000004},{"$f":"Remunerações!G7+Remunerações!H7","v":303.60000000000002},32.561318181818187,9,293.05186363636369,55.768076923076926,0.93559999999999999,675.17587694685324,2,6,675.17587694685324]
[null,null,5,"Mestre eletricista de manutenção ",{"$f":"Remunerações!F8","v":3800},{"$f":"Remunerações!G8+Remunerações!H8","v":1140},33.68181818181818,9,303.13636363636363,55.768076923076926,0.93559999999999999,694.69543514685313,4,6,1389.3908702937063]
[null,null,6,"Mecânico de máquinas pesadas - manutenção",{"$f":"Remunerações!F9","v":3765.58},{"$f":"Remunerações!G9+Remunerações!H9","v":303.60000000000002},27.744409090909087,9,249.69968181818177,55.768076923076926,0.93559999999999999,591.2633938195803,6,6,1773.790181458741]
[null,null,10,"Auxiliar mecânico de ar condicionado",{"$f":"Remunerações!F13","v":1921.17},{"$f":"Remunerações!G13+Remunerações!H13","v":303.60000000000002},15.168886363636362,9,136.51997727272726,55.768076923076926,0.93559999999999999,372.19275770139859,6,6,1116.5782731041959]
[null,null,11,"Controlador de materiais",{"$f":"Remunerações!F14","v":3500},{"$f":"Remunerações!G14+Remunerações!H14","v":0},23.863636363636363,9,214.77272727272728,55.768076923076926,0.93559999999999999,523.65878060139858,1,6,261.82939030069929]
[null,null,12,"Coordenador de facilities",{"$f":"Remunerações!F15","v":9424.8700000000008},{"$f":"Remunerações!G15+Remunerações!H15","v":0},64.260477272727272,9,578.34429545454543,55.768076923076926,0.93559999999999999,1227.3879079741259,1,6,613.69395398706297]
[]
[null,null,null,"TOTAL MENSAL",null,null,null,null,null,null,null,null,null,null,{"$f":"SUM(O8:O17)","v":9339.095078609791}]
[]
[]
[null,"SERVIÇO EXTRAORDINÁRIO REALIZADO NOS DOMINGOS - ADICIONAL 100% - ESTIMATIVA"]
[]
[]
[null,null,"ITEM","POSTO DE TRABALHO","REMUNERAÇÃO","ADICIONAIS PERIC/INSAL","CUSTO DA HORA+100%","HORAS/ DIA","REMUNERAÇÃO /DIA","VA + VT (DIA)","ENCARGOS SOCIAIS HE","CUSTO/ DOMINGO","POSTOS/ DOMINGO","DOMINGOS/ ANO","TOTAL MENSAL"]
[null,null,1,"Coordenador de serviços de manutenção ",{"$f":"E8","v":9062.3799999999992},{"$f":"F8","v":0},{"$f":"2*(E25+F25)/220","v":82.385272727272721},9,{"$f":"G25*H25","v":741.46745454545453},{"$f":"J8","v":55.768076923076926},{"$f":"'Encargos Sociais - HE'!$E$46","v":0.93559999999999999},{"$f":"(I25+J25)*(1+K25)","v":1543.1290947104894},1,3,{"$f":"L25*M25*N25/12","v":385.7822736776223}]
[null,null,2,"Supervisor de manutenção eletromecânica ",{"$f":"E9","v":7340.02},0,{"$f":"2*(E26+F26)/220","v":66.727454545454549},{"$f":"H25","v":9},600.54709090909091,{"$f":"J25","v":55.768076923076926},{"$f":"K25","v":0.93559999999999999},{"$f":"(I26+J26)*(1+K26)","v":1270.3636388559441},1,3,{"$f":"L26*M26*N26/12","v":317.59090971398604}]
[null,null,3,"Encarregado eletromecânico de instalações ",5547.7,1664.31,65.563727272727277,9,590.07354545454552,{"$f":"J26","v":55.768076923076926},0.93559999999999999,1250.091044274126,1,3,312.52276106853151]
[null,null,4,"Mestre de manutenção eletrônica",4472.0600000000004,303.60000000000002,43.415090909090914,9,390.73581818181822,{"$f":"J27","v":55.768076923076926},0.93559999999999999,864.2529393650351,2,3,432.12646968251755]
[null,null,5,"Mestre eletricista de manutenção ",3800,1140,44.909090909090907,9,404.18181818181813,{"$f":"J28","v":55.768076923076926},0.93559999999999999,890.27901696503488,2,3,445.13950848251744]
[null,null,6,"Mecânico de máquinas pesadas - manutenção",3765.58,303.60000000000002,36.99254545454545,9,332.93290909090905,{"$f":"J29","v":55.768076923076926},0.93559999999999999,752.36962852867123,4,3,752.36962852867111]
[null,null,10,"Auxiliar mecânico de ar condicionado",1921.17,303.60000000000002,20.225181818181817,9,182.02663636363636,{"$f":"J30","v":55.768076923076926},0.93559999999999999,460.27544703776226,9,3,1035.6197558349652]
[null,null,11,"Controlador de materiais",3500,0,31.818181818181817,9,286.36363636363637,{"$f":"J31","v":55.768076923076926},0.93559999999999999,662.23014423776226,1,3,165.55753605944057]
[null,null,12,"Coordenador de facilities",9424.8700000000008,0,85.680636363636367,9,771.12572727272732,{"$f":"J32","v":55.768076923076926},0.93559999999999999,1600.5356474013986,2,3,800.2678237006993]
[]
[null,null,null,"TOTAL MENSAL",null,null,null,null,null,null,null,null,null,null,{"$f":"SUM(O25:O34)","v":4646.9766667489512}]
[]
[null,null,null,"TOTAIS ANUAIS PARA SERVIÇO EXTRA"]
[null,null,null,"DESCRIÇÃO",null,null,null,null,"CUSTO MENSAL","BDI","VALOR MENSAL","MESES","VALOR ANUAL"]
[null,null,null,"Serviços Extraordinários executados aos SÁBADOS",null,null,null,null,{"$f":"O18","v":9339.095078609791},{"$f":"'BDI - Geral'!E27","v":0.2359},{"$f":"ROUND(I39*(1+J39),2)","v":11542.19},12,{"$f":"K39*L39","v":138506.28}]
[null,null,null,"Adicional de Horas Noturnas (sob demanda)",null,null,null,null,{"$f":"#REF!","v":{"$error":"#REF!"}}]
[null,null,null,"Serviços Extraordinários executados aos DOMINGOS",null,null,null,null,{"$f":"O35","v":4646.9766667489512},{"$f":"J39","v":0.2359},{"$f":"ROUND(I41*(1+J41),2)","v":5743.2},12,{"$f":"K41*L41","v":68918.399999999994}]
[]
[]
[]
[null,null,null,null,null,null,null,null,null,null,"TOTAL ANUAL PARA SERVIÇOS EXTRAORDINÁRIOS - SOB DEMANDA",null,{"$f":"SUM(M39:N42)","v":207424.68}]
[null,null,null,null,null,null,null,null,null,null,"MÉDIA MENSAL PARA SERVIÇOS EXTRAORDINÁRIOS - SOB DEMANDA",null,{"$f":"M45/12","v":17285.39}]
[]
[null,null,null,"TOTAL MENSAL - ITENS SOB DEMANDA"]
[null,null,null,"DESCRIÇÃO",null,null,null,null,null,"VALOR"]
[null,null,null,"Materiais não relacionados diretamente a um posto de trabalho - AQUISIÇÃO SOB DEMANDA",null,null,null,null,null,{"$f":"#REF!","v":{"$error":"#REF!"}}]
[null,null,null,"Equipamentos não relacionados diretamente a um posto de trabalho - AQUISIÇÃO SOB DEMANDA",null,null,null,null,null,{"$f":"#REF!","v":{"$error":"#REF!"}}]
[]
[null,null,null,null,null,null,"TOTAL MENSAL DA CONTRATAÇÃO",null,null,{"$f":"SUM(J50:J52)","v":{"$error":"#REF!"}}]
[]
[null,null,null,"TOTAL ANUAL - ITENS SOB DEMANDA"]
[]
[null,null,null,null,null,null,"12 x TOTAL MENSAL",null,null,{"$f":"J53*12","v":{"$error":"#REF!"}}]
[]
[null,null,null,"TOTAL ANUAL GLOBAL DA CONTRATAÇÃO"]
[]
[null,null,null,null,null,null,null,null,null,{"$f":"J57+J46","v":{"$error":"#REF!"}}]

{"sheet":"Demanda - Transp. p. chamado","index":35,"n_rows":17,"n_cols":14,"rows_kept":17,"cut":false,"hidden":false,"merged":[[2,1,2,3],[3,1,3,10]]}
[]
[]
[]
[null,"PREVISÃO DE MOVIMENTAÇÕES EM TRANSPORTE POR CHAMADO - SOB DEMANDA"]
[]
[]
[null,null,"ITEM","DESCRIÇÃO","QUANT ANUAL","UNIDADE","CUSTO UNITÁRIO","CUSTO ANUAL","BDI (%)","PREÇO TOTAL","FONTE"]
[]
[null,null,"MOV.1","PERCURSO CÂMARA - RESIDÊNCIA OFICIAL",48,"Chamado",18.940000000000001,{"$f":"G9*E9","v":909.12000000000012},{"$f":"'BDI - Demanda'!E27","v":0.1197},{"$f":"ROUND(H9*(1+I9),2)","v":1017.94},"UberX"]
[null,null,"MOV.2","PERCURSO CÂMARA - COMPLEXO AVANÇADO DA CÂMARA",{"$f":"52*4","v":208},"Chamado",9.9,2059.2000000000003,{"$f":"I9","v":0.1197},2305.69,"UberX"]
[null,null,"MOV.3","PERCURSO CÂMARA - CEAM/SIA",{"$f":"3*12","v":36},"Chamado",24.95,898.19999999999993,{"$f":"I10","v":0.1197},1005.71,"UberX"]
[null,null,"MOV.4","PERCURSO CÂMARA - SQN 302 ou 202 (APARTAMENTOS)",{"$f":"12*6","v":72},"Chamado",9.9,712.80000000000007,{"$f":"I11","v":0.1197},798.12,"UberX"]
[null,null,"MOV.5","PERCURSO CÂMARA - SQS 111 ou 311 (APARTAMENTOS)",{"$f":"E12","v":72},"Chamado",18.97,1365.84,{"$f":"I12","v":0.1197},1529.33,"UberX"]
[null,null,"MOV.6","PERCURSO CÂMARA - Centro de Transmissão - TV Câmara",12,"Chamado",36,432,{"$f":"I13","v":0.1197},483.71,"UberX"]
[]
[null,null,null,null,null,null,null,null,"SOMATÓRIO TOTAL MENSAL",{"$f":"ROUND(SUM(J8:J15)/12,2)","v":595.04}]
[null,null,null,null,null,null,null,null,"SOMATÓRIO TOTAL ANUAL",{"$f":"J16*12","v":7140.48},null,null,{"$f":"SUM($H$9:$H$14)","v":6377.1600000000008},"por ano sem bdi"]

{"sheet":"Demanda - Instalação","index":36,"n_rows":734,"n_cols":11,"rows_kept":734,"cut":false,"hidden":false,"merged":[[2,1,2,4],[3,1,3,10]]}
[]
[]
[]
[null,"MATERIAIS E SERVIÇOS PARA INSTALAÇÃO - SOB DEMANDA"]
[]
[]
[null,null,"ITEM","CÓDIGO","DESCRIÇÃO","QUANT ANUAL","UNIDADE","CUSTO UNITÁRIO","CUSTO ANUAL","BDI (%)","PREÇO TOTAL"]
[null,null,null,1,"SERVIÇOS DE INSTALAÇÃO DE ISOLAMENTO TÉRMICO DE TUBOS E DUTOS,  incluindo a aplicação dos seguintes insumos (*Ver. Obs. 1)"]
[null,null,1,"3.1","Alumínio corrugado com 0,15 mm de espessura, para proteção mecânica de tubulações, com barreira de vapor em papel kraft e betume (dimensões 0.15 mm x 91 cm x 5 mm, espessura x largura x corrugação, +- 5%). MARCA(S) DE REFERÊNCIA: ISAR; NEOTÉRMICA e ALTEC. (metro)",1,"serv",1503.02,{"$f":"F9*H9","v":1503.02},{"$f":"'BDI - Demanda'!E27","v":0.1197},{"$f":"ROUND(I9*(1+J9),2)","v":1682.93}]
[null,null,2,"3.2","Alumínio liso para isolamento de tubos. Espessura 0,7 mm. FORMA DE APRESENTAÇÃO:bobina com 15 m².",1,"serv",1743.6,{"$f":"F10*H10","v":1743.6},{"$f":"J9","v":0.1197},1952.31]
[null,null,3,"3.3","Cinta autoadesiva para espuma elastomérica. MEDIDA(S): 50 mm x 3 mm, de largura x espessura. FORMA DE APRESENTAÇÃO: rolo com 15 m de comprimento. MARCA(S) DE REFERÊNCIA: ARMAFLEX; EPEX; ISOVER. (rolo)",1,"serv",72.97,72.97,{"$f":"J10","v":0.1197},81.7]
[null,null,4,"3.4","Cola para espuma elastomérica, recipiente com 900 ml. MARCA(S) DE REFERÊNCIA: ARMAFLEX 520; EPEX; ISOVER. (lata)",1,"serv",147.87,147.87,0.1197,165.57]
[null,null,5,"3.5","Cola para isopor para colagem de poliestireno expandido (isopor) entre si, sobre metal ou sobre madeira; desenvolvido para utilização em dutos de ar condicionado e de isolamento térmico (frio e quente). Lata com 15 kg.",1,"serv",289.39999999999998,289.39999999999998,0.1197,324.04000000000002]
[null,null,6,"3.6","Fita adesiva aluminizada de 50 m x 48 mm, filme de polipropileno aluminizado e adesivo a base de resina acrílica.MARCA(S) DE REFERÊNCIA: VONDER; 3M.",1,"serv",8.36,8.36,0.1197,9.36]
[null,null,7,"3.7","Fita de PVC para refrigeração, rolo de 100mm X 10m ",1,"serv",5.09,5.09,0.1197,5.7]
[null,null,8,"3.8","Fita plástica para arquear, para auxiliar na fixação do isolamento térmico em dutos de ar condicionado. MEDIDA(S): 13 mm x 500 m, de largura x comprimento. FORMA DE APRESENTAÇÃO: rolo com 500 m. MATERIAL(IS): polipropileno. (rolo)",1,"serv",166.6,166.6,0.1197,186.54]
[null,null,9,"3.9","Fivela plástica para arquear 13 x 0,7 mm, rolo com 5 kg",1,"serv",96.4,96.4,0.1197,107.94]
[null,null,10,"3.10","Frio asfalto com carga mineral, balde 20 kg",1,"serv",410.88,410.88,0.1197,460.06]
[null,null,11,"3.11","Manta bidim geotextil 130g, 215m² (rolo 2,15m x 100m)",1,"serv",854.14,854.14,0.1197,956.38]
[null,null,12,"3.12","Manta de lã de vidro com 1\" de espessura, revestida com papel aluminizado, impregnada com resina sintética, com uma das faces revestidas em papel kraft aluminizado; densidade de 20 kg/m³. MEDIDA(S): 25 m x 1,20 m x 25 mm, de comprimento x largura x espessura. (rolo)",1,"serv",584.41999999999996,584.41999999999996,0.1197,654.38]
[null,null,13,"3.13","Manta isolamento ARMAFLEX espessura 25mm, rolo 4 m x 1,5 m, ref C1 25 - 150 CS",1,"serv",446.48,446.48,0.1197,499.92]
[null,null,14,"3.14","Manta isolante AF/ARMAFLEX espessura 19mm, rolo 12 m x 1 m, referência AF M-99/E",1,"serv",554.17999999999995,554.17999999999995,0.1197,620.52]
[null,null,15,"3.15","Manta isolante autoadesiva AF/ARMAFLEX espessura 19mm, rolo 12 m x 1 m, referência AF M-99/E-A",1,"serv",1949.7,1949.7,0.1197,2183.08]
[null,null,16,"3.16","Placa de isopor de 1m x 50 cm x 1,5 cm (comprimento x largura x espessura).",1,"serv",7.78,7.78,0.1197,8.7100000000000009]
[null,null,17,"3.17","Placa de isopor de 1m x 50 cm x 2 cm (comprimento x largura x espessura).",1,"serv",8.3800000000000008,8.3800000000000008,0.1197,9.3800000000000008]
[null,null,18,"3.18","Tinta branca ARMAFINISH, balde com 2,5 litros, para proteção de isolamento térmico do tipo borracha elastomérica",1,"serv",560.33000000000004,560.33000000000004,0.1197,627.4]
[null,null,19,"3.19","Tubo em borracha elastomérica para tubo de cobre 1\" AF/ARMAFLEX, espessura M (19 a 26 mm), barra de 2 metros",1,"serv",44.73,44.73,0.1197,50.08]
[null,null,38,"3.20","Tubo em borracha elastomérica para tubo de cobre 1.1/2\" AF/ARMAFLEX, espessura M (19 a 26 mm), barra de 2 metros",1,"serv",51.53,51.53,0.1197,{"$f":"ROUND(I28*(1+J28),2)","v":57.7}]
[null,null,20,"3.21","Tubo em borracha elastomérica para tubo de cobre 1.1/4\" AF/ARMAFLEX, espessura M (19 a 26 mm), barra de 2 metros",1,"serv",53.89,53.89,0.1197,60.34]
[null,null,21,"3.22","Tubo em borracha elastomérica para tubo de cobre 1.1/8\" AF/ARMAFLEX, espessura M (19 a 26 mm), barra de 2 metros",1,"serv",56.97,56.97,0.1197,63.79]
[null,null,22,"3.23","Tubo em borracha elastomérica para tubo de cobre 1.3/8\" AF/ARMAFLEX, espessura M (19 a 26 mm), barra de 2 metros",1,"serv",76.75,76.75,0.1197,85.94]
[null,null,23,"3.24","Tubo em borracha elastomérica para tubo de cobre 1.5/8\" AF/ARMAFLEX, espessura M (19 a 26 mm), barra de 2 metros",1,"serv",99.88,99.88,0.1197,111.84]
[null,null,24,"3.25","Tubo em borracha elastomérica para tubo de cobre 1/2\" AF/ARMAFLEX, espessura M (19 a 26 mm), barra de 2 metros",1,"serv",68.599999999999994,68.599999999999994,0.1197,76.81]
[null,null,25,"3.26","Tubo em borracha elastomérica para tubo de cobre 1/4\" AF/ARMAFLEX, espessura M (19 a 26 mm), barra de 2 metros",1,"serv",41,41,0.1197,45.91]
[null,null,26,"3.27","Tubo em borracha elastomérica para tubo de cobre 2.1/8\" AF/ARMAFLEX, espessura M (19 a 26 mm), barra de 2 metros",1,"serv",65.14,65.14,0.1197,72.94]
[null,null,27,"3.28","Tubo em borracha elastomérica para tubo de cobre 3\" AF/ARMAFLEX, espessura M (19 a 26 mm), barra de 2 metros",1,"serv",167.96,167.96,0.1197,188.06]
[null,null,28,"3.29","Tubo em borracha elastomérica para tubo de cobre 3/4\" AF/ARMAFLEX, espessura M (19 a 26 mm), barra de 2 metros",1,"serv",76.849999999999994,76.849999999999994,0.1197,86.05]
[null,null,29,"3.30","Tubo em borracha elastomérica para tubo de cobre 3/8\" AF/ARMAFLEX, espessura M (19 a 26 mm), barra de 2 metros",1,"serv",94.9,94.9,0.1197,106.26]
[null,null,30,"3.31","Tubo em borracha elastomérica para tubo de cobre 5/8\" AF/ARMAFLEX, espessura M (19 a 26 mm), barra de 2 metros",1,"serv",63.6,63.6,0.1197,71.209999999999994]
[null,null,31,"3.32","Tubo em borracha elastomérica para tubo de cobre 7/8\" AF/ARMAFLEX, espessura M (19 a 26 mm), barra de 2 metros",1,"serv",102.25,102.25,0.1197,114.49]
[null,null,32,"3.33","Tubo em borracha elastomérica para tubo em ferro 1\" AF/ARMAFLEX, espessura M (19 a 26 mm), barra de 2 metros",1,"serv",58.39,58.39,0.1197,65.38]
[null,null,33,"3.34","Tubo em borracha elastomérica para tubo em ferro 1.1/2\" AF/ARMAFLEX, espessura M (19 a 26 mm), barra de 2 metros",1,"serv",108.2,108.2,0.1197,121.15]
[null,null,34,"3.35","Tubo em borracha elastomérica para tubo em ferro 1.1/4\" AF/ARMAFLEX, espessura M (19 a 26 mm), barra de 2 metros",1,"serv",63.51,63.51,0.1197,71.11]
[null,null,35,"3.36","Tubo em borracha elastomérica para tubo em ferro 1/2\" AF/ARMAFLEX, espessura M (19 a 26 mm), barra de 2 metros",1,"serv",75.989999999999995,75.989999999999995,0.1197,85.09]
[null,null,36,"3.37","Tubo em borracha elastomérica para tubo em ferro 2\" AF/ARMAFLEX, espessura M (19 a 26 mm), barra de 2 metros",1,"serv",46.12,46.12,0.1197,51.64]
[null,null,37,"3.38","Tubo em borracha elastomérica para tubo em ferro 2.1/2\" AF/ARMAFLEX, espessura M (19 a 26 mm), barra de 2 metros",1,"serv",58.34,58.34,0.1197,65.319999999999993]
[null,null,39,"3.39","Tubo em borracha elastomérica para tubo em ferro 3\" AF/ARMAFLEX, espessura M (19 a 26 mm), barra de 2 metros",1,"serv",66.33,66.33,0.1197,{"$f":"ROUND(I47*(1+J47),2)","v":74.27}]
[null,null,40,"3.40","Tubo em borracha elastomérica para tubo em ferro 3.1/2\" AF/ARMAFLEX, espessura M (19 a 26 mm), barra de 2 metros",1,"serv",66,66,0.1197,73.900000000000006]
[null,null,41,"3.41","Tubo em borracha elastomérica para tubo em ferro 3/4\" AF/ARMAFLEX, espessura M (19 a 26 mm), barra de 2 metros",1,"serv",40.56,40.56,0.1197,45.42]
[null,null,42,"3.42","Tubo em borracha elastomérica para tubo em ferro 4\" AF/ARMAFLEX, espessura M (19 a 26 mm), barra de 2 metros",1,"serv",87.69,87.69,0.1197,98.19]
[null,null,43,"3.43","Tubo em borracha elastomérica para tubo em ferro 5\" AF/ARMAFLEX, espessura M (19 a 26 mm), barra de 2 metros",1,"serv",102.9,102.9,0.1197,115.22]
[null,null,44,"3.44","Tubo em borracha elastomérica para tubo em ferro 6\" AF/ARMAFLEX, espessura M (19 a 26 mm), barra de 2 metros",1,"serv",130.25,130.25,0.1197,145.84]
[null,null,45,"3.45","Tubo em polietileno expandido com película protetora UV para tubo de cobre 1\", barra com 2 metros",1,"serv",6.71,6.71,0.1197,7.51]
[null,null,46,"3.46","Tubo em polietileno expandido com película protetora UV para tubo de cobre 1.1/8\", barra com 2 metros",1,"serv",7.55,7.55,0.1197,8.4499999999999993]
[null,null,47,"3.47","Tubo em polietileno expandido com película protetora UV para tubo de cobre 1.5/8\", barra com 2 metros",1,"serv",10.17,10.17,0.1197,11.39]
[null,null,48,"3.48","Tubo em polietileno expandido com película protetora UV para tubo de cobre 1/2\", barra com 2 metros",1,"serv",3.73,3.73,0.1197,4.18]
[null,null,49,"3.49","Tubo em polietileno expandido com película protetora UV para tubo de cobre 1/4\", barra com 2 metros",1,"serv",3.43,3.43,0.1197,3.84]
[null,null,50,"3.50","Tubo em polietileno expandido com película protetora UV para tubo de cobre 3/4\", barra com 2 metros",1,"serv",5.15,5.15,0.1197,5.77]
[null,null,51,"3.51","Tubo em polietileno expandido com película protetora UV para tubo de cobre 3/8\", barra com 2 metros",1,"serv",3.32,3.32,0.1197,3.72]
[null,null,52,"3.52","Tubo em polietileno expandido com película protetora UV para tubo de cobre 5/8\", barra com 2 metros",1,"serv",5.35,5.35,0.1197,5.99]
[null,null,56,"3.53","Tubo em polietileno expandido com película protetora UV para tubo de cobre 7/4\", barra com 2 metros",1,"serv",5.61,5.61,0.1197,6.28]
[null,null,53,2,"SERVIÇOS DE INSTALAÇÃO DE DUTOS DE CHAPA DE AÇO GALVANIZADO,  incluindo a aplicação dos seguintes insumos (*Ver. Obs. 1)"]
[null,null,54,"4.1","Chapa de aço galvanizado Nº 22 3,00 m X 1,20 m",1,"serv",431.31,431.31,{"$f":"J61","v":0.1197},482.94]
[null,null,55,"4.2","Chapa de aço galvanizado Nº 24 3,00 m X 1,20 m",1,"serv",350.44,350.44,{"$f":"J63","v":0.1197},392.39]
[null,null,56,"4.3","Chapa de aço galvanizado Nº 26 3,00 m X 1,20 m",1,"serv",269.57,269.57,0.1197,301.83999999999997]
[null,null,53,3,"SERVIÇOS DE INSTALAÇÃO DE COMPONENTES PARA DISTRIBUIÇÃO DE AR, incluindo a aplicação dos seguintes insumos (*Ver. Obs. 1)"]
[null,null,54,"5.1","Colarinho de 15 cm com registro para duto flexível",1,"serv",33.49,33.49,{"$f":"J65","v":0.1197},37.5]
[null,null,55,"5.2","Colarinho de 15 cm sem registro para duto flexível",1,"serv",15.45,15.45,{"$f":"J67","v":0.1197},17.3]
[null,null,56,"5.3","Colarinho de 20 cm com registro para duto flexível",1,"serv",55.77,55.77,0.1197,62.45]
[null,null,57,"5.4","Colarinho de 20 cm sem registro para duto flexível",1,"serv",15.64,15.64,0.1197,17.510000000000002]
[null,null,58,"5.5","Damper de sobre pressão 300 x 200 TROPICAL/DSP-15 ou TROX/KUL",1,"serv",163.09,163.09,0.1197,182.61]
[null,null,59,"5.6","Damper de sobre pressão 300 x 300 TROPICAL/DSP-15 ou TROX/KUL",1,"serv",370.07,370.07,0.1197,414.37]
[null,null,60,"5.7","Damper de sobre pressão 350 x 330 TROPICAL/DSP-15 ou TROX/KUL",1,"serv",279.83999999999997,279.83999999999997,0.1197,313.33999999999997]
[null,null,61,"5.8","Damper de sobre pressão 400 x 300 TROPICAL/DSP-15 ou TROX/KUL",1,"serv",255.2,{"$f":"F74*H74","v":255.2},0.1197,285.75]
[null,null,62,"5.9","Damper de sobre pressão 400 x 350 TROPICAL/DSP-15 ou TROX/KUL",1,"serv",329.97,329.97,0.1197,369.47]
[null,null,63,"5.10","Damper de sobre pressão 400 x 400 TROPICAL/DSP-15 ou TROX/KUL",1,"serv",472.11,472.11,0.1197,528.62]
[null,null,2,"5.11","Damper de sobre pressão 410 x 480 TROPICAL/DSP-15 ou TROX/KUL",1,"serv",447.52,447.52,0.1197,501.09]
[null,null,3,"5.12","Damper de sobre pressão 440 x 480 TROPICAL/DSP-15 ou TROX/KUL",1,"serv",467.4,467.4,0.1197,523.35]
[null,null,4,"5.13","Damper de sobre pressão 500 x 500 TROPICAL/DSP-15 ou TROX/KUL",1,"serv",589.62,589.62,0.1197,660.2]
[null,null,5,"5.14","Damper de sobre pressão 510 x 440 TROPICAL/DSP-15 ou TROX/KUL",1,"serv",469.21,469.21,0.1197,525.37]
[null,null,6,"5.15","Damper de sobre pressão 510 x 460 TROPICAL/DSP-15 ou TROX/KUL",1,"serv",495.19,495.19,0.1197,554.46]
[null,null,7,"5.16","Damper de sobre pressão 550 x 390 TROPICAL/DSP-15 ou TROX/KUL",1,"serv",453.69,453.69,0.1197,508]
[null,null,8,"5.17","Difusor de ar TROX ADLK-S-AG tamanho 3, com caixa plenum e registro",1,"serv",398.96,398.96,0.1197,446.72]
[null,null,9,"5.18","Difusor de ar TROX ADLK-S-AG tamanho 4, com caixa plenum e registro",1,"serv",518.02,518.02,0.1197,580.03]
[null,null,10,"5.19","Difusor de ar TROX ADLK-S-AG tamanho 5, com caixa plenum e registro",1,"serv",652.54,652.54,0.1197,730.65]
[null,null,11,"5.20","Difusor de ar TROX ADLK-S-AG tamanho 6, com caixa plenum e registro",1,"serv",748.32,748.32,0.1197,837.89]
[null,null,12,"5.21","Difusor de ar TROX ADLK-S-AG tamanho 7, com caixa plenum e registro",1,"serv",1022.25,1022.25,0.1197,1144.6099999999999]
[null,null,13,"5.22","Difusor de ar TROX ADLK-S-AG tamanho 8, com caixa plenum e registro",1,"serv",1069.69,1069.69,0.1197,1197.73]
[null,null,14,"5.23","Difusor de ar TROX ADLR-SZR, tamanho 3, com caixa plenum e registro",1,"serv",411.96,411.96,0.1197,461.27]
[null,null,15,"5.24","Difusor de ar TROX ADLR-SZR, tamanho 4, com caixa plenum e registro",1,"serv",531.54,531.54,0.1197,595.16999999999996]
[null,null,16,"5.25","Difusor de ar TROX ADLR-SZR, tamanho 5, com caixa plenum e registro",1,"serv",676.72,676.72,0.1197,757.72]
[null,null,39,"5.26","Difusor de ar TROX ADLR-SZR, tamanho 6, com caixa plenum e registro",1,"serv",762.95,762.95,0.1197,854.28]
[null,null,39,"5.27","Difusor de ar TROX ADLR-SZR, tamanho 7, com caixa plenum e registro",1,"serv",1048.21,1048.21,0.1197,1173.68]
[null,null,40,"5.28","Difusor de ar TROX ADLR-SZR, tamanho 8, com caixa plenum e registro",1,"serv",1093.17,1093.17,0.1197,1224.02]
[null,null,41,"5.29","Duto flexível isolado com alumínio e manta de lã de vidro 150 mm de diâmetro, pacote com 6 metros",1,"serv",138.36000000000001,138.36000000000001,0.1197,154.91999999999999]
[null,null,42,"5.30","Duto flexível isolado com alumínio e manta de lã de vidro 200 mm de diâmetro, pacote com 6 metros",1,"serv",204.52,204.52,0.1197,229]
[null,null,43,"5.31","Duto flexível isolado com alumínio e manta de lã de vidro 250 mm de diâmetro, pacote com 6 metros",1,"serv",296.43,296.43,0.1197,331.91]
[null,null,44,"5.32","Duto flexível isolado com alumínio e manta de lã de vidro 300 mm de diâmetro, pacote com 6 metros",1,"serv",353.22,353.22,0.1197,395.5]
[null,null,null,"5.33","Duto flexível isolado com alumínio e manta de lã de vidro 400 mm de diâmetro, pacote com 6 metros",1,"serv",484.5,484.5,0.1197,542.49]
[null,null,null,"5.34","Grelha de descarga de ar TROX AWG 297 mm x 197 mm",1,"serv",174.53,174.53,0.1197,195.42]
[null,null,null,"5.35","Grelha de descarga de ar TROX AWG 985 mm x 495 mm",1,"serv",913.63,913.63,0.1197,1022.99]
[null,null,null,"5.36","Grelha de porta TROX AGS-T 325 mm x 225 mm, com moldura e contramoldura",1,"serv",253.24,253.24,0.1197,283.55]
[null,null,null,"5.37","Grelha de retorno de ar TROX AH-0/AG 250 mm x 150 mm ",1,"serv",129.6,129.6,0.1197,145.11000000000001]
[null,null,null,"5.38","Grelha de retorno de ar TROX AH-0/AG 425 mm x 225 mm ",1,"serv",235.66,235.66,0.1197,263.87]
[null,null,null,"5.39","Grelha de retorno de ar TROX AR-AG 250 mm x 150 mm ",1,"serv",93.7,93.7,0.1197,104.92]
[null,null,null,"5.40","Grelha de retorno de ar TROX AR-AG 425 mm x 225 mm ",1,"serv",164.06,164.06,0.1197,183.7]
[null,null,null,"5.41","Registro de vazão TROX RL-B de 150 mm x 200 mm, com base para motorização",1,"serv",119.43,119.43,0.1197,133.72999999999999]
[null,null,null,"5.42","Registro de vazão TROX RL-B de 300 mm x 200 mm, com base para motorização",1,"serv",161.16999999999999,161.16999999999999,0.1197,180.46]
[null,null,null,"5.43","Registro de vazão TROX RL-B de 300 mm x 300 mm, com base para motorização",1,"serv",203.63,203.63,0.1197,228]
[null,null,null,"5.44","Registro de vazão TROX RL-B de 300 mm x 400 mm, com base para motorização",1,"serv",317.51,317.51,0.1197,355.52]
[null,null,null,"5.45","Registro de vazão TROX RL-B de 400 mm x 250 mm, com base para motorização",1,"serv",218.05,218.05,0.1197,{"$f":"ROUND(I111*(1+J111),2)","v":244.15}]
[null,null,null,"5.46","Registro de vazão TROX RL-B de 400 mm x 400 mm, com base para motorização",1,"serv",368.67,368.67,0.1197,412.8]
[null,null,null,"5.47","Registro de vazão TROX RL-B de 430 mm x 330 mm, com base para motorização",1,"serv",281.20999999999998,281.20999999999998,0.1197,314.87]
[null,null,null,"5.48","Registro de vazão TROX RL-B de 450 mm x 250 mm, com base para motorização",1,"serv",232.16,232.16,0.1197,259.95]
[null,null,null,"5.49","Registro de vazão TROX RL-B de 700 mm x 305 mm, com base para motorização",1,"serv",319.93,319.93,0.1197,358.23]
[null,null,null,"5.50","Registro de vazão TROX RL-B de 800 mm x 300 mm, com base para motorização",1,"serv",347.05,347.05,0.1197,388.59]
[null,null,null,"5.51","Veneziana de ar sobre pressão VS-P1 com contra peso dimensões de largura de 1.130mm X 200mm altura",1,"serv",595.48,595.48,0.1197,666.76]
[null,null,null,"5.52","Veneziana de ar sobre pressão VS-P1 com contra peso dimensões de largura de 1.170mm X 300mm altura ",1,"serv",696.6,696.6,0.1197,779.98]
[null,null,null,"5.53","Veneziana de ar sobre pressão VS-P1 com contra peso dimensões de largura de 1.350mm X 970mm altura",1,"serv",1476.3,1476.3,0.1197,1653.01]
[null,null,null,"5.54","Veneziana de ar sobre pressão VS-P1 com contra peso dimensões de largura de 500mm X 300mm altura",1,"serv",359.17,359.17,0.1197,402.16]
[null,null,null,"5.55","Filtro inercial para coifa em aço inox 50 x 50 cm",1,"serv",398.5,398.5,0.1197,446.2]
[null,null,null,"5.56","Porta de inspeção para limpeza de duto 600x300 mm em chapa preta",1,"serv",440,440,0.1197,492.67]
[null,null,null,"5.57","Tampa de inspeção 600mm knauf para forro de gesso",1,"serv",471.97,471.97,0.1197,528.46]
[null,null,null,4,"SERVIÇOS DE INSTALAÇÃO DE COMPONENTES PARA CONTROLE EM SISTEMAS DE AR CONDICIONADO, incluindo a aplicação dos seguintes insumos (*Ver. Obs. 1)"]
[null,null,null,"6.1","Atuador floating marca HONEYWELL modelo VC6934",1,"serv",2263.3200000000002,2263.3200000000002,{"$f":"J123","v":0.1197},2534.2399999999998]
[null,null,null,"6.2","Atuador floating marca JOHNSON CONTROLS modelo VA-7150-1001",1,"serv",2524.1999999999998,2524.1999999999998,{"$f":"J125","v":0.1197},2826.35]
[null,null,null,"6.3","Atuador on/off 220v marca HONEYWELL modelo VC4013ZZ00",1,"serv",583.63,583.63,0.1197,653.49]
[null,null,null,"6.4","Atuador on/off 220v marca HONEYWELL modelo VC6013ZZ01",1,"serv",818.33,818.33,0.1197,916.28]
[null,null,null,"6.5","Atuador on/off e floating marca BELIMO modelo AMB24-3 de 20 Nm; ",1,"serv",2575.21,2575.21,0.1197,2883.46]
[null,null,null,"6.6","Atuador on/off e floating marca BELIMO modelo ARB120-3 de 20 Nm; ",1,"serv",2707.74,2707.74,0.1197,3031.86]
[null,null,null,"6.7","Atuador on/off e floating marca BELIMO modelo ARB24-3 de 20 Nm; ",1,"serv",2371.62,2371.62,0.1197,2655.5]
[null,null,null,"6.8","Atuador on/off e floating marca BELIMO modelo ARX120-3 de 20 Nm; ",1,"serv",3187.54,3187.54,0.1197,3569.09]
[null,null,null,"6.9","Atuador on/off e floating marca BELIMO modelo GMB24-3 de 40 Nm; ",1,"serv",3413.07,3413.07,0.1197,3821.61]
[null,null,null,"6.10","Atuador on/off e floating marca BELIMO modelo LMB24-3 de 5 Nm; ",1,"serv",1052.74,1052.74,0.1197,1178.75]
[null,null,null,"6.11","Atuador on/off e floating marca BELIMO modelo LRB120-3 de 5 Nm; ",1,"serv",1504.64,1504.64,0.1197,1684.75]
[null,null,null,"6.12","Atuador on/off e floating marca BELIMO modelo LRB24-3 de 5 Nm; ",1,"serv",1368.45,1368.45,0.1197,1532.25]
[null,null,null,"6.13","Atuador on/off e floating marca BELIMO modelo NMB24-3 de 10 Nm; ",1,"serv",1718.14,1718.14,0.1197,1923.8]
[null,null,null,"6.14","Atuador on/off e floating marca BELIMO modelo TR24-3 de 2 Nm; ",1,"serv",916.74,{"$f":"F138*H138","v":916.74},0.1197,1026.47]
[null,null,null,"6.15","Atuador on/off TA HYDRONICS EMO T",1,"serv",342.45,342.45,0.1197,383.44]
[null,null,null,"6.16","Atuador proporcional marca BELIMO modelo AMB24-SR de 20 Nm; ",1,"serv",4200.51,4200.51,0.1197,4703.3100000000004]
[null,null,null,"6.17","Atuador proporcional marca BELIMO modelo ARB120-SR de 20 Nm; ",1,"serv",3342.65,3342.65,0.1197,3742.77]
[null,null,null,"6.18","Atuador proporcional marca BELIMO modelo ARB24-SR de 20 Nm; ",1,"serv",4286.8100000000004,4286.8100000000004,0.1197,4799.9399999999996]
[null,null,null,"6.19","Atuador proporcional marca BELIMO modelo ARX120-SR de 20 Nm; ",1,"serv",5266.54,5266.54,0.1197,5896.94]
[null,null,null,"6.20","Atuador proporcional marca BELIMO modelo GMB24-SR de 40 Nm; ",1,"serv",3946.16,3946.16,0.1197,4418.5200000000004]
[null,null,null,"6.21","Atuador proporcional marca BELIMO modelo LMB24-SR de 5 Nm; ",1,"serv",1418.68,1418.68,0.1197,1588.5]
[null,null,null,"6.22","Atuador proporcional marca BELIMO modelo LRB120-SR de 5 Nm; ",1,"serv",2288.66,2288.66,0.1197,2562.61]
[null,null,null,"6.23","Atuador proporcional marca BELIMO modelo LRB24-SR de 5 Nm; ",1,"serv",1538.7,1538.7,0.1197,1722.88]
[null,null,null,"6.24","Atuador proporcional marca BELIMO modelo NMB24-SR de 10 Nm; ",1,"serv",2456.89,2456.89,0.1197,2750.98]
[null,null,null,"6.25","Atuador proporcional marca BELIMO modelo TR24-SR de 2 Nm; ",1,"serv",1600.91,1600.91,0.1197,1792.54]
[null,null,null,"6.26","Atuador proporcional marca HONEYWELL modelo VC7934",1,"serv",3344.93,3344.93,0.1197,3745.32]
[null,null,null,"6.27","Atuador proporcional marca JOHNSON CONTROLS modelo VA-7152-1001",1,"serv",3149.46,3149.46,0.1197,3526.45]
[null,null,null,"6.28","Atuador proporcional marca JOHNSON CONTROLS modelo VA-7202-1001",1,"serv",5666.25,5666.25,0.1197,6344.5]
[null,null,null,"6.29","Atuador proporcional TA HYDRONICS EMO T",1,"serv",397.55,397.55,0.1197,445.14]
[null,null,null,"6.30","Caixa de proteção para atuador BELIMO modelo ZS-CCV-100",1,"serv",1930.81,1930.81,0.1197,2161.9299999999998]
[null,null,null,"6.31","Chave de fluxo CIBRACON modelo IMP-23P, pressão 10kgf/cm² -220 v",1,"serv",127.85,127.85,0.1197,143.15]
[null,null,null,"6.32","Chave de fluxo para água REVETERM modelo CFP-92",1,"serv",138.27000000000001,138.27000000000001,0.1197,154.82]
[null,null,null,"6.33","Controlador de temperatura e umidade FULLGAUGE MT-530E",1,"serv",1013.95,1013.95,0.1197,1135.32]
[null,null,null,"6.34","Controlador de temperatura FULL GAUGE TC-900Ri,  220V",1,"serv",278.66000000000003,278.66000000000003,0.1197,312.02]
[null,null,null,"6.35","Controlador de temperatura FULLGAUGE MT-518RI/13 duplo estágio",1,"serv",375.52,375.52,0.1197,420.47]
[null,null,null,"6.36","Controlador de temperatura FULLGAUGE TIC-17RGTi ",1,"serv",223.92,223.92,0.1197,250.72]
[null,null,null,"6.41","Fonte de alimentação ATX 12v de 200w, modelo PL 200RNF00",1,"serv",155.86000000000001,155.86000000000001,0.1197,174.52]
[null,null,null,"6.43","Pressostato alta automático DANFOSS KP5",1,"serv",338.11,338.11,0.1197,378.58]
[null,null,null,"6.44","Pressostato alta manual DANFOSS KP5",1,"serv",312.27999999999997,312.27999999999997,0.1197,349.66]
[null,null,null,"6.45","Pressostato alta/baixa automático DANFOSS KP15",1,"serv",528.44000000000005,528.44000000000005,0.1197,591.69000000000005]
[null,null,null,"6.46","Pressostato alta/baixa manual DANFOSS KP15",1,"serv",602.76,602.76,0.1197,674.91]
[null,null,null,"6.47","Pressostato baixa automático DANFOSS KP1",1,"serv",267.88,267.88,0.1197,299.95]
[null,null,null,"6.48","Pressostato baixa manual DANFOSS KP1",1,"serv",364.56,364.56,0.1197,408.2]
[null,null,null,"6.49","Pressostato para pressão diferencial HONEYWELL DPS 1000",1,"serv",881.69,881.69,0.1197,987.23]
[null,null,null,"6.50","Pressostato para pressão diferencial HONEYWELL DPS 200",1,"serv",912.15,912.15,0.1197,1021.33]
[null,null,null,"6.51","Pressostato para pressão diferencial HONEYWELL DPS 400",1,"serv",712.83,712.83,0.1197,798.16]
[null,null,null,"6.52","Sensor de temperatura 1 K OHM JOHNSON CONTROLS TE-6000",1,"serv",598.72,598.72,0.1197,670.39]
[null,null,null,"6.53","Sensor de temperatura 1 K OHM JOHNSON CONTROLS TE-6300",1,"serv",687.68,687.68,0.1197,770]
[null,null,null,"6.54","Sensor de vazão para água com sinal 4-20 mA - KELE 220BR000512 + 310-00",1,"serv",15003.84,15003.84,0.1197,16799.8]
[null,null,null,"6.55","Sensor NTC FULLGAUGE SB19",1,"serv",41.21,41.21,0.1197,46.14]
[null,null,null,"6.56","Sensor NTC FULLGAUGE SB41",1,"serv",37.200000000000003,37.200000000000003,0.1197,{"$f":"ROUND(I175*(1+J175),2)","v":41.65}]
[null,null,null,"6.57","Sensor NTC FULLGAUGE SB56",1,"serv",464.45,464.45,0.1197,520.04]
[null,null,null,"6.58","Sensor NTC FULLGAUGE SB59",1,"serv",86.01,86.01,0.1197,96.31]
[null,null,null,"6.59","Termômetro portátil FULLGAUGE Penta III",1,"serv",717.26,717.26,0.1197,803.12]
[null,null,null,"6.60","Termostato ambiente com display, ação floating/proporcional, SLIC GS7.07.S",1,"serv",482.28,482.28,0.1197,540.01]
[null,null,null,"6.61","Termostato ambiente HONEYWELL T6360, 220 V, ON/OFF",1,"serv",167.5,167.5,0.1197,187.55]
[null,null,null,"6.62","Termostato DANFOSS UT 72",1,"serv",195.55,195.55,0.1197,218.96]
[null,null,null,"6.63","Termostato de segurança ACTUA CONTROLS LS1, limite ajustável de 0 a 90° C",1,"serv",159.65,159.65,0.1197,178.76]
[null,null,null,"6.64","Termostato digital HONEYWELL T6861V2WB-M, 220 V, ON/OFF",1,"serv",606.97,606.97,0.1197,679.62]
[null,null,null,"6.65","Termostato eletrônico BELIMO EXT-CF24, 24 V, 50-60 Hz, 10%, ON/OFF",1,"serv",898.13,898.13,0.1197,1005.64]
[null,null,null,"6.66","Termostato eletrônico BELIMO EXT-RCF-24, 24 V, 50-60 Hz, 10%, FLOATING",1,"serv",1363.69,1363.69,0.1197,1526.92]
[null,null,null,"6.67","Termostato eletrônico BELIMO EXT-RCP-24, 24 V, 50-60 Hz, 10%, PROPORCIONAL",1,"serv",1103.05,1103.05,0.1197,1235.0899999999999]
[null,null,null,"6.68","Termostato HONEYWELL T6374C1004, de duplo estágio ",1,"serv",468.59,468.59,0.1197,524.67999999999995]
[null,null,null,"6.69","Transformador 220/24 V, potência 10,8 VA",1,"serv",63.33,63.33,0.1197,70.91]
[null,null,null,"6.70","Transmissor de nível tipo boia magnética NIVETEC 600-304-EX",1,"serv",639.66999999999996,639.66999999999996,0.1197,716.24]
[null,null,null,"6.71","Tubo capilar para pressostato com porca de 1/4 GT900",1,"serv",39.31,39.31,{"$f":"J189","v":0.1197},44.02]
[null,null,null,"6.72","Controlador de temperatura digital proporcional (24v) 3 velocidades OXY T65HA24",1,"serv",549.26,549.26,0.1197,615.01]
[null,null,null,"6.73","Atuador proporcional DANFOSS AME 140 24v 200N",1,"serv",691.82,691.82,0.1197,774.63]
[null,null,null,"6.74","Atuador proporcional DANFOSS AME 110 24v 130N",1,"serv",699.51,699.51,0.1197,783.24]
[null,null,null,"6.75","Atuador térmico DANFOSS TWA-Q 230V ON/OFF",1,"serv",232.98,232.98,0.1197,260.87]
[null,null,null,5,"SERVIÇOS DE INSTALAÇÃO DE VÁLVULAS E REGISTROS, incluindo a aplicação dos seguintes insumos (*Ver. Obs. 1)"]
[null,null,null,"7.1","Registro tipo esfera bruto DECA 1\"",1,"serv",95.78,95.78,{"$f":"J194","v":0.1197},107.24]
[null,null,null,"7.2","Registro tipo esfera bruto DECA 1.1/2\"",1,"serv",167.71,167.71,{"$f":"J196","v":0.1197},187.78]
[null,null,null,"7.3","Registro tipo esfera bruto DECA 1.1/4\"",1,"serv",146.22999999999999,146.22999999999999,0.1197,163.72999999999999]
[null,null,null,"7.4","Registro tipo esfera bruto DECA 1/2\"",1,"serv",56.95,56.95,0.1197,63.77]
[null,null,null,"7.5","Registro tipo esfera bruto DECA 2\"",1,"serv",258.19,258.19,0.1197,289.10000000000002]
[null,null,null,"7.6","Registro tipo esfera bruto DECA 2.1/2\"",1,"serv",681.53,681.53,0.1197,763.11]
[null,null,null,"7.7","Registro tipo esfera bruto DECA 3\"",1,"serv",970.25,{"$f":"F202*H202","v":970.25},0.1197,1086.3900000000001]
[null,null,null,"7.8","Registro tipo esfera bruto DECA 3/4\"",1,"serv",67.52,67.52,0.1197,75.599999999999994]
[null,null,null,"7.9","Registro tipo esfera bruto DECA 4\"",1,"serv",2264.42,2264.42,0.1197,2535.4699999999998]
[null,null,null,"7.10","Registro tipo gaveta bruto DECA 1\"",1,"serv",61.4,61.4,0.1197,68.75]
[null,null,null,"7.11","Registro tipo gaveta bruto DECA 1.1/2\"",1,"serv",105.65,105.65,0.1197,118.3]
[null,null,null,"7.12","Registro tipo gaveta bruto DECA 1.1/4\"",1,"serv",83.68,83.68,0.1197,93.7]
[null,null,null,"7.13","Registro tipo gaveta bruto DECA 1/2\"",1,"serv",36.880000000000003,36.880000000000003,0.1197,41.29]
[null,null,null,"7.14","Registro tipo gaveta bruto DECA 2\"",1,"serv",147.15,147.15,0.1197,164.76]
[null,null,null,"7.15","Registro tipo gaveta bruto DECA 2.1/2\"",1,"serv",305.18,305.18,0.1197,341.71]
[null,null,null,"7.16","Registro tipo gaveta bruto DECA 3\"",1,"serv",369.48,369.48,0.1197,413.71]
[null,null,null,"7.17","Registro tipo gaveta bruto DECA 3/4\"",1,"serv",38.9,38.9,0.1197,43.56]
[null,null,null,"7.18","Registro tipo gaveta bruto DECA 4\"",1,"serv",769.86,769.86,0.1197,862.01]
[null,null,null,"7.19","Válvula borboleta em ferro fundido flangeada, 125 lbs, diâmetro 10\", com caixa redutora",1,"serv",3558.03,3558.03,0.1197,3983.93]
[null,null,null,"7.20","Válvula borboleta em ferro fundido flangeada, 125 lbs, diâmetro 12\", com caixa redutora",1,"serv",4509.62,4509.62,0.1197,5049.42]
[null,null,null,"7.21","Válvula borboleta em ferro fundido flangeada, 125 lbs, diâmetro 14\", com caixa redutora",1,"serv",12083.17,12083.17,0.1197,13529.53]
[null,null,null,"7.22","Válvula borboleta em ferro fundido flangeada, 125 lbs, diâmetro 2\", com caixa redutora",1,"serv",946.67,946.67,0.1197,1059.99]
[null,null,null,"7.23","Válvula borboleta em ferro fundido flangeada, 125 lbs, diâmetro 2.1/2\", com caixa redutora",1,"serv",946.67,946.67,0.1197,1059.99]
[null,null,null,"7.24","Válvula borboleta em ferro fundido flangeada, 125 lbs, diâmetro 3\", com caixa redutora",1,"serv",1276.67,1276.67,0.1197,1429.49]
[null,null,null,"7.25","Válvula borboleta em ferro fundido flangeada, 125 lbs, diâmetro 4\", com caixa redutora",1,"serv",1066.67,1066.67,0.1197,1194.3499999999999]
[null,null,null,"7.26","Válvula borboleta em ferro fundido flangeada, 125 lbs, diâmetro 5\", com caixa redutora",1,"serv",1643.33,1643.33,0.1197,1840.04]
[null,null,null,"7.27","Válvula borboleta em ferro fundido flangeada, 125 lbs, diâmetro 6\", com caixa redutora",1,"serv",1643.33,1643.33,0.1197,1840.04]
[null,null,null,"7.28","Válvula borboleta em ferro fundido flangeada, 125 lbs, diâmetro 8\", com caixa redutora",1,"serv",2203.33,2203.33,0.1197,2467.0700000000002]
[null,null,null,"7.29","Válvula de balanceamento flangeada TA HYDRONICS STAF DN 100",1,"serv",7366.9,7366.9,0.1197,8248.7199999999993]
[null,null,null,"7.30","Válvula de balanceamento flangeada TA HYDRONICS STAF DN 125",1,"serv",10721.9,10721.9,0.1197,12005.31]
[null,null,null,"7.31","Válvula de balanceamento flangeada TA HYDRONICS STAF DN 150",1,"serv",9793.0300000000007,9793.0300000000007,0.1197,10965.26]
[null,null,null,"7.32","Válvula de balanceamento flangeada TA HYDRONICS STAF DN 200",1,"serv",25186.9,25186.9,0.1197,28201.77]
[null,null,null,"7.33","Válvula de balanceamento flangeada TA HYDRONICS STAF DN 250",1,"serv",43837.9,43837.9,0.1197,49085.3]
[null,null,null,"7.34","Válvula de balanceamento flangeada TA HYDRONICS STAF DN 300",1,"serv",43837.9,43837.9,0.1197,49085.3]
[null,null,null,"7.35","Válvula de balanceamento flangeada TA HYDRONICS STAF DN 350",1,"serv",43837.9,43837.9,0.1197,49085.3]
[null,null,null,"7.36","Válvula de balanceamento flangeada TA HYDRONICS STAF DN 80",1,"serv",2534.5100000000002,2534.5100000000002,0.1197,2837.89]
[null,null,null,"7.37","Válvula de balanceamento TA HYDRONICS STAD DN 20",1,"serv",487.49,487.49,0.1197,545.84]
[null,null,null,"7.38","Válvula de balanceamento TA HYDRONICS STAD DN 25",1,"serv",564.09,564.09,0.1197,631.61]
[null,null,null,"7.39","Válvula de balanceamento TA HYDRONICS STAD DN 32",1,"serv",761.53,761.53,0.1197,852.69]
[null,null,null,"7.40","Válvula de balanceamento TA HYDRONICS STAD DN 40",1,"serv",908.97,908.97,0.1197,1017.77]
[null,null,null,"7.41","Válvula de balanceamento TA HYDRONICS STAD DN 50",1,"serv",1076.55,1076.55,0.1197,1205.4100000000001]
[null,null,null,"7.42","Válvula de controle 2 vias BELIMO de 1\"  B223",1,"serv",970.58,970.58,0.1197,1086.76]
[null,null,null,"7.43","Válvula de controle 2 vias BELIMO de 1.1/2\"  B238",1,"serv",970.48,970.48,0.1197,1086.6500000000001]
[null,null,null,"7.44","Válvula de controle 2 vias BELIMO de 1.1/4\"  B229",1,"serv",846.76,846.76,0.1197,{"$f":"ROUND(I239*(1+J239),2)","v":948.12}]
[null,null,null,"7.45","Válvula de controle 2 vias BELIMO de 1/2\"  B213",1,"serv",612.01,612.01,0.1197,685.27]
[null,null,null,"7.46","Válvula de controle 2 vias BELIMO de 2\"  B249",1,"serv",1655.43,1655.43,0.1197,1853.58]
[null,null,null,"7.47","Válvula de controle 2 vias BELIMO de 2.1/2\"  B261",1,"serv",4686.3500000000004,4686.3500000000004,0.1197,5247.31]
[null,null,null,"7.48","Válvula de controle 2 vias BELIMO de 3\"  B277",1,"serv",5799.37,5799.37,0.1197,6493.55]
[null,null,null,"7.49","Válvula de controle 2 vias BELIMO de 3\" com flange B677",1,"serv",4314.1000000000004,4314.1000000000004,0.1197,4830.5]
[null,null,null,"7.50","Válvula de controle 2 vias BELIMO de 3/4\"  B217",1,"serv",962.14,962.14,0.1197,1077.31]
[null,null,null,"7.51","Válvula de controle 2 vias HONEYWELL de 1\" VCZAP1000, para controle on/off",1,"serv",825.55,825.55,0.1197,924.37]
[null,null,null,"7.52","Válvula de controle 2 vias HONEYWELL de 1\" VCZAP1100, para controle proporcional",1,"serv",825.55,825.55,0.1197,924.37]
[null,null,null,"7.53","Válvula de controle 2 vias HONEYWELL de 1/2\" VCZAF1000, para controle on/off",1,"serv",472.05,472.05,0.1197,528.54999999999995]
[null,null,null,"7.54","Válvula de controle 2 vias HONEYWELL de 1/2\" VCZAF1100, para controle proporcional",1,"serv",472.05,472.05,0.1197,528.54999999999995]
[null,null,null,"7.55","Válvula de controle 2 vias HONEYWELL de 3/4\" VCZAJ1000, para controle on/off",1,"serv",639.57000000000005,639.57000000000005,0.1197,716.13]
[null,null,null,"7.56","Válvula de controle 2 vias HONEYWELL de 3/4\" VCZAJ1100, para controle proporcional",1,"serv",639.57000000000005,639.57000000000005,0.1197,716.13]
[null,null,null,"7.57","Válvula de controle 3 vias BELIMO de 1\"  B322",1,"serv",2372.02,2372.02,0.1197,2655.95]
[null,null,null,"7.58","Válvula de controle 3 vias BELIMO de 1.1/4\"  B329",1,"serv",3087.84,3087.84,0.1197,3457.45]
[null,null,null,"7.59","Válvula de controle 3 vias BELIMO de 3/4\"  B317",1,"serv",2294.8000000000002,2294.8000000000002,0.1197,2569.4899999999998]
[null,null,null,"7.60","Válvula de controle e balanceamento 2 vias TA HYDRONICS TBV-C DN 20",1,"serv",590.91,590.91,0.1197,661.64]
[null,null,null,"7.61","Válvula de controle e balanceamento 2 vias TA HYDRONICS TBV-C DN 25",1,"serv",647.14,647.14,0.1197,724.6]
[null,null,null,"7.62","Válvula esfera tripartida de 1\" com rosca BSP, 1000 psi, passagem plena, vedação em PTFE, MGA VETS1000",1,"serv",194.15,194.15,0.1197,217.39]
[null,null,null,"7.63","Válvula esfera tripartida de 1.1/2\" com rosca BSP, 1000 psi, passagem plena, vedação em PTFE, MGA VETS1000",1,"serv",359.09,359.09,0.1197,402.07]
[null,null,null,"7.64","Válvula esfera tripartida de 1.1/4\" com rosca BSP, 1000 psi, passagem plena, vedação em PTFE, MGA VETS1000",1,"serv",308.76,308.76,0.1197,345.72]
[null,null,null,"7.65","Válvula esfera tripartida de 2\" com rosca BSP, 1000 psi, passagem plena, vedação em PTFE, MGA VETS1000",1,"serv",520.6,520.6,0.1197,582.91999999999996]
[null,null,null,"7.66","Válvula esfera tripartida de 2.1/2\" com rosca BSP, 1000 psi, passagem plena, vedação em PTFE, MGA VETS1000",1,"serv",772.81,772.81,{"$f":"J260","v":0.1197},865.32]
[null,null,null,"7.67","Válvula esfera tripartida de 3\" com rosca BSP, 1000 psi, passagem plena, vedação em PTFE, MGA VETS1000",1,"serv",1208.08,1208.08,0.1197,1352.69]
[null,null,null,"7.68","Válvula esfera tripartida de 3/4\" com rosca BSP, 1000 psi, passagem plena, vedação em PTFE, MGA VETS1000",1,"serv",127.33,127.33,0.1197,142.57]
[null,null,null,"7.69","Válvula esfera tripartida de 4\" com rosca BSP, 1000 psi, passagem plena, vedação em PTFE, MGA VETS1000",1,"serv",1333.68,1333.68,0.1197,1493.32]
[null,null,null,"7.70","Válvula gaveta em ferro fundido flangeada, 150 lbs, com haste fixa, diâmetro 10\"",1,"serv",7254.9,7254.9,0.1197,8123.31]
[null,null,null,"7.71","Válvula gaveta em ferro fundido flangeada, 150 lbs, com haste fixa, diâmetro 12\"",1,"serv",10960,{"$f":"F266*H266","v":10960},0.1197,12271.91]
[null,null,null,"7.72","Válvula gaveta em ferro fundido flangeada, 150 lbs, com haste fixa, diâmetro 14\"",1,"serv",14165.51,14165.51,0.1197,15861.12]
[null,null,null,"7.73","Válvula gaveta em ferro fundido flangeada, 150 lbs, com haste fixa, diâmetro 2\"",1,"serv",1464.95,1464.95,0.1197,1640.3]
[null,null,null,"7.74","Válvula gaveta em ferro fundido flangeada, 150 lbs, com haste fixa, diâmetro 2.1/2\"",1,"serv",1945.61,1945.61,0.1197,2178.5]
[null,null,null,"7.75","Válvula gaveta em ferro fundido flangeada, 150 lbs, com haste fixa, diâmetro 3\"",1,"serv",2095.1,2095.1,0.1197,2345.88]
[null,null,null,"7.76","Válvula gaveta em ferro fundido flangeada, 150 lbs, com haste fixa, diâmetro 4\"",1,"serv",4662.78,4662.78,0.1197,5220.91]
[null,null,null,"7.77","Válvula gaveta em ferro fundido flangeada, 150 lbs, com haste fixa, diâmetro 5\"",1,"serv",4861.71,4861.71,0.1197,5443.66]
[null,null,null,"7.78","Válvula gaveta em ferro fundido flangeada, 150 lbs, com haste fixa, diâmetro 6\"",1,"serv",6087.85,6087.85,0.1197,6816.57]
[null,null,null,"7.79","Válvula gaveta em ferro fundido flangeada, 150 lbs, com haste fixa, diâmetro 8\"",1,"serv",6970.41,6970.41,0.1197,7804.77]
[null,null,null,"7.80","Válvula retenção tipo portinhola em ferro fundido flangeada de 10\", 125 lbs",1,"serv",4463.7,4463.7,0.1197,4998]
[null,null,null,"7.81","Válvula retenção tipo portinhola em ferro fundido flangeada de 12\", 125 lbs",1,"serv",6900,6900,0.1197,7725.93]
[null,null,null,"7.82","Válvula retenção tipo portinhola em ferro fundido flangeada de 14\", 125 lbs",1,"serv",6900,6900,0.1197,7725.93]
[null,null,null,"7.83","Válvula retenção tipo portinhola em ferro fundido flangeada de 2\", 125 lbs",1,"serv",1156.5999999999999,1156.5999999999999,0.1197,1295.05]
[null,null,null,"7.84","Válvula retenção tipo portinhola em ferro fundido flangeada de 2.1/2\", 125 lbs",1,"serv",1156.5999999999999,1156.5999999999999,0.1197,1295.05]
[null,null,null,"7.85","Válvula retenção tipo portinhola em ferro fundido flangeada de 3\", 125 lbs",1,"serv",1156.5999999999999,1156.5999999999999,0.1197,1295.05]
[null,null,null,"7.86","Válvula retenção tipo portinhola em ferro fundido flangeada de 4\", 125 lbs",1,"serv",1156.5999999999999,1156.5999999999999,0.1197,1295.05]
[null,null,null,"7.87","Válvula retenção tipo portinhola em ferro fundido flangeada de 5\", 125 lbs",1,"serv",2774.63,2774.63,0.1197,3106.75]
[null,null,null,"7.88","Válvula retenção tipo portinhola em ferro fundido flangeada de 6\", 125 lbs",1,"serv",2774.63,2774.63,0.1197,3106.75]
[null,null,null,"7.89","Válvula retenção tipo portinhola em ferro fundido flangeada de 8\", 125 lbs",1,"serv",4033.73,4033.73,0.1197,4516.57]
[null,null,null,"7.90","Válvula de controle e balanceamento DANFOSS AB-QM DN 25, com tomada de pressão e uniões",1,"serv",892.45,892.45,0.1197,999.28]
[null,null,null,"7.91","Válvula de controle e balanceamento DANFOSS AB-QM DN 20, com tomada de pressão e uniões",1,"serv",892.45,892.45,0.1197,999.28]
[null,null,null,"7.92","Válvula de controle e balanceamento DANFOSS PIBCV AB-QM DN 20 HF, com tomada de pressão e uniões",1,"serv",1020.9,1020.9,0.1197,1143.0999999999999]
[null,null,null,"7.93","Válvula de controle e balanceamento DANFOSS PIBCV AB-QM DN 25 HF, com tomada de pressão e uniões",1,"serv",1168.54,1168.54,0.1197,1308.4100000000001]
[null,null,null,6,"SERVIÇOS DE INSTALAÇÃO DE TUBOS E CONEXÕES EM AÇO GALVANIZADO, incluindo a aplicação dos seguintes insumos (*Ver. Obs. 1)"]
[null,null,null,"8.1","Bucha de redução em aço galvanizado de 1\" x 1/2\" BSP TUPY",1,"serv",11.17,11.17,{"$f":"J288","v":0.1197},12.51]
[null,null,null,"8.2","Bucha de redução em aço galvanizado de 1\" x 3/4\" BSP TUPY",1,"serv",11.17,11.17,{"$f":"J290","v":0.1197},12.51]
[null,null,null,"8.3","Bucha de redução em aço galvanizado de 1\" x 3/8\" BSP TUPY",1,"serv",13.51,13.51,0.1197,15.13]
[null,null,null,"8.4","Bucha de redução em aço galvanizado de 1.1/2\" x 1\" BSP TUPY",1,"serv",23.11,23.11,0.1197,25.88]
[null,null,null,"8.5","Bucha de redução em aço galvanizado de 1.1/2\" x 1.1/4\" BSP TUPY",1,"serv",23.11,23.11,0.1197,25.88]
[null,null,null,"8.6","Bucha de redução em aço galvanizado de 1.1/2\" x 1/2\" BSP TUPY",1,"serv",23.11,23.11,0.1197,25.88]
[null,null,null,"8.7","Bucha de redução em aço galvanizado de 1.1/2\" x 3/4\" BSP TUPY",1,"serv",23.11,23.11,0.1197,25.88]
[null,null,null,"8.8","Bucha de redução em aço galvanizado de 1.1/4\" x 1\" BSP TUPY",1,"serv",17.760000000000002,17.760000000000002,0.1197,19.89]
[null,null,null,"8.9","Bucha de redução em aço galvanizado de 1.1/4\" x 1/2\" BSP TUPY",1,"serv",18.149999999999999,18.149999999999999,0.1197,20.32]
[null,null,null,"8.10","Bucha de redução em aço galvanizado de 1.1/4\" x 3/4\" BSP TUPY",1,"serv",18.149999999999999,18.149999999999999,0.1197,20.32]
[null,null,null,"8.11","Bucha de redução em aço galvanizado de 1/2\" x 1/4\" BSP TUPY",1,"serv",6.4,6.4,0.1197,7.17]
[null,null,null,"8.12","Bucha de redução em aço galvanizado de 1/2\" x 3/8\" BSP TUPY",1,"serv",6.4,6.4,0.1197,7.17]
[null,null,null,"8.13","Bucha de redução em aço galvanizado de 2\" x 1\" BSP TUPY",1,"serv",31.01,31.01,0.1197,34.72]
[null,null,null,"8.14","Bucha de redução em aço galvanizado de 2\" x 1.1/2\" BSP TUPY",1,"serv",31.01,31.01,0.1197,{"$f":"ROUND(I303*(1+J303),2)","v":34.72}]
[null,null,null,"8.15","Bucha de redução em aço galvanizado de 2\" x 1.1/4\" BSP TUPY",1,"serv",31.01,31.01,0.1197,34.72]
[null,null,null,"8.16","Bucha de redução em aço galvanizado de 2\" x 1/2\" BSP TUPY",1,"serv",38.61,38.61,0.1197,43.23]
[null,null,null,"8.17","Bucha de redução em aço galvanizado de 2\" x 3/4\" BSP TUPY",1,"serv",46.95,46.95,0.1197,52.57]
[null,null,null,"8.18","Bucha de redução em aço galvanizado de 2.1/2\" x 1\" BSP TUPY",1,"serv",49.89,49.89,0.1197,55.86]
[null,null,null,"8.19","Bucha de redução em aço galvanizado de 2.1/2\" x 1.1/2\" BSP TUPY",1,"serv",49.89,49.89,0.1197,55.86]
[null,null,null,"8.20","Bucha de redução em aço galvanizado de 2.1/2\" x 1.1/4\" BSP TUPY",1,"serv",49.89,49.89,0.1197,55.86]
[null,null,null,"8.21","Bucha de redução em aço galvanizado de 2.1/2\" x 2\" BSP TUPY",1,"serv",49.89,49.89,0.1197,55.86]
[null,null,null,"8.22","Bucha de redução em aço galvanizado de 3\" x 1.1/2\" BSP TUPY",1,"serv",73.55,73.55,0.1197,82.35]
[null,null,null,"8.23","Bucha de redução em aço galvanizado de 3\" x 2\" BSP TUPY",1,"serv",73.55,73.55,0.1197,82.35]
[null,null,null,"8.24","Bucha de redução em aço galvanizado de 3\" x 2.1/2\" BSP TUPY",1,"serv",71.86,71.86,0.1197,80.459999999999994]
[null,null,null,"8.25","Bucha de redução em aço galvanizado de 3/4\" x 1/2\" BSP TUPY",1,"serv",7.71,7.71,0.1197,8.6300000000000008]
[null,null,null,"8.26","Bucha de redução em aço galvanizado de 3/4\" x 1/4\" BSP TUPY",1,"serv",11.64,11.64,0.1197,13.03]
[null,null,null,"8.27","Bucha de redução em aço galvanizado de 3/4\" x 3/8\" BSP TUPY",1,"serv",12.5,12.5,0.1197,14]
[null,null,null,"8.28","Bucha de redução em aço galvanizado de 3/8\" x 1/4\" BSP TUPY",1,"serv",7.31,7.31,0.1197,8.19]
[null,null,null,"8.29","Bucha de redução em aço galvanizado de 4\" x 2\" BSP TUPY",1,"serv",135.9,135.9,0.1197,152.16999999999999]
[null,null,null,"8.30","Bucha de redução em aço galvanizado de 4\" x 2.1/2\" BSP TUPY",1,"serv",135.9,135.9,0.1197,152.16999999999999]
[null,null,null,"8.31","Bucha de redução em aço galvanizado de 4\" x 3\" BSP TUPY",1,"serv",135.9,135.9,0.1197,152.16999999999999]
[null,null,null,"8.32","Bucha de redução em aço galvanizado de 5\" x 4\" BSP TUPY",1,"serv",371.95,371.95,0.1197,416.47]
[null,null,null,"8.33","Bucha de redução em aço galvanizado de 6\" x 4\" BSP TUPY",1,"serv",393,393,0.1197,440.04]
[null,null,null,"8.34","Bucha de redução em aço galvanizado de 6\" x 5\" BSP TUPY",1,"serv",421.59,421.59,0.1197,472.05]
[null,null,null,"8.35","Bujão (plugue) em aço galvanizado de 1\" BSP TUPY",1,"serv",8.64,8.64,0.1197,9.67]
[null,null,null,"8.36","Bujão (plugue) em aço galvanizado de 1.1/2\" BSP TUPY",1,"serv",15.74,15.74,0.1197,17.62]
[null,null,null,"8.37","Bujão (plugue) em aço galvanizado de 1.1/4\" BSP TUPY",1,"serv",13.5,13.5,0.1197,15.12]
[null,null,null,"8.38","Bujão (plugue) em aço galvanizado de 1/2\" BSP TUPY",1,"serv",4.5999999999999996,4.5999999999999996,0.1197,5.15]
[null,null,null,"8.39","Bujão (plugue) em aço galvanizado de 1/4\" BSP TUPY",1,"serv",3.52,3.52,0.1197,3.94]
[null,null,null,"8.40","Bujão (plugue) em aço galvanizado de 2\" BSP TUPY",1,"serv",23.27,23.27,0.1197,26.06]
[null,null,null,"8.41","Bujão (plugue) em aço galvanizado de 2.1/2\" BSP TUPY",1,"serv",46.54,{"$f":"F330*H330","v":46.54},0.1197,52.11]
[null,null,null,"8.42","Bujão (plugue) em aço galvanizado de 3\" BSP TUPY",1,"serv",65.17,65.17,0.1197,72.97]
[null,null,null,"8.43","Bujão (plugue) em aço galvanizado de 3/4\" BSP TUPY",1,"serv",6.22,6.22,0.1197,6.96]
[null,null,null,"8.44","Bujão (plugue) em aço galvanizado de 3/8\" BSP TUPY",1,"serv",4.5,4.5,0.1197,5.04]
[null,null,null,"8.45","Bujão (plugue) em aço galvanizado de 4\" BSP TUPY",1,"serv",121.12,121.12,0.1197,135.62]
[null,null,null,"8.46","Cotovelo 45° em aço galvanizado de 1\" BSP TUPY",1,"serv",20.13,20.13,0.1197,22.54]
[null,null,null,"8.47","Cotovelo 45° em aço galvanizado de 1.1/2\" BSP TUPY",1,"serv",40.06,40.06,0.1197,44.86]
[null,null,null,"8.48","Cotovelo 45° em aço galvanizado de 1.1/4\" BSP TUPY",1,"serv",32.700000000000003,32.700000000000003,0.1197,36.61]
[null,null,null,"8.49","Cotovelo 45° em aço galvanizado de 1/2\" BSP TUPY",1,"serv",9.23,9.23,0.1197,10.33]
[null,null,null,"8.50","Cotovelo 45° em aço galvanizado de 1/4\" BSP TUPY",1,"serv",9.5299999999999994,9.5299999999999994,0.1197,10.67]
[null,null,null,"8.51","Cotovelo 45° em aço galvanizado de 2\" BSP TUPY",1,"serv",58.25,58.25,0.1197,65.22]
[null,null,null,"8.52","Cotovelo 45° em aço galvanizado de 2.1/2\" BSP TUPY",1,"serv",112.6,112.6,0.1197,126.08]
[null,null,null,"8.53","Cotovelo 45° em aço galvanizado de 3\" BSP TUPY",1,"serv",164.62,164.62,0.1197,184.33]
[null,null,null,"8.54","Cotovelo 45° em aço galvanizado de 3/4\" BSP TUPY",1,"serv",13.8,13.8,0.1197,15.45]
[null,null,null,"8.55","Cotovelo 45° em aço galvanizado de 3/8\" BSP TUPY",1,"serv",12.1,12.1,0.1197,13.55]
[null,null,null,"8.56","Cotovelo 45° em aço galvanizado de 4\" BSP TUPY",1,"serv",288.45,288.45,0.1197,322.98]
[null,null,null,"8.57","Cotovelo 45° em aço galvanizado de 5\" BSP TUPY",1,"serv",454.18,454.18,0.1197,508.55]
[null,null,null,"8.58","Cotovelo 45° em aço galvanizado de 6\" BSP TUPY",1,"serv",580,580,0.1197,649.42999999999995]
[null,null,null,"8.59","Cotovelo 90° em aço galvanizado de 1\" BSP TUPY",1,"serv",17.39,17.39,0.1197,19.47]
[null,null,null,"8.60","Cotovelo 90° em aço galvanizado de 1.1/2\" BSP TUPY",1,"serv",36.299999999999997,36.299999999999997,0.1197,40.65]
[null,null,null,"8.61","Cotovelo 90° em aço galvanizado de 1.1/4\" BSP TUPY",1,"serv",27.25,27.25,0.1197,30.51]
[null,null,null,"8.62","Cotovelo 90° em aço galvanizado de 1/2\" BSP TUPY",1,"serv",7.74,7.74,0.1197,8.67]
[null,null,null,"8.63","Cotovelo 90° em aço galvanizado de 1/4\" BSP TUPY",1,"serv",12.18,12.18,0.1197,13.64]
[null,null,null,"8.64","Cotovelo 90° em aço galvanizado de 2\" BSP TUPY",1,"serv",55.7,55.7,0.1197,62.37]
[null,null,null,"8.65","Cotovelo 90° em aço galvanizado de 2.1/2\" BSP TUPY",1,"serv",101.37,101.37,0.1197,113.5]
[null,null,null,"8.66","Cotovelo 90° em aço galvanizado de 3\" BSP TUPY",1,"serv",142.97999999999999,142.97999999999999,{"$f":"J354","v":0.1197},160.09]
[null,null,null,"8.67","Cotovelo 90° em aço galvanizado de 3/4\" BSP TUPY",1,"serv",11.58,11.58,0.1197,12.97]
[null,null,null,"8.68","Cotovelo 90° em aço galvanizado de 3/8\" BSP TUPY",1,"serv",13.07,13.07,0.1197,14.63]
[null,null,null,"8.69","Cotovelo 90° em aço galvanizado de 4\" BSP TUPY",1,"serv",271.92,271.92,0.1197,304.47000000000003]
[null,null,null,"8.70","Cotovelo 90° em aço galvanizado de 5\" BSP TUPY",1,"serv",396.77,396.77,0.1197,444.26]
[null,null,null,"8.71","Cotovelo 90° em aço galvanizado de 6\" BSP TUPY",1,"serv",1014.11,1014.11,0.1197,1135.5]
[null,null,null,"8.72","Junção tipo Y Tê 45° de 1\" BSP TUPY",1,"serv",55.66,55.66,0.1197,62.32]
[null,null,null,"8.73","Junção tipo Y Tê 45° de 1.1,2\" BSP TUPY",1,"serv",98.32,98.32,0.1197,110.09]
[null,null,null,"8.74","Junção tipo Y Tê 45° de 1.1/4\" BSP TUPY",1,"serv",82.25,82.25,0.1197,92.1]
[null,null,null,"8.75","Junção tipo Y Tê 45° de 2\" BSP TUPY",1,"serv",158.15,158.15,0.1197,177.08]
[null,null,null,"8.76","Junção tipo Y Tê 45° de 3\" BSP TUPY",1,"serv",272.22000000000003,272.22000000000003,0.1197,304.8]
[null,null,null,"8.77","Junção tipo Y Tê 45° de 3/4\" BSP TUPY",1,"serv",29.29,29.29,0.1197,32.799999999999997]
[null,null,null,"8.78","Junta de expansão dupla onda EPDM com rosca BSP 10 kgf/cm² 1\"",1,"serv",166.13,166.13,0.1197,{"$f":"ROUND(I367*(1+J367),2)","v":186.02}]
[null,null,null,"8.79","Junta de expansão dupla onda EPDM com rosca BSP 10 kgf/cm² 1.1/2\"",1,"serv",260.77,260.77,0.1197,291.98]
[null,null,null,"8.80","Junta de expansão dupla onda EPDM com rosca BSP 10 kgf/cm² 1.1/4\"",1,"serv",181.94,181.94,0.1197,203.72]
[null,null,null,"8.81","Junta de expansão dupla onda EPDM com rosca BSP 10 kgf/cm² 2\"",1,"serv",329.06,329.06,0.1197,368.45]
[null,null,null,"8.82","Junta de expansão dupla onda EPDM com rosca BSP 10 kgf/cm² 3/4\"",1,"serv",129.07,129.07,0.1197,144.52000000000001]
[null,null,null,"8.83","Luva de redução em aço galvanizado de 1\" x 1/2\" BSP TUPY",1,"serv",14.79,14.79,0.1197,16.559999999999999]
[null,null,null,"8.84","Luva de redução em aço galvanizado de 1\" x 3/4\" BSP TUPY",1,"serv",15.08,15.08,0.1197,16.89]
[null,null,null,"8.85","Luva de redução em aço galvanizado de 1\" x 3/8\" BSP TUPY",1,"serv",14.91,14.91,0.1197,16.690000000000001]
[null,null,null,"8.86","Luva de redução em aço galvanizado de 1.1/2\" x 1\" BSP TUPY",1,"serv",27.2,27.2,0.1197,30.46]
[null,null,null,"8.87","Luva de redução em aço galvanizado de 1.1/2\" x 1.1/4\" BSP TUPY",1,"serv",27.2,27.2,0.1197,30.46]
[null,null,null,"8.88","Luva de redução em aço galvanizado de 1.1/2\" x 1/2\" BSP TUPY",1,"serv",25.02,25.02,0.1197,28.01]
[null,null,null,"8.89","Luva de redução em aço galvanizado de 1.1/2\" x 3/4\" BSP TUPY",1,"serv",27.2,27.2,0.1197,30.46]
[null,null,null,"8.90","Luva de redução em aço galvanizado de 1.1/4\" x 1\" BSP TUPY",1,"serv",22.45,22.45,0.1197,25.14]
[null,null,null,"8.91","Luva de redução em aço galvanizado de 1.1/4\" x 1/2\" BSP TUPY",1,"serv",22.44,22.44,0.1197,25.13]
[null,null,null,"8.92","Luva de redução em aço galvanizado de 1.1/4\" x 3/4\" BSP TUPY",1,"serv",22.44,22.44,0.1197,25.13]
[null,null,null,"8.93","Luva de redução em aço galvanizado de 1/2\" x 1/4\" BSP TUPY",1,"serv",10.57,10.57,0.1197,11.84]
[null,null,null,"8.94","Luva de redução em aço galvanizado de 1/2\" x 3/8\" BSP TUPY",1,"serv",10.16,10.16,0.1197,11.38]
[null,null,null,"8.95","Luva de redução em aço galvanizado de 2\" x 1\" BSP TUPY",1,"serv",43.54,43.54,0.1197,48.75]
[null,null,null,"8.96","Luva de redução em aço galvanizado de 2\" x 1.1/2\" BSP TUPY",1,"serv",43.54,43.54,0.1197,48.75]
[null,null,null,"8.97","Luva de redução em aço galvanizado de 2\" x 1.1/4\" BSP TUPY",1,"serv",43.5,43.5,0.1197,48.71]
[null,null,null,"8.98","Luva de redução em aço galvanizado de 2\" x 1/2\" BSP TUPY",1,"serv",36.479999999999997,36.479999999999997,0.1197,40.85]
[null,null,null,"8.99","Luva de redução em aço galvanizado de 2\" x 3/4\" BSP TUPY",1,"serv",25.52,25.52,0.1197,28.57]
[null,null,null,8100,"Luva de redução em aço galvanizado de 2.1/2\" x 1\" BSP TUPY",1,"serv",44.31,44.31,0.1197,49.61]
[null,null,null,8101,"Luva de redução em aço galvanizado de 2.1/2\" x 1.1/2\" BSP TUPY",1,"serv",64.69,64.69,0.1197,72.430000000000007]
[null,null,null,8102,"Luva de redução em aço galvanizado de 2.1/2\" x 1.1/4\" BSP TUPY",1,"serv",63.13,63.13,0.1197,70.69]
[null,null,null,8103,"Luva de redução em aço galvanizado de 2.1/2\" x 2\" BSP TUPY",1,"serv",76.38,76.38,0.1197,85.52]
[null,null,null,8104,"Luva de redução em aço galvanizado de 3\" x 1.1/2\" BSP TUPY",1,"serv",116.37,116.37,0.1197,130.30000000000001]
[null,null,null,8105,"Luva de redução em aço galvanizado de 3\" x 2\" BSP TUPY",1,"serv",116.37,{"$f":"F394*H394","v":116.37},0.1197,130.30000000000001]
[null,null,null,8106,"Luva de redução em aço galvanizado de 3\" x 2.1/2\" BSP TUPY",1,"serv",116.37,116.37,0.1197,130.30000000000001]
[null,null,null,8107,"Luva de redução em aço galvanizado de 3/4\" x 1/2\" BSP TUPY",1,"serv",10.69,10.69,0.1197,11.97]
[null,null,null,8108,"Luva de redução em aço galvanizado de 3/4\" x 1/4\" BSP TUPY",1,"serv",7.68,7.68,0.1197,8.6]
[null,null,null,8109,"Luva de redução em aço galvanizado de 3/4\" x 3/8\" BSP TUPY",1,"serv",8.18,8.18,0.1197,9.16]
[null,null,null,8110,"Luva de redução em aço galvanizado de 3/8\" x 1/4\" BSP TUPY",1,"serv",6.18,6.18,0.1197,6.92]
[null,null,null,8111,"Luva de redução em aço galvanizado de 4\" x 2\" BSP TUPY",1,"serv",200.94,200.94,0.1197,224.99]
[null,null,null,8112,"Luva de redução em aço galvanizado de 4\" x 2.1/2\" BSP TUPY",1,"serv",200.94,200.94,0.1197,224.99]
[null,null,null,8113,"Luva de redução em aço galvanizado de 4\" x 3\" BSP TUPY",1,"serv",200.94,200.94,0.1197,224.99]
[null,null,null,8114,"Luva em aço galvanizado de 1\" BSP TUPY",1,"serv",14.96,14.96,0.1197,16.75]
[null,null,null,8115,"Luva em aço galvanizado de 1.1/2\" BSP TUPY",1,"serv",25.6,25.6,0.1197,28.66]
[null,null,null,8116,"Luva em aço galvanizado de 1.1/4\" BSP TUPY",1,"serv",20.92,20.92,0.1197,23.42]
[null,null,null,8117,"Luva em aço galvanizado de 1/2\" BSP TUPY",1,"serv",6.76,6.76,0.1197,7.57]
[null,null,null,8118,"Luva em aço galvanizado de 1/4\" BSP TUPY",1,"serv",5.99,5.99,0.1197,6.71]
[null,null,null,8119,"Luva em aço galvanizado de 2\" BSP TUPY",1,"serv",39.21,39.21,0.1197,43.9]
[null,null,null,8120,"Luva em aço galvanizado de 2.1/2\" BSP TUPY",1,"serv",71.53,71.53,0.1197,80.09]
[null,null,null,8121,"Luva em aço galvanizado de 3\" BSP TUPY",1,"serv",107.91,107.91,0.1197,120.83]
[null,null,null,8122,"Luva em aço galvanizado de 3/4\" BSP TUPY",1,"serv",9.1999999999999993,9.1999999999999993,0.1197,10.3]
[null,null,null,8123,"Luva em aço galvanizado de 3/8\" BSP TUPY",1,"serv",5.59,5.59,0.1197,6.26]
[null,null,null,8124,"Luva em aço galvanizado de 4\" BSP TUPY",1,"serv",170.17,170.17,0.1197,190.54]
[null,null,null,8125,"Luva em aço galvanizado de 5\" BSP TUPY",1,"serv",310.02,310.02,0.1197,347.13]
[null,null,null,8126,"Luva em aço galvanizado de 6\" BSP TUPY",1,"serv",511.33,511.33,0.1197,572.54]
[null,null,null,8127,"Niple duplo em aço galvanizado de 1\" BSP TUPY",1,"serv",12.9,12.9,0.1197,14.44]
[null,null,null,8128,"Niple duplo em aço galvanizado de 1.1/2\" BSP TUPY",1,"serv",25.23,25.23,0.1197,28.25]
[null,null,null,8129,"Niple duplo em aço galvanizado de 1.1/4\" BSP TUPY",1,"serv",18.989999999999998,18.989999999999998,0.1197,21.26]
[null,null,null,8130,"Niple duplo em aço galvanizado de 1/2\" BSP TUPY",1,"serv",6.3,6.3,{"$f":"J418","v":0.1197},7.05]
[null,null,null,8131,"Niple duplo em aço galvanizado de 1/4\" BSP TUPY",1,"serv",7.33,7.33,0.1197,8.2100000000000009]
[null,null,null,8132,"Niple duplo em aço galvanizado de 2\" BSP TUPY",1,"serv",39.24,39.24,0.1197,43.94]
[null,null,null,8133,"Niple duplo em aço galvanizado de 2.1/2\" BSP TUPY",1,"serv",60.06,60.06,0.1197,67.25]
[null,null,null,8134,"Niple duplo em aço galvanizado de 3\" BSP TUPY",1,"serv",97.7,97.7,0.1197,109.39]
[null,null,null,8135,"Niple duplo em aço galvanizado de 3/4\" BSP TUPY",1,"serv",8.74,8.74,0.1197,9.7899999999999991]
[null,null,null,8136,"Niple duplo em aço galvanizado de 3/8\" BSP TUPY",1,"serv",8.58,8.58,0.1197,9.61]
[null,null,null,8137,"Niple duplo em aço galvanizado de 4\" BSP TUPY",1,"serv",157.29,157.29,0.1197,176.12]
[null,null,null,8138,"Niple duplo em aço galvanizado de 5\" BSP TUPY",1,"serv",347.21,347.21,0.1197,388.77]
[null,null,null,8139,"Niple duplo em aço galvanizado de 6\" BSP TUPY",1,"serv",576.91,576.91,0.1197,645.97]
[null,null,null,8140,"Tampão (CAP) em aço galvanizado de 1\" BSP TUPY",1,"serv",11.37,11.37,0.1197,12.73]
[null,null,null,8141,"Tampão (CAP) em aço galvanizado de 1.1/2\" BSP TUPY",1,"serv",21.42,21.42,0.1197,23.98]
[null,null,null,8142,"Tampão (CAP) em aço galvanizado de 1.1/4\" BSP TUPY",1,"serv",17.350000000000001,17.350000000000001,0.1197,{"$f":"ROUND(I431*(1+J431),2)","v":19.43}]
[null,null,null,8143,"Tampão (CAP) em aço galvanizado de 1/2\" BSP TUPY",1,"serv",6.03,6.03,0.1197,6.75]
[null,null,null,8144,"Tampão (CAP) em aço galvanizado de 1/4\" BSP TUPY",1,"serv",5.86,5.86,0.1197,6.56]
[null,null,null,8145,"Tampão (CAP) em aço galvanizado de 2\" BSP TUPY",1,"serv",30.94,30.94,0.1197,34.64]
[null,null,null,8146,"Tampão (CAP) em aço galvanizado de 2.1/2\" BSP TUPY",1,"serv",55.8,55.8,0.1197,62.48]
[null,null,null,8147,"Tampão (CAP) em aço galvanizado de 3\" BSP TUPY",1,"serv",79.55,79.55,0.1197,89.07]
[null,null,null,8148,"Tampão (CAP) em aço galvanizado de 3/4\" BSP TUPY",1,"serv",7.8,7.8,0.1197,8.73]
[null,null,null,8149,"Tampão (CAP) em aço galvanizado de 3/8\" BSP TUPY",1,"serv",5.86,5.86,0.1197,6.56]
[null,null,null,8150,"Tampão (CAP) em aço galvanizado de 4\" BSP TUPY",1,"serv",133.06,133.06,0.1197,148.99]
[null,null,null,8151,"Tê em aço galvanizado de 1\" BSP TUPY",1,"serv",24.11,24.11,0.1197,27]
[null,null,null,8152,"Tê em aço galvanizado de 1.1/2\" BSP TUPY",1,"serv",46.75,46.75,0.1197,52.35]
[null,null,null,8153,"Tê em aço galvanizado de 1.1/4\" BSP TUPY",1,"serv",36.9,36.9,0.1197,41.32]
[null,null,null,8154,"Tê em aço galvanizado de 1/2\" BSP TUPY",1,"serv",10.52,10.52,0.1197,11.78]
[null,null,null,8155,"Tê em aço galvanizado de 1/4\" BSP TUPY",1,"serv",15.44,15.44,0.1197,17.29]
[null,null,null,8156,"Tê em aço galvanizado de 2\" BSP TUPY",1,"serv",74.06,74.06,0.1197,82.92]
[null,null,null,8157,"Tê em aço galvanizado de 2.1/2\" BSP TUPY",1,"serv",140.62,140.62,0.1197,157.44999999999999]
[null,null,null,8158,"Tê em aço galvanizado de 3\" BSP TUPY",1,"serv",188.34,188.34,0.1197,210.88]
[null,null,null,8159,"Tê em aço galvanizado de 3/4\" BSP TUPY",1,"serv",14.98,14.98,0.1197,16.77]
[null,null,null,8160,"Tê em aço galvanizado de 3/8\" BSP TUPY",1,"serv",12.15,12.15,0.1197,13.6]
[null,null,null,8161,"Tê em aço galvanizado de 4\" BSP TUPY",1,"serv",347.23,347.23,0.1197,388.79]
[null,null,null,8162,"Tê em aço galvanizado de 5\" BSP TUPY",1,"serv",495.99,495.99,0.1197,555.36]
[null,null,null,8163,"Tê em aço galvanizado de 6\" BSP TUPY",1,"serv",1162.55,1162.55,0.1197,1301.71]
[null,null,null,8164,"Tubo de aço galvanizado de 1\", NBR 5590, schedule 40, barra de 6 metros",1,"serv",364.86,364.86,0.1197,408.53]
[null,null,null,8165,"Tubo de aço galvanizado de 1.1/2\", NBR 5590, schedule 40, barra de 6 metros",1,"serv",532.86,532.86,0.1197,596.64]
[null,null,null,8166,"Tubo de aço galvanizado de 1.1/4\", NBR 5590, schedule 40, barra de 6 metros",1,"serv",488.94,488.94,0.1197,547.47]
[null,null,null,8167,"Tubo de aço galvanizado de 1/2\", NBR 5590, schedule 40, barra de 6 metros",1,"serv",237.66,237.66,0.1197,266.11]
[null,null,null,8168,"Tubo de aço galvanizado de 2\", NBR 5590, schedule 40, barra de 6 metros",1,"serv",653.88,653.88,0.1197,732.15]
[null,null,null,8169,"Tubo de aço galvanizado de 2.1/2\", NBR 5590, schedule 40, barra de 6 metros",1,"serv",1059.42,{"$f":"F458*H458","v":1059.42},0.1197,1186.23]
[null,null,null,8170,"Tubo de aço galvanizado de 3\", NBR 5590, schedule 40, barra de 6 metros",1,"serv",1333.8,1333.8,0.1197,1493.46]
[null,null,null,8171,"Tubo de aço galvanizado de 3/4\", NBR 5590, schedule 40, barra de 6 metros",1,"serv",408.48,408.48,0.1197,457.38]
[null,null,null,8172,"Tubo de aço galvanizado de 4\", NBR 5590, schedule 40, barra de 6 metros",1,"serv",1940.7,1940.7,0.1197,2173]
[null,null,null,8173,"Tubo de aço galvanizado de 6\", NBR 5590, schedule 40, barra de 6 metros",1,"serv",5230.9799999999996,5230.9799999999996,0.1197,5857.13]
[null,null,null,8174,"União com assento cônico de bronze/ferro de 1\" BSP TUPY",1,"serv",69.95,69.95,0.1197,78.319999999999993]
[null,null,null,8175,"União com assento cônico de bronze/ferro de 1.1/2\" BSP TUPY",1,"serv",164.06,164.06,0.1197,183.7]
[null,null,null,8176,"União com assento cônico de bronze/ferro de 1.1/4\" BSP TUPY",1,"serv",178.46,178.46,0.1197,199.82]
[null,null,null,8177,"União com assento cônico de bronze/ferro de 1/2\" BSP TUPY",1,"serv",50.7,50.7,0.1197,56.77]
[null,null,null,8178,"União com assento cônico de bronze/ferro de 1/4\" BSP TUPY",1,"serv",43.27,43.27,0.1197,48.45]
[null,null,null,8179,"União com assento cônico de bronze/ferro de 2\" BSP TUPY",1,"serv",185.57,185.57,0.1197,207.78]
[null,null,null,8180,"União com assento cônico de bronze/ferro de 2.1/2\" BSP TUPY",1,"serv",289.11,289.11,0.1197,323.72000000000003]
[null,null,null,8181,"União com assento cônico de bronze/ferro de 3\" BSP TUPY",1,"serv",467.5,467.5,0.1197,523.46]
[null,null,null,8182,"União com assento cônico de bronze/ferro de 3/4\" BSP TUPY",1,"serv",62.15,62.15,0.1197,69.59]
[null,null,null,8183,"União com assento cônico de bronze/ferro de 3/8\" BSP TUPY",1,"serv",57.8,57.8,0.1197,64.72]
[null,null,null,8184,"União com assento cônico de bronze/ferro de 4\" BSP TUPY",1,"serv",795.6,795.6,0.1197,890.83]
[null,null,null,8185,"União com assento cônico de bronze/ferro de 5\" BSP TUPY",1,"serv",1423.18,1423.18,0.1197,1593.53]
[null,null,null,8186,"União com assento cônico de bronze/ferro de 6\" BSP TUPY",1,"serv",1681.7,1681.7,0.1197,1883]
[null,null,null,7,"SERVIÇOS DE INSTALAÇÃO DE TUBOS E CONEXÕES EM AÇO CARBONO, incluindo a aplicação dos seguintes insumos (*Ver. Obs. 1)"]
[null,null,null,"9.1","Curva de 90º em aço carbono schedule 40 de 10\"",1,"serv",1024.08,1024.08,{"$f":"J475","v":0.1197},1146.6600000000001]
[null,null,null,"9.2","Curva de 90º em aço carbono schedule 40 de 12\"",1,"serv",797.54,797.54,{"$f":"J477","v":0.1197},893.01]
[null,null,null,"9.3","Curva de 90º em aço carbono schedule 40 de 2\"",1,"serv",139.41,139.41,0.1197,156.1]
[null,null,null,"9.4","Curva de 90º em aço carbono schedule 40 de 2.1/2\"",1,"serv",273.39999999999998,273.39999999999998,0.1197,306.13]
[null,null,null,"9.5","Curva de 90º em aço carbono schedule 40 de 3\"",1,"serv",42.2,42.2,0.1197,47.25]
[null,null,null,"9.6","Curva de 90º em aço carbono schedule 40 de 4\"",1,"serv",77.900000000000006,77.900000000000006,0.1197,87.22]
[null,null,null,"9.7","Curva de 90º em aço carbono schedule 40 de 5\"",1,"serv",132.58000000000001,132.58000000000001,0.1197,148.44999999999999]
[null,null,null,"9.8","Curva de 90º em aço carbono schedule 40 de 6\"",1,"serv",183.91,183.91,0.1197,205.92]
[null,null,null,"9.9","Curva de 90º em aço carbono schedule 40 de 8\"",1,"serv",337.83,337.83,0.1197,378.27]
[null,null,null,"9.10","Flange sobreposto plano em ASTM A 105 ANSI B 16.5 - 300 LBS de 10\"",1,"serv",1843.39,1843.39,0.1197,2064.04]
[null,null,null,"9.11","Flange sobreposto plano em ASTM A 105 ANSI B 16.5 - 300 LBS de 12\"",1,"serv",3654,3654,0.1197,4091.38]
[null,null,null,"9.12","Flange sobreposto plano em ASTM A 105 ANSI B 16.5 - 300 LBS de 2\"",1,"serv",181.8,181.8,0.1197,203.56]
[null,null,null,"9.13","Flange sobreposto plano em ASTM A 105 ANSI B 16.5 - 300 LBS de 3\"",1,"serv",312.27999999999997,312.27999999999997,0.1197,349.66]
[null,null,null,"9.14","Flange sobreposto plano em ASTM A 105 ANSI B 16.5 - 300 LBS de 4\"",1,"serv",484.2,484.2,0.1197,542.16]
[null,null,null,"9.15","Flange sobreposto plano em ASTM A 105 ANSI B 16.5 - 300 LBS de 5\"",1,"serv",889,889,0.1197,995.41]
[null,null,null,"9.16","Flange sobreposto plano em ASTM A 105 ANSI B 16.5 - 300 LBS de 6\"",1,"serv",845.82,845.82,0.1197,947.06]
[null,null,null,"9.17","Flange sobreposto plano em ASTM A 105 ANSI B 16.5 - 300 LBS de 8\"",1,"serv",1284.8800000000001,1284.8800000000001,0.1197,1438.68]
[null,null,null,"9.18","Redução concêntrica em aço ASTM A 234 ANSI B 1.9 de 10\" para 8\"",1,"serv",289.58,289.58,0.1197,324.24]
[null,null,null,"9.19","Redução concêntrica em aço ASTM A 234 ANSI B 1.9 de 4\" para 3\"",1,"serv",77.010000000000005,77.010000000000005,0.1197,{"$f":"ROUND(I495*(1+J495),2)","v":86.23}]
[null,null,null,"9.20","Redução concêntrica em aço ASTM A 234 ANSI B 1.9 de 5\" para 4\"",1,"serv",83.03,83.03,0.1197,92.97]
[null,null,null,"9.21","Redução concêntrica em aço ASTM A 234 ANSI B 1.9 de 6\" para 4\"",1,"serv",157.11000000000001,157.11000000000001,0.1197,175.92]
[null,null,null,"9.22","Redução concêntrica em aço ASTM A 234 ANSI B 1.9 de 6\" para 5\"",1,"serv",191.12,191.12,0.1197,214]
[null,null,null,"9.23","Redução concêntrica em aço ASTM A 234 ANSI B 1.9 de 8\" para 6\"",1,"serv",189.67,189.67,0.1197,212.37]
[null,null,null,"9.24","Tubo de aço carbono de 1\", NBR 5590, schedule 40, barra de 6 metros",1,"serv",364.86,364.86,0.1197,408.53]
[null,null,null,"9.25","Tubo de aço carbono de 1.1/2\", NBR 5590, schedule 40, barra de 6 metros",1,"serv",532.86,532.86,0.1197,596.64]
[null,null,null,"9.26","Tubo de aço carbono de 1.1/4\", NBR 5590, schedule 40, barra de 6 metros",1,"serv",488.94,488.94,0.1197,547.47]
[null,null,null,"9.27","Tubo de aço carbono de 1/2\", NBR 5590, schedule 40, barra de 6 metros",1,"serv",237.66,237.66,0.1197,266.11]
[null,null,null,"9.28","Tubo de aço carbono de 10\", NBR 5590, schedule 40, barra de 6 metros",1,"serv",8061,8061,0.1197,9025.9]
[null,null,null,"9.29","Tubo de aço carbono de 12\", NBR 5590, schedule 40, barra de 6 metros",1,"serv",10648.8,10648.8,0.1197,11923.46]
[null,null,null,"9.30","Tubo de aço carbono de 14\", NBR 5590, schedule 40, barra de 6 metros",1,"serv",12624.6,12624.6,0.1197,14135.76]
[null,null,null,"9.31","Tubo de aço carbono de 2\", NBR 5590, schedule 40, barra de 6 metros",1,"serv",653.88,653.88,0.1197,732.15]
[null,null,null,"9.32","Tubo de aço carbono de 2.1/2\", NBR 5590, schedule 40, barra de 6 metros",1,"serv",1059.42,1059.42,0.1197,1186.23]
[null,null,null,"9.33","Tubo de aço carbono de 3\", NBR 5590, schedule 40, barra de 6 metros",1,"serv",1333.8,1333.8,0.1197,1493.46]
[null,null,null,"9.34","Tubo de aço carbono de 3/4\", NBR 5590, schedule 40, barra de 6 metros",1,"serv",408.48,408.48,0.1197,457.38]
[null,null,null,"9.35","Tubo de aço carbono de 4\", NBR 5590, schedule 40, barra de 6 metros",1,"serv",1940.7,1940.7,0.1197,2173]
[null,null,null,"9.36","Tubo de aço carbono de 5\", NBR 5590, schedule 40, barra de 6 metros",1,"serv",3044.28,3044.28,0.1197,3408.68]
[null,null,null,"9.37","Tubo de aço carbono de 6\", NBR 5590, schedule 40, barra de 6 metros",1,"serv",3426.84,3426.84,0.1197,3837.03]
[null,null,null,"9.38","Tubo de aço carbono de 8\", NBR 5590, schedule 40, barra de 6 metros",1,"serv",5159.7,5159.7,0.1197,5777.32]
[null,null,null,8,"SERVIÇOS DE INSTALAÇÃO DE TUBOS E CONEXÕES EM COBRE, incluindo a aplicação dos seguintes insumos (*Ver. Obs. 1)"]
[null,null,null,"10.1","Curva 90° para tubo de cobre DN 1.1/8\"",1,"serv",35.4,35.4,{"$f":"J514","v":0.1197},39.64]
[null,null,null,"10.2","Curva 90° para tubo de cobre DN 7/8\"",1,"serv",17.96,17.96,{"$f":"J516","v":0.1197},20.11]
[null,null,null,"10.3","Curva 90° para tubo de cobre flexível DN ¼\"",1,"serv",6.76,6.76,0.1197,7.57]
[null,null,null,"10.4","Curva 90° para tubo de cobre flexível DN ½\"",1,"serv",8.23,8.23,0.1197,9.2200000000000006]
[null,null,null,"10.5","Curva 90° para tubo de cobre flexível DN ¾\"",1,"serv",16.2,16.2,0.1197,18.14]
[null,null,null,"10.6","Curva 90° para tubo de cobre flexível DN 3/8\"",1,"serv",9.8000000000000007,9.8000000000000007,0.1197,10.97]
[null,null,null,"10.7","Curva 90° para tubo de cobre flexível DN 5/8\"",1,"serv",18.25,{"$f":"F522*H522","v":18.25},0.1197,20.43]
[null,null,null,"10.8","Luva para tubo de cobre DN 1.1/8\"",1,"serv",18.399999999999999,18.399999999999999,0.1197,20.6]
[null,null,null,"10.9","Luva para tubo de cobre DN 1/2\"",1,"serv",4,4,0.1197,4.4800000000000004]
[null,null,null,"10.10","Luva para tubo de cobre DN 1/4\"",1,"serv",2.85,2.85,0.1197,3.19]
[null,null,null,"10.11","Luva para tubo de cobre DN 3/4\"",1,"serv",9.9,9.9,0.1197,11.09]
[null,null,null,"10.12","Luva para tubo de cobre DN 3/8\"",1,"serv",10.51,10.51,0.1197,11.77]
[null,null,null,"10.13","Luva para tubo de cobre DN 5/8\"",1,"serv",7.85,7.85,0.1197,8.7899999999999991]
[null,null,null,"10.14","Luva para tubo de cobre DN 7/8\"",1,"serv",26.55,26.55,0.1197,29.73]
[null,null,null,"10.15","Porca flangeada 1/2\" SAE latão ",1,"serv",5.66,5.66,0.1197,6.34]
[null,null,null,"10.16","Porca flangeada 1/4\" SAE latão ",1,"serv",2.78,2.78,0.1197,3.11]
[null,null,null,"10.17","Porca flangeada 3/8\" SAE latão ",1,"serv",4.45,4.45,0.1197,4.9800000000000004]
[null,null,null,"10.18","Porca flangeada 3/8\" SAE latão ",1,"serv",9.39,9.39,0.1197,10.51]
[null,null,null,"10.19","Porca flangeada 5/8\" SAE latão ",1,"serv",9.26,9.26,0.1197,10.37]
[null,null,null,"10.20","Tampão em cobre 1/2\"",1,"serv",39.9,39.9,0.1197,44.68]
[null,null,null,"10.21","Tampão em cobre 1/4\"",1,"serv",33.700000000000003,33.700000000000003,0.1197,37.729999999999997]
[null,null,null,"10.22","Tampão em cobre 3/4\"",1,"serv",30.93,30.93,0.1197,34.630000000000003]
[null,null,null,"10.23","Tampão em cobre 3/8\"",1,"serv",7.7,7.7,0.1197,8.6199999999999992]
[null,null,null,"10.24","Tampão em cobre 5/8\"",1,"serv",42.9,42.9,0.1197,48.04]
[null,null,null,"10.25","Tubo flexível em cobre de 1/2\", kg",1,"serv",33.33,33.33,0.1197,37.32]
[null,null,null,"10.26","Tubo flexível em cobre de 1/4\", kg",1,"serv",16.559999999999999,16.559999999999999,0.1197,18.54]
[null,null,null,"10.27","Tubo flexível em cobre de 3/4\", kg",1,"serv",49.57,49.57,0.1197,55.5]
[null,null,null,"10.28","Tubo flexível em cobre de 3/8\", kg",1,"serv",24.99,24.99,0.1197,27.98]
[null,null,null,"10.29","Tubo flexível em cobre de 5/8\", kg",1,"serv",39.35,39.35,0.1197,44.06]
[null,null,null,"10.30","Tubo rígido em cobre de 1\", metro",1,"serv",77.150000000000006,77.150000000000006,0.1197,86.38]
[null,null,null,"10.31","Tubo rígido em cobre de 1.1/2\", metro",1,"serv",212.01,212.01,0.1197,237.39]
[null,null,null,"10.32","Tubo rígido em cobre de 1.1/4\", metro",1,"serv",233.16,233.16,0.1197,261.07]
[null,null,null,"10.33","Tubo rígido em cobre de 1.1/8\", metro",1,"serv",82.39,82.39,0.1197,92.25]
[null,null,null,"10.34","Tubo rígido em cobre de 1.3/8\", metro",1,"serv",168.04,168.04,0.1197,188.15]
[null,null,null,"10.35","Tubo rígido em cobre de 1.5/8\", metro",1,"serv",203.49,203.49,0.1197,227.85]
[null,null,null,"10.36","Tubo rígido em cobre de 7/8\", metro",1,"serv",61.35,61.35,0.1197,68.69]
[null,null,null,"10.37","União redutora em cobre 3/4\" x 3/8\"",1,"serv",32.729999999999997,32.729999999999997,0.1197,36.65]
[null,null,null,"10.38","União redutora em cobre 3/4\" x 5/8\"",1,"serv",33.74,33.74,0.1197,37.78]
[null,null,null,9,"SERVIÇOS DE INSTALAÇÃO DE TUBOS E CONEXÕES EM PVC, incluindo a aplicação dos seguintes insumos (*Ver. Obs. 1)"]
[null,null,null,"11.1","Adaptador com flange para caixa d'água 50 x 1.1/2\" ",1,"serv",25.76,25.76,{"$f":"J553","v":0.1197},28.84]
[null,null,null,"11.2","Adaptador com flange para caixa d'água 60 x 2\" ",1,"serv",65.17,65.17,{"$f":"J555","v":0.1197},72.97]
[null,null,null,"11.3","Adaptador LR de 20mm soldável de PVC rosca de 1/2\" ",1,"serv",12.1,12.1,0.1197,13.55]
[null,null,null,"11.4","Adaptador LR de 25mm soldável de PVC rosca de 3/4\" ",1,"serv",12.1,12.1,0.1197,13.55]
[null,null,null,"11.5","Adaptador solda flange anel tigre 25 mm x 3/4\"",1,"serv",12.1,12.1,0.1197,{"$f":"ROUND(I559*(1+J559),2)","v":13.55}]
[null,null,null,"11.6","Adaptador soldável de PVC 20 mm x 1/2\"",1,"serv",0.8,0.8,0.1197,0.9]
[null,null,null,"11.7","Adaptador soldável de PVC 25 mm x 3/4\"",1,"serv",0.87,0.87,0.1197,0.97]
[null,null,null,"11.8","Adaptador soldável de PVC 32 mm x 1\"",1,"serv",1.76,1.76,0.1197,1.97]
[null,null,null,"11.9","Adaptador soldável de PVC 40 mm x 1.1/4\"",1,"serv",3.64,3.64,0.1197,4.08]
[null,null,null,"11.10","Adaptador soldável de PVC 40 mm x 1/2\"",1,"serv",6.11,6.11,0.1197,6.84]
[null,null,null,"11.11","Adaptador soldável de PVC 50 mm x 1.1/2\" ",1,"serv",4.38,4.38,0.1197,4.9000000000000004]
[null,null,null,"11.12","Adaptador soldável de PVC 50 mm x 1.1/4\"",1,"serv",8.27,8.27,0.1197,9.26]
[null,null,null,"11.13","Adaptador soldável de PVC 60 mm x 2\"",1,"serv",10.97,10.97,0.1197,12.28]
[null,null,null,"11.14","Bucha de redução em PVC de 110 mm x 60 mm",1,"serv",63.41,63.41,0.1197,71]
[null,null,null,"11.15","Bucha de redução em PVC de 32 mm x 20 mm",1,"serv",2.76,2.76,0.1197,3.09]
[null,null,null,"11.16","Bucha de redução em PVC de 40 mm x 25 mm",1,"serv",3.58,3.58,0.1197,4.01]
[null,null,null,"11.17","Bucha de redução em PVC de 50 mm x 25 mm",1,"serv",4.17,4.17,0.1197,4.67]
[null,null,null,"11.18","Bucha de redução em PVC de 60 mm x 32 mm",1,"serv",12.42,12.42,0.1197,13.91]
[null,null,null,"11.19","Bucha de redução em PVC de 60 mm x 40 mm",1,"serv",16.73,16.73,0.1197,18.73]
[null,null,null,"11.20","Bucha de redução em PVC de 60 mm x 50 mm",1,"serv",16.21,16.21,0.1197,18.149999999999999]
[null,null,null,"11.21","Bucha de redução em PVC de 75 mm x 50 mm",1,"serv",18.54,18.54,0.1197,20.76]
[null,null,null,"11.22","Bucha de redução em PVC de 85 mm x 60 mm",1,"serv",35.119999999999997,35.119999999999997,0.1197,39.32]
[null,null,null,"11.23","Cap soldável em PVC de 20 mm",1,"serv",1.23,1.23,0.1197,1.38]
[null,null,null,"11.24","Cap soldável em PVC de 25 mm",1,"serv",1.23,1.23,0.1197,1.38]
[null,null,null,"11.25","Cap soldável em PVC de 32 mm",1,"serv",2.0099999999999998,2.0099999999999998,0.1197,2.25]
[null,null,null,"11.26","Cap soldável em PVC de 40 mm",1,"serv",3.86,3.86,0.1197,4.32]
[null,null,null,"11.27","Cap soldável em PVC de 50 mm",1,"serv",6.97,6.97,0.1197,7.8]
[null,null,null,"11.28","Conexão tipo T soldável em PVC DE 20 mm",1,"serv",1.04,1.04,0.1197,1.1599999999999999]
[null,null,null,"11.29","Conexão tipo T soldável em PVC DE 25 mm",1,"serv",1.18,1.18,0.1197,1.32]
[null,null,null,"11.30","Curva de transposição soldável em PVC 20 mm",1,"serv",4.84,4.84,0.1197,5.42]
[null,null,null,"11.31","Curva de transposição soldável em PVC 25 mm",1,"serv",6.56,6.56,0.1197,7.35]
[null,null,null,"11.32","Curva de transposição soldável em PVC 32 mm",1,"serv",16.21,{"$f":"F586*H586","v":16.21},0.1197,18.149999999999999]
[null,null,null,"11.33","Joelho 45° soldável em PVC de 20 mm",1,"serv",1.1100000000000001,1.1100000000000001,0.1197,1.24]
[null,null,null,"11.34","Joelho 45° soldável em PVC de 25 mm",1,"serv",1.47,1.47,0.1197,1.65]
[null,null,null,"11.35","Joelho 45° soldável em PVC de 32 mm",1,"serv",4.07,4.07,0.1197,4.5599999999999996]
[null,null,null,"11.36","Joelho 45° soldável em PVC de 40 mm",1,"serv",5.85,5.85,0.1197,6.55]
[null,null,null,"11.37","Joelho 45° soldável em PVC de 60 mm",1,"serv",26.72,26.72,0.1197,29.92]
[null,null,null,"11.38","Joelho 90° soldável em PVC de 20 mm",1,"serv",0.57999999999999996,0.57999999999999996,0.1197,0.65]
[null,null,null,"11.39","Joelho 90° soldável em PVC de 25 mm",1,"serv",0.71,0.71,0.1197,0.79]
[null,null,null,"11.40","Joelho 90° soldável em PVC de 32 mm",1,"serv",2.38,2.38,0.1197,2.66]
[null,null,null,"11.41","Joelho 90° soldável em PVC de 40 mm",1,"serv",5.8,5.8,0.1197,6.49]
[null,null,null,"11.42","Joelho 90° soldável em PVC de 50 mm",1,"serv",4.9000000000000004,4.9000000000000004,0.1197,5.49]
[null,null,null,"11.43","Joelho 90° soldável em PVC de 60 mm",1,"serv",28.44,28.44,0.1197,31.84]
[null,null,null,"11.44","Luva de redução soldável em PVC 25 mm x 20 mm",1,"serv",1.38,1.38,0.1197,1.55]
[null,null,null,"11.45","Luva de redução soldável em PVC 32 mm x 25 mm",1,"serv",3.05,3.05,0.1197,3.42]
[null,null,null,"11.46","Luva de redução soldável em PVC 40 mm x 32 mm",1,"serv",5.2,5.2,0.1197,5.82]
[null,null,null,"11.47","Luva de redução soldável em PVC 60 mm x 50 mm",1,"serv",12.01,12.01,0.1197,13.45]
[null,null,null,"11.48","Luva soldável em PVC de 25 mm",1,"serv",0.8,0.8,0.1197,0.9]
[null,null,null,"11.49","Luva soldável em PVC de 32 mm",1,"serv",1.96,1.96,0.1197,2.19]
[null,null,null,"11.50","Luva soldável em PVC de 40 mm",1,"serv",4.18,4.18,0.1197,4.68]
[null,null,null,"11.51","Luva soldável em PVC de 50 mm",1,"serv",4.28,4.28,0.1197,4.79]
[null,null,null,"11.52","Luva soldável em PVC de 60 mm",1,"serv",13.12,13.12,0.1197,14.69]
[null,null,null,"11.53","Tê de redução soldável em PVC de 25 x 20 mm",1,"serv",3.77,3.77,0.1197,4.22]
[null,null,null,"11.54","Tê de redução soldável em PVC de 32 x 25 mm",1,"serv",6.56,6.56,0.1197,7.35]
[null,null,null,"11.55","Tê de redução soldável em PVC de 40 x 25 mm",1,"serv",9.9700000000000006,9.9700000000000006,0.1197,11.16]
[null,null,null,"11.56","Tê de redução soldável em PVC de 40 x 32 mm",1,"serv",8.52,8.52,0.1197,9.5399999999999991]
[null,null,null,"11.57","Tê de redução soldável em PVC de 50 x 32 mm",1,"serv",14.53,14.53,0.1197,16.27]
[null,null,null,"11.58","Tê de redução soldável em PVC de 50 x 40 mm",1,"serv",17.77,17.77,0.1197,19.899999999999999]
[null,null,null,"11.59","Tê de redução soldável em PVC de 60 x 50 mm",1,"serv",46.82,46.82,0.1197,52.42]
[null,null,null,"11.60","Tê soldável em PVC de 20 mm",1,"serv",1.04,1.04,0.1197,1.1599999999999999]
[null,null,null,"11.61","Tê soldável em PVC de 25 mm",1,"serv",1.18,1.18,0.1197,1.32]
[null,null,null,"11.62","Tê soldável em PVC de 32 mm",1,"serv",3.71,3.71,0.1197,4.1500000000000004]
[null,null,null,"11.63","Tê soldável em PVC de 40 mm",1,"serv",9.06,9.06,0.1197,10.14]
[null,null,null,"11.64","Tê soldável em PVC de 50 mm",1,"serv",9.4700000000000006,9.4700000000000006,0.1197,10.6]
[null,null,null,"11.65","Tê soldável em PVC de 60 mm",1,"serv",30.41,30.41,0.1197,34.049999999999997]
[null,null,null,"11.66","Tubo em PVC soldável de 20 mm, barra de 6 metros",1,"serv",21.66,21.66,{"$f":"J619","v":0.1197},24.25]
[null,null,null,"11.67","Tubo em PVC soldável de 25 mm, barra de 6 metros",1,"serv",24.48,24.48,0.1197,27.41]
[null,null,null,"11.68","Tubo em PVC soldável de 32 mm, barra de 6 metros",1,"serv",52.8,52.8,0.1197,59.12]
[null,null,null,"11.69","Tubo em PVC soldável de 40 mm, barra de 6 metros",1,"serv",82.98,82.98,0.1197,{"$f":"ROUND(I623*(1+J623),2)","v":92.91}]
[null,null,null,"11.70","Tubo em PVC soldável de 50 mm, barra de 6 metros",1,"serv",90.96,90.96,0.1197,101.85]
[null,null,null,"11.71","Tubo em PVC soldável de 60 mm, barra de 6 metros",1,"serv",149.69999999999999,149.69999999999999,0.1197,167.62]
[null,null,null,"11.72","União soldável em PVC de 25 mm",1,"serv",7.85,7.85,0.1197,8.7899999999999991]
[null,null,null,"11.73","União soldável em PVC de 32 mm",1,"serv",13.22,13.22,0.1197,14.8]
[null,null,null,"11.74","União soldável em PVC de 40 mm",1,"serv",25.42,25.42,0.1197,28.46]
[null,null,null,"11.75","União soldável em PVC de 50 mm",1,"serv",27.15,27.15,0.1197,30.4]
[null,null,null,"11.76","União soldável em PVC de 60 mm",1,"serv",70.63,70.63,0.1197,79.08]
[null,null,null,10,"SERVIÇOS DE INSTALAÇÃO DE EQUIPAMENTOS DE AR CONDICIONADO TIPO SPLIT, incluindo a aplicação dos seguintes insumos (*Ver. Obs. 1) "]
[null,null,null,"20.1","Aparelho de ar condicionado tipo split hi-wall, capacidade mínima de refrigeração de 9.000 BTU/h; 220v; compressor do tipo rotativo, com tecnologia INVERTER, para gás R-410a ou outro de menor potencial ofensivo; três velocidades de insuflamento de ar; aletas de distribuição de ar com oscilação vertical e direcionamento horizontal; classificação A no Programa Brasileiro de Etiquetagem do INMETRO e PROCEL, eficiência de refrigeração mínima de 3,30 (W/W), com controle sem fio. MARCA(S) / MODELO(S) DE REFERÊNCIA: FUJITSU/ASBA09JGC + AOBR09JGC; HITACHI/RACIV09B.",1,"serv",2673.82,2673.82,{"$f":"J630","v":0.1197},2993.88]
[null,null,null,"20.2","Aparelho de ar condicionado tipo split hi-wall, capacidade mínima de refrigeração de 12.000 BTU/h; 220v; compressor do tipo rotativo, com tecnologia INVERTER, para gás R-410a ou outro de menor potencial ofensivo; três velocidades de insuflamento de ar; aletas de distribuição de ar com oscilação vertical e direcionamento horizontal; classificação A no Programa Brasileiro de Etiquetagem do INMETRO e PROCEL, eficiência de refrigeração mínima de 3,29 (W/W), com controle sem fio. MARCA(S) / MODELO(S) DE REFERÊNCIA: FUJITSU/ASBA12JGC + AOBR12JGC; HITACHI/RACIV12B.",1,"serv",2905.66,2905.66,{"$f":"J632","v":0.1197},3253.47]
[null,null,null,"20.3","Aparelho de ar condicionado tipo split hi-wall, capacidade mínima de refrigeração de 18.000 BTU/h; 220v; compressor do tipo rotativo, com tecnologia INVERTER, para gás R-410a ou outro de menor potencial ofensivo; três velocidades de insuflamento de ar; aletas de distribuição de ar com oscilação vertical e direcionamento horizontal; classificação A no Programa Brasileiro de Etiquetagem do INMETRO e PROCEL, eficiência de refrigeração mínima de 3,4 (W/W), com controle sem fio. MARCA(S) / MODELO(S) DE REFERÊNCIA: FUJITSU; HITACHI; MIDEA CARRIER; DAIKIN.",1,"serv",4404.18,4404.18,0.1197,4931.3599999999997]
[null,null,null,"20.4","Aparelho de ar condicionado tipo split hi-wall, capacidade mínima de refrigeração de 22.000 BTU/h; 220v; compressor do tipo rotativo, com tecnologia INVERTER, para gás R-410a ou outro de menor potencial ofensivo; três velocidades de insuflamento de ar; aletas de distribuição de ar com oscilação vertical e direcionamento horizontal; classificação A no Programa Brasileiro de Etiquetagem do INMETRO e PROCEL, eficiência de refrigeração mínima de 3,41 (W/W), com controle sem fio. MARCA(S) / MODELO(S) DE REFERÊNCIA: FUJITSU; HITACHI; MIDEA CARRIER; DAIKIN.",1,"serv",7273.21,7273.21,0.1197,8143.81]
[null,null,null,"20.5","Aparelho de ar condicionado tipo split hi-wall, capacidade mínima de refrigeração de 27.000 BTU/h; 220v; compressor do tipo rotativo, com tecnologia INVERTER, para gás R-410a ou outro de menor potencial ofensivo; três velocidades de insuflamento de ar; aletas de distribuição de ar com oscilação vertical e direcionamento horizontal; classificação A no Programa Brasileiro de Etiquetagem do INMETRO e PROCEL, eficiência de refrigeração mínima de 3,24 (W/W), com controle sem fio. MARCA(S) / MODELO(S) DE REFERÊNCIA: FUJITSU; HITACHI; MIDEA CARRIER; DAIKIN.",1,"serv",9810.69,9810.69,0.1197,10985.03]
[null,null,null,"20.6","Aparelho de ar condicionado tipo split piso teto, capacidade mínima de refrigeração de 36.000 BTU/h; 220v; compressor do tipo rotativo, para gás R-410a ou outro de menor potencial ofensivo; três velocidades de insuflamento de ar; aletas de distribuição de ar com oscilação vertical e direcionamento horizontal; classificação A no Programa Brasileiro de Etiquetagem do INMETRO e PROCEL, eficiência de refrigeração mínima de 3,24 (W/W), com controle sem fio. MARCA(S) / MODELO(S) DE REFERÊNCIA: FUJITSU; HITACHI; MIDEA CARRIER; DAIKIN.",1,"serv",8524.75,8524.75,0.1197,9545.16]
[null,null,null,"20.7","Aparelho de ar condicionado tipo split piso teto, capacidade mínima de refrigeração de 48.000 BTU/h; 380v trifásico, compressor do tipo rotativo, para gás R-410a ou outro de menor potencial ofensivo; três velocidades de insuflamento de ar; aletas de distribuição de ar com oscilação vertical e direcionamento horizontal; classificação A no Programa Brasileiro de Etiquetagem do INMETRO e PROCEL, eficiência de refrigeração mínima de 3,24 (W/W), com controle sem fio. MARCA(S) / MODELO(S) DE REFERÊNCIA: FUJITSU; HITACHI; MIDEA CARRIER; DAIKIN.",1,"serv",11661.87,11661.87,0.1197,13057.8]
[null,null,null,"20.8","Aparelho de ar condicionado tipo split cassete, capacidade mínima de refrigeração de 24.000 BTU/h; 220v; compressor do tipo rotativo, para gás R-410a ou outro de menor potencial ofensivo; três velocidades de insuflamento de ar; aletas de distribuição de ar com oscilação vertical e direcionamento horizontal; classificação A no Programa Brasileiro de Etiquetagem do INMETRO e PROCEL, eficiência de refrigeração mínima de 3,15 (W/W), com controle sem fio. MARCA(S) / MODELO(S) DE REFERÊNCIA: FUJITSU; HITACHI; MIDEA CARRIER; DAIKIN.",1,"serv",10484.69,10484.69,0.1197,11739.71]
[null,null,null,"20.9","Aparelho de ar condicionado tipo split cassete, capacidade mínima de refrigeração de 30.000 BTU/h; 220v; compressor do tipo rotativo, para gás R-410a ou outro de menor potencial ofensivo; três velocidades de insuflamento de ar; aletas de distribuição de ar com oscilação vertical e direcionamento horizontal; classificação A no Programa Brasileiro de Etiquetagem do INMETRO e PROCEL, eficiência de refrigeração mínima de 3,15 (W/W), com controle sem fio. MARCA(S) / MODELO(S) DE REFERÊNCIA: FUJITSU; HITACHI; MIDEA CARRIER; DAIKIN.",1,"serv",9891.2199999999993,9891.2199999999993,0.1197,11075.2]
[null,null,null,"20.10","Aparelho de ar condicionado tipo split cassete, capacidade mínima de refrigeração de 36.000 BTU/h; 220v; compressor do tipo rotativo, para gás R-410a ou outro de menor potencial ofensivo; três velocidades de insuflamento de ar; aletas de distribuição de ar com oscilação vertical e direcionamento horizontal; classificação A no Programa Brasileiro de Etiquetagem do INMETRO e PROCEL, eficiência de refrigeração mínima de 3,15 (W/W), com controle sem fio. MARCA(S) / MODELO(S) DE REFERÊNCIA: FUJITSU; HITACHI; MIDEA CARRIER; DAIKIN.",1,"serv",12335.63,12335.63,0.1197,13812.2]
[null,null,null,"20.11","Aparelho de ar condicionado tipo split cassete, capacidade mínima de refrigeração de 48.000 BTU/h; 380v trifásico, compressor do tipo rotativo, para gás R-410a ou outro de menor potencial ofensivo; três velocidades de insuflamento de ar; aletas de distribuição de ar com oscilação vertical e direcionamento horizontal; classificação A no Programa Brasileiro de Etiquetagem do INMETRO e PROCEL, eficiência de refrigeração mínima de 3,15 (W/W), com controle sem fio. MARCA(S) / MODELO(S) DE REFERÊNCIA: FUJITSU; HITACHI; MIDEA CARRIER; DAIKIN.",1,"serv",15189.55,15189.55,0.1197,17007.740000000002]
[null,null,null,"20.12","Aparelho de ar condicionado tipo split cassete, capacidade mínima de refrigeração de 60.000 BTU/h; 380v trifásico, compressor do tipo rotativo, para gás R-410a ou outro de menor potencial ofensivo; três velocidades de insuflamento de ar; aletas de distribuição de ar com oscilação vertical e direcionamento horizontal; classificação A no Programa Brasileiro de Etiquetagem do INMETRO e PROCEL, eficiência de refrigeração mínima de 3,15 (W/W), com controle sem fio. MARCA(S) / MODELO(S) DE REFERÊNCIA: FUJITSU; HITACHI; MIDEA CARRIER; DAIKIN.",1,"serv",15246.55,15246.55,0.1197,17071.560000000001]
[null,null,null,"20.13","Aparelho de ar condicionado tipo split dutado, capacidade mínima de refrigeração de 36.000 BTU/h; 220v, compressor do tipo rotativo, para gás R-410a ou outro de menor potencial ofensivo; três velocidades de insuflamento de ar; aletas de distribuição de ar com oscilação vertical e direcionamento horizontal; classificação A no Programa Brasileiro de Etiquetagem do INMETRO e PROCEL, eficiência de refrigeração mínima de 3,15 (W/W), com controle sem fio. MARCA(S) / MODELO(S) DE REFERÊNCIA: FUJITSU; HITACHI; MIDEA CARRIER; DAIKIN.",1,"serv",15199.05,15199.05,0.1197,17018.38]
[null,null,null,"20.14","Aparelho de ar condicionado tipo split dutado, capacidade mínima de refrigeração de 48.000 BTU/h; 380v trifásico, compressor do tipo rotativo, para gás R-410a ou outro de menor potencial ofensivo; três velocidades de insuflamento de ar; aletas de distribuição de ar com oscilação vertical e direcionamento horizontal; classificação A no Programa Brasileiro de Etiquetagem do INMETRO e PROCEL, eficiência de refrigeração mínima de 3,15 (W/W), com controle sem fio. MARCA(S) / MODELO(S) DE REFERÊNCIA: FUJITSU; HITACHI; MIDEA CARRIER; DAIKIN.",1,"serv",16671.55,16671.55,0.1197,18667.13]
[null,null,null,11,"SERVIÇOS DE INSTALAÇÃO DE EQUIPAMENTOS DE AR CONDICIONADO TIPO FANCOLETE HIDRÔNICO, incluindo a aplicação dos seguintes insumos (*Ver. Obs. 1) ",null,null,0,0]
[null,null,null,"21.1","Aparelho de ar condicionado tipo fancolete hi-wall (água gelada), capacidade mínima de refrigeração de 9.000 BTU/h; 220v; três velocidades de insuflamento de ar; aletas de distribuição de ar com oscilação vertical e direcionamento horizontal; gabinete em plástico de alta resistência, filtros removíveis laváveis. MARCA(S)/MODELO(S) DE REFERÊNCIA:SPRINGER CARRIER/40HP09; HITACHI/SUWX10CW",1,"serv",2569,2569,{"$f":"J645","v":0.1197},2876.51]
[null,null,null,"21.2","Aparelho de ar condicionado tipo fancolete hi-wall (água gelada), capacidade mínima de refrigeração de 14.000 BTU/h; 220v; três velocidades de insuflamento de ar; aletas de distribuição de ar com oscilação vertical e direcionamento horizontal; gabinete em plástico de alta resistência, filtros removíveis laváveis. MARCA(S) / MODELO(S) DE REFERÊNCIA: SPRINGER CARRIER/40HP14; YORK/HHH-C 14",1,"serv",3359,3359,{"$f":"J647","v":0.1197},3761.07]
[null,null,null,"21.3","Aparelho de ar condicionado tipo fancolete hi-wall (água gelada), capacidade mínima de refrigeração de 18.000 BTU/h; 220v; três velocidades de insuflamento de ar; aletas de distribuição de ar com oscilação vertical e direcionamento horizontal; gabinete em plástico de alta resistência, filtros removíveis laváveis. MARCA(S) / MODELO(S) DE REFERÊNCIA: SPRINGER CARRIER/40HP18.",1,"serv",3362.65,3362.65,0.1197,3765.16]
[null,null,null,"21.4","Aparelho de ar condicionado tipo fancolete embutir de teto (água gelada), capacidade mínima de refrigeração de 12.000 BTU/h; 220v; três velocidades de insuflamento de ar; modelo de alta pressão estática; gabinete em chapa de aço galvanizado, filtros removíveis laváveis; bandeja de dreno em ABS com revestimento de poliuretano, perda de carga de água máxima de 6 kPa, pressão estática mínima de 7 mmCA. MARCA(S) / MODELO(S) DE REFERÊNCIA: HITACHI/TCYDE - 12 (alta pressão); CARRIER/42B - Heavy Duty",1,"serv",3076.7,{"$f":"F650*H650","v":3076.7},0.1197,3444.98]
[null,null,null,"21.5","Aparelho de ar condicionado tipo fancolete embutir de teto (água gelada), capacidade mínima de refrigeração de 24.000 BTU/h; 220v; três velocidades de insuflamento de ar; modelo de alta pressão estática; gabinete em chapa de aço galvanizado, filtros removíveis laváveis; bandeja de dreno em ABS com revestimento de poliuretano, perda de carga de água máxima de 49 kPa, pressão estática mínima de 7 mmCA. MARCA(S) / MODELO(S) DE REFERÊNCIA: HITACHI/TCYDE - 24 (alta pressão); CARRIER/42B - Heavy Duty",1,"serv",10483.08,10483.08,0.1197,11737.9]
[null,null,null,"21.6","Aparelho de ar condicionado tipo fancolete embutir de teto (água gelada), capacidade mínima de refrigeração de 36.000 BTU/h; 220v; três velocidades de insuflamento de ar; modelo de alta pressão estática; gabinete em chapa de aço galvanizado, filtros removíveis laváveis; bandeja de dreno em ABS com revestimento de poliuretano, perda de carga de água máxima de 37 kPa, pressão estática mínima de 7 mmCA. MARCA(S) / MODELO(S) DE REFERÊNCIA: HITACHI/TCYDE - 36 (alta pressão); CARRIER/42B - Heavy Duty",1,"serv",12154.47,12154.47,0.1197,13609.36]
[null,null,null,"21.7","Aparelho de ar condicionado tipo fancolete embutir de teto (água gelada), capacidade mínima de refrigeração de 48.000 BTU/h; 220v; três velocidades de insuflamento de ar; modelo de alta pressão estática; gabinete em chapa de aço galvanizado, filtros removíveis laváveis; bandeja de dreno em ABS com revestimento de poliuretano, perda de carga de água máxima de 37 kPa, pressão estática mínima de 7 mmCA. MARCA(S) / MODELO(S) DE REFERÊNCIA: HITACHI/TCYDE - 48 (alta pressão); CARRIER/42B - Heavy Duty",1,"serv",13933.9,13933.9,0.1197,15601.79]
[null,null,null,"21.8","Aparelho de ar condicionado tipo fancolete cassete (água gelada), capacidade mínima de refrigeração de 20.000 BTU/h; 220v; três velocidades de insuflamento de ar; 4 vias; gabinete em chapa de aço galvanizado, filtros removíveis laváveis; com kit grelha, perda de carga de água máxima de 30 kPa. MARCA(S) / MODELO(S) DE REFERÊNCIA: SPRINGER CARRIER/40HK20; HITACHI/TCCD – 20.",1,"serv",4804.8100000000004,4804.8100000000004,0.1197,5379.95]
[null,null,null,"21.9","Aparelho de ar condicionado tipo fancolete cassete (água gelada), capacidade mínima de refrigeração de 25.000 BTU/h; 220v; três velocidades de insuflamento de ar; 4 vias; gabinete em chapa de aço galvanizado, filtros removíveis laváveis; com kit grelha, perda de carga de água máxima de 25 kPa. MARCA(S) / MODELO(S) DE REFERÊNCIA: SPRINGER CARRIER/40HK25; YORK/HKH – 25",1,"serv",5188.03,5188.03,0.1197,5809.04]
[null,null,null,"21.10","Aparelho de ar condicionado tipo fancolete piso teto (água gelada), capacidade mínima de refrigeração de 25.000 BTU/h; 220v; três velocidades de insuflamento de ar; com controle sem fio, gabinete em plástico de alta resistência, filtros removíveis laváveis; perda de carga de água máxima de 40 kPa. SPRINGER CARRIER/42LS25; HITACHI/TCSD – 24",1,"serv",5855.13,5855.13,0.1197,6555.99]
[null,null,null,"21.11","Aparelho de ar condicionado tipo fancolete piso teto (água gelada), capacidade mínima de refrigeração de 30.000 BTU/h; 220v; três velocidades de insuflamento de ar; com controle sem fio, gabinete em plástico de alta resistência, filtros removíveis laváveis; perda de carga de água máxima de 40 kPa. SPRINGER CARRIER/42LS30; HITACHI/TCSD – 30",1,"serv",8182.17,8182.17,0.1197,9161.58]
[null,null,null,"21.12","Aparelho de ar condicionado tipo fancolete piso teto (água gelada), capacidade mínima de refrigeração de 36.000 BTU/h; 220v; três velocidades de insuflamento de ar; com controle sem fio, gabinete em plástico de alta resistência, filtros removíveis laváveis; perda de carga de água máxima de 40 kPa. SPRINGER CARRIER/42LS36; HITACHI/TCSD – 36",1,"serv",8728.61,8728.61,0.1197,9773.42]
[null,null,null,"21.13","Aparelho de ar condicionado tipo fancolete piso teto (água gelada), capacidade mínima de refrigeração de 48.000 BTU/h; 220v; três velocidades de insuflamento de ar; com controle sem fio, gabinete em plástico de alta resistência, filtros removíveis laváveis; perda de carga de água máxima de 40 kPa. SPRINGER CARRIER/42LS36; HITACHI/TCSD – 36",1,"serv",11727.12,11727.12,0.1197,13130.86]
[null,null,null,12,"SERVIÇOS DE INSTALAÇÃO DE EQUIPAMENTOS DE AR CONDICIONADO TIPO FAN COIL, incluindo a aplicação dos seguintes insumos (*Ver. Obs. 1)  "]
[null,null,null,"22.1","Condicionador de ar tipo fan coil CARRIER ZEN 5 TR, 39EB05P68HVA",1,"serv",13899,13899,{"$f":"J659","v":0.1197},15562.71]
[null,null,null,"22.2","Condicionador de ar tipo fan coil CARRIER ZEN 10 TR, 39eb10p68hva",1,"serv",21312.47,21312.47,{"$f":"J661","v":0.1197},23863.57]
[null,null,null,"22.3","Condicionador de ar tipo fan coil CARRIER ZEN 15 TR, 39EB15P68HVA",1,"serv",32089.97,32089.97,0.1197,35931.14]
[null,null,null,"22.4","Condicionador de ar tipo fan coil CARRIER ZEN 20 TR",1,"serv",38219.5,38219.5,0.1197,42794.37]
[null,null,null,"22.5","Condicionador de ar tipo fan coil CARRIER ZEN 25 TR",1,"serv",47575.97,47575.97,0.1197,53270.81]
[null,null,null,"22.6","Condicionador de ar tipo fan coil CARRIER ZEN 30 TR",1,"serv",49164.17,49164.17,0.1197,55049.120000000003]
[null,null,null,23,"SERVIÇOS DE INSTALAÇÃO DE VENTILADORES, EXAUSTORES, CORTINAS DE AR, MOTORES E BOMBAS, incluindo a aplicação dos seguintes insumos (*Ver. Obs. 1)   "]
[null,null,null,"23.1","Bomba centrífuga EH, modelo EHF 125-25V, vazão 205 m³/h e altura manométrica de 25 MCA, 1750 RPM, c",1,"serv",35515.94,35515.94,{"$f":"J666","v":0.1197},39767.199999999997]
[null,null,null,"23.2","Bomba centrífuga EH, modelo EHF 50-16, 3500 RPM, vazão 70 m³/h e altura manométrica de 40 MCA.",1,"serv",19913,19913,{"$f":"J668","v":0.1197},22296.59]
[null,null,null,"23.3","Bomba centrífuga EH, modelo EHF 65-25, 1730 RPM, vazão 65 m³/h e altura manométrica de 20 MCA.",1,"serv",17371.05,17371.05,0.1197,19450.36]
[null,null,null,"23.4","Bomba centrífuga KSB MEGANORM modelo 100-250, vazão 170 m³/h e altura manométrica de 25 MCA, 1750 RPM. ",1,"serv",30299.18,30299.18,0.1197,33925.99]
[null,null,null,"23.5","Bomba centrífuga KSB MEGANORM modelo 125-315, vazão 250 m³/h e altura manométrica de 35 MCA, 1750 RPM. ",1,"serv",45143.39,45143.39,0.1197,50547.05]
[null,null,null,"23.6","Bomba centrífuga monobloco KSB ETA 150-26, 1750 RPM, vazão 300 m³/h e altura manométrica de 20 MCA.",1,"serv",39280.18,39280.18,0.1197,43982.02]
[null,null,null,"23.7","Bomba centrífuga monobloco KSB MEGANORM 125-400, 1750 RPM, vazão 400 m³/h e altura manométrica de 50 MCA.",1,"serv",82182.02,82182.02,0.1197,92019.21]
[null,null,null,"23.8","Bomba centrífuga monobloco KSB MEGANORM 80-315, 1750 RPM.",1,"serv",17740.97,17740.97,0.1197,19864.560000000001]
[null,null,null,"23.9","Bomba centrífuga monobloco WORTHINGTON modelo D1021 4x3x13, vazão 150 m³/h e altura manométrica 30 MCA, 1750 RPM.",1,"serv",30711.78,30711.78,0.1197,34387.980000000003]
[null,null,null,"23.10","Bomba centrífuga monobloco WORTHINGTON modelo D1021 6x411, vazão 260 m³/h e altura manométrica de 20 MCA, 1750 RPM.",1,"serv",31897.15,31897.15,0.1197,35715.24]
[null,null,null,"23.11","Caixa de ventilação MULTIVAC CVM 1800",1,"serv",2822.17,2822.17,0.1197,3159.98]
[null,null,null,"23.12","Caixa de ventilação MULTIVAC CVM 2500",1,"serv",3553.09,3553.09,0.1197,3978.39]
[null,null,null,"23.13","Caixa de ventilação MULTIVAC CVM 3000",1,"serv",4290.37,4290.37,0.1197,4803.93]
[null,null,null,"23.14","Caixa de ventilação MULTIVAC CVM 3600",1,"serv",5002.9399999999996,5002.9399999999996,0.1197,5601.79]
[null,null,null,"23.15","Caixa de ventilação MULTIVAC CVM 5000",1,"serv",5994.5,5994.5,0.1197,6712.04]
[null,null,null,"23.16","Caixa de ventilação MULTIVAC CVM 6000",1,"serv",6956.3,6956.3,0.1197,7788.97]
[null,null,null,"23.17","Cortina de ar com controle remoto sem fio de 120 cm, 220v, nível de ruído máximo de 50 dB",1,"serv",719.88,719.88,0.1197,806.05]
[null,null,null,"23.18","Cortina de ar com controle remoto sem fio de 150 cm, 220v, nível de ruído máximo de 50 dB",1,"serv",835.71,835.71,0.1197,935.74]
[null,null,null,"23.19","Cortina de ar com controle remoto sem fio de 90 cm, 220v, nível de ruído máximo de 50 dB",1,"serv",597.54999999999995,597.54999999999995,0.1197,669.08]
[null,null,null,"23.20","Exaustor axial MULTIVAC TURBO 100",1,"serv",402.41,402.41,0.1197,{"$f":"ROUND(I687*(1+J687),2)","v":450.58}]
[null,null,null,"23.21","Exaustor axial MULTIVAC TURBO 125",1,"serv",421.3,421.3,0.1197,471.73]
[null,null,null,"23.22","Exaustor axial MULTIVAC TURBO 150",1,"serv",500.59,500.59,0.1197,560.51]
[null,null,null,"23.23","Exaustor axial MULTIVAC TURBO 200",1,"serv",680.21,680.21,0.1197,761.63]
[null,null,null,"23.24","Exaustor axial VENTOKIT NM 150, 150 m³/h",1,"serv",311.06,311.06,0.1197,348.29]
[null,null,null,"23.25","Exaustor axial VENTOKIT NM 280, 280 m³/h",1,"serv",406.76,406.76,0.1197,455.45]
[null,null,null,"23.26","Exaustor axial VENTOKIT NM 80, 80 m³/h",1,"serv",277.97000000000003,277.97000000000003,0.1197,311.24]
[null,null,null,"23.27","Exaustor centrífug MULTIVAC AXC 315",1,"serv",1378.74,1378.74,0.1197,1543.78]
[null,null,null,"23.28","Exaustor centrífugo MULTIVAC AXC 100",1,"serv",572.38,572.38,0.1197,640.89]
[null,null,null,"23.29","Exaustor centrífugo MULTIVAC AXC 125",1,"serv",579.9,579.9,0.1197,649.30999999999995]
[null,null,null,"23.30","Exaustor centrífugo MULTIVAC AXC 150",1,"serv",617.4,617.4,0.1197,691.3]
[null,null,null,"23.31","Exaustor centrífugo MULTIVAC AXC 200",1,"serv",981.55,981.55,0.1197,1099.04]
[null,null,null,"23.32","Exaustor centrífugo MULTIVAC AXC 250",1,"serv",1016.39,1016.39,0.1197,1138.05]
[null,null,null,"23.33","Microventilador 80 x 80 mm 24 V",1,"serv",118.92,118.92,0.1197,133.15]
[null,null,null,"23.34","Microventilador axial VENTISILVA modelo. Rax2ny 26cm Bivolt",1,"serv",709.93,709.93,0.1197,794.91]
[null,null,null,"23.35","Motor elétrico WEG, trifásico, 380V, 1 CV, 60 Hz. ",1,"serv",1512.84,1512.84,0.1197,1693.93]
[null,null,null,"23.36","Motor elétrico WEG, trifásico, 380V, 1,5 CV, 60 Hz. ",1,"serv",6324.59,6324.59,0.1197,7081.64]
[null,null,null,"23.37","Motor elétrico WEG, trifásico, 380V, 10 CV, 60 Hz. ",1,"serv",6305.64,6305.64,0.1197,7060.43]
[null,null,null,"23.38","Motor elétrico WEG, trifásico, 380V, 12,5 CV, 60 Hz. ",1,"serv",6873.92,6873.92,0.1197,7696.73]
[null,null,null,"23.39","Motor elétrico WEG, trifásico, 380V, 125 CV, 60 Hz. ",1,"serv",76880.02,76880.02,0.1197,86082.559999999998]
[null,null,null,"23.40","Motor elétrico WEG, trifásico, 380V, 15 CV, 60 Hz. ",1,"serv",7501.95,7501.95,0.1197,8399.93]
[null,null,null,"23.41","Motor elétrico WEG, trifásico, 380V, 2 CV, 60 Hz. ",1,"serv",2016.27,2016.27,0.1197,2257.62]
[null,null,null,"23.42","Motor elétrico WEG, trifásico, 380V, 20 CV, 60 Hz. ",1,"serv",10140.040000000001,10140.040000000001,0.1197,11353.8]
[null,null,null,"23.43","Motor elétrico WEG, trifásico, 380V, 25CV, 60 Hz. ",1,"serv",12215.57,12215.57,0.1197,13677.77]
[null,null,null,"23.45","Motor elétrico WEG, trifásico, 380V, 3 CV, 60 Hz. ",1,"serv",2011.5,2011.5,0.1197,2252.2800000000002]
[null,null,null,"23.46","Motor elétrico WEG, trifásico, 380V, 30 CV, 60 Hz. ",1,"serv",15732.63,15732.63,0.1197,17615.830000000002]
[null,null,null,"23.48","Motor elétrico WEG, trifásico, 380V, 35CV, 60 Hz. ",1,"serv",17940.07,17940.07,0.1197,20087.5]
[null,null,null,"23.50","Motor elétrico WEG, trifásico, 380V, 40 CV, 60 Hz. ",1,"serv",21592.63,{"$f":"F714*H714","v":21592.63},0.1197,24177.27]
[null,null,null,"23.52","Motor elétrico WEG, trifásico, 380V, 45 CV, 60 Hz. ",1,"serv",25188.959999999999,25188.959999999999,0.1197,28204.080000000002]
[null,null,null,"23.54","Motor elétrico WEG, trifásico, 380V, 5 CV, 60 Hz. ",1,"serv",3892.18,3892.18,0.1197,4358.07]
[null,null,null,"23.55","Motor elétrico WEG, trifásico, 380V, 50 CV, 60 Hz. ",1,"serv",23894.39,23894.39,0.1197,26754.55]
[null,null,null,"23.56","Motor elétrico WEG, trifásico, 380V, 55 CV, 60 Hz. ",1,"serv",35171.4,35171.4,0.1197,39381.42]
[null,null,null,"23.57","Motor elétrico WEG, trifásico, 380V, 60 CV, 60 Hz. ",1,"serv",35605,35605,0.1197,39866.92]
[null,null,null,"23.58","Motor elétrico WEG, trifásico, 380V, 7,5 CV, 60 Hz. ",1,"serv",6350.46,6350.46,0.1197,7110.61]
[null,null,null,"23.59","Ventilador centrífugo dupla aspiração BSD 1000 BERLINER LUFT, vazão: 100.000 m³/h, pressão estática: 10 mmCA, motor: 20 CV, com motor trifásico 20 CV 380v/60hz, acessórios: dreno, tela flexível de descarga, tela de proteção na aspiração, porta de inspeção, base única, correias e polias, protetor de polias e correias",1,"serv",63760.25,63760.25,0.1197,71392.350000000006]
[null,null,null,"23.60","Ventilador centrífugo dupla aspiração RSD-Q 900 arranjo 3, vazão 70.000 m³/h, pressão estática 10 mmCA, H/0-W com motor elétrico de 20cv 6 polos 3F de 220/380V 60HZ, com polias: Correias, base única industrial, protetor de polias, flange na descarga, porta de inspeção, contra flange na descarga.",1,"serv",54249.42,54249.42,0.1197,60743.08]
[null,null,null,"23.61","Ventilador centrífugo simples aspiração 6800 m³/h 33 mmCA PROJELMEC CLS 500",1,"serv",10108.52,10108.52,0.1197,11318.51]
[null,null,null,"23.62","Ventilador DECOR 200C",1,"serv",182.07,182.07,0.1197,203.86]
[null,null,null,"23.63","Ventilador DECOR 100C",1,"serv",144.22999999999999,144.22999999999999,0.1197,161.49]
[null,null,null,"23.64","Coifa de parede em aço inox ALPHA 125 cm x 63 cm, com filtros inerciais ",1,"serv",23724.880000000001,23724.880000000001,0.1197,26564.75]
[null,null,null,"23.65","Coifa de parede em aço inox 90 cm com motor de potência mínima de 300 w, 220v.",1,"serv",14377.5,14377.5,0.1197,16098.49]
[]
[]
[null,null,null,null,null,null,null,null,null,"SOMATÓRIO TOTAL MENSAL",{"$f":"ROUND(SUM(K8:K728)/12,2)","v":178803.08}]
[null,null,null,null,null,null,null,"Fator de Demanda",null,"SOMATÓRIO TOTAL ANUAL",{"$f":"K730*12","v":2145636.96}]
[null,null,null,null,null,null,null,0.8]
[null,null,null,null,null,null,null,null,null,"MENSAL AJUSTADO",{"$f":"ROUND(K730*H732,2)","v":143042.46}]
[null,null,null,null,null,null,null,null,null,"ANUAL AJUSTADO",{"$f":"K733*12","v":1716509.52}]

{"sheet":"Demanda - Corretiva","index":37,"n_rows":1856,"n_cols":11,"rows_kept":1856,"cut":false,"hidden":false,"merged":[[1311,4,1311,10],[914,4,914,10],[7,4,7,10],[280,4,280,10],[700,4,700,10],[1624,4,1624,10],[1661,4,1661,10],[1679,4,1679,10],[1719,4,1719,10],[1817,4,1817,10],[1454,4,1454,10],[1449,4,1449,10],[2,1,2,4],[3,1,3,10],[925,4,925,10],[947,4,947,10],[1029,4,1029,10],[1166,4,1166,10],[1153,4,1153,10],[1037,4,1037,10],[1001,4,1001,10],[992,4,992,10],[934,4,934,10],[909,4,909,10],[905,4,905,10],[891,4,891,10]]}
[]
[]
[]
[null,"MATERIAIS E SERVIÇOS PARA MANUTENÇÃO - SOB DEMANDA"]
[]
[]
[null,null,"ITEM","CÓDIGO","DESCRIÇÃO","QUANT ANUAL","UNIDADE","CUSTO UNITÁRIO","CUSTO ANUAL","BDI (%)","PREÇO TOTAL"]
[null,null,1,1,"SERVIÇOS ESPECIALIZADOS DE MANUTENÇÃO CORRETIVA PARA BOMBAS CENTRÍFUGAS"]
[null,null,2,"1.1","Conserto de bomba hidráulica acionada por motor de 0,1 CV a 5 CV"]
[null,null,2,"1.1.1","Troca de rolamentos",1,"serv",219.62,{"$f":"F10*H10","v":219.62},{"$f":"'BDI - Demanda'!$E$27","v":0.1197},{"$f":"ROUND(I10*(1+J10),2)","v":245.91}]
[null,null,null,"1.1.2","Confecção e substituição de buchas",1,"serv",329.94,{"$f":"F11*H11","v":329.94},{"$f":"'BDI - Demanda'!$E$27","v":0.1197},{"$f":"ROUND(I11*(1+J11),2)","v":369.43}]
[null,null,null,"1.1.3","Serviço de torno",1,"serv",113.91,113.91,{"$f":"'BDI - Demanda'!$E$27","v":0.1197},127.55]
[null,null,null,"1.1.4","Substituição de ventoinha",1,"serv",33.67,33.67,{"$f":"'BDI - Demanda'!$E$27","v":0.1197},37.700000000000003]
[null,null,null,"1.1.5","Troca de gaxeta",1,"serv",115.03,115.03,{"$f":"'BDI - Demanda'!$E$27","v":0.1197},128.80000000000001]
[null,null,null,"1.1.6","Troca de selo mecânico",1,"serv",329.94,329.94,{"$f":"'BDI - Demanda'!$E$27","v":0.1197},369.43]
[null,null,null,"1.1.7","Troca de retentores",1,"serv",158.68,158.68,{"$f":"'BDI - Demanda'!$E$27","v":0.1197},177.67]
[null,null,null,"1.1.8","Troca de parafusos",1,"serv",70.7,70.7,{"$f":"'BDI - Demanda'!$E$27","v":0.1197},79.16]
[null,null,null,"1.1.9","Recuperação do rotor",1,"serv",222.2,222.2,{"$f":"'BDI - Demanda'!$E$27","v":0.1197},248.8]
[null,null,null,"1.1.10","Enchimento de eixos",1,"serv",153.19,153.19,{"$f":"'BDI - Demanda'!$E$27","v":0.1197},171.53]
[null,null,null,"1.1.11","Substituição de acoplamento",1,"serv",80.52,80.52,{"$f":"'BDI - Demanda'!$E$27","v":0.1197},90.16]
[null,null,null,"1.1.12","Troca de óleo",1,"serv",127.94,127.94,{"$f":"'BDI - Demanda'!$E$27","v":0.1197},143.25]
[null,null,null,"1.1.13","Serviço de solda",1,"serv",92.02,92.02,{"$f":"'BDI - Demanda'!$E$27","v":0.1197},103.03]
[null,null,null,"1.1.14","Rasgo de chaveta",1,"serv",328.25,328.25,{"$f":"'BDI - Demanda'!$E$27","v":0.1197},367.54]
[null,null,null,"1.1.15","Furo em acoplamento",1,"serv",115.03,115.03,{"$f":"'BDI - Demanda'!$E$27","v":0.1197},128.80000000000001]
[null,null,2,"1.2","Conserto de bomba hidráulica acionada por motor de 5 CV a 10 CV"]
[null,null,null,"1.2.1","Troca de rolamentos",1,"serv",323.64999999999998,{"$f":"F26*H26","v":323.64999999999998},{"$f":"'BDI - Demanda'!$E$27","v":0.1197},{"$f":"ROUND(I26*(1+J26),2)","v":362.39}]
[null,null,null,"1.2.2","Confecção e substituição de buchas",1,"serv",373.93,{"$f":"F27*H27","v":373.93},{"$f":"'BDI - Demanda'!$E$27","v":0.1197},{"$f":"ROUND(I27*(1+J27),2)","v":418.69}]
[null,null,null,"1.2.3","Serviço de torno",1,"serv",113.91,113.91,{"$f":"'BDI - Demanda'!$E$27","v":0.1197},127.55]
[null,null,null,"1.2.4","Substituição de ventoinha",1,"serv",39.28,39.28,{"$f":"'BDI - Demanda'!$E$27","v":0.1197},43.98]
[null,null,null,"1.2.5","Troca de gaxeta",1,"serv",115.03,115.03,{"$f":"'BDI - Demanda'!$E$27","v":0.1197},128.80000000000001]
[null,null,null,"1.2.6","Troca de selo mecânico",1,"serv",395.93,395.93,{"$f":"'BDI - Demanda'!$E$27","v":0.1197},443.32]
[null,null,null,"1.2.7","Troca de retentores",1,"serv",158.68,158.68,{"$f":"'BDI - Demanda'!$E$27","v":0.1197},177.67]
[null,null,null,"1.2.8","Troca de parafusos",1,"serv",70.7,70.7,{"$f":"'BDI - Demanda'!$E$27","v":0.1197},79.16]
[null,null,null,"1.2.9","Recuperação do rotor",1,"serv",222.2,222.2,{"$f":"'BDI - Demanda'!$E$27","v":0.1197},248.8]
[null,null,null,"1.2.10","Enchimento de eixos",1,"serv",164.97,164.97,{"$f":"'BDI - Demanda'!$E$27","v":0.1197},184.72]
[null,null,null,"1.2.11","Substituição de acoplamento",1,"serv",92.02,92.02,{"$f":"'BDI - Demanda'!$E$27","v":0.1197},103.03]
[null,null,null,"1.2.12","Troca de óleo",1,"serv",138.6,138.6,{"$f":"'BDI - Demanda'!$E$27","v":0.1197},155.19]
[null,null,null,"1.2.13","Serviço de solda",1,"serv",92.02,92.02,{"$f":"'BDI - Demanda'!$E$27","v":0.1197},103.03]
[null,null,null,"1.2.14","Rasgo de chaveta",1,"serv",32.83,32.83,{"$f":"'BDI - Demanda'!$E$27","v":0.1197},36.76]
[null,null,null,"1.2.15","Furo em acoplamento",1,"serv",115.03,115.03,{"$f":"'BDI - Demanda'!$E$27","v":0.1197},128.80000000000001]
[null,null,null,"1.3","Conserto de bomba hidráulica acionada por motor de 10 CV a 15 CV"]
[null,null,null,"1.3.1","Troca de rolamentos",1,"serv",346.77,{"$f":"F42*H42","v":346.77},{"$f":"'BDI - Demanda'!$E$27","v":0.1197},{"$f":"ROUND(I42*(1+J42),2)","v":388.28}]
[null,null,null,"1.3.2","Confecção e substituição de buchas",1,"serv",395.93,{"$f":"F43*H43","v":395.93},{"$f":"'BDI - Demanda'!$E$27","v":0.1197},{"$f":"ROUND(I43*(1+J43),2)","v":443.32}]
[null,null,null,"1.3.3","Serviço de torno",1,"serv",136.69,136.69,{"$f":"'BDI - Demanda'!$E$27","v":0.1197},153.05000000000001]
[null,null,null,"1.3.4","Substituição de ventoinha",1,"serv",42.65,42.65,{"$f":"'BDI - Demanda'!$E$27","v":0.1197},47.76]
[null,null,null,"1.3.5","Troca de gaxeta",1,"serv",126.53,126.53,{"$f":"'BDI - Demanda'!$E$27","v":0.1197},141.68]
[null,null,null,"1.3.6","Troca de selo mecânico",1,"serv",417.92,417.92,{"$f":"'BDI - Demanda'!$E$27","v":0.1197},467.95]
[null,null,null,"1.3.7","Troca de retentores",1,"serv",158.68,158.68,{"$f":"'BDI - Demanda'!$E$27","v":0.1197},177.67]
[null,null,null,"1.3.8","Troca de parafusos",1,"serv",82.48,82.48,{"$f":"'BDI - Demanda'!$E$27","v":0.1197},92.35]
[null,null,null,"1.3.9","Recuperação do rotor",1,"serv",244.42,244.42,{"$f":"'BDI - Demanda'!$E$27","v":0.1197},273.68]
[null,null,null,"1.3.10","Enchimento de eixos",1,"serv",164.97,164.97,{"$f":"'BDI - Demanda'!$E$27","v":0.1197},184.72]
[null,null,null,"1.3.11","Substituição de acoplamento",1,"serv",92.02,92.02,{"$f":"'BDI - Demanda'!$E$27","v":0.1197},103.03]
[null,null,null,"1.3.12","Troca de óleo",1,"serv",127.94,127.94,{"$f":"'BDI - Demanda'!$E$27","v":0.1197},143.25]
[null,null,null,"1.3.13","Serviço de solda",1,"serv",103.53,103.53,{"$f":"'BDI - Demanda'!$E$27","v":0.1197},115.92]
[null,null,null,"1.3.14","Rasgo de chaveta",1,"serv",38.299999999999997,38.299999999999997,{"$f":"'BDI - Demanda'!$E$27","v":0.1197},42.88]
[null,null,null,"1.3.15","Furo em acoplamento",1,"serv",115.03,115.03,{"$f":"'BDI - Demanda'!$E$27","v":0.1197},128.80000000000001]
[null,null,null,"1.4","Conserto de bomba hidráulica acionada por motor de 15 CV a 20 CV"]
[null,null,null,"1.4.1","Troca de rolamentos",1,"serv",439.24,{"$f":"F58*H58","v":439.24},{"$f":"'BDI - Demanda'!$E$27","v":0.1197},{"$f":"ROUND(I58*(1+J58),2)","v":491.82}]
[null,null,null,"1.4.2","Confecção e substituição de buchas",1,"serv",351.93,{"$f":"F59*H59","v":351.93},{"$f":"'BDI - Demanda'!$E$27","v":0.1197},{"$f":"ROUND(I59*(1+J59),2)","v":394.06}]
[null,null,null,"1.4.3","Serviço de torno",1,"serv",148.08000000000001,148.08000000000001,{"$f":"'BDI - Demanda'!$E$27","v":0.1197},165.81]
[null,null,null,"1.4.4","Substituição de ventoinha",1,"serv",44.89,44.89,{"$f":"'BDI - Demanda'!$E$27","v":0.1197},50.26]
[null,null,null,"1.4.5","Troca de gaxeta",1,"serv",161.04,161.04,{"$f":"'BDI - Demanda'!$E$27","v":0.1197},180.32]
[null,null,null,"1.4.6","Troca de selo mecânico",1,"serv",659.88,659.88,{"$f":"'BDI - Demanda'!$E$27","v":0.1197},738.87]
[null,null,null,"1.4.7","Troca de retentores",1,"serv",192.69,192.69,{"$f":"'BDI - Demanda'!$E$27","v":0.1197},215.75]
[null,null,null,"1.4.8","Troca de parafusos",1,"serv",76.59,76.59,{"$f":"'BDI - Demanda'!$E$27","v":0.1197},85.76]
[null,null,null,"1.4.9","Recuperação do rotor",1,"serv",233.31,233.31,{"$f":"'BDI - Demanda'!$E$27","v":0.1197},261.24]
[null,null,null,"1.4.10","Enchimento de eixos",1,"serv",188.54,188.54,{"$f":"'BDI - Demanda'!$E$27","v":0.1197},211.11]
[null,null,null,"1.4.11","Substituição de acoplamento",1,"serv",92.02,92.02,{"$f":"'BDI - Demanda'!$E$27","v":0.1197},103.03]
[null,null,null,"1.4.12","Troca de óleo",1,"serv",127.94,127.94,{"$f":"'BDI - Demanda'!$E$27","v":0.1197},143.25]
[null,null,null,"1.4.13","Serviço de solda",1,"serv",103.53,103.53,{"$f":"'BDI - Demanda'!$E$27","v":0.1197},115.92]
[null,null,null,"1.4.14","Rasgo de chaveta",1,"serv",43.77,43.77,{"$f":"'BDI - Demanda'!$E$27","v":0.1197},49.01]
[null,null,null,"1.4.15","Furo em acoplamento",1,"serv",161.04,161.04,{"$f":"'BDI - Demanda'!$E$27","v":0.1197},180.32]
[null,null,null,"1.5","Conserto de bomba hidráulica acionada por motor de 20 CV a 25 CV"]
[null,null,null,"1.5.1","Troca de rolamentos",1,"serv",520.16,{"$f":"F74*H74","v":520.16},{"$f":"'BDI - Demanda'!$E$27","v":0.1197},{"$f":"ROUND(I74*(1+J74),2)","v":582.41999999999996}]
[null,null,null,"1.5.2","Confecção e substituição de buchas",1,"serv",384.93,384.93,{"$f":"'BDI - Demanda'!$E$27","v":0.1197},431.01]
[null,null,null,"1.5.3","Serviço de torno",1,"serv",170.86,170.86,{"$f":"'BDI - Demanda'!$E$27","v":0.1197},191.31]
[null,null,null,"1.5.4","Substituição de ventoinha",1,"serv",56.11,56.11,{"$f":"'BDI - Demanda'!$E$27","v":0.1197},62.83]
[null,null,null,"1.5.5","Troca de gaxeta",1,"serv",161.04,161.04,{"$f":"'BDI - Demanda'!$E$27","v":0.1197},180.32]
[null,null,null,"1.5.6","Troca de selo mecânico",1,"serv",703.87,703.87,{"$f":"'BDI - Demanda'!$E$27","v":0.1197},788.12]
[null,null,null,"1.5.7","Troca de retentores",1,"serv",192.69,192.69,{"$f":"'BDI - Demanda'!$E$27","v":0.1197},215.75]
[null,null,null,"1.5.8","Troca de parafusos",1,"serv",82.48,82.48,{"$f":"'BDI - Demanda'!$E$27","v":0.1197},92.35]
[null,null,null,"1.5.9","Recuperação do rotor",1,"serv",255.53,255.53,{"$f":"'BDI - Demanda'!$E$27","v":0.1197},286.12]
[null,null,null,"1.5.10","Enchimento de eixos",1,"serv",200.32,200.32,{"$f":"'BDI - Demanda'!$E$27","v":0.1197},224.3]
[null,null,null,"1.5.11","Substituição de acoplamento",1,"serv",103.53,103.53,{"$f":"'BDI - Demanda'!$E$27","v":0.1197},115.92]
[null,null,null,"1.5.12","Troca de óleo",1,"serv",127.94,127.94,{"$f":"'BDI - Demanda'!$E$27","v":0.1197},143.25]
[null,null,null,"1.5.13","Serviço de solda",1,"serv",103.53,103.53,{"$f":"'BDI - Demanda'!$E$27","v":0.1197},115.92]
[null,null,null,"1.5.14","Rasgo de chaveta",1,"serv",43.77,43.77,{"$f":"'BDI - Demanda'!$E$27","v":0.1197},49.01]
[null,null,null,"1.5.15","Furo em acoplamento",1,"serv",161.04,161.04,{"$f":"'BDI - Demanda'!$E$27","v":0.1197},180.32]
[null,null,null,"1.6","Conserto de bomba hidráulica acionada por motor de 25 CV a 30 CV"]
[null,null,null,"1.6.1","Troca de rolamentos",1,"serv",751.34,{"$f":"F90*H90","v":751.34},{"$f":"'BDI - Demanda'!$E$27","v":0.1197},{"$f":"ROUND(I90*(1+J90),2)","v":841.28}]
[null,null,null,"1.6.2","Confecção e substituição de buchas",1,"serv",417.92,417.92,{"$f":"'BDI - Demanda'!$E$27","v":0.1197},467.95]
[null,null,null,"1.6.3","Serviço de torno",1,"serv",193.64,193.64,{"$f":"'BDI - Demanda'!$E$27","v":0.1197},216.82]
[null,null,null,"1.6.4","Substituição de ventoinha",1,"serv",67.33,67.33,{"$f":"'BDI - Demanda'!$E$27","v":0.1197},75.39]
[null,null,null,"1.6.5","Troca de gaxeta",1,"serv",172.54,172.54,{"$f":"'BDI - Demanda'!$E$27","v":0.1197},193.19]
[null,null,null,"1.6.6","Troca de selo mecânico",1,"serv",736.86,736.86,{"$f":"'BDI - Demanda'!$E$27","v":0.1197},825.06]
[null,null,null,"1.6.7","Troca de retentores",1,"serv",192.69,192.69,{"$f":"'BDI - Demanda'!$E$27","v":0.1197},215.75]
[null,null,null,"1.6.8","Troca de parafusos",1,"serv",94.27,94.27,{"$f":"'BDI - Demanda'!$E$27","v":0.1197},105.55]
[null,null,null,"1.6.9","Recuperação do rotor",1,"serv",277.75,277.75,{"$f":"'BDI - Demanda'!$E$27","v":0.1197},311]
[null,null,null,"1.6.10","Enchimento de eixos",1,"serv",141.4,141.4,{"$f":"'BDI - Demanda'!$E$27","v":0.1197},158.33000000000001]
[null,null,null,"1.6.11","Substituição de acoplamento",1,"serv",345.09,345.09,{"$f":"'BDI - Demanda'!$E$27","v":0.1197},386.4]
[null,null,null,"1.6.12","Troca de óleo",1,"serv",117.27,117.27,{"$f":"'BDI - Demanda'!$E$27","v":0.1197},131.31]
[null,null,null,"1.6.13","Serviço de solda",1,"serv",138.04,138.04,{"$f":"'BDI - Demanda'!$E$27","v":0.1197},154.56]
[null,null,null,"1.6.14","Rasgo de chaveta",1,"serv",43.77,43.77,{"$f":"'BDI - Demanda'!$E$27","v":0.1197},49.01]
[null,null,null,"1.6.15","Furo em acoplamento",1,"serv",161.04,161.04,{"$f":"'BDI - Demanda'!$E$27","v":0.1197},180.32]
[null,null,null,"1.7","Conserto de bomba hidráulica acionada por motor de 30 CV a 35 CV"]
[null,null,null,"1.7.1","Troca de rolamentos",1,"serv",982.52,{"$f":"F106*H106","v":982.52},{"$f":"'BDI - Demanda'!$E$27","v":0.1197},{"$f":"ROUND(I106*(1+J106),2)","v":1100.1300000000001}]
[null,null,null,"1.7.2","Confecção e substituição de buchas",1,"serv",439.92,439.92,{"$f":"'BDI - Demanda'!$E$27","v":0.1197},492.58]
[null,null,null,"1.7.3","Serviço de torno",1,"serv",193.64,193.64,{"$f":"'BDI - Demanda'!$E$27","v":0.1197},216.82]
[null,null,null,"1.7.4","Substituição de ventoinha",1,"serv",89.78,89.78,{"$f":"'BDI - Demanda'!$E$27","v":0.1197},100.53]
[null,null,null,"1.7.5","Troca de gaxeta",1,"serv",184.05,184.05,{"$f":"'BDI - Demanda'!$E$27","v":0.1197},206.08]
[null,null,null,"1.7.6","Troca de selo mecânico",1,"serv",879.84,879.84,{"$f":"'BDI - Demanda'!$E$27","v":0.1197},985.16]
[null,null,null,"1.7.7","Troca de retentores",1,"serv",192.69,192.69,{"$f":"'BDI - Demanda'!$E$27","v":0.1197},215.75]
[null,null,null,"1.7.8","Troca de parafusos",1,"serv",94.27,94.27,{"$f":"'BDI - Demanda'!$E$27","v":0.1197},105.55]
[null,null,null,"1.7.9","Recuperação do rotor",1,"serv",311.08,311.08,{"$f":"'BDI - Demanda'!$E$27","v":0.1197},348.32]
[null,null,null,"1.7.10","Enchimento de eixos",1,"serv",164.97,164.97,{"$f":"'BDI - Demanda'!$E$27","v":0.1197},184.72]
[null,null,null,"1.7.11","Substituição de acoplamento",1,"serv",101.23,101.23,{"$f":"'BDI - Demanda'!$E$27","v":0.1197},113.35]
[null,null,null,"1.7.12","Troca de óleo",1,"serv",149.26,149.26,{"$f":"'BDI - Demanda'!$E$27","v":0.1197},167.13]
[null,null,null,"1.7.13","Serviço de solda",1,"serv",149.54,149.54,{"$f":"'BDI - Demanda'!$E$27","v":0.1197},167.44]
[null,null,null,"1.7.14","Rasgo de chaveta",1,"serv",54.71,54.71,{"$f":"'BDI - Demanda'!$E$27","v":0.1197},61.26]
[null,null,null,"1.7.15","Furo em acoplamento",1,"serv",195.55,195.55,{"$f":"'BDI - Demanda'!$E$27","v":0.1197},218.96]
[null,null,null,"1.8","Conserto de bomba hidráulica acionada por motor de 35 CV a 40 CV"]
[null,null,null,"1.8.1","Troca de rolamentos",1,"serv",982.52,{"$f":"F122*H122","v":982.52},{"$f":"'BDI - Demanda'!$E$27","v":0.1197},{"$f":"ROUND(I122*(1+J122),2)","v":1100.1300000000001}]
[null,null,null,"1.8.2","Confecção e substituição de buchas",1,"serv",439.92,439.92,{"$f":"'BDI - Demanda'!$E$27","v":0.1197},492.58]
[null,null,null,"1.8.3","Serviço de torno",1,"serv",193.64,193.64,{"$f":"'BDI - Demanda'!$E$27","v":0.1197},216.82]
[null,null,null,"1.8.4","Substituição de ventoinha",1,"serv",89.78,89.78,{"$f":"'BDI - Demanda'!$E$27","v":0.1197},100.53]
[null,null,null,"1.8.5","Troca de gaxeta",1,"serv",184.05,184.05,{"$f":"'BDI - Demanda'!$E$27","v":0.1197},206.08]
[null,null,null,"1.8.6","Troca de selo mecânico",1,"serv",879.84,879.84,{"$f":"'BDI - Demanda'!$E$27","v":0.1197},985.16]
[null,null,null,"1.8.7","Troca de retentores",1,"serv",192.69,192.69,{"$f":"'BDI - Demanda'!$E$27","v":0.1197},215.75]
[null,null,null,"1.8.8","Troca de parafusos",1,"serv",94.27,94.27,{"$f":"'BDI - Demanda'!$E$27","v":0.1197},105.55]
[null,null,null,"1.8.9","Recuperação do rotor",1,"serv",311.08,311.08,{"$f":"'BDI - Demanda'!$E$27","v":0.1197},348.32]
[null,null,null,"1.8.10","Enchimento de eixos",1,"serv",164.97,164.97,{"$f":"'BDI - Demanda'!$E$27","v":0.1197},184.72]
[null,null,null,"1.8.11","Substituição de acoplamento",1,"serv",101.23,101.23,{"$f":"'BDI - Demanda'!$E$27","v":0.1197},113.35]
[null,null,null,"1.8.12","Troca de óleo",1,"serv",149.26,149.26,{"$f":"'BDI - Demanda'!$E$27","v":0.1197},167.13]
[null,null,null,"1.8.13","Serviço de solda",1,"serv",149.54,149.54,{"$f":"'BDI - Demanda'!$E$27","v":0.1197},167.44]
[null,null,null,"1.8.14","Rasgo de chaveta",1,"serv",54.71,54.71,{"$f":"'BDI - Demanda'!$E$27","v":0.1197},61.26]
[null,null,null,"1.8.15","Furo em acoplamento",1,"serv",195.55,195.55,{"$f":"'BDI - Demanda'!$E$27","v":0.1197},218.96]
[null,null,null,"1.9","Conserto de bomba hidráulica acionada por motor de 40 CV a 50 CV"]
[null,null,null,"1.9.1","Troca de rolamentos",1,"serv",1040.32,{"$f":"F138*H138","v":1040.32},{"$f":"'BDI - Demanda'!$E$27","v":0.1197},{"$f":"ROUND(I138*(1+J138),2)","v":1164.8499999999999}]
[null,null,null,"1.9.2","Confecção e substituição de buchas",1,"serv",439.92,439.92,{"$f":"'BDI - Demanda'!$E$27","v":0.1197},492.58]
[null,null,null,"1.9.3","Serviço de torno",1,"serv",193.64,193.64,{"$f":"'BDI - Demanda'!$E$27","v":0.1197},216.82]
[null,null,null,"1.9.4","Substituição de ventoinha",1,"serv",190.78,190.78,{"$f":"'BDI - Demanda'!$E$27","v":0.1197},213.62]
[null,null,null,"1.9.5","Troca de gaxeta",1,"serv",184.05,184.05,{"$f":"'BDI - Demanda'!$E$27","v":0.1197},206.08]
[null,null,null,"1.9.6","Troca de selo mecânico",1,"serv",989.81,989.81,{"$f":"'BDI - Demanda'!$E$27","v":0.1197},1108.29]
[null,null,null,"1.9.7","Troca de retentores",1,"serv",181.35,181.35,{"$f":"'BDI - Demanda'!$E$27","v":0.1197},203.06]
[null,null,null,"1.9.8","Troca de parafusos",1,"serv",106.05,106.05,{"$f":"'BDI - Demanda'!$E$27","v":0.1197},118.74]
[null,null,null,"1.9.9","Recuperação do rotor",1,"serv",322.19,322.19,{"$f":"'BDI - Demanda'!$E$27","v":0.1197},360.76]
[null,null,null,"1.9.10","Enchimento de eixos",1,"serv",176.75,176.75,{"$f":"'BDI - Demanda'!$E$27","v":0.1197},197.91]
[null,null,null,"1.9.11","Substituição de acoplamento",1,"serv",1012.26,1012.26,{"$f":"'BDI - Demanda'!$E$27","v":0.1197},1133.43]
[null,null,null,"1.9.12","Troca de óleo",1,"serv",149.26,149.26,{"$f":"'BDI - Demanda'!$E$27","v":0.1197},167.13]
[null,null,null,"1.9.13","Serviço de solda",1,"serv",149.54,149.54,{"$f":"'BDI - Demanda'!$E$27","v":0.1197},167.44]
[null,null,null,"1.9.14","Rasgo de chaveta",1,"serv",54.71,54.71,{"$f":"'BDI - Demanda'!$E$27","v":0.1197},61.26]
[null,null,null,"1.9.15","Furo em acoplamento",1,"serv",195.55,195.55,{"$f":"'BDI - Demanda'!$E$27","v":0.1197},218.96]
[null,null,null,"1.10","Conserto de bomba hidráulica acionada por motor de 50 CV a 60 CV"]
[null,null,null,"1.10.1","Troca de rolamentos",1,"serv",1040.32,{"$f":"F154*H154","v":1040.32},{"$f":"'BDI - Demanda'!$E$27","v":0.1197},{"$f":"ROUND(I154*(1+J154),2)","v":1164.8499999999999}]
[null,null,null,"1.10.2","Confecção e substituição de buchas",1,"serv",439.92,439.92,{"$f":"'BDI - Demanda'!$E$27","v":0.1197},492.58]
[null,null,null,"1.10.3","Serviço de torno",1,"serv",193.64,193.64,{"$f":"'BDI - Demanda'!$E$27","v":0.1197},216.82]
[null,null,null,"1.10.4","Substituição de ventoinha",1,"serv",196.39,196.39,{"$f":"'BDI - Demanda'!$E$27","v":0.1197},219.9]
[null,null,null,"1.10.5","Troca de gaxeta",1,"serv",184.05,184.05,{"$f":"'BDI - Demanda'!$E$27","v":0.1197},206.08]
[null,null,null,"1.10.6","Troca de selo mecânico",1,"serv",1034.7,1034.7,{"$f":"'BDI - Demanda'!$E$27","v":0.1197},1158.55]
[null,null,null,"1.10.7","Troca de retentores",1,"serv",181.35,181.35,{"$f":"'BDI - Demanda'!$E$27","v":0.1197},203.06]
[null,null,null,"1.10.8","Troca de parafusos",1,"serv",111.66,111.66,{"$f":"'BDI - Demanda'!$E$27","v":0.1197},125.03]
[null,null,null,"1.10.9","Recuperação do rotor",1,"serv",266.08,266.08,{"$f":"'BDI - Demanda'!$E$27","v":0.1197},297.93]
[null,null,null,"1.10.10","Enchimento de eixos",1,"serv",182.36,182.36,{"$f":"'BDI - Demanda'!$E$27","v":0.1197},204.19]
[null,null,null,"1.10.11","Substituição de acoplamento",1,"serv",1051.54,1051.54,{"$f":"'BDI - Demanda'!$E$27","v":0.1197},1177.4100000000001]
[null,null,null,"1.10.12","Troca de óleo",1,"serv",154.87,154.87,{"$f":"'BDI - Demanda'!$E$27","v":0.1197},173.41]
[null,null,null,"1.10.13","Serviço de solda",1,"serv",155.15,155.15,{"$f":"'BDI - Demanda'!$E$27","v":0.1197},173.72]
[null,null,null,"1.10.14","Rasgo de chaveta",1,"serv",54.71,54.71,{"$f":"'BDI - Demanda'!$E$27","v":0.1197},61.26]
[null,null,null,"1.10.15","Furo em acoplamento",1,"serv",195.55,195.55,{"$f":"'BDI - Demanda'!$E$27","v":0.1197},218.96]
[null,null,null,"1.11","Conserto de bomba hidráulica acionada por motor de 60 CV a 70 CV"]
[null,null,null,"1.11.1","Troca de rolamentos",1,"serv",1132.79,{"$f":"F170*H170","v":1132.79},{"$f":"'BDI - Demanda'!$E$27","v":0.1197},{"$f":"ROUND(I170*(1+J170),2)","v":1268.3800000000001}]
[null,null,null,"1.11.2","Confecção e substituição de buchas",1,"serv",439.92,439.92,{"$f":"'BDI - Demanda'!$E$27","v":0.1197},492.58]
[null,null,null,"1.11.3","Serviço de torno",1,"serv",227.81,227.81,{"$f":"'BDI - Demanda'!$E$27","v":0.1197},255.08]
[null,null,null,"1.11.4","Substituição de ventoinha",1,"serv",2244.48,2244.48,{"$f":"'BDI - Demanda'!$E$27","v":0.1197},2513.14]
[null,null,null,"1.11.5","Troca de gaxeta",1,"serv",184.05,184.05,{"$f":"'BDI - Demanda'!$E$27","v":0.1197},206.08]
[null,null,null,"1.11.6","Troca de selo mecânico",1,"serv",1154.78,1154.78,{"$f":"'BDI - Demanda'!$E$27","v":0.1197},1293.01]
[null,null,null,"1.11.7","Troca de retentores",1,"serv",226.69,226.69,{"$f":"'BDI - Demanda'!$E$27","v":0.1197},253.82]
[null,null,null,"1.11.8","Troca de parafusos",1,"serv",1178.3499999999999,1178.3499999999999,{"$f":"'BDI - Demanda'!$E$27","v":0.1197},1319.4]
[null,null,null,"1.11.9","Recuperação do rotor",1,"serv",322.19,322.19,{"$f":"'BDI - Demanda'!$E$27","v":0.1197},360.76]
[null,null,null,"1.11.10","Enchimento de eixos",1,"serv",212.1,212.1,{"$f":"'BDI - Demanda'!$E$27","v":0.1197},237.49]
[null,null,null,"1.11.11","Substituição de acoplamento",1,"serv",1242.32,1242.32,{"$f":"'BDI - Demanda'!$E$27","v":0.1197},1391.03]
[null,null,null,"1.11.12","Troca de óleo",1,"serv",213.23,213.23,{"$f":"'BDI - Demanda'!$E$27","v":0.1197},238.75]
[null,null,null,"1.11.13","Serviço de solda",1,"serv",276.07,276.07,{"$f":"'BDI - Demanda'!$E$27","v":0.1197},309.12]
[null,null,null,"1.11.14","Rasgo de chaveta",1,"serv",87.53,87.53,{"$f":"'BDI - Demanda'!$E$27","v":0.1197},98.01]
[null,null,null,"1.11.15","Furo em acoplamento",1,"serv",207.05,207.05,{"$f":"'BDI - Demanda'!$E$27","v":0.1197},231.83]
[null,null,null,"1.12","Conserto de bomba hidráulica acionada por motor de 70 CV a 80 CV"]
[null,null,null,"1.12.1","Troca de rolamentos",1,"serv",1132.79,{"$f":"F186*H186","v":1132.79},{"$f":"'BDI - Demanda'!$E$27","v":0.1197},{"$f":"ROUND(I186*(1+J186),2)","v":1268.3800000000001}]
[null,null,null,"1.12.2","Confecção e substituição de buchas",1,"serv",439.92,439.92,{"$f":"'BDI - Demanda'!$E$27","v":0.1197},492.58]
[null,null,null,"1.12.3","Serviço de torno",1,"serv",227.81,227.81,{"$f":"'BDI - Demanda'!$E$27","v":0.1197},255.08]
[null,null,null,"1.12.4","Substituição de ventoinha",1,"serv",2244.48,2244.48,{"$f":"'BDI - Demanda'!$E$27","v":0.1197},2513.14]
[null,null,null,"1.12.5","Troca de gaxeta",1,"serv",184.05,184.05,{"$f":"'BDI - Demanda'!$E$27","v":0.1197},206.08]
[null,null,null,"1.12.6","Troca de selo mecânico",1,"serv",1154.78,1154.78,{"$f":"'BDI - Demanda'!$E$27","v":0.1197},1293.01]
[null,null,null,"1.12.7","Troca de retentores",1,"serv",226.69,226.69,{"$f":"'BDI - Demanda'!$E$27","v":0.1197},253.82]
[null,null,null,"1.12.8","Troca de parafusos",1,"serv",1178.3499999999999,1178.3499999999999,{"$f":"'BDI - Demanda'!$E$27","v":0.1197},1319.4]
[null,null,null,"1.12.9","Recuperação do rotor",1,"serv",322.19,322.19,{"$f":"'BDI - Demanda'!$E$27","v":0.1197},360.76]
[null,null,null,"1.12.10","Enchimento de eixos",1,"serv",212.1,212.1,{"$f":"'BDI - Demanda'!$E$27","v":0.1197},237.49]
[null,null,null,"1.12.11","Substituição de acoplamento",1,"serv",1242.32,1242.32,{"$f":"'BDI - Demanda'!$E$27","v":0.1197},1391.03]
[null,null,null,"1.12.12","Troca de óleo",1,"serv",213.23,213.23,{"$f":"'BDI - Demanda'!$E$27","v":0.1197},238.75]
[null,null,null,"1.12.13","Serviço de solda",1,"serv",276.07,276.07,{"$f":"'BDI - Demanda'!$E$27","v":0.1197},309.12]
[null,null,null,"1.12.14","Rasgo de chaveta",1,"serv",87.53,87.53,{"$f":"'BDI - Demanda'!$E$27","v":0.1197},98.01]
[null,null,null,"1.12.15","Furo em acoplamento",1,"serv",207.05,207.05,{"$f":"'BDI - Demanda'!$E$27","v":0.1197},231.83]
[null,null,null,"1.13","Conserto de bomba hidráulica acionada por motor de 80 CV a 90 CV"]
[null,null,null,"1.13.1","Troca de rolamentos",1,"serv",1387.09,{"$f":"F202*H202","v":1387.09},{"$f":"'BDI - Demanda'!$E$27","v":0.1197},{"$f":"ROUND(I202*(1+J202),2)","v":1553.12}]
[null,null,null,"1.13.2","Confecção e substituição de buchas",1,"serv",494.91,494.91,{"$f":"'BDI - Demanda'!$E$27","v":0.1197},554.15]
[null,null,null,"1.13.3","Serviço de torno",1,"serv",284.77,284.77,{"$f":"'BDI - Demanda'!$E$27","v":0.1197},318.86]
[null,null,null,"1.13.4","Substituição de ventoinha",1,"serv",235.67,235.67,{"$f":"'BDI - Demanda'!$E$27","v":0.1197},263.88]
[null,null,null,"1.13.5","Troca de gaxeta",1,"serv",207.05,207.05,{"$f":"'BDI - Demanda'!$E$27","v":0.1197},231.83]
[null,null,null,"1.13.6","Troca de selo mecânico",1,"serv",1319.75,1319.75,{"$f":"'BDI - Demanda'!$E$27","v":0.1197},1477.72]
[null,null,null,"1.13.7","Troca de retentores",1,"serv",226.69,226.69,{"$f":"'BDI - Demanda'!$E$27","v":0.1197},253.82]
[null,null,null,"1.13.8","Troca de parafusos",1,"serv",129.62,129.62,{"$f":"'BDI - Demanda'!$E$27","v":0.1197},145.13999999999999]
[null,null,null,"1.13.9","Recuperação do rotor",1,"serv",355.53,355.53,{"$f":"'BDI - Demanda'!$E$27","v":0.1197},398.09]
[null,null,null,"1.13.10","Enchimento de eixos",1,"serv",247.45,247.45,{"$f":"'BDI - Demanda'!$E$27","v":0.1197},277.07]
[null,null,null,"1.13.11","Substituição de acoplamento",1,"serv",1322.84,1322.84,{"$f":"'BDI - Demanda'!$E$27","v":0.1197},1481.18]
[null,null,null,"1.13.12","Troca de óleo",1,"serv",213.23,213.23,{"$f":"'BDI - Demanda'!$E$27","v":0.1197},238.75]
[null,null,null,"1.13.13","Serviço de solda",1,"serv",276.07,276.07,{"$f":"'BDI - Demanda'!$E$27","v":0.1197},309.12]
[null,null,null,"1.13.14","Rasgo de chaveta",1,"serv",196.95,196.95,{"$f":"'BDI - Demanda'!$E$27","v":0.1197},220.52]
[null,null,null,"1.13.15","Furo em acoplamento",1,"serv",207.05,207.05,{"$f":"'BDI - Demanda'!$E$27","v":0.1197},231.83]
[null,null,null,"1.14","Conserto de bomba hidráulica acionada por motor de 90 CV a 100 CV"]
[null,null,null,"1.14.1","Troca de rolamentos",1,"serv",1387.09,{"$f":"F218*H218","v":1387.09},{"$f":"'BDI - Demanda'!$E$27","v":0.1197},{"$f":"ROUND(I218*(1+J218),2)","v":1553.12}]
[null,null,null,"1.14.2","Confecção e substituição de buchas",1,"serv",494.91,494.91,{"$f":"'BDI - Demanda'!$E$27","v":0.1197},554.15]
[null,null,null,"1.14.3","Serviço de torno",1,"serv",284.77,284.77,{"$f":"'BDI - Demanda'!$E$27","v":0.1197},318.86]
[null,null,null,"1.14.4","Substituição de ventoinha",1,"serv",235.67,235.67,{"$f":"'BDI - Demanda'!$E$27","v":0.1197},263.88]
[null,null,null,"1.14.5","Troca de gaxeta",1,"serv",207.05,207.05,{"$f":"'BDI - Demanda'!$E$27","v":0.1197},231.83]
[null,null,null,"1.14.6","Troca de selo mecânico",1,"serv",1319.75,1319.75,{"$f":"'BDI - Demanda'!$E$27","v":0.1197},1477.72]
[null,null,null,"1.14.7","Troca de retentores",1,"serv",226.69,226.69,{"$f":"'BDI - Demanda'!$E$27","v":0.1197},253.82]
[null,null,null,"1.14.8","Troca de parafusos",1,"serv",129.62,129.62,{"$f":"'BDI - Demanda'!$E$27","v":0.1197},145.13999999999999]
[null,null,null,"1.14.9","Recuperação do rotor",1,"serv",355.53,355.53,{"$f":"'BDI - Demanda'!$E$27","v":0.1197},398.09]
[null,null,null,"1.14.10","Enchimento de eixos",1,"serv",247.45,247.45,{"$f":"'BDI - Demanda'!$E$27","v":0.1197},277.07]
[null,null,null,"1.14.11","Substituição de acoplamento",1,"serv",1322.84,1322.84,{"$f":"'BDI - Demanda'!$E$27","v":0.1197},1481.18]
[null,null,null,"1.14.12","Troca de óleo",1,"serv",1223.24,1223.24,{"$f":"'BDI - Demanda'!$E$27","v":0.1197},1369.66]
[null,null,null,"1.14.13","Serviço de solda",1,"serv",276.07,276.07,{"$f":"'BDI - Demanda'!$E$27","v":0.1197},309.12]
[null,null,null,"1.14.14","Rasgo de chaveta",1,"serv",196.95,196.95,{"$f":"'BDI - Demanda'!$E$27","v":0.1197},220.52]
[null,null,null,"1.14.15","Furo em acoplamento",1,"serv",207.05,207.05,{"$f":"'BDI - Demanda'!$E$27","v":0.1197},231.83]
[null,null,null,"1.15","Conserto de bomba hidráulica acionada por motor de 100 CV a 110 CV"]
[null,null,null,"1.15.1","Troca de rolamentos",1,"serv",1387.09,{"$f":"F234*H234","v":1387.09},{"$f":"'BDI - Demanda'!$E$27","v":0.1197},{"$f":"ROUND(I234*(1+J234),2)","v":1553.12}]
[null,null,null,"1.15.2","Confecção e substituição de buchas",1,"serv",494.91,494.91,{"$f":"'BDI - Demanda'!$E$27","v":0.1197},554.15]
[null,null,null,"1.15.3","Serviço de torno",1,"serv",284.77,284.77,{"$f":"'BDI - Demanda'!$E$27","v":0.1197},318.86]
[null,null,null,"1.15.4","Substituição de ventoinha",1,"serv",235.67,235.67,{"$f":"'BDI - Demanda'!$E$27","v":0.1197},263.88]
[null,null,null,"1.15.5","Troca de gaxeta",1,"serv",207.05,207.05,{"$f":"'BDI - Demanda'!$E$27","v":0.1197},231.83]
[null,null,null,"1.15.6","Troca de selo mecânico",1,"serv",1319.75,1319.75,{"$f":"'BDI - Demanda'!$E$27","v":0.1197},1477.72]
[null,null,null,"1.15.7","Troca de retentores",1,"serv",226.69,226.69,{"$f":"'BDI - Demanda'!$E$27","v":0.1197},253.82]
[null,null,null,"1.15.8","Troca de parafusos",1,"serv",129.62,129.62,{"$f":"'BDI - Demanda'!$E$27","v":0.1197},145.13999999999999]
[null,null,null,"1.15.9","Recuperação do rotor",1,"serv",355.53,355.53,{"$f":"'BDI - Demanda'!$E$27","v":0.1197},398.09]
[null,null,null,"1.15.10","Enchimento de eixos",1,"serv",247.45,247.45,{"$f":"'BDI - Demanda'!$E$27","v":0.1197},277.07]
[null,null,null,"1.15.11","Substituição de acoplamento",1,"serv",1322.84,1322.84,{"$f":"'BDI - Demanda'!$E$27","v":0.1197},1481.18]
[null,null,null,"1.15.12","Troca de óleo",1,"serv",213.23,213.23,{"$f":"'BDI - Demanda'!$E$27","v":0.1197},238.75]
[null,null,null,"1.15.13","Serviço de solda",1,"serv",276.07,276.07,{"$f":"'BDI - Demanda'!$E$27","v":0.1197},309.12]
[null,null,null,"1.15.14","Rasgo de chaveta",1,"serv",196.95,196.95,{"$f":"'BDI - Demanda'!$E$27","v":0.1197},220.52]
[null,null,null,"1.15.15","Furo em acoplamento",1,"serv",207.05,207.05,{"$f":"'BDI - Demanda'!$E$27","v":0.1197},231.83]
[null,null,null,"1.16","Conserto de bomba hidráulica acionada por motor de 110 CV a 130 CV"]
[null,null,null,"1.16.1","Troca de rolamentos",1,"serv",1387.09,{"$f":"F250*H250","v":1387.09},{"$f":"'BDI - Demanda'!$E$27","v":0.1197},{"$f":"ROUND(I250*(1+J250),2)","v":1553.12}]
[null,null,null,"1.16.2","Confecção e substituição de buchas",1,"serv",494.91,494.91,{"$f":"'BDI - Demanda'!$E$27","v":0.1197},554.15]
[null,null,null,"1.16.3","Serviço de torno",1,"serv",284.77,284.77,{"$f":"'BDI - Demanda'!$E$27","v":0.1197},318.86]
[null,null,null,"1.16.4","Substituição de ventoinha",1,"serv",235.67,235.67,{"$f":"'BDI - Demanda'!$E$27","v":0.1197},263.88]
[null,null,null,"1.16.5","Troca de gaxeta",1,"serv",207.05,207.05,{"$f":"'BDI - Demanda'!$E$27","v":0.1197},231.83]
[null,null,null,"1.16.6","Troca de selo mecânico",1,"serv",1319.75,1319.75,{"$f":"'BDI - Demanda'!$E$27","v":0.1197},1477.72]
[null,null,null,"1.16.7","Troca de retentores",1,"serv",226.69,226.69,{"$f":"'BDI - Demanda'!$E$27","v":0.1197},253.82]
[null,null,null,"1.16.8","Troca de parafusos",1,"serv",129.62,129.62,{"$f":"'BDI - Demanda'!$E$27","v":0.1197},145.13999999999999]
[null,null,null,"1.16.9","Recuperação do rotor",1,"serv",355.53,355.53,{"$f":"'BDI - Demanda'!$E$27","v":0.1197},398.09]
[null,null,null,"1.16.10","Enchimento de eixos",1,"serv",247.45,247.45,{"$f":"'BDI - Demanda'!$E$27","v":0.1197},277.07]
[null,null,null,"1.16.11","Substituição de acoplamento",1,"serv",1322.84,1322.84,{"$f":"'BDI - Demanda'!$E$27","v":0.1197},1481.18]
[null,null,null,"1.16.12","Troca de óleo",1,"serv",213.23,213.23,{"$f":"'BDI - Demanda'!$E$27","v":0.1197},238.75]
[null,null,null,"1.16.13","Serviço de solda",1,"serv",276.07,276.07,{"$f":"'BDI - Demanda'!$E$27","v":0.1197},309.12]
[null,null,null,"1.16.14","Rasgo de chaveta",1,"serv",196.95,196.95,{"$f":"'BDI - Demanda'!$E$27","v":0.1197},220.52]
[null,null,null,"1.16.15","Furo em acoplamento",1,"serv",207.05,207.05,{"$f":"'BDI - Demanda'!$E$27","v":0.1197},231.83]
[null,null,null,"1.17","Conserto de bomba hidráulica acionada por motor de 130 CV a 150 CV"]
[null,null,null,"1.17.1","Troca de rolamentos",1,"serv",1502.68,{"$f":"F266*H266","v":1502.68},{"$f":"'BDI - Demanda'!$E$27","v":0.1197},{"$f":"ROUND(I266*(1+J266),2)","v":1682.55}]
[null,null,null,"1.17.2","Confecção e substituição de buchas",1,"serv",494.91,494.91,{"$f":"'BDI - Demanda'!$E$27","v":0.1197},554.15]
[null,null,null,"1.17.3","Serviço de torno",1,"serv",296.16000000000003,296.16000000000003,{"$f":"'BDI - Demanda'!$E$27","v":0.1197},331.61]
[null,null,null,"1.17.4","Substituição de ventoinha",1,"serv",280.56,280.56,{"$f":"'BDI - Demanda'!$E$27","v":0.1197},314.14]
[null,null,null,"1.17.5","Troca de gaxeta",1,"serv",230.06,230.06,{"$f":"'BDI - Demanda'!$E$27","v":0.1197},257.60000000000002]
[null,null,null,"1.17.6","Troca de selo mecânico",1,"serv",219.96,219.96,{"$f":"'BDI - Demanda'!$E$27","v":0.1197},246.29]
[null,null,null,"1.17.7","Troca de retentores",1,"serv",147.35,147.35,{"$f":"'BDI - Demanda'!$E$27","v":0.1197},164.99]
[null,null,null,"1.17.8","Troca de parafusos",1,"serv",388.86,388.86,{"$f":"'BDI - Demanda'!$E$27","v":0.1197},435.41]
[null,null,null,"1.17.9","Recuperação do rotor",1,"serv",244.42,244.42,{"$f":"'BDI - Demanda'!$E$27","v":0.1197},273.68]
[null,null,null,"1.17.10","Enchimento de eixos",1,"serv",235.67,235.67,{"$f":"'BDI - Demanda'!$E$27","v":0.1197},263.88]
[null,null,null,"1.17.11","Substituição de acoplamento",1,"serv",1380.35,1380.35,{"$f":"'BDI - Demanda'!$E$27","v":0.1197},1545.58]
[null,null,null,"1.17.12","Troca de óleo",1,"serv",213.23,213.23,{"$f":"'BDI - Demanda'!$E$27","v":0.1197},238.75]
[null,null,null,"1.17.13","Serviço de solda",1,"serv",276.07,276.07,{"$f":"'BDI - Demanda'!$E$27","v":0.1197},309.12]
[null,null,null,"1.17.14","Rasgo de chaveta",1,"serv",196.95,196.95,{"$f":"'BDI - Demanda'!$E$27","v":0.1197},220.52]
[null,null,null,"1.17.15","Furo em acoplamento",1,"serv",184.05,184.05,{"$f":"'BDI - Demanda'!$E$27","v":0.1197},206.08]
[null,null,null,2,"SERVIÇOS ESPECIALIZADOS DE MANUTENÇÃO CORRETIVA PARA MOTORES ELÉTRICOS"]
[null,null,null,"2.1","Conserto de motor elétrico/motor ventilador de 1/30 cv a 1/8 cv"]
[null,null,null,"2.1.1","Troca de rolamentos",1,"serv",69.349999999999994,{"$f":"F283*H283","v":69.349999999999994},{"$f":"'BDI - Demanda'!$E$27","v":0.1197},{"$f":"ROUND(I283*(1+J283),2)","v":77.650000000000006}]
[null,null,null,"2.1.2","Confecção e substituição de buchas",1,"serv",76.989999999999995,76.989999999999995,{"$f":"'BDI - Demanda'!$E$27","v":0.1197},86.21]
[null,null,null,"2.1.3","Serviço de torno",1,"serv",56.95,56.95,{"$f":"'BDI - Demanda'!$E$27","v":0.1197},63.77]
[null,null,null,"2.1.4","Substituição de ventoinha",1,"serv",16.829999999999998,16.829999999999998,{"$f":"'BDI - Demanda'!$E$27","v":0.1197},18.84]
[null,null,null,"2.1.5","Enchimento das tampas",1,"serv",46.01,46.01,{"$f":"'BDI - Demanda'!$E$27","v":0.1197},51.52]
[null,null,null,"2.1.6","Rebobinamento",1,"serv",117.68,117.68,{"$f":"'BDI - Demanda'!$E$27","v":0.1197},131.77000000000001]
[null,null,null,"2.1.7","Serviços no eixo",1,"serv",39.67,39.67,{"$f":"'BDI - Demanda'!$E$27","v":0.1197},44.42]
[null,null,null,"2.1.8","Troca de parafusos",1,"serv",23.57,23.57,{"$f":"'BDI - Demanda'!$E$27","v":0.1197},26.39]
[null,null,null,"2.1.9","Troca de capacitor",1,"serv",22.22,22.22,{"$f":"'BDI - Demanda'!$E$27","v":0.1197},24.88]
[null,null,null,"2.1.10","Enchimento de eixos",1,"serv",47.13,47.13,{"$f":"'BDI - Demanda'!$E$27","v":0.1197},52.77]
[null,null,null,"2.1.11","Substituição de acoplamento",1,"serv",46.01,46.01,{"$f":"'BDI - Demanda'!$E$27","v":0.1197},51.52]
[null,null,null,"2.1.12","Serviço de solda",1,"serv",31.98,31.98,{"$f":"'BDI - Demanda'!$E$27","v":0.1197},35.81]
[null,null,null,"2.1.13","Rasgo de chaveta",1,"serv",34.51,34.51,{"$f":"'BDI - Demanda'!$E$27","v":0.1197},38.64]
[null,null,null,"2.1.14","Furo em acoplamento",1,"serv",87.53,87.53,{"$f":"'BDI - Demanda'!$E$27","v":0.1197},98.01]
[null,null,null,"2.1.15","Substituição das tampas",1,"serv",46.01,46.01,{"$f":"'BDI - Demanda'!$E$27","v":0.1197},51.52]
[null,null,null,"2.1.16","Substituição de terminais",1,"serv",11.22,11.22,{"$f":"'BDI - Demanda'!$E$27","v":0.1197},12.56]
[null,null,null,"2.1.17","Substituição de travas",1,"serv",11.22,11.22,{"$f":"'BDI - Demanda'!$E$27","v":0.1197},12.56]
[null,null,null,"2.1.18","Troca da turbina",1,"serv",65.650000000000006,65.650000000000006,{"$f":"'BDI - Demanda'!$E$27","v":0.1197},73.510000000000005]
[null,null,null,"2.2","Conserto de motor elétrico/motor ventilador de 1/8 cv a 1/3 cv"]
[null,null,null,"2.2.1","Troca de rolamentos",1,"serv",69.349999999999994,{"$f":"F302*H302","v":69.349999999999994},{"$f":"'BDI - Demanda'!$E$27","v":0.1197},{"$f":"ROUND(I302*(1+J302),2)","v":77.650000000000006}]
[null,null,null,"2.2.2","Confecção e substituição de buchas",1,"serv",76.989999999999995,76.989999999999995,{"$f":"'BDI - Demanda'!$E$27","v":0.1197},86.21]
[null,null,null,"2.2.3","Serviço de torno",1,"serv",56.95,56.95,{"$f":"'BDI - Demanda'!$E$27","v":0.1197},63.77]
[null,null,null,"2.2.4","Substituição de ventoinha",1,"serv",16.829999999999998,16.829999999999998,{"$f":"'BDI - Demanda'!$E$27","v":0.1197},18.84]
[null,null,null,"2.2.5","Enchimento das tampas",1,"serv",46.01,46.01,{"$f":"'BDI - Demanda'!$E$27","v":0.1197},51.52]
[null,null,null,"2.2.6","Rebobinamento",1,"serv",117.68,117.68,{"$f":"'BDI - Demanda'!$E$27","v":0.1197},131.77000000000001]
[null,null,null,"2.2.7","Serviços no eixo",1,"serv",39.67,39.67,{"$f":"'BDI - Demanda'!$E$27","v":0.1197},44.42]
[null,null,null,"2.2.8","Troca de parafusos",1,"serv",23.57,23.57,{"$f":"'BDI - Demanda'!$E$27","v":0.1197},26.39]
[null,null,null,"2.2.9","Troca de capacitor",1,"serv",22.22,22.22,{"$f":"'BDI - Demanda'!$E$27","v":0.1197},24.88]
[null,null,null,"2.2.10","Enchimento de eixos",1,"serv",47.13,47.13,{"$f":"'BDI - Demanda'!$E$27","v":0.1197},52.77]
[null,null,null,"2.2.11","Substituição de acoplamento",1,"serv",46.01,46.01,{"$f":"'BDI - Demanda'!$E$27","v":0.1197},51.52]
[null,null,null,"2.2.12","Serviço de solda",1,"serv",31.98,31.98,{"$f":"'BDI - Demanda'!$E$27","v":0.1197},35.81]
[null,null,null,"2.2.13","Rasgo de chaveta",1,"serv",34.51,34.51,{"$f":"'BDI - Demanda'!$E$27","v":0.1197},38.64]
[null,null,null,"2.2.14","Furo em acoplamento",1,"serv",87.53,87.53,{"$f":"'BDI - Demanda'!$E$27","v":0.1197},98.01]
[null,null,null,"2.2.15","Substituição das tampas",1,"serv",46.01,46.01,{"$f":"'BDI - Demanda'!$E$27","v":0.1197},51.52]
[null,null,null,"2.2.16","Substituição de terminais",1,"serv",11.22,11.22,{"$f":"'BDI - Demanda'!$E$27","v":0.1197},12.56]
[null,null,null,"2.2.17","Substituição de travas",1,"serv",11.22,11.22,{"$f":"'BDI - Demanda'!$E$27","v":0.1197},12.56]
[null,null,null,"2.2.18","Troca da turbina",1,"serv",65.650000000000006,65.650000000000006,{"$f":"'BDI - Demanda'!$E$27","v":0.1197},73.510000000000005]
[null,null,null,"2.3","Conserto de motor elétrico/motor ventilador de 1/2 cv a 1 cv"]
[null,null,null,"2.3.1","Troca de rolamentos",1,"serv",69.349999999999994,{"$f":"F321*H321","v":69.349999999999994},{"$f":"'BDI - Demanda'!$E$27","v":0.1197},{"$f":"ROUND(I321*(1+J321),2)","v":77.650000000000006}]
[null,null,null,"2.3.2","Confecção e substituição de buchas",1,"serv",54.99,54.99,{"$f":"'BDI - Demanda'!$E$27","v":0.1197},61.57]
[null,null,null,"2.3.3","Serviço de torno",1,"serv",68.34,68.34,{"$f":"'BDI - Demanda'!$E$27","v":0.1197},76.52]
[null,null,null,"2.3.4","Substituição de ventoinha",1,"serv",11.22,11.22,{"$f":"'BDI - Demanda'!$E$27","v":0.1197},12.56]
[null,null,null,"2.3.5","Enchimento das tampas",1,"serv",34.51,34.51,{"$f":"'BDI - Demanda'!$E$27","v":0.1197},38.64]
[null,null,null,"2.3.6","Rebobinamento",1,"serv",226.56,226.56,{"$f":"'BDI - Demanda'!$E$27","v":0.1197},253.68]
[null,null,null,"2.3.7","Serviços no eixo",1,"serv",45.34,45.34,{"$f":"'BDI - Demanda'!$E$27","v":0.1197},50.77]
[null,null,null,"2.3.8","Troca de parafusos",1,"serv",23.57,23.57,{"$f":"'BDI - Demanda'!$E$27","v":0.1197},26.39]
[null,null,null,"2.3.9","Troca de capacitor",1,"serv",22.22,22.22,{"$f":"'BDI - Demanda'!$E$27","v":0.1197},24.88]
[null,null,null,"2.3.10","Enchimento de eixos",1,"serv",58.92,58.92,{"$f":"'BDI - Demanda'!$E$27","v":0.1197},65.97]
[null,null,null,"2.3.11","Substituição de acoplamento",1,"serv",230.06,230.06,{"$f":"'BDI - Demanda'!$E$27","v":0.1197},257.60000000000002]
[null,null,null,"2.3.12","Serviço de solda",1,"serv",37.03,37.03,{"$f":"'BDI - Demanda'!$E$27","v":0.1197},41.46]
[null,null,null,"2.3.13","Rasgo de chaveta",1,"serv",23.01,23.01,{"$f":"'BDI - Demanda'!$E$27","v":0.1197},25.76]
[null,null,null,"2.3.14","Furo em acoplamento",1,"serv",76.59,76.59,{"$f":"'BDI - Demanda'!$E$27","v":0.1197},85.76]
[null,null,null,"2.3.15","Substituição das tampas",1,"serv",92.02,92.02,{"$f":"'BDI - Demanda'!$E$27","v":0.1197},103.03]
[null,null,null,"2.3.16","Substituição de terminais",1,"serv",11.22,11.22,{"$f":"'BDI - Demanda'!$E$27","v":0.1197},12.56]
[null,null,null,"2.3.17","Substituição de travas",1,"serv",22.44,22.44,{"$f":"'BDI - Demanda'!$E$27","v":0.1197},25.13]
[null,null,null,"2.3.18","Troca da turbina",1,"serv",87.53,87.53,{"$f":"'BDI - Demanda'!$E$27","v":0.1197},98.01]
[null,null,null,"2.4","Conserto de motor elétrico/motor ventilador de 1 cv a 3 cv"]
[null,null,null,"2.4.1","Troca de rolamentos",1,"serv",115.59,{"$f":"F340*H340","v":115.59},{"$f":"'BDI - Demanda'!$E$27","v":0.1197},{"$f":"ROUND(I340*(1+J340),2)","v":129.43}]
[null,null,null,"2.4.2","Confecção e substituição de buchas",1,"serv",65.989999999999995,65.989999999999995,{"$f":"'BDI - Demanda'!$E$27","v":0.1197},73.89]
[null,null,null,"2.4.3","Serviço de torno",1,"serv",79.739999999999995,79.739999999999995,{"$f":"'BDI - Demanda'!$E$27","v":0.1197},89.28]
[null,null,null,"2.4.4","Substituição de ventoinha",1,"serv",33.67,33.67,{"$f":"'BDI - Demanda'!$E$27","v":0.1197},37.700000000000003]
[null,null,null,"2.4.5","Enchimento das tampas",1,"serv",57.51,57.51,{"$f":"'BDI - Demanda'!$E$27","v":0.1197},64.39]
[null,null,null,"2.4.6","Rebobinamento",1,"serv",381.63,381.63,{"$f":"'BDI - Demanda'!$E$27","v":0.1197},427.31]
[null,null,null,"2.4.7","Serviços no eixo",1,"serv",56.67,56.67,{"$f":"'BDI - Demanda'!$E$27","v":0.1197},63.45]
[null,null,null,"2.4.8","Troca de parafusos",1,"serv",35.35,35.35,{"$f":"'BDI - Demanda'!$E$27","v":0.1197},39.58]
[null,null,null,"2.4.9","Troca de capacitor",1,"serv",33.33,33.33,{"$f":"'BDI - Demanda'!$E$27","v":0.1197},37.32]
[null,null,null,"2.4.10","Enchimento de eixos",1,"serv",70.7,70.7,{"$f":"'BDI - Demanda'!$E$27","v":0.1197},79.16]
[null,null,null,"2.4.11","Substituição de acoplamento",1,"serv",287.57,287.57,{"$f":"'BDI - Demanda'!$E$27","v":0.1197},321.99]
[null,null,null,"2.4.12","Serviço de solda",1,"serv",53.31,53.31,{"$f":"'BDI - Demanda'!$E$27","v":0.1197},59.69]
[null,null,null,"2.4.13","Rasgo de chaveta",1,"serv",34.51,34.51,{"$f":"'BDI - Demanda'!$E$27","v":0.1197},38.64]
[null,null,null,"2.4.14","Furo em acoplamento",1,"serv",87.53,87.53,{"$f":"'BDI - Demanda'!$E$27","v":0.1197},98.01]
[null,null,null,"2.4.15","Substituição das tampas",1,"serv",115.03,115.03,{"$f":"'BDI - Demanda'!$E$27","v":0.1197},128.80000000000001]
[null,null,null,"2.4.16","Substituição de terminais",1,"serv",22.44,22.44,{"$f":"'BDI - Demanda'!$E$27","v":0.1197},25.13]
[null,null,null,"2.4.17","Substituição de travas",1,"serv",22.44,22.44,{"$f":"'BDI - Demanda'!$E$27","v":0.1197},25.13]
[null,null,null,"2.4.18","Troca da turbina",1,"serv",109.42,109.42,{"$f":"'BDI - Demanda'!$E$27","v":0.1197},122.52]
[null,null,null,"2.5","Conserto de motor elétrico/motor ventilador de 3 cv a 5 cv"]
[null,null,null,"2.5.1","Troca de rolamentos",1,"serv",161.83000000000001,{"$f":"F359*H359","v":161.83000000000001},{"$f":"'BDI - Demanda'!$E$27","v":0.1197},{"$f":"ROUND(I359*(1+J359),2)","v":181.2}]
[null,null,null,"2.5.2","Confecção e substituição de buchas",1,"serv",87.98,87.98,{"$f":"'BDI - Demanda'!$E$27","v":0.1197},98.51]
[null,null,null,"2.5.3","Serviço de torno",1,"serv",91.13,91.13,{"$f":"'BDI - Demanda'!$E$27","v":0.1197},102.04]
[null,null,null,"2.5.4","Substituição de ventoinha",1,"serv",39.28,39.28,{"$f":"'BDI - Demanda'!$E$27","v":0.1197},43.98]
[null,null,null,"2.5.5","Enchimento das tampas",1,"serv",92.02,92.02,{"$f":"'BDI - Demanda'!$E$27","v":0.1197},103.03]
[null,null,null,"2.5.6","Rebobinamento",1,"serv",241.95,241.95,{"$f":"'BDI - Demanda'!$E$27","v":0.1197},270.91000000000003]
[null,null,null,"2.5.7","Serviços no eixo",1,"serv",79.34,79.34,{"$f":"'BDI - Demanda'!$E$27","v":0.1197},88.84]
[null,null,null,"2.5.8","Troca de parafusos",1,"serv",35.35,35.35,{"$f":"'BDI - Demanda'!$E$27","v":0.1197},39.58]
[null,null,null,"2.5.9","Troca de capacitor",1,"serv",55.55,55.55,{"$f":"'BDI - Demanda'!$E$27","v":0.1197},62.2]
[null,null,null,"2.5.10","Enchimento de eixos",1,"serv",94.27,94.27,{"$f":"'BDI - Demanda'!$E$27","v":0.1197},105.55]
[null,null,null,"2.5.11","Substituição de acoplamento",1,"serv",345.09,345.09,{"$f":"'BDI - Demanda'!$E$27","v":0.1197},386.4]
[null,null,null,"2.5.12","Serviço de solda",1,"serv",63.97,63.97,{"$f":"'BDI - Demanda'!$E$27","v":0.1197},71.63]
[null,null,null,"2.5.13","Rasgo de chaveta",1,"serv",57.51,57.51,{"$f":"'BDI - Demanda'!$E$27","v":0.1197},64.39]
[null,null,null,"2.5.14","Furo em acoplamento",1,"serv",98.48,98.48,{"$f":"'BDI - Demanda'!$E$27","v":0.1197},110.27]
[null,null,null,"2.5.15","Substituição das tampas",1,"serv",161.04,161.04,{"$f":"'BDI - Demanda'!$E$27","v":0.1197},180.32]
[null,null,null,"2.5.16","Substituição de terminais",1,"serv",22.44,22.44,{"$f":"'BDI - Demanda'!$E$27","v":0.1197},25.13]
[null,null,null,"2.5.17","Substituição de travas",1,"serv",22.44,22.44,{"$f":"'BDI - Demanda'!$E$27","v":0.1197},25.13]
[null,null,null,"2.5.18","Troca da turbina",1,"serv",120.36,120.36,{"$f":"'BDI - Demanda'!$E$27","v":0.1197},134.77000000000001]
[null,null,null,"2.6","Conserto de motor elétrico de 5 cv a 10 cv"]
[null,null,null,"2.6.1","Troca de rolamentos",1,"serv",231.18,{"$f":"F378*H378","v":231.18},{"$f":"'BDI - Demanda'!$E$27","v":0.1197},{"$f":"ROUND(I378*(1+J378),2)","v":258.85000000000002}]
[null,null,null,"2.6.2","Confecção e substituição de buchas",1,"serv",109.98,109.98,{"$f":"'BDI - Demanda'!$E$27","v":0.1197},123.14]
[null,null,null,"2.6.3","Serviço de torno",1,"serv",113.91,113.91,{"$f":"'BDI - Demanda'!$E$27","v":0.1197},127.55]
[null,null,null,"2.6.4","Substituição de ventoinha",1,"serv",56.11,56.11,{"$f":"'BDI - Demanda'!$E$27","v":0.1197},62.83]
[null,null,null,"2.6.5","Enchimento das tampas",1,"serv",92.02,92.02,{"$f":"'BDI - Demanda'!$E$27","v":0.1197},103.03]
[null,null,null,"2.6.6","Rebobinamento",1,"serv",565.29,565.29,{"$f":"'BDI - Demanda'!$E$27","v":0.1197},632.96]
[null,null,null,"2.6.7","Serviços no eixo",1,"serv",102.01,102.01,{"$f":"'BDI - Demanda'!$E$27","v":0.1197},114.22]
[null,null,null,"2.6.8","Troca de parafusos",1,"serv",47.13,47.13,{"$f":"'BDI - Demanda'!$E$27","v":0.1197},52.77]
[null,null,null,"2.6.9","Troca de capacitor",1,"serv",55.55,55.55,{"$f":"'BDI - Demanda'!$E$27","v":0.1197},62.2]
[null,null,null,"2.6.10","Enchimento de eixos",1,"serv",117.84,117.84,{"$f":"'BDI - Demanda'!$E$27","v":0.1197},131.94999999999999]
[null,null,null,"2.6.11","Substituição de acoplamento",1,"serv",517.63,517.63,{"$f":"'BDI - Demanda'!$E$27","v":0.1197},579.59]
[null,null,null,"2.6.12","Serviço de solda",1,"serv",106.61,106.61,{"$f":"'BDI - Demanda'!$E$27","v":0.1197},119.37]
[null,null,null,"2.6.13","Rasgo de chaveta",1,"serv",34.51,34.51,{"$f":"'BDI - Demanda'!$E$27","v":0.1197},38.64]
[null,null,null,"2.6.14","Furo em acoplamento",1,"serv",109.42,109.42,{"$f":"'BDI - Demanda'!$E$27","v":0.1197},122.52]
[null,null,null,"2.6.15","Substituição das tampas",1,"serv",287.57,287.57,{"$f":"'BDI - Demanda'!$E$27","v":0.1197},321.99]
[null,null,null,"2.6.16","Substituição de terminais",1,"serv",33.67,33.67,{"$f":"'BDI - Demanda'!$E$27","v":0.1197},37.700000000000003]
[null,null,null,"2.6.17","Substituição de travas",1,"serv",33.67,33.67,{"$f":"'BDI - Demanda'!$E$27","v":0.1197},37.700000000000003]
[null,null,null,"2.7","Conserto de motor elétrico de 10 cv a 15 cv"]
[null,null,null,"2.7.1","Troca de rolamentos",1,"serv",323.64999999999998,{"$f":"F396*H396","v":323.64999999999998},{"$f":"'BDI - Demanda'!$E$27","v":0.1197},{"$f":"ROUND(I396*(1+J396),2)","v":362.39}]
[null,null,null,"2.7.2","Confecção e substituição de buchas",1,"serv",153.97,153.97,{"$f":"'BDI - Demanda'!$E$27","v":0.1197},172.4]
[null,null,null,"2.7.3","Serviço de torno",1,"serv",136.69,136.69,{"$f":"'BDI - Demanda'!$E$27","v":0.1197},153.05000000000001]
[null,null,null,"2.7.4","Substituição de ventoinha",1,"serv",78.56,78.56,{"$f":"'BDI - Demanda'!$E$27","v":0.1197},87.96]
[null,null,null,"2.7.5","Enchimento das tampas",1,"serv",115.03,115.03,{"$f":"'BDI - Demanda'!$E$27","v":0.1197},128.80000000000001]
[null,null,null,"2.7.6","Rebobinamento",1,"serv",679.67,679.67,{"$f":"'BDI - Demanda'!$E$27","v":0.1197},761.03]
[null,null,null,"2.7.7","Serviços no eixo",1,"serv",124.68,124.68,{"$f":"'BDI - Demanda'!$E$27","v":0.1197},139.6]
[null,null,null,"2.7.8","Troca de parafusos",1,"serv",70.7,70.7,{"$f":"'BDI - Demanda'!$E$27","v":0.1197},79.16]
[null,null,null,"2.7.9","Troca de capacitor",1,"serv",88.88,88.88,{"$f":"'BDI - Demanda'!$E$27","v":0.1197},99.52]
[null,null,null,"2.7.10","Enchimento de eixos",1,"serv",164.97,164.97,{"$f":"'BDI - Demanda'!$E$27","v":0.1197},184.72]
[null,null,null,"2.7.11","Substituição de acoplamento",1,"serv",598.15,598.15,{"$f":"'BDI - Demanda'!$E$27","v":0.1197},669.75]
[null,null,null,"2.7.12","Serviço de solda",1,"serv",117.27,117.27,{"$f":"'BDI - Demanda'!$E$27","v":0.1197},131.31]
[null,null,null,"2.7.13","Rasgo de chaveta",1,"serv",46.01,46.01,{"$f":"'BDI - Demanda'!$E$27","v":0.1197},51.52]
[null,null,null,"2.7.14","Furo em acoplamento",1,"serv",131.30000000000001,131.30000000000001,{"$f":"'BDI - Demanda'!$E$27","v":0.1197},147.02000000000001]
[null,null,null,"2.7.15","Substituição das tampas",1,"serv",391.1,391.1,{"$f":"'BDI - Demanda'!$E$27","v":0.1197},437.91]
[null,null,null,"2.7.16","Substituição de terminais",1,"serv",33.67,33.67,{"$f":"'BDI - Demanda'!$E$27","v":0.1197},37.700000000000003]
[null,null,null,"2.7.17","Substituição de travas",1,"serv",33.67,33.67,{"$f":"'BDI - Demanda'!$E$27","v":0.1197},37.700000000000003]
[null,null,null,"2.8","Conserto de motor elétrico de 15 cv a 20 cv"]
[null,null,null,"2.8.1","Troca de rolamentos",1,"serv",520.16,{"$f":"F414*H414","v":520.16},{"$f":"'BDI - Demanda'!$E$27","v":0.1197},{"$f":"ROUND(I414*(1+J414),2)","v":582.41999999999996}]
[null,null,null,"2.8.2","Confecção e substituição de buchas",1,"serv",197.96,197.96,{"$f":"'BDI - Demanda'!$E$27","v":0.1197},221.66]
[null,null,null,"2.8.3","Serviço de torno",1,"serv",170.86,170.86,{"$f":"'BDI - Demanda'!$E$27","v":0.1197},191.31]
[null,null,null,"2.8.4","Substituição de ventoinha",1,"serv",112.22,112.22,{"$f":"'BDI - Demanda'!$E$27","v":0.1197},125.65]
[null,null,null,"2.8.5","Enchimento das tampas",1,"serv",138.04,138.04,{"$f":"'BDI - Demanda'!$E$27","v":0.1197},154.56]
[null,null,null,"2.8.6","Rebobinamento",1,"serv",898.53,898.53,{"$f":"'BDI - Demanda'!$E$27","v":0.1197},1006.08]
[null,null,null,"2.8.7","Serviços no eixo",1,"serv",147.35,147.35,{"$f":"'BDI - Demanda'!$E$27","v":0.1197},164.99]
[null,null,null,"2.8.8","Troca de parafusos",1,"serv",94.27,94.27,{"$f":"'BDI - Demanda'!$E$27","v":0.1197},105.55]
[null,null,null,"2.8.9","Troca de capacitor",1,"serv",88.88,88.88,{"$f":"'BDI - Demanda'!$E$27","v":0.1197},99.52]
[null,null,null,"2.8.10","Enchimento de eixos",1,"serv",188.54,188.54,{"$f":"'BDI - Demanda'!$E$27","v":0.1197},211.11]
[null,null,null,"2.8.11","Substituição de acoplamento",1,"serv",667.17,667.17,{"$f":"'BDI - Demanda'!$E$27","v":0.1197},747.03]
[null,null,null,"2.8.12","Serviço de solda",1,"serv",138.6,138.6,{"$f":"'BDI - Demanda'!$E$27","v":0.1197},155.19]
[null,null,null,"2.8.13","Rasgo de chaveta",1,"serv",69.02,69.02,{"$f":"'BDI - Demanda'!$E$27","v":0.1197},77.28]
[null,null,null,"2.8.14","Furo em acoplamento",1,"serv",131.30000000000001,131.30000000000001,{"$f":"'BDI - Demanda'!$E$27","v":0.1197},147.02000000000001]
[null,null,null,"2.8.15","Substituição das tampas",1,"serv",517.63,517.63,{"$f":"'BDI - Demanda'!$E$27","v":0.1197},579.59]
[null,null,null,"2.8.16","Substituição de terminais",1,"serv",33.67,33.67,{"$f":"'BDI - Demanda'!$E$27","v":0.1197},37.700000000000003]
[null,null,null,"2.8.17","Substituição de travas",1,"serv",33.67,33.67,{"$f":"'BDI - Demanda'!$E$27","v":0.1197},37.700000000000003]
[null,null,null,"2.9","Conserto de motor elétrico de 20 cv a 25 cv"]
[null,null,null,"2.9.1","Troca de rolamentos",1,"serv",670.43,{"$f":"F432*H432","v":670.43},{"$f":"'BDI - Demanda'!$E$27","v":0.1197},{"$f":"ROUND(I432*(1+J432),2)","v":750.68}]
[null,null,null,"2.9.2","Confecção e substituição de buchas",1,"serv",197.96,197.96,{"$f":"'BDI - Demanda'!$E$27","v":0.1197},221.66]
[null,null,null,"2.9.3","Serviço de torno",1,"serv",170.86,170.86,{"$f":"'BDI - Demanda'!$E$27","v":0.1197},191.31]
[null,null,null,"2.9.4","Substituição de ventoinha",1,"serv",112.22,112.22,{"$f":"'BDI - Demanda'!$E$27","v":0.1197},125.65]
[null,null,null,"2.9.5","Enchimento das tampas",1,"serv",138.04,138.04,{"$f":"'BDI - Demanda'!$E$27","v":0.1197},154.56]
[null,null,null,"2.9.6","Rebobinamento",1,"serv",1072.3,1072.3,{"$f":"'BDI - Demanda'!$E$27","v":0.1197},1200.6500000000001]
[null,null,null,"2.9.7","Serviços no eixo",1,"serv",147.35,147.35,{"$f":"'BDI - Demanda'!$E$27","v":0.1197},164.99]
[null,null,null,"2.9.8","Troca de parafusos",1,"serv",94.27,94.27,{"$f":"'BDI - Demanda'!$E$27","v":0.1197},105.55]
[null,null,null,"2.9.9","Troca de capacitor",1,"serv",133.32,133.32,{"$f":"'BDI - Demanda'!$E$27","v":0.1197},149.28]
[null,null,null,"2.9.10","Enchimento de eixos",1,"serv",188.54,188.54,{"$f":"'BDI - Demanda'!$E$27","v":0.1197},211.11]
[null,null,null,"2.9.11","Substituição de acoplamento",1,"serv",747.69,747.69,{"$f":"'BDI - Demanda'!$E$27","v":0.1197},837.19]
[null,null,null,"2.9.12","Serviço de solda",1,"serv",138.6,138.6,{"$f":"'BDI - Demanda'!$E$27","v":0.1197},155.19]
[null,null,null,"2.9.13","Rasgo de chaveta",1,"serv",69.02,69.02,{"$f":"'BDI - Demanda'!$E$27","v":0.1197},77.28]
[null,null,null,"2.9.14","Furo em acoplamento",1,"serv",131.30000000000001,131.30000000000001,{"$f":"'BDI - Demanda'!$E$27","v":0.1197},147.02000000000001]
[null,null,null,"2.9.15","Substituição das tampas",1,"serv",667.17,667.17,{"$f":"'BDI - Demanda'!$E$27","v":0.1197},747.03]
[null,null,null,"2.9.16","Substituição de terminais",1,"serv",33.67,33.67,{"$f":"'BDI - Demanda'!$E$27","v":0.1197},37.700000000000003]
[null,null,null,"2.9.17","Substituição de travas",1,"serv",33.67,33.67,{"$f":"'BDI - Demanda'!$E$27","v":0.1197},37.700000000000003]
[null,null,null,"2.10","Conserto de motor elétrico de 25 cv a 30 cv"]
[null,null,null,"2.10.1","Troca de rolamentos",1,"serv",797.58,{"$f":"F450*H450","v":797.58},{"$f":"'BDI - Demanda'!$E$27","v":0.1197},{"$f":"ROUND(I450*(1+J450),2)","v":893.05}]
[null,null,null,"2.10.2","Confecção e substituição de buchas",1,"serv",219.96,219.96,{"$f":"'BDI - Demanda'!$E$27","v":0.1197},246.29]
[null,null,null,"2.10.3","Serviço de torno",1,"serv",205.03,205.03,{"$f":"'BDI - Demanda'!$E$27","v":0.1197},229.57]
[null,null,null,"2.10.4","Substituição de ventoinha",1,"serv",134.66999999999999,134.66999999999999,{"$f":"'BDI - Demanda'!$E$27","v":0.1197},150.79]
[null,null,null,"2.10.5","Enchimento das tampas",1,"serv",172.54,172.54,{"$f":"'BDI - Demanda'!$E$27","v":0.1197},193.19]
[null,null,null,"2.10.6","Rebobinamento",1,"serv",1224.07,1224.07,{"$f":"'BDI - Demanda'!$E$27","v":0.1197},1370.59]
[null,null,null,"2.10.7","Serviços no eixo",1,"serv",158.68,158.68,{"$f":"'BDI - Demanda'!$E$27","v":0.1197},177.67]
[null,null,null,"2.10.8","Troca de parafusos",1,"serv",94.27,94.27,{"$f":"'BDI - Demanda'!$E$27","v":0.1197},105.55]
[null,null,null,"2.10.9","Troca de capacitor",1,"serv",133.32,133.32,{"$f":"'BDI - Demanda'!$E$27","v":0.1197},149.28]
[null,null,null,"2.10.10","Enchimento de eixos",1,"serv",212.1,212.1,{"$f":"'BDI - Demanda'!$E$27","v":0.1197},237.49]
[null,null,null,"2.10.11","Substituição de acoplamento",1,"serv",747.69,747.69,{"$f":"'BDI - Demanda'!$E$27","v":0.1197},837.19]
[null,null,null,"2.10.12","Serviço de solda",1,"serv",138.6,138.6,{"$f":"'BDI - Demanda'!$E$27","v":0.1197},155.19]
[null,null,null,"2.10.13","Rasgo de chaveta",1,"serv",69.02,69.02,{"$f":"'BDI - Demanda'!$E$27","v":0.1197},77.28]
[null,null,null,"2.10.14","Furo em acoplamento",1,"serv",164.13,164.13,{"$f":"'BDI - Demanda'!$E$27","v":0.1197},183.78]
[null,null,null,"2.10.15","Substituição das tampas",1,"serv",897.23,897.23,{"$f":"'BDI - Demanda'!$E$27","v":0.1197},1004.63]
[null,null,null,"2.10.16","Substituição de terminais",1,"serv",56.11,56.11,{"$f":"'BDI - Demanda'!$E$27","v":0.1197},62.83]
[null,null,null,"2.10.17","Substituição de travas",1,"serv",56.11,56.11,{"$f":"'BDI - Demanda'!$E$27","v":0.1197},62.83]
[null,null,null,"2.11","Conserto de motor elétrico de 30 cv a 35 cv"]
[null,null,null,"2.11.1","Troca de rolamentos",1,"serv",797.58,{"$f":"F468*H468","v":797.58},{"$f":"'BDI - Demanda'!$E$27","v":0.1197},{"$f":"ROUND(I468*(1+J468),2)","v":893.05}]
[null,null,null,"2.11.2","Confecção e substituição de buchas",1,"serv",219.96,219.96,{"$f":"'BDI - Demanda'!$E$27","v":0.1197},246.29]
[null,null,null,"2.11.3","Serviço de torno",1,"serv",205.03,205.03,{"$f":"'BDI - Demanda'!$E$27","v":0.1197},229.57]
[null,null,null,"2.11.4","Substituição de ventoinha",1,"serv",134.66999999999999,134.66999999999999,{"$f":"'BDI - Demanda'!$E$27","v":0.1197},150.79]
[null,null,null,"2.11.5","Enchimento das tampas",1,"serv",172.54,172.54,{"$f":"'BDI - Demanda'!$E$27","v":0.1197},193.19]
[null,null,null,"2.11.6","Rebobinamento",1,"serv",1224.07,1224.07,{"$f":"'BDI - Demanda'!$E$27","v":0.1197},1370.59]
[null,null,null,"2.11.7","Serviços no eixo",1,"serv",158.68,158.68,{"$f":"'BDI - Demanda'!$E$27","v":0.1197},177.67]
[null,null,null,"2.11.8","Troca de parafusos",1,"serv",94.27,94.27,{"$f":"'BDI - Demanda'!$E$27","v":0.1197},105.55]
[null,null,null,"2.11.9","Troca de capacitor",1,"serv",133.32,133.32,{"$f":"'BDI - Demanda'!$E$27","v":0.1197},149.28]
[null,null,null,"2.11.10","Enchimento de eixos",1,"serv",212.1,212.1,{"$f":"'BDI - Demanda'!$E$27","v":0.1197},237.49]
[null,null,null,"2.11.11","Substituição de acoplamento",1,"serv",747.69,747.69,{"$f":"'BDI - Demanda'!$E$27","v":0.1197},837.19]
[null,null,null,"2.11.12","Serviço de solda",1,"serv",138.6,138.6,{"$f":"'BDI - Demanda'!$E$27","v":0.1197},155.19]
[null,null,null,"2.11.13","Rasgo de chaveta",1,"serv",69.02,69.02,{"$f":"'BDI - Demanda'!$E$27","v":0.1197},77.28]
[null,null,null,"2.11.14","Furo em acoplamento",1,"serv",164.13,164.13,{"$f":"'BDI - Demanda'!$E$27","v":0.1197},183.78]
[null,null,null,"2.11.15","Substituição das tampas",1,"serv",897.23,897.23,{"$f":"'BDI - Demanda'!$E$27","v":0.1197},1004.63]
[null,null,null,"2.11.16","Substituição de terminais",1,"serv",56.11,56.11,{"$f":"'BDI - Demanda'!$E$27","v":0.1197},62.83]
[null,null,null,"2.11.17","Substituição de travas",1,"serv",56.11,56.11,{"$f":"'BDI - Demanda'!$E$27","v":0.1197},62.83]
[null,null,null,"2.12","Conserto de motor elétrico de 35 cv a 40 cv"]
[null,null,null,"2.12.1","Troca de rolamentos",1,"serv",913.17,{"$f":"F486*H486","v":913.17},{"$f":"'BDI - Demanda'!$E$27","v":0.1197},{"$f":"ROUND(I486*(1+J486),2)","v":1022.48}]
[null,null,null,"2.12.2","Confecção e substituição de buchas",1,"serv",219.96,219.96,{"$f":"'BDI - Demanda'!$E$27","v":0.1197},246.29]
[null,null,null,"2.12.3","Serviço de torno",1,"serv",227.81,227.81,{"$f":"'BDI - Demanda'!$E$27","v":0.1197},255.08]
[null,null,null,"2.12.4","Substituição de ventoinha",1,"serv",179.56,179.56,{"$f":"'BDI - Demanda'!$E$27","v":0.1197},201.05]
[null,null,null,"2.12.5","Enchimento das tampas",1,"serv",195.55,195.55,{"$f":"'BDI - Demanda'!$E$27","v":0.1197},218.96]
[null,null,null,"2.12.6","Rebobinamento",1,"serv",1643.09,1643.09,{"$f":"'BDI - Demanda'!$E$27","v":0.1197},1839.77]
[null,null,null,"2.12.7","Serviços no eixo",1,"serv",226.69,226.69,{"$f":"'BDI - Demanda'!$E$27","v":0.1197},253.82]
[null,null,null,"2.12.8","Troca de parafusos",1,"serv",117.84,117.84,{"$f":"'BDI - Demanda'!$E$27","v":0.1197},131.94999999999999]
[null,null,null,"2.12.9","Troca de capacitor",1,"serv",166.65,166.65,{"$f":"'BDI - Demanda'!$E$27","v":0.1197},186.6]
[null,null,null,"2.12.10","Enchimento de eixos",1,"serv",235.67,235.67,{"$f":"'BDI - Demanda'!$E$27","v":0.1197},263.88]
[null,null,null,"2.12.11","Substituição de acoplamento",1,"serv",747.69,747.69,{"$f":"'BDI - Demanda'!$E$27","v":0.1197},837.19]
[null,null,null,"2.12.12","Serviço de solda",1,"serv",159.91999999999999,159.91999999999999,{"$f":"'BDI - Demanda'!$E$27","v":0.1197},179.06]
[null,null,null,"2.12.13","Rasgo de chaveta",1,"serv",92.02,92.02,{"$f":"'BDI - Demanda'!$E$27","v":0.1197},103.03]
[null,null,null,"2.12.14","Furo em acoplamento",1,"serv",175.07,175.07,{"$f":"'BDI - Demanda'!$E$27","v":0.1197},196.03]
[null,null,null,"2.12.15","Substituição das tampas",1,"serv",1023.76,1023.76,{"$f":"'BDI - Demanda'!$E$27","v":0.1197},1146.3]
[null,null,null,"2.12.16","Substituição de terminais",1,"serv",39.28,39.28,{"$f":"'BDI - Demanda'!$E$27","v":0.1197},43.98]
[null,null,null,"2.12.17","Substituição de travas",1,"serv",39.28,39.28,{"$f":"'BDI - Demanda'!$E$27","v":0.1197},43.98]
[null,null,null,"2.13","Conserto de motor elétrico de 40 cv a 50 cv"]
[null,null,null,"2.13.1","Troca de rolamentos",1,"serv",913.17,{"$f":"F504*H504","v":913.17},{"$f":"'BDI - Demanda'!$E$27","v":0.1197},{"$f":"ROUND(I504*(1+J504),2)","v":1022.48}]
[null,null,null,"2.13.2","Confecção e substituição de buchas",1,"serv",219.96,219.96,{"$f":"'BDI - Demanda'!$E$27","v":0.1197},246.29]
[null,null,null,"2.13.3","Serviço de torno",1,"serv",227.81,227.81,{"$f":"'BDI - Demanda'!$E$27","v":0.1197},255.08]
[null,null,null,"2.13.4","Substituição de ventoinha",1,"serv",179.56,179.56,{"$f":"'BDI - Demanda'!$E$27","v":0.1197},201.05]
[null,null,null,"2.13.5","Enchimento das tampas",1,"serv",195.55,195.55,{"$f":"'BDI - Demanda'!$E$27","v":0.1197},218.96]
[null,null,null,"2.13.6","Rebobinamento",1,"serv",1643.09,1643.09,{"$f":"'BDI - Demanda'!$E$27","v":0.1197},1839.77]
[null,null,null,"2.13.7","Serviços no eixo",1,"serv",226.69,226.69,{"$f":"'BDI - Demanda'!$E$27","v":0.1197},253.82]
[null,null,null,"2.13.8","Troca de parafusos",1,"serv",117.84,117.84,{"$f":"'BDI - Demanda'!$E$27","v":0.1197},131.94999999999999]
[null,null,null,"2.13.9","Troca de capacitor",1,"serv",166.65,166.65,{"$f":"'BDI - Demanda'!$E$27","v":0.1197},186.6]
[null,null,null,"2.13.10","Enchimento de eixos",1,"serv",235.67,235.67,{"$f":"'BDI - Demanda'!$E$27","v":0.1197},263.88]
[null,null,null,"2.13.11","Substituição de acoplamento",1,"serv",747.69,747.69,{"$f":"'BDI - Demanda'!$E$27","v":0.1197},837.19]
[null,null,null,"2.13.12","Serviço de solda",1,"serv",159.91999999999999,159.91999999999999,{"$f":"'BDI - Demanda'!$E$27","v":0.1197},179.06]
[null,null,null,"2.13.13","Rasgo de chaveta",1,"serv",92.02,92.02,{"$f":"'BDI - Demanda'!$E$27","v":0.1197},103.03]
[null,null,null,"2.13.14","Furo em acoplamento",1,"serv",175.07,175.07,{"$f":"'BDI - Demanda'!$E$27","v":0.1197},196.03]
[null,null,null,"2.13.15","Substituição das tampas",1,"serv",1023.76,1023.76,{"$f":"'BDI - Demanda'!$E$27","v":0.1197},1146.3]
[null,null,null,"2.13.16","Substituição de terminais",1,"serv",39.28,39.28,{"$f":"'BDI - Demanda'!$E$27","v":0.1197},43.98]
[null,null,null,"2.13.17","Substituição de travas",1,"serv",39.28,39.28,{"$f":"'BDI - Demanda'!$E$27","v":0.1197},43.98]
[null,null,null,"2.14","Conserto de motor elétrico de 50 cv a 60 cv"]
[null,null,null,"2.14.1","Troca de rolamentos",1,"serv",1040.32,{"$f":"F522*H522","v":1040.32},{"$f":"'BDI - Demanda'!$E$27","v":0.1197},{"$f":"ROUND(I522*(1+J522),2)","v":1164.8499999999999}]
[null,null,null,"2.14.2","Confecção e substituição de buchas",1,"serv",307.94,307.94,{"$f":"'BDI - Demanda'!$E$27","v":0.1197},344.8]
[null,null,null,"2.14.3","Serviço de torno",1,"serv",250.6,250.6,{"$f":"'BDI - Demanda'!$E$27","v":0.1197},280.60000000000002]
[null,null,null,"2.14.4","Substituição de ventoinha",1,"serv",224.45,224.45,{"$f":"'BDI - Demanda'!$E$27","v":0.1197},251.32]
[null,null,null,"2.14.5","Enchimento das tampas",1,"serv",276.07,276.07,{"$f":"'BDI - Demanda'!$E$27","v":0.1197},309.12]
[null,null,null,"2.14.6","Rebobinamento",1,"serv",2808.87,2808.87,{"$f":"'BDI - Demanda'!$E$27","v":0.1197},3145.09]
[null,null,null,"2.14.7","Serviços no eixo",1,"serv",340.04,340.04,{"$f":"'BDI - Demanda'!$E$27","v":0.1197},380.74]
[null,null,null,"2.14.8","Troca de parafusos",1,"serv",141.4,141.4,{"$f":"'BDI - Demanda'!$E$27","v":0.1197},158.33000000000001]
[null,null,null,"2.14.9","Troca de capacitor",1,"serv",166.65,166.65,{"$f":"'BDI - Demanda'!$E$27","v":0.1197},186.6]
[null,null,null,"2.14.10","Enchimento de eixos",1,"serv",294.58999999999997,294.58999999999997,{"$f":"'BDI - Demanda'!$E$27","v":0.1197},329.85]
[null,null,null,"2.14.11","Substituição de acoplamento",1,"serv",1010.86,1010.86,{"$f":"'BDI - Demanda'!$E$27","v":0.1197},1131.8599999999999]
[null,null,null,"2.14.12","Serviço de solda",1,"serv",191.9,191.9,{"$f":"'BDI - Demanda'!$E$27","v":0.1197},214.87]
[null,null,null,"2.14.13","Rasgo de chaveta",1,"serv",115.03,115.03,{"$f":"'BDI - Demanda'!$E$27","v":0.1197},128.80000000000001]
[null,null,null,"2.14.14","Furo em acoplamento",1,"serv",196.95,196.95,{"$f":"'BDI - Demanda'!$E$27","v":0.1197},220.52]
[null,null,null,"2.14.15","Substituição das tampas",1,"serv",1380.35,1380.35,{"$f":"'BDI - Demanda'!$E$27","v":0.1197},1545.58]
[null,null,null,"2.14.16","Substituição de terminais",1,"serv",56.11,56.11,{"$f":"'BDI - Demanda'!$E$27","v":0.1197},62.83]
[null,null,null,"2.14.17","Substituição de travas",1,"serv",50.5,50.5,{"$f":"'BDI - Demanda'!$E$27","v":0.1197},56.54]
[null,null,null,"2.15","Conserto de motor elétrico de 60 cv a 70 cv"]
[null,null,null,"2.15.1","Troca de rolamentos",1,"serv",1040.32,{"$f":"F540*H540","v":1040.32},{"$f":"'BDI - Demanda'!$E$27","v":0.1197},{"$f":"ROUND(I540*(1+J540),2)","v":1164.8499999999999}]
[null,null,null,"2.15.2","Confecção e substituição de buchas",1,"serv",307.94,307.94,{"$f":"'BDI - Demanda'!$E$27","v":0.1197},344.8]
[null,null,null,"2.15.3","Serviço de torno",1,"serv",250.6,250.6,{"$f":"'BDI - Demanda'!$E$27","v":0.1197},280.60000000000002]
[null,null,null,"2.15.4","Substituição de ventoinha",1,"serv",224.45,224.45,{"$f":"'BDI - Demanda'!$E$27","v":0.1197},251.32]
[null,null,null,"2.15.5","Enchimento das tampas",1,"serv",276.07,276.07,{"$f":"'BDI - Demanda'!$E$27","v":0.1197},309.12]
[null,null,null,"2.15.6","Rebobinamento",1,"serv",2808.87,2808.87,{"$f":"'BDI - Demanda'!$E$27","v":0.1197},3145.09]
[null,null,null,"2.15.7","Serviços no eixo",1,"serv",340.04,340.04,{"$f":"'BDI - Demanda'!$E$27","v":0.1197},380.74]
[null,null,null,"2.15.8","Troca de parafusos",1,"serv",141.4,141.4,{"$f":"'BDI - Demanda'!$E$27","v":0.1197},158.33000000000001]
[null,null,null,"2.15.9","Troca de capacitor",1,"serv",166.65,166.65,{"$f":"'BDI - Demanda'!$E$27","v":0.1197},186.6]
[null,null,null,"2.15.10","Enchimento de eixos",1,"serv",294.58999999999997,294.58999999999997,{"$f":"'BDI - Demanda'!$E$27","v":0.1197},329.85]
[null,null,null,"2.15.11","Substituição de acoplamento",1,"serv",1010.86,1010.86,{"$f":"'BDI - Demanda'!$E$27","v":0.1197},1131.8599999999999]
[null,null,null,"2.15.12","Serviço de solda",1,"serv",191.9,191.9,{"$f":"'BDI - Demanda'!$E$27","v":0.1197},214.87]
[null,null,null,"2.15.13","Rasgo de chaveta",1,"serv",115.03,115.03,{"$f":"'BDI - Demanda'!$E$27","v":0.1197},128.80000000000001]
[null,null,null,"2.15.14","Furo em acoplamento",1,"serv",196.95,196.95,{"$f":"'BDI - Demanda'!$E$27","v":0.1197},220.52]
[null,null,null,"2.15.15","Substituição das tampas",1,"serv",1380.35,1380.35,{"$f":"'BDI - Demanda'!$E$27","v":0.1197},1545.58]
[null,null,null,"2.15.16","Substituição de terminais",1,"serv",56.11,56.11,{"$f":"'BDI - Demanda'!$E$27","v":0.1197},62.83]
[null,null,null,"2.15.17","Substituição de travas",1,"serv",50.5,50.5,{"$f":"'BDI - Demanda'!$E$27","v":0.1197},56.54]
[null,null,null,"2.16","Conserto de motor elétrico de 70 cv a 80 cv"]
[null,null,null,"2.16.1","Troca de rolamentos",1,"serv",1387.09,{"$f":"F558*H558","v":1387.09},{"$f":"'BDI - Demanda'!$E$27","v":0.1197},{"$f":"ROUND(I558*(1+J558),2)","v":1553.12}]
[null,null,null,"2.16.2","Confecção e substituição de buchas",1,"serv",384.93,384.93,{"$f":"'BDI - Demanda'!$E$27","v":0.1197},431.01]
[null,null,null,"2.16.3","Serviço de torno",1,"serv",307.55,307.55,{"$f":"'BDI - Demanda'!$E$27","v":0.1197},344.36]
[null,null,null,"2.16.4","Substituição de ventoinha",1,"serv",336.67,336.67,{"$f":"'BDI - Demanda'!$E$27","v":0.1197},376.97]
[null,null,null,"2.16.5","Enchimento das tampas",1,"serv",333.59,333.59,{"$f":"'BDI - Demanda'!$E$27","v":0.1197},373.52]
[null,null,null,"2.16.6","Rebobinamento",1,"serv",3908.67,3908.67,{"$f":"'BDI - Demanda'!$E$27","v":0.1197},4376.54]
[null,null,null,"2.16.7","Serviços no eixo",1,"serv",374.04,374.04,{"$f":"'BDI - Demanda'!$E$27","v":0.1197},418.81]
[null,null,null,"2.16.8","Troca de parafusos",1,"serv",153.19,153.19,{"$f":"'BDI - Demanda'!$E$27","v":0.1197},171.53]
[null,null,null,"2.16.9","Troca de capacitor",1,"serv",166.65,166.65,{"$f":"'BDI - Demanda'!$E$27","v":0.1197},186.6]
[null,null,null,"2.16.10","Enchimento de eixos",1,"serv",353.51,353.51,{"$f":"'BDI - Demanda'!$E$27","v":0.1197},395.83]
[null,null,null,"2.16.11","Substituição de acoplamento",1,"serv",1092.78,1092.78,{"$f":"'BDI - Demanda'!$E$27","v":0.1197},1223.5899999999999]
[null,null,null,"2.16.12","Serviço de solda",1,"serv",213.23,213.23,{"$f":"'BDI - Demanda'!$E$27","v":0.1197},238.75]
[null,null,null,"2.16.13","Rasgo de chaveta",1,"serv",138.04,138.04,{"$f":"'BDI - Demanda'!$E$27","v":0.1197},154.56]
[null,null,null,"2.16.14","Furo em acoplamento",1,"serv",218.84,218.84,{"$f":"'BDI - Demanda'!$E$27","v":0.1197},245.04]
[null,null,null,"2.16.15","Substituição das tampas",1,"serv",1610.41,1610.41,{"$f":"'BDI - Demanda'!$E$27","v":0.1197},1803.18]
[null,null,null,"2.16.16","Substituição de terminais",1,"serv",67.33,67.33,{"$f":"'BDI - Demanda'!$E$27","v":0.1197},75.39]
[null,null,null,"2.16.17","Substituição de travas",1,"serv",56.11,56.11,{"$f":"'BDI - Demanda'!$E$27","v":0.1197},62.83]
[null,null,null,"2.17","Conserto de motor elétrico de 80 cv a 90 cv"]
[null,null,null,"2.17.1","Troca de rolamentos",1,"serv",1132.79,{"$f":"F576*H576","v":1132.79},{"$f":"'BDI - Demanda'!$E$27","v":0.1197},{"$f":"ROUND(I576*(1+J576),2)","v":1268.3800000000001}]
[null,null,null,"2.17.2","Confecção e substituição de buchas",1,"serv",439.92,439.92,{"$f":"'BDI - Demanda'!$E$27","v":0.1197},492.58]
[null,null,null,"2.17.3","Serviço de torno",1,"serv",227.81,227.81,{"$f":"'BDI - Demanda'!$E$27","v":0.1197},255.08]
[null,null,null,"2.17.4","Substituição de ventoinha",1,"serv",2244.48,2244.48,{"$f":"'BDI - Demanda'!$E$27","v":0.1197},2513.14]
[null,null,null,"2.17.5","Enchimento das tampas",1,"serv",184.05,184.05,{"$f":"'BDI - Demanda'!$E$27","v":0.1197},206.08]
[null,null,null,"2.17.6","Rebobinamento",1,"serv",4289.2,4289.2,{"$f":"'BDI - Demanda'!$E$27","v":0.1197},4802.62]
[null,null,null,"2.17.7","Serviços no eixo",1,"serv",226.69,226.69,{"$f":"'BDI - Demanda'!$E$27","v":0.1197},253.82]
[null,null,null,"2.17.8","Troca de parafusos",1,"serv",1178.3499999999999,1178.3499999999999,{"$f":"'BDI - Demanda'!$E$27","v":0.1197},1319.4]
[null,null,null,"2.17.9","Troca de capacitor",1,"serv",322.19,322.19,{"$f":"'BDI - Demanda'!$E$27","v":0.1197},360.76]
[null,null,null,"2.17.10","Enchimento de eixos",1,"serv",212.1,212.1,{"$f":"'BDI - Demanda'!$E$27","v":0.1197},237.49]
[null,null,null,"2.17.11","Substituição de acoplamento",1,"serv",1242.32,1242.32,{"$f":"'BDI - Demanda'!$E$27","v":0.1197},1391.03]
[null,null,null,"2.17.12","Serviço de solda",1,"serv",213.23,213.23,{"$f":"'BDI - Demanda'!$E$27","v":0.1197},238.75]
[null,null,null,"2.17.13","Rasgo de chaveta",1,"serv",276.07,276.07,{"$f":"'BDI - Demanda'!$E$27","v":0.1197},309.12]
[null,null,null,"2.17.14","Furo em acoplamento",1,"serv",87.53,87.53,{"$f":"'BDI - Demanda'!$E$27","v":0.1197},98.01]
[null,null,null,"2.17.15","Substituição das tampas",1,"serv",207.05,207.05,{"$f":"'BDI - Demanda'!$E$27","v":0.1197},231.83]
[null,null,null,"2.17.16","Substituição de terminais",1,"serv",67.33,67.33,{"$f":"'BDI - Demanda'!$E$27","v":0.1197},75.39]
[null,null,null,"2.17.17","Substituição de travas",1,"serv",56.11,56.11,{"$f":"'BDI - Demanda'!$E$27","v":0.1197},62.83]
[null,null,null,"2.18","Conserto de motor elétrico de 90 cv a 100 cv"]
[null,null,null,"2.18.1","Troca de rolamentos",1,"serv",1387.09,{"$f":"F594*H594","v":1387.09},{"$f":"'BDI - Demanda'!$E$27","v":0.1197},{"$f":"ROUND(I594*(1+J594),2)","v":1553.12}]
[null,null,null,"2.18.2","Confecção e substituição de buchas",1,"serv",395.93,395.93,{"$f":"'BDI - Demanda'!$E$27","v":0.1197},443.32]
[null,null,null,"2.18.3","Serviço de torno",1,"serv",318.94,318.94,{"$f":"'BDI - Demanda'!$E$27","v":0.1197},357.12]
[null,null,null,"2.18.4","Substituição de ventoinha",1,"serv",359.12,359.12,{"$f":"'BDI - Demanda'!$E$27","v":0.1197},402.11]
[null,null,null,"2.18.5","Enchimento das tampas",1,"serv",345.09,345.09,{"$f":"'BDI - Demanda'!$E$27","v":0.1197},386.4]
[null,null,null,"2.18.6","Rebobinamento",1,"serv",4377.18,4377.18,{"$f":"'BDI - Demanda'!$E$27","v":0.1197},4901.13]
[null,null,null,"2.18.7","Serviços no eixo",1,"serv",453.38,453.38,{"$f":"'BDI - Demanda'!$E$27","v":0.1197},507.65]
[null,null,null,"2.18.8","Troca de parafusos",1,"serv",153.19,153.19,{"$f":"'BDI - Demanda'!$E$27","v":0.1197},171.53]
[null,null,null,"2.18.9","Troca de capacitor",1,"serv",322.19,322.19,{"$f":"'BDI - Demanda'!$E$27","v":0.1197},360.76]
[null,null,null,"2.18.10","Enchimento de eixos",1,"serv",388.86,388.86,{"$f":"'BDI - Demanda'!$E$27","v":0.1197},435.41]
[null,null,null,"2.18.11","Substituição de acoplamento",1,"serv",1092.78,1092.78,{"$f":"'BDI - Demanda'!$E$27","v":0.1197},1223.5899999999999]
[null,null,null,"2.18.12","Serviço de solda",1,"serv",223.89,223.89,{"$f":"'BDI - Demanda'!$E$27","v":0.1197},250.69]
[null,null,null,"2.18.13","Rasgo de chaveta",1,"serv",149.54,149.54,{"$f":"'BDI - Demanda'!$E$27","v":0.1197},167.44]
[null,null,null,"2.18.14","Furo em acoplamento",1,"serv",218.84,218.84,{"$f":"'BDI - Demanda'!$E$27","v":0.1197},245.04]
[null,null,null,"2.18.15","Substituição das tampas",1,"serv",1840.47,1840.47,{"$f":"'BDI - Demanda'!$E$27","v":0.1197},2060.77]
[null,null,null,"2.18.16","Substituição de terminais",1,"serv",78.56,78.56,{"$f":"'BDI - Demanda'!$E$27","v":0.1197},87.96]
[null,null,null,"2.18.17","Substituição de travas",1,"serv",61.72,61.72,{"$f":"'BDI - Demanda'!$E$27","v":0.1197},69.11]
[null,null,null,"2.19","Conserto de motor elétrico de 100 cv a 120 cv"]
[null,null,null,"2.19.1","Troca de rolamentos",1,"serv",1502.68,{"$f":"F612*H612","v":1502.68},{"$f":"'BDI - Demanda'!$E$27","v":0.1197},{"$f":"ROUND(I612*(1+J612),2)","v":1682.55}]
[null,null,null,"2.19.2","Confecção e substituição de buchas",1,"serv",395.93,395.93,{"$f":"'BDI - Demanda'!$E$27","v":0.1197},443.32]
[null,null,null,"2.19.3","Serviço de torno",1,"serv",341.72,341.72,{"$f":"'BDI - Demanda'!$E$27","v":0.1197},382.62]
[null,null,null,"2.19.4","Substituição de ventoinha",1,"serv",359.12,359.12,{"$f":"'BDI - Demanda'!$E$27","v":0.1197},402.11]
[null,null,null,"2.19.5","Enchimento das tampas",1,"serv",356.59,356.59,{"$f":"'BDI - Demanda'!$E$27","v":0.1197},399.27]
[null,null,null,"2.19.6","Rebobinamento",1,"serv",6387.61,6387.61,{"$f":"'BDI - Demanda'!$E$27","v":0.1197},7152.21]
[null,null,null,"2.19.7","Serviços no eixo",1,"serv",487.39,487.39,{"$f":"'BDI - Demanda'!$E$27","v":0.1197},545.73]
[null,null,null,"2.19.8","Troca de parafusos",1,"serv",164.97,164.97,{"$f":"'BDI - Demanda'!$E$27","v":0.1197},184.72]
[null,null,null,"2.19.9","Troca de capacitor",1,"serv",322.19,322.19,{"$f":"'BDI - Demanda'!$E$27","v":0.1197},360.76]
[null,null,null,"2.19.10","Enchimento de eixos",1,"serv",412.42,412.42,{"$f":"'BDI - Demanda'!$E$27","v":0.1197},461.79]
[null,null,null,"2.19.11","Substituição de acoplamento",1,"serv",1092.78,1092.78,{"$f":"'BDI - Demanda'!$E$27","v":0.1197},1223.5899999999999]
[null,null,null,"2.19.12","Serviço de solda",1,"serv",234.55,234.55,{"$f":"'BDI - Demanda'!$E$27","v":0.1197},262.63]
[null,null,null,"2.19.13","Rasgo de chaveta",1,"serv",149.54,149.54,{"$f":"'BDI - Demanda'!$E$27","v":0.1197},167.44]
[null,null,null,"2.19.14","Furo em acoplamento",1,"serv",218.84,218.84,{"$f":"'BDI - Demanda'!$E$27","v":0.1197},245.04]
[null,null,null,"2.19.15","Substituição das tampas",1,"serv",2070.5300000000002,2070.5300000000002,{"$f":"'BDI - Demanda'!$E$27","v":0.1197},2318.37]
[null,null,null,"2.19.16","Substituição de terminais",1,"serv",89.78,89.78,{"$f":"'BDI - Demanda'!$E$27","v":0.1197},100.53]
[null,null,null,"2.19.17","Substituição de travas",1,"serv",67.33,67.33,{"$f":"'BDI - Demanda'!$E$27","v":0.1197},75.39]
[null,null,null,"2.20","Conserto de motor elétrico de 120 cv a 140 cv"]
[null,null,null,"2.20.1","Troca de rolamentos",1,"serv",1502.68,{"$f":"F630*H630","v":1502.68},{"$f":"'BDI - Demanda'!$E$27","v":0.1197},{"$f":"ROUND(I630*(1+J630),2)","v":1682.55}]
[null,null,null,"2.20.2","Confecção e substituição de buchas",1,"serv",395.93,395.93,{"$f":"'BDI - Demanda'!$E$27","v":0.1197},443.32]
[null,null,null,"2.20.3","Serviço de torno",1,"serv",341.72,341.72,{"$f":"'BDI - Demanda'!$E$27","v":0.1197},382.62]
[null,null,null,"2.20.4","Substituição de ventoinha",1,"serv",359.12,359.12,{"$f":"'BDI - Demanda'!$E$27","v":0.1197},402.11]
[null,null,null,"2.20.5","Enchimento das tampas",1,"serv",356.59,356.59,{"$f":"'BDI - Demanda'!$E$27","v":0.1197},399.27]
[null,null,null,"2.20.6","Rebobinamento",1,"serv",6387.61,6387.61,{"$f":"'BDI - Demanda'!$E$27","v":0.1197},7152.21]
[null,null,null,"2.20.7","Serviços no eixo",1,"serv",487.39,487.39,{"$f":"'BDI - Demanda'!$E$27","v":0.1197},545.73]
[null,null,null,"2.20.8","Troca de parafusos",1,"serv",164.97,164.97,{"$f":"'BDI - Demanda'!$E$27","v":0.1197},184.72]
[null,null,null,"2.20.9","Troca de capacitor",1,"serv",322.19,322.19,{"$f":"'BDI - Demanda'!$E$27","v":0.1197},360.76]
[null,null,null,"2.20.10","Enchimento de eixos",1,"serv",412.42,412.42,{"$f":"'BDI - Demanda'!$E$27","v":0.1197},461.79]
[null,null,null,"2.20.11","Substituição de acoplamento",1,"serv",1092.78,1092.78,{"$f":"'BDI - Demanda'!$E$27","v":0.1197},1223.5899999999999]
[null,null,null,"2.20.12","Serviço de solda",1,"serv",234.55,234.55,{"$f":"'BDI - Demanda'!$E$27","v":0.1197},262.63]
[null,null,null,"2.20.13","Rasgo de chaveta",1,"serv",149.54,149.54,{"$f":"'BDI - Demanda'!$E$27","v":0.1197},167.44]
[null,null,null,"2.20.14","Furo em acoplamento",1,"serv",218.84,218.84,{"$f":"'BDI - Demanda'!$E$27","v":0.1197},245.04]
[null,null,null,"2.20.15","Substituição das tampas",1,"serv",2070.5300000000002,2070.5300000000002,{"$f":"'BDI - Demanda'!$E$27","v":0.1197},2318.37]
[null,null,null,"2.20.16","Substituição de terminais",1,"serv",89.78,89.78,{"$f":"'BDI - Demanda'!$E$27","v":0.1197},100.53]
[null,null,null,"2.20.17","Substituição de travas",1,"serv",67.33,67.33,{"$f":"'BDI - Demanda'!$E$27","v":0.1197},75.39]
[null,null,null,"2.21","Conserto de motor elétrico de 140 cv a 160 cv"]
[null,null,null,"2.21.1","Troca de rolamentos",1,"serv",1618.27,{"$f":"F648*H648","v":1618.27},{"$f":"'BDI - Demanda'!$E$27","v":0.1197},{"$f":"ROUND(I648*(1+J648),2)","v":1811.98}]
[null,null,null,"2.21.2","Confecção e substituição de buchas",1,"serv",417.92,417.92,{"$f":"'BDI - Demanda'!$E$27","v":0.1197},467.95]
[null,null,null,"2.21.3","Serviço de torno",1,"serv",330.33,330.33,{"$f":"'BDI - Demanda'!$E$27","v":0.1197},369.87]
[null,null,null,"2.21.4","Substituição de ventoinha",1,"serv",404.01,404.01,{"$f":"'BDI - Demanda'!$E$27","v":0.1197},452.37]
[null,null,null,"2.21.5","Enchimento das tampas",1,"serv",391.1,391.1,{"$f":"'BDI - Demanda'!$E$27","v":0.1197},437.91]
[null,null,null,"2.21.6","Rebobinamento",1,"serv",7536.89,7536.89,{"$f":"'BDI - Demanda'!$E$27","v":0.1197},8439.06]
[null,null,null,"2.21.7","Serviços no eixo",1,"serv",487.39,487.39,{"$f":"'BDI - Demanda'!$E$27","v":0.1197},545.73]
[null,null,null,"2.21.8","Troca de parafusos",1,"serv",176.75,176.75,{"$f":"'BDI - Demanda'!$E$27","v":0.1197},197.91]
[null,null,null,"2.21.9","Troca de capacitor",1,"serv",322.19,322.19,{"$f":"'BDI - Demanda'!$E$27","v":0.1197},360.76]
[null,null,null,"2.21.10","Enchimento de eixos",1,"serv",424.21,424.21,{"$f":"'BDI - Demanda'!$E$27","v":0.1197},474.99]
[null,null,null,"2.21.11","Substituição de acoplamento",1,"serv",1265.32,1265.32,{"$f":"'BDI - Demanda'!$E$27","v":0.1197},1416.78]
[null,null,null,"2.21.12","Serviço de solda",1,"serv",255.87,255.87,{"$f":"'BDI - Demanda'!$E$27","v":0.1197},286.5]
[null,null,null,"2.21.13","Rasgo de chaveta",1,"serv",172.54,172.54,{"$f":"'BDI - Demanda'!$E$27","v":0.1197},193.19]
[null,null,null,"2.21.14","Furo em acoplamento",1,"serv",240.72,240.72,{"$f":"'BDI - Demanda'!$E$27","v":0.1197},269.52999999999997]
[null,null,null,"2.21.15","Substituição das tampas",1,"serv",2185.56,2185.56,{"$f":"'BDI - Demanda'!$E$27","v":0.1197},2447.17]
[null,null,null,"2.21.16","Substituição de terminais",1,"serv",89.78,89.78,{"$f":"'BDI - Demanda'!$E$27","v":0.1197},100.53]
[null,null,null,"2.21.17","Substituição de travas",1,"serv",67.33,67.33,{"$f":"'BDI - Demanda'!$E$27","v":0.1197},75.39]
[null,null,null,"2.22","Conserto de motor elétrico de 160 cv a 180 cv"]
[null,null,null,"2.22.1","Troca de rolamentos",1,"serv",1849.45,{"$f":"F666*H666","v":1849.45},{"$f":"'BDI - Demanda'!$E$27","v":0.1197},{"$f":"ROUND(I666*(1+J666),2)","v":2070.83}]
[null,null,null,"2.22.2","Confecção e substituição de buchas",1,"serv",461.91,{"$f":"F667*H667","v":461.91},{"$f":"'BDI - Demanda'!$E$27","v":0.1197},{"$f":"ROUND(I667*(1+J667),2)","v":517.20000000000005}]
[null,null,null,"2.22.3","Serviço de torno",1,"serv",341.72,341.72,{"$f":"'BDI - Demanda'!$E$27","v":0.1197},382.62]
[null,null,null,"2.22.4","Substituição de ventoinha",1,"serv",448.9,448.9,{"$f":"'BDI - Demanda'!$E$27","v":0.1197},502.63]
[null,null,null,"2.22.5","Enchimento das tampas",1,"serv",402.6,402.6,{"$f":"'BDI - Demanda'!$E$27","v":0.1197},450.79]
[null,null,null,"2.22.6","Rebobinamento",1,"serv",8774.16,8774.16,{"$f":"'BDI - Demanda'!$E$27","v":0.1197},9824.43]
[null,null,null,"2.22.7","Serviços no eixo",1,"serv",498.72,498.72,{"$f":"'BDI - Demanda'!$E$27","v":0.1197},558.41999999999996]
[null,null,null,"2.22.8","Troca de parafusos",1,"serv",212.1,212.1,{"$f":"'BDI - Demanda'!$E$27","v":0.1197},237.49]
[null,null,null,"2.22.9","Troca de capacitor",1,"serv",322.19,322.19,{"$f":"'BDI - Demanda'!$E$27","v":0.1197},360.76]
[null,null,null,"2.22.10","Enchimento de eixos",1,"serv",424.21,424.21,{"$f":"'BDI - Demanda'!$E$27","v":0.1197},474.99]
[null,null,null,"2.22.11","Substituição de acoplamento",1,"serv",1265.32,1265.32,{"$f":"'BDI - Demanda'!$E$27","v":0.1197},1416.78]
[null,null,null,"2.22.12","Serviço de solda",1,"serv",266.52999999999997,266.52999999999997,{"$f":"'BDI - Demanda'!$E$27","v":0.1197},298.43]
[null,null,null,"2.22.13","Rasgo de chaveta",1,"serv",184.05,184.05,{"$f":"'BDI - Demanda'!$E$27","v":0.1197},206.08]
[null,null,null,"2.22.14","Furo em acoplamento",1,"serv",262.60000000000002,262.60000000000002,{"$f":"'BDI - Demanda'!$E$27","v":0.1197},294.02999999999997]
[null,null,null,"2.22.15","Substituição das tampas",1,"serv",2645.68,2645.68,{"$f":"'BDI - Demanda'!$E$27","v":0.1197},2962.37]
[null,null,null,"2.22.16","Substituição de terminais",1,"serv",101,101,{"$f":"'BDI - Demanda'!$E$27","v":0.1197},113.09]
[null,null,null,"2.22.17","Substituição de travas",1,"serv",78.56,78.56,{"$f":"'BDI - Demanda'!$E$27","v":0.1197},87.96]
[null,null,null,"2.23","Conserto de motor elétrico de 290 a 310 cv"]
[null,null,null,"2.23.1","Troca de rolamentos",1,"serv",3294.33,{"$f":"F684*H684","v":3294.33},{"$f":"'BDI - Demanda'!$E$27","v":0.1197},{"$f":"ROUND(I684*(1+J684),2)","v":3688.66}]
[null,null,null,"2.23.2","Confecção e substituição de buchas",1,"serv",659.88,659.88,{"$f":"'BDI - Demanda'!$E$27","v":0.1197},738.87]
[null,null,null,"2.23.3","Serviço de torno",1,"serv",511.46,511.46,{"$f":"'BDI - Demanda'!$E$27","v":0.1197},572.67999999999995]
[null,null,null,"2.23.4","Substituição de ventoinha",1,"serv",673.34,673.34,{"$f":"'BDI - Demanda'!$E$27","v":0.1197},753.94]
[null,null,null,"2.23.5","Enchimento das tampas",1,"serv",632.66,632.66,{"$f":"'BDI - Demanda'!$E$27","v":0.1197},708.39]
[null,null,null,"2.23.6","Rebobinamento",1,"serv",13197.53,13197.53,{"$f":"'BDI - Demanda'!$E$27","v":0.1197},14777.27]
[null,null,null,"2.23.7","Serviços no eixo",1,"serv",566.73,566.73,{"$f":"'BDI - Demanda'!$E$27","v":0.1197},634.57000000000005]
[null,null,null,"2.23.8","Troca de parafusos",1,"serv",235.67,235.67,{"$f":"'BDI - Demanda'!$E$27","v":0.1197},263.88]
[null,null,null,"2.23.9","Troca de capacitor",1,"serv",322.19,322.19,{"$f":"'BDI - Demanda'!$E$27","v":0.1197},360.76]
[null,null,null,"2.23.10","Enchimento de eixos",1,"serv",765.93,765.93,{"$f":"'BDI - Demanda'!$E$27","v":0.1197},857.61]
[null,null,null,"2.23.11","Substituição de acoplamento",1,"serv",2185.56,2185.56,{"$f":"'BDI - Demanda'!$E$27","v":0.1197},2447.17]
[null,null,null,"2.23.12","Serviço de solda",1,"serv",298.52,298.52,{"$f":"'BDI - Demanda'!$E$27","v":0.1197},334.25]
[null,null,null,"2.23.13","Rasgo de chaveta",1,"serv",287.57,287.57,{"$f":"'BDI - Demanda'!$E$27","v":0.1197},321.99]
[null,null,null,"2.23.14","Furo em acoplamento",1,"serv",382.96,382.96,{"$f":"'BDI - Demanda'!$E$27","v":0.1197},428.8]
[null,null,null,"2.23.15","Substituição das tampas",1,"serv",4026.03,4026.03,{"$f":"'BDI - Demanda'!$E$27","v":0.1197},4507.95]
[null,null,null,"2.23.16","Substituição de terminais",1,"serv",145.88999999999999,145.88999999999999,{"$f":"'BDI - Demanda'!$E$27","v":0.1197},163.35]
[null,null,null,"2.23.17","Substituição de travas",1,"serv",112.22,112.22,{"$f":"'BDI - Demanda'!$E$27","v":0.1197},125.65]
[null,null,null,3,"SERVIÇOS ESPECIALIZADOS DE MANUTENÇÃO CORRETIVA PARA CONDICIONADORES DE AR, VENTILADORES E EXAUSTORES"]
[null,null,null,"3.1","Conserto de ventilador/rotor centrífugo de 0 a 200mm de diâmetro"]
[null,null,null,"3.1.1","Troca de rolamentos",1,"serv",219.62,{"$f":"F703*H703","v":219.62},{"$f":"'BDI - Demanda'!$E$27","v":0.1197},{"$f":"ROUND(I703*(1+J703),2)","v":245.91}]
[null,null,null,"3.1.2","Troca do eixo",1,"serv",164.97,164.97,{"$f":"'BDI - Demanda'!$E$27","v":0.1197},184.72]
[null,null,null,"3.1.3","Serviço de torno",1,"serv",91.13,91.13,{"$f":"'BDI - Demanda'!$E$27","v":0.1197},102.04]
[null,null,null,"3.1.4","Troca de borrachas",1,"serv",89.78,89.78,{"$f":"'BDI - Demanda'!$E$27","v":0.1197},100.53]
[null,null,null,"3.1.5","Troca de turbina",1,"serv",920.24,920.24,{"$f":"'BDI - Demanda'!$E$27","v":0.1197},1030.3900000000001]
[null,null,null,"3.1.6","Reparo no gabinete",1,"serv",164.97,164.97,{"$f":"'BDI - Demanda'!$E$27","v":0.1197},184.72]
[null,null,null,"3.1.7","Serviços de solda",1,"serv",90.68,90.68,{"$f":"'BDI - Demanda'!$E$27","v":0.1197},101.53]
[null,null,null,"3.1.8","Troca de parafusos",1,"serv",35.35,35.35,{"$f":"'BDI - Demanda'!$E$27","v":0.1197},39.58]
[null,null,null,"3.1.9","Troca de mancal",1,"serv",166.65,166.65,{"$f":"'BDI - Demanda'!$E$27","v":0.1197},186.6]
[null,null,null,"3.1.10","Enchimento de eixo",1,"serv",58.92,58.92,{"$f":"'BDI - Demanda'!$E$27","v":0.1197},65.97]
[null,null,null,"3.1.11","Confecção e substituição de buchas",1,"serv",80.52,80.52,{"$f":"'BDI - Demanda'!$E$27","v":0.1197},90.16]
[null,null,null,"3.1.12","Confecção de chaveta",1,"serv",74.63,74.63,{"$f":"'BDI - Demanda'!$E$27","v":0.1197},83.56]
[null,null,null,"3.1.13","Rasgo de chaveta",1,"serv",34.51,34.51,{"$f":"'BDI - Demanda'!$E$27","v":0.1197},38.64]
[null,null,null,"3.1.14","Furo em acoplamento",1,"serv",87.53,87.53,{"$f":"'BDI - Demanda'!$E$27","v":0.1197},98.01]
[null,null,null,"3.1.15","Substituição de acoplamento",1,"serv",149.54,149.54,{"$f":"'BDI - Demanda'!$E$27","v":0.1197},167.44]
[null,null,null,"3.1.16","Substituição de terminais",1,"serv",11.22,11.22,{"$f":"'BDI - Demanda'!$E$27","v":0.1197},12.56]
[null,null,null,"3.1.17","Substituição de travas",1,"serv",11.22,11.22,{"$f":"'BDI - Demanda'!$E$27","v":0.1197},12.56]
[null,null,null,"3.1.18","Substituição de polia",1,"serv",159.91999999999999,159.91999999999999,{"$f":"'BDI - Demanda'!$E$27","v":0.1197},179.06]
[null,null,null,"3.2","Conserto de ventilador/rotor centrífugo de 200 a 400mm de diâmetro"]
[null,null,null,"3.2.1","Troca de rolamentos",1,"serv",323.64999999999998,{"$f":"F722*H722","v":323.64999999999998},{"$f":"'BDI - Demanda'!$E$27","v":0.1197},{"$f":"ROUND(I722*(1+J722),2)","v":362.39}]
[null,null,null,"3.2.2","Troca do eixo",1,"serv",241.95,241.95,{"$f":"'BDI - Demanda'!$E$27","v":0.1197},270.91000000000003]
[null,null,null,"3.2.3","Serviço de torno",1,"serv",91.13,91.13,{"$f":"'BDI - Demanda'!$E$27","v":0.1197},102.04]
[null,null,null,"3.2.4","Troca de borrachas",1,"serv",89.78,89.78,{"$f":"'BDI - Demanda'!$E$27","v":0.1197},100.53]
[null,null,null,"3.2.5","Troca de turbina",1,"serv",1035.27,1035.27,{"$f":"'BDI - Demanda'!$E$27","v":0.1197},1159.19]
[null,null,null,"3.2.6","Reparo no gabinete",1,"serv",197.96,197.96,{"$f":"'BDI - Demanda'!$E$27","v":0.1197},221.66]
[null,null,null,"3.2.7","Serviços de solda",1,"serv",90.68,90.68,{"$f":"'BDI - Demanda'!$E$27","v":0.1197},101.53]
[null,null,null,"3.2.8","Troca de parafusos",1,"serv",35.35,35.35,{"$f":"'BDI - Demanda'!$E$27","v":0.1197},39.58]
[null,null,null,"3.2.9","Troca de mancal",1,"serv",222.2,222.2,{"$f":"'BDI - Demanda'!$E$27","v":0.1197},248.8]
[null,null,null,"3.2.10","Enchimento de eixo",1,"serv",58.92,58.92,{"$f":"'BDI - Demanda'!$E$27","v":0.1197},65.97]
[null,null,null,"3.2.11","Confecção e substituição de buchas",1,"serv",80.52,80.52,{"$f":"'BDI - Demanda'!$E$27","v":0.1197},90.16]
[null,null,null,"3.2.12","Confecção de chaveta",1,"serv",74.63,74.63,{"$f":"'BDI - Demanda'!$E$27","v":0.1197},83.56]
[null,null,null,"3.2.13","Rasgo de chaveta",1,"serv",34.51,34.51,{"$f":"'BDI - Demanda'!$E$27","v":0.1197},38.64]
[null,null,null,"3.2.14","Furo em acoplamento",1,"serv",87.53,87.53,{"$f":"'BDI - Demanda'!$E$27","v":0.1197},98.01]
[null,null,null,"3.2.15","Substituição de acoplamento",1,"serv",149.54,149.54,{"$f":"'BDI - Demanda'!$E$27","v":0.1197},167.44]
[null,null,null,"3.2.16","Substituição de terminais",1,"serv",11.22,11.22,{"$f":"'BDI - Demanda'!$E$27","v":0.1197},12.56]
[null,null,null,"3.2.17","Substituição de travas",1,"serv",11.22,11.22,{"$f":"'BDI - Demanda'!$E$27","v":0.1197},12.56]
[null,null,null,"3.2.18","Substituição de polia",1,"serv",191.9,191.9,{"$f":"'BDI - Demanda'!$E$27","v":0.1197},214.87]
[null,null,null,"3.3","Conserto de ventilador/rotor centrífugo de 400 a 600mm de diâmetro"]
[null,null,null,"3.3.1","Troca de rolamentos",1,"serv",346.77,{"$f":"F741*H741","v":346.77},{"$f":"'BDI - Demanda'!$E$27","v":0.1197},{"$f":"ROUND(I741*(1+J741),2)","v":388.28}]
[null,null,null,"3.3.2","Troca do eixo",1,"serv",241.95,241.95,{"$f":"'BDI - Demanda'!$E$27","v":0.1197},270.91000000000003]
[null,null,null,"3.3.3","Serviço de torno",1,"serv",102.52,102.52,{"$f":"'BDI - Demanda'!$E$27","v":0.1197},114.79]
[null,null,null,"3.3.4","Troca de borrachas",1,"serv",112.22,112.22,{"$f":"'BDI - Demanda'!$E$27","v":0.1197},125.65]
[null,null,null,"3.3.5","Troca de turbina",1,"serv",1150.3,1150.3,{"$f":"'BDI - Demanda'!$E$27","v":0.1197},1287.99]
[null,null,null,"3.3.6","Reparo no gabinete",1,"serv",219.96,219.96,{"$f":"'BDI - Demanda'!$E$27","v":0.1197},246.29]
[null,null,null,"3.3.7","Serviços de solda",1,"serv",113.35,113.35,{"$f":"'BDI - Demanda'!$E$27","v":0.1197},126.92]
[null,null,null,"3.3.8","Troca de parafusos",1,"serv",58.92,58.92,{"$f":"'BDI - Demanda'!$E$27","v":0.1197},65.97]
[null,null,null,"3.3.9","Troca de mancal",1,"serv",244.09,244.09,{"$f":"'BDI - Demanda'!$E$27","v":0.1197},273.31]
[null,null,null,"3.3.10","Enchimento de eixo",1,"serv",82.48,82.48,{"$f":"'BDI - Demanda'!$E$27","v":0.1197},92.35]
[null,null,null,"3.3.11","Confecção e substituição de buchas",1,"serv",92.02,92.02,{"$f":"'BDI - Demanda'!$E$27","v":0.1197},103.03]
[null,null,null,"3.3.12","Confecção de chaveta",1,"serv",85.29,85.29,{"$f":"'BDI - Demanda'!$E$27","v":0.1197},95.5]
[null,null,null,"3.3.13","Rasgo de chaveta",1,"serv",57.51,57.51,{"$f":"'BDI - Demanda'!$E$27","v":0.1197},64.39]
[null,null,null,"3.3.14","Furo em acoplamento",1,"serv",87.53,87.53,{"$f":"'BDI - Demanda'!$E$27","v":0.1197},98.01]
[null,null,null,"3.3.15","Substituição de acoplamento",1,"serv",172.54,172.54,{"$f":"'BDI - Demanda'!$E$27","v":0.1197},193.19]
[null,null,null,"3.3.16","Substituição de terminais",1,"serv",16.829999999999998,16.829999999999998,{"$f":"'BDI - Demanda'!$E$27","v":0.1197},18.84]
[null,null,null,"3.3.17","Substituição de travas",1,"serv",16.829999999999998,16.829999999999998,{"$f":"'BDI - Demanda'!$E$27","v":0.1197},18.84]
[null,null,null,"3.3.18","Substituição de polia",1,"serv",213.23,213.23,{"$f":"'BDI - Demanda'!$E$27","v":0.1197},238.75]
[null,null,null,"3.4","Conserto de ventilador/rotor centrífugo de 600 a 800mm de diâmetro"]
[null,null,null,"3.4.1","Troca de rolamentos",1,"serv",751.34,{"$f":"F760*H760","v":751.34},{"$f":"'BDI - Demanda'!$E$27","v":0.1197},{"$f":"ROUND(I760*(1+J760),2)","v":841.28}]
[null,null,null,"3.4.2","Troca do eixo",1,"serv",241.95,241.95,{"$f":"'BDI - Demanda'!$E$27","v":0.1197},270.91000000000003]
[null,null,null,"3.4.3","Serviço de torno",1,"serv",102.52,102.52,{"$f":"'BDI - Demanda'!$E$27","v":0.1197},114.79]
[null,null,null,"3.4.4","Troca de borrachas",1,"serv",134.66999999999999,134.66999999999999,{"$f":"'BDI - Demanda'!$E$27","v":0.1197},150.79]
[null,null,null,"3.4.5","Troca de turbina",1,"serv",1380.35,1380.35,{"$f":"'BDI - Demanda'!$E$27","v":0.1197},1545.58]
[null,null,null,"3.4.6","Reparo no gabinete",1,"serv",252.95,252.95,{"$f":"'BDI - Demanda'!$E$27","v":0.1197},283.23]
[null,null,null,"3.4.7","Serviços de solda",1,"serv",113.35,113.35,{"$f":"'BDI - Demanda'!$E$27","v":0.1197},126.92]
[null,null,null,"3.4.8","Troca de parafusos",1,"serv",70.7,70.7,{"$f":"'BDI - Demanda'!$E$27","v":0.1197},79.16]
[null,null,null,"3.4.9","Troca de mancal",1,"serv",311.08,311.08,{"$f":"'BDI - Demanda'!$E$27","v":0.1197},348.32]
[null,null,null,"3.4.10","Enchimento de eixo",1,"serv",94.27,94.27,{"$f":"'BDI - Demanda'!$E$27","v":0.1197},105.55]
[null,null,null,"3.4.11","Confecção e substituição de buchas",1,"serv",103.53,103.53,{"$f":"'BDI - Demanda'!$E$27","v":0.1197},115.92]
[null,null,null,"3.4.12","Confecção de chaveta",1,"serv",95.95,95.95,{"$f":"'BDI - Demanda'!$E$27","v":0.1197},107.44]
[null,null,null,"3.4.13","Rasgo de chaveta",1,"serv",69.02,69.02,{"$f":"'BDI - Demanda'!$E$27","v":0.1197},77.28]
[null,null,null,"3.4.14","Furo em acoplamento",1,"serv",109.42,109.42,{"$f":"'BDI - Demanda'!$E$27","v":0.1197},122.52]
[null,null,null,"3.4.15","Substituição de acoplamento",1,"serv",287.57,287.57,{"$f":"'BDI - Demanda'!$E$27","v":0.1197},321.99]
[null,null,null,"3.4.16","Substituição de terminais",1,"serv",28.06,28.06,{"$f":"'BDI - Demanda'!$E$27","v":0.1197},31.42]
[null,null,null,"3.4.17","Substituição de travas",1,"serv",28.06,28.06,{"$f":"'BDI - Demanda'!$E$27","v":0.1197},31.42]
[null,null,null,"3.4.18","Substituição de polia",1,"serv",266.52999999999997,266.52999999999997,{"$f":"'BDI - Demanda'!$E$27","v":0.1197},298.43]
[null,null,null,"3.5","Conserto de ventilador/rotor centrífugo de 800 a 1000mm de diâmetro"]
[null,null,null,"3.5.1","Troca de rolamentos",1,"serv",982.52,{"$f":"F779*H779","v":982.52},{"$f":"'BDI - Demanda'!$E$27","v":0.1197},{"$f":"ROUND(I779*(1+J779),2)","v":1100.1300000000001}]
[null,null,null,"3.5.2","Troca do eixo",1,"serv",274.95,274.95,{"$f":"'BDI - Demanda'!$E$27","v":0.1197},307.86]
[null,null,null,"3.5.3","Serviço de torno",1,"serv",113.91,113.91,{"$f":"'BDI - Demanda'!$E$27","v":0.1197},127.55]
[null,null,null,"3.5.4","Troca de borrachas",1,"serv",134.66999999999999,134.66999999999999,{"$f":"'BDI - Demanda'!$E$27","v":0.1197},150.79]
[null,null,null,"3.5.5","Troca de turbina",1,"serv",1495.38,1495.38,{"$f":"'BDI - Demanda'!$E$27","v":0.1197},1674.38]
[null,null,null,"3.5.6","Reparo no gabinete",1,"serv",252.95,252.95,{"$f":"'BDI - Demanda'!$E$27","v":0.1197},283.23]
[null,null,null,"3.5.7","Serviços de solda",1,"serv",113.35,113.35,{"$f":"'BDI - Demanda'!$E$27","v":0.1197},126.92]
[null,null,null,"3.5.8","Troca de parafusos",1,"serv",70.7,70.7,{"$f":"'BDI - Demanda'!$E$27","v":0.1197},79.16]
[null,null,null,"3.5.9","Troca de mancal",1,"serv",311.08,311.08,{"$f":"'BDI - Demanda'!$E$27","v":0.1197},348.32]
[null,null,null,"3.5.10","Enchimento de eixo",1,"serv",106.05,106.05,{"$f":"'BDI - Demanda'!$E$27","v":0.1197},118.74]
[null,null,null,"3.5.11","Confecção e substituição de buchas",1,"serv",103.53,103.53,{"$f":"'BDI - Demanda'!$E$27","v":0.1197},115.92]
[null,null,null,"3.5.12","Confecção de chaveta",1,"serv",95.95,95.95,{"$f":"'BDI - Demanda'!$E$27","v":0.1197},107.44]
[null,null,null,"3.5.13","Rasgo de chaveta",1,"serv",69.02,69.02,{"$f":"'BDI - Demanda'!$E$27","v":0.1197},77.28]
[null,null,null,"3.5.14","Furo em acoplamento",1,"serv",109.42,109.42,{"$f":"'BDI - Demanda'!$E$27","v":0.1197},122.52]
[null,null,null,"3.5.15","Substituição de acoplamento",1,"serv",287.57,287.57,{"$f":"'BDI - Demanda'!$E$27","v":0.1197},321.99]
[null,null,null,"3.5.16","Substituição de terminais",1,"serv",28.06,28.06,{"$f":"'BDI - Demanda'!$E$27","v":0.1197},31.42]
[null,null,null,"3.5.17","Substituição de travas",1,"serv",28.06,28.06,{"$f":"'BDI - Demanda'!$E$27","v":0.1197},31.42]
[null,null,null,"3.5.18","Substituição de polia",1,"serv",266.52999999999997,266.52999999999997,{"$f":"'BDI - Demanda'!$E$27","v":0.1197},298.43]
[null,null,null,"3.6","Conserto de ventilador/rotor centrífugo de 1000 a 1200mm de diâmetro"]
[null,null,null,"3.6.1","Troca de rolamentos",1,"serv",1040.32,{"$f":"F798*H798","v":1040.32},{"$f":"'BDI - Demanda'!$E$27","v":0.1197},{"$f":"ROUND(I798*(1+J798),2)","v":1164.8499999999999}]
[null,null,null,"3.6.2","Troca do eixo",1,"serv",285.95,285.95,{"$f":"'BDI - Demanda'!$E$27","v":0.1197},320.18]
[null,null,null,"3.6.3","Serviço de torno",1,"serv",113.91,113.91,{"$f":"'BDI - Demanda'!$E$27","v":0.1197},127.55]
[null,null,null,"3.6.4","Troca de borrachas",1,"serv",134.66999999999999,134.66999999999999,{"$f":"'BDI - Demanda'!$E$27","v":0.1197},150.79]
[null,null,null,"3.6.5","Troca de turbina",1,"serv",1725.44,1725.44,{"$f":"'BDI - Demanda'!$E$27","v":0.1197},1931.98]
[null,null,null,"3.6.6","Reparo no gabinete",1,"serv",274.95,274.95,{"$f":"'BDI - Demanda'!$E$27","v":0.1197},307.86]
[null,null,null,"3.6.7","Serviços de solda",1,"serv",113.35,113.35,{"$f":"'BDI - Demanda'!$E$27","v":0.1197},126.92]
[null,null,null,"3.6.8","Troca de parafusos",1,"serv",70.7,70.7,{"$f":"'BDI - Demanda'!$E$27","v":0.1197},79.16]
[null,null,null,"3.6.9","Troca de mancal",1,"serv",333.31,333.31,{"$f":"'BDI - Demanda'!$E$27","v":0.1197},373.21]
[null,null,null,"3.6.10","Enchimento de eixo",1,"serv",106.05,106.05,{"$f":"'BDI - Demanda'!$E$27","v":0.1197},118.74]
[null,null,null,"3.6.11","Confecção e substituição de buchas",1,"serv",103.53,103.53,{"$f":"'BDI - Demanda'!$E$27","v":0.1197},115.92]
[null,null,null,"3.6.12","Confecção de chaveta",1,"serv",95.95,95.95,{"$f":"'BDI - Demanda'!$E$27","v":0.1197},107.44]
[null,null,null,"3.6.13","Rasgo de chaveta",1,"serv",69.02,69.02,{"$f":"'BDI - Demanda'!$E$27","v":0.1197},77.28]
[null,null,null,"3.6.14","Furo em acoplamento",1,"serv",109.42,109.42,{"$f":"'BDI - Demanda'!$E$27","v":0.1197},122.52]
[null,null,null,"3.6.15","Substituição de acoplamento",1,"serv",322.08,322.08,{"$f":"'BDI - Demanda'!$E$27","v":0.1197},360.63]
[null,null,null,"3.6.16","Substituição de terminais",1,"serv",28.06,28.06,{"$f":"'BDI - Demanda'!$E$27","v":0.1197},31.42]
[null,null,null,"3.6.17","Substituição de travas",1,"serv",28.06,28.06,{"$f":"'BDI - Demanda'!$E$27","v":0.1197},31.42]
[null,null,null,"3.6.18","Substituição de polia",1,"serv",319.83999999999997,319.83999999999997,{"$f":"'BDI - Demanda'!$E$27","v":0.1197},358.12]
[null,null,null,"3.7","Conserto de ventilador/rotor centrífugo de 1200 a 1400mm de diâmetro"]
[null,null,null,"3.7.1","Troca de rolamentos",1,"serv",1387.09,{"$f":"F817*H817","v":1387.09},{"$f":"'BDI - Demanda'!$E$27","v":0.1197},{"$f":"ROUND(I817*(1+J817),2)","v":1553.12}]
[null,null,null,"3.7.2","Troca do eixo",1,"serv",285.95,285.95,{"$f":"'BDI - Demanda'!$E$27","v":0.1197},320.18]
[null,null,null,"3.7.3","Serviço de torno",1,"serv",113.91,113.91,{"$f":"'BDI - Demanda'!$E$27","v":0.1197},127.55]
[null,null,null,"3.7.4","Troca de borrachas",1,"serv",134.66999999999999,134.66999999999999,{"$f":"'BDI - Demanda'!$E$27","v":0.1197},150.79]
[null,null,null,"3.7.5","Troca de turbina",1,"serv",2070.5300000000002,2070.5300000000002,{"$f":"'BDI - Demanda'!$E$27","v":0.1197},2318.37]
[null,null,null,"3.7.6","Reparo no gabinete",1,"serv",274.95,274.95,{"$f":"'BDI - Demanda'!$E$27","v":0.1197},307.86]
[null,null,null,"3.7.7","Serviços de solda",1,"serv",113.35,113.35,{"$f":"'BDI - Demanda'!$E$27","v":0.1197},126.92]
[null,null,null,"3.7.8","Troca de parafusos",1,"serv",70.7,70.7,{"$f":"'BDI - Demanda'!$E$27","v":0.1197},79.16]
[null,null,null,"3.7.9","Troca de mancal",1,"serv",333.31,333.31,{"$f":"'BDI - Demanda'!$E$27","v":0.1197},373.21]
[null,null,null,"3.7.10","Enchimento de eixo",1,"serv",106.05,106.05,{"$f":"'BDI - Demanda'!$E$27","v":0.1197},118.74]
[null,null,null,"3.7.11","Confecção e substituição de buchas",1,"serv",103.53,103.53,{"$f":"'BDI - Demanda'!$E$27","v":0.1197},115.92]
[null,null,null,"3.7.12","Confecção de chaveta",1,"serv",95.95,95.95,{"$f":"'BDI - Demanda'!$E$27","v":0.1197},107.44]
[null,null,null,"3.7.13","Rasgo de chaveta",1,"serv",69.02,69.02,{"$f":"'BDI - Demanda'!$E$27","v":0.1197},77.28]
[null,null,null,"3.7.14","Furo em acoplamento",1,"serv",109.42,109.42,{"$f":"'BDI - Demanda'!$E$27","v":0.1197},122.52]
[null,null,null,"3.7.15","Substituição de acoplamento",1,"serv",345.09,345.09,{"$f":"'BDI - Demanda'!$E$27","v":0.1197},386.4]
[null,null,null,"3.7.16","Substituição de terminais",1,"serv",28.06,28.06,{"$f":"'BDI - Demanda'!$E$27","v":0.1197},31.42]
[null,null,null,"3.7.17","Substituição de travas",1,"serv",28.06,28.06,{"$f":"'BDI - Demanda'!$E$27","v":0.1197},31.42]
[null,null,null,"3.7.18","Substituição de polia",1,"serv",373.14,373.14,{"$f":"'BDI - Demanda'!$E$27","v":0.1197},417.8]
[null,null,null,"3.8","Conserto de ventilador/rotor centrífugo de 1400 a 1600mm de diâmetro"]
[null,null,null,"3.8.1","Troca de rolamentos",1,"serv",1502.68,{"$f":"F836*H836","v":1502.68},{"$f":"'BDI - Demanda'!$E$27","v":0.1197},{"$f":"ROUND(I836*(1+J836),2)","v":1682.55}]
[null,null,null,"3.8.2","Troca do eixo",1,"serv",329.94,329.94,{"$f":"'BDI - Demanda'!$E$27","v":0.1197},369.43]
[null,null,null,"3.8.3","Serviço de torno",1,"serv",136.69,136.69,{"$f":"'BDI - Demanda'!$E$27","v":0.1197},153.05000000000001]
[null,null,null,"3.8.4","Troca de borrachas",1,"serv",157.11000000000001,157.11000000000001,{"$f":"'BDI - Demanda'!$E$27","v":0.1197},175.92]
[null,null,null,"3.8.5","Troca de turbina",1,"serv",2300.59,2300.59,{"$f":"'BDI - Demanda'!$E$27","v":0.1197},2575.9699999999998]
[null,null,null,"3.8.6","Reparo no gabinete",1,"serv",329.94,329.94,{"$f":"'BDI - Demanda'!$E$27","v":0.1197},369.43]
[null,null,null,"3.8.7","Serviços de solda",1,"serv",136.02000000000001,136.02000000000001,{"$f":"'BDI - Demanda'!$E$27","v":0.1197},152.30000000000001]
[null,null,null,"3.8.8","Troca de parafusos",1,"serv",70.7,70.7,{"$f":"'BDI - Demanda'!$E$27","v":0.1197},79.16]
[null,null,null,"3.8.9","Troca de mancal",1,"serv",388.86,388.86,{"$f":"'BDI - Demanda'!$E$27","v":0.1197},435.41]
[null,null,null,"3.8.10","Enchimento de eixo",1,"serv",106.05,106.05,{"$f":"'BDI - Demanda'!$E$27","v":0.1197},118.74]
[null,null,null,"3.8.11","Confecção e substituição de buchas",1,"serv",103.53,103.53,{"$f":"'BDI - Demanda'!$E$27","v":0.1197},115.92]
[null,null,null,"3.8.12","Confecção de chaveta",1,"serv",95.95,95.95,{"$f":"'BDI - Demanda'!$E$27","v":0.1197},107.44]
[null,null,null,"3.8.13","Rasgo de chaveta",1,"serv",69.02,69.02,{"$f":"'BDI - Demanda'!$E$27","v":0.1197},77.28]
[null,null,null,"3.8.14","Furo em acoplamento",1,"serv",109.42,109.42,{"$f":"'BDI - Demanda'!$E$27","v":0.1197},122.52]
[null,null,null,"3.8.15","Substituição de acoplamento",1,"serv",402.6,402.6,{"$f":"'BDI - Demanda'!$E$27","v":0.1197},450.79]
[null,null,null,"3.8.16","Substituição de terminais",1,"serv",28.06,28.06,{"$f":"'BDI - Demanda'!$E$27","v":0.1197},31.42]
[null,null,null,"3.8.17","Substituição de travas",1,"serv",28.06,28.06,{"$f":"'BDI - Demanda'!$E$27","v":0.1197},31.42]
[null,null,null,"3.8.18","Substituição de polia",1,"serv",426.45,426.45,{"$f":"'BDI - Demanda'!$E$27","v":0.1197},477.5]
[null,null,null,"3.9","Conserto de ventilador/rotor centrífugo de 1600 a 1800mm de diâmetro"]
[null,null,null,"3.9.1","Troca de rolamentos",1,"serv",1502.68,{"$f":"F855*H855","v":1502.68},{"$f":"'BDI - Demanda'!$E$27","v":0.1197},{"$f":"ROUND(I855*(1+J855),2)","v":1682.55}]
[null,null,null,"3.9.2","Troca do eixo",1,"serv",329.94,329.94,{"$f":"'BDI - Demanda'!$E$27","v":0.1197},369.43]
[null,null,null,"3.9.3","Serviço de torno",1,"serv",136.69,136.69,{"$f":"'BDI - Demanda'!$E$27","v":0.1197},153.05000000000001]
[null,null,null,"3.9.4","Troca de borrachas",1,"serv",157.11000000000001,157.11000000000001,{"$f":"'BDI - Demanda'!$E$27","v":0.1197},175.92]
[null,null,null,"3.9.5","Troca de turbina",1,"serv",2300.59,2300.59,{"$f":"'BDI - Demanda'!$E$27","v":0.1197},2575.9699999999998]
[null,null,null,"3.9.6","Reparo no gabinete",1,"serv",329.94,329.94,{"$f":"'BDI - Demanda'!$E$27","v":0.1197},369.43]
[null,null,null,"3.9.7","Serviços de solda",1,"serv",136.02000000000001,136.02000000000001,{"$f":"'BDI - Demanda'!$E$27","v":0.1197},152.30000000000001]
[null,null,null,"3.9.8","Troca de parafusos",1,"serv",70.7,70.7,{"$f":"'BDI - Demanda'!$E$27","v":0.1197},79.16]
[null,null,null,"3.9.9","Troca de mancal",1,"serv",388.86,388.86,{"$f":"'BDI - Demanda'!$E$27","v":0.1197},435.41]
[null,null,null,"3.9.10","Enchimento de eixo",1,"serv",106.05,106.05,{"$f":"'BDI - Demanda'!$E$27","v":0.1197},118.74]
[null,null,null,"3.9.11","Confecção e substituição de buchas",1,"serv",103.53,103.53,{"$f":"'BDI - Demanda'!$E$27","v":0.1197},115.92]
[null,null,null,"3.9.12","Confecção de chaveta",1,"serv",95.95,95.95,{"$f":"'BDI - Demanda'!$E$27","v":0.1197},107.44]
[null,null,null,"3.9.13","Rasgo de chaveta",1,"serv",69.02,69.02,{"$f":"'BDI - Demanda'!$E$27","v":0.1197},77.28]
[null,null,null,"3.9.14","Furo em acoplamento",1,"serv",109.42,109.42,{"$f":"'BDI - Demanda'!$E$27","v":0.1197},122.52]
[null,null,null,"3.9.15","Substituição de acoplamento",1,"serv",402.6,402.6,{"$f":"'BDI - Demanda'!$E$27","v":0.1197},450.79]
[null,null,null,"3.9.16","Substituição de terminais",1,"serv",28.06,28.06,{"$f":"'BDI - Demanda'!$E$27","v":0.1197},31.42]
[null,null,null,"3.9.17","Substituição de travas",1,"serv",28.06,28.06,{"$f":"'BDI - Demanda'!$E$27","v":0.1197},31.42]
[null,null,null,"3.9.18","Substituição de polia",1,"serv",426.45,426.45,{"$f":"'BDI - Demanda'!$E$27","v":0.1197},477.5]
[null,null,null,"3.10","Conserto de ventilador/rotor centrífugo de 1800 a 2000mm de diâmetro"]
[null,null,null,"3.10.1","Troca de rolamentos",1,"serv",1733.86,{"$f":"F874*H874","v":1733.86},{"$f":"'BDI - Demanda'!$E$27","v":0.1197},{"$f":"ROUND(I874*(1+J874),2)","v":1941.4}]
[null,null,null,"3.10.2","Troca do eixo",1,"serv",439.92,439.92,{"$f":"'BDI - Demanda'!$E$27","v":0.1197},492.58]
[null,null,null,"3.10.3","Serviço de torno",1,"serv",136.69,136.69,{"$f":"'BDI - Demanda'!$E$27","v":0.1197},153.05000000000001]
[null,null,null,"3.10.4","Troca de borrachas",1,"serv",157.11000000000001,157.11000000000001,{"$f":"'BDI - Demanda'!$E$27","v":0.1197},175.92]
[null,null,null,"3.10.5","Troca de turbina",1,"serv",2760.71,2760.71,{"$f":"'BDI - Demanda'!$E$27","v":0.1197},3091.17]
[null,null,null,"3.10.6","Reparo no gabinete",1,"serv",329.94,329.94,{"$f":"'BDI - Demanda'!$E$27","v":0.1197},369.43]
[null,null,null,"3.10.7","Serviços de solda",1,"serv",136.02000000000001,136.02000000000001,{"$f":"'BDI - Demanda'!$E$27","v":0.1197},152.30000000000001]
[null,null,null,"3.10.8","Troca de parafusos",1,"serv",70.7,70.7,{"$f":"'BDI - Demanda'!$E$27","v":0.1197},79.16]
[null,null,null,"3.10.9","Troca de mancal",1,"serv",444.41,444.41,{"$f":"'BDI - Demanda'!$E$27","v":0.1197},497.61]
[null,null,null,"3.10.10","Enchimento de eixo",1,"serv",106.05,106.05,{"$f":"'BDI - Demanda'!$E$27","v":0.1197},118.74]
[null,null,null,"3.10.11","Confecção e substituição de buchas",1,"serv",103.53,103.53,{"$f":"'BDI - Demanda'!$E$27","v":0.1197},115.92]
[null,null,null,"3.10.12","Confecção de chaveta",1,"serv",95.95,95.95,{"$f":"'BDI - Demanda'!$E$27","v":0.1197},107.44]
[null,null,null,"3.10.13","Rasgo de chaveta",1,"serv",69.02,69.02,{"$f":"'BDI - Demanda'!$E$27","v":0.1197},77.28]
[null,null,null,"3.10.14","Furo em acoplamento",1,"serv",109.42,109.42,{"$f":"'BDI - Demanda'!$E$27","v":0.1197},122.52]
[null,null,null,"3.10.15","Substituição de acoplamento",1,"serv",460.12,460.12,{"$f":"'BDI - Demanda'!$E$27","v":0.1197},515.20000000000005]
[null,null,null,"3.10.16","Substituição de terminais",1,"serv",28.06,28.06,{"$f":"'BDI - Demanda'!$E$27","v":0.1197},31.42]
[null,null,null,"3.10.17","Substituição de travas",1,"serv",28.06,28.06,{"$f":"'BDI - Demanda'!$E$27","v":0.1197},31.42]
[null,null,null,"3.10.18","Substituição de polia",1,"serv",479.76,479.76,{"$f":"'BDI - Demanda'!$E$27","v":0.1197},537.19000000000005]
[null,null,1,4,"SERVIÇOS ESPECIALIZADOS DE MANUTENÇÃO CORRETIVA PARA UNIDADES RESFRIADORAS DE LÍQUIDO"]
[null,null,2,"4.1","Inspeção técnica em resfriadora de líquido marca YORK (JOHNSON CONTROLS), diária, com emissão de relatório",1,"serv",800,{"$f":"F893*H893","v":800},{"$f":"'BDI - Demanda'!E27","v":0.1197},{"$f":"ROUND(I893*(1+J893),2)","v":895.76}]
[null,null,3,"4.2","Inspeção técnica em resfriadora de líquido marca CARRIER, diária, com emissão de relatório",1,"serv",800,800,{"$f":"J893","v":0.1197},895.76]
[null,null,4,"4.3","Inspeção técnica em resfriadora de líquido marca HITACHI, diária, com emissão de relatório",1,"serv",800,800,{"$f":"J894","v":0.1197},895.76]
[null,null,5,"4.4","Análise de óleo de resfriadora de líquido YK/YORK de 1000 TR, por amostra, com emissão de laudo",1,"serv",350,350,0.1197,391.9]
[null,null,6,"4.6","Análise de óleo de resfriadora de líquido 19XRV/CARRIER de 665 TR, por amostra, com emissão de laudo",1,"serv",350,350,0.1197,391.9]
[null,null,7,"4.7","Análise de óleo de resfriadora de líquido 30HX/30XW CARRIER de 110 a 400 TR, por amostra, com emissão de laudo",1,"serv",350,350,0.1197,391.9]
[null,null,8,"4.8","Análise de vibração de resfriadora de líquido YK/YORK de 1000 TR, por amostra, com emissão de laudo",1,"serv",2500,2500,0.1197,2799.25]
[null,null,9,"4.10","Análise de vibração de resfriadora de líquido 19XRV/CARRIER de 665 TR, por amostra, com emissão de laudo",1,"serv",2500,2500,0.1197,2799.25]
[null,null,10,"4.11","Análise de vibração de resfriadora de líquido 30HX/30XW CARRIER de 110 a 400 TR, por amostra, com emissão de laudo",1,"serv",2000,2000,0.1197,2239.4]
[null,null,11,"4.12","Serviço de reforma (overhaul) compressor parafuso 60 HP marca HITACHI",1,"serv",118073.98,118073.98,0.1197,132207.44]
[null,null,12,"4.14","Serviço de reforma (overhaul) compressor parafuso 60 TR marca CARRIER/30HX",1,"serv",111193.28,111193.28,0.1197,124503.12]
[null,null,13,"4.15","Serviço de reforma (overhaul) compressor centrífugo marca CARRIER/19XRV de 665 TR",1,"serv",447774.69,447774.69,0.1197,501373.32]
[null,null,14,"4.16","Serviço de reforma (overhaul) compressor centrífugo marca YORK/YK de 1000 TR",1,"serv",541676.76,541676.76,0.1197,606515.47]
[null,null,15,5,"SERVIÇOS ESPECIALIZADOS DE MANUTENÇÃO CORRETIVA PARA TORRES DE RESFRIAMENTO"]
[null,null,16,"5.1","Recuperação em fibra de vidro, por m² aplicado",1,"serv",1490.19,1490.19,{"$f":"J905","v":0.1197},1668.57]
[null,null,17,"5.2","Inspeção técnica em torre de resfriamento marca ALPINA, diária, com emissão de relatório",1,"serv",9222.24,9222.24,{"$f":"J907","v":0.1197},10326.14]
[null,null,18,"5.3","Inspeção técnica em torre de resfriamento marca ALFATERM, diária, com emissão de relatório",1,"serv",9509.74,9509.74,0.1197,10648.06]
[null,null,19,6,"SERVIÇOS ESPECIALIZADOS DE MANUTENÇÃO CORRETIVA PARA COMPRESSORES"]
[null,null,38,"6.1","Recondicionamento de compressor hermético tipo scroll de 5 TR",1,"serv",10366.4,{"$f":"F911*H911","v":10366.4},{"$f":"J909","v":0.1197},{"$f":"ROUND(I911*(1+J911),2)","v":11607.26}]
[null,null,20,"6.2","Recondicionamento de compressor hermético tipo scroll de 7,5 TR",1,"serv",12277.56,12277.56,{"$f":"J911","v":0.1197},13747.18]
[null,null,21,"6.3","Recondicionamento de compressor hermético tipo scroll de 10 TR",1,"serv",19795.099999999999,19795.099999999999,0.1197,22164.57]
[null,null,22,"6.4","Recondicionamento de compressor hermético tipo scroll de 15 TR",1,"serv",18009.900000000001,18009.900000000001,0.1197,20165.689999999999]
[null,null,23,"6.5","Serviço de conserto de compressor de ar comprimido  marca SHULZ MSV-10VL",null,null,null,0,0.1197,0]
[null,null,24,"6.5.1","Substituição do óleo",1,"serv",359.56,359.56,0.1197,402.6]
[null,null,25,"6.5.2","Substituição dos retentores",1,"serv",106.38,106.38,0.1197,119.11]
[null,null,26,"6.5.3","Substituiçõ de válvulas de retenção",1,"serv",445.63,445.63,0.1197,498.97]
[null,null,27,"6.5.4","Substituição dos eixos",1,"serv",451.62,451.62,0.1197,505.68]
[null,null,28,"6.5.5","Substituição das bielas",1,"serv",221.58,221.58,0.1197,248.1]
[null,null,29,"6.5.6","Substituição dos pistões",1,"serv",348.65,348.65,0.1197,390.38]
[null,null,30,"6.5.7","Substituições dos kits de anéis",1,"serv",222.09,222.09,0.1197,248.67]
[null,null,31,"6.5.8","Substituição do jogo de juntas",1,"serv",839.4,839.4,0.1197,939.88]
[null,null,32,"6.5.9","Substituição dos rolamentos",1,"serv",94.65,94.65,0.1197,105.98]
[null,null,33,"6.5.10","Substituição das camisas dos cilindros",1,"serv",244.15,244.15,0.1197,273.37]
[null,null,34,8,"SERVIÇOS ESPECIALIZADOS DE MANUTENÇÃO CORRETIVA PARA EQUIPAMENTOS ELETRÔNICOS, QUADROS, EQUIPAMENTOS ROTATIVOS E QUALIDADE DO AR INTERIOR"]
[null,null,35,"8.1","Serviços de programação/configuração em sistema de automação, por homem/hora",1,"serv",473.13,473.13,{"$f":"J925","v":0.1197},529.76]
[null,null,36,"8.3","Configuração/calibração de sensores/transdutores de temperatura, pressão ou vazão, por homem/hora",1,"serv",822.75,822.75,{"$f":"J927","v":0.1197},921.23]
[null,null,37,"8.4","Configuração/calibração em painéis de controle e CLPs de equipamentos de ar condicionado, por homem/hora",1,"serv",822.75,822.75,0.1197,921.23]
[null,null,39,"8.5","Configuração/calibração em inversores de frequência, por homem/hora",1,"serv",679,679,0.1197,760.28]
[null,null,40,"8.6","Análise termográfica com emissão de relatório, homem/hora",1,"serv",1864,1864,0.1197,2087.12]
[null,null,41,"8.7","Análise termográfica/alinhamento a laser em equipamentos rotativos, com emissão de relatório, homem/hora",1,"serv",1979,1979,0.1197,2215.89]
[null,null,42,"8.8","Análise microbiológica de amostra de coleta de ar interior, de acordo com a norma RE 9/2003 da ANVISA, por amostra, com emissão de relatório",1,"serv",1390,1390,0.1197,1556.38]
[null,null,43,"8.9","Análise de aerodispersóides de amostra de coleta de ar interior, de acordo com a norma RE 9/2003 da ANVISA, por amostra, com emissão de relatório",1,"serv",1190,1190,0.1197,1332.44]
[null,null,44,9,"SERVIÇOS DE MANUTENÇÃO CORRETIVA PARA EQUIPAMENTOS DE EXPANSÃO DIRETA, incluindo a aplicação dos seguintes insumos (*Ver. Obs. 1)"]
[null,null,45,"1.1","Fluido refrigerante R-134A (cilindro com 13,6 kg)",1,"serv",672.35,672.35,{"$f":"J934","v":0.1197},752.83]
[null,null,46,"1.2","Fluido refrigerante R-141B (cilindro com 30 kg)",1,"serv",1079.31,1079.31,{"$f":"J936","v":0.1197},1208.5]
[null,null,47,"1.3","Fluido refrigerante R-22 (cilindro com 13,6 kg)",1,"serv",653.85,653.85,0.1197,732.12]
[null,null,48,"1.4","Fluido refrigerante R-401A (cilindro com 13,6 kg)",1,"serv",893.64,893.64,0.1197,1000.61]
[null,null,49,"1.5","Fluido refrigerante R-407C (11,3 kg)",1,"serv",753.43,753.43,0.1197,843.62]
[null,null,50,"1.6","Fluido refrigerante R-410A (cilindro com 11,35 kg)",1,"serv",795.12,795.12,0.1197,890.3]
[null,null,51,"1.7","Gás acetileno para PPU (cilindro 1 m³)",1,"serv",162.72,162.72,0.1197,182.2]
[null,null,52,"1.8","Gás acetileno para PPU (cilindro 10 m³)",1,"serv",359.12,359.12,0.1197,402.11]
[null,null,56,"1.9","Gás nitrogênio (cilindro 10 m³)",1,"serv",157.11000000000001,157.11000000000001,0.1197,175.92]
[null,null,53,"1.10","Gás oxigênio industrial para PPU (cilindro 1 m³)",1,"serv",54.24,54.24,0.1197,60.73]
[null,null,54,"1.11","Gás oxigênio industrial para PPU (cilindro 10 m³)",1,"serv",95.39,95.39,0.1197,106.81]
[null,null,55,"1.12","Fluido refrigerante R-32 (cilindro com 3 kg)",1,"serv",409.97,409.97,0.1197,459.04]
[null,null,56,10,"SERVIÇOS DE MANUTENÇÃO CORRETIVA PARA UNIDADES RESFRIADORAS DE LÍQUIDO – MARCA YORK / JOHNSON CONTROLS, incluindo a aplicação dos seguintes insumos (*Ver. Obs. 1)"]
[null,null,53,"2.1.01","Alojamento do filtro de óleo - código 026 37589 001",1,"serv",7168.09,7168.09,{"$f":"J947","v":0.1197},8026.11]
[null,null,54,"2.1.02","Elemento do filtro de óelo - código 026 32831 000",1,"serv",4935.26,4935.26,{"$f":"J949","v":0.1197},5526.01]
[null,null,55,"2.1.03","Óleo YORK K (balde com 18 litros) - código 011 00533 000",1,"serv",19487.05,19487.05,0.1197,21819.65]
[null,null,56,"2.1.04","Sensor de temperatura do evaporador - código 025 34159 000",1,"serv",16263.49,16263.49,0.1197,18210.23]
[null,null,57,"2.1.05","Sensor de vazão - código 025 41574 000",1,"serv",11345.16,11345.16,0.1197,12703.18]
[null,null,58,"2.1.06","Sensor líquido condensado - código 025 39517 000",1,"serv",357.53,357.53,0.1197,400.33]
[null,null,59,"2.1.07","Transdutor de pressão - código 025 28678 006",1,"serv",357.53,357.53,0.1197,400.33]
[null,null,60,"2.1.08","Transdutor de pressão - código 025 28678 112",1,"serv",13857.02,{"$f":"F956*H956","v":13857.02},0.1197,{"$f":"ROUND(I956*(1+J956),2)","v":15515.71}]
[null,null,61,"2.1.09","Válvula de expansão - código 025 35133 000",1,"serv",21305.71,21305.71,0.1197,23856]
[null,null,62,"2.1.10","Atuador elétrico 5\" - código 025 38178 000",1,"serv",5367.11,5367.11,0.1197,6009.55]
[null,null,63,"2.1.11","Bomba de óleo 20 GPM - código 026 37937 000",1,"serv",926.98,926.98,0.1197,1037.94]
[null,null,2,"2.1.12","Bomba de óleo 200v-240v - código 024 30468 001",1,"serv",448.37,448.37,0.1197,502.04]
[null,null,3,"2.1.13","Bomba de óleo 380v-480v - código 024 30468 002",1,"serv",503.23,503.23,0.1197,563.47]
[null,null,4,"2.1.14","Componente de condução de calor - código 013 02997 000",1,"serv",7168.09,7168.09,0.1197,8026.11]
[null,null,5,"2.1.15","Componente para condução de calor em poço - código 013 00898 000",1,"serv",497.12,497.12,0.1197,556.63]
[null,null,6,"2.1.16","Controle CM-2 - código 031 00947 000",1,"serv",3854.57,3854.57,0.1197,4315.96]
[null,null,7,"2.1.17","Controle da chave de fluxo 300 dwp - código 024 12144 000",1,"serv",349.67,349.67,0.1197,391.53]
[null,null,8,"2.1.18","Controle do diferencial de pressão - código 025 30919 000",1,"serv",349.67,349.67,0.1197,391.53]
[null,null,9,"2.1.19","Coolant - código 013 02987 000",1,"serv",349.67,349.67,0.1197,391.53]
[null,null,10,"2.1.20","EPROM - código 031 01796 002",1,"serv",349.67,349.67,0.1197,391.53]
[null,null,11,"2.1.21","Filtro de óleo - código 026 37589 000",1,"serv",12267.51,12267.51,0.1197,13735.93]
[null,null,12,"2.1.22","Filtro secador 3/8 - código 026 37563 000",1,"serv",14672.79,14672.79,0.1197,16429.12]
[null,null,13,"2.1.23","Fonte de alimentação - código 025 34111 000",1,"serv",4470.42,4470.42,0.1197,5005.53]
[null,null,14,"2.1.24","Graxa para motor CHEVRON SRI (kg)",1,"serv",987.03,987.03,0.1197,1105.18]
[null,null,15,"2.1.25","Graxa para motor EXXON POLYREX (kg)",1,"serv",987.03,987.03,0.1197,1105.18]
[null,null,16,"2.1.26","Graxa para motor EXXON UNIREX #2 (kg)",1,"serv",6183.86,6183.86,0.1197,6924.07]
[null,null,39,"2.1.27","Graxa para motor Shell Dolum R (kg)",1,"serv",5827.27,5827.27,0.1197,6524.79]
[null,null,39,"2.1.28","Kit do display - código 331 01771 000",1,"serv",2412.6,{"$f":"F976*H976","v":2412.6},0.1197,{"$f":"ROUND(I976*(1+J976),2)","v":2701.39}]
[null,null,40,"2.1.29","Microboard - código 331 02430 601",1,"serv",6758.58,6758.58,0.1197,7567.58]
[null,null,41,"2.1.30","Ponte de diodos - código 031 00210 000",1,"serv",264.02999999999997,264.02999999999997,0.1197,295.63]
[null,null,42,"2.1.31","Ponte de diodos - código 031 00210 000",1,"serv",264.02999999999997,264.02999999999997,0.1197,295.63]
[null,null,43,"2.1.32","Resistência de óleo (1000 w) - código 025 34523 000",1,"serv",1207.19,1207.19,0.1197,1351.69]
[null,null,44,"2.1.33","SD program card - código 031 02474 001",1,"serv",1207.19,1207.19,0.1197,1351.69]
[null,null,null,"2.1.34","Sensor de fluxo - código 025 41573 000",1,"serv",166.83,166.83,0.1197,186.8]
[null,null,null,"2.1.35","Sensor de nível R-134a - código 325 40329 000",1,"serv",894.37,894.37,0.1197,1001.43]
[null,null,null,"2.1.36","Sensor de temperatura - código 025 28935 000",1,"serv",1124.98,1124.98,0.1197,1259.6400000000001]
[null,null,null,"2.1.37","Sensor de temperatura (3000 ohms) - código 025 029964 000",1,"serv",1623.39,1623.39,0.1197,1817.71]
[null,null,null,"2.1.38","Sensor de temperatura (50.000 ohms) - código 025 39993 000",1,"serv",1760.23,1760.23,0.1197,1970.93]
[null,null,null,"2.1.39","Sensor de temperatura (50.000 ohms) - código 025 39993 000",1,"serv",1760.23,1760.23,0.1197,1970.93]
[null,null,null,"2.1.40","Kit elemento do filtro de óleo P/ YK cod. 364 50438 000",1,"serv",711.43,711.43,0.1197,796.59]
[null,null,null,"2.1.41","Selo O-ring cod. 028 12961 012",1,"serv",450,450,0.1197,503.87]
[null,null,null,"2.1.42","Solução de resfriamento cod. 013 04129 000",1,"serv",312.10000000000002,312.10000000000002,0.1197,349.46]
[null,null,null,"2.1.43","Sensor de temperatura 3000 Ohms cod. 025 39517 000",1,"serv",1567.42,1567.42,0.1197,1755.04]
[null,null,null,"2.1.44","Conjunto IGBT (371 02513 344)",1,"serv",22588.720000000001,22588.720000000001,0.1197,25292.59]
[null,null,null,11,"SERVIÇOS DE MANUTENÇÃO CORRETIVA PARA UNIDADES RESFRIADORAS DE LÍQUIDO – MARCA HITCHI, incluindo a aplicação dos seguintes insumos (*Ver. Obs. 1)"]
[null,null,null,"2.3.1","Compressor parafuso HITACHI 6005SC-Z 380V - código 17C63370B",1,"serv",191453.85,{"$f":"F994*H994","v":191453.85},{"$f":"J992","v":0.1197},{"$f":"ROUND(I994*(1+J994),2)","v":214370.88}]
[null,null,null,"2.3.2","Motor ventilador para condensador chiller HITACHI RCU",1,"serv",2519.4299999999998,2519.4299999999998,{"$f":"J994","v":0.1197},2821.01]
[null,null,null,"2.3.3","Óleo SW220 - código 04SZ0155 (litro)",1,"serv",453.91,453.91,0.1197,508.24]
[null,null,null,"2.3.4","Placa de controle para chiller HITACHI RCU",1,"serv",4782.57,4782.57,0.1197,5355.04]
[null,null,null,"2.3.5","Sensor de temperatura HITACHI 17B18890L",1,"serv",79.150000000000006,79.150000000000006,0.1197,88.62]
[null,null,null,"2.3.6","Sensor de temperatura linha de líquido R407C - código 02528935000",1,"serv",264.02999999999997,264.02999999999997,0.1197,295.63]
[null,null,null,"2.3.7","Transdutor de pressão para chiller HITACHI RCU",1,"serv",1623.39,1623.39,0.1197,1817.71]
[null,null,null,"2.3.8","Válvula de expansão para chiller HITACHI RCU",1,"serv",2331.66,2331.66,0.1197,2610.7600000000002]
[null,null,null,12,"SERVIÇOS DE MANUTENÇÃO CORRETIVA PARA UNIDADES RESFRIADORAS DE LÍQUIDO – MARCA CARRIER, incluindo a aplicação dos seguintes insumos (*Ver. Obs. 1)"]
[null,null,null,"2.5.1","Chave de fluxo - código HK06ZC033",1,"serv",7818.64,{"$f":"F1003*H1003","v":7818.64},{"$f":"J1001","v":0.1197},{"$f":"ROUND(I1003*(1+J1003),2)","v":8754.5300000000007}]
[null,null,null,"2.5.2","Conjunto da bomba de óleo (380/480v) - código 02XR04002102",1,"serv",56413.84,56413.84,{"$f":"J1003","v":0.1197},63166.58]
[null,null,null,"2.5.3","Escova para limpeza de tubos (3/4\") - código GTC-211 11/16",1,"serv",233.43,233.43,0.1197,261.37]
[null,null,null,"2.5.4","Filtro de líquido EMERSON ALS-2 3/8 SAE - código KH11NG070",1,"serv",1091.94,1091.94,0.1197,1222.6500000000001]
[null,null,null,"2.5.5","Filtro de óleo - código 02XR05006201",1,"serv",7800.68,7800.68,0.1197,8734.42]
[null,null,null,"2.5.6","Filtro do sistema de retorno de óleo - código KH42ME060",1,"serv",1255.79,1255.79,0.1197,1406.11]
[null,null,null,"2.5.7","Filtro secador - KH45LE120",1,"serv",1617.15,1617.15,0.1197,1810.72]
[null,null,null,"2.5.8","Filtro secador para o variador de frequência - código 23XR05015401",1,"serv",1409.53,1409.53,0.1197,1578.25]
[null,null,null,"2.5.9","Kit de vedação (o-rings) - código 24592",1,"serv",349.73,349.73,0.1197,391.59]
[null,null,null,"2.5.10","Módulo de controle (CCM) - código CES0130038",1,"serv",22351.64,22351.64,0.1197,25027.13]
[null,null,null,"2.5.11","Módulo de partida integrado (ISM) - código CES0130037",1,"serv",64316.639999999999,64316.639999999999,0.1197,72015.34]
[null,null,null,"2.5.12","Motor atuador (PIC II) - código HF26BB030",1,"serv",58887.25,58887.25,0.1197,65936.05]
[null,null,null,"2.5.13","Óleo polyolester - código PP23BZ103 (litro)",1,"serv",415.79,415.79,0.1197,465.56]
[null,null,null,"2.5.14","Painel de controle PIC II - código 19XR04023303",1,"serv",24689.26,24689.26,0.1197,27644.560000000001]
[null,null,null,"2.5.15","Placa eletrônica ICVC - código 19XR04023403",1,"serv",24689.26,24689.26,0.1197,27644.560000000001]
[null,null,null,"2.5.16","Potenciômetro - código AD-718-702",1,"serv",3713.49,3713.49,0.1197,4157.99]
[null,null,null,"2.5.17","Resistência de óleo (115v) - código 02XR45005601",1,"serv",14051.56,14051.56,0.1197,15733.53]
[null,null,null,"2.5.18","Sensor de temperatura - código HH79NZ032",1,"serv",1851.69,1851.69,0.1197,2073.34]
[null,null,null,"2.5.19","Sensor de temperatura com conector - código 39301008",1,"serv",1851.69,1851.69,0.1197,2073.34]
[null,null,null,"2.5.20","Transdutor de pressão - código HK05YZ002",1,"serv",673.34,673.34,0.1197,753.94]
[null,null,null,"2.5.21","Transdutor de pressão - código HK05YZ007",1,"serv",673.34,673.34,0.1197,753.94]
[null,null,null,"2.5.22","Válvula de expansão - código 02XR05004001",1,"serv",3217.46,3217.46,0.1197,3602.59]
[null,null,null,"2.5.23","Filtro de óleo externo (30GX417132)",1,"serv",1757.2,1757.2,0.1197,1967.54]
[null,null,null,"2.5.24","Filtro secador (XW12EA003)",1,"serv",352.44,352.44,0.1197,394.63]
[null,null,null,"2.5.25","Óleo SW-220 (litro)",1,"serv",234.5,234.5,0.1197,262.57]
[null,null,null,"2.5.26","Filtro de óleo interno (06NW)",1,"serv",600.78,600.78,0.1197,672.69]
[null,null,null,"2.5.27","Núcleo do filtro secador 48-DC",1,"serv",258.86,258.86,0.1197,289.85000000000002]
[null,null,null,13,"SERVIÇOS DE MANUTENÇÃO CORRETIVA PARA TORRES DE RESFRIAMENTO E RESFRIADORES EVAPORATIVOS, incluindo a aplicação dos seguintes insumos (*Ver. Obs. 1)"]
[null,null,null,"12.1","Bico aspersor de três estágios com rosca de 1\" BSP ( 33mm ) - BA-BN-125.3, fabricante BLAUEN",1,"serv",15.71,{"$f":"F1031*H1031","v":15.71},{"$f":"J1029","v":0.1197},{"$f":"ROUND(I1031*(1+J1031),2)","v":17.59}]
[null,null,null,"12.2","Eliminador de gotas tipo colméia em polipropileno RG-CO-40-15, fabricante BLAUEN (metro cúbico)",1,"serv",239.04,239.04,{"$f":"J1031","v":0.1197},267.64999999999998]
[null,null,null,"12.3","Eliminador de gotas tipo trapezoidal em polipropileno RG-TZ-35-150, fabricante BLAUEN (metro cúbico)",1,"serv",323.37,323.37,0.1197,362.08]
[null,null,null,"12.4","Enchimento de contato tipo filme em PVC EC-F-1941, fabricante BLAUEN (metro cúbico)",1,"serv",966.08,966.08,0.1197,1081.72]
[null,null,null,"12.5","Enchimento de contato tipo grade em polipropileno EC-G-2423-5, fabricante BLAEUN (metro cúbico)",1,"serv",717.15,717.15,0.1197,802.99]
[null,null,null,"12.6","Placa colméia evaporativa para climatizador, 60x60x15 cm",1,"serv",173.95,173.95,0.1197,194.77]
[null,null,null,"12.7","Ventilador axial em polipropileno com diâmetro de 2800 mm e 4 pás, modelo  HA-PPG, fabricante BLAUEN ",1,"serv",13623.08,13623.08,0.1197,15253.76]
[null,null,null,14,"SERVIÇOS DE MANUTENÇÃO CORRETIVA PARA CONDICIONADORES DE AR, incluindo a aplicação dos seguintes insumos (*Ver. Obs. 1)"]
[null,null,null,"13.1","Bomba de dreno (remoção de condensado) Sauermann KS2031SRTH23 -230V 50-60Hz/8W - 04180492 (A1467)",1,"serv",461.1,{"$f":"F1039*H1039","v":461.1},{"$f":"J1037","v":0.1197},{"$f":"ROUND(I1039*(1+J1039),2)","v":516.29}]
[null,null,null,"13.2","Bomba para dreno ELGIN - 14L 220v Mini Orange",1,"serv",637.46,637.46,{"$f":"J1039","v":0.1197},713.76]
[null,null,null,"13.3","Calço de borracha com parafuso para unidade condensadora de split",1,"serv",8.0399999999999991,8.0399999999999991,0.1197,9]
[null,null,null,"13.4","Compressor rotativo 10 TR para R-22, 380v 60hz trifásico, DANFOSS modelo SM120-3VM",1,"serv",7817.32,7817.32,0.1197,8753.0499999999993]
[null,null,null,"13.5","Compressor rotativo 12.000 BTU/h para R-22, 220v 60hz para split ",1,"serv",539.64,539.64,0.1197,604.23]
[null,null,null,"13.6","Compressor rotativo 15 TR para R-22, 380v 60hz trifásico, DANFOSS modelo SM1859",1,"serv",13047.9,13047.9,0.1197,14609.73]
[null,null,null,"13.7","Compressor rotativo 18.000 BTU/h para R-22, 220v 60hz para split ",1,"serv",639.67999999999995,639.67999999999995,0.1197,716.25]
[null,null,null,"13.8","Compressor rotativo 24.000 BTU/h para R-22, 220v 60hz para split ",1,"serv",617.57000000000005,617.57000000000005,0.1197,691.49]
[null,null,null,"13.9","Compressor rotativo 24.000 BTU/h para R-410a, 220v 60hz para split ",1,"serv",781.15,781.15,0.1197,874.65]
[null,null,null,"13.10","Compressor rotativo 3,5 TR para R-22, 380v 60hz trifásico, COPELAND modelo ZR40K3",1,"serv",3310.61,3310.61,0.1197,3706.89]
[null,null,null,"13.11","Compressor rotativo 30.000 BTU/h para R-22, 220v 60hz para split ",1,"serv",793.89,793.89,0.1197,888.92]
[null,null,null,"13.12","Compressor rotativo 30.000 BTU/h para R-410a, 220v 60hz para split ",1,"serv",856.8,856.8,0.1197,959.36]
[null,null,null,"13.13","Compressor rotativo 36.000 BTU/h para R-22, 380v 60hz trifásico, para split ",1,"serv",1219.5999999999999,1219.5999999999999,0.1197,1365.59]
[null,null,null,"13.14","Compressor rotativo 36.000 BTU/h para R-410a, 380v 60hz trifásico, para split ",1,"serv",1907.25,1907.25,0.1197,2135.5500000000002]
[null,null,null,"13.15","Compressor rotativo 48.000 BTU/h para R-22, 380v 60hz trifásico, para split ",1,"serv",1574.19,1574.19,0.1197,1762.62]
[null,null,null,"13.16","Compressor rotativo 48.000 BTU/h para R-410a, 380v 60hz trifásico, para split ",1,"serv",2401.7600000000002,2401.7600000000002,0.1197,2689.25]
[null,null,null,"13.17","Compressor rotativo 48.000 inverter BTU/h para R-410a, 380v 60hz trifásico, para split FUJITSU ",1,"serv",1631.49,1631.49,0.1197,1826.78]
[null,null,null,"13.18","Compressor rotativo 60.000 BTU/h para R-22, 380v 60hz trifásico, para split ",1,"serv",2201.27,2201.27,0.1197,2464.7600000000002]
[null,null,null,"13.19","Compressor rotativo 60.000 BTU/h para R-410a, 380v 60hz trifásico, para split ",1,"serv",2261.31,2261.31,0.1197,2531.9899999999998]
[null,null,null,"13.20","Compressor rotativo 61.000 BTU/h para R-22, 380v 60hz trifásico, COPELAND modelo ZR61KC-TF7-422",1,"serv",1933.9,1933.9,0.1197,2165.39]
[null,null,null,"13.21","Compressor rotativo 7,5 TR para R-22, 380v 60hz trifásico, DANFOSS modelo HLM081",1,"serv",2667.7,2667.7,0.1197,2987.02]
[null,null,null,"13.22","Compressor rotativo 7.000 BTU/h para R-22, 220v 60hz para split ",1,"serv",321.57,321.57,0.1197,360.06]
[null,null,null,"13.23","Compressor rotativo 9.000 BTU/h para R-22, 220v 60hz para split ",1,"serv",354.35,354.35,0.1197,396.77]
[null,null,null,"13.24","Compressor rotativo inverter 12.000 BTU/h para R-410, 220v 60hz, para split ",1,"serv",663.4,663.4,0.1197,742.81]
[null,null,null,"13.25","Compressor rotativo inverter 18.000 BTU/h para R-410, 220v 60hz, para split ",1,"serv",811.04,811.04,0.1197,908.12]
[null,null,null,"13.26","Compressor rotativo inverter 22.000 BTU/h para R-410, 220v 60hz, para split ",1,"serv",705.57,705.57,0.1197,790.03]
[null,null,null,"13.27","Compressor rotativo inverter 27.000 BTU/h para R-410, 220v 60hz, para split ",1,"serv",728.84,728.84,0.1197,816.08]
[null,null,null,"13.28","Compressor rotativo inverter 9.000 BTU/h para R-410, 220v 60hz, para split ",1,"serv",565.16,565.16,0.1197,632.80999999999995]
[null,null,null,"13.29","Conjunto pistão expansor (piston accurator) para split",1,"serv",150.36000000000001,150.36000000000001,0.1197,168.36]
[null,null,null,"13.30","Controle remoto sem fio para split FUJITSU INVERTER FRIO",1,"serv",193.53,193.53,0.1197,216.7]
[null,null,null,"13.31","Controle remoto universal K-1028E GNW",1,"serv",70.08,70.08,0.1197,78.47]
[null,null,null,"13.32","Corpo acurator duplo sae 3/8  para ar condicionado split ",1,"serv",34.380000000000003,34.380000000000003,0.1197,38.5]
[null,null,null,"13.33","Elemento sólido 48-DC para filtro secador com junta DANFOSS",1,"serv",71.510000000000005,71.510000000000005,0.1197,80.069999999999993]
[null,null,null,"13.34","Filtro de ar CARRIER para ar aondicionado piso teto console 80.000 BTU",1,"serv",26.41,26.41,0.1197,29.57]
[null,null,null,"13.35","Filtro de ar condicionado split SPRINGER CARRIER MODERNITA pisto teto",1,"serv",43.34,43.34,0.1197,48.53]
[null,null,null,"13.36","Filtro de ar Prot TPA AL D duplo de 1/2\" para desumidificador",1,"serv",298.52999999999997,298.52999999999997,0.1197,334.26]
[null,null,null,"13.37","Filtro secador 1/2\" X 350 DANFOSS DML 164 ",1,"serv",79.680000000000007,79.680000000000007,0.1197,89.22]
[null,null,null,"13.38","Filtro secador DANFOSS DML 165R de 350 x 5/8\" ",1,"serv",107.73,107.73,0.1197,120.63]
[null,null,null,"13.39","Filtro secador DANFOSS DML 417 de 7/8\" solda",1,"serv",153.44999999999999,153.44999999999999,0.1197,171.82]
[null,null,null,"13.40","Filtro secador PARKER PHLK 163 S 3/8\" rosca",1,"serv",100.58,100.58,0.1197,112.62]
[null,null,null,"13.41","Filtro tipo bolsa com bacterecida MB/ NW300/05 - AB-25  Mod: 590 x 590 x 570MM Marca: SLAN",1,"serv",145.59,145.59,0.1197,163.02000000000001]
[null,null,null,"13.42","Filtro tipo bolsa de 590 X 330MM, marca SLAN FILTROS",1,"serv",145.59,145.59,0.1197,163.02000000000001]
[null,null,null,"13.43","Filtro Y 1\" em latão, rosca BSP com malha em aço inox",1,"serv",71.16,71.16,0.1197,79.680000000000007]
[null,null,null,"13.44","Filtro Y 1.1/2\" em latão, rosca BSP com malha em aço inox",1,"serv",116.26,116.26,0.1197,130.18]
[null,null,null,"13.45","Filtro Y 1.1/4\" em latão, rosca BSP com malha em aço inox",1,"serv",83.72,83.72,0.1197,93.74]
[null,null,null,"13.46","Filtro Y 2\" em latão, rosca BSP com malha em aço inox",1,"serv",256.2,256.2,0.1197,286.87]
[null,null,null,"13.47","Filtro Y 2.1/2\" em latão, rosca BSP com malha em aço inox",1,"serv",353.52,353.52,0.1197,395.84]
[null,null,null,"13.48","Filtro Y 3/4\" em latão, rosca BSP com malha em aço inox",1,"serv",32.86,32.86,0.1197,36.79]
[null,null,null,"13.49","Filtros tipo bolsa com bactericida 610 mm x 610 mm x 305 mm (largura x altura x profundidade) marca Trox, ref. F74bsb26",1,"serv",144.82,144.82,0.1197,162.15]
[null,null,null,"13.50","Kit motor, hélice e grade da unidade condensadora de 36.000 btu/h, com vazão de ar de 1588 m³/h",1,"serv",518.09,518.09,0.1197,580.11]
[null,null,null,"13.51","Lona flexível para condicionador de ar, espessura 300 micras, gramatura 180 g/m², resistência à tração 87 kgf (metro quadrado)",1,"serv",15.4,15.4,0.1197,17.239999999999998]
[null,null,null,"13.52","Mangueira de dreno split CRISTAL 1/2\", metro",1,"serv",4.08,4.08,0.1197,4.57]
[null,null,null,"13.53","Mangueira de dreno split CRISTAL 1/4\", metro",1,"serv",3.25,3.25,0.1197,3.64]
[null,null,null,"13.54","Mangueira de dreno split CRISTAL 3/4\", metro",1,"serv",5.48,5.48,0.1197,6.14]
[null,null,null,"13.55","Mangueira de dreno split CRISTAL 3/8\", metro",1,"serv",3.37,3.37,0.1197,3.77]
[null,null,null,"13.56","Mangueira de dreno split CRISTAL 5/8\", metro",1,"serv",4.2,4.2,0.1197,4.7]
[null,null,null,"13.57","Mangueira emborrachada para condução de água gelada sob pressão (150 psi) com trama de aço interna e conexões de aço rosca NPT (Aeroquip), um lado giratório e outro fixo, incluindo niple para conexão. Comprimento 1 metro.",1,"serv",139.55000000000001,139.55000000000001,0.1197,156.25]
[null,null,null,"13.58","Manômetro 0 a 14 kgf/cm², mostrador 100mm, conexão 1/2\" npt, com glicerina",1,"serv",434.81,434.81,0.1197,486.86]
[null,null,null,"13.59","Manômetro 0 a 14 kgf/cm², mostrador 150mm, conexão 1/2\" npt, com glicerina",1,"serv",627.32000000000005,627.32000000000005,0.1197,702.41]
[null,null,null,"13.60","Manômetro 0 a 14 kgf/cm², mostrador digital, conexão 1/2\" npt",1,"serv",1170.3399999999999,1170.3399999999999,0.1197,1310.43]
[null,null,null,"13.61","Manta filtrante SCOTH BRITE - MF/SB 130, rolo com 10 m², SLAN FILTROS",1,"serv",308.95999999999998,308.95999999999998,0.1197,345.94]
[null,null,null,"13.62","Manta filtrante SCOTH BRITE - MF/SB 210, rolo com 10 m², SLAN FILTROS",1,"serv",197.51,197.51,0.1197,221.15]
[null,null,null,"13.63","Manta filtrante SCOTH BRITE - MF/SB 500, rolo com 10 m², SLAN FILTROS",1,"serv",1022.86,1022.86,0.1197,1145.3]
[null,null,null,"13.64","Manta filtrante SCOTH BRITE - MF/SB 85, rolo com 10 m², SLAN FILTROS",1,"serv",428.39,428.39,0.1197,479.67]
[null,null,null,"13.65","Manta filtrante TROX F00 - G2, rolo com 30 m²",1,"serv",135.16,{"$f":"F1103*H1103","v":135.16},0.1197,{"$f":"ROUND(I1103*(1+J1103),2)","v":151.34}]
[null,null,null,"13.66","Manta filtrante TROX F70B30 - G3, rolo com 30 m²",1,"serv",249.33,249.33,{"$f":"J1103","v":0.1197},279.17]
[null,null,null,"13.67","Manta filtrante TROX F716 - G1, rolo com 30 m²",1,"serv",135.16,135.16,0.1197,151.34]
[null,null,null,"13.68","Manta filtrante TROX F71B20/4 - G4, rolo com 30 m²",1,"serv",301.73,301.73,0.1197,337.85]
[null,null,null,"13.69","Motor elétrico de 1/20cv EBERLE modelo 004422, 220V, 1100 RPM.",1,"serv",231.18,231.18,0.1197,258.85000000000002]
[null,null,null,"13.70","Motor elétrico de 1/25cv EBERLE modelo 004422, 220V, 1100 RPM.",1,"serv",202,202,0.1197,226.18]
[null,null,null,"13.71","Motor elétrico de 1/30cv EBERLE modelo 004422, 220V, 1100 RPM.",1,"serv",190.78,190.78,0.1197,213.62]
[null,null,null,"13.72","Motor elétrico monofásico VOGES AC000047 de 1/8 cv, com um eixo e 3 velocidades, 220v",1,"serv",908.79,908.79,0.1197,1017.57]
[null,null,null,"13.73","Motor elétrico monofásico VOGES AC002919 de 1/8 cv, com dois eixos e 3 velocidades, 220v",1,"serv",707.01,707.01,0.1197,791.64]
[null,null,null,"13.74","Motor elétrico monofásico VOGES de 1/10 cv, com um eixo e 3 velocidades, 220v",1,"serv",689.05,689.05,0.1197,771.53]
[null,null,null,"13.75","Motor elétrico monofásico VOGES de 1/15 cv, com dois eixos e 3 velocidades, 220v",1,"serv",632.94000000000005,632.94000000000005,0.1197,708.7]
[null,null,null,"13.76","Motor elétrico monofásico VOGES de 1/2 cv, com dois eixos e 3 velocidades, 220v",1,"serv",1274.8599999999999,1274.8599999999999,0.1197,1427.46]
[null,null,null,"13.77","Motor elétrico monofásico VOGES de 1/20 cv, com um eixo e 3 velocidades, 220v",1,"serv",657.63,657.63,0.1197,736.35]
[null,null,null,"13.78","Motor elétrico monofásico VOGES de 1/4 cv, com dois eixos e 3 velocidades, 220v",1,"serv",1005.53,1005.53,0.1197,1125.8900000000001]
[null,null,null,"13.79","Motor elétrico monofásico VOGES de 1/5 cv, com dois eixos e 3 velocidades, 220v",1,"serv",799.03,799.03,0.1197,894.67]
[null,null,null,"13.80","Motor elétrico monofásico VOGES de 1/6 cv, com dois eixos e 3 velocidades, 220v",1,"serv",848.41,848.41,0.1197,949.96]
[null,null,null,"13.81","Motor ventilador axial para unidade condensadora, rotor 600 mm de diâmetro, motor 880W 220V, 1450 rpm",1,"serv",552.65,552.65,0.1197,618.79999999999995]
[null,null,null,"13.82","Motor ventilador condensadora Fujitsu modelos AOBR12JGC, AOBR12LGC, ref MFE-28TVL",1,"serv",1358.71,1358.71,0.1197,1521.35]
[null,null,null,"13.83","Motor ventilador da unidade condensadora do split FUJITSU AOBA18LA e AOBA24, modelo MFE-60TVT",1,"serv",1295.01,1295.01,0.1197,1450.02]
[null,null,null,"13.84","Motor ventilador do evaporador (MFH-45RV) SPLIT FUJITSU ABBA54LCT + AOBD54LATV",1,"serv",1034.5999999999999,1034.5999999999999,0.1197,1158.44]
[null,null,null,"13.85","Motor ventilador evaporadora piso teto YORK, modelo YOEA48",1,"serv",654.28,654.28,0.1197,732.6]
[null,null,null,"13.86","Placa eletrônica da evaporadora split FUJITSU 24.000 Btu/h",1,"serv",591.08000000000004,591.08000000000004,0.1197,661.83]
[null,null,null,"13.87","Placa eletrônica de controle de equipamento fancolete monofásico",1,"serv",319.69,319.69,0.1197,357.96]
[null,null,null,"13.88","Placa eletrônica de controle de equipamento split monofásico",1,"serv",266.39,266.39,0.1197,298.27999999999997]
[null,null,null,"13.89","Placa eletrônica de controle de equipamento split monofásico com compressor inverter",1,"serv",562.24,562.24,0.1197,629.54]
[null,null,null,"13.90","Placa eletrônica de controle de equipamento split trifásico",1,"serv",1342.42,1342.42,0.1197,1503.11]
[null,null,null,"13.91","Placa eletrônica de força do evaporador split FUJITSU INVERTER 54.000 Btu/h, modelo K06AL-1105HSE-P",1,"serv",869.07,869.07,0.1197,973.1]
[null,null,null,"13.92","Placa eletrônica para condensadora split FUJITSU INVERTER 18.000 Btu/h, modelo K06AX 0801WUE C1 AOBA18J",1,"serv",801.65,801.65,0.1197,897.61]
[null,null,null,"13.93","Placa eletrônica PFC para split FUJITSU INVERTER 54.000 Btu/h, modelo K07A0-0700HUE-AFO",1,"serv",757.51,757.51,0.1197,848.18]
[null,null,null,"13.94","Placa receptora split MIDEA CARRIER ",1,"serv",212.1,212.1,0.1197,237.49]
[null,null,null,"13.95","Placas de PVC espessura 0,5 mm, dimensões 0,6 m x 1,2 m, cor branca",1,"serv",103.25,103.25,0.1197,115.61]
[null,null,null,"13.96","Poço termométrico em aço inox 304, rosca 1/2\" BSP, haste 200 mm",1,"serv",71.37,71.37,0.1197,79.91]
[null,null,null,"13.97","Poço termométrico em aço inox 304, rosca 1/2\" BSP, haste 25 mm",1,"serv",38.72,38.72,0.1197,43.35]
[null,null,null,"13.98","Poço termométrico em aço inox 304, rosca 1/2\" BSP, haste 50 mm",1,"serv",84.73,84.73,0.1197,94.87]
[null,null,null,"13.99","Poço termométrico em aço inox 304, rosca 1/2\" BSP, haste 90 mm",1,"serv",36.92,36.92,0.1197,41.34]
[null,null,null,13100,"Rubinete de latão macho/fêmea com furo de alívio, diâmetro 1/2\" BSP",1,"serv",34.79,34.79,0.1197,38.950000000000003]
[null,null,null,13101,"Suporte para unidade evaporadora de aparelho split",1,"serv",89.23,89.23,0.1197,99.91]
[null,null,null,13102,"Termômetro tipo capela de 0 a 50 °C, haste 100 mm, conexão 1/2\"",1,"serv",255.31,255.31,0.1197,285.87]
[null,null,null,13103,"Termômetro tipo capela de 0 a 50 °C, haste 20 mm, conexão 1/2\"",1,"serv",123.45,123.45,0.1197,138.22999999999999]
[null,null,null,13104,"Termômetro tipo capela de 0 a 50 °C, haste 35 mm, conexão 1/2\"",1,"serv",212.1,212.1,0.1197,237.49]
[null,null,null,13105,"Termômetro tipo capela de 0 a 50 °C, haste 50 mm, conexão 1/2\"",1,"serv",109.41,109.41,0.1197,122.51]
[null,null,null,13106,"Tubo sifão trombeta de latão forjado rosca macho/fêmea de 1/2\" BSP",1,"serv",98.17,98.17,0.1197,109.92]
[null,null,null,13107,"Válvula de expansão termostática ATX 12330DHSQ88 R 33831 – 187 KW (70 TR)",1,"serv",341.37,341.37,0.1197,382.23]
[null,null,null,13108,"Válvula de expansão termostática EMERSON HFE15HC - 15 TR",1,"serv",476.95,476.95,0.1197,534.04]
[null,null,null,13109,"Válvula de segurança 21 kgf/cm² L12",1,"serv",112.22,112.22,0.1197,125.65]
[null,null,null,13110,"Válvula de serviço 1/2\" para split",1,"serv",38.119999999999997,38.119999999999997,0.1197,42.68]
[null,null,null,13111,"Válvula de serviço 3/8\" para split",1,"serv",52.24,52.24,0.1197,58.49]
[null,null,null,13112,"Válvula de serviço 5/8\" para split",1,"serv",58.55,58.55,0.1197,65.56]
[null,null,null,13113,"Válvula esfera 1.1/8\" DANFOSS GBC28s",1,"serv",336.1,336.1,0.1197,376.33]
[null,null,null,13114,"Válvula esfera 7/8\" DANFOSS GBC22s",1,"serv",191.49,191.49,0.1197,214.41]
[null,null,null,13115,"Válvula esfera DANFOSS GBC 18S 3/4\"",1,"serv",191.67,191.67,0.1197,214.61]
[null,null,null,15,"SERVIÇOS DE MANUTENÇÃO CORRETIVA PARA EQUIPAMENTOS TIPO VRF MIDEA CARRIER, incluindo a aplicação dos seguintes insumos (*Ver. Obs. 1)"]
[null,null,null,"14.1","Compressor inverter de 10 HP, 380V trifásico, para VRF MIDEA CARRIER modelo MV5-X26W/V2GN2",1,"serv",6773.84,{"$f":"F1155*H1155","v":6773.84},{"$f":"J1153","v":0.1197},{"$f":"ROUND(I1155*(1+J1155),2)","v":7584.67}]
[null,null,null,"14.2","Compressor inverter de 8 HP, 380V trifásico, para VRF MIDEA CARRIER modelo MV5-X26W/V2GN1 ",1,"serv",4269,4269,{"$f":"J1155","v":0.1197},4780]
[null,null,null,"14.3","Evaporadora duto alta pressão para VRF MIDEA, modelo MI-71T2/DHN1-BA5",1,"serv",3527.2,3527.2,0.1197,3949.41]
[null,null,null,"14.4","Evaporadora hi-wall para VRF MIDEA, modelo MDV-D28G/N1-S",1,"serv",2370.17,2370.17,0.1197,2653.88]
[null,null,null,"14.5","Módulo inverter para VRF MIDEA modelo MV5-X26W/V2GN1",1,"serv",4269,4269,0.1197,4780]
[null,null,null,"14.6","Módulo ventilador DC para VRF MIDEA modelo MV5-X26W/V2GN5",1,"serv",2519.4299999999998,2519.4299999999998,0.1197,2821.01]
[null,null,null,"14.7","Motor ventilador da unidade condensadora VRF MIDEA modelo MV5-X26W/V2GN1",1,"serv",2519.4299999999998,2519.4299999999998,0.1197,2821.01]
[null,null,null,"14.8","Placa de alimentação da ODU para VRF MIDEA modelo MV5-X26W/V2GN4",1,"serv",2329.77,2329.77,0.1197,2608.64]
[null,null,null,"14.9","Placa de filtro para VRF MIDEA modelo MV5-X26W/V2GN6",1,"serv",4163.51,4163.51,0.1197,4661.88]
[null,null,null,"14.10","Placa principal para VRF MIDEA modelo MV5-X26W/V2GN7",1,"serv",8068.9,8068.9,0.1197,9034.75]
[null,null,null,"14.11","Ponte retificadora para VRF MIDEA modelo MV5-X26W/V2GN2",1,"serv",1195.18,1195.18,0.1197,1338.24]
[null,null,null,"14.12","Sensor de temperatura para VRF MIDEA modelo MV5-X26W/V2GN3",1,"serv",112.22,112.22,0.1197,125.65]
[null,null,null,16,"SERVIÇOS DE MANUTENÇÃO CORRETIVA DE ELEMENTOS DE MÁQUINAS PARA EQUIPAMENTOS MECÂNICOS,  incluindo a aplicação dos seguintes insumos (*Ver. Obs. 1)"]
[null,null,null,"16.2","Acoplamento elástico CO 150",1,"serv",213.76,{"$f":"F1168*H1168","v":213.76},{"$f":"J1166","v":0.1197},{"$f":"ROUND(I1168*(1+J1168),2)","v":239.35}]
[null,null,null,"16.3","Acoplamento elástico GR 148",1,"serv",280.89,280.89,{"$f":"J1168","v":0.1197},314.51]
[null,null,null,"16.4","Acoplamento elástico GR 168",1,"serv",473.81,473.81,0.1197,530.53]
[null,null,null,"16.5","Acoplamento elástico Vulkan E112",1,"serv",134.24,134.24,0.1197,150.31]
[null,null,null,"16.6","Anel elástico E112",1,"serv",8.4700000000000006,8.4700000000000006,0.1197,9.48]
[null,null,null,"16.7","Anel elástico E128",1,"serv",10.1,10.1,0.1197,11.31]
[null,null,null,"16.8","Anel elástico E168",1,"serv",36.979999999999997,36.979999999999997,0.1197,41.41]
[null,null,null,"16.9","Anel elástico E82",1,"serv",26.65,26.65,0.1197,29.84]
[null,null,null,"16.10","Borracha 41/65 para rolamento INA RA 1000NPP (SNR CES 205-16)",1,"serv",22.62,22.62,0.1197,25.33]
[null,null,null,"16.12","Bucha de fixação para mancal BGL/H 208",1,"serv",29.75,29.75,0.1197,33.31]
[null,null,null,"16.13","Bucha de fixação para mancal BGL/H 306",1,"serv",27,27,0.1197,30.23]
[null,null,null,"16.14","Bucha de fixação para mancal BGL/H 308",1,"serv",33.83,33.83,0.1197,37.880000000000003]
[null,null,null,"16.15","Conjunto de anéis o-ring - BREMEN-4028",1,"serv",119.34,119.34,0.1197,133.62]
[null,null,null,"16.16","Correia A-22 GOODYEAR",1,"serv",27.89,27.89,0.1197,31.23]
[null,null,null,"16.17","Correia A-24 GOODYEAR",1,"serv",26.71,26.71,0.1197,29.91]
[null,null,null,"16.18","Correia A-26 GOODYEAR",1,"serv",22.36,22.36,0.1197,25.04]
[null,null,null,"16.19","Correia A-27 GOODYEAR",1,"serv",29.94,29.94,0.1197,33.520000000000003]
[null,null,null,"16.20","Correia A-30 GOODYEAR",1,"serv",28.21,28.21,0.1197,31.59]
[null,null,null,"16.21","Correia A-31 GOODYEAR",1,"serv",29.38,29.38,0.1197,32.9]
[null,null,null,"16.22","Correia A-32 GOODYEAR",1,"serv",29.58,29.58,0.1197,33.119999999999997]
[null,null,null,"16.23","Correia A-33 GOODYEAR",1,"serv",32.450000000000003,32.450000000000003,0.1197,36.33]
[null,null,null,"16.24","Correia A-34 GOODYEAR",1,"serv",30.38,30.38,0.1197,34.020000000000003]
[null,null,null,"16.25","Correia A-35 GOODYEAR",1,"serv",30.76,30.76,0.1197,34.44]
[null,null,null,"16.26","Correia A-36 GOODYEAR",1,"serv",32.6,32.6,0.1197,36.5]
[null,null,null,"16.27","Correia A-37 GOODYEAR",1,"serv",31.48,31.48,0.1197,35.25]
[null,null,null,"16.28","Correia A-38 GOODYEAR",1,"serv",33.51,33.51,0.1197,37.520000000000003]
[null,null,null,"16.29","Correia A-39 GOODYEAR",1,"serv",31.94,31.94,0.1197,35.76]
[null,null,null,"16.30","Correia A-40 GOODYEAR",1,"serv",33.83,33.83,0.1197,37.880000000000003]
[null,null,null,"16.31","Correia A-42 GOODYEAR",1,"serv",37.32,37.32,0.1197,41.79]
[null,null,null,"16.32","Correia A-43 GOODYEAR",1,"serv",33.29,33.29,0.1197,37.270000000000003]
[null,null,null,"16.33","Correia A-44 GOODYEAR",1,"serv",39.53,39.53,0.1197,44.26]
[null,null,null,"16.34","Correia A-45 GOODYEAR",1,"serv",38.74,38.74,0.1197,43.38]
[null,null,null,"16.35","Correia A-46 GOODYEAR",1,"serv",29.97,29.97,0.1197,33.56]
[null,null,null,"16.36","Correia A-48 GOODYEAR",1,"serv",34.56,34.56,0.1197,38.700000000000003]
[null,null,null,"16.37","Correia A-50 GOODYEAR",1,"serv",35.9,35.9,0.1197,40.200000000000003]
[null,null,null,"16.38","Correia A-51 GOODYEAR",1,"serv",41.32,41.32,0.1197,46.27]
[null,null,null,"16.39","Correia A-53 GOODYEAR",1,"serv",37.25,37.25,0.1197,41.71]
[null,null,null,"16.40","Correia A-60 GOODYEAR",1,"serv",36.549999999999997,36.549999999999997,0.1197,40.93]
[null,null,null,"16.41","Correia A-65 GOODYEAR",1,"serv",44.82,44.82,0.1197,50.18]
[null,null,null,"16.42","Correia A-66 GOODYEAR",1,"serv",44,44,0.1197,49.27]
[null,null,null,"16.43","Correia A-70 GOODYEAR",1,"serv",46.47,46.47,0.1197,52.03]
[null,null,null,"16.44","Correia A-71 GOODYEAR",1,"serv",49.75,49.75,0.1197,55.71]
[null,null,null,"16.45","Correia A-80 GOODYEAR",1,"serv",53.23,53.23,0.1197,59.6]
[null,null,null,"16.46","Correia B-103 GOODYEAR",1,"serv",90.75,90.75,0.1197,101.61]
[null,null,null,"16.47","Correia B-120 GOODYEAR",1,"serv",119.34,119.34,0.1197,133.62]
[null,null,null,"16.48","Correia B-158 GOODYEAR",1,"serv",259.64,259.64,0.1197,290.72000000000003]
[null,null,null,"16.49","Correia B-180 GOODYEAR",1,"serv",323.95,323.95,0.1197,362.73]
[null,null,null,"16.50","Correia B-26 GOODYEAR",1,"serv",23.73,23.73,0.1197,26.57]
[null,null,null,"16.51","Correia B-30 GOODYEAR",1,"serv",28.57,28.57,0.1197,31.99]
[null,null,null,"16.52","Correia B-32 GOODYEAR",1,"serv",31.08,31.08,0.1197,34.799999999999997]
[null,null,null,"16.53","Correia B-34 GOODYEAR",1,"serv",38.85,38.85,0.1197,43.5]
[null,null,null,"16.54","Correia B-35 GOODYEAR",1,"serv",35.770000000000003,35.770000000000003,0.1197,40.049999999999997]
[null,null,null,"16.55","Correia B-36 GOODYEAR",1,"serv",26.8,26.8,0.1197,30.01]
[null,null,null,"16.56","Correia B-38 GOODYEAR",1,"serv",33.07,33.07,0.1197,37.03]
[null,null,null,"16.57","Correia B-39 GOODYEAR",1,"serv",29.81,29.81,0.1197,33.380000000000003]
[null,null,null,"16.58","Correia B-40 GOODYEAR",1,"serv",38.79,38.79,0.1197,43.43]
[null,null,null,"16.59","Correia B-42 GOODYEAR",1,"serv",37.299999999999997,37.299999999999997,0.1197,41.76]
[null,null,null,"16.60","Correia B-43 GOODYEAR",1,"serv",39.06,39.06,0.1197,43.74]
[null,null,null,"16.61","Correia B-44 GOODYEAR",1,"serv",48.68,48.68,0.1197,54.51]
[null,null,null,"16.62","Correia B-45 GOODYEAR",1,"serv",36.44,36.44,0.1197,40.799999999999997]
[null,null,null,"16.63","Correia B-46 GOODYEAR",1,"serv",35.590000000000003,35.590000000000003,0.1197,39.85]
[null,null,null,"16.64","Correia B-47 GOODYEAR",1,"serv",38.92,38.92,0.1197,43.58]
[null,null,null,"16.65","Correia B-48 GOODYEAR",1,"serv",39.93,39.93,0.1197,44.71]
[null,null,null,"16.66","Correia B-49 GOODYEAR",1,"serv",30.02,30.02,0.1197,33.61]
[null,null,null,"16.67","Correia B-50 GOODYEAR",1,"serv",46.56,{"$f":"F1232*H1232","v":46.56},0.1197,{"$f":"ROUND(I1232*(1+J1232),2)","v":52.13}]
[null,null,null,"16.68","Correia B-52 GOODYEAR",1,"serv",40.51,40.51,{"$f":"J1232","v":0.1197},45.36]
[null,null,null,"16.69","Correia B-53 GOODYEAR",1,"serv",43.38,43.38,0.1197,48.57]
[null,null,null,"16.70","Correia B-54 GOODYEAR",1,"serv",41.45,41.45,0.1197,46.41]
[null,null,null,"16.71","Correia B-57 GOODYEAR",1,"serv",42.36,42.36,0.1197,47.43]
[null,null,null,"16.72","Correia B-58 GOODYEAR",1,"serv",41.44,41.44,0.1197,46.4]
[null,null,null,"16.73","Correia B-60 GOODYEAR",1,"serv",44.31,44.31,0.1197,49.61]
[null,null,null,"16.74","Correia B-65 GOODYEAR",1,"serv",50.39,50.39,0.1197,56.42]
[null,null,null,"16.75","Correia B-70 GOODYEAR",1,"serv",56.3,56.3,0.1197,63.04]
[null,null,null,"16.76","Correia B-76 GOODYEAR",1,"serv",60.04,60.04,0.1197,67.23]
[null,null,null,"16.77","Correia B-90 GOODYEAR",1,"serv",63.17,63.17,0.1197,70.73]
[null,null,null,"16.78","Correia BX-38 GOODYEAR",1,"serv",41.3,41.3,0.1197,46.24]
[null,null,null,"16.79","Gaxeta hidráulica 50 cm x 60 cm x 10 cm (diâmetro interno, externo e espessura), perfil B, pressão máxima 250 BAR",1,"serv",54.99,54.99,0.1197,61.57]
[null,null,null,"16.80","Mancal para rolamento SKF modelo FY506M",1,"serv",96.86,96.86,0.1197,108.45]
[null,null,null,"16.81","Polia de alumínio 1 canal, perfil A de 150 mm",1,"serv",32.619999999999997,32.619999999999997,0.1197,36.520000000000003]
[null,null,null,"16.82","Polia de alumínio 1 canal, perfil A de 200 mm",1,"serv",42.46,42.46,0.1197,47.54]
[null,null,null,"16.83","Polia de alumínio 1 canal, perfil A de 250 mm",1,"serv",68.849999999999994,68.849999999999994,0.1197,77.09]
[null,null,null,"16.84","Polia de alumínio 1 canal, perfil A de 300 mm",1,"serv",148.41999999999999,148.41999999999999,0.1197,166.19]
[null,null,null,"16.85","Polia de alumínio 1 canal, perfil A de 400 mm",1,"serv",238.64,238.64,0.1197,267.20999999999998]
[null,null,null,"16.86","Polia de alumínio 2 canais, perfil B de 100 mm",1,"serv",32.69,32.69,0.1197,36.6]
[null,null,null,"16.87","Polia de alumínio 2 canais, perfil B de 150 mm",1,"serv",56.02,56.02,0.1197,62.73]
[null,null,null,"16.88","Polia de alumínio 2 canais, perfil B de 200 mm",1,"serv",77.3,77.3,0.1197,86.55]
[null,null,null,"16.89","Polia de alumínio 2 canais, perfil B de 250 mm",1,"serv",108.64,108.64,0.1197,121.64]
[null,null,null,"16.90","Polia de alumínio 2 canais, perfil B de 300 mm",1,"serv",170.09,170.09,0.1197,190.45]
[null,null,null,"16.91","Polia de alumínio 2 canais, perfil B de 350 mm",1,"serv",237.03,237.03,0.1197,265.39999999999998]
[null,null,null,"16.92","Polia de alumínio 2 canais, perfil B de 400 mm",1,"serv",324.42,324.42,0.1197,363.25]
[null,null,null,"16.93","Polia de alumínio 2 canais, perfil B de 450 mm",1,"serv",328.98,328.98,0.1197,368.36]
[null,null,null,"16.94","Polia de alumínio 2 canais, perfil B de 500 mm",1,"serv",432.26,432.26,0.1197,484]
[null,null,null,"16.95","Polia de ferro fundido 2 canais, perfil A, 150 mm",1,"serv",89.11,89.11,0.1197,99.78]
[null,null,null,"16.96","Polia de ferro fundido 2 canais, perfil A, 300 mm",1,"serv",213.11,213.11,0.1197,238.62]
[null,null,null,"16.97","Polia de ferro fundido 2 canais, perfil A, 400 mm",1,"serv",284.25,284.25,0.1197,318.27]
[null,null,null,"16.98","Polia de ferro fundido 2 canais, perfil A, 500 mm",1,"serv",442.62,442.62,0.1197,495.6]
[null,null,null,"16.99","Polia de ferro fundido 2 canais, perfil B, 150 mm",1,"serv",80.83,80.83,0.1197,90.51]
[null,null,null,16100,"Polia de ferro fundido 2 canais, perfil B, 300 mm",1,"serv",211.19,211.19,0.1197,236.47]
[null,null,null,16101,"Polia de ferro fundido 2 canais, perfil B, 400 mm",1,"serv",362.93,362.93,0.1197,406.37]
[null,null,null,16102,"Polia de ferro fundido 2 canais, perfil B, 500 mm",1,"serv",545.54999999999995,545.54999999999995,0.1197,610.85]
[null,null,null,16103,"Rolamento INA GY 1000 KRRB",1,"serv",92.15,92.15,0.1197,103.18]
[null,null,null,16104,"Rolamento INA GY 1100 KRRB",1,"serv",91.83,91.83,0.1197,102.82]
[null,null,null,16105,"Rolamento 205-16 G2",1,"serv",108.41,108.41,0.1197,121.39]
[null,null,null,16106,"Rolamento EWR 206 ZZ",1,"serv",122.32,122.32,0.1197,136.96]
[null,null,null,16107,"Rolamento FAG GE 25 KRRB",1,"serv",113.07,113.07,0.1197,126.6]
[null,null,null,16108,"Rolamento GRAE 30 NPPB",1,"serv",112.1,112.1,0.1197,125.52]
[null,null,null,16109,"Rolamento GYE 25 KRRB",1,"serv",113.07,113.07,0.1197,126.6]
[null,null,null,16110,"Rolamento INA GE 30 KRRB",1,"serv",112.1,112.1,0.1197,125.52]
[null,null,null,16111,"Rolamento INA GYE 70 KRRB",1,"serv",970.02,970.02,0.1197,1086.1300000000001]
[null,null,null,16112,"Rolamento INA RA100-NPP ",1,"serv",122.44,122.44,0.1197,137.1]
[null,null,null,16114,"Rolamento RA 012 NPP-11N",1,"serv",970.02,970.02,0.1197,1086.1300000000001]
[null,null,null,16115,"Rolamento RA 205-16",1,"serv",46.85,46.85,0.1197,52.46]
[null,null,null,16116,"Rolamento SKF 1206 EKTN9/C3",1,"serv",117.92,117.92,0.1197,132.04]
[null,null,null,16117,"Rolamento SKF 1208 EKTN9/C3",1,"serv",202.39,202.39,0.1197,226.62]
[null,null,null,16118,"Rolamento SKF 205-100",1,"serv",90.17,90.17,0.1197,100.96]
[null,null,null,16119,"Rolamento SKF 22206EK/C3",1,"serv",351.19,351.19,0.1197,393.23]
[null,null,null,16120,"Rolamento SKF 6002 ZZ C3",1,"serv",11.88,11.88,0.1197,13.3]
[null,null,null,16121,"Rolamento SKF 608 ZZ C3",1,"serv",12.05,12.05,0.1197,13.49]
[null,null,null,16122,"Rolamento SKF 6201 ZZ C3",1,"serv",9.0299999999999994,9.0299999999999994,0.1197,10.11]
[null,null,null,16123,"Rolamento SKF 6202 ZZ C3",1,"serv",13.22,13.22,0.1197,14.8]
[null,null,null,16124,"Rolamento SKF 6203 ZZ C3",1,"serv",13.2,13.2,0.1197,14.78]
[null,null,null,16125,"Rolamento SKF 6204 ZZ C3",1,"serv",21.3,21.3,0.1197,23.85]
[null,null,null,16126,"Rolamento SKF 6205 ZZ C3",1,"serv",24.45,24.45,0.1197,27.38]
[null,null,null,16127,"Rolamento SKF 6206 ZZ C3",1,"serv",23.23,23.23,0.1197,26.01]
[null,null,null,16128,"Rolamento SKF 6207 ZZ C3",1,"serv",28.76,28.76,0.1197,32.200000000000003]
[null,null,null,16129,"Rolamento SKF 6209 ZZ C3",1,"serv",46.94,46.94,0.1197,52.56]
[null,null,null,16130,"Rolamento SKF 6210 ZZ C3",1,"serv",70.2,70.2,0.1197,78.599999999999994]
[null,null,null,16131,"Rolamento SKF 6211 ZZ C3",1,"serv",76.69,76.69,0.1197,85.87]
[null,null,null,16132,"Rolamento SKF 6212 ZZ C3",1,"serv",115.68,{"$f":"F1296*H1296","v":115.68},0.1197,{"$f":"ROUND(I1296*(1+J1296),2)","v":129.53}]
[null,null,null,16133,"Rolamento SKF 6213 ZZ C3",1,"serv",172.14,172.14,{"$f":"J1296","v":0.1197},192.75]
[null,null,null,16134,"Rolamento SKF 6302 ZZ C3",1,"serv",14.15,14.15,0.1197,15.84]
[null,null,null,16135,"Rolamento SKF 6306 ZZ C3",1,"serv",24.9,24.9,0.1197,27.88]
[null,null,null,16136,"Rolamento SKF 6307 ZZ C3",1,"serv",45.9,45.9,0.1197,51.39]
[null,null,null,16137,"Rolamento SKF 6308 ZZ C3",1,"serv",54.74,54.74,0.1197,61.29]
[null,null,null,16138,"Rolamento SKF 6309 ZZ C3",1,"serv",60.07,60.07,0.1197,67.260000000000005]
[null,null,null,16139,"Rolamento SKF 6310 ZZ C3",1,"serv",127.1,127.1,0.1197,142.31]
[null,null,null,16140,"Rolamento SKF 6311 ZZ C3",1,"serv",136.24,136.24,0.1197,152.55000000000001]
[null,null,null,16141,"Rolamento SKF 6312 ZZ C3",1,"serv",205.18,205.18,0.1197,229.74]
[null,null,null,16142,"Rolamento SKF 6313 ZZ C3",1,"serv",276.92,276.92,0.1197,310.07]
[null,null,null,16143,"Rolamento SKF YAR 211-2F-PEER",1,"serv",292.52999999999997,292.52999999999997,0.1197,327.55]
[null,null,null,16144,"Rolamento SKF YET 204-012",1,"serv",74.19,74.19,0.1197,83.07]
[null,null,null,16145,"Rolamento SKF YET 205-100",1,"serv",86.43,86.43,0.1197,96.78]
[null,null,null,16146,"Rolamento SKF YET 208-108",1,"serv",156.02000000000001,156.02000000000001,0.1197,174.7]
[null,null,null,16134,"Rolamento SKF 6302 ZZ C3",1,"serv",14.15,14.15,0.1197,15.84]
[null,null,null,17,"SERVIÇOS DE MANUTENÇÃO CORRETIVA DE ELEMENTOS DE FIXAÇÃO, ESTRUTURA, PINTURA, SUSTENTAÇÃO E ACABAMENTO DE EQUIPAMENTOS E SISTEMAS MECÂNICOS,  incluindo a aplicação dos seguintes insumos (*Ver. Obs. 1)"]
[null,null,null,"18.1","Abraçadeira ajustável de 13mm a 19 mm",1,"serv",3.17,{"$f":"F1313*H1313","v":3.17},{"$f":"J1311","v":0.1197},{"$f":"ROUND(I1313*(1+J1313),2)","v":3.55}]
[null,null,null,"18.2","Abraçadeira tipo trava de 1.1/2 ",1,"serv",2.96,2.96,{"$f":"J1313","v":0.1197},3.31]
[null,null,null,"18.3","Abraçadeira tipo trava de 1.1/4 ",1,"serv",2.98,2.98,0.1197,3.34]
[null,null,null,"18.4","Abraçadeiras de nylon para lacre - 4,8mm X 300mm (pacote com 100)",1,"serv",27.59,27.59,0.1197,30.89]
[null,null,null,"18.5","Adesivo plástico para tubo em PVC soldável 850g",1,"serv",50.33,50.33,0.1197,56.35]
[null,null,null,"18.6","Arame galvanizado n° 18 BWG - diâmetro 1,24 mm (kg)",1,"serv",17.87,17.87,0.1197,20.010000000000002]
[null,null,null,"18.7","Arruela lisa inox 1/4\" (pacote com 100)",1,"serv",22.07,22.07,0.1197,24.71]
[null,null,null,"18.8","Arruela lisa inox 3/8\" (pacote com 100)",1,"serv",37.520000000000003,37.520000000000003,0.1197,42.01]
[null,null,null,"18.9","Arruela lisa inox 5/16\" (pacote com 100)",1,"serv",26.42,26.42,0.1197,29.58]
[null,null,null,"18.10","Arruela lisa inox 5/8\" (pacote com 100)",1,"serv",85.71,85.71,0.1197,95.97]
[null,null,null,"18.11","Barra roscada M10 X 1000 mm em aço inox 304",1,"serv",26.63,26.63,0.1197,29.82]
[null,null,null,"18.12","Barra roscada M12 X 1000 mm em aço inox 304",1,"serv",29.24,29.24,0.1197,32.74]
[null,null,null,"18.13","Barra roscada M16 X 1000 mm em aço inox 304",1,"serv",54.14,54.14,0.1197,60.62]
[null,null,null,"18.14","Barra roscada M20 X 1000 mm em aço inox 304",1,"serv",83.86,83.86,0.1197,93.9]
[null,null,null,"18.15","Barra roscada M3 X 1000 mm em aço inox 304",1,"serv",21.48,21.48,0.1197,24.05]
[null,null,null,"18.16","Barra roscada M4 X 1000 mm em aço inox 304",1,"serv",11.68,11.68,0.1197,13.08]
[null,null,null,"18.17","Barra roscada M5 X 1000 mm em aço inox 304",1,"serv",15.63,15.63,0.1197,17.5]
[null,null,null,"18.18","Barra roscada M6 X 1000 mm em aço inox 304",1,"serv",11.51,11.51,0.1197,12.89]
[null,null,null,"18.19","Barra roscada M8 X 1000 mm em aço inox 304",1,"serv",17.02,17.02,0.1197,19.059999999999999]
[null,null,null,"18.20","Batida de pedra petro Maxi Rubber 900 ml",1,"serv",20.34,20.34,0.1197,22.77]
[null,null,null,"18.21","Bico de corte VORTECH N° 04",1,"serv",40.97,40.97,0.1197,45.87]
[null,null,null,"18.22","Bico de corte VORTECH N° 06",1,"serv",39.24,39.24,0.1197,43.94]
[null,null,null,"18.23","Bico de corte VORTECH N° 08",1,"serv",35.93,35.93,0.1197,40.229999999999997]
[null,null,null,"18.24","Broca de aço rápido diâmetro 1/4\"",1,"serv",11.94,11.94,0.1197,13.37]
[null,null,null,"18.25","Broca de aço rápido diâmetro 1/8\"",1,"serv",10.06,10.06,0.1197,11.26]
[null,null,null,"18.26","Broca de aço rápido diâmetro 3/16\"",1,"serv",13.03,13.03,0.1197,14.59]
[null,null,null,"18.27","Broca de aço rápido diâmetro 3/8\"",1,"serv",26.38,{"$f":"F1339*H1339","v":26.38},0.1197,{"$f":"ROUND(I1339*(1+J1339),2)","v":29.54}]
[null,null,null,"18.28","Broca de aço rápido diâmetro 5/16\"",1,"serv",15.79,15.79,0.1197,17.68]
[null,null,null,"18.29","Broca de aço rápido diâmetro 5/32\"",1,"serv",10.85,10.85,0.1197,12.15]
[null,null,null,"18.30","Broca de WIDEA SDS PLUS de 10 mm x 160 mm",1,"serv",17.21,17.21,0.1197,19.27]
[null,null,null,"18.31","Broca de WIDEA SDS PLUS de 6 mm x 160 mm",1,"serv",9.42,9.42,0.1197,10.55]
[null,null,null,"18.32","Broca de WIDEA SDS PLUS de 8 mm x 160 mm",1,"serv",15.12,15.12,0.1197,16.93]
[null,null,null,"18.33","Bucha de nylon S-10",1,"serv",0.51,0.51,0.1197,0.56999999999999995]
[null,null,null,"18.34","Bucha de nylon S-6",1,"serv",0.24,0.24,0.1197,0.27]
[null,null,null,"18.35","Bucha de nylon S-8",1,"serv",0.47,0.47,0.1197,0.53]
[null,null,null,"18.36","Caixa de água em PVC 1000 litros",1,"serv",369.57,369.57,0.1197,413.81]
[null,null,null,"18.37","Cambota em mandeira HIDRALESTE para tubulação de 1\"",1,"serv",8.42,8.42,0.1197,9.43]
[null,null,null,"18.38","Cambota em mandeira HIDRALESTE para tubulação de 1.1/2\"",1,"serv",8.9600000000000009,8.9600000000000009,0.1197,10.029999999999999]
[null,null,null,"18.39","Cambota em mandeira HIDRALESTE para tubulação de 1.1/4\"",1,"serv",3.78,3.78,0.1197,4.2300000000000004]
[null,null,null,"18.40","Cambota em mandeira HIDRALESTE para tubulação de 10\"",1,"serv",62.41,62.41,0.1197,69.88]
[null,null,null,"18.41","Cambota em mandeira HIDRALESTE para tubulação de 12\"",1,"serv",108.98,108.98,0.1197,122.02]
[null,null,null,"18.42","Cambota em mandeira HIDRALESTE para tubulação de 2\"",1,"serv",10.050000000000001,10.050000000000001,0.1197,11.25]
[null,null,null,"18.43","Cambota em mandeira HIDRALESTE para tubulação de 2.1/2\"",1,"serv",10.62,10.62,0.1197,11.89]
[null,null,null,"18.44","Cambota em mandeira HIDRALESTE para tubulação de 3\"",1,"serv",12.13,12.13,0.1197,13.58]
[null,null,null,"18.45","Cambota em mandeira HIDRALESTE para tubulação de 3/4\"",1,"serv",8.5,8.5,0.1197,9.52]
[null,null,null,"18.46","Cambota em mandeira HIDRALESTE para tubulação de 4\"",1,"serv",13.4,13.4,0.1197,15]
[null,null,null,"18.47","Cambota em mandeira HIDRALESTE para tubulação de 5\"",1,"serv",17.440000000000001,17.440000000000001,0.1197,19.53]
[null,null,null,"18.48","Cambota em mandeira HIDRALESTE para tubulação de 6\"",1,"serv",25.62,25.62,0.1197,28.69]
[null,null,null,"18.49","Cambota em mandeira HIDRALESTE para tubulação de 8\"",1,"serv",38.799999999999997,38.799999999999997,0.1197,43.44]
[null,null,null,"18.50","Cantoneira tipo L 2.1/2\" x 5/16\", metro",1,"serv",36.9,36.9,0.1197,41.32]
[null,null,null,"18.51","Cantoneira ZZ alta",1,"serv",1.92,1.92,0.1197,2.15]
[null,null,null,"18.52","Chumbador parabolt CBA 1/4 X 2\" completo",1,"serv",1.54,1.54,0.1197,1.72]
[null,null,null,"18.53","Chumbador parabolt CBA 3/8 X 4\" completo",1,"serv",3.28,3.28,0.1197,3.67]
[null,null,null,"18.54","Cola adesiva epóxi sika sikadur 32",1,"serv",85.51,85.51,0.1197,95.75]
[null,null,null,"18.55","Cola selante PU SIKAFLEX, 300 ml",1,"serv",39.65,39.65,0.1197,44.4]
[null,null,null,"18.56","Corda de polipropileno de 20 mm",1,"serv",9.24,9.24,0.1197,10.35]
[null,null,null,"18.57","Disco de corte metal 7\" x 1/8\" x 7/8\" AR312 - Norton",1,"serv",19.170000000000002,19.170000000000002,0.1197,21.46]
[null,null,null,"18.58","Disco de desbaste para metal 7\" x 1/4\" x 7/8\" - BDA640 - Norton",1,"serv",18.23,18.23,0.1197,20.41]
[null,null,null,"18.59","Disco lixa expert para metal 180mm Grão 100 Bosch ",1,"serv",8.02,8.02,0.1197,8.98]
[null,null,null,"18.60","Eletrodo de 4 mm ESAB OK 48.04 E7018 - 25 kg",1,"serv",839.59,839.59,0.1197,940.09]
[null,null,null,"18.61","Espuma de poliuretano expansiva PU de 500ml",1,"serv",24.47,24.47,0.1197,27.4]
[null,null,null,"18.62","Esticador olhal x gancho 1/2\" corpo 6\"",1,"serv",25.25,25.25,0.1197,28.27]
[null,null,null,"18.63","Ferro chato 2\" x 3/16\", metro",1,"serv",10.71,10.71,0.1197,11.99]
[null,null,null,"18.64","Ferro redondo 1/2\", metro",1,"serv",5.58,5.58,0.1197,6.25]
[null,null,null,"18.65","Fita adesiva dupla face 3M, 24 mm x 1,5 metro",1,"serv",22.63,22.63,0.1197,25.34]
[null,null,null,"18.66","Fita dupla face com esmpuma 3M SCOTCH, rolo 5 metros X 19mm",1,"serv",19.91,19.91,{"$f":"J1377","v":0.1197},22.29]
[null,null,null,"18.67","Fita dupla face com espuma 3M, rolo 12 mm x 5m ",1,"serv",31.17,31.17,0.1197,34.9]
[null,null,null,"18.68","Fita metálica perfurada leve, rolo de 19 mm x 10 metros",1,"serv",12.04,12.04,0.1197,13.48]
[null,null,null,"18.69","Fita veda rosca de 18 mm x 50 m, AMANCO",1,"serv",12.78,12.78,0.1197,14.31]
[null,null,null,"18.70","Fluxo para solda oxi-acetileno latão e bronze, VONDER 250 g",1,"serv",20.68,20.68,0.1197,23.16]
[null,null,null,"18.71","Fluxo para solda prata, VONDER 150 g",1,"serv",12.48,12.48,0.1197,13.97]
[null,null,null,"18.72","Folha junta papelão hidráulico para vedação, 0,8 mm de espessura, metro quadrado",1,"serv",125.14,125.14,0.1197,140.12]
[null,null,null,"18.73","Grelha côncavo ferro fundido 20 x 20 cm",1,"serv",23.8,23.8,0.1197,26.65]
[null,null,null,"18.74","Lâmina de serra aço rápido 12\" (300 mm)",1,"serv",12.17,12.17,0.1197,13.63]
[null,null,null,"18.75","Lençol de borracha de neoprene, 10 mm de espessura, metro quadrado",1,"serv",487.42,487.42,0.1197,545.76]
[null,null,null,"18.76","Lençol de borracha de neoprene, 3 mm de espessura, metro quadrado",1,"serv",161.96,161.96,0.1197,181.35]
[null,null,null,"18.77","Lençol de borracha de neoprene, 5 mm de espessura, metro quadrado",1,"serv",250.58,250.58,0.1197,280.57]
[null,null,null,"18.78","Lixa para ferro nº 100 3M",1,"serv",2.5299999999999998,2.5299999999999998,0.1197,2.83]
[null,null,null,"18.79","Lixa para ferro nº 120 3M ",1,"serv",2.4300000000000002,2.4300000000000002,0.1197,2.72]
[null,null,null,"18.80","Massa de calafetar CASCOLA, 350 gramas",1,"serv",10.26,10.26,0.1197,11.49]
[null,null,null,"18.81","Papelão hidráulico para juntas de 20 cm x 20 cm x 3,2 mm, TEADIT modelo U60na",1,"serv",1285.7,1285.7,0.1197,1439.6]
[null,null,null,"18.82","Parafuso cabeça sextavada de 3/8\" X 2\" rosca total",1,"serv",1.75,1.75,0.1197,1.96]
[null,null,null,"18.83","Parafuso máquina cabeça redonda 1/4 X 1'' com porca",1,"serv",0.88,0.88,0.1197,0.99]
[null,null,null,"18.84","Parafuso maquinado zincado CC de 3/16\" X 2\"",1,"serv",0.97,0.97,0.1197,1.0900000000000001]
[null,null,null,"18.85","Parafuso sextavado inox 5/8\" x 10 mm",1,"serv",3.65,3.65,0.1197,4.09]
[null,null,null,"18.86","Parafuso sextavado rosca soberba 5/16\" x 65 mm",1,"serv",0.84,0.84,0.1197,0.94]
[null,null,null,"18.87","Parafuso sextavado rosca soberba cabeça redonda tipo fenda 5/16\" X 65 mm",1,"serv",0.84,0.84,0.1197,0.94]
[null,null,null,"18.88","Parafuso zincado AA, CP de 4,2 mm X 38 mm",1,"serv",0.4,0.4,0.1197,0.45]
[null,null,null,"18.89","Perfilado perfurado galvanizado 38 mm X 19 mm X 6000 mm",1,"serv",18.18,18.18,0.1197,20.36]
[null,null,null,"18.90","Pincel de 2\" (trincha)",1,"serv",8.36,8.36,0.1197,9.36]
[null,null,null,"18.91","Pistola aplicadora de silicone",1,"serv",45.08,{"$f":"F1403*H1403","v":45.08},0.1197,{"$f":"ROUND(I1403*(1+J1403),2)","v":50.48}]
[null,null,null,"18.92","Placa em alumínio anodizado, padrão industrial, para identificação de equipamentos, 7 cm x 3 cm",1,"serv",5.1100000000000003,5.1100000000000003,0.1197,5.72]
[null,null,null,"18.93","Porca sextavada alta zincada 1/4\"",1,"serv",0.18,0.18,0.1197,0.2]
[null,null,null,"18.94","Porca sextavada em aço inox de 5/16\"",1,"serv",0.42,0.42,0.1197,0.47]
[null,null,null,"18.95","Porca sextavada em aço inox de 5/8\"",1,"serv",1.82,1.82,0.1197,2.04]
[null,null,null,"18.96","Porca sextavada em aço inox de 5/8\"",1,"serv",1.82,1.82,0.1197,2.04]
[null,null,null,"18.97","Porca sextavada zincada de 12 mm",1,"serv",0.66,0.66,0.1197,0.74]
[null,null,null,"18.98","Querosene, galão com 1 litro",1,"serv",19.399999999999999,19.399999999999999,0.1197,21.72]
[null,null,null,"18.99","Rebite de alumínio 3,2 mm x 12 mm, pacote com 100 unidades",1,"serv",7.93,7.93,0.1197,8.8800000000000008]
[null,null,null,18100,"Rebite de alumínio 4 mm x 12 mm, pacote com 100 unidades",1,"serv",12.68,12.68,0.1197,14.2]
[null,null,null,18101,"Rolo para pintura de espuma, 15 cm",1,"serv",6.9,6.9,0.1197,7.73]
[null,null,null,18102,"Silicone incolor para aplicação, bisnaga 280 gramas",1,"serv",19.809999999999999,19.809999999999999,0.1197,22.18]
[null,null,null,18103,"Solda foscoper BRASWELD, kg",1,"serv",125.26,125.26,0.1197,140.25]
[null,null,null,18104,"Solda prata 30% 3,2 mm x 460 mm BRASIL SOLDAS, kg",1,"serv",1181.49,1181.49,0.1197,1322.91]
[null,null,null,18105,"Solução limpadora para tubos de PVC, AMANCO, pote de 1 litro",1,"serv",52.25,52.25,0.1197,58.5]
[null,null,null,18106,"Super galvite SHERWIN WILLIAMS, galão com 3,6 litros",1,"serv",139.51,139.51,0.1197,156.21]
[null,null,null,18107,"Tábua de madeira de lei, 4 metros x 30 cm",1,"serv",29.34,29.34,0.1197,32.85]
[null,null,null,18108,"Tambor de plástico de 200 litros",1,"serv",306.68,306.68,0.1197,343.39]
[null,null,null,18109,"Tela de galvanizada com arame tamanho 16, metro quadrado",1,"serv",12.44,12.44,0.1197,13.93]
[null,null,null,18110,"Tinta esmalte sintético cor alaranjado SUVINIL, lata com 3,7 litros",1,"serv",135.18,135.18,0.1197,151.36000000000001]
[null,null,null,18111,"Tinta esmalte sintético cor alumínio SUVINIL, lata com 3,7 litros",1,"serv",127.72,127.72,0.1197,143.01]
[null,null,null,18112,"Tinta esmalte sintético cor cinza SUVINIL, lata com 3,7 litros",1,"serv",104.83,104.83,0.1197,117.38]
[null,null,null,18113,"Tinta esmalte sintético cor verde folha SUVINIL, lata com 3,7 litros",1,"serv",104.84,104.84,0.1197,117.39]
[null,null,null,18114,"Tinta esmalte sintético laranja SUVINIL, lata com 3,7 litros",1,"serv",121.63,121.63,0.1197,136.19]
[null,null,null,18115,"Tinta fundo metal galvanizado branco fosco CORAL, 3,6 litros",1,"serv",137.1,137.1,0.1197,153.51]
[null,null,null,18116,"Tinta SUVINIL zarcão, lata com 3,6 litros",1,"serv",139.04,139.04,0.1197,155.68]
[null,null,null,18117,"Trincha ATLAS 1\" 395/3",1,"serv",5.93,5.93,0.1197,6.64]
[null,null,null,18118,"Vergalhão de aço com rosca total 1/4\" X 3000 mm ",1,"serv",8.67,8.67,0.1197,9.7100000000000009]
[null,null,null,18119,"Vergalhão de aço com rosca total 5/16\" X 3000 mm ",1,"serv",11.8,11.8,0.1197,13.21]
[null,null,null,18120,"Pintura convencional de peças metálicas com tinta esmalte sintético com rendimento mínimo de 20m²/litro, por m²",1,"serv",27.42,27.42,0.1197,30.7]
[null,null,null,18121,"Pintura de concreto com hidrofugante à base de silano-siloxano, por m²",1,"serv",47.36,47.36,0.1197,53.03]
[null,null,null,18122,"Pintura de gradis e alambrados com tinta esmalte sintético com rendimento mínimo de 20m²/litro, por m²",1,"serv",27.42,27.42,0.1197,30.7]
[null,null,null,18123,"Pintura de paredes em ambiente interno, fosco, com rendimento mínimo de 9m²/litro, por m²",1,"serv",10.050000000000001,10.050000000000001,0.1197,11.25]
[null,null,null,18124,"Pintura de pisos com tinta acrílica fosca, com rendimento mínimo de 15m²/litro, por m²",1,"serv",22.47,22.47,0.1197,25.16]
[null,null,null,18125,"Pintura de pisos com resina epóxi altonivelane de espessura mínima de 3 mm, por m²",1,"serv",47.36,47.36,0.1197,53.03]
[null,null,null,18126,"Pintura de pisos com resina epóxi espatulado/argamassado de espessura mínima de 5 mm, por m²",1,"serv",65.489999999999995,65.489999999999995,0.1197,73.33]
[null,null,null,18127,"Pintura de tetos em ambiente interno fosco, com rendimento mínimo de 9m²/litro, por m²",1,"serv",12.63,12.63,0.1197,14.14]
[null,null,null,18128,"Pintura eletrostática de peças metálicas, por m²",1,"serv",15.51,15.51,0.1197,17.37]
[null,null,null,18129,"Revestimento acústico com ESPUMA ACÚSTICA CAIXA DE OVO, de espessura mínima de 4CM, por m²",1,"serv",253.09,253.09,0.1197,283.38]
[null,null,null,null,null,1,"serv",253.09,253.09,{"$f":"J1441","v":0.1197},283.38]
[null,null,null,18130,"Revestimento acústico com lã de PET densidade 30kg/m3, por m²",1,"serv",253.09,253.09,0.1197,283.38]
[null,null,null,18131,"Revestimento acústico com lã de PET densidade 25kg/m3, por m²",1,"serv",253.09,253.09,0.1197,283.38]
[null,null,null,18132,"Revestimento acústico com painel Acústico Absorvedor de Ruídos de espessura mínima de 50 mm, por m²",1,"serv",943.74,943.74,0.1197,1056.71]
[null,null,null,18133,"Aluguel de talha manual de 3 torneladas",1,"serv",null,0,0.1197,0]
[null,null,null,18134,"Aluguel de pórtico móvel rolante com talha manual de 3 toneladas",1,"serv",null,0,0.1197,0]
[null,null,null,18135,"Aluguel de carrinho tartaruga de 5 toneladas",1,"serv",null,0,0.1197,0]
[null,null,null,18136,"Aluguel de andamei tubular tipo torre, por metro de altura",1,"serv",38.39,38.39,0.1197,42.99]
[null,null,null,18,"SERVIÇOS DE MANUTENÇÃO CORRETIVA DE LUBRIFICAÇÃO DE EQUIPAMENTOS MECÂNICOS,  incluindo a aplicação dos seguintes insumos (*Ver. Obs. 1)"]
[null,null,null,"19.1","Óleo lubrificante CAPELLA 68 para refrigeração, litro",1,"serv",23.02,{"$f":"F1451*H1451","v":23.02},{"$f":"J1449","v":0.1197},{"$f":"ROUND(I1451*(1+J1451),2)","v":25.78}]
[null,null,null,"19.2","Óleo lubrificante para bomba de vácuo, MONTREAL, litro",1,"serv",30.51,30.51,{"$f":"J1451","v":0.1197},34.159999999999997]
[null,null,null,"19.3","Óleo para corte e rosca ROTHENBERGER, galão 5 litros",1,"serv",191.55,191.55,0.1197,214.48]
[null,null,null,"19.4","Óleo sintético para refrigeração MONTREAL ISO VG 32 para R-134a, litro",1,"serv",26.48,26.48,0.1197,29.65]
[null,null,null,19,"SERVIÇOS DE MANUTENÇÃO CORRETIVA DE ELÉTRICA PARA EQUIPAMENTOS MECÂNICOS,  incluindo a aplicação dos seguintes insumos (*Ver. Obs. 1)"]
[null,null,null,"17.1","Auto transformador trifásico de partida de 380V de 0 a 45seg TAPS: 65 e 80%.",1,"serv",1817.37,{"$f":"F1456*H1456","v":1817.37},{"$f":"J1454","v":0.1197},{"$f":"ROUND(I1456*(1+J1456),2)","v":2034.91}]
[null,null,null,"17.2","Bateria REC. NICID 1,2V - 60mA-16X6MM - P/C.I.3",1,"serv",4.0999999999999996,4.0999999999999996,{"$f":"J1456","v":0.1197},4.59]
[null,null,null,"17.3","Bloco de contato auxiliar 1 NA + 1NF SIEMENS/3RH19 21-1EA11",1,"serv",56.03,56.03,0.1197,62.74]
[null,null,null,"17.4","Bloco de contato auxiliar 2NA+2NF 3RH19 11-1HA22 SIEMENS",1,"serv",64.81,64.81,0.1197,72.569999999999993]
[null,null,null,"17.5","Bloco de contato auxiliares 3 NA + 1NF SIEMENS/3RH19 21-1EA31",1,"serv",54.71,54.71,0.1197,61.26]
[null,null,null,"17.6","Bloco de contato STECK, 6A, 4kV",1,"serv",9.1,9.1,0.1197,10.19]
[null,null,null,"17.7","Bloco de contato TELEMECANIQUE/LADN11",1,"serv",49.97,49.97,0.1197,55.95]
[null,null,null,"17.8","Bobina de 110V pra contactora 3RT1034",1,"serv",163.79,163.79,0.1197,183.4]
[null,null,null,"17.9","Bobina de 110V pra contactora 3RT1036",1,"serv",190.86,190.86,0.1197,213.71]
[null,null,null,"17.10","Bobina Siemens 3TB40-0-0a 220v-60h2.",1,"serv",40.46,40.46,0.1197,45.3]
[null,null,null,"17.11","Botão de comando STRAHL modelo SGB2 - BE101",1,"serv",35.06,35.06,0.1197,39.26]
[null,null,null,"17.12","Botão duplo luminoso STECK",1,"serv",65.150000000000006,65.150000000000006,0.1197,72.95]
[null,null,null,"17.13","Cabo elétrico em cobre flexível 0,75 mm² x 100 metros",1,"serv",55.84,55.84,0.1197,62.52]
[null,null,null,"17.14","Cabo elétrico em cobre flexível 1 mm² x 100 metros",1,"serv",68.94,68.94,0.1197,77.19]
[null,null,null,"17.15","Cabo elétrico em cobre flexível 1,5 mm² x 100 metros",1,"serv",91.69,91.69,0.1197,102.67]
[null,null,null,"17.16","Cabo elétrico em cobre flexível 10 mm², metro",1,"serv",5.88,5.88,0.1197,6.58]
[null,null,null,"17.17","Cabo elétrico em cobre flexível 120 mm², metro",1,"serv",81.36,81.36,0.1197,91.1]
[null,null,null,"17.18","Cabo elétrico em cobre flexível 150 mm², metro",1,"serv",96.75,96.75,0.1197,108.33]
[null,null,null,"17.19","Cabo elétrico em cobre flexível 16 mm² x 100 metros",1,"serv",928.44,928.44,0.1197,1039.57]
[null,null,null,"17.20","Cabo elétrico em cobre flexível 185 mm², metro",1,"serv",124.9,124.9,0.1197,139.85]
[null,null,null,"17.21","Cabo elétrico em cobre flexível 2,5 mm² x 100 metros",1,"serv",140.93,140.93,0.1197,157.80000000000001]
[null,null,null,"17.22","Cabo elétrico em cobre flexível 240 mm², metro",1,"serv",144.37,144.37,0.1197,161.65]
[null,null,null,"17.23","Cabo elétrico em cobre flexível 25 mm², metro",1,"serv",15.06,15.06,0.1197,16.86]
[null,null,null,"17.24","Cabo elétrico em cobre flexível 35 mm², metro",1,"serv",20.47,20.47,0.1197,22.92]
[null,null,null,"17.25","Cabo elétrico em cobre flexível 4 mm², metro",1,"serv",2.42,2.42,0.1197,2.71]
[null,null,null,"17.26","Cabo elétrico em cobre flexível 50 mm², metro",1,"serv",32.53,32.53,0.1197,36.42]
[null,null,null,"17.27","Cabo elétrico em cobre flexível 6 mm², metro",1,"serv",3.77,3.77,0.1197,4.22]
[null,null,null,"17.28","Cabo elétrico em cobre flexível 70 mm², metro",1,"serv",47.81,47.81,0.1197,53.53]
[null,null,null,"17.29","Cabo elétrico em cobre flexível 95 mm², metro",1,"serv",58.87,58.87,0.1197,65.92]
[null,null,null,"17.30","Cabo PP flexível 3 x 1,5 mm² 450/750 V",1,"serv",3.3,3.3,0.1197,3.7]
[null,null,null,"17.31","Cabo PP flexível 3 x 2,5 mm² 450/750 V",1,"serv",5.07,5.07,0.1197,5.68]
[null,null,null,"17.32","Capacitor de 10 uF ± 5% de 50/60HZ de 450VAC",1,"serv",13.61,13.61,0.1197,15.24]
[null,null,null,"17.33","Capacitor de 16 uF ± 5% de 50/60HZ de 450VAC",1,"serv",13.55,13.55,0.1197,15.17]
[null,null,null,"17.34","Capacitor de 17 uF ± 5% de 50/60HZ de 450VAC",1,"serv",13.17,13.17,0.1197,14.75]
[null,null,null,"17.35","Capacitor de 2,5 uF ± 5% de 50/60HZ de 450VAC",1,"serv",6.3,6.3,0.1197,7.05]
[null,null,null,"17.36","Capacitor de 20 uF ± 5% de 50/60HZ de 450VAC",1,"serv",21.14,21.14,0.1197,23.67]
[null,null,null,"17.37","Capacitor de 25 uF ± 5% de 50/60HZ de 450VAC",1,"serv",21.42,21.42,0.1197,23.98]
[null,null,null,"17.38","Capacitor de 30 uF ± 5% de 50/60HZ de 450VAC",1,"serv",25.66,25.66,0.1197,28.73]
[null,null,null,"17.39","Capacitor de 40 uF ± 5% de 50/60HZ de 450VAC",1,"serv",42.06,42.06,0.1197,47.09]
[null,null,null,"17.40","Capacitor de 470 uF ± 5% de 50/60HZ de 400VAC",1,"serv",26.13,26.13,0.1197,29.26]
[null,null,null,"17.41","Capacitor de 5 uF ± 5% de 50/60HZ de 450VAC",1,"serv",8.3800000000000008,8.3800000000000008,0.1197,9.3800000000000008]
[null,null,null,"17.42","Capacitor de 50 uF ± 5% de 50/60HZ de 450VAC",1,"serv",39.67,39.67,0.1197,44.42]
[null,null,null,"17.43","Capacitor de 60 uF ± 5% de 50/60HZ de 450VAC",1,"serv",50.5,50.5,0.1197,56.54]
[null,null,null,"17.44","Chave seletora  EFE - Semitrans Mod:  8-6A025/10E+FS ",1,"serv",496.33,496.33,0.1197,555.74]
[null,null,null,"17.45","Chave seletora EFE - Semitrans Mod:  A2/10E+Z7",1,"serv",162.9,162.9,0.1197,182.4]
[null,null,null,"17.46","Chave seletora EFE - Semitrans Mod:  WS2/10E+FS",1,"serv",142.78,142.78,0.1197,159.87]
[null,null,null,"17.47","Chave seletora EFE - Semitrans Mod: 41/10E",1,"serv",130.99,130.99,0.1197,146.66999999999999]
[null,null,null,"17.48","Chave seletora EFE - Semitrans Mod: 6-3A624/10 E-FS",1,"serv",412.36,412.36,0.1197,461.72]
[null,null,null,"17.49","Chave seletora EFE - Semitrans Mod: 9-4A 101/10E +FS",1,"serv",579.64,579.64,0.1197,649.02]
[null,null,null,"17.50","Condulete alumínio múltiplo 1/2\" e 3/4\" 20 mm DM034X",1,"serv",6,6,0.1197,6.72]
[null,null,null,"17.51","Condulete fixo 1\" tipo \"C\" com tampa rosca BSP c/ pintura",1,"serv",12.98,12.98,0.1197,14.53]
[null,null,null,"17.52","Condulete fixo 1.1/2\" tipo \"C\" com tampa rosca BSP c/ pintura",1,"serv",30.7,30.7,0.1197,34.369999999999997]
[null,null,null,"17.53","Condulete fixo 1.1/4\" tipo \"C\" com tampa rosca BSP c/ pintura",1,"serv",24.8,24.8,0.1197,27.77]
[null,null,null,"17.54","Condulete fixo 2\" tipo \"C\" com tampa rosca BSP c/ pintura",1,"serv",42.53,42.53,0.1197,47.62]
[null,null,null,"17.55","Condulete fixo 3/4\" tipo \"C\" com tampa rosca BSP c/ pintura",1,"serv",10.48,10.48,0.1197,11.73]
[null,null,null,"17.56","Conector box curvo para eletroduto 1\"",1,"serv",6.97,6.97,0.1197,7.8]
[null,null,null,"17.57","Conector box curvo para eletroduto 1.1/2\"",1,"serv",18.05,18.05,0.1197,20.21]
[null,null,null,"17.58","Conector box curvo para eletroduto 1.1/4\"",1,"serv",13.56,13.56,0.1197,15.18]
[null,null,null,"17.59","Conector box curvo para eletroduto 1/2\"",1,"serv",4.74,4.74,0.1197,5.31]
[null,null,null,"17.60","Conector box curvo para eletroduto 2\"",1,"serv",28.49,28.49,0.1197,31.9]
[null,null,null,"17.61","Conector box curvo para eletroduto 3/4\"",1,"serv",5.54,5.54,0.1197,6.2]
[null,null,null,"17.62","Conector box reto 1\"",1,"serv",3.76,3.76,0.1197,4.21]
[null,null,null,"17.63","Conector box reto 1.1/2\"",1,"serv",7.92,7.92,0.1197,8.8699999999999992]
[null,null,null,"17.64","Conector box reto 1.1/4\"",1,"serv",6.15,6.15,0.1197,6.89]
[null,null,null,"17.65","Conector box reto 1/2\"",1,"serv",2.78,{"$f":"F1520*H1520","v":2.78},0.1197,{"$f":"ROUND(I1520*(1+J1520),2)","v":3.11}]
[null,null,null,"17.66","Conector box reto 2\"",1,"serv",12,12,{"$f":"J1520","v":0.1197},13.44]
[null,null,null,"17.67","Conector box reto 3/4\"",1,"serv",3,3,0.1197,3.36]
[null,null,null,"17.68","Contator 12A 1NA 220V CWM12-10 WEG",1,"serv",119.96,119.96,0.1197,134.32]
[null,null,null,"17.69","Contator 18A 1NA+1NF 220V LC1-D18 M7 SCHNEIDER",1,"serv",144.62,144.62,0.1197,161.93]
[null,null,null,"17.70","Contator 25A 000 220V CWM25-00 WEG",1,"serv",161.86000000000001,161.86000000000001,0.1197,181.23]
[null,null,null,"17.71","Contator 3TS35 11-0AN2 220V 40A 50/60HZ-SIEMENS",1,"serv",275.56,275.56,0.1197,308.54000000000002]
[null,null,null,"17.72","Contator 40A 1NA+1NF 110V LC1-D40 AG7 SCHNEIDER",1,"serv",424.8,424.8,0.1197,475.65]
[null,null,null,"17.73","Contator 50A 220V 3RT1036-1AN10 SIEMENS",1,"serv",812.28,812.28,0.1197,909.51]
[null,null,null,"17.74","Contator SCHNEIDER LC1-D40-11Q7 40A 380V",1,"serv",564.45000000000005,564.45000000000005,0.1197,632.01]
[null,null,null,"17.75","Contator TELEMECANIQUE LC1 E50 10M6 50A 220V ",1,"serv",344.13,344.13,0.1197,385.32]
[null,null,null,"17.76","Contator tripolar SCHNEIDER LC1D32F7 32A 1NA+1NF 110VCA",1,"serv",418.33,418.33,0.1197,468.4]
[null,null,null,"17.77","Contator tripolar SCHNEIDER TELEMECANIQUE LC1-D95-11-110V,  bobina 110V, lth 125A LC1D95F7",1,"serv",1438.24,1438.24,0.1197,1610.4]
[null,null,null,"17.78","Contator tripolar TELEMECANIQUE LC1D3210, bobina 110V, 230V 7,5KW 400V 15KW 500-690V 18,5KW Ith 50A LC1D3210",1,"serv",81.05,81.05,0.1197,90.75]
[null,null,null,"17.79","Contator tripolar WEG CWB32 32A 1NA+1NF 24Vca ",1,"serv",319.44,319.44,0.1197,357.68]
[null,null,null,"17.80","Contator WEG CWM25 25A 24V/60HZ CWM25-10-30V04 ",1,"serv",198.63,198.63,0.1197,222.41]
[null,null,null,"17.81","Contatora Auxiliar CAW04.22 (6A - AC11), 220V, 60 Hz, WEG",1,"serv",50.82,50.82,0.1197,56.9]
[null,null,null,"17.82","Diodo Zener 5v1 de 1watt",1,"serv",0.25,0.25,0.1197,0.28000000000000003]
[null,null,null,"17.83","Disjuntor 3P 250A 50KA EZC250N3250 - SCHNEIDER",1,"serv",1114.24,1114.24,0.1197,1247.6099999999999]
[null,null,null,"17.84","Disjuntor 3P 250A 50KA EZC250N3250 - SCHNEIDER",1,"serv",1114.24,1114.24,0.1197,1247.6099999999999]
[null,null,null,"17.85","Disjuntor monopolar curva C 2A ",1,"serv",46.59,46.59,0.1197,52.17]
[null,null,null,"17.86","Disjuntor monopolar de 10A ",1,"serv",11.02,11.02,0.1197,12.34]
[null,null,null,"17.87","Disjuntor monopolar de 16A ",1,"serv",10.64,10.64,0.1197,11.91]
[null,null,null,"17.88","Disjuntor Simens 06A 5SX1   106-7. ",1,"serv",36.82,36.82,0.1197,41.23]
[null,null,null,"17.89","Disjuntor TRIP.GV2ME32  24 / 32A ",1,"serv",774.09,774.09,0.1197,866.75]
[null,null,null,"17.90","Disjuntor TRIP.GV3P50  37 / 50A ",1,"serv",1289.67,1289.67,0.1197,1444.04]
[null,null,null,"17.91","Disjuntor TRIP.GVLE14  06 / 10A ",1,"serv",292.11,292.11,0.1197,327.08]
[null,null,null,"17.92","Disjuntor tripolar 32 A modelo GV2LE32, Fabricante SCHNEIDER",1,"serv",618.75,618.75,0.1197,692.81]
[null,null,null,"17.93","Disjuntor tripolar Siemens 6A 380V",1,"serv",149.77000000000001,149.77000000000001,0.1197,167.7]
[null,null,null,"17.94","Eletroduto flexível com alma de aço 1\"",1,"serv",13.01,13.01,0.1197,14.57]
[null,null,null,"17.95","Eletroduto flexível com alma de aço 1.1/2\"",1,"serv",24.1,24.1,0.1197,26.98]
[null,null,null,"17.96","Eletroduto flexível com alma de aço 1.1/4\"",1,"serv",18.96,18.96,0.1197,21.23]
[null,null,null,"17.97","Eletroduto flexível com alma de aço 1/2\"",1,"serv",7.07,7.07,0.1197,7.92]
[null,null,null,"17.98","Eletroduto flexível com alma de aço 2\"",1,"serv",32.94,32.94,0.1197,36.880000000000003]
[null,null,null,"17.99","Eletroduto flexível com alma de aço 3/4\"",1,"serv",9.41,9.41,0.1197,10.54]
[null,null,null,17100,"Eletroduto rígido em PVC 1\" (barra 3 metros)",1,"serv",12.35,12.35,0.1197,13.83]
[null,null,null,17101,"Eletroduto rígido em PVC 1.1/2\" (barra 3 metros)",1,"serv",23.51,23.51,0.1197,26.32]
[null,null,null,17102,"Eletroduto rígido em PVC 1.1/4\" (barra 3 metros)",1,"serv",15.33,15.33,0.1197,17.170000000000002]
[null,null,null,17103,"Eletroduto rígido em PVC 1/2\" (barra 3 metros)",1,"serv",6.82,6.82,0.1197,7.64]
[null,null,null,17104,"Eletroduto rígido em PVC 2\" (barra 3 metros)",1,"serv",33.39,33.39,0.1197,37.39]
[null,null,null,17105,"Eletroduto rígido em PVC 2.1/2\" (barra 3 metros)",1,"serv",69.33,69.33,0.1197,77.63]
[null,null,null,17106,"Eletroduto rígido em PVC 3\" (barra 3 metros)",1,"serv",87.9,87.9,0.1197,98.42]
[null,null,null,17107,"Eletroduto rígido em PVC 3/4\" (barra 3 metros)",1,"serv",8.48,8.48,0.1197,9.5]
[null,null,null,17108,"Eletroduto rígido em PVC 4\" (barra 3 metros)",1,"serv",102.41,102.41,0.1197,114.67]
[null,null,null,17109,"Fusível de vidro 6,3x32 mm 15A retardado 500V",1,"serv",1.4,1.4,0.1197,1.57]
[null,null,null,17110,"Inversor de frequência para motor trifásico de 10 CV, WEG CFW08",1,"serv",4456.13,4456.13,0.1197,4989.53]
[null,null,null,17111,"Inversor de frequência para motor trifásico de 125 CV, WEG CFW",1,"serv",34171.120000000003,34171.120000000003,0.1197,38261.4]
[null,null,null,17112,"Inversor de frequência para motor trifásico de 15 CV, WEG CFW08",1,"serv",5645.06,5645.06,0.1197,6320.77]
[null,null,null,17113,"Inversor de frequência para motor trifásico de 20 CV, WEG CFW08",1,"serv",7511.75,7511.75,0.1197,8410.91]
[null,null,null,17114,"Inversor de frequência para motor trifásico de 25 CV, WEG CFW",1,"serv",9248.34,9248.34,0.1197,10355.370000000001]
[null,null,null,17115,"Inversor de frequência para motor trifásico de 30 CV, WEG CFW08",1,"serv",12130.93,12130.93,0.1197,13583]
[null,null,null,17116,"Inversor de frequência para motor trifásico de 40 CV, WEG CFW08",1,"serv",15782.72,15782.72,0.1197,17671.91]
[null,null,null,17117,"Inversor de frequência para motor trifásico de 5 CV, WEG CFW08",1,"serv",3514.55,3514.55,0.1197,3935.24]
[null,null,null,17118,"Inversor de frequência para motor trifásico de 50 CV, WEG CFW08",1,"serv",22385.66,22385.66,0.1197,25065.22]
[null,null,null,17119,"Inversor de frequência para motor trifásico de 60 CV, WEG CFW",1,"serv",17765.88,17765.88,0.1197,19892.46]
[null,null,null,17120,"Inversor de frequência para motor trifásico de 7,5 CV, WEG CFW08",1,"serv",4046.12,4046.12,0.1197,4530.4399999999996]
[null,null,null,17121,"Jogo de contatos de força para contator SIEMENS 3RT1036",1,"serv",197.42,197.42,0.1197,221.05]
[null,null,null,17122,"Kit chave boía de nível superior e inferior de 15 A",1,"serv",292.95,292.95,0.1197,328.02]
[null,null,null,17123,"Kit resistência cárter 125 W, 120 V, 06 D (imersão em L), marca CARRIER",1,"serv",197.96,197.96,0.1197,221.66]
[null,null,null,17124,"Kit resistência cárter 450 W, 120 V, marca YORK",1,"serv",572.67999999999995,572.67999999999995,0.1197,641.23]
[null,null,null,17125,"Lâmpada LED T8 36 W 240 cm bivolt",1,"serv",56.94,56.94,0.1197,63.76]
[null,null,null,17126,"Luminária de sobrepor hermética 2x32/36/40 ",1,"serv",153.97999999999999,153.97999999999999,0.1197,172.41]
[null,null,null,17127,"Microswitches SWITERM M221",1,"serv",22.98,22.98,0.1197,25.73]
[null,null,null,17128,"Módulo dimmer 500w 220 v PLUS PIAL LEGRAND",1,"serv",101.44,101.44,0.1197,113.58]
[null,null,null,17129,"Módulo FUJI 7MBR35UA120 = (BSM35GP120) ",1,"serv",480.24,{"$f":"F1584*H1584","v":480.24},0.1197,{"$f":"ROUND(I1584*(1+J1584),2)","v":537.72}]
[null,null,null,17130,"Módulo IGBT EUPEC BSM35GP120 ",1,"serv",443.76,443.76,{"$f":"J1584","v":0.1197},496.88]
[null,null,null,17131,"Reator eletrônico 2X32W 127/220V AFP EB232A16/26P PHILIPS",1,"serv",29.85,29.85,0.1197,33.42]
[null,null,null,17132,"Rele de tensão trifásico RTT 22 440 Vca ALTRONIC",1,"serv",330.93,330.93,0.1197,370.54]
[null,null,null,17133,"Relé eletromecânico SCHNEIDER RPF2BP7, 2NANF, 30 A, 230 Vca",1,"serv",37.15,37.15,0.1197,41.6]
[null,null,null,17134,"Rele falta de fase trifásico COEL BVF 208/480 Vca",1,"serv",134.85,134.85,0.1197,150.99]
[null,null,null,17135,"Relé temporizador 0,1 a 30 segundos, 660 V, 18 A,TELEMECANIQUE ",1,"serv",253.7,253.7,0.1197,284.07]
[null,null,null,17136,"Relé temporizador eletrônico 24 VCC 24-240 VCA, SCHNEIDER RE17RAMU",1,"serv",145.13,145.13,0.1197,162.5]
[null,null,null,17137,"Relé térmico de sobrecarga WEG 10 A a 15 A RW27D",1,"serv",101.73,101.73,0.1197,113.91]
[null,null,null,17138,"Relé térmico de sobrecarga WEG 7 A a 10 A RW27D",1,"serv",184.43,184.43,0.1197,206.51]
[null,null,null,17139,"Relé térmico SIEMENS 3UA42-00-7AV, 25 A a 40 A",1,"serv",221.98,221.98,0.1197,248.55]
[null,null,null,17140,"Relé térmico SIEMENS 3UA52, 2,5 A a 4 A",1,"serv",160.83000000000001,160.83000000000001,0.1197,180.08]
[null,null,null,17141,"Relé térmico TELEMECANIQUE 23 A a 32 A, LR1-D40353",1,"serv",326.58999999999997,326.58999999999997,0.1197,365.68]
[null,null,null,17142,"Relé térmico TELEMECANIQUE 38 A a 50 A, LR1-D63357",1,"serv",490.82,490.82,0.1197,549.57000000000005]
[null,null,null,17143,"Relé térmico trifásico SIEMENS 3US50, ajuste de 4 a 8 A",1,"serv",113.06,113.06,0.1197,126.59]
[null,null,null,17144,"Resistência elétrica de imersão, conexão 2\", 12000 watts, 380v",1,"serv",319.24,319.24,0.1197,357.45]
[null,null,null,17145,"Resistência elétrica de imersão, conexão 2\", 1500 watts, 380v",1,"serv",272.41000000000003,272.41000000000003,0.1197,305.02]
[null,null,null,17146,"Resistência elétrica de imersão, conexão 2.1/2\", 9000 watts, 380v",1,"serv",360.64,360.64,0.1197,403.81]
[null,null,null,17147,"Temporizador COEL AEG 94/242 Vca",1,"serv",122.1,122.1,0.1197,136.72]
[null,null,null,17148,"Terminal pré-isolado garfo azul bitola do cabo 1,5 até 2,5 mm, pacote com 100 pçs",1,"serv",0.25,0.25,0.1197,0.28000000000000003]
[null,null,null,17149,"Trilho suporte para contator de 2 metros, CEMAR TSG25MM",1,"serv",29.59,29.59,0.1197,33.130000000000003]
[null,null,null,17150,"Cabo de rede CAT5e FURUKAWA ou similar – bobina 305 metros",1,"serv",595.96,595.96,0.1197,667.3]
[null,null,null,17151,"Quadro distribuição elétrico: 12 Modulos; construídos em material termoplástico; Grau de proteção IP-65. Mod. Ref. SIMBOX WP - SIEMENS 8GB1 371-2; steck modelo QUA0112.",1,"serv",648.07000000000005,648.07000000000005,0.1197,725.64]
[null,null,null,17152,"Cabo PP flexível 3 x 4,0 mm² 450/750 V",1,"serv",10.38,10.38,0.1197,11.62]
[null,null,null,17153,"Prensa Cabo S799CPTI - steck ou similar",1,"serv",3.95,3.95,0.1197,4.42]
[null,null,null,17154,"Dispositivo Residual DR tipo AC - 30mA - 25A",1,"serv",200.92,200.92,0.1197,224.97]
[null,null,null,17155,"Terminal Conector tipo pino 4mm² pacote com 100 unidades",1,"serv",60.95,60.95,0.1197,68.25]
[null,null,null,17156,"Terminal Conector tipo pino 2,5mm² pacote com 100 unidades",1,"serv",45.75,45.75,0.1197,51.23]
[null,null,null,17157,"Barramento Fase DIN 80A - 12 polos - Tripolar - 210mm",1,"serv",34.549999999999997,34.549999999999997,0.1197,38.69]
[null,null,null,17158,"Plug 2p+T femea",1,"serv",21.79,21.79,0.1197,24.4]
[null,null,null,17159,"Plug 2p+T macho",1,"serv",18.100000000000001,18.100000000000001,0.1197,20.27]
[null,null,null,17160,"Eletroduto rígido em aço galvanizado 1\" (barra 3 metros)",1,"serv",92.22,92.22,0.1197,103.26]
[null,null,null,17161,"Eletroduto rígido em aço galvanizado 1.1/2\" (barra 3 metros)",1,"serv",170.16,170.16,0.1197,190.53]
[null,null,null,17162,"Eletroduto rígido em aço galvanizado 1.1/4\" (barra 3 metros)",1,"serv",153.27000000000001,153.27000000000001,0.1197,171.62]
[null,null,null,17163,"Eletroduto rígido em aço galvanizado 1/2\" (barra 3 metros)",1,"serv",66.959999999999994,66.959999999999994,0.1197,74.98]
[null,null,null,17164,"Eletroduto rígido em aço galvanizado 2\" (barra 3 metros)",1,"serv",184.95,184.95,0.1197,207.09]
[null,null,null,17165,"Eletroduto rígido em aço galvanizado 2.1/2\" (barra 3 metros)",1,"serv",206.01,206.01,0.1197,230.67]
[null,null,null,17166,"Eletroduto rígido em aço galvanizado 3\" (barra 3 metros)",1,"serv",308.7,308.7,0.1197,345.65]
[null,null,null,17167,"Eletroduto rígido em aço galvanizado 3/4\" (barra 3 metros)",1,"serv",103.17,103.17,0.1197,115.52]
[null,null,null,17168,"Eletroduto rígido em aço galvanizado 4\" (barra 3 metros)",1,"serv",381.6,381.6,0.1197,427.28]
[null,null,null,17169,"Suporte para barramento de 12 8GB2 052-1",1,"serv",4.3099999999999996,4.3099999999999996,0.1197,4.83]
[null,null,null,20,"SERVIÇOS DE MANUTENÇÃO CORRETIVA DE ELÉTRICA PARA EQUIPAMENTOS DE REFRIGERAÇÃO, AQUECIMENTO, AR COMPRIMIDO E GLP,  incluindo a aplicação dos seguintes insumos (*Ver. Obs. 1)"]
[null,null,null,"15.1","Bandeja coletora de água para refrigerador Consul modelo Cra30abana",1,"serv",70.41,{"$f":"F1626*H1626","v":70.41},{"$f":"J1624","v":0.1197},{"$f":"ROUND(I1626*(1+J1626),2)","v":78.84}]
[null,null,null,"15.2","Chicote flexível de 50 cm, 7/8\"(E) X 7/16\" NS, JACKWAL/2351",1,"serv",51.86,51.86,{"$f":"J1626","v":0.1197},58.07]
[null,null,null,"15.3","Chicote flexível p45 7/8x1/8 NPTM 50 CM 002352 ",1,"serv",23.11,23.11,0.1197,25.88]
[null,null,null,"15.4","Compressor EMBRACO 1/10 HP - R-134 220V ",1,"serv",348.26,348.26,0.1197,389.95]
[null,null,null,"15.5","Compressor EMBRACO 1/2 HP - R-134 220V ",1,"serv",422.75,422.75,0.1197,473.35]
[null,null,null,"15.6","Compressor EMBRACO 1/3 HP - R-134 220V ",1,"serv",460.83,460.83,0.1197,515.99]
[null,null,null,"15.7","Compressor EMBRACO 1/4 HP - R-134 220V ",1,"serv",442.08,442.08,0.1197,495]
[null,null,null,"15.8","Compressor EMBRACO 1/5 HP - R-134 220V ",1,"serv",442.61,442.61,0.1197,495.59]
[null,null,null,"15.9","Compressor EMBRACO 1/6 HP - R-134 220V ",1,"serv",408.47,408.47,0.1197,457.36]
[null,null,null,"15.10","Compressor EMBRACO 1/6 HP - R-134 220V ",1,"serv",408.47,408.47,0.1197,457.36]
[null,null,null,"15.11","Compressor EMBRACO 1/6 HP - R-134 220V ",1,"serv",408.47,408.47,0.1197,457.36]
[null,null,null,"15.12","Compressor EMBRACO 1/8 HP - R-134 220V ",1,"serv",357.96,357.96,0.1197,400.81]
[null,null,null,"15.13","Filtro secador 3/4\" x 1/4\" x 100 mm ROBERTSHAW",1,"serv",10.039999999999999,10.039999999999999,0.1197,11.24]
[null,null,null,"15.14","Gaxeta cinza para frigobar - WHIRLPOOL, modelo GAX4LMAG780X429CZPA",1,"serv",56.4,56.4,0.1197,63.15]
[null,null,null,"15.15","Gaxeta para geladeira CONSUL 240 e 280 litros, 44 cm x 138 cm",1,"serv",53.98,53.98,0.1197,60.44]
[null,null,null,"15.16","Kit de instalação para gás de botijão BRASTEMP W10866790",1,"serv",151.46,151.46,0.1197,169.59]
[null,null,null,"15.17","Kit instalação para fogão a gás, com registro e válvula JACKWAL",1,"serv",178.44,178.44,0.1197,199.8]
[null,null,null,"15.18","Lâmpada para refrigerador 15W 220v",1,"serv",8.43,8.43,0.1197,9.44]
[null,null,null,"15.19","Mangueira cristal trançada VPT 250 1/2\" VONDER, bobina de 50 metros",1,"serv",158.94,158.94,0.1197,177.97]
[null,null,null,"15.20","Mangueira cristal trançada VPT 250 1/4\" VONDER, bobina de 50 metros",1,"serv",169.38,169.38,0.1197,189.65]
[null,null,null,"15.21","Mangueira cristal trançada VPT 250 3/4\" VONDER, bobina de 50 metros",1,"serv",460.09,460.09,0.1197,515.16]
[null,null,null,"15.22","Mangueira cristal trançada VPT 250 3/8\" VONDER, bobina de 50 metros",1,"serv",212.92,212.92,0.1197,238.41]
[null,null,null,"15.23","Mangueira cristal trançada VPT 250 5/16\" VONDER, bobina de 50 metros",1,"serv",216.48,216.48,0.1197,242.39]
[null,null,null,"15.24","Mangueira flexível 3/8 AI 1/2 IXE 1,5 mt 002544 JACKWALL",1,"serv",145.94999999999999,145.94999999999999,0.1197,163.41999999999999]
[null,null,null,"15.25","Mangueira flexível 3/8 AI 1/2 IXE 2,0 mt 002545 JACKWALL",1,"serv",152.04,152.04,0.1197,170.24]
[null,null,null,"15.26","Mangueira flexível para gás 1/2\" 100cm JACKWAL",1,"serv",144.38999999999999,144.38999999999999,0.1197,161.66999999999999]
[null,null,null,"15.27","Motor ventilador do congelador CONSUL modelo CRM 37ABBNA",1,"serv",99.97,99.97,0.1197,111.94]
[null,null,null,"15.28","Placa eletrônica para refrigerador Electrolux ",1,"serv",230.12,230.12,0.1197,257.67]
[null,null,null,"15.29","Plug de bronze 1/2\" ",1,"serv",11.49,11.49,0.1197,12.87]
[null,null,null,"15.30","Purgador 1/4\" NPT com pino para ar comprimido",1,"serv",14.35,14.35,0.1197,16.07]
[null,null,null,"15.31","Registro de esfera 90° 1/2\" x 1/2\" JACKWAL",1,"serv",45.75,45.75,0.1197,51.23]
[null,null,null,"15.32","Regulador de gás ALIANÇA INDUSTRIAL, modelo 76511 ",1,"serv",119.56,119.56,0.1197,133.87]
[null,null,null,"15.33","Terminal 1/2\" x 3/8\" Latão JACKWAL",1,"serv",13.72,13.72,0.1197,15.36]
[null,null,null,"15.34","Terminal 3/8\" x 3/8\" JACKWAL",1,"serv",10.199999999999999,10.199999999999999,0.1197,11.42]
[null,null,null,"15.35","Aquecedor de Passagem de gás GLP Modelo REU 2802 FEH.",1,"serv",5820.91,5820.91,0.1197,6517.67]
[null,null,null,"15.36","Regulador FRG-45B A/P",1,"serv",349.64,349.64,0.1197,391.49]
[null,null,null,21,"SERVIÇOS DE MANUTENÇÃO CORRETIVA PARA DEMAIS TIPOS DE EQUIPAMENTOS ELETROMECÂNICOS,  incluindo a aplicação dos seguintes insumos (*Ver. Obs. 1)"]
[null,null,null,"24.1","Laços indutivos para cancela, unidade",1,"serv",179.95,{"$f":"F1663*H1663","v":179.95},{"$f":"J1661","v":0.1197},{"$f":"ROUND(I1663*(1+J1663),2)","v":201.49}]
[null,null,null,"24.2","Barra chaveta 1/8 X 1/8 X 500MM",1,"serv",20,20,{"$f":"J1663","v":0.1197},22.39]
[null,null,null,"24.3","Acionador ROSSI PIVO PISTÃO PP PLI ALETADO 500 220 VAC/60 Hz",1,"serv",999.7,999.7,0.1197,1119.3599999999999]
[null,null,null,"24.4","Perfil de alumímio retangular vazado com 7,5 mm x 3,8 mm, 6 m de comprimento",1,"serv",255,255,0.1197,285.52]
[null,null,null,"24.5","Central para laço indutivo referência: garen/ ga-132li; citrox/ central 1 laço",1,"serv",330,330,0.1197,369.5]
[null,null,null,"24.6","Central de comando trifásica industrial referência: peccinin/ cp4030; mkn/ robusta contatora",1,"serv",479.04,479.04,0.1197,536.38]
[null,null,null,"24.7","Chave fim de curso metaltex fm-1703",1,"serv",33.119999999999997,33.119999999999997,0.1197,37.08]
[null,null,null,"24.8","Botão de comando pulsante metaltex m20afr-b-1a",1,"serv",15.08,15.08,0.1197,16.89]
[null,null,null,"24.9","Chave alavanca três posições metaltex kn3b-203a",1,"serv",20.6,20.6,0.1197,23.07]
[null,null,null,"24.10","Motor elétrico bosch f 006 wm0 310",1,"serv",340.08,340.08,0.1197,380.79]
[null,null,null,"24.11","Fita protocolador henry prot",1,"serv",17.8,17.8,0.1197,19.93]
[null,null,null,"24.12","Rodízio giratório de 6 polegadas c/ núcleo em ferro fundido c/ capacidade mínima de 400 kg referência: schioppa gs62pe",1,"serv",181.79,181.79,0.1197,203.55]
[null,null,null,"24.13","Rodízio fixo de 6 polegadas c/ núcleo em ferro fundido c/ capacidade mínima de 400 kg referência: schioppa fs62pe",1,"serv",160.75,160.75,0.1197,179.99]
[null,null,null,"24.14","Rodízio giratório 4 polegadas c/ espiga roscada referência: schioppa gler 412 bpe",1,"serv",39.270000000000003,39.270000000000003,0.1197,43.97]
[null,null,null,"24.15","Roda 6 polegadas c/ rolamento e calota referência: rodcar r 612 bpkc",1,"serv",61.03,61.03,0.1197,68.34]
[null,null,null,"24.16","Roda pneumática de carrinho de carga armazém 350x8",1,"serv",156,156,0.1197,174.67]
[null,null,null,"24.17","Câmara de ar para carrinho de carga 350x8",1,"serv",19.11,19.11,0.1197,21.4]
[null,null,null,22,"SERVIÇOS DE MANUTENÇÃO CORRETIVA PARA SISTEMAS DE AUTOMAÇÃO E CONTROLE,  incluindo a aplicação dos seguintes insumos (*Ver. Obs. 1)"]
[null,null,null,"25.1","Gerenciador Automation Server - CPU, modelo SXWASPSBX10002",1,"serv",13565.07,{"$f":"F1681*H1681","v":13565.07},{"$f":"J1679","v":0.1197},{"$f":"ROUND(I1681*(1+J1681),2)","v":15188.81}]
[null,null,null,"25.2","Base conexão gerenciador, SXWTBASW110002",1,"serv",2466.5,2466.5,{"$f":"J1681","v":0.1197},2761.74]
[null,null,null,"25.3","Fonte Alimentação Automation Server, SXWPS24VX10001",1,"serv",4121.1899999999996,4121.1899999999996,0.1197,4614.5]
[null,null,null,"25.4","Base conexão fonte, SXWTBPSW110001",1,"serv",2488.58,2488.58,0.1197,2786.46]
[null,null,null,"25.5","Firmware AS para 100 devices, SXWSWXBU0000EN",1,"serv",27678.17,27678.17,0.1197,30991.25]
[null,null,null,"25.6","Licença Modbus, SXWSWX000MBRTU",1,"serv",2870.69,2870.69,0.1197,3214.31]
[null,null,null,"25.7","Controlador IP MPC-36, SXWMPC36A10001",1,"serv",17256.900000000001,17256.900000000001,0.1197,19322.55]
[null,null,null,"25.8","Sensor de temperatura e umidade, SLASXX2",1,"serv",2582.73,2582.73,0.1197,2891.88]
[null,null,null,"25.9","Sensor de pressão diferencial, EPU305",1,"serv",2893.79,2893.79,0.1197,3240.18]
[null,null,null,"25.10","Firmware AS para 25 devices, SXWSWXBU0000SD",1,"serv",15376.32,15376.32,0.1197,17216.87]
[null,null,null,"25.11","Controlador Lógico Programável Haiwell/T24S2R-e ",1,"serv",1743.01,1743.01,0.1197,1951.65]
[null,null,null,"25.12","Controlador Lógico Programável DELTA/AS 228P-A + Fonte PS02A",1,"serv",4255.3900000000003,4255.3900000000003,0.1197,4764.76]
[null,null,null,"25.13","Módulo Digital de Expansão para Controlador Lógico Programável Haiwell/H24DI",1,"serv",974.17,974.17,0.1197,1090.78]
[null,null,null,"25.14","Módulo Digital de Expansão para Controlador Lógico Programável DELTA /AS16AM10N-A",1,"serv",1127.24,1127.24,0.1197,1262.17]
[null,null,null,"25.15","Relé de interface SLIM 220VCA Finder/série 38.51.0.240.0060; Metaltex/linha PRZ-1R-220; Novus/Nio-1R-230VAD",1,"serv",102.78,102.78,0.1197,115.08]
[null,null,null,"25.16","Multimedidor de grandezas elétricas SCHNEIDER ELETRIC/ PM5340",1,"serv",5071.53,5071.53,0.1197,5678.59]
[null,null,null,"25.17","Multimedidor de grandezas elétricas DELTA/ DPM-C530",1,"serv",2537.13,2537.13,0.1197,2840.82]
[null,null,null,"25.18","Multimedidor eletrônico, trifásico, para instalação em trilho DIN, ABB/ B23 - PRATA;  SCHNEIDER ELECTRIC/ IEM 3155; Siemens PAC1600 7kT1665",1,"serv",2580.5700000000002,2580.5700000000002,0.1197,2889.46]
[null,null,null,"25.19","Módulo E/S remoto com ao menos 8 entradas digitais compatíveis, Haiwell/H16DI; Alfacomp/IM0080",1,"serv",1022.48,1022.48,0.1197,1144.8699999999999]
[null,null,null,"25.20","Chave seletora em material plástico com 2 posições (I,II), SCHNEIDER ELECTRIC/ HARMONY XB5AD23",1,"serv",141.34,141.34,0.1197,158.26]
[null,null,null,"25.21","Chave seletora em material plástico com 2 posições (0, I), WEG/ Frontal CSW-CK2F45W WH + AF3F + 1 contatos BC10F-CSW",1,"serv",98.54,98.54,0.1197,110.34]
[null,null,null,"25.22","Fonte de alimentação chaveada com tensão de saída 24V, MEAN WELL/MDR-20-24",1,"serv",231.64,231.64,0.1197,259.37]
[null,null,null,"25.23","Cabo blindado tipo modbus - 2P #22 AWG, metro",1,"serv",6.93,6.93,0.1197,7.76]
[null,null,null,"25.24","Cabo para controle com 4 condutores 0,5 mm², metro",1,"serv",4.84,4.84,0.1197,5.42]
[null,null,null,"25.25","Cabo para controle com 8 condutores 0,5 mm², metro",1,"serv",6.85,6.85,0.1197,7.67]
[null,null,null,"25.26","Cabo para controle com 16 condutores 0,5 mm², metro",1,"serv",14.85,14.85,0.1197,16.63]
[null,null,null,"25.27","Relé de interface SLIM 24VCC, Finder/série 38.51.0.024.0060; Metaltex/linha PRZ -1R-24; Novus/NIO Nio - 1R - 24VAD",1,"serv",101.65,101.65,0.1197,113.82]
[null,null,null,"25.28","Relé de interface SLIM 12VCC, Finder/série 38.51.0.012.0060; Metaltex/linha PRZ -1R-12; Novus/NIO Nio - 1R - 12VAD",1,"serv",70.94,70.94,0.1197,79.430000000000007]
[null,null,null,"25.29","Transmissor de pressão, VELKI/ VKP-011-A-07-05-34N",1,"serv",996.88,996.88,0.1197,1116.21]
[null,null,null,"25.30","Sonda de nível tipo hidrostático, MEGA/MGG-TNH-SUB",1,"serv",743.93,743.93,0.1197,832.98]
[null,null,null,"25.31","Módulo Analógico de Expansão para Controlador Lógico Programável, Haiwell/S04AI",1,"serv",1230.1099999999999,1230.1099999999999,0.1197,1377.35]
[null,null,null,"25.32","Módulo Analógico de Expansão para Controlador Lógico Programável, DELTA /AS04DA-A.",1,"serv",1585.37,1585.37,0.1197,1775.14]
[null,null,null,"25.33","Interface homem-máquina (IHM) para controlador lógico programável, Haiwell/ IHM C10.",1,"serv",3739.16,3739.16,0.1197,4186.74]
[null,null,null,"25.34","Relé programável para instalação em trilho DIN (35 mm), WEG/ CLW02 20VR-D; METALTEX/NEXOS NEX14-DR + + módulo de expansão NEX16E-DR",1,"serv",2026.69,2026.69,0.1197,2269.2800000000002]
[null,null,null,"25.35","Placa microcontroladora, Arduino/Mega 2560 R3",1,"serv",175.1,175.1,0.1197,196.06]
[null,null,null,"25.36","Módulo ETHERNET para placa microcontroladora, Ethernet Shield W5100",1,"serv",133.24,133.24,0.1197,149.19]
[null,null,null,"25.37","Módulo de comunicação RS 485, LC Electronics / CDT-11.",1,"serv",7.87,7.87,0.1197,8.81]
[null,null,null,"25.38","Módulo para leitura de temperatura e umidade, Módulo DTH22",1,"serv",34.5,34.5,0.1197,38.630000000000003]
[null,null,null,"25.39","Módulo para leitura de temperatura e umidade, Módulo DTH11",1,"serv",18.86,18.86,0.1197,21.12]
[null,null,null,23,"SERVIÇOS DE MANUTENÇÃO CORRETIVA PARA SISTEMAS DE DETECÇÃO E ALARME DE INCÊNDIO,  incluindo a aplicação dos seguintes insumos (*Ver. Obs. 1)"]
[null,null,null,"26.1","Acionador manual tipo “quebre o vidro” endereçável, para alarme de incêndio, compatível com a central de alarme GlobalFire Junonet.",1,"serv",236.02,{"$f":"F1721*H1721","v":236.02},{"$f":"J1719","v":0.1197},{"$f":"ROUND(I1721*(1+J1721),2)","v":264.27}]
[null,null,null,"26.2","Acionador manual tipo “quebre o vidro” convencional, para alarme de incêndio.",1,"serv",61.923333333333325,61.923333333333325,{"$f":"J1721","v":0.1197},69.34]
[null,null,null,"26.3","Bico de aspiração para forro para detector de aspiração VESDA, ref. E700 SP",1,"serv",154.37,154.37,0.1197,172.85]
[null,null,null,"26.4","Cartão de 03 laços para central de alarme Global Fire Trident-Juno-Net, ref. 03 L TRI/ML-NET",1,"serv",7005.56,7005.56,0.1197,7844.13]
[null,null,null,"26.5","Chave para acionador manual tipo FLAP I, ref. CHAVE AM I",1,"serv",28,28,0.1197,31.35]
[null,null,null,"26.6","Controlador de sirene Global Fire, ref. LSCM1.",1,"serv",444.19,444.19,0.1197,497.36]
[null,null,null,"26.7","Base para detector óptico de fumaça marca Apolo",1,"serv",31.88,31.88,0.1197,35.700000000000003]
[null,null,null,"26.8","Base isoladora para detectores de fumaça marca Apolo",1,"serv",195.89,195.89,0.1197,219.34]
[null,null,null,"26.9","Detector de temperatura Apolo  XP95, ref. DTC 55450",1,"serv",266.48,266.48,0.1197,298.38]
[null,null,null,"26.10","Detector de temperatura Apolo XPLORER, ref. DTC 59455",1,"serv",266.48,266.48,0.1197,298.38]
[null,null,null,"26.11","Detector ótico de fumaça Apolo  XP95, ref. DOT 55650",1,"serv",266.48,266.48,0.1197,298.38]
[null,null,null,"26.12","Detector ótico de fumaça Apolo XPLORER, ref. DOT 59655",1,"serv",266.48,266.48,0.1197,298.38]
[null,null,null,"26.13","Filtro para central de aspiração VESDA, ref. VSP - 005",1,"serv",1077.5900000000001,1077.5900000000001,0.1197,1206.58]
[null,null,null,"26.14","Flap para acionador manual de alarme FLAP I, ref.  FLAP P/ AM I ",1,"serv",51.51,51.51,0.1197,57.68]
[null,null,null,"26.15","Fonte de alimentação 24V cc 1,7 Amperes, ref. PSU 1,7 A",1,"serv",394.49,394.49,0.1197,441.71]
[null,null,null,"26.16","Fonte de alimentação 24V cc  2,4 Amperes ref. PSU 2,4 A",1,"serv",791.52,791.52,0.1197,886.26]
[null,null,null,"26.17","Fonte de alimentação 24V cc 5,0 Amperes, ref. PSU 5,0 A",1,"serv",1832.39,1832.39,0.1197,2051.73]
[null,null,null,"26.18","Fonte de alimentação 24V cc 7,5 Amperes, ref. PSU 7,5 A",1,"serv",2931.71,2931.71,0.1197,3282.64]
[null,null,null,"26.19","Fonte de alimentação 24V 5A tipo NOBREAK com saída para carga de bateria",1,"serv",3592.32,3592.32,0.1197,4022.32]
[null,null,null,"26.20","Fonte de alimentação para central de alarme GFE",1,"serv",765,765,0.1197,856.57]
[null,null,null,"26.21","Sirene audio visual - com XENON ( 2 tons ), ref. FLASHNI marca de ref. Fulleon technology.",1,"serv",472.67,472.67,0.1197,529.25]
[null,null,null,"26.23","Indicador luminoso, com LEDs, ref. IVI II -XB 24- LED",1,"serv",109.59,109.59,{"$f":"J1741","v":0.1197},122.71]
[null,null,null,"26.24","Indicador luminoso, flash, lamp xenon, ref.  IVI II -XB 24",1,"serv",379.67,379.67,0.1197,425.12]
[null,null,null,"26.25","Unidade Input / Output XP95, marca de ref Apolo",1,"serv",1193.1400000000001,1193.1400000000001,0.1197,1335.96]
[null,null,null,"26.26","Unidade Input/Output endereçável , marca de ref. Global Fire GFE",1,"serv",336.05,336.05,0.1197,376.28]
[null,null,null,"26.27","Interface -ADV-COMS-TCP-IP, ref. ADV-COMS-TCP-IP",1,"serv",4243.28,4243.28,0.1197,4751.2]
[null,null,null,"26.28","Interface painel --- repetidor-RS 485, ref.  J-NET-INT-485-REP",1,"serv",4374.9449999999997,4374.9449999999997,0.1197,4898.63]
[null,null,null,"26.29","Interface painel --- sub painel-RS 485, ref.  J-NET-INT-485",1,"serv",5692.02,5692.02,0.1197,6373.35]
[null,null,null,"26.30","Interface para fibra ótica, ref. J-NET-INT-FO",1,"serv",2091.145,2091.145,0.1197,2341.46]
[null,null,null,"26.31","Interface-ADV-COMS-FO, ref. J-NET marca de ref. Global Fire",1,"serv",2636.2,2636.2,0.1197,2951.75]
[null,null,null,"26.32","Interface-ADV-COMS-RS 485, ref. J-NET marca de ref. Global fire",1,"serv",846.1,846.1,0.1197,947.38]
[null,null,null,"26.33","Interface/ Data Loop TCP-IP, ref. J-NET-INT-TCP-IP  marca de ref. GFE",1,"serv",4090.19,4090.19,0.1197,4579.79]
[null,null,null,"26.34","Isolador XPLORER, ref. ISO 59700, marca de ref. Apolo",1,"serv",274.8966666666667,274.8966666666667,0.1197,307.8]
[null,null,null,"26.35","Juno Net SIM CARD (TODOS), ref. SIM CARD para central de alarme GFE marca ref. Global Fire",1,"serv",190.04,190.04,0.1197,212.79]
[null,null,null,"26.36","Mini Switch Monitor XP 95, ref. MMSU 55833 marca de ref. Apolo",1,"serv",530.68000000000006,530.68000000000006,0.1197,594.20000000000005]
[null,null,null,"26.37","Placa 08 saídas relé, s/supervisão p/ net e junior , ref. J-NET-MPX-REL",1,"serv",499,499,0.1197,558.73]
[null,null,null,"26.39","Retentor magnético convencional 24V para porta corta fogo",1,"serv",523.74,523.74,{"$f":"J1756","v":0.1197},586.42999999999995]
[null,null,null,"26.40","Detector Multisensor série XP95 Apolo",1,"serv",1111.48,1111.48,0.1197,1244.52]
[null,null,null,"26.41","Placa endereçável para sirene convencional",1,"serv",160,160,0.1197,179.15]
[null,null,null,"26.42","Detector termovelocimétrico ZEOS da GFE",1,"serv",261.18,261.18,0.1197,292.44]
[null,null,null,"26.43","Detector de fumaça endereçável ZEOS da GFE",1,"serv",259.45999999999998,259.45999999999998,0.1197,290.52]
[null,null,null,"26.44","Placa de conexão (conector board), ref.  J-NET-COM",1,"serv",2043.32,2043.32,0.1197,2287.91]
[null,null,null,"26.45","Placa Loop Conector,ref.  J-NET-LP-COM",1,"serv",729.78,729.78,0.1197,817.13]
[null,null,null,"26.46","SIMM CARD J-NET para central Global Fire",1,"serv",238.42,238.42,0.1197,266.95999999999998]
[null,null,null,"26.47","Sirene Convencional Vulcan c/ 04 tons, ref. VULCAN - CONV",1,"serv",246.03,246.03,0.1197,275.48]
[null,null,null,"26.48","Sirene eletrônica 06 tons 105 db/mt, ref. ROSHNI-SRV /EZA/06",1,"serv",324.95,324.95,0.1197,363.85]
[null,null,null,"26.49","Sirene Endereçável Vulcan, ref. VULCAN - END",1,"serv",383.89,383.89,0.1197,429.84]
[null,null,null,"26.50","Sub-Painel -Trid-Juno-Net -c/ 01 laço (só placas), ref. J-NET-SP-001-AS",1,"serv",4563.0200000000004,4563.0200000000004,0.1197,5109.21]
[null,null,null,"26.52","Sub-Painel -Trid-Juno-Net -c/ 03 laços(só placas), ref.  J-NET-SP-003-AS",1,"serv",7356.62,7356.62,{"$f":"J1768","v":0.1197},8237.2099999999991]
[null,null,null,"26.54","Sub-Painel com 01 laço p/ JN 2,4,5,7,8,10,13 L , ref. J-NET-COM-SP01",1,"serv",4562.7700000000004,4562.7700000000004,{"$f":"J1769","v":0.1197},5108.93]
[null,null,null,"26.56","Sensor Reed switch",1,"serv",3.9933333333333336,3.9933333333333336,{"$f":"J1770","v":0.1197},4.47]
[null,null,null,"26.57","Lâmpada de sinalização para quadros elétricos",1,"serv",13.925000000000001,13.925000000000001,0.1197,15.59]
[null,null,null,"26.58","Bateria selada recarregável 12V 7Ah",1,"serv",160.1,160.1,0.1197,179.26]
[null,null,null,"26.59","Bateria selada recarregável 12V 9Ah",1,"serv",172.16666666666666,172.16666666666666,0.1197,192.78]
[null,null,null,"26.60","Bico de sprinkler ½”",1,"serv",33.36,33.36,0.1197,37.35]
[null,null,null,"26.61","Vidro para reposição de acionadores manuais",1,"serv",9.31,9.31,0.1197,10.42]
[null,null,null,"26.62","Manômetro com escala 1 a 10Kg/cm2",1,"serv",120.5,120.5,0.1197,134.91999999999999]
[null,null,null,"26.63","Eletroduto metálico flexível ¾” revestido em PCV cor  vermelha ou cinza.",1,"serv",8.76,8.76,0.1197,9.81]
[null,null,null,"26.64","Eletroduto de seção circular de aço carbono galvanizado a fogo, ¾”",1,"serv",90.84666666666665,90.84666666666665,0.1197,101.72]
[null,null,null,"26.65","Caixa de passagem metálica com tampa aparafusada 102 x 102 x 82 mm",1,"serv",31.786666666666665,{"$f":"F1780*H1780","v":31.786666666666665},0.1197,{"$f":"ROUND(I1780*(1+J1780),2)","v":35.590000000000003}]
[null,null,null,"26.66","Condulete de alumínio tipo caixa de ligação redonda diâmetro de 87mm  entradas de  ¾” ",1,"serv",22.463333333333328,22.463333333333328,{"$f":"J1780","v":0.1197},25.15]
[null,null,null,"26.67","Abraçadeira tipo copo de 1”",1,"serv",3.5,3.5,0.1197,3.92]
[null,null,null,"26.68","Abraçadeira tipo copo de ¾”",1,"serv",2.85,2.85,0.1197,3.19]
[null,null,null,"26.69","Conector  para condulete ¾”  1 lado com rosca e o lado do Eletroduto liso.",1,"serv",3.9833333333333329,3.9833333333333329,0.1197,4.46]
[null,null,null,"26.70","Fio paralelo branco 2x0,5mm",1,"serv",1.2466666666666668,1.2466666666666668,0.1197,1.4]
[null,null,null,"26.71","Fio paralelo polarizado preto e vermelho 2x1,5mm",1,"serv",2.5933333333333333,2.5933333333333333,0.1197,2.9]
[null,null,null,"26.72","Tampa cega redonda de alumínio para caixa tipo condulete redonda de 87mm.",1,"serv",18.346666666666664,18.346666666666664,0.1197,20.54]
[null,null,null,"26.73","Cabo de instrumentação para sistema de alarme de incêndio 2x1,5mm com capa externa na cor vermelha",1,"serv",5.5966666666666667,5.5966666666666667,0.1197,6.27]
[null,null,null,"26.74","Cabo de instrumentação para sistema de alarme de incêndio 2x2,5mm com capa externa na cor vermelha",1,"serv",6.9850000000000003,6.9850000000000003,0.1197,7.82]
[null,null,null,"26.75","Central analógica endereçável de detecção e alarme de incêndio com 1 laço, ref. GFE OCTO+ 1 LOOP.",1,"serv",10838.38,10838.38,0.1197,12135.73]
[null,null,null,"26.76","Central analógica endereçável de detecção e alarme de incêndio com 2 laços, ref. GFE OCTO+ 2 LOOP.",1,"serv",14276.74,14276.74,0.1197,15985.67]
[null,null,null,"26.77","Central analógica endereçável de detecção e alarme de incêndio com 3 laços, ref. GFE OCTO+ 3 LOOP.",1,"serv",16061.33,16061.33,0.1197,17983.87]
[null,null,null,"26.78","Central analógica endereçável de detecção e alarme de incêndio com 4 laços, ref. GFE OCTO+ 4 LOOP.",1,"serv",17845.919999999998,17845.919999999998,0.1197,19982.080000000002]
[null,null,null,"26.79","Caixa para painel endereçável de detecção e alarme de incêndio, ref.: GFE PANEL BOX OCTO+/NODE+.",1,"serv",3271.82,3271.82,0.1197,3663.46]
[null,null,null,"26.80","Caixa grande para painel endereçável de detecção e alarme de incêndio, ref.: GFE OCTO+ Large Box.",1,"serv",3271.82,3271.82,0.1197,3663.46]
[null,null,null,"26.81","Interface de comunicação TCP-IP para central GFE OCTO+, ref. GFE INT-TCPIP-ODY.",1,"serv",1573.17,1573.17,0.1197,1761.48]
[null,null,null,"26.82","Interface de fibra óptica para comunicação entre painéis GFE, ref. GFE INT-FO-P2P.",1,"serv",3660.79,3660.79,0.1197,4098.99]
[null,null,null,"26.83","Interface para comunicação RS-422 em painéis GFE, ref. GFE INT-RS422.",1,"serv",1487.07,1487.07,0.1197,1665.07]
[null,null,null,"26.84","Placa de Sub-painel para central endereçável GFE OCTO+, ref. NODE PCB.",1,"serv",4164,4164,0.1197,4662.43]
[null,null,null,"26.85","Placa de laço para central endereçável GFE OCTO+, ref. Loop Card PCB.",1,"serv",11279.58,11279.58,0.1197,12629.75]
[null,null,null,"26.86","Placa front-end com visor para central endereçável GFE OCTO+, ref. UI Front End PCB.",1,"serv",2974.37,2974.37,0.1197,3330.4]
[null,null,null,"26.87","Módulo endereçável de controle de sirenes, ref. GFE LSC-ISO. ",1,"serv",391.19,391.19,0.1197,438.02]
[null,null,null,"26.88","Retentor magnético endereçável para porta corta-fogo, ref. GFE DHA V2. ",1,"serv",1069.8699999999999,1069.8699999999999,0.1197,1197.93]
[null,null,null,"26.89","Detector de fumaça por aspiração com 1 tubo e capacidade de cobertura de 250 m2, ref. XTRALIS VESDA VLF-250.",1,"serv",23561.5,23561.5,0.1197,26381.81]
[null,null,null,"26.90","Detector de fumaça por aspiração com 1 tubo e capacidade de cobertura de 500 m2, ref. XTRALIS VESDA VLF-500.",1,"serv",20897.900000000001,20897.900000000001,0.1197,23399.38]
[null,null,null,"26.91","Detector de fumaça por aspiração com 1 tubo e capacidade de cobertura de 1000 m2, ref. XTRALIS VESDA-E VEP-A00-1P.",1,"serv",28459.439999999999,28459.439999999999,0.1197,31866.03]
[null,null,null,"26.92","Detector de fumaça por aspiração com 4 tubos e capacidade de cobertura de 2000 m2, ref. XTRALIS VESDA-E VEP-A10-P.",1,"serv",54822.74,54822.74,0.1197,61385.02]
[null,null,null,"26.93","Detector de fumaça por aspiração com 4 tubos endereçáveis e capacidade de cobertura de 2000 m2, ref. XTRALIS VESDA-E VES-A10-P.",1,"serv",81453.350000000006,81453.350000000006,0.1197,91203.32]
[null,null,null,"26.94","Filtro para detector de fumaça aspiração linha VESDA-E, ref. XTRALIS VSP-962.",1,"serv",776.78,776.78,0.1197,869.76]
[null,null,null,"26.95","Receptor de detector linear de fumaça de feixes com mais de um comprimento de onda e alcance até 150m, ref. XTRALIS OSI-10.",1,"serv",7712.19,7712.19,0.1197,8635.34]
[null,null,null,"26.96","Receptor de detector linear de fumaça de feixes com mais de um comprimento de onda e alcance até 35 m, ref. XTRALIS OSI-90.",1,"serv",7834.98,7834.98,0.1197,8772.83]
[null,null,null,"26.97","Emissor de detector linear de fumaça com projeção de feixes com mais de um comprimento de onda, com alimentação por baterias alcalinas, ref. XTRALIS OSE-SP-01.",1,"serv",3732.46,3732.46,0.1197,4179.24]
[null,null,null,"26.98","Ferramenta de alinhamento de detector linear de fumaça com laser, ref. XTRALIS OSP-002.",1,"serv",932.1,932.1,0.1197,1043.67]
[null,null,null,"26.99","Placa de acrílico para testagem de detector linear de fumaça, ref. XTRALIS OSP-003.",1,"serv",1093.08,1093.08,0.1197,1223.92]
[null,null,null,"26.100","Bateria alcalina extra para emissor de detector linear de fumaça XTRALIS OSI, ref. XTRALIS OSE-RBA.",1,"serv",877.79,877.79,0.1197,982.86]
[null,null,null,"26.101","Central convencional de extinção de incêndio, ref. TELETEK ELECTRONICS/IVY.",1,"serv",3211.95,3211.95,0.1197,3596.42]
[null,null,null,"26.102","Painel de controle endereçável para sistema de alarme e extinção a incêndio, ref. Notifier NFS-320.",1,"serv",14249.5,14249.5,0.1197,15955.17]
[null,null,null,24,"SERVIÇOS DE MANUTENÇÃO CORRETIVA PARA SISTEMAS DE COMBATE A INCÊNDIO,  incluindo a aplicação dos seguintes insumos (*Ver. Obs. 1)"]
[null,null,null,"27.1","Cabeça de disparo completa para cilindro de FM-200",1,"serv",2761,{"$f":"F1819*H1819","v":2761},{"$f":"J1817","v":0.1197},{"$f":"ROUND(I1819*(1+J1819),2)","v":3091.49}]
[null,null,null,"27.2","Cabeça de comando elétrico para cilindro de CO2 de 45 Kg",1,"serv",3563.27,3563.27,{"$f":"J1819","v":0.1197},3989.79]
[null,null,null,"27.3","Cabeça de discarga para cilindro de CO2 de 45Kg",1,"serv",4932,4932,0.1197,5522.36]
[null,null,null,"27.4","Miolo para reparo de válvula de disparo rápido para extintor de CO2.",1,"serv",410,410,0.1197,459.08]
[null,null,null,"27.5","Mini contactor WEG 7A 24V ",1,"serv",64.31,64.31,0.1197,72.010000000000005]
[null,null,null,"27.6","Chave de fluxo com retardo pneumático regulável de 0 a 70 seg., pressão de trabalho máxima de 10 Kgf/cm2",1,"serv",148.63,148.63,0.1197,166.42]
[null,null,null,"27.7","Mangueira de incêndio 38mm 15 metros com engate tipo storz 1 ½”, tipo 2",1,"serv",530.42999999999995,530.42999999999995,0.1197,593.91999999999996]
[null,null,null,"27.8","Mangueira de incêndio 38mm 15 metros com engate tipo storz 1 ½”, tipo 1",1,"serv",370.09,370.09,0.1197,414.39]
[null,null,null,"27.9","Esguicho para mangeira de incêndio tipo regulável com engate tipo storz, 1 1/2”. ",1,"serv",184.63,184.63,0.1197,206.73]
[null,null,null,"27.10","Esguicho para mangueira de incêndio tipo regulável com engate tipo storz, 1 1/2”.",1,"serv",147.96,147.96,0.1197,165.67]
[null,null,null,"27.11","Chuveiro automático sprinklers 68 graus de ¾’",1,"serv",65,65,0.1197,72.78]
[null,null,null,"27.12","Registro tipo  GLOBO 2½\" 45 para hidrante de incêndio",1,"serv",307.02,307.02,0.1197,343.77]
[null,null,null,"27.13","Válvula de retenção dupla portinhola 2",1,"serv",290,290,0.1197,324.70999999999998]
[null,null,null,"27.14","ADAPTADOR TIPO STORZ DE 1.1/2 X 2.1/2POL PARA REGISTRO DE INCÊNDIO",1,"serv",102.45,102.45,0.1197,114.71]
[null,null,null,"27.15","ADAPTADOR TIPO STORZ DE 2.1/2 X 2.1/2POL PARA REGISTRO DE INCÊNDIO",1,"serv",116.77,116.77,0.1197,130.75]
[null,null,null,"27.16","Pressostato com escala indicadora de pressão e diferencial, ref. L- 404 F 1102, marca Honeywell",1,"serv",2669.44,2669.44,0.1197,2988.97]
[null,null,null,"27.17","Disjuntor para Motor 50A 50KA 415V modelo ref.: GV3L50 marca de  ref. Schneider",1,"serv",1087.73,1087.73,0.1197,1217.93]
[null,null,null,"27.18","Disjuntor Magnético 32A  modelo ref. GV2LE32 marca de  ref. Schneider.",1,"serv",630.16,630.16,0.1197,705.59]
[null,null,null,"27.19","Disjuntor Magnético 10A  modelo ref. GV2LE32 marca de  ref. Schneider.",1,"serv",501.05,501.05,0.1197,561.03]
[null,null,null,"27.20","Contator Trip. Tesys D Everlin 220V modelo de ref. LC1D40A marca de  ref. Schneider.",1,"serv",721.41,721.41,0.1197,807.76]
[null,null,null,"27.21","Contator Trip. Tesys D 18A 220V modelo de ref. LC1D18 marca de  ref. Schneider.",1,"serv",303.02,303.02,0.1197,339.29]
[null,null,null,"27.22","Bloco de Contato 3NA+1NF Frontal modelo de ref. LAND31 marca de ref. Schneider.",1,"serv",74.12,74.12,0.1197,82.99]
[null,null,null,"27.23","Tempor. 0,3s–30s 1NA/NF 110-240v modelo de ref. RE8TA31BU marca de  ref. Schneider. ",1,"serv",204.14,204.14,0.1197,228.58]
[null,null,null,"27.24","Serviço de recarga de extintor de CO2 (preço por Kilo de gás)",1,"serv",108,108,0.1197,120.93]
[null,null,null,"27.25","Teste hidrostático em cilindro de CO2 6kg Com reparos",1,"serv",52.5,52.5,0.1197,58.78]
[null,null,null,"27.26","Teste hidrostático em cilindro de CO2 25Kg com reparos",1,"serv",150,150,0.1197,167.96]
[null,null,null,"27.27","Teste hidrostático em cilindro de CO2 45KG com reparos",1,"serv",250,250,0.1197,279.93]
[null,null,null,"27.28","Recarga em cilindro de gás FM200 (preço por kilo de gás)",1,"serv",500,500,0.1197,559.85]
[null,null,null,"27.29","Teste hidrostático em cilindro de gás FM200 incluindo o envase do gás, transporte e frete rodoviário (considerar cilindro de 50Kg)",1,"serv",12750,12750,0.1197,14276.18]
[null,null,null,"27.30","Recarga em cilindro de gás HFC-125 (preço por kilo de gás) ",1,"serv",780,780,0.1197,873.37]
[null,null,null,"27.31","Teste hidrostático em cilindro de gás HFC-125 incluindo o envase do gás, transporte e frete rodoviário (considerar cilindro de 250 lb)",1,"serv",12750,12750,0.1197,14276.18]
[null,null,null,"27.32","Visita de técnico especializado do fabricante da central de alarme, homem/hora com emissão de relatório",1,"serv",318.24,318.24,0.1197,356.33]
[]
[null,null,null,null,null,null,null,null,null,"SOMATÓRIO TOTAL MENSAL",{"$f":"ROUND(SUM(K9:K1851)/12,2)","v":308202.90999999997}]
[null,null,null,null,null,null,null,"Fator de Demanda",null,"SOMATÓRIO TOTAL ANUAL",{"$f":"K1852*12","v":3698434.92}]
[null,null,null,null,null,null,null,0.35]
[null,null,null,null,null,null,null,null,null,"MENSAL AJUSTADO",{"$f":"ROUND(K1852*H1854,2)","v":107871.02}]
[null,null,null,null,null,null,null,null,null,"ANUAL AJUSTADO",{"$f":"K1855*12","v":1294452.24}]