{"text_format":"1","workbook":"xlsx","n_sheets":39,"sheets":["Medição","GUIA PARA PREENCHIMENTO","MODELO PROPOSTA","Remunerações","Dados Gerais","Encargos Sociais","Encargos Sociais HE","BDI - Geral","BDI materiais","BDI servicos","Uniformes","EPI","QTDE POSTOS POR CATEGORIA","Relacion - Ferram","Equip Rel","SREP","Não Rel - EPI","Não Rel - Depr","Not.Demanda","Resumo","HE - Demanda","Não Rel - Mat","N.Relac.-Servicos","1","2","3","4","5","6","7","8","9","10","11","12","13","14","15","Mat Cons"],"not_rendered":{"charts":0,"images":3,"macros":1,"external_links":0,"defined_names":54,"comments":2,"pivot_tables":0},"unopened":[],"bounds":{"document_bytes":16777216,"sheet_cells":100000,"rows_first":2000,"rows_last":500,"rows_between":2000,"halvings":0,"cell_chars":16384,"cell_head_chars":4096},"cells_cut":0,"cells_raw":0,"read":"whole","date_system":"1900"}

{"sheet":"Medição","index":0,"n_rows":20,"n_cols":20,"rows_kept":20,"cut":false,"hidden":true,"merged":[[0,1,0,19]]}
[null,"APOIO À MEDIÇÃO MENSAL"]
[]
[null,null,"ITEM","POSTO DE TRABALHO","QUANTIDADE","SALÁRIO","ADICIONAL DE PERICULOSIDADE","ADICIONAL DE INSALUBRIDADE","ADICIONAL NOTURNO","OUTROS","SALÁRIO COM ADICIONAIS","AUXÍLIO ALIMENTAÇÃO","AUXÍLIO TRANSPORTE","OUTROS AUXÍLIOS","INSUMOS DIVERSOS","DIAS NO MÊS","FALTAS","TOTAL MENSAL","DESCONTOS","TOTAL COM DESCONTOS"]
[null,null,1,{"$f":"HLOOKUP(C4,'Dados Gerais'!$D$6:$BI$11,6)","v":"SUPERVISOR TÉCNICO OPERACIONAL"},{"$f":"HLOOKUP($C4,'Dados Gerais'!$D$6:$BI$15,10)","v":2},{"$f":"'1'!$F$9","v":15828.37},{"$f":"'1'!$F$10","v":0},{"$f":"'1'!$F$11","v":0},{"$f":"'1'!$F$12","v":0},{"$f":"'1'!$F$13+'1'!$F$14","v":0},{"$f":"SUM(F4:J4)","v":15828.37},{"$f":"'1'!$F$36","v":957},{"$f":"'1'!$F$35","v":0},{"$f":"'1'!$F$37+'1'!$F$38","v":334.57},{"$f":"'1'!$F$82","v":0},{"$f":"HLOOKUP($C4,'Dados Gerais'!$D$6:$BI$20,13)","v":22},12,{"$f":"E4*(SUM(K4:O4))","v":34239.880000000005},{"$f":"Q4*(K4+L4+M4+N4)/P4","v":9338.1490909090917},{"$f":"R4-S4","v":24901.730909090911}]
[null,null,2,{"$f":"HLOOKUP(C5,'Dados Gerais'!$D$6:$BI$11,6)","v":"SUPERVISOR TÉCNICO"},{"$f":"HLOOKUP(C5,'Dados Gerais'!$D$6:$BI$15,10)","v":2},{"$f":"#REF!","v":{"$error":"#REF!"}},{"$f":"#REF!","v":{"$error":"#REF!"}},{"$f":"#REF!","v":{"$error":"#REF!"}},{"$f":"#REF!","v":{"$error":"#REF!"}},{"$f":"#REF!+#REF!","v":{"$error":"#REF!"}},{"$f":"SUM(F5:J5)","v":{"$error":"#REF!"}},{"$f":"#REF!","v":{"$error":"#REF!"}},{"$f":"#REF!","v":{"$error":"#REF!"}},{"$f":"#REF!+#REF!","v":{"$error":"#REF!"}},{"$f":"#REF!","v":{"$error":"#REF!"}},{"$f":"HLOOKUP($C5,'Dados Gerais'!$D$6:$BI$20,13)","v":22},2,{"$f":"E5*(SUM(K5:O5))","v":{"$error":"#REF!"}},{"$f":"Q5*(K5+L5+M5+N5)/P5","v":{"$error":"#REF!"}},{"$f":"R5-S5","v":{"$error":"#REF!"}}]
[null,null,3,{"$f":"HLOOKUP(C6,'Dados Gerais'!$D$6:$BI$11,6)","v":"SUPERVISOR TÉCNICO \n(CENTRO DE TRANSMISSÃO)"},{"$f":"HLOOKUP(C6,'Dados Gerais'!$D$6:$BI$15,10)","v":1},{"$f":"#REF!","v":{"$error":"#REF!"}},{"$f":"#REF!","v":{"$error":"#REF!"}},{"$f":"#REF!","v":{"$error":"#REF!"}},{"$f":"#REF!","v":{"$error":"#REF!"}},{"$f":"#REF!+#REF!","v":{"$error":"#REF!"}},{"$error":"#REF!"},{"$f":"#REF!","v":{"$error":"#REF!"}},{"$f":"#REF!","v":{"$error":"#REF!"}},{"$f":"#REF!+#REF!","v":{"$error":"#REF!"}},{"$f":"#REF!","v":{"$error":"#REF!"}},{"$f":"HLOOKUP($C6,'Dados Gerais'!$D$6:$BI$20,13)","v":22},1,{"$error":"#REF!"},{"$error":"#REF!"},{"$error":"#REF!"}]
[null,null,4,{"$f":"HLOOKUP(C7,'Dados Gerais'!$D$6:$BI$11,6)","v":"SUPERVISOR DE OPERAÇÕES"},{"$f":"HLOOKUP(C7,'Dados Gerais'!$D$6:$BI$15,10)","v":2},{"$f":"#REF!","v":{"$error":"#REF!"}},{"$f":"#REF!","v":{"$error":"#REF!"}},{"$f":"#REF!","v":{"$error":"#REF!"}},{"$f":"#REF!","v":{"$error":"#REF!"}},{"$f":"#REF!+#REF!","v":{"$error":"#REF!"}},{"$error":"#REF!"},{"$f":"#REF!","v":{"$error":"#REF!"}},{"$f":"#REF!","v":{"$error":"#REF!"}},{"$f":"#REF!+#REF!","v":{"$error":"#REF!"}},{"$f":"#REF!","v":{"$error":"#REF!"}},{"$f":"HLOOKUP($C7,'Dados Gerais'!$D$6:$BI$20,13)","v":22},0,{"$error":"#REF!"},{"$error":"#REF!"},{"$error":"#REF!"}]
[null,null,5,{"$f":"HLOOKUP(C8,'Dados Gerais'!$D$6:$BI$11,6)","v":" DIRETOR DE IMAGENS – 30H"},{"$f":"HLOOKUP(C8,'Dados Gerais'!$D$6:$BI$15,10)","v":24},{"$f":"#REF!","v":{"$error":"#REF!"}},{"$f":"#REF!","v":{"$error":"#REF!"}},{"$f":"#REF!","v":{"$error":"#REF!"}},{"$f":"#REF!","v":{"$error":"#REF!"}},{"$f":"#REF!+#REF!","v":{"$error":"#REF!"}},{"$error":"#REF!"},{"$f":"#REF!","v":{"$error":"#REF!"}},{"$f":"#REF!","v":{"$error":"#REF!"}},{"$f":"#REF!+#REF!","v":{"$error":"#REF!"}},{"$f":"#REF!","v":{"$error":"#REF!"}},{"$f":"HLOOKUP($C8,'Dados Gerais'!$D$6:$BI$20,13)","v":22},4,{"$error":"#REF!"},{"$error":"#REF!"},{"$error":"#REF!"}]
[null,null,6,{"$f":"HLOOKUP(C9,'Dados Gerais'!$D$6:$BI$11,6)","v":" DIRETOR DE IMAGENS – 18H"},{"$f":"HLOOKUP(C9,'Dados Gerais'!$D$6:$BI$15,10)","v":21},{"$f":"#REF!","v":{"$error":"#REF!"}},{"$f":"#REF!","v":{"$error":"#REF!"}},{"$f":"#REF!","v":{"$error":"#REF!"}},{"$f":"#REF!","v":{"$error":"#REF!"}},{"$f":"#REF!+#REF!","v":{"$error":"#REF!"}},{"$error":"#REF!"},{"$f":"#REF!","v":{"$error":"#REF!"}},{"$f":"#REF!","v":{"$error":"#REF!"}},{"$f":"#REF!+#REF!","v":{"$error":"#REF!"}},{"$f":"#REF!","v":{"$error":"#REF!"}},{"$f":"HLOOKUP($C9,'Dados Gerais'!$D$6:$BI$20,13)","v":13},0,{"$error":"#REF!"},{"$error":"#REF!"},{"$error":"#REF!"}]
[null,null,7,{"$f":"HLOOKUP(C10,'Dados Gerais'!$D$6:$BI$11,6)","v":"TÉCNICO DE SISTEMAS AUDIOVISUAIS – especialidade Sistemas e Vídeo \n36H"},{"$f":"HLOOKUP(C10,'Dados Gerais'!$D$6:$BI$15,10)","v":4},{"$f":"#REF!","v":{"$error":"#REF!"}},{"$f":"#REF!","v":{"$error":"#REF!"}},{"$f":"#REF!","v":{"$error":"#REF!"}},{"$f":"#REF!","v":{"$error":"#REF!"}},{"$f":"#REF!+#REF!","v":{"$error":"#REF!"}},{"$error":"#REF!"},{"$f":"#REF!","v":{"$error":"#REF!"}},{"$f":"#REF!","v":{"$error":"#REF!"}},{"$f":"#REF!+#REF!","v":{"$error":"#REF!"}},{"$f":"#REF!","v":{"$error":"#REF!"}},{"$f":"HLOOKUP($C10,'Dados Gerais'!$D$6:$BI$20,13)","v":22},3,{"$error":"#REF!"},{"$error":"#REF!"},{"$error":"#REF!"}]
[null,null,8,{"$f":"HLOOKUP(C11,'Dados Gerais'!$D$6:$BI$11,6)","v":"OPERADOR DE MÍDIA AUDIOVISUAL – 30H"},{"$f":"HLOOKUP(C11,'Dados Gerais'!$D$6:$BI$15,10)","v":34},{"$f":"#REF!","v":{"$error":"#REF!"}},{"$f":"#REF!","v":{"$error":"#REF!"}},{"$f":"#REF!","v":{"$error":"#REF!"}},{"$f":"#REF!","v":{"$error":"#REF!"}},{"$f":"#REF!+#REF!","v":{"$error":"#REF!"}},{"$error":"#REF!"},{"$f":"#REF!","v":{"$error":"#REF!"}},{"$f":"#REF!","v":{"$error":"#REF!"}},{"$f":"#REF!+#REF!","v":{"$error":"#REF!"}},{"$f":"#REF!","v":{"$error":"#REF!"}},{"$f":"HLOOKUP($C11,'Dados Gerais'!$D$6:$BI$20,13)","v":22},0,{"$error":"#REF!"},{"$error":"#REF!"},{"$error":"#REF!"}]
[null,null,9,{"$f":"HLOOKUP(C12,'Dados Gerais'!$D$6:$BI$11,6)","v":"OPERADOR DE MÍDIA AUDIOVISUAL – 18H"},{"$f":"HLOOKUP(C12,'Dados Gerais'!$D$6:$BI$15,10)","v":26},{"$f":"#REF!","v":{"$error":"#REF!"}},{"$f":"#REF!","v":{"$error":"#REF!"}},{"$f":"#REF!","v":{"$error":"#REF!"}},{"$f":"#REF!","v":{"$error":"#REF!"}},{"$f":"#REF!+#REF!","v":{"$error":"#REF!"}},{"$error":"#REF!"},{"$f":"#REF!","v":{"$error":"#REF!"}},{"$f":"#REF!","v":{"$error":"#REF!"}},{"$f":"#REF!+#REF!","v":{"$error":"#REF!"}},{"$f":"#REF!","v":{"$error":"#REF!"}},{"$f":"HLOOKUP($C12,'Dados Gerais'!$D$6:$BI$20,13)","v":13},2,{"$error":"#REF!"},{"$error":"#REF!"},{"$error":"#REF!"}]
[null,null,10,{"$f":"HLOOKUP(C13,'Dados Gerais'!$D$6:$BI$11,6)","v":"OPERADOR DE TRANSMISSOR – Rádio e TV - 24H"},{"$f":"HLOOKUP(C13,'Dados Gerais'!$D$6:$BI$15,10)","v":5},{"$f":"#REF!","v":{"$error":"#REF!"}},{"$f":"#REF!","v":{"$error":"#REF!"}},{"$f":"#REF!","v":{"$error":"#REF!"}},{"$f":"#REF!","v":{"$error":"#REF!"}},{"$f":"#REF!+#REF!","v":{"$error":"#REF!"}},{"$error":"#REF!"},{"$f":"#REF!","v":{"$error":"#REF!"}},{"$f":"#REF!","v":{"$error":"#REF!"}},{"$f":"#REF!+#REF!","v":{"$error":"#REF!"}},{"$f":"#REF!","v":{"$error":"#REF!"}},{"$f":"HLOOKUP($C13,'Dados Gerais'!$D$6:$BI$20,13)","v":17},1,{"$error":"#REF!"},{"$error":"#REF!"},{"$error":"#REF!"}]
[null,null,11,{"$f":"HLOOKUP(C14,'Dados Gerais'!$D$6:$BI$11,6)","v":0},{"$f":"HLOOKUP(C14,'Dados Gerais'!$D$6:$BI$15,10)","v":0},{"$f":"'11'!$F$9","v":0},{"$f":"'11'!$F$10","v":0},{"$f":"'11'!$F$11","v":0},{"$f":"'11'!$F$12","v":0},{"$f":"'11'!$F$13+'11'!$F$14","v":0},0,{"$f":"'11'!$F$36","v":0},{"$f":"'11'!$F$35","v":0},{"$f":"'11'!$F$37+'11'!$F$38","v":0},{"$f":"'11'!$F$82","v":0},{"$f":"HLOOKUP($C14,'Dados Gerais'!$D$6:$BI$20,13)","v":0},0,0,{"$error":"#DIV/0!"},{"$error":"#DIV/0!"}]
[null,null,12,{"$f":"HLOOKUP(C15,'Dados Gerais'!$D$6:$BI$11,6)","v":0},{"$f":"HLOOKUP(C15,'Dados Gerais'!$D$6:$BI$15,10)","v":0},{"$f":"'12'!$F$9","v":0},{"$f":"'12'!$F$10","v":0},{"$f":"'12'!$F$11","v":0},{"$f":"'12'!$F$12","v":0},{"$f":"'12'!$F$13+'12'!$F$14","v":0},0,{"$f":"'12'!$F$36","v":0},{"$f":"'12'!$F$35","v":0},{"$f":"'12'!$F$37+'12'!$F$38","v":0},{"$f":"'12'!$F$82","v":0},{"$f":"HLOOKUP($C15,'Dados Gerais'!$D$6:$BI$20,13)","v":0},4,0,{"$error":"#DIV/0!"},{"$error":"#DIV/0!"}]
[null,null,13,{"$f":"HLOOKUP(C16,'Dados Gerais'!$D$6:$BI$11,6)","v":0},{"$f":"HLOOKUP(C16,'Dados Gerais'!$D$6:$BI$15,10)","v":0},{"$f":"'13'!$F$9","v":0},{"$f":"'13'!$F$10","v":0},{"$f":"'13'!$F$11","v":0},{"$f":"'13'!$F$12","v":0},{"$f":"'13'!$F$13+'13'!$F$14","v":0},0,{"$f":"'13'!$F$36","v":0},{"$f":"'13'!$F$35","v":0},{"$f":"'13'!$F$37+'13'!$F$38","v":0},{"$f":"'13'!$F$82","v":0},{"$f":"HLOOKUP($C16,'Dados Gerais'!$D$6:$BI$20,13)","v":0},0,0,{"$error":"#DIV/0!"},{"$error":"#DIV/0!"}]
[null,null,14,{"$f":"HLOOKUP(C17,'Dados Gerais'!$D$6:$BI$11,6)","v":0},{"$f":"HLOOKUP(C17,'Dados Gerais'!$D$6:$BI$15,10)","v":0},{"$f":"'14'!$F$9","v":0},{"$f":"'14'!$F$10","v":0},{"$f":"'14'!$F$11","v":0},{"$f":"'14'!$F$12","v":0},{"$f":"'14'!$F$13+'14'!$F$14","v":0},0,{"$f":"'14'!$F$36","v":0},{"$f":"'14'!$F$35","v":0},{"$f":"'14'!$F$37+'14'!$F$38","v":0},{"$f":"'14'!$F$82","v":0},{"$f":"HLOOKUP($C17,'Dados Gerais'!$D$6:$BI$20,13)","v":0},3,0,{"$error":"#DIV/0!"},{"$error":"#DIV/0!"}]
[null,null,15,{"$f":"HLOOKUP(C18,'Dados Gerais'!$D$6:$BI$11,6)","v":0},{"$f":"HLOOKUP(C18,'Dados Gerais'!$D$6:$BI$15,10)","v":0},{"$f":"'15'!$F$9","v":0},{"$f":"'15'!$F$10","v":0},{"$f":"'15'!$F$11","v":0},{"$f":"'15'!$F$12","v":0},{"$f":"'15'!$F$13+'15'!$F$14","v":0},0,{"$f":"'15'!$F$36","v":0},{"$f":"'15'!$F$35","v":0},{"$f":"'15'!$F$37+'15'!$F$38","v":0},{"$f":"'15'!$F$82","v":0},{"$f":"HLOOKUP($C18,'Dados Gerais'!$D$6:$BI$20,13)","v":0},0,0,{"$error":"#DIV/0!"},{"$error":"#DIV/0!"}]
[]
[null,null,null,"TOTAL ",{"$f":"SUM(E4:E18)","v":121},null,null,null,null,null,null,null,null,null,null,"TOTAIS",{"$f":"SUM(Q4:Q18)","v":32},{"$f":"SUM(R4:R18)","v":{"$error":"#REF!"}},{"$f":"SUM(S4:S18)","v":{"$error":"#REF!"}},{"$f":"SUM(T4:T18)","v":{"$error":"#REF!"}}]

{"sheet":"GUIA PARA PREENCHIMENTO","index":1,"n_rows":5,"n_cols":1,"rows_kept":5,"cut":false,"hidden":false,"merged":[]}
["GUIA PARA PREENCHIMENTO"]
[]
["1 - Preencher apenas as guias azuis:"]
[]
["2 - Recomendamos preencher somente as células com fundo azul claro. As demais possuem fórmulas e sugerimos não alterá-las."]

{"sheet":"MODELO PROPOSTA","index":2,"n_rows":97,"n_cols":7,"rows_kept":97,"cut":false,"hidden":false,"merged":[[91,1,91,5],[91,7,91,9],[9,1,9,9],[12,1,12,9],[14,1,14,9],[15,1,15,9],[16,1,16,2],[16,3,16,4],[1,1,1,9],[4,1,4,9],[6,1,6,9],[7,1,7,9],[8,1,8,9],[93,1,93,9],[96,1,96,9],[69,1,71,9],[72,1,74,8],[75,1,75,8],[79,1,79,9],[80,1,80,3],[80,4,80,9],[81,1,81,3],[81,4,81,9],[82,1,82,3],[82,4,82,9],[83,1,83,9],[85,1,85,9],[86,1,86,9],[87,1,87,9],[34,1,34,2],[36,1,37,9],[10,1,10,9],[11,1,11,9],[92,1,92,9],[64,1,64,9],[17,1,18,9],[19,1,19,9],[21,1,21,9],[22,1,22,9],[23,1,23,9],[25,1,25,4],[25,5,25,9],[28,1,28,4],[28,5,28,9],[29,1,29,4],[65,1,68,9],[39,1,41,9],[42,1,42,2],[43,1,45,9],[35,1,35,9],[46,1,48,9],[50,1,52,9],[53,1,53,9],[54,1,56,9],[57,1,59,9],[61,1,63,9],[31,1,31,9],[33,1,33,9],[26,1,26,4],[26,5,26,9],[27,1,27,4],[27,5,27,9],[29,5,29,9],[30,1,30,4],[30,5,30,9]]}
[]
[null,"MODELO DA PROPOSTA COMPLETA"]
[]
[null,"."]
[null,"I – FORMALIZAÇÃO"]
[]
[null,"PREGÃO ELETRÔNICO N. 90003/2025"]
[null,"OBJETO: Prestação de serviços continuados na área de operação de equipamentos de áudio, vídeo e geração de imagens para transmissão ao vivo por rádio, televisão e internet, pelo período de 30 (trinta) meses, conforme condições e exigências estabelecidas neste instrumento e em seus Anexos."]
[null,"LICITANTE: _____________________________________________________"]
[null,"CNPJ: ________________________________________________________"]
[null,"ENDEREÇO COMPLETO: _________________________________________"]
[null,"TELEFONE:_____________________________________________________"]
[null,"E-MAIL: ________________________________________________________"]
[]
[null,"Apresentamos nossa proposta para o item único da presente licitação, de acordo com as disposições do Edital."]
[null,"Decorre do conteúdo da presente proposta a explicitação do seguinte PREÇO DE JULGAMENTO (GLOBAL para 30 MESES) PARA O ITEM:"]
[null,{"$f":"Resumo!H87","v":45407196.149999999}]
[null,{"$f":"Extenso_Valor(B17)","v":"quarenta e cinco milhões, quatrocentos e sete mil, cento e noventa e seis reais e quinze centavos"}]
[]
[null,"(por extenso)"]
[]
[null,"No valor proposto estão incluídos todos os custos e todas as despesas, diretas e indiretas, para a execução dos serviços objeto da licitação, em conformidade com as especificações e demais condições e exigências constantes do Edital."]
[null,"Informamos que eventuais rubricas dispostas em Acordo ou Convenção Coletiva de Trabalho que não se relacionem ao custo direto da venda do serviço, tais como “Participação nos Resultados” e “Abono substitutivo de Participação nos Resultados”, serão consideradas nos custos indiretos da proposta."]
[null,"O prazo de validade da presente proposta é de ______ (por extenso) dias. (observado o disposto no Título 4 do Edital)."]
[]
[null,"Convenção coletiva de trabalho ou a norma coletiva a que estamos obrigados:"]
[null,"Data-Base:"]
[null,"Número do Registro no SRT:"]
[null,"Regime de tributação da empresa:"]
[null,"Empresa é beneficiada pela desoneração da folha de pagamento instituída pela Lei n. 12.546, de 2001, alterada pela Lei n. 13.161, de 2015?"]
[null,"Empresa adere ao PAT (Programa de Alimentação do Trabalhador)?"]
[null,"Na hipótese de adesão ao PAT e de previsão de qualquer desconto no valor do auxílio-alimentação em norma coletiva, os valores do auxílio-alimentação apresentados nesta proposta deverão corresponder aos valores líquidos efetivamente pagos pela empresa aos seus empregados."]
[]
[null,"DECLARAÇÕES"]
[null,"Declaramos que:"]
[null,"a)   disponibilizaremos todos os itens necessários à execução dos serviços, sejam eles insumos ou materiais, bem como pessoal técnico adequado para a realização do objeto da presente licitação;"]
[null,"b)   seremos responsável pelo descarte ambientalmente responsável de qualquer resíduo do serviço a ser prestado, objeto desta licitação – incluindo consumíveis, peças usadas, embalagens – e que temos conhecimento da legislação ambiental sobre o descarte de materiais, em especial a Lei n. 9.605/1998 e a Lei n. 12.305/2010, além da NBR 10.004."]
[]
[]
[null,"A SEREM PRESTADAS SOMENTE NA HIPÓTESE DE LICITANTE MICROEMPRESA OU EMPRESA DE PEQUENO PORTE, EM CONFORMIDADE COM OS ARTIGOS 17, 18, 30 E 31 DA LEI COMPLEMENTAR N. 123/2006, E O ACÓRDÃO TCU 2798/2010-PLENÁRIO"]
[]
[]
[null,"Declaramos que:"]
[null,"a)   em se tratando dos serviços vedados descritos no artigo 17 da Lei Complementar n. 123/2006, notadamente os descritos no inciso XII (cessão ou locação de mão de obra), ressalvados os serviços listados nos § 5º-C, inciso VI, c/c § 5º-H do art. 18 ou no § 1º do art. 17 da referida Lei, a proposta apresentada não contempla qualquer benefício tributário referente ao SIMPLES NACIONAL, conforme os itens 4.20 e 4.21 do Edital;"]
[]
[]
[null,"b)   na hipótese de contratação desta Microempresa ou Empresa de Pequeno Porte inscrita no SIMPLES NACIONAL e executora de atividade vedada, ficamos sujeitos à exclusão obrigatória no SIMPLES NACIONAL a contar do mês seguinte ao da contratação, em consequência do que dispõem o artigo 17, inciso XII e o artigo 31, inciso II da Lei Complementar n, 123/2006, devendo entregar à Câmara dos Deputados, à título de comprovação, cópia de ofício – com comprovante de entrega e recebimento, que comunique a assinatura do contrato de prestação de serviços mediante cessão de mão de obra e encaminhado pela contratada à Secretaria Especial da Receita Federal do Brasil até o último dia útil do mês subsequente ao da contratação, consoante artigo 30, § 1º, inciso II da Lei Complementar n. 123/2006."]
[]
[]
[]
[null," A SEREM PRESTADAS SOMENTE NA HIPÓTESE DE LICITANTE NÃO BENEFICIADA PELA DESONERAÇÃO DA FOLHA DE PAGAMENTO INSTITUÍDA PELA LEI N. 12.546, DE 2011, ALTERADA PELA LEI N. 13.161, DE 2015"]
[]
[]
[null,"Declaramos, sob as penas da Lei, que:"]
[null,"a)   não recolhemos a contribuição previdenciária incidente sobre o valor da receita bruta, em substituição às contribuições previdenciárias incidentes sobre a folha de pagamento, previstas nos incisos I e III do caput do artigo 22 da Lei n. 8.212/1991, na forma do caput do artigo 7º (ou 8º) da Lei n. 12.546/2011, alterada pela Lei n. 13.161/2015;;"]
[]
[]
[null,"b)  temos ciência que nossa manifestação, conforme alínea “a” anterior, será remetida à Secretaria Especial da Receita Federal do Brasil e que, em caso de constatação de falsidade, estará sujeita às sanções administrativas cabíveis, sem prejuízo do encaminhamento dos documentos ao Ministério Público para apuração de eventual responsabilidade criminal desta declarante."]
[]
[]
[]
[null,"A SEREM PRESTADAS SOMENTE PARA A LICITANTE QUE SEJA A ATUAL TITULAR DO CONTRATO QUE SERÁ SUCEDIDO PELA CONTRATAÇÃO DECORRENTE DO PREGÃO EM EPÍGRAFE, NA HIPÓTESE DE HAVER SALÁRIO(S) PRATICADO(S) NO CONTRATO VIGENTE SUPERIOR(ES) AOS MÍNIMOS FIXADOS NO EDITAL E QUE TENHA OPTADO POR TOMAR COMO BASE EM SEUS LANCES E NA PRESENTE PROPOSTA DE PREÇOS SALÁRIO(S) FIXADO(S) NESTE EDITAL:"]
[]
[]
[null,"Declaramos que:"]
[null,"a)   estamos cientes de que deveremos apresentar à Câmara dos Deputados, no prazo improrrogável de 60 (sessenta) dias, contado da data de início da vigência do contrato, a convenção ou o acordo coletivo de trabalho, entabulado com a participação do sindicato dos trabalhadores, em que se autoriza a redução salarial, na forma do art. 7°, VI, da Constituição Federal, considerado, ainda, o disposto no subitem 10.10.2.1 do Título 10 da minuta do Termo de Contrato anexa;"]
[]
[]
[]
[null,"b) estamos cientes de que, na hipótese de não cumprirmos o disposto no teor da declaração da alínea anterior (“a”) e não logrado êxito na contratação de remanescente, sendo necessária a realização de nova licitação, caso participemos do certame, deveremos tomar como base em nossos lances e em nossa proposta de preços o(s) salário(s) maior(es), absorvendo ou acrescentando eventual diferença no BDI, sob pena de desclassificação."]
[]
[]
[null,"É OBRIGATÓRIA A COMPROVAÇÃO A QUE SE REFERE O ITEM 4.3 DO TÍTULO 4 DO TERMO DE REFERÊNCIA"]
[]
[]
[null,"(referente ao valor do Fator Acidentário de Prevenção (FAP))."]
[]
[]
[]
[null,"DADOS PARA ASSINATURA DO CONTRATO"]
[null,"Nome do signatário"]
[null,"Cargo"]
[null,"Qualificação\n(CPF, naturalidade e domicílio)"]
[null,"OBS.: O signatário deve possuir poderes de administração estabelecidos em contrato social e/ou possuir procuração com poderes para assinar contratos em nome da empresa. \nA documentação comprobatória deverá ser encaminhada quando da assinatura do contrato."]
[]
[null,"MODALIDADE DE GARANTIA:"]
[null,"De acordo com o disposto no Termo de Referência anexo ao Edital, informamos que, caso o objeto nos seja adjudicado, optaremos pela seguinte modalidade de garantia de execução do contrato (artigos 96 e seguintes da Lei 14.133/2021):"]
[null,"____________________________________"]
[]
[]
[]
[null,"Brasília,     de                     de ",null,null,null,null,2025]
[]
[null,"Assinatura do representante legal da empresa"]
[]
[]
[null,"Nome do representante legal da empresa"]

{"sheet":"Remunerações","index":3,"n_rows":41,"n_cols":11,"rows_kept":41,"cut":false,"hidden":false,"merged":[[0,1,0,10]]}
[null,"QUADRO DE REMUNERAÇÕES"]
[]
[null,null,"ITEM","POSTO DE TRABALHO","QUANTIDADE","SALÁRIO","ADICIONAL DE PERICULOSIDADE","ADICIONAL DE INSALUBRIDADE","ADICIONAL NOTURNO","OUTROS","SALÁRIO COM ADICIONAIS"]
[null,null,1,{"$f":"HLOOKUP(C4,'Dados Gerais'!$D$6:$BI$11,6)","v":"SUPERVISOR TÉCNICO OPERACIONAL"},{"$f":"HLOOKUP($C4,'Dados Gerais'!$D$6:$BI$15,10)","v":2},{"$f":"'1'!$F$9","v":15828.37},{"$f":"'1'!$F$10","v":0},{"$f":"'1'!$F$11","v":0},{"$f":"'1'!$F$12","v":0},{"$f":"'1'!$F$13+'1'!$F$14","v":0},{"$f":"SUM(F4:J4)","v":15828.37}]
[null,null,2,{"$f":"HLOOKUP(C5,'Dados Gerais'!$D$6:$BI$11,6)","v":"SUPERVISOR TÉCNICO"},{"$f":"HLOOKUP(C5,'Dados Gerais'!$D$6:$BI$15,10)","v":2},{"$f":"'2'!$F$9","v":11305.98},{"$f":"'2'!$F$10","v":0},{"$f":"'2'!$F$11","v":0},{"$f":"'2'!$F$12","v":0},{"$f":"'2'!$F$13+'2'!$F$14","v":0},{"$f":"SUM(F5:J5)","v":11305.98}]
[null,null,3,{"$f":"HLOOKUP(C6,'Dados Gerais'!$D$6:$BI$11,6)","v":"SUPERVISOR TÉCNICO \n(CENTRO DE TRANSMISSÃO)"},{"$f":"HLOOKUP(C6,'Dados Gerais'!$D$6:$BI$15,10)","v":1},{"$f":"'3'!$F$9","v":11305.98},{"$f":"'3'!$F$10","v":0},{"$f":"'3'!$F$11","v":0},{"$f":"'3'!$F$12","v":0},{"$f":"'3'!$F$13+'3'!$F$14","v":0},11305.98]
[null,null,4,{"$f":"HLOOKUP(C7,'Dados Gerais'!$D$6:$BI$11,6)","v":"SUPERVISOR DE OPERAÇÕES"},{"$f":"HLOOKUP(C7,'Dados Gerais'!$D$6:$BI$15,10)","v":2},{"$f":"'4'!$F$9","v":10867.58},{"$f":"'4'!$F$10","v":0},{"$f":"'4'!$F$11","v":0},{"$f":"'4'!$F$12","v":0},{"$f":"'4'!$F$13+'4'!$F$14","v":0},10867.58]
[null,null,5,{"$f":"HLOOKUP(C8,'Dados Gerais'!$D$6:$BI$11,6)","v":" DIRETOR DE IMAGENS – 30H"},{"$f":"HLOOKUP(C8,'Dados Gerais'!$D$6:$BI$15,10)","v":24},{"$f":"'5'!$F$9","v":6492.64},{"$f":"'5'!$F$10","v":0},{"$f":"'5'!$F$11","v":0},{"$f":"'5'!$F$12","v":0},{"$f":"'5'!$F$13+'5'!$F$14","v":0},6492.64]
[null,null,6,{"$f":"HLOOKUP(C9,'Dados Gerais'!$D$6:$BI$11,6)","v":" DIRETOR DE IMAGENS – 18H"},{"$f":"HLOOKUP(C9,'Dados Gerais'!$D$6:$BI$15,10)","v":21},{"$f":"'6'!$F$9","v":3895.59},{"$f":"'6'!$F$10","v":0},{"$f":"'6'!$F$11","v":0},{"$f":"'6'!$F$12","v":0},{"$f":"'6'!$F$13+'6'!$F$14","v":0},3895.59]
[null,null,7,{"$f":"HLOOKUP(C10,'Dados Gerais'!$D$6:$BI$11,6)","v":"TÉCNICO DE SISTEMAS AUDIOVISUAIS – especialidade Sistemas e Vídeo \n36H"},{"$f":"HLOOKUP(C10,'Dados Gerais'!$D$6:$BI$15,10)","v":4},{"$f":"'7'!$F$9","v":6660.16},{"$f":"'7'!$F$10","v":0},{"$f":"'7'!$F$11","v":0},{"$f":"'7'!$F$12","v":0},{"$f":"'7'!$F$13+'7'!$F$14","v":0},6660.16]
[null,null,8,{"$f":"HLOOKUP(C11,'Dados Gerais'!$D$6:$BI$11,6)","v":"OPERADOR DE MÍDIA AUDIOVISUAL – 30H"},{"$f":"HLOOKUP(C11,'Dados Gerais'!$D$6:$BI$15,10)","v":34},{"$f":"'8'!$F$9","v":5394.03},{"$f":"'8'!$F$10","v":0},{"$f":"'8'!$F$11","v":0},{"$f":"'8'!$F$12","v":0},{"$f":"'8'!$F$13+'8'!$F$14","v":0},5394.03]
[null,null,9,{"$f":"HLOOKUP(C12,'Dados Gerais'!$D$6:$BI$11,6)","v":"OPERADOR DE MÍDIA AUDIOVISUAL – 18H"},{"$f":"HLOOKUP(C12,'Dados Gerais'!$D$6:$BI$15,10)","v":26},{"$f":"'9'!$F$9","v":3236.42},{"$f":"'9'!$F$10","v":0},{"$f":"'9'!$F$11","v":0},{"$f":"'9'!$F$12","v":0},{"$f":"'9'!$F$13+'9'!$F$14","v":0},3236.42]
[null,null,10,{"$f":"HLOOKUP(C13,'Dados Gerais'!$D$6:$BI$11,6)","v":"OPERADOR DE TRANSMISSOR – Rádio e TV - 24H"},{"$f":"HLOOKUP(C13,'Dados Gerais'!$D$6:$BI$15,10)","v":5},{"$f":"'10'!$F$9","v":3837.34},{"$f":"'10'!$F$10","v":0},{"$f":"'10'!$F$11","v":0},{"$f":"'10'!$F$12","v":0},{"$f":"'10'!$F$13+'10'!$F$14","v":0},3837.34]
[null,null,11,{"$f":"HLOOKUP(C14,'Dados Gerais'!$D$6:$BI$11,6)","v":0},{"$f":"HLOOKUP(C14,'Dados Gerais'!$D$6:$BI$15,10)","v":0},{"$f":"'11'!$F$9","v":0},{"$f":"'11'!$F$10","v":0},{"$f":"'11'!$F$11","v":0},{"$f":"'11'!$F$12","v":0},{"$f":"'11'!$F$13+'11'!$F$14","v":0},0]
[null,null,12,{"$f":"HLOOKUP(C15,'Dados Gerais'!$D$6:$BI$11,6)","v":0},{"$f":"HLOOKUP(C15,'Dados Gerais'!$D$6:$BI$15,10)","v":0},{"$f":"'12'!$F$9","v":0},{"$f":"'12'!$F$10","v":0},{"$f":"'12'!$F$11","v":0},{"$f":"'12'!$F$12","v":0},{"$f":"'12'!$F$13+'12'!$F$14","v":0},0]
[null,null,13,{"$f":"HLOOKUP(C16,'Dados Gerais'!$D$6:$BI$11,6)","v":0},{"$f":"HLOOKUP(C16,'Dados Gerais'!$D$6:$BI$15,10)","v":0},{"$f":"'13'!$F$9","v":0},{"$f":"'13'!$F$10","v":0},{"$f":"'13'!$F$11","v":0},{"$f":"'13'!$F$12","v":0},{"$f":"'13'!$F$13+'13'!$F$14","v":0},0]
[null,null,14,{"$f":"HLOOKUP(C17,'Dados Gerais'!$D$6:$BI$11,6)","v":0},{"$f":"HLOOKUP(C17,'Dados Gerais'!$D$6:$BI$15,10)","v":0},{"$f":"'14'!$F$9","v":0},{"$f":"'14'!$F$10","v":0},{"$f":"'14'!$F$11","v":0},{"$f":"'14'!$F$12","v":0},{"$f":"'14'!$F$13+'14'!$F$14","v":0},0]
[null,null,15,{"$f":"HLOOKUP(C18,'Dados Gerais'!$D$6:$BI$11,6)","v":0},{"$f":"HLOOKUP(C18,'Dados Gerais'!$D$6:$BI$15,10)","v":0},{"$f":"'15'!$F$9","v":0},{"$f":"'15'!$F$10","v":0},{"$f":"'15'!$F$11","v":0},{"$f":"'15'!$F$12","v":0},{"$f":"'15'!$F$13+'15'!$F$14","v":0},0]
[null,null,16,{"$f":"HLOOKUP(C19,'Dados Gerais'!$D$6:$BI$11,6)","v":0},{"$f":"HLOOKUP(C19,'Dados Gerais'!$D$6:$BI$15,10)","v":0},{"$f":"#REF!","v":{"$error":"#REF!"}},{"$f":"#REF!","v":{"$error":"#REF!"}},{"$f":"#REF!","v":{"$error":"#REF!"}},{"$f":"#REF!","v":{"$error":"#REF!"}},{"$f":"#REF!+#REF!","v":{"$error":"#REF!"}},{"$error":"#REF!"}]
[null,null,17,{"$f":"HLOOKUP(C20,'Dados Gerais'!$D$6:$BI$11,6)","v":0},{"$f":"HLOOKUP(C20,'Dados Gerais'!$D$6:$BI$15,10)","v":0},{"$f":"#REF!","v":{"$error":"#REF!"}},{"$f":"#REF!","v":{"$error":"#REF!"}},{"$f":"#REF!","v":{"$error":"#REF!"}},{"$f":"#REF!","v":{"$error":"#REF!"}},{"$f":"#REF!+#REF!","v":{"$error":"#REF!"}},{"$error":"#REF!"}]
[null,null,18,{"$f":"HLOOKUP(C21,'Dados Gerais'!$D$6:$BI$11,6)","v":0},{"$f":"HLOOKUP(C21,'Dados Gerais'!$D$6:$BI$15,10)","v":0},{"$f":"#REF!","v":{"$error":"#REF!"}},{"$f":"#REF!","v":{"$error":"#REF!"}},{"$f":"#REF!","v":{"$error":"#REF!"}},{"$f":"#REF!","v":{"$error":"#REF!"}},{"$f":"#REF!+#REF!","v":{"$error":"#REF!"}},{"$error":"#REF!"}]
[null,null,19,{"$f":"HLOOKUP(C22,'Dados Gerais'!$D$6:$BI$11,6)","v":0},{"$f":"HLOOKUP(C22,'Dados Gerais'!$D$6:$BI$15,10)","v":0},{"$f":"#REF!","v":{"$error":"#REF!"}},{"$f":"#REF!","v":{"$error":"#REF!"}},{"$f":"#REF!","v":{"$error":"#REF!"}},{"$f":"#REF!","v":{"$error":"#REF!"}},{"$f":"#REF!+#REF!","v":{"$error":"#REF!"}},{"$error":"#REF!"}]
[null,null,20,{"$f":"HLOOKUP(C23,'Dados Gerais'!$D$6:$BI$11,6)","v":0},{"$f":"HLOOKUP(C23,'Dados Gerais'!$D$6:$BI$15,10)","v":0},{"$f":"#REF!","v":{"$error":"#REF!"}},{"$f":"#REF!","v":{"$error":"#REF!"}},{"$f":"#REF!","v":{"$error":"#REF!"}},{"$f":"#REF!","v":{"$error":"#REF!"}},{"$f":"#REF!+#REF!","v":{"$error":"#REF!"}},{"$error":"#REF!"}]
[null,null,21,{"$f":"HLOOKUP(C24,'Dados Gerais'!$D$6:$BI$11,6)","v":0},{"$f":"HLOOKUP(C24,'Dados Gerais'!$D$6:$BI$15,10)","v":0},{"$f":"#REF!","v":{"$error":"#REF!"}},{"$f":"#REF!","v":{"$error":"#REF!"}},{"$f":"#REF!","v":{"$error":"#REF!"}},{"$f":"#REF!","v":{"$error":"#REF!"}},{"$f":"#REF!+#REF!","v":{"$error":"#REF!"}},{"$error":"#REF!"}]
[null,null,22,{"$f":"HLOOKUP(C25,'Dados Gerais'!$D$6:$BI$11,6)","v":0},{"$f":"HLOOKUP(C25,'Dados Gerais'!$D$6:$BI$15,10)","v":0},{"$f":"#REF!","v":{"$error":"#REF!"}},{"$f":"#REF!","v":{"$error":"#REF!"}},{"$f":"#REF!","v":{"$error":"#REF!"}},{"$f":"#REF!","v":{"$error":"#REF!"}},{"$f":"#REF!+#REF!","v":{"$error":"#REF!"}},{"$error":"#REF!"}]
[null,null,23,{"$f":"HLOOKUP(C26,'Dados Gerais'!$D$6:$BI$11,6)","v":0},{"$f":"HLOOKUP(C26,'Dados Gerais'!$D$6:$BI$15,10)","v":0},{"$f":"#REF!","v":{"$error":"#REF!"}},{"$f":"#REF!","v":{"$error":"#REF!"}},{"$f":"#REF!","v":{"$error":"#REF!"}},{"$f":"#REF!","v":{"$error":"#REF!"}},{"$f":"#REF!+#REF!","v":{"$error":"#REF!"}},{"$error":"#REF!"}]
[null,null,24,{"$f":"HLOOKUP(C27,'Dados Gerais'!$D$6:$BI$11,6)","v":0},{"$f":"HLOOKUP(C27,'Dados Gerais'!$D$6:$BI$15,10)","v":0},{"$f":"#REF!","v":{"$error":"#REF!"}},{"$f":"#REF!","v":{"$error":"#REF!"}},{"$f":"#REF!","v":{"$error":"#REF!"}},{"$f":"#REF!","v":{"$error":"#REF!"}},{"$f":"#REF!+#REF!","v":{"$error":"#REF!"}},{"$error":"#REF!"}]
[null,null,25,{"$f":"HLOOKUP(C28,'Dados Gerais'!$D$6:$BI$11,6)","v":0},{"$f":"HLOOKUP(C28,'Dados Gerais'!$D$6:$BI$15,10)","v":0},{"$f":"#REF!","v":{"$error":"#REF!"}},{"$f":"#REF!","v":{"$error":"#REF!"}},{"$f":"#REF!","v":{"$error":"#REF!"}},{"$f":"#REF!","v":{"$error":"#REF!"}},{"$f":"#REF!+#REF!","v":{"$error":"#REF!"}},{"$error":"#REF!"}]
[null,null,26,{"$f":"HLOOKUP(C29,'Dados Gerais'!$D$6:$BI$11,6)","v":0},{"$f":"HLOOKUP(C29,'Dados Gerais'!$D$6:$BI$15,10)","v":0},{"$f":"#REF!","v":{"$error":"#REF!"}},{"$f":"#REF!","v":{"$error":"#REF!"}},{"$f":"#REF!","v":{"$error":"#REF!"}},{"$f":"#REF!","v":{"$error":"#REF!"}},{"$f":"#REF!+#REF!","v":{"$error":"#REF!"}},{"$error":"#REF!"}]
[null,null,27,{"$f":"HLOOKUP(C30,'Dados Gerais'!$D$6:$BI$11,6)","v":0},{"$f":"HLOOKUP(C30,'Dados Gerais'!$D$6:$BI$15,10)","v":0},{"$f":"#REF!","v":{"$error":"#REF!"}},{"$f":"#REF!","v":{"$error":"#REF!"}},{"$f":"#REF!","v":{"$error":"#REF!"}},{"$f":"#REF!","v":{"$error":"#REF!"}},{"$f":"#REF!+#REF!","v":{"$error":"#REF!"}},{"$error":"#REF!"}]
[null,null,28,{"$f":"HLOOKUP(C31,'Dados Gerais'!$D$6:$BI$11,6)","v":0},{"$f":"HLOOKUP(C31,'Dados Gerais'!$D$6:$BI$15,10)","v":0},{"$f":"#REF!","v":{"$error":"#REF!"}},{"$f":"#REF!","v":{"$error":"#REF!"}},{"$f":"#REF!","v":{"$error":"#REF!"}},{"$f":"#REF!","v":{"$error":"#REF!"}},{"$f":"#REF!+#REF!","v":{"$error":"#REF!"}},{"$error":"#REF!"}]
[null,null,29,{"$f":"HLOOKUP(C32,'Dados Gerais'!$D$6:$BI$11,6)","v":0},{"$f":"HLOOKUP(C32,'Dados Gerais'!$D$6:$BI$15,10)","v":0},{"$f":"#REF!","v":{"$error":"#REF!"}},{"$f":"#REF!","v":{"$error":"#REF!"}},{"$f":"#REF!","v":{"$error":"#REF!"}},{"$f":"#REF!","v":{"$error":"#REF!"}},{"$f":"#REF!+#REF!","v":{"$error":"#REF!"}},{"$error":"#REF!"}]
[null,null,30,{"$f":"HLOOKUP(C33,'Dados Gerais'!$D$6:$BI$11,6)","v":0},{"$f":"HLOOKUP(C33,'Dados Gerais'!$D$6:$BI$15,10)","v":0},{"$f":"#REF!","v":{"$error":"#REF!"}},{"$f":"#REF!","v":{"$error":"#REF!"}},{"$f":"#REF!","v":{"$error":"#REF!"}},{"$f":"#REF!","v":{"$error":"#REF!"}},{"$f":"#REF!+#REF!","v":{"$error":"#REF!"}},{"$error":"#REF!"}]
[null,null,31,{"$f":"HLOOKUP(C34,'Dados Gerais'!$D$6:$BI$11,6)","v":0},{"$f":"HLOOKUP(C34,'Dados Gerais'!$D$6:$BI$15,10)","v":0},{"$f":"#REF!","v":{"$error":"#REF!"}},{"$f":"#REF!","v":{"$error":"#REF!"}},{"$f":"#REF!","v":{"$error":"#REF!"}},{"$f":"#REF!","v":{"$error":"#REF!"}},{"$f":"#REF!+#REF!","v":{"$error":"#REF!"}},{"$error":"#REF!"}]
[null,null,32,{"$f":"HLOOKUP(C35,'Dados Gerais'!$D$6:$BI$11,6)","v":0},{"$f":"HLOOKUP(C35,'Dados Gerais'!$D$6:$BI$15,10)","v":0},{"$f":"#REF!","v":{"$error":"#REF!"}},{"$f":"#REF!","v":{"$error":"#REF!"}},{"$f":"#REF!","v":{"$error":"#REF!"}},{"$f":"#REF!","v":{"$error":"#REF!"}},{"$f":"#REF!+#REF!","v":{"$error":"#REF!"}},{"$error":"#REF!"}]
[null,null,33,{"$f":"HLOOKUP(C36,'Dados Gerais'!$D$6:$BI$11,6)","v":0},{"$f":"HLOOKUP(C36,'Dados Gerais'!$D$6:$BI$15,10)","v":0},{"$f":"#REF!","v":{"$error":"#REF!"}},{"$f":"#REF!","v":{"$error":"#REF!"}},{"$f":"#REF!","v":{"$error":"#REF!"}},{"$f":"#REF!","v":{"$error":"#REF!"}},{"$f":"#REF!+#REF!","v":{"$error":"#REF!"}},{"$error":"#REF!"}]
[null,null,34,{"$f":"HLOOKUP(C37,'Dados Gerais'!$D$6:$BI$11,6)","v":0},{"$f":"HLOOKUP(C37,'Dados Gerais'!$D$6:$BI$15,10)","v":0},{"$f":"#REF!","v":{"$error":"#REF!"}},{"$f":"#REF!","v":{"$error":"#REF!"}},{"$f":"#REF!","v":{"$error":"#REF!"}},{"$f":"#REF!","v":{"$error":"#REF!"}},{"$f":"#REF!+#REF!","v":{"$error":"#REF!"}},{"$error":"#REF!"}]
[null,null,35,{"$f":"HLOOKUP(C38,'Dados Gerais'!$D$6:$BI$11,6)","v":0},{"$f":"HLOOKUP(C38,'Dados Gerais'!$D$6:$BI$15,10)","v":0},{"$f":"#REF!","v":{"$error":"#REF!"}},{"$f":"#REF!","v":{"$error":"#REF!"}},{"$f":"#REF!","v":{"$error":"#REF!"}},{"$f":"#REF!","v":{"$error":"#REF!"}},{"$f":"#REF!+#REF!","v":{"$error":"#REF!"}},{"$error":"#REF!"}]
[null,null,36,{"$f":"HLOOKUP(C39,'Dados Gerais'!$D$6:$BI$11,6)","v":0},{"$f":"HLOOKUP(C39,'Dados Gerais'!$D$6:$BI$15,10)","v":0},{"$f":"#REF!","v":{"$error":"#REF!"}},{"$f":"#REF!","v":{"$error":"#REF!"}},{"$f":"#REF!","v":{"$error":"#REF!"}},{"$f":"#REF!","v":{"$error":"#REF!"}},{"$f":"#REF!+#REF!","v":{"$error":"#REF!"}},{"$error":"#REF!"}]
[]
[null,null,null,"TOTAL ",{"$f":"SUM(E4:E39)","v":121}]

{"sheet":"Dados Gerais","index":4,"n_rows":132,"n_cols":61,"rows_kept":132,"cut":false,"hidden":false,"merged":[[3,1,3,2]]}
[]
[]
[]
[null,"INFORMAÇÕES DE ENTRADA"]
[]
[null,null,null,1,2,3,4,5,6,7,8,9,10,11,12,13,14,15,16,17,18,19,20,21,22,23,24,25,26,27,28,29,30,31,32,33,34,35,36,null,40,41,42,43,44,45,46,47,48,49,50,51,52,53,54,55,56,57,58,59,60]
[null,"",null,"CARGO 1","CARGO 2","CARGO 3","CARGO 4","CARGO 5","CARGO 6","CARGO 7","CARGO 8","CARGO 9","CARGO 10","CARGO 11","CARGO 12","CARGO 13","CARGO 14","CARGO 15","CARGO 16","CARGO 17","CARGO 18","CARGO 19","CARGO 20","CARGO 21","CARGO 22","CARGO 23","CARGO 24","CARGO 25","CARGO 26","CARGO 27","CARGO 28","CARGO 29","CARGO 30","CARGO 31","CARGO 32","CARGO 33","CARGO 34","CARGO 35","CARGO 36",null,"CARGO 40","CARGO 41","CARGO 42","CARGO 43","CARGO 44","CARGO 45","CARGO 46","CARGO 47","CARGO 48","CARGO 49","CARGO 50","CARGO 51","CARGO 52","CARGO 53","CARGO 54","CARGO 55","CARGO 56","CARGO 57","CARGO 58","CARGO 59","CARGO 60"]
[null,"INFORMAÇÕES BÁSICAS"]
[]
[null,"DESCRIÇÃO DOS POSTOS DE SERVIÇO"]
[null,null,null,"SUPERVISOR TÉCNICO OPERACIONAL","SUPERVISOR TÉCNICO","SUPERVISOR TÉCNICO \n(CENTRO DE TRANSMISSÃO)","SUPERVISOR DE OPERAÇÕES"," DIRETOR DE IMAGENS – 30H"," DIRETOR DE IMAGENS – 18H","TÉCNICO DE SISTEMAS AUDIOVISUAIS – especialidade Sistemas e Vídeo \n36H","OPERADOR DE MÍDIA AUDIOVISUAL – 30H","OPERADOR DE MÍDIA AUDIOVISUAL – 18H","OPERADOR DE TRANSMISSOR – Rádio e TV - 24H"]
[null,"REMUNERAÇÕES"]
[null,null,null,15828.37,11305.98,11305.98,10867.58,6492.64,3895.59,6660.16,5394.03,3236.42,3837.34]
[null,"QUANTIDADE DE POSTOS"]
[null,null,null,2,2,1,2,24,21,4,34,26,5]
[null,"JORNADA"]
[null,null,"HORAS/DIA",8,8,8,8,6,6,6,6,6,6]
[null,null,"DIAS/MÊS",22,22,22,22,22,{"$f":"3*52/12","v":13},22,22,{"$f":"3*52/12","v":13},{"$f":"ROUNDDOWN(4*52/12,0)","v":17}]
[null,null,"HORAS/MÊS",{"$f":"5*44","v":220},{"$f":"5*44","v":220},{"$f":"5*44","v":220},{"$f":"5*44","v":220},{"$f":"30*5","v":150},{"$f":"18*5","v":90},{"$f":"36*5","v":180},{"$f":"30*5","v":150},{"$f":"18*5","v":90},{"$f":"24*5","v":120}]
[null,"CCT UTILIZADA"]
[null,null,"SINDICATOS E REFERÊNCIA","SEAC/DF X SINRAD/DF\nCCT 2024/2024\nN.º DF000133/2024",{"$f":"D21","v":"SEAC/DF X SINRAD/DF\nCCT 2024/2024\nN.º DF000133/2024"},{"$f":"E21","v":"SEAC/DF X SINRAD/DF\nCCT 2024/2024\nN.º DF000133/2024"},"SEAC/DF X SINRAD/DF\nCCT 2024/2024\nN.º DF000133/2024","SEAC/DF X SINRAD/DF\nCCT 2024/2024\nN.º DF000133/2024","SEAC/DF X SINRAD/DF\nCCT 2024/2024\nN.º DF000133/2024","SEAC/DF X SINRAD/DF\nCCT 2024/2024\nN.º DF000133/2024","SEAC/DF X SINRAD/DF\nCCT 2024/2024\nN.º DF000133/2024","SEAC/DF X SINRAD/DF\nCCT 2024/2024\nN.º DF000133/2024","SEAC/DF X SINRAD/DF\nCCT 2024/2024\nN.º DF000133/2024"]
[null,null,"DATA-BASE","2024-01-01",{"$f":"D22","v":"2024-01-01"},{"$f":"E22","v":"2024-01-01"},"2024-01-01","2024-01-01","2024-01-01","2024-01-01","2024-01-01","2024-01-01","2024-01-01"]
[]
[null,"ADICIONAIS LEGAIS E GRATIFICAÇÕES"]
[]
[null,"PERICULOSIDADE (PERCENTUAL)"]
[null,null,null,0,0,0,0,0,0,0,0,0,0]
[null,"BASE DE CÁLCULO DO ADICIONAL DE PERICULOSIDADE (SALÁRIO BÁSICO)"]
[null,null,null,{"$f":"D13","v":15828.37},{"$f":"E13","v":11305.98},15828.37,11305.98,11305.98,10867.58,6492.64,3895.59,6660.16,5394.03]
[null,"VALOR MENSAL DO ADICIONAL DE PERICULOSIDADE"]
[null,null,null,{"$f":"ROUND(D27*D13,2)","v":0},{"$f":"ROUND(E27*E13,2)","v":0},0,0,0,0,0,0,0,0]
[null,"INSALUBRIDADE (PERCENTUAL)"]
[null,null,null,0,0,0,0,0,0,0,0,0,0]
[null,"BASE DE CÁLCULO DO ADICIONAL DE INSALUBRIDADE (SALÁRIO MÍNIMO LEGAL)"]
[null,null,null,1412,{"$f":"D35","v":1412},{"$f":"E35","v":1412},{"$f":"F35","v":1412},{"$f":"G35","v":1412},1412,1412,1412,1412,1412]
[null,"VALOR MENSAL DO ADICIONAL DE INSALUBRIDADE"]
[null,null,null,{"$f":"ROUND(D33*D13,2)","v":0},{"$f":"ROUND(E33*E35,2)","v":0},0,0,0,0,0,0,0,0]
[null,"GRATIFICAÇÃO - VALOR MENSAL (R$)"]
[null,null,null,0,0,0,0,0,0,0,0,0,0]
[]
[null,"ADICIONAL NOTURNO"]
[]
[null,"INCIDÊNCIA (PERCENTUAL)"]
[null,null,null,0.4,{"$f":"D44","v":0.4},{"$f":"E44","v":0.4},0.4,0.4,0.4,0.4,0.4,0.4,0.4]
[null,"HORAS REAIS POR DIA"]
[null,null,null,0,0,0,0,0,0,0,0,0,0,null,null,null,null,null,null,null,null,null,null,null,null,null,null,null,null,null,null,null,null,null,null,null,null,null,null,0]
[null,"HORAS FICTAS POR DIA"]
[null,null,null,{"$f":"D46*8/7","v":0},0,0,0,0,0,0,{"$f":"K46*8/7","v":0},{"$f":"L46*8/7","v":0},{"$f":"M46*8/7","v":0}]
[null,"BASE DE CÁLCULO DO ADICIONAL NOTURNO (INCLUINDO ADICIONAIS E GRATIFICAÇÕES)"]
[null,null,null,{"$f":"D13+D31+D37+D39","v":15828.37},11305.98,{"$f":"F13+F31+F37+F39","v":11305.98},10867.58,6492.64,3895.59,6660.16,{"$f":"K13+K31+K37+K39","v":5394.03},{"$f":"L13+L31+L37+L39","v":3236.42},{"$f":"M13+M31+M37+M39","v":3837.34}]
[null,"VALOR MENSAL DO ADICIONAL NOTURNO (HORA NORMAL + HORA REDUZIDA) - POR POSTO"]
[null,null,null,{"$f":"ROUND(D48*D18*D44*D50/D19,2)","v":0},0,{"$f":"ROUND(F48*F18*F44*F50/F19,2)","v":0},0,0,0,0,{"$f":"ROUND(K48*K18*K44*K50/K19,2)","v":0},{"$f":"ROUND(L48*L18*L44*L50/L19,2)","v":0},{"$f":"ROUND(M48*M18*M44*M50/M19,2)","v":0}]
[]
[null,"ADICIONAL DE HORA EXTRA"]
[]
[null,"INCIDÊNCIA (PERCENTUAL 1)"]
[null,null,null,0.5,0.5,0.5,0.5,0.5,0.5,0.5,0.5,0.5,0.5]
[null,"HORAS EXTRAS POR MÊS (PERCENTUAL 1)"]
[null,null,null,0,0,0,0,0,0,0,0,0,0]
[null,"VALOR MENSAL DO ADICIONAL DE HORAS EXTRAS (PERCENTUAL 1) - POR POSTO"]
[null,null,null,{"$f":"ROUND(D59*D57*D13/D19,2)","v":0},0,{"$f":"ROUND(F59*F57*F13/F19,2)","v":0},0,0,0,0,{"$f":"ROUND(K59*K57*K13/K19,2)","v":0},{"$f":"ROUND(L59*L57*L13/L19,2)","v":0},{"$f":"ROUND(M59*M57*M13/M19,2)","v":0}]
[null,"INCIDÊNCIA (PERCENTUAL 2)"]
[null,null,null,1,1,1,1,1,1,1,1,1,1]
[null,"HORAS EXTRAS POR MÊS (PERCENTUAL 2)"]
[null,null,null,0,0,0,0,0,0,0,0,0,0]
[null,"VALOR MENSAL DO ADICIONAL DE HORAS EXTRAS (PERCENTUAL 2) - POR POSTO"]
[null,null,null,{"$f":"ROUND(D65*D63*D13/D19,2)","v":0},0,{"$f":"ROUND(F65*F63*F13/F19,2)","v":0},0,0,0,0,{"$f":"ROUND(K65*K63*K13/K19,2)","v":0},{"$f":"ROUND(L65*L63*L13/L19,2)","v":0},{"$f":"ROUND(M65*M63*M13/M19,2)","v":0}]
[null,"TOTAL MENSAL DOS ADICIONAIS DE HORAS EXTRAS - POR POSTO"]
[null,null,null,{"$f":"D67+D61","v":0},0,{"$f":"F67+F61","v":0},0,0,0,0,{"$f":"K67+K61","v":0},{"$f":"L67+L61","v":0},{"$f":"M67+M61","v":0}]
[]
[null,"BENEFÍCIOS COMUNS - AUXÍLIO TRANSPORTE"]
[]
[null,"DISTRIBUIÇÃO ESTIMADA DE PROCEDÊNCIA"]
[null,null,"Cidade-satélite",{"$f":"100%-D75","v":0.86776859504132231},{"$f":"D74","v":0.86776859504132231},{"$f":"E74","v":0.86776859504132231},0.86776859504132231,0.86776859504132231,0.86776859504132231,0.86776859504132231,0.86776859504132231,0.86776859504132231,0.86776859504132231]
[null,null,"Região do entorno",{"$f":"16/Remunerações!E41","v":0.13223140495867769},{"$f":"D75","v":0.13223140495867769},0.13223140495867769,0.13223140495867769,0.13223140495867769,0.13223140495867769,0.13223140495867769,0.13223140495867769,0.13223140495867769,0.13223140495867769]
[null,null,"Esplanada - apenas para os que vêm do entorno",{"$f":"D75","v":0.13223140495867769},0.13223140495867769,0.13223140495867769,0.13223140495867769,0.13223140495867769,0.13223140495867769,0.13223140495867769,0.13223140495867769,0.13223140495867769,0.13223140495867769]
[null,"VALORES DOS VALES"]
[null,null,"Cidade-satélite",5.5,{"$f":"D78","v":5.5},{"$f":"E78","v":5.5},5.5,5.5,5.5,5.5,5.5,5.5,5.5]
[null,null,"Região do entorno",8.7799999999999994,{"$f":"D79","v":8.7799999999999994},{"$f":"E79","v":8.7799999999999994},8.7799999999999994,8.7799999999999994,8.7799999999999994,8.7799999999999994,8.7799999999999994,8.7799999999999994,8.7799999999999994]
[null,null,"Esplanada",2.75,{"$f":"D80","v":2.75},{"$f":"E80","v":2.75},2.75,2.75,2.75,2.75,2.75,2.75,2.75]
[null,"VALOR MENSAL BRUTO DE PAGAMENTO - POR POSTO"]
[null,null,null,{"$f":"ROUND((D74*D78+D75*D79+D76*D80)*2*D18,2)","v":277.08},277.08,{"$f":"ROUND((F74*F78+F75*F79+F76*F80)*2*F18,2)","v":277.08},277.08,277.08,163.72999999999999,277.08,{"$f":"ROUND((K74*K78+K75*K79+K76*K80)*2*K18,2)","v":277.08},{"$f":"ROUND((L74*L78+L75*L79+L76*L80)*2*L18,2)","v":163.72999999999999},{"$f":"ROUND((M74*M78+M75*M79+M76*M80)*2*M18,2)","v":214.11}]
[null,"PERCENTUAL DE DESCONTO"]
[null,null,null,0.06,{"$f":"D84","v":0.06},{"$f":"E84","v":0.06},0.06,0.06,0.06,0.06,0.06,0.06,0.06]
[null,"VALOR MENSAL DO DESCONTO - POR POSTO"]
[null,null,null,{"$f":"ROUND(D84*D13,2)","v":949.7},678.36,{"$f":"ROUND(F84*F13,2)","v":678.36},652.04999999999995,389.56,233.74,399.61,{"$f":"ROUND(K84*K13,2)","v":323.64},{"$f":"ROUND(L84*L13,2)","v":194.19},{"$f":"ROUND(M84*M13,2)","v":230.24}]
[null,"VALOR MENSAL LÍQUIDO DO VALE TRANSPORTE - POR POSTO"]
[null,null,null,{"$f":"IF(D82>D86,D82-D86,0)","v":0},0,0,0,0,0,0,{"$f":"IF(K82>K86,K82-K86,0)","v":0},{"$f":"IF(L82>L86,L82-L86,0)","v":0},{"$f":"IF(M82>M86,M82-M86,0)","v":0}]
[null,null,null,{"$f":"D88*D15","v":0},{"$f":"E88*E15","v":0},{"$f":"F88*F15","v":0},{"$f":"G88*G15","v":0}]
[null,"BENEFÍCIOS COMUNS - AUXÍLIO ALIMENTAÇÃO"]
[]
[null,null,"VALOR CCT",43.5,{"$f":"D92","v":43.5},43.5,43.5,43.5,43.5,43.5,43.5,43.5,43.5]
[null,null,"VALOR CD",35,{"$f":"D93","v":35},35,35,35,35,35,35,35,35]
[null,"VALOR MENSAL DO AUXÍLIO ALIMENTAÇÃO - POR POSTO"]
[null,null,null,{"$f":"ROUND(LARGE(D92:D93,1)*D18,2)","v":957},{"$f":"ROUND(LARGE(E92:E93,1)*E18,2)","v":957},{"$f":"ROUND(LARGE(F92:F93,1)*F18,2)","v":957},957,957,565.5,957,957,565.5,739.5]
[null,null,null,{"$f":"D95*D15","v":1914},{"$f":"E95*E15","v":1914},{"$f":"F95*F15","v":957},{"$f":"G95*G15","v":1914}]
[null,"BENEFÍCIOS ESPECIAIS - ASSISTÊNCIA MÉDICA E FAMILIAR"]
[]
[null,null,"OBRIGAÇÃO DE PAGTO","NÃO",{"$f":"D99","v":"NÃO"},{"$f":"E99","v":"NÃO"},"NÃO","NÃO","NÃO","NÃO","NÃO","NÃO","NÃO"]
[null,null,"VALOR CCT",0,{"$f":"D100","v":0},{"$f":"E100","v":0},0,0,0,0,0,0,0]
[null,null,"VALOR MERCADO ",0,{"$f":"D101","v":0},{"$f":"E101","v":0},0,0,0,0,0,0,0]
[null,"VALOR MENSAL DO AUXÍLIO ESPECIAL - ASSISTÊNCIA MÉDICA E FAMILIAR - POR POSTO"]
[null,null,null,{"$f":"IF(D99=\"SIM\",ROUND(SMALL(D100:D101,1),2),0)","v":0},{"$f":"D103","v":0},{"$f":"E103","v":0},0,0,0,0,0,0,0]
[]
[null,"BENEFÍCIOS ESPECIAIS - SEGURO DE VIDA E AUXÍLIO-FUNERAL, AUX ODONT, AUX CRECHE"]
[]
[null,"SEGURO DE VIDA E AUXÍLIO FUNERAL"]
[null,null,"OBRIGAÇÃO DE PAGTO","SIM","SIM","SIM","SIM","SIM","SIM","SIM","SIM","SIM","SIM"]
[null,null,"VALOR CCT",3.9,{"$f":"D109","v":3.9},3.9,3.9,3.9,3.9,3.9,3.9,3.9,3.9]
[null,null,"VALOR MERCADO",18.399999999999999,18.399999999999999,18.399999999999999,18.399999999999999,18.399999999999999,18.399999999999999,18.399999999999999,18.399999999999999,18.399999999999999,18.399999999999999]
[null,"VALOR MENSAL DO AUXÍLIO ESPECIAL - SEGURO DE VIDA E AUXÍLIO FUNERAL - POR POSTO"]
[null,null,null,{"$f":"IF(D108=\"SIM\",ROUND(SMALL(D109:D110,1),2),0)","v":3.9},3.9,3.9,3.9,3.9,3.9,3.9,3.9,3.9,3.9]
[null,"AUXÍLIO ODONTOLÓGICO"]
[null,null,"OBRIGAÇÃO DE PAGTO","NÃO","NÃO","NÃO","NÃO","NÃO","NÃO","NÃO","NÃO","NÃO","NÃO"]
[null,null,"VALOR CCT",0,0,0,0,0,0,0,0,0,0]
[null,null,"VALOR MERCADO",0,0,0,0,0,0,0,0,0,0]
[null,"VALOR MENSAL DO AUXÍLIO ESPECIAL - AUXILIO ODONTOLOGICO - POR POSTO"]
[null,null,null,{"$f":"IF(D114=\"SIM\",ROUND(SMALL(D115:D116,1),2),0)","v":0},0,0,0,0,0,0,0,0,0]
[null,"REEMBOLSO CRECHE"]
[null,null,"OBRIGAÇÃO DE PAGTO","SIM","SIM","SIM","SIM","SIM","SIM","SIM","SIM","SIM","SIM"]
[null,null,"VALOR CCT"]
[null,null,"VALOR CALCULADO - % PESSOAS COM CRIANCAS ATE 6A - 20%",{"$f":"560*0.2","v":112},{"$f":"D122","v":112},{"$f":"E122","v":112},{"$f":"F122","v":112},112,112,112,112,112,112]
[null,"VALOR MENSAL DO AUXÍLIO ESPECIAL - REEMBOLSO CRECHE - POR POSTO"]
[null,null,null,{"$f":"IF(D120=\"SIM\",ROUND(SMALL(D121:D122,1),2),0)","v":112},112,112,112,112,112,112,112,112,112,{"$f":"N95+N88","v":0},0,0,0,0,0,0,0,0,0,0,0,0,0,0,0,0,0,0,0,0,0,0,0,0,0]
[null,"AUXÍLIO VESTUÁRIO ESPECIAL"]
[null,null,"OBRIGAÇÃO DE PAGTO","SIM","SIM","SIM","SIM","SIM","SIM","SIM","SIM","SIM","NÃO"]
[null,null,"VALOR CCT",{"$f":"1312/6","v":218.66666666666666},{"$f":"D127","v":218.66666666666666},{"$f":"E127","v":218.66666666666666},{"$f":"F127","v":218.66666666666666},218.66666666666666,218.66666666666666,218.66666666666666,218.66666666666666,218.66666666666666,218.66666666666666]
[null,null,"VALOR MERCADO"]
[null,"VALOR MENSAL DO AUXÍLIO ESPECIAL - VESTUTUÁRIO - POR POSTO"]
[null,null,null,{"$f":"IF(D126=\"SIM\",ROUND(SMALL(D127:D128,1),2),0)","v":218.67},218.67,218.67,218.67,218.67,218.67,218.67,{"$f":"IF(K126=\"SIM\",ROUND(SMALL(K127:K128,1),2),0)","v":218.67},{"$f":"IF(L126=\"SIM\",ROUND(SMALL(L127:L128,1),2),0)","v":218.67},{"$f":"IF(M126=\"SIM\",ROUND(SMALL(M127:M128,1),2),0)","v":0}]
[null,"TOTAL MENSAL DOS AUXÍLIOS ESPECIAIS - POR POSTO"]
[null,null,null,{"$f":"+D112+D118+D124+D130","v":334.57},{"$f":"+E112+E118+E124+E130","v":334.57},{"$f":"+F112+F118+F124+F130","v":334.57},{"$f":"+G112+G118+G124+G130","v":334.57},{"$f":"+H112+H118+H124+H130","v":334.57},334.57,334.57,334.57,334.57,115.9]

{"sheet":"Encargos Sociais","index":5,"n_rows":56,"n_cols":7,"rows_kept":56,"cut":false,"hidden":false,"merged":[[2,1,2,3],[3,1,3,4]]}
[]
[]
[]
[null,"ENCARGOS SOCIAIS SOBRE A MÃO DE OBRA"]
[null,null,null,null,"Percentuais"]
[]
[null,"Referência:"]
[null,null,"SINAPI "]
[]
[null,"Categorias:"]
[null,null,"TODAS"]
[]
[null,"GRUPO A: Encargos Sociais Básicos - Previdenciários (GPS), Fundo de Garantia por Tempo de Serviço (FGTS) e Outras Contribuições",null,null,{"$f":"ROUND(SUM(E14:E22),4)","v":0.34799999999999998}]
[null,null,"A","INSS (art. 22, inciso I, Lei nº 8.212/91)",0.2]
[null,null,"B","Salário Educação (art. 3º, inciso I, Decreto nº 87.043/82)",2.5000000000000001E-2,null,"* Nota 1 - Os percentuais dos encargos previdenciários, do FGTS e demais contribuições são estabelecidos por legislação vigente."]
[null,null,"C","SAT/RAT (art. 22, II, Lei 8.212/91 e Anexo V, Decreto 6.042/07) - Enquadramento 5911-1/99 ",0.01,null,"* Nota 2 - O SAT, a depender do grau de risco do serviço, irá variar entre 1%, para risco leve, de 2%, para risco médio, e de 3% para risco grave."]
[null,null,"D","SESC ou SESI (art. 30, Lei nº 8.036/90 e art. 1º, Lei 8.154/90)",1.4999999999999999E-2,null,"* Nota 3 - Os percentuais do Submódulo 2.2 incidem sobre o Módulo 1, o Submódulo 2.1, o Módulo 3, o Módulo 4 e o Módulo 6."]
[null,null,"E","SENAI ou SENAC (Decreto nº 2.318/86)",0.01]
[null,null,"F","SEBRAE (§ 3º, art. 8º, Lei 8.029/90, alterada pela Lei nº 8.154/90)",6.0000000000000001E-3]
[null,null,"G","INCRA (art. 1º, I, Decreto Lei 1.146/70 e Lei 7.787, de 30/06/89)",2E-3]
[null,null,"H","FGTS (Lei Complementar nº 110/01 e art. 30, Lei nº 8.036/90)",0.08]
[null,null,"I","SECONCI (Convenções Coletivas de Trabalho da construção)",0]
[]
[null,"GRUPO B: Encargos Sociais Relacionados ao Custo do Profissional Ausente - Ausências Legais",null,null,{"$f":"ROUND(SUM(E25:E33),4)","v":0.22450000000000001}]
[null,null,"A","Férias (Arts. 129 e 130, inc. I, da CLT)",{"$f":"ROUND(1/11,4)","v":9.0899999999999995E-2},null,"* Nota 1 - As alíneas “A” a “F” referem-se somente ao custo que será pago ao repositor pelos dias \ntrabalhados quando da necessidade de substituir a mão de obra alocada na prestação do serviço."]
[null,null,"B","Ausências Legais (Arts. 131 e 473 da CLT)",{"$f":"ROUND(2/252,4)","v":7.9000000000000008E-3},null,"* Nota 2 - Adotou-se a estimativa do SINAPI de 2 dias por ano. Em 252 dias úteis por ano."]
[null,null,"C","Licença-Paternidade (Art. 7º, XIX, e art. 10, §1º, do ADCT, CF/1988 e Art. 1º, II, da Lei 11.770/2008)",{"$f":"ROUND((5/(30*12))*0.0596,4)","v":8.0000000000000004E-4},null,"* Nota 3 - Utilizada a proporção de 50% para homens, 5 dias de afastamento, e a probabilidade de um trabalhador requerer a Licença Paternidade em 5,96%, conforme SINAPI (Anuário Estatístico da Previdência Social - 2017)"]
[null,null,"D","Ausência por Acidente de Trabalho (Art. 131, III, da CLT)",{"$f":"ROUND(0.0205*15/360,4)","v":8.9999999999999998E-4},null,"* Nota 4 - Utilzada a estatística de 2,05% dos contribuintes beneficiados com a emissão do auxílio, conforme Anuário Estatístico da Previdência Social. Afastamento de 15 dias a cargo da empresa."]
[null,null,"E","Afastamento Maternidade (Art. 71 da Lei nº 8.213/1991)",{"$f":"ROUND(0.0508*(120/360)*(30+30*4/3)/360,4)","v":3.3E-3},null,"* Nota 5 - Utilizada a estimativa de 120 dias de afastamento, e a probabilidade de uma trabalhadora requerer a Licença Maternidade em 5,08%, conforme SINAPI (citando dados do IBGE 2017) - A própria previdência paga o benefício pelos 120 dias, contudo o empregador arca com o 13º e com as férias"]
[null,null,"F","Auxílio Enfermidade - Doença (Art. 59 da Lei nº 8.213/1991)",{"$f":"ROUND(((0.0376*15)+2)/360,4)","v":7.1000000000000004E-3},null,"* Nota 6 - Utilizada a estatística de 3,76% dos contribuintes beneficiados com o auxílio, conforme Anuário Estatístico da Previdência Social de 2016 (acrescidos de 2 dias ao ano, para os quais o trabalhador nem requer o benefício da Previdência - conforme SINAPI)"]
[null,null,"G","Adicional de Férias (componente do Submódulo 2.1)",{"$f":"ROUND(1/3*1/11,4)","v":3.0300000000000001E-2},null,"* Nota 7 - O adicional de férias contido no Submódulo 2.1 corresponde a 1/3 da remuneração que, por sua vez, é dividida por 11 conforme Nota 1."]
[null,null,"H","13º Salário (destacado na planilha de custos)",{"$f":"ROUND(1/12,4)","v":8.3299999999999999E-2},null,"* Nota 8 - Provisiona-se, mensalmente, o proporcional a 1/12 dos valores referentes a gratificação natalina e adicional de férias."]
[null,null,"I","Intervalo para repouso ou alimentação (componente do Submódulo 4.2)",0]
[]
[null,"GRUPO C: Encargos Sociais Relacionados à Previsão para Rescisão Trabalhista",null,null,{"$f":"ROUND(SUM(E36:E41),4)","v":5.5100000000000003E-2}]
[null,null,"A","Aviso Prévio Indenizado (Art. 7º, inciso XXI, da CF/1988 e arts. 477, 487, §1º, e 491 da CLT)",{"$f":"ROUND(D54*30/360,4)","v":4.1999999999999997E-3},null,"* Nota 1 - Considerou-se 5% de demitidos sem justa causa ao ano e recebendo aviso indenizado (30 dias de aviso prévio / 360 dias ao ano)"]
[null,null,"B","Incidência do FGTS sobre o Aviso Prévio Indenizado (Súmula 305 TST)",{"$f":"ROUND(E21*E36,4)","v":2.9999999999999997E-4}]
[null,null,"C","Multa do FGTS sobre o Aviso Prévio Indenizado (Art. 18, §1º, da Lei 8.036/1990)",{"$f":"ROUND((1+1/12+1/12+1/36)*0.4*E21*D54,4)","v":1.9E-3},null,"* Nota 2 - Incide sobre a Remuneração + 13º salário (1/12) + Férias (1/12) + Adicional de Férias (1/36) x 40% multa para o empregador x 8% FGTS x taxa de rotatividade estimada 5%"]
[null,null,"D","Aviso Prévio Trabalhado (Art. 488, parágrafo único, CLT)",{"$f":"ROUND((7)*100%/(D56*30),4)","v":7.7999999999999996E-3},null,"* Nota 3 - Considerou-se demissões de 100% ao final do prazo do contrato. Assim, calcula-se 7 dias de aviso prévio trabalhado dividido pelo prazo do contrato."]
[null,null,"E","Incidência de GPS, FGTS e outras contribuições sobre o Aviso Prévio Trabalhado",{"$f":"ROUND(E39*E13,4)","v":2.7000000000000001E-3}]
[null,null,"F","Multa do FGTS",{"$f":"ROUND(((1+1/12+1/12+1/36)*0.4*E21),4)","v":3.8199999999999998E-2},null,"* Nota 4 - Incide sobre a Remuneração + 13º salário (1/12) + Férias (1/12) + Adicional de Férias (1/36) x 40% multa para o empregador x 8% FGTS"]
[]
[null,"GRUPO D: Reincidências",null,null,{"$f":"ROUND(SUM(E44:E44),4)","v":7.8100000000000003E-2}]
[null,null,"A","Reincidência do Grupo A sobre o Grupo B",{"$f":"ROUND(E13*E24,4)","v":7.8100000000000003E-2}]
[]
[null,null,null,"SOMATÓRIO - ENCARGOS SOCIAIS SOBRE A MÃO DE OBRA",{"$f":"E43+E35+E24+E13","v":0.70569999999999999}]
[]
[]
[]
[null,null,"ENCARGOS SEM O 13º"]
[null,null,null,{"$f":"E46-E32-E32*E13","v":0.59341159999999993}]
[]
[null,null,"% DEMIDIDOS AO LONGO DO ANO"]
[null,null,null,0.05]
[null,null,"PRAZO DO CONTRATO (EM MESES)"]
[null,null,null,30]

{"sheet":"Encargos Sociais HE","index":6,"n_rows":47,"n_cols":7,"rows_kept":47,"cut":false,"hidden":true,"merged":[[2,1,2,3],[3,1,3,4]]}
[]
[]
[]
[null,"ENCARGOS SOCIAIS SOBRE A MÃO DE OBRA - HORAS EXTRAS"]
[null,null,null,null,"Percentuais"]
[]
[null,"Referência:"]
[null,null,"SINAPI OUT/2018"]
[]
[null,"Categorias:"]
[null,null,"TODAS"]
[]
[null,"GRUPO A: Encargos Sociais Básicos - Previdenciários (GPS), Fundo de Garantia por Tempo de Serviço (FGTS) e Outras Contribuições",null,null,{"$f":"ROUND(SUM(E14:E22),4)","v":0.158}]
[null,null,"A","INSS (art. 22, inciso I, Lei nº 8.212/91)",0]
[null,null,"B","Salário Educação (art. 3º, inciso I, Decreto nº 87.043/82)",2.5000000000000001E-2,null,"* Nota 1 - Os percentuais dos encargos previdenciários, do FGTS e demais contribuições são estabelecidos por legislação vigente."]
[null,null,"C","SAT/RAT (art. 22, II, Lei 8.212/91 e Anexo V, Decreto 6.042/07) - Enquadramento 4330-1/01",0.01,null,"* Nota 2 - O SAT, a depender do grau de risco do serviço, irá variar entre 1%, para risco leve, de 2%, para risco médio, e de 3% para risco grave."]
[null,null,"D","SESC ou SESI (art. 30, Lei nº 8.036/90 e art. 1º, Lei 8.154/90)",1.4999999999999999E-2,null,"* Nota 3 - Os percentuais do Submódulo 2.2 incidem sobre o Módulo 1, o Submódulo 2.1, o Módulo 3, o Módulo 4 e o Módulo 6."]
[null,null,"E","SENAI ou SENAC (Decreto nº 2.318/86)",0.01]
[null,null,"F","SEBRAE (§ 3º, art. 8º, Lei 8.029/90, alterada pela Lei nº 8.154/90)",6.0000000000000001E-3]
[null,null,"G","INCRA (art. 1º, I, Decreto Lei 1.146/70 e Lei 7.787, de 30/06/89)",2E-3]
[null,null,"H","FGTS (Lei Complementar nº 110/01 e art. 30, Lei nº 8.036/90)",0.08]
[null,null,"I","SECONCI (Convenções Coletivas de Trabalho da construção)",0.01]
[]
[null,"GRUPO B: Encargos Sociais Relacionados ao Custo de Reposição do Profissional Ausente - Ausências Legais",null,null,{"$f":"ROUND(SUM(E25:E34),4)","v":0.39119999999999999}]
[null,null,"A","Férias (Arts. 129 e 130, inc. I, da CLT)",{"$f":"1/11","v":9.0909090909090912E-2},null,"* Nota 1 - As alíneas “A” a “F” referem-se somente ao custo que será pago ao repositor pelos dias \ntrabalhados quando da necessidade de substituir a mão de obra alocada na prestação do serviço."]
[null,null,"B","Ausências Legais (Arts. 131 e 473 da CLT)",{"$f":"2/252","v":7.9365079365079361E-3},null,"* Nota 2 - Adotou-se a estimativa do SINAPI de 2 dias por ano. Em 252 dias úteis por ano."]
[null,null,"C","Licença-Paternidade (Art. 7º, XIX, e art. 10, §1º, do ADCT, CF/1988 e Art. 1º, II, da Lei 11.770/2008)",{"$f":"(5/(30*12))*0.0596","v":8.2777777777777776E-4},null,"* Nota 3 - Utilizada a proporção de 50% para homens, 5 dias de afastamento, e a probabilidade de um trabalhador requerer a Licença Paternidade em 5,96%, conforme SINAPI (Anuário Estatístico da Previdência Social - 2017)"]
[null,null,"D","Ausência por Acidente de Trabalho (Art. 131, III, da CLT)",{"$f":"0.0205*15/360","v":8.541666666666667E-4},null,"* Nota 4 - Utilzada a estatística de 2,05% dos contribuintes beneficiados com a emissão do auxílio, conforme Anuário Estatístico da Previdência Social. Afastamento de 15 dias a cargo da empresa."]
[null,null,"E","Afastamento Maternidade (Art. 71 da Lei nº 8.213/1991)",{"$f":"0.0508*(120/360)*(30+30*4/3)/360","v":3.2925925925925922E-3},null,"* Nota 5 - Utilizada a estimativa de 120 dias de afastamento, e a probabilidade de uma trabalhadora requerer a Licença Maternidade em 5,08%, conforme SINAPI (citando dados do IBGE 2017) - A própria previdência paga o benefício pelos 120 dias, contudo o empregador arca com o 13º e com as férias"]
[null,null,"F","Auxílio Enfermidade - Doença (Art. 59 da Lei nº 8.213/1991)",{"$f":"((0.0376*15)+2)/360","v":7.1222222222222225E-3},null,"* Nota 6 - Utilizada a estatística de 3,76% dos contribuintes beneficiados com o auxílio, conforme Anuário Estatístico da Previdência Social de 2016 (acrescidos de 2 dias ao ano, para os quais o trabalhador nem requer o benefício da Previdência - conforme SINAPI)"]
[null,null,"G","Adicional de Férias (componente do Submódulo 2.1)",{"$f":"1/3*1/11","v":3.03030303030303E-2},null,"* Nota 7 - O adicional de férias contido no Submódulo 2.1 corresponde a 1/3 da remuneração que, por sua vez, é dividida por 12 contome Nota 1."]
[null,null,"H","13º Salário (destacado na planilha de custos)",{"$f":"1/12","v":8.3333333333333329E-2},null,"* Nota 8 - Provisiona-se, mensalmente, o proporcional a 1/12 dos valores referentes a gratificação natalina e adicional de férias."]
[null,null,"I","Intervalo para repouso ou alimentação (componente do Submódulo 4.2)",0]
[null,null,"J","Repouso Semanal Remunerado (DSR)",{"$f":"5/30","v":0.16666666666666666},null,"* Nota 9 - 5 dias de repouso por mês"]
[]
[null,"GRUPO C: Encargos Sociais Relacionados à Previsão para Rescisão Trabalhista",null,null,{"$f":"ROUND(SUM(E37:E42),4)","v":2.5100000000000001E-2}]
[null,null,"A","Aviso Prévio Indenizado (Art. 7º, inciso XXI, da CF/1988 e arts. 477, 487, §1º, e 491 da CLT)",{"$f":"ROUND(0.1*30/360,4)","v":8.3000000000000001E-3},null,"* Nota 1 - Considerou-se demissões de 10% para substituições, a um prazo estimado de contrato de 30 meses. Considerou-se os 5% demitidos sem justa causa e recebendo aviso indenizado."]
[null,null,"B","Incidência do FGTS sobre o Aviso Prévio Indenizado (Súmula 305 TST)",{"$f":"ROUND(E22*E37,4)","v":1E-4}]
[null,null,"C","Multa do FGTS (Art. 18, §1º, da Lei 8.036/1990)",{"$f":"ROUND((1+1/12+1/12+1/36)*0.4*E22*0.05,4)","v":2.0000000000000001E-4},null,"* Nota 2 - Incide sobre a Remuneração + 13º salário (1/12) + Férias (1/12) + Adicional de Férias (1/36) x 40% multa para o empregador x 8% FGTS x taxa de rotatividade estimada 5%"]
[null,null,"D","Aviso Prévio Trabalhado (Art. 488, parágrafo único, CLT)",{"$f":"ROUND(((7+2*3)*100%/360)/3,4)","v":1.2E-2},null,"* Nota 3 - Considerou-se demissões de 100% ao final do contrato, com um prazo médio estimado de 3 anos. Assim, calcula-se 7 dias para o 1º ano de contrato e mais 3 dias para os 2 anos seguintes. Total 13 dias."]
[null,null,"E","Incidência de GPS, FGTS e outras contribuições sobre o Aviso Prévio Trabalhado",{"$f":"ROUND(E40*E14,4)","v":0}]
[null,null,"F","Multa do FGTS",{"$f":"ROUND((1+1/12+1/12+1/36)*0.4*E22*(1-0.05),4)","v":4.4999999999999997E-3},null,"* Nota 4 - Incide sobre a Remuneração + 13º salário (1/12) + Férias (1/12) + Adicional de Férias (1/36) x 40% multa para o empregador x 8% FGTS x (1- taxa de rotatividade estimada Nota2)"]
[]
[null,"GRUPO D: Reincidências",null,null,{"$f":"ROUND(SUM(E45:E45),4)","v":6.1800000000000001E-2}]
[null,null,"A","Reincidência do Grupo A sobre o Grupo B",{"$f":"E13*E24","v":6.1809599999999999E-2}]
[]
[null,null,null,"SOMATÓRIO - ENCARGOS SOCIAIS SOBRE A MÃO DE OBRA",{"$f":"E44+E36+E24+E13+0.01%","v":0.63619999999999999}]

{"sheet":"BDI - Geral","index":7,"n_rows":27,"n_cols":7,"rows_kept":27,"cut":false,"hidden":false,"merged":[[2,1,2,3],[3,1,3,4]]}
[]
[]
[]
[null,"COMPOSIÇÃO DA TAXA DE CUSTOS INDIRETOS, TRIBUTOS E LUCRO - BDI"]
[null,"APLICAÇÃO: MÃO DE OBRA, 13º, MATERIAIS, EPC E EQUIPAMENTO DE REGISTRO DE FREQUÊNCIA",null,null,"Percentuais"]
[]
[null,"Custos Indiretos da Contratada",null,null,{"$f":"SUM(E8:E9)","v":2.6000000000000002E-2}]
[null,null,"A","Administração Central",2.06E-2,null,"* Nota 1 - O Somatório da Administração Central com o Lucro deve ser inferior a 12%"]
[null,null,"B","Seguros, Garantias e Riscos",{"$f":"0.34%+0.2%","v":5.4000000000000003E-3},null,"* Nota 2 - O risco previsto para o porte do contrato majorado em mais 0,20% devido ao não pagamento dos insumos componentes do custo do posto quando da ausência do mesmo."]
[]
[null,"Lucro",null,null,{"$f":"SUM(E12:E12)","v":3.3399999999999999E-2}]
[null,null,"A","Lucro Real sobre os Custos Administrados",3.3399999999999999E-2]
[]
[null,"Despesas Financeiras",null,null,{"$f":"E15","v":5.0569567433733642E-3}]
[null,null,"A","Cálculo Baseado no Prazo para a Restituição dos Desembolsos Realizados pelo Contratado e na Taxa de Retorno Arbitrada",{"$f":"(1+E17)^(E16/252)-1","v":5.0569567433733642E-3},null,"* Nota 1 - DF = [(1+TR)^(DU/252)]/100"]
[null,null,"A.1","Dias Úteis Considerados",11,null,"* Nota 2 - Diferença de dias entre o desembolso, pelo contratado, e o pagamento, pela Câmara"]
[null,null,"A.2","Taxa de Retorno",0.1225,null,"* Nota 3 - A taxa sugerida é a meta da SELIC"]
[]
[null,"Impostos - Tributos Federais",null,null,{"$f":"SUM(E20:E22)","v":7.3999999999999996E-2}]
[null,null,"A","Contribuição para o Financiamento da Seguridade Social - COFINS",{"$f":"0.8*7.6%","v":6.08E-2},null,"* Nota 1 - Redução de 20% considerando as deduções permitidas em Lei, conforme SENGE, citado pelo TCU - Acórdão 2622/2013"]
[null,null,"B","Programa de Integração Social - PIS",{"$f":"0.8*1.65%","v":1.3200000000000002E-2},null,"* Nota 2 - Redução de 20% considerando as deduções permitidas em Lei, conforme SENGE, citado pelo TCU - Acórdão 2622/2013"]
[null,null,"C","Contribuição Previdenciária sobre a Receita Bruta - CPRB",0,null,"* Nota 3 - Lei 12.546/2011 - Verificar atualizações e setores beneficiados"]
[]
[null,"Impostos - Tributos Distritais",null,null,{"$f":"SUM(E25:E25)","v":0.05}]
[null,null,"A","Imposto sobre Serviço de Qualquer Natureza - ISS",0.05,null,"* Nota 1 - Adotada a alíquota de 5% considerando o enquadramento como fornecimento de mão de obra contratada pelo prestador, serviço previsto no item 17.05 do Manual do Substitutivo Tributário do ISS/DF e artigo 27 do Decreto 25.508/2005 do GDF"]
[]
[null,null,null,"SOMATÓRIO - BDI",{"$f":"ROUND((((1+E7)*(1+E11)*(1+E14)/(1-E19-E24))-1),4)","v":0.2165},null,"* Nota 1 - [(1+AC+SGR)*(1+L)*(1+DF)/(1-CONFINS-PIS-CPRB-ISS)]-1"]

{"sheet":"BDI materiais","index":8,"n_rows":27,"n_cols":7,"rows_kept":27,"cut":false,"hidden":true,"merged":[[2,1,2,3],[3,1,3,4]]}
[]
[]
[]
[null,"COMPOSIÇÃO DA TAXA DE CUSTOS INDIRETOS, TRIBUTOS E LUCRO - BDI"]
[null,"APLICAÇÃO: MATERIAIS SOB DEMANDA",null,null,"Percentuais"]
[]
[null,"Custos Indiretos da Contratada",null,null,{"$f":"ROUND(SUM(E8:E9),4)","v":2.07E-2}]
[null,null,"A","Administração Central",1.7299999999999999E-2,null,"* Nota 1 - O Somatório da Administração Central com o Lucro deve ser inferior a 12%"]
[null,null,"B","Seguros, Garantias e Riscos",3.3999999999999998E-3]
[]
[null,"Lucro",null,null,{"$f":"SUM(E12:E12)","v":2.6700000000000002E-2}]
[null,null,"A","Lucro Real sobre os Custos Administrados",2.6700000000000002E-2]
[]
[null,"Despesas Financeiras",null,null,{"$f":"E15","v":5.4000000000000003E-3}]
[null,null,"A","Cálculo Baseado no Prazo para a Restituição dos Desembolsos Realizados pelo Contratado e na Taxa de Retorno Arbitrada",{"$f":"ROUND((1+E17)^(E16/252)-1,4)","v":5.4000000000000003E-3},null,"* Nota 1 - DF = [(1+TR)^(DU/252)]/100"]
[null,null,"A.1","Dias Úteis Considerados",11,null,"* Nota 2 - Diferença de dias entre o desembolso, pelo contratado, e o pagamento, pela Câmara"]
[null,null,"A.2","Taxa de Retorno",0.13250000000000001,null,"* Nota 3 - A taxa sugerida é a meta da SELIC"]
[]
[null,"Impostos - Tributos Federais",null,null,{"$f":"SUM(E20:E22)","v":4.65E-2}]
[null,null,"A","Contribuição para o Financiamento da Seguridade Social - COFINS",{"$f":"ROUND(0.8*7.6%*E7*E11*E14,4)","v":0},null,"* Nota 1 - Redução de 20% considerando as deduções permitidas em Lei, conforme SENGE, citado pelo TCU - Acórdão 2622/2013"]
[null,null,"B","Programa de Integração Social - PIS",{"$f":"ROUND(0.8*1.65%*0.11,4)","v":1.5E-3},null,"* Nota 2 - Redução de 20% considerando as deduções permitidas em Lei, conforme SENGE, citado pelo TCU - Acórdão 2622/2013"]
[null,null,"C","Contribuição Previdenciária sobre a Receita Bruta - CPRB",4.4999999999999998E-2,null,"* Nota 3 - Lei 12.546/2011 - Verificar atualizações e setores beneficiados"]
[]
[null,"Impostos - Tributos Distritais",null,null,{"$f":"SUM(E25:E25)","v":0}]
[null,null,"A","Imposto sobre Serviço de Qualquer Natureza - ISS",0]
[]
[null,null,null,"SOMATÓRIO - BDI MATERIAIS",{"$f":"ROUND((((1+E7)*(1+E11)*(1+E14)/(1-E19-E24))-1),4)","v":0.105},null,"* Nota 1 - [(1+AC+SGR)*(1+L)*(1+DF)/(1-CONFINS-PIS-CPRB-ISS)]-1"]

{"sheet":"BDI servicos","index":9,"n_rows":27,"n_cols":16,"rows_kept":27,"cut":false,"hidden":true,"merged":[[2,1,2,3],[3,1,3,4]]}
[]
[]
[]
[null,"COMPOSIÇÃO DA TAXA DE CUSTOS INDIRETOS, TRIBUTOS E LUCRO - BDI"]
[null,"APLICAÇÃO: SERVIÇOS SOB DEMANDA",null,null,"Percentuais"]
[]
[null,"Custos Indiretos da Contratada",null,null,{"$f":"SUM(E8:E9)","v":0.1}]
[null,null,"A","Administração Central",0.05,null,"* Nota 1 - O Somatório da Administração Central com o Lucro deve ser inferior a 12%",null,null,null,null,null,null,null,null,"Utilizado o parâmetro do TCU para obras (Acordão 2622/2013 - TCU - plenário)"]
[null,null,"B","Seguros, Garantias e Riscos",0.05,null,null,null,null,null,null,null,null,null,null,"Utilizado o parâmetro do TCU para obras (Acordão 2622/2013 - TCU - plenário)"]
[]
[null,"Lucro",null,null,{"$f":"SUM(E12:E12)","v":2.6700000000000002E-2}]
[null,null,"A","Lucro Real sobre os Custos Administrados",2.6700000000000002E-2,null,null,null,null,null,null,null,null,null,null,"Utilizado o parâmetro do TCU para obras (Acordão 2622/2013 - TCU - plenário)"]
[]
[null,"Despesas Financeiras",null,null,{"$f":"E15","v":5.4000000000000003E-3}]
[null,null,"A","Cálculo Baseado no Prazo para a Restituição dos Desembolsos Realizados pelo Contratado e na Taxa de Retorno Arbitrada",{"$f":"ROUND((1+E17)^(E16/252)-1,4)","v":5.4000000000000003E-3},null,"* Nota 1 - DF = [(1+TR)^(DU/252)]/100"]
[null,null,"A.1","Dias Úteis Considerados",11,null,"* Nota 2 - Diferença de dias entre o desembolso, pelo contratado, e o pagamento, pela Câmara"]
[null,null,"A.2","Taxa de Retorno",0.13250000000000001,null,"* Nota 3 - A taxa sugerida é a meta da SELIC"]
[]
[null,"Impostos - Tributos Federais",null,null,{"$f":"SUM(E20:E22)","v":6.2799999999999995E-2}]
[null,null,"A","Contribuição para o Financiamento da Seguridade Social - COFINS",{"$f":"ROUND(0.8*7.6%*0.24,4)","v":1.46E-2},null,"* Nota 1 - Redução de 20% considerando as deduções permitidas em Lei, conforme SENGE, citado pelo TCU - Acórdão 2622/2013"]
[null,null,"B","Programa de Integração Social - PIS",{"$f":"ROUND(0.8*1.65%*0.24,4)","v":3.2000000000000002E-3},null,"* Nota 2 - Redução de 20% considerando as deduções permitidas em Lei, conforme SENGE, citado pelo TCU - Acórdão 2622/2013"]
[null,null,"C","Contribuição Previdenciária sobre a Receita Bruta - CPRB",4.4999999999999998E-2,null,"* Nota 3 - Lei 12.546/2011 - Verificar atualizações e setores beneficiados"]
[]
[null,"Impostos - Tributos Distritais",null,null,{"$f":"SUM(E25:E25)","v":0.02}]
[null,null,"A","Imposto sobre Serviço de Qualquer Natureza - ISS",0.02]
[]
[null,null,null,"SOMATÓRIO - ENCARGOS SOCIAIS SOBRE A MÃO DE OBRA",{"$f":"ROUND((((1+E7)*(1+E11)*(1+E14)/(1-E19-E24))-1),4)","v":0.23799999999999999},null,"* Nota 1 - [(1+AC+SGR)*(1+L)*(1+DF)/(1-CONFINS-PIS-CPRB-ISS)]-1"]

{"sheet":"Uniformes","index":10,"n_rows":45,"n_cols":130,"rows_kept":45,"cut":false,"hidden":false,"merged":[[2,1,2,3],[3,1,3,7]]}
[]
[]
[]
[null,"UNIFORMES - AQUISIÇÃO",null,null,null,null,null,null,null,null,1,null,{"$f":"K4+1","v":2},null,{"$f":"M4+1","v":3},null,{"$f":"O4+1","v":4},null,{"$f":"Q4+1","v":5},null,{"$f":"S4+1","v":6},null,{"$f":"U4+1","v":7},null,{"$f":"W4+1","v":8},null,{"$f":"Y4+1","v":9},null,{"$f":"AA4+1","v":10},null,{"$f":"AC4+1","v":11},null,{"$f":"AE4+1","v":12},null,{"$f":"AG4+1","v":13},null,{"$f":"AI4+1","v":14},null,{"$f":"AK4+1","v":15},null,{"$f":"AM4+1","v":16},null,{"$f":"AO4+1","v":17},null,{"$f":"AQ4+1","v":18},null,{"$f":"AS4+1","v":19},null,{"$f":"AU4+1","v":20},null,{"$f":"AW4+1","v":21},null,{"$f":"AY4+1","v":22},null,{"$f":"BA4+1","v":23},null,{"$f":"BC4+1","v":24},null,{"$f":"BE4+1","v":25},null,{"$f":"BG4+1","v":26},null,{"$f":"BI4+1","v":27},null,{"$f":"BK4+1","v":28},null,{"$f":"BM4+1","v":29},null,{"$f":"BO4+1","v":30},null,{"$f":"BQ4+1","v":31},null,{"$f":"BS4+1","v":32},null,{"$f":"BU4+1","v":33},null,{"$f":"BW4+1","v":34},null,{"$f":"BY4+1","v":35},null,{"$f":"CA4+1","v":36},null,{"$f":"CC4+1","v":37},null,{"$f":"CE4+1","v":38},null,{"$f":"CG4+1","v":39},null,{"$f":"CI4+1","v":40},null,{"$f":"CK4+1","v":41},null,{"$f":"CM4+1","v":42},null,{"$f":"CO4+1","v":43},null,{"$f":"CQ4+1","v":44},null,{"$f":"CS4+1","v":45},null,{"$f":"CU4+1","v":46},null,{"$f":"CW4+1","v":47},null,{"$f":"CY4+1","v":48},null,{"$f":"DA4+1","v":49},null,{"$f":"DC4+1","v":50},null,{"$f":"DE4+1","v":51},null,{"$f":"DG4+1","v":52},null,{"$f":"DI4+1","v":53},null,{"$f":"DK4+1","v":54},null,{"$f":"DM4+1","v":55},null,{"$f":"DO4+1","v":56},null,{"$f":"DQ4+1","v":57},null,{"$f":"DS4+1","v":58},null,{"$f":"DU4+1","v":59},null,{"$f":"DW4+1","v":60}]
[]
[null,null,null,null,null,null,null,null,null,null,{"$f":"ROUND(SUM(L8:L46),2)","v":0},null,{"$f":"ROUND(SUM(N5:N47),2)","v":0},null,{"$f":"ROUND(SUM(P5:P47),2)","v":0},null,{"$f":"ROUND(SUM(R5:R47),2)","v":0},null,{"$f":"ROUND(SUM(T5:T47),2)","v":0},null,{"$f":"ROUND(SUM(V5:V47),2)","v":0},null,{"$f":"ROUND(SUM(X5:X47),2)","v":0},null,{"$f":"ROUND(SUM(Z5:Z47),2)","v":0},null,{"$f":"ROUND(SUM(AB5:AB47),2)","v":0},null,{"$f":"ROUND(SUM(AD5:AD47),2)","v":1438.48},null,{"$f":"ROUND(SUM(AF5:AF47),2)","v":0},null,{"$f":"ROUND(SUM(AH5:AH47),2)","v":0},null,{"$f":"ROUND(SUM(AJ5:AJ47),2)","v":0},null,{"$f":"ROUND(SUM(AL5:AL47),2)","v":0},null,{"$f":"ROUND(SUM(AN5:AN47),2)","v":0},null,{"$f":"ROUND(SUM(AP5:AP47),2)","v":0},null,{"$f":"ROUND(SUM(AR5:AR47),2)","v":0},null,{"$f":"ROUND(SUM(AT5:AT47),2)","v":0},null,{"$f":"ROUND(SUM(AV5:AV47),2)","v":0},null,{"$f":"ROUND(SUM(AX5:AX47),2)","v":0},null,{"$f":"ROUND(SUM(AZ5:AZ47),2)","v":0},null,{"$f":"ROUND(SUM(BB5:BB47),2)","v":0},null,{"$f":"ROUND(SUM(BD5:BD47),2)","v":0},null,{"$f":"ROUND(SUM(BF5:BF47),2)","v":0},null,{"$f":"ROUND(SUM(BH5:BH47),2)","v":0},null,{"$f":"ROUND(SUM(BJ5:BJ47),2)","v":0},null,{"$f":"ROUND(SUM(BL5:BL47),2)","v":0},null,{"$f":"ROUND(SUM(BN5:BN47),2)","v":0},null,{"$f":"ROUND(SUM(BP5:BP47),2)","v":0},null,{"$f":"ROUND(SUM(BR5:BR47),2)","v":0},null,{"$f":"ROUND(SUM(BT5:BT47),2)","v":0},null,{"$f":"ROUND(SUM(BV5:BV47),2)","v":0},null,{"$f":"ROUND(SUM(BX5:BX47),2)","v":0},null,{"$f":"ROUND(SUM(BZ5:BZ47),2)","v":0},null,{"$f":"ROUND(SUM(CB5:CB47),2)","v":0},null,{"$f":"ROUND(SUM(CD5:CD47),2)","v":0},null,{"$f":"ROUND(SUM(CF5:CF47),2)","v":0},null,{"$f":"ROUND(SUM(CH5:CH47),2)","v":{"$error":"#REF!"}},null,{"$f":"ROUND(SUM(CJ5:CJ47),2)","v":{"$error":"#REF!"}},null,{"$f":"ROUND(SUM(CL5:CL47),2)","v":{"$error":"#REF!"}},null,{"$f":"ROUND(SUM(CN5:CN47),2)","v":{"$error":"#REF!"}},null,{"$f":"ROUND(SUM(CP5:CP47),2)","v":{"$error":"#REF!"}},null,{"$f":"ROUND(SUM(CR5:CR47),2)","v":{"$error":"#REF!"}},null,{"$f":"ROUND(SUM(CT5:CT47),2)","v":{"$error":"#REF!"}},null,{"$f":"ROUND(SUM(CV5:CV47),2)","v":{"$error":"#REF!"}},null,{"$f":"ROUND(SUM(CX5:CX47),2)","v":{"$error":"#REF!"}},null,{"$f":"ROUND(SUM(CZ5:CZ47),2)","v":{"$error":"#REF!"}},null,{"$f":"ROUND(SUM(DB5:DB47),2)","v":{"$error":"#REF!"}},null,{"$f":"ROUND(SUM(DD5:DD47),2)","v":{"$error":"#REF!"}},null,{"$f":"ROUND(SUM(DF5:DF47),2)","v":{"$error":"#REF!"}},null,{"$f":"ROUND(SUM(DH5:DH47),2)","v":{"$error":"#REF!"}},null,{"$f":"ROUND(SUM(DJ5:DJ47),2)","v":{"$error":"#REF!"}},null,{"$f":"ROUND(SUM(DL5:DL47),2)","v":{"$error":"#REF!"}},null,{"$f":"ROUND(SUM(DN5:DN47),2)","v":{"$error":"#REF!"}},null,{"$f":"ROUND(SUM(DP5:DP47),2)","v":{"$error":"#REF!"}},null,{"$f":"ROUND(SUM(DR5:DR47),2)","v":{"$error":"#REF!"}},null,{"$f":"ROUND(SUM(DT5:DT47),2)","v":{"$error":"#REF!"}},null,{"$f":"ROUND(SUM(DV5:DV47),2)","v":{"$error":"#REF!"}},null,{"$f":"ROUND(SUM(DX5:DX47),2)","v":{"$error":"#REF!"}},null,{"$f":"ROUND(SUM(DZ5:DZ47),2)","v":{"$error":"#REF!"}}]
[null,null,"CATEGORIAS",null,null,null,null,"QUANTIDADE"]
[null,null,null,null,null,null,null,null,null,null,{"$f":"IF($C8=K$4,1,0)","v":0},null,{"$f":"IF($C8=M$4,1,0)","v":0},null,{"$f":"IF($C8=O$4,1,0)","v":0},null,{"$f":"IF($C8=Q$4,1,0)","v":0},null,{"$f":"IF($C8=S$4,1,0)","v":0},null,{"$f":"IF($C8=U$4,1,0)","v":0},null,{"$f":"IF($C8=W$4,1,0)","v":0},null,{"$f":"IF($C8=Y$4,1,0)","v":0},null,{"$f":"IF($C8=AA$4,1,0)","v":0},null,{"$f":"IF($C8=AC$4,1,0)","v":0},null,{"$f":"IF($C8=AE$4,1,0)","v":0},null,{"$f":"IF($C8=AG$4,1,0)","v":0},null,{"$f":"IF($C8=AI$4,1,0)","v":0},null,{"$f":"IF($C8=AK$4,1,0)","v":0},null,{"$f":"IF($C8=AM$4,1,0)","v":0},null,{"$f":"IF($C8=AO$4,1,0)","v":0},null,{"$f":"IF($C8=AQ$4,1,0)","v":0},null,{"$f":"IF($C8=AS$4,1,0)","v":0},null,{"$f":"IF($C8=AU$4,1,0)","v":0},null,{"$f":"IF($C8=AW$4,1,0)","v":0},null,{"$f":"IF($C8=AY$4,1,0)","v":0},null,{"$f":"IF($C8=BA$4,1,0)","v":0},null,{"$f":"IF($C8=BC$4,1,0)","v":0},null,{"$f":"IF($C8=BE$4,1,0)","v":0},null,{"$f":"IF($C8=BG$4,1,0)","v":0},null,{"$f":"IF($C8=BI$4,1,0)","v":0},null,{"$f":"IF($C8=BK$4,1,0)","v":0},null,{"$f":"IF($C8=BM$4,1,0)","v":0},null,{"$f":"IF($C8=BO$4,1,0)","v":0},null,{"$f":"IF($C8=BQ$4,1,0)","v":0},null,{"$f":"IF($C8=BS$4,1,0)","v":0},null,{"$f":"IF($C8=BU$4,1,0)","v":0},null,{"$f":"IF($C8=BW$4,1,0)","v":0},null,{"$f":"IF($C8=BY$4,1,0)","v":0},null,{"$f":"IF($C8=CA$4,1,0)","v":0},null,{"$f":"IF($C8=CC$4,1,0)","v":0},null,{"$f":"IF($C8=CE$4,1,0)","v":0},null,{"$f":"IF($C8=CG$4,1,0)","v":0},null,{"$f":"IF($C8=CI$4,1,0)","v":0},null,{"$f":"IF($C8=CK$4,1,0)","v":0},null,{"$f":"IF($C8=CM$4,1,0)","v":0},null,{"$f":"IF($C8=CO$4,1,0)","v":0},null,{"$f":"IF($C8=CQ$4,1,0)","v":0},null,{"$f":"IF($C8=CS$4,1,0)","v":0},null,{"$f":"IF($C8=CU$4,1,0)","v":0},null,{"$f":"IF($C8=CW$4,1,0)","v":0},null,{"$f":"IF($C8=CY$4,1,0)","v":0},null,{"$f":"IF($C8=DA$4,1,0)","v":0},null,{"$f":"IF($C8=DC$4,1,0)","v":0},null,{"$f":"IF($C8=DE$4,1,0)","v":0},null,{"$f":"IF($C8=DG$4,1,0)","v":0},null,{"$f":"IF($C8=DI$4,1,0)","v":0},null,{"$f":"IF($C8=DK$4,1,0)","v":0},null,{"$f":"IF($C8=DM$4,1,0)","v":0},null,{"$f":"IF($C8=DO$4,1,0)","v":0},null,{"$f":"IF($C8=DQ$4,1,0)","v":0},null,{"$f":"IF($C8=DS$4,1,0)","v":0},null,{"$f":"IF($C8=DU$4,1,0)","v":0},null,{"$f":"IF($C8=DW$4,1,0)","v":0},null,{"$f":"IF($C8=DY$4,1,0)","v":0}]
[null,null,10,{"$f":"HLOOKUP($C9,'Dados Gerais'!$D$6:$BI$11,6)","v":"OPERADOR DE TRANSMISSOR – Rádio e TV - 24H"},null,null,null,{"$f":"HLOOKUP($C9,'Dados Gerais'!$D$6:$BI$15,10)","v":5},null,null,0,null,0,null,0,null,0,null,{"$f":"IF($C9=S$4,1,0)","v":0},null,0,null,0,null,0,null,0,null,1,null,0,null,0,null,0,null,0,null,0,null,0,null,0,null,0,null,0,null,0,null,0,null,0,null,0,null,0,null,0,null,0,null,0,null,0,null,0,null,0,null,0,null,0,null,0,null,0,null,0,null,0,null,0,null,0,null,0,null,0,null,0,null,0,null,0,null,0,null,0,null,0,null,0,null,0,null,0,null,0,null,0,null,0,null,0,null,0,null,0,null,0,null,0,null,0,null,0,null,0]
[null,null,null,null,null,null,null,null,null,null,0,null,0,null,0,null,0,null,0,null,0,null,0,null,0,null,0,null,0,null,0,null,0,null,0,null,0,null,0,null,0,null,0,null,0,null,0,null,0,null,0,null,0,null,0,null,0,null,0,null,0,null,0,null,0,null,0,null,0,null,0,null,0,null,0,null,0,null,0,null,0,null,0,null,0,null,0,null,0,null,0,null,0,null,0,null,0,null,0,null,0,null,0,null,0,null,0,null,0,null,0,null,0,null,0,null,0,null,0,null,0,null,0,null,0,null,0,null,0]
[null,null,null,null,null,null,null,null,null,null,0,null,0,null,0,null,0,null,0,null,0,null,0,null,0,null,0,null,0,null,0,null,0,null,0,null,0,null,0,null,0,null,0,null,0,null,0,null,0,null,0,null,0,null,0,null,0,null,0,null,0,null,0,null,0,null,0,null,0,null,0,null,0,null,0,null,0,null,0,null,0,null,0,null,0,null,0,null,0,null,0,null,0,null,0,null,0,null,0,null,0,null,0,null,0,null,0,null,0,null,0,null,0,null,0,null,0,null,0,null,0,null,0,null,0,null,0,null,0]
[null,null,null,null,null,null,null,null,null,null,0,null,0,null,0,null,0,null,0,null,0,null,0,null,0,null,0,null,0,null,0,null,0,null,0,null,0,null,0,null,0,null,0,null,0,null,0,null,0,null,0,null,0,null,0,null,0,null,0,null,0,null,0,null,0,null,0,null,0,null,0,null,0,null,0,null,0,null,0,null,0,null,0,null,0,null,0,null,0,null,0,null,0,null,0,null,0,null,0,null,0,null,0,null,0,null,0,null,0,null,0,null,0,null,0,null,0,null,0,null,0,null,0,null,0,null,0,null,0]
[null,null,null,null,null,null,null,null,null,null,0,null,0,null,0,null,0,null,0,null,0,null,0,null,0,null,0,null,0,null,0,null,0,null,0,null,0,null,0,null,0,null,0,null,0,null,0,null,0,null,0,null,0,null,0,null,0,null,0,null,0,null,0,null,0,null,0,null,0,null,0,null,0,null,0,null,0,null,0,null,0,null,0,null,0,null,0,null,0,null,0,null,0,null,0,null,0,null,0,null,0,null,0,null,0,null,0,null,0,null,0,null,0,null,0,null,0,null,0,null,0,null,0,null,0,null,0,null,0]
[null,null,null,null,null,null,null,null,null,null,0,null,0,null,0,null,0,null,0,null,0,null,0,null,0,null,0,null,0,null,0,null,0,null,0,null,0,null,0,null,0,null,0,null,0,null,0,null,0,null,0,null,0,null,0,null,0,null,0,null,0,null,0,null,0,null,0,null,0,null,0,null,0,null,0,null,0,null,0,null,0,null,0,null,0,null,0,null,0,null,0,null,0,null,0,null,0,null,0,null,0,null,0,null,0,null,0,null,0,null,0,null,0,null,0,null,0,null,0,null,0,null,0,null,0,null,0,null,0]
[]
[null,null,"ITEM","DESCRIÇÃO","QUANT ANUAL\nPOR POSTO","Nº DE POSTOS","QUANT ANUAL\nTOTAL","VALOR"]
[null,null,null,null,null,null,null,null,null,null,null,{"$f":"IF(SUM(K$8:K$8)>0,$E17*$H17,0)","v":0},null,{"$f":"IF(SUM(M$8:M$8)>0,$E17*$H17,0)","v":0},null,{"$f":"IF(SUM(O$8:O$8)>0,$E17*$H17,0)","v":0},null,{"$f":"IF(SUM(Q$8:Q$8)>0,$E17*$H17,0)","v":0},null,{"$f":"IF(SUM(S$8:S$8)>0,$E17*$H17,0)","v":0},null,{"$f":"IF(SUM(U$8:U$8)>0,$E17*$H17,0)","v":0},null,{"$f":"IF(SUM(W$8:W$8)>0,$E17*$H17,0)","v":0},null,{"$f":"IF(SUM(Y$8:Y$8)>0,$E17*$H17,0)","v":0},null,{"$f":"IF(SUM(AA$8:AA$8)>0,$E17*$H17,0)","v":0},null,{"$f":"IF(SUM(AC$8:AC$8)>0,$E17*$H17,0)","v":0},null,{"$f":"IF(SUM(AE$8:AE$8)>0,$E17*$H17,0)","v":0},null,{"$f":"IF(SUM(AG$8:AG$8)>0,$E17*$H17,0)","v":0},null,{"$f":"IF(SUM(AI$8:AI$8)>0,$E17*$H17,0)","v":0},null,{"$f":"IF(SUM(AK$8:AK$8)>0,$E17*$H17,0)","v":0},null,{"$f":"IF(SUM(AM$8:AM$8)>0,$E17*$H17,0)","v":0},null,{"$f":"IF(SUM(AO$8:AO$8)>0,$E17*$H17,0)","v":0},null,{"$f":"IF(SUM(AQ$8:AQ$8)>0,$E17*$H17,0)","v":0},null,{"$f":"IF(SUM(AS$8:AS$8)>0,$E17*$H17,0)","v":0},null,{"$f":"IF(SUM(AU$8:AU$8)>0,$E17*$H17,0)","v":0},null,{"$f":"IF(SUM(AW$8:AW$8)>0,$E17*$H17,0)","v":0},null,{"$f":"IF(SUM(AY$8:AY$8)>0,$E17*$H17,0)","v":0},null,{"$f":"IF(SUM(BA$8:BA$8)>0,$E17*$H17,0)","v":0},null,{"$f":"IF(SUM(BC$8:BC$8)>0,$E17*$H17,0)","v":0},null,{"$f":"IF(SUM(BE$8:BE$8)>0,$E17*$H17,0)","v":0},null,{"$f":"IF(SUM(BG$8:BG$8)>0,$E17*$H17,0)","v":0},null,{"$f":"IF(SUM(BI$8:BI$8)>0,$E17*$H17,0)","v":0},null,{"$f":"IF(SUM(BK$8:BK$8)>0,$E17*$H17,0)","v":0},null,{"$f":"IF(SUM(BM$8:BM$8)>0,$E17*$H17,0)","v":0},null,{"$f":"IF(SUM(BO$8:BO$8)>0,$E17*$H17,0)","v":0},null,{"$f":"IF(SUM(BQ$8:BQ$8)>0,$E17*$H17,0)","v":0},null,{"$f":"IF(SUM(BS$8:BS$8)>0,$E17*$H17,0)","v":0},null,{"$f":"IF(SUM(BU$8:BU$8)>0,$E17*$H17,0)","v":0},null,{"$f":"IF(SUM(BW$8:BW$8)>0,$E17*$H17,0)","v":0},null,{"$f":"IF(SUM(BY$8:BY$8)>0,$E17*$H17,0)","v":0},null,{"$f":"IF(SUM(CA$8:CA$8)>0,$E17*$H17,0)","v":0},null,{"$f":"IF(SUM(CC$8:CC$8)>0,$E17*$H17,0)","v":0},null,{"$f":"IF(SUM(CE$8:CE$8)>0,$E17*$H17,0)","v":0},null,{"$f":"IF(SUM(CG$8:CG$8)>0,$E17*$H17,0)","v":0},null,{"$f":"IF(SUM(CI$8:CI$8)>0,$E17*$H17,0)","v":0},null,{"$f":"IF(SUM(CK$8:CK$8)>0,$E17*$H17,0)","v":0},null,{"$f":"IF(SUM(CM$8:CM$8)>0,$E17*$H17,0)","v":0},null,{"$f":"IF(SUM(CO$8:CO$8)>0,$E17*$H17,0)","v":0},null,{"$f":"IF(SUM(CQ$8:CQ$8)>0,$E17*$H17,0)","v":0},null,{"$f":"IF(SUM(CS$8:CS$8)>0,$E17*$H17,0)","v":0},null,{"$f":"IF(SUM(CU$8:CU$8)>0,$E17*$H17,0)","v":0},null,{"$f":"IF(SUM(CW$8:CW$8)>0,$E17*$H17,0)","v":0},null,{"$f":"IF(SUM(CY$8:CY$8)>0,$E17*$H17,0)","v":0},null,{"$f":"IF(SUM(DA$8:DA$8)>0,$E17*$H17,0)","v":0},null,{"$f":"IF(SUM(DC$8:DC$8)>0,$E17*$H17,0)","v":0},null,{"$f":"IF(SUM(DE$8:DE$8)>0,$E17*$H17,0)","v":0},null,{"$f":"IF(SUM(DG$8:DG$8)>0,$E17*$H17,0)","v":0},null,{"$f":"IF(SUM(DI$8:DI$8)>0,$E17*$H17,0)","v":0},null,{"$f":"IF(SUM(DK$8:DK$8)>0,$E17*$H17,0)","v":0},null,{"$f":"IF(SUM(DM$8:DM$8)>0,$E17*$H17,0)","v":0},null,{"$f":"IF(SUM(DO$8:DO$8)>0,$E17*$H17,0)","v":0},null,{"$f":"IF(SUM(DQ$8:DQ$8)>0,$E17*$H17,0)","v":0},null,{"$f":"IF(SUM(DS$8:DS$8)>0,$E17*$H17,0)","v":0},null,{"$f":"IF(SUM(DU$8:DU$8)>0,$E17*$H17,0)","v":0},null,{"$f":"IF(SUM(DW$8:DW$8)>0,$E17*$H17,0)","v":0},null,{"$f":"IF(SUM(DY$8:DY$8)>0,$E17*$H17,0)","v":0}]
[null,null,null,"Camisa social com manga comprida em poliéster na cor cinza",4,{"$f":"SUM(H8:H14)","v":5},{"$f":"E18*F18","v":20},94.92,null,null,null,{"$f":"IF(SUM(K$8:K$14)>0,$E18*$H18,0)","v":0},null,{"$f":"IF(SUM(M$8:M$14)>0,$E18*$H18,0)","v":0},null,{"$f":"IF(SUM(O$8:O$14)>0,$E18*$H18,0)","v":0},null,{"$f":"IF(SUM(Q$8:Q$14)>0,$E18*$H18,0)","v":0},null,{"$f":"IF(SUM(S$8:S$14)>0,$E18*$H18,0)","v":0},null,{"$f":"IF(SUM(U$8:U$14)>0,$E18*$H18,0)","v":0},null,{"$f":"IF(SUM(W$8:W$14)>0,$E18*$H18,0)","v":0},null,{"$f":"IF(SUM(Y$8:Y$14)>0,$E18*$H18,0)","v":0},null,{"$f":"IF(SUM(AA$8:AA$14)>0,$E18*$H18,0)","v":0},null,{"$f":"IF(SUM(AC$8:AC$14)>0,$E18*$H18,0)","v":379.68},null,{"$f":"IF(SUM(AE$8:AE$14)>0,$E18*$H18,0)","v":0},null,{"$f":"IF(SUM(AG$8:AG$14)>0,$E18*$H18,0)","v":0},null,{"$f":"IF(SUM(AI$8:AI$14)>0,$E18*$H18,0)","v":0},null,{"$f":"IF(SUM(AK$8:AK$14)>0,$E18*$H18,0)","v":0},null,{"$f":"IF(SUM(AM$8:AM$14)>0,$E18*$H18,0)","v":0},null,{"$f":"IF(SUM(AO$8:AO$14)>0,$E18*$H18,0)","v":0},null,{"$f":"IF(SUM(AQ$8:AQ$14)>0,$E18*$H18,0)","v":0},null,{"$f":"IF(SUM(AS$8:AS$14)>0,$E18*$H18,0)","v":0},null,{"$f":"IF(SUM(AU$8:AU$14)>0,$E18*$H18,0)","v":0},null,{"$f":"IF(SUM(AW$8:AW$14)>0,$E18*$H18,0)","v":0},null,{"$f":"IF(SUM(AY$8:AY$14)>0,$E18*$H18,0)","v":0},null,{"$f":"IF(SUM(BA$8:BA$14)>0,$E18*$H18,0)","v":0},null,{"$f":"IF(SUM(BC$8:BC$14)>0,$E18*$H18,0)","v":0},null,{"$f":"IF(SUM(BE$8:BE$14)>0,$E18*$H18,0)","v":0},null,{"$f":"IF(SUM(BG$8:BG$14)>0,$E18*$H18,0)","v":0},null,{"$f":"IF(SUM(BI$8:BI$14)>0,$E18*$H18,0)","v":0},null,{"$f":"IF(SUM(BK$8:BK$14)>0,$E18*$H18,0)","v":0},null,{"$f":"IF(SUM(BM$8:BM$14)>0,$E18*$H18,0)","v":0},null,{"$f":"IF(SUM(BO$8:BO$14)>0,$E18*$H18,0)","v":0},null,{"$f":"IF(SUM(BQ$8:BQ$14)>0,$E18*$H18,0)","v":0},null,{"$f":"IF(SUM(BS$8:BS$14)>0,$E18*$H18,0)","v":0},null,{"$f":"IF(SUM(BU$8:BU$14)>0,$E18*$H18,0)","v":0},null,{"$f":"IF(SUM(BW$8:BW$14)>0,$E18*$H18,0)","v":0},null,{"$f":"IF(SUM(BY$8:BY$14)>0,$E18*$H18,0)","v":0},null,{"$f":"IF(SUM(CA$8:CA$14)>0,$E18*$H18,0)","v":0},null,{"$f":"IF(SUM(CC$8:CC$14)>0,$E18*$H18,0)","v":0},null,{"$f":"IF(SUM(CE$8:CE$14)>0,$E18*$H18,0)","v":0},null,{"$f":"IF(SUM(CG$8:CG$14)>0,$E18*$H18,0)","v":0},null,{"$f":"IF(SUM(CI$8:CI$14)>0,$E18*$H18,0)","v":0},null,{"$f":"IF(SUM(CK$8:CK$14)>0,$E18*$H18,0)","v":0},null,{"$f":"IF(SUM(CM$8:CM$14)>0,$E18*$H18,0)","v":0},null,{"$f":"IF(SUM(CO$8:CO$14)>0,$E18*$H18,0)","v":0},null,{"$f":"IF(SUM(CQ$8:CQ$14)>0,$E18*$H18,0)","v":0},null,{"$f":"IF(SUM(CS$8:CS$14)>0,$E18*$H18,0)","v":0},null,{"$f":"IF(SUM(CU$8:CU$14)>0,$E18*$H18,0)","v":0},null,{"$f":"IF(SUM(CW$8:CW$14)>0,$E18*$H18,0)","v":0},null,{"$f":"IF(SUM(CY$8:CY$14)>0,$E18*$H18,0)","v":0},null,{"$f":"IF(SUM(DA$8:DA$14)>0,$E18*$H18,0)","v":0},null,{"$f":"IF(SUM(DC$8:DC$14)>0,$E18*$H18,0)","v":0},null,{"$f":"IF(SUM(DE$8:DE$14)>0,$E18*$H18,0)","v":0},null,{"$f":"IF(SUM(DG$8:DG$14)>0,$E18*$H18,0)","v":0},null,{"$f":"IF(SUM(DI$8:DI$14)>0,$E18*$H18,0)","v":0},null,{"$f":"IF(SUM(DK$8:DK$14)>0,$E18*$H18,0)","v":0},null,{"$f":"IF(SUM(DM$8:DM$14)>0,$E18*$H18,0)","v":0},null,{"$f":"IF(SUM(DO$8:DO$14)>0,$E18*$H18,0)","v":0},null,{"$f":"IF(SUM(DQ$8:DQ$14)>0,$E18*$H18,0)","v":0},null,{"$f":"IF(SUM(DS$8:DS$14)>0,$E18*$H18,0)","v":0},null,{"$f":"IF(SUM(DU$8:DU$14)>0,$E18*$H18,0)","v":0},null,{"$f":"IF(SUM(DW$8:DW$14)>0,$E18*$H18,0)","v":0},null,{"$f":"IF(SUM(DY$8:DY$14)>0,$E18*$H18,0)","v":0}]
[null,null,null,"Guarda-pó manga curta em poliéster na cor cinza",4,{"$f":"F18","v":5},{"$f":"E19*F19","v":20},77.17,null,null,null,0,null,0,null,0,null,0,null,0,null,0,null,0,null,0,null,0,null,308.68,null,0,null,0,null,0,null,0,null,0,null,0,null,0,null,0,null,0,null,0,null,0,null,0,null,0,null,0,null,0,null,0,null,0,null,0,null,0,null,0,null,0,null,0,null,0,null,0,null,0,null,0,null,0,null,{"$f":"IF(SUM(CG$8:CG$14)>0,$E19*$H19,0)","v":0},null,{"$f":"IF(SUM(CI$8:CI$14)>0,$E19*$H19,0)","v":0},null,{"$f":"IF(SUM(CK$8:CK$14)>0,$E19*$H19,0)","v":0},null,{"$f":"IF(SUM(CM$8:CM$14)>0,$E19*$H19,0)","v":0},null,{"$f":"IF(SUM(CO$8:CO$14)>0,$E19*$H19,0)","v":0},null,{"$f":"IF(SUM(CQ$8:CQ$14)>0,$E19*$H19,0)","v":0},null,{"$f":"IF(SUM(CS$8:CS$14)>0,$E19*$H19,0)","v":0},null,{"$f":"IF(SUM(CU$8:CU$14)>0,$E19*$H19,0)","v":0},null,{"$f":"IF(SUM(CW$8:CW$14)>0,$E19*$H19,0)","v":0},null,{"$f":"IF(SUM(CY$8:CY$14)>0,$E19*$H19,0)","v":0},null,{"$f":"IF(SUM(DA$8:DA$14)>0,$E19*$H19,0)","v":0},null,{"$f":"IF(SUM(DC$8:DC$14)>0,$E19*$H19,0)","v":0},null,{"$f":"IF(SUM(DE$8:DE$14)>0,$E19*$H19,0)","v":0},null,{"$f":"IF(SUM(DG$8:DG$14)>0,$E19*$H19,0)","v":0},null,{"$f":"IF(SUM(DI$8:DI$14)>0,$E19*$H19,0)","v":0},null,{"$f":"IF(SUM(DK$8:DK$14)>0,$E19*$H19,0)","v":0},null,{"$f":"IF(SUM(DM$8:DM$14)>0,$E19*$H19,0)","v":0},null,{"$f":"IF(SUM(DO$8:DO$14)>0,$E19*$H19,0)","v":0},null,{"$f":"IF(SUM(DQ$8:DQ$14)>0,$E19*$H19,0)","v":0},null,{"$f":"IF(SUM(DS$8:DS$14)>0,$E19*$H19,0)","v":0},null,{"$f":"IF(SUM(DU$8:DU$14)>0,$E19*$H19,0)","v":0},null,{"$f":"IF(SUM(DW$8:DW$14)>0,$E19*$H19,0)","v":0},null,{"$f":"IF(SUM(DY$8:DY$14)>0,$E19*$H19,0)","v":0}]
[null,null,null,"Meia social, cano longo",4,{"$f":"F19","v":5},{"$f":"E20*F20","v":20},14.45,null,null,null,0,null,0,null,0,null,0,null,0,null,0,null,0,null,0,null,0,null,57.8,null,0,null,0,null,0,null,0,null,0,null,0,null,0,null,0,null,0,null,0,null,0,null,0,null,0,null,0,null,0,null,0,null,0,null,0,null,0,null,0,null,0,null,0,null,0,null,0,null,0,null,0,null,0,null,{"$f":"IF(SUM(CG$8:CG$14)>0,$E20*$H20,0)","v":0},null,{"$f":"IF(SUM(CI$8:CI$14)>0,$E20*$H20,0)","v":0},null,{"$f":"IF(SUM(CK$8:CK$14)>0,$E20*$H20,0)","v":0},null,{"$f":"IF(SUM(CM$8:CM$14)>0,$E20*$H20,0)","v":0},null,{"$f":"IF(SUM(CO$8:CO$14)>0,$E20*$H20,0)","v":0},null,{"$f":"IF(SUM(CQ$8:CQ$14)>0,$E20*$H20,0)","v":0},null,{"$f":"IF(SUM(CS$8:CS$14)>0,$E20*$H20,0)","v":0},null,{"$f":"IF(SUM(CU$8:CU$14)>0,$E20*$H20,0)","v":0},null,{"$f":"IF(SUM(CW$8:CW$14)>0,$E20*$H20,0)","v":0},null,{"$f":"IF(SUM(CY$8:CY$14)>0,$E20*$H20,0)","v":0},null,{"$f":"IF(SUM(DA$8:DA$14)>0,$E20*$H20,0)","v":0},null,{"$f":"IF(SUM(DC$8:DC$14)>0,$E20*$H20,0)","v":0},null,{"$f":"IF(SUM(DE$8:DE$14)>0,$E20*$H20,0)","v":0},null,{"$f":"IF(SUM(DG$8:DG$14)>0,$E20*$H20,0)","v":0},null,{"$f":"IF(SUM(DI$8:DI$14)>0,$E20*$H20,0)","v":0},null,{"$f":"IF(SUM(DK$8:DK$14)>0,$E20*$H20,0)","v":0},null,{"$f":"IF(SUM(DM$8:DM$14)>0,$E20*$H20,0)","v":0},null,{"$f":"IF(SUM(DO$8:DO$14)>0,$E20*$H20,0)","v":0},null,{"$f":"IF(SUM(DQ$8:DQ$14)>0,$E20*$H20,0)","v":0},null,{"$f":"IF(SUM(DS$8:DS$14)>0,$E20*$H20,0)","v":0},null,{"$f":"IF(SUM(DU$8:DU$14)>0,$E20*$H20,0)","v":0},null,{"$f":"IF(SUM(DW$8:DW$14)>0,$E20*$H20,0)","v":0},null,{"$f":"IF(SUM(DY$8:DY$14)>0,$E20*$H20,0)","v":0}]
[null,null,null,"Sapato de couro preto com solado de borracha antiderrapante",4,{"$f":"F20","v":5},{"$f":"E21*F21","v":20},139.94999999999999,null,null,null,0,null,0,null,0,null,0,null,0,null,0,null,0,null,0,null,0,null,559.79999999999995,null,0,null,0,null,0,null,0,null,0,null,0,null,0,null,0,null,0,null,0,null,0,null,0,null,0,null,0,null,0,null,0,null,0,null,0,null,0,null,0,null,0,null,0,null,0,null,0,null,0,null,0,null,0,null,{"$f":"IF(SUM(CG$8:CG$14)>0,$E21*$H21,0)","v":0},null,{"$f":"IF(SUM(CI$8:CI$14)>0,$E21*$H21,0)","v":0},null,{"$f":"IF(SUM(CK$8:CK$14)>0,$E21*$H21,0)","v":0},null,{"$f":"IF(SUM(CM$8:CM$14)>0,$E21*$H21,0)","v":0},null,{"$f":"IF(SUM(CO$8:CO$14)>0,$E21*$H21,0)","v":0},null,{"$f":"IF(SUM(CQ$8:CQ$14)>0,$E21*$H21,0)","v":0},null,{"$f":"IF(SUM(CS$8:CS$14)>0,$E21*$H21,0)","v":0},null,{"$f":"IF(SUM(CU$8:CU$14)>0,$E21*$H21,0)","v":0},null,{"$f":"IF(SUM(CW$8:CW$14)>0,$E21*$H21,0)","v":0},null,{"$f":"IF(SUM(CY$8:CY$14)>0,$E21*$H21,0)","v":0},null,{"$f":"IF(SUM(DA$8:DA$14)>0,$E21*$H21,0)","v":0},null,{"$f":"IF(SUM(DC$8:DC$14)>0,$E21*$H21,0)","v":0},null,{"$f":"IF(SUM(DE$8:DE$14)>0,$E21*$H21,0)","v":0},null,{"$f":"IF(SUM(DG$8:DG$14)>0,$E21*$H21,0)","v":0},null,{"$f":"IF(SUM(DI$8:DI$14)>0,$E21*$H21,0)","v":0},null,{"$f":"IF(SUM(DK$8:DK$14)>0,$E21*$H21,0)","v":0},null,{"$f":"IF(SUM(DM$8:DM$14)>0,$E21*$H21,0)","v":0},null,{"$f":"IF(SUM(DO$8:DO$14)>0,$E21*$H21,0)","v":0},null,{"$f":"IF(SUM(DQ$8:DQ$14)>0,$E21*$H21,0)","v":0},null,{"$f":"IF(SUM(DS$8:DS$14)>0,$E21*$H21,0)","v":0},null,{"$f":"IF(SUM(DU$8:DU$14)>0,$E21*$H21,0)","v":0},null,{"$f":"IF(SUM(DW$8:DW$14)>0,$E21*$H21,0)","v":0},null,{"$f":"IF(SUM(DY$8:DY$14)>0,$E21*$H21,0)","v":0}]
[null,null,null,"Cinto social em couro preto",2,{"$f":"F21","v":5},{"$f":"E22*F22","v":10},66.260000000000005,null,null,null,0,null,0,null,0,null,0,null,0,null,0,null,0,null,0,null,0,null,132.52000000000001,null,0,null,0,null,0,null,0,null,0,null,0,null,0,null,0,null,0,null,0,null,0,null,0,null,0,null,0,null,0,null,0,null,0,null,0,null,0,null,0,null,0,null,0,null,0,null,0,null,0,null,0,null,0,null,{"$f":"IF(SUM(CG$8:CG$14)>0,$E22*$H22,0)","v":0},null,{"$f":"IF(SUM(CI$8:CI$14)>0,$E22*$H22,0)","v":0},null,{"$f":"IF(SUM(CK$8:CK$14)>0,$E22*$H22,0)","v":0},null,{"$f":"IF(SUM(CM$8:CM$14)>0,$E22*$H22,0)","v":0},null,{"$f":"IF(SUM(CO$8:CO$14)>0,$E22*$H22,0)","v":0},null,{"$f":"IF(SUM(CQ$8:CQ$14)>0,$E22*$H22,0)","v":0},null,{"$f":"IF(SUM(CS$8:CS$14)>0,$E22*$H22,0)","v":0},null,{"$f":"IF(SUM(CU$8:CU$14)>0,$E22*$H22,0)","v":0},null,{"$f":"IF(SUM(CW$8:CW$14)>0,$E22*$H22,0)","v":0},null,{"$f":"IF(SUM(CY$8:CY$14)>0,$E22*$H22,0)","v":0},null,{"$f":"IF(SUM(DA$8:DA$14)>0,$E22*$H22,0)","v":0},null,{"$f":"IF(SUM(DC$8:DC$14)>0,$E22*$H22,0)","v":0},null,{"$f":"IF(SUM(DE$8:DE$14)>0,$E22*$H22,0)","v":0},null,{"$f":"IF(SUM(DG$8:DG$14)>0,$E22*$H22,0)","v":0},null,{"$f":"IF(SUM(DI$8:DI$14)>0,$E22*$H22,0)","v":0},null,{"$f":"IF(SUM(DK$8:DK$14)>0,$E22*$H22,0)","v":0},null,{"$f":"IF(SUM(DM$8:DM$14)>0,$E22*$H22,0)","v":0},null,{"$f":"IF(SUM(DO$8:DO$14)>0,$E22*$H22,0)","v":0},null,{"$f":"IF(SUM(DQ$8:DQ$14)>0,$E22*$H22,0)","v":0},null,{"$f":"IF(SUM(DS$8:DS$14)>0,$E22*$H22,0)","v":0},null,{"$f":"IF(SUM(DU$8:DU$14)>0,$E22*$H22,0)","v":0},null,{"$f":"IF(SUM(DW$8:DW$14)>0,$E22*$H22,0)","v":0},null,{"$f":"IF(SUM(DY$8:DY$14)>0,$E22*$H22,0)","v":0}]
[null,null,null,null,null,null,null,null,null,null,null,0,null,0,null,0,null,0,null,0,null,0,null,0,null,0,null,0,null,0,null,0,null,0,null,0,null,0,null,0,null,0,null,0,null,0,null,0,null,0,null,0,null,0,null,0,null,0,null,0,null,0,null,0,null,0,null,0,null,0,null,0,null,0,null,0,null,0,null,0,null,0,null,0,null,{"$f":"IF(SUM(#REF!)>0,$E23*$H23,0)","v":{"$error":"#REF!"}},null,{"$f":"IF(SUM(#REF!)>0,$E23*$H23,0)","v":{"$error":"#REF!"}},null,{"$f":"IF(SUM(#REF!)>0,$E23*$H23,0)","v":{"$error":"#REF!"}},null,{"$f":"IF(SUM(#REF!)>0,$E23*$H23,0)","v":{"$error":"#REF!"}},null,{"$f":"IF(SUM(#REF!)>0,$E23*$H23,0)","v":{"$error":"#REF!"}},null,{"$f":"IF(SUM(#REF!)>0,$E23*$H23,0)","v":{"$error":"#REF!"}},null,{"$f":"IF(SUM(#REF!)>0,$E23*$H23,0)","v":{"$error":"#REF!"}},null,{"$f":"IF(SUM(#REF!)>0,$E23*$H23,0)","v":{"$error":"#REF!"}},null,{"$f":"IF(SUM(#REF!)>0,$E23*$H23,0)","v":{"$error":"#REF!"}},null,{"$f":"IF(SUM(#REF!)>0,$E23*$H23,0)","v":{"$error":"#REF!"}},null,{"$f":"IF(SUM(#REF!)>0,$E23*$H23,0)","v":{"$error":"#REF!"}},null,{"$f":"IF(SUM(#REF!)>0,$E23*$H23,0)","v":{"$error":"#REF!"}},null,{"$f":"IF(SUM(#REF!)>0,$E23*$H23,0)","v":{"$error":"#REF!"}},null,{"$f":"IF(SUM(#REF!)>0,$E23*$H23,0)","v":{"$error":"#REF!"}},null,{"$f":"IF(SUM(#REF!)>0,$E23*$H23,0)","v":{"$error":"#REF!"}},null,{"$f":"IF(SUM(#REF!)>0,$E23*$H23,0)","v":{"$error":"#REF!"}},null,{"$f":"IF(SUM(#REF!)>0,$E23*$H23,0)","v":{"$error":"#REF!"}},null,{"$f":"IF(SUM(#REF!)>0,$E23*$H23,0)","v":{"$error":"#REF!"}},null,{"$f":"IF(SUM(#REF!)>0,$E23*$H23,0)","v":{"$error":"#REF!"}},null,{"$f":"IF(SUM(#REF!)>0,$E23*$H23,0)","v":{"$error":"#REF!"}},null,{"$f":"IF(SUM(#REF!)>0,$E23*$H23,0)","v":{"$error":"#REF!"}},null,{"$f":"IF(SUM(#REF!)>0,$E23*$H23,0)","v":{"$error":"#REF!"}},null,{"$f":"IF(SUM(#REF!)>0,$E23*$H23,0)","v":{"$error":"#REF!"}}]
[null,null,"CATEGORIAS",null,null,null,null,"QUANTIDADE"]
[null,null,null,null,null,null,null,null,null,null,{"$f":"IF($C25=K$4,1,0)","v":0},null,{"$f":"IF($C25=M$4,1,0)","v":0},null,{"$f":"IF($C25=O$4,1,0)","v":0},null,{"$f":"IF($C25=Q$4,1,0)","v":0},null,{"$f":"IF($C25=S$4,1,0)","v":0},null,{"$f":"IF($C25=U$4,1,0)","v":0},null,{"$f":"IF($C25=W$4,1,0)","v":0},null,{"$f":"IF($C25=Y$4,1,0)","v":0},null,{"$f":"IF($C25=AA$4,1,0)","v":0},null,{"$f":"IF($C25=AC$4,1,0)","v":0},null,{"$f":"IF($C25=AE$4,1,0)","v":0},null,{"$f":"IF($C25=AG$4,1,0)","v":0},null,{"$f":"IF($C25=AI$4,1,0)","v":0},null,{"$f":"IF($C25=AK$4,1,0)","v":0},null,{"$f":"IF($C25=AM$4,1,0)","v":0},null,{"$f":"IF($C25=AO$4,1,0)","v":0},null,{"$f":"IF($C25=AQ$4,1,0)","v":0},null,{"$f":"IF($C25=AS$4,1,0)","v":0},null,{"$f":"IF($C25=AU$4,1,0)","v":0},null,{"$f":"IF($C25=AW$4,1,0)","v":0},null,{"$f":"IF($C25=AY$4,1,0)","v":0},null,{"$f":"IF($C25=BA$4,1,0)","v":0},null,{"$f":"IF($C25=BC$4,1,0)","v":0},null,{"$f":"IF($C25=BE$4,1,0)","v":0},null,{"$f":"IF($C25=BG$4,1,0)","v":0},null,{"$f":"IF($C25=BI$4,1,0)","v":0},null,{"$f":"IF($C25=BK$4,1,0)","v":0},null,{"$f":"IF($C25=BM$4,1,0)","v":0},null,{"$f":"IF($C25=BO$4,1,0)","v":0},null,{"$f":"IF($C25=BQ$4,1,0)","v":0},null,{"$f":"IF($C25=BS$4,1,0)","v":0},null,{"$f":"IF($C25=BU$4,1,0)","v":0},null,{"$f":"IF($C25=BW$4,1,0)","v":0},null,{"$f":"IF($C25=BY$4,1,0)","v":0},null,{"$f":"IF($C25=CA$4,1,0)","v":0},null,{"$f":"IF($C25=CC$4,1,0)","v":0},null,{"$f":"IF($C25=CE$4,1,0)","v":0},null,{"$f":"IF($C25=CG$4,1,0)","v":0},null,{"$f":"IF($C25=CI$4,1,0)","v":0},null,{"$f":"IF($C25=CK$4,1,0)","v":0},null,{"$f":"IF($C25=CM$4,1,0)","v":0},null,{"$f":"IF($C25=CO$4,1,0)","v":0},null,{"$f":"IF($C25=CQ$4,1,0)","v":0},null,{"$f":"IF($C25=CS$4,1,0)","v":0},null,{"$f":"IF($C25=CU$4,1,0)","v":0},null,{"$f":"IF($C25=CW$4,1,0)","v":0},null,{"$f":"IF($C25=CY$4,1,0)","v":0},null,{"$f":"IF($C25=DA$4,1,0)","v":0},null,{"$f":"IF($C25=DC$4,1,0)","v":0},null,{"$f":"IF($C25=DE$4,1,0)","v":0},null,{"$f":"IF($C25=DG$4,1,0)","v":0},null,{"$f":"IF($C25=DI$4,1,0)","v":0},null,{"$f":"IF($C25=DK$4,1,0)","v":0},null,{"$f":"IF($C25=DM$4,1,0)","v":0},null,{"$f":"IF($C25=DO$4,1,0)","v":0},null,{"$f":"IF($C25=DQ$4,1,0)","v":0},null,{"$f":"IF($C25=DS$4,1,0)","v":0},null,{"$f":"IF($C25=DU$4,1,0)","v":0},null,{"$f":"IF($C25=DW$4,1,0)","v":0},null,{"$f":"IF($C25=DY$4,1,0)","v":0}]
[null,null,null,{"$f":"HLOOKUP($C26,'Dados Gerais'!$D$6:$BI$11,6)","v":{"$error":"#N/A"}},null,null,null,{"$f":"HLOOKUP($C26,'Dados Gerais'!$D$6:$BI$15,10)","v":{"$error":"#N/A"}},null,null,{"$f":"IF($C26=K$4,1,0)","v":0},null,{"$f":"IF($C26=M$4,1,0)","v":0},null,{"$f":"IF($C26=O$4,1,0)","v":0},null,{"$f":"IF($C26=Q$4,1,0)","v":0},null,{"$f":"IF($C26=S$4,1,0)","v":0},null,{"$f":"IF($C26=U$4,1,0)","v":0},null,{"$f":"IF($C26=W$4,1,0)","v":0},null,{"$f":"IF($C26=Y$4,1,0)","v":0},null,{"$f":"IF($C26=AA$4,1,0)","v":0},null,{"$f":"IF($C26=AC$4,1,0)","v":0},null,{"$f":"IF($C26=AE$4,1,0)","v":0},null,{"$f":"IF($C26=AG$4,1,0)","v":0},null,{"$f":"IF($C26=AI$4,1,0)","v":0},null,{"$f":"IF($C26=AK$4,1,0)","v":0},null,{"$f":"IF($C26=AM$4,1,0)","v":0},null,{"$f":"IF($C26=AO$4,1,0)","v":0},null,{"$f":"IF($C26=AQ$4,1,0)","v":0},null,{"$f":"IF($C26=AS$4,1,0)","v":0},null,{"$f":"IF($C26=AU$4,1,0)","v":0},null,{"$f":"IF($C26=AW$4,1,0)","v":0},null,{"$f":"IF($C26=AY$4,1,0)","v":0},null,{"$f":"IF($C26=BA$4,1,0)","v":0},null,{"$f":"IF($C26=BC$4,1,0)","v":0},null,{"$f":"IF($C26=BE$4,1,0)","v":0},null,{"$f":"IF($C26=BG$4,1,0)","v":0},null,{"$f":"IF($C26=BI$4,1,0)","v":0},null,{"$f":"IF($C26=BK$4,1,0)","v":0},null,{"$f":"IF($C26=BM$4,1,0)","v":0},null,{"$f":"IF($C26=BO$4,1,0)","v":0},null,{"$f":"IF($C26=BQ$4,1,0)","v":0},null,{"$f":"IF($C26=BS$4,1,0)","v":0},null,{"$f":"IF($C26=BU$4,1,0)","v":0},null,{"$f":"IF($C26=BW$4,1,0)","v":0},null,{"$f":"IF($C26=BY$4,1,0)","v":0},null,{"$f":"IF($C26=CA$4,1,0)","v":0},null,{"$f":"IF($C26=CC$4,1,0)","v":0},null,{"$f":"IF($C26=CE$4,1,0)","v":0},null,{"$f":"IF($C26=CG$4,1,0)","v":0},null,{"$f":"IF($C26=CI$4,1,0)","v":0},null,{"$f":"IF($C26=CK$4,1,0)","v":0},null,{"$f":"IF($C26=CM$4,1,0)","v":0},null,{"$f":"IF($C26=CO$4,1,0)","v":0},null,{"$f":"IF($C26=CQ$4,1,0)","v":0},null,{"$f":"IF($C26=CS$4,1,0)","v":0},null,{"$f":"IF($C26=CU$4,1,0)","v":0},null,{"$f":"IF($C26=CW$4,1,0)","v":0},null,{"$f":"IF($C26=CY$4,1,0)","v":0},null,{"$f":"IF($C26=DA$4,1,0)","v":0},null,{"$f":"IF($C26=DC$4,1,0)","v":0},null,{"$f":"IF($C26=DE$4,1,0)","v":0},null,{"$f":"IF($C26=DG$4,1,0)","v":0},null,{"$f":"IF($C26=DI$4,1,0)","v":0},null,{"$f":"IF($C26=DK$4,1,0)","v":0},null,{"$f":"IF($C26=DM$4,1,0)","v":0},null,{"$f":"IF($C26=DO$4,1,0)","v":0},null,{"$f":"IF($C26=DQ$4,1,0)","v":0},null,{"$f":"IF($C26=DS$4,1,0)","v":0},null,{"$f":"IF($C26=DU$4,1,0)","v":0},null,{"$f":"IF($C26=DW$4,1,0)","v":0},null,{"$f":"IF($C26=DY$4,1,0)","v":0}]
[null,null,null,{"$f":"HLOOKUP($C27,'Dados Gerais'!$D$6:$BI$11,6)","v":{"$error":"#N/A"}},null,null,null,{"$f":"HLOOKUP($C27,'Dados Gerais'!$D$6:$BI$15,10)","v":{"$error":"#N/A"}},null,null,{"$f":"IF($C27=K$4,1,0)","v":0},null,{"$f":"IF($C27=M$4,1,0)","v":0},null,{"$f":"IF($C27=O$4,1,0)","v":0},null,{"$f":"IF($C27=Q$4,1,0)","v":0},null,{"$f":"IF($C27=S$4,1,0)","v":0},null,{"$f":"IF($C27=U$4,1,0)","v":0},null,{"$f":"IF($C27=W$4,1,0)","v":0},null,{"$f":"IF($C27=Y$4,1,0)","v":0},null,{"$f":"IF($C27=AA$4,1,0)","v":0},null,{"$f":"IF($C27=AC$4,1,0)","v":0},null,{"$f":"IF($C27=AE$4,1,0)","v":0},null,{"$f":"IF($C27=AG$4,1,0)","v":0},null,{"$f":"IF($C27=AI$4,1,0)","v":0},null,{"$f":"IF($C27=AK$4,1,0)","v":0},null,{"$f":"IF($C27=AM$4,1,0)","v":0},null,{"$f":"IF($C27=AO$4,1,0)","v":0},null,{"$f":"IF($C27=AQ$4,1,0)","v":0},null,{"$f":"IF($C27=AS$4,1,0)","v":0},null,{"$f":"IF($C27=AU$4,1,0)","v":0},null,{"$f":"IF($C27=AW$4,1,0)","v":0},null,{"$f":"IF($C27=AY$4,1,0)","v":0},null,{"$f":"IF($C27=BA$4,1,0)","v":0},null,{"$f":"IF($C27=BC$4,1,0)","v":0},null,{"$f":"IF($C27=BE$4,1,0)","v":0},null,{"$f":"IF($C27=BG$4,1,0)","v":0},null,{"$f":"IF($C27=BI$4,1,0)","v":0},null,{"$f":"IF($C27=BK$4,1,0)","v":0},null,{"$f":"IF($C27=BM$4,1,0)","v":0},null,{"$f":"IF($C27=BO$4,1,0)","v":0},null,{"$f":"IF($C27=BQ$4,1,0)","v":0},null,{"$f":"IF($C27=BS$4,1,0)","v":0},null,{"$f":"IF($C27=BU$4,1,0)","v":0},null,{"$f":"IF($C27=BW$4,1,0)","v":0},null,{"$f":"IF($C27=BY$4,1,0)","v":0},null,{"$f":"IF($C27=CA$4,1,0)","v":0},null,{"$f":"IF($C27=CC$4,1,0)","v":0},null,{"$f":"IF($C27=CE$4,1,0)","v":0},null,{"$f":"IF($C27=CG$4,1,0)","v":0},null,{"$f":"IF($C27=CI$4,1,0)","v":0},null,{"$f":"IF($C27=CK$4,1,0)","v":0},null,{"$f":"IF($C27=CM$4,1,0)","v":0},null,{"$f":"IF($C27=CO$4,1,0)","v":0},null,{"$f":"IF($C27=CQ$4,1,0)","v":0},null,{"$f":"IF($C27=CS$4,1,0)","v":0},null,{"$f":"IF($C27=CU$4,1,0)","v":0},null,{"$f":"IF($C27=CW$4,1,0)","v":0},null,{"$f":"IF($C27=CY$4,1,0)","v":0},null,{"$f":"IF($C27=DA$4,1,0)","v":0},null,{"$f":"IF($C27=DC$4,1,0)","v":0},null,{"$f":"IF($C27=DE$4,1,0)","v":0},null,{"$f":"IF($C27=DG$4,1,0)","v":0},null,{"$f":"IF($C27=DI$4,1,0)","v":0},null,{"$f":"IF($C27=DK$4,1,0)","v":0},null,{"$f":"IF($C27=DM$4,1,0)","v":0},null,{"$f":"IF($C27=DO$4,1,0)","v":0},null,{"$f":"IF($C27=DQ$4,1,0)","v":0},null,{"$f":"IF($C27=DS$4,1,0)","v":0},null,{"$f":"IF($C27=DU$4,1,0)","v":0},null,{"$f":"IF($C27=DW$4,1,0)","v":0},null,{"$f":"IF($C27=DY$4,1,0)","v":0}]
[null,null,null,{"$f":"HLOOKUP($C28,'Dados Gerais'!$D$6:$BI$11,6)","v":{"$error":"#N/A"}},null,null,null,{"$f":"HLOOKUP($C28,'Dados Gerais'!$D$6:$BI$15,10)","v":{"$error":"#N/A"}},null,null,0,null,0,null,0,null,0,null,0,null,0,null,0,null,0,null,0,null,0,null,0,null,0,null,0,null,0,null,0,null,0,null,0,null,0,null,0,null,0,null,0,null,0,null,0,null,0,null,0,null,0,null,0,null,0,null,0,null,0,null,0,null,0,null,0,null,0,null,0,null,0,null,0,null,0,null,0,null,0,null,0,null,0,null,0,null,0,null,0,null,0,null,0,null,0,null,0,null,0,null,0,null,0,null,0,null,0,null,0,null,0,null,0,null,0,null,0,null,0]
[null,null,null,{"$f":"HLOOKUP($C29,'Dados Gerais'!$D$6:$BI$11,6)","v":{"$error":"#N/A"}},null,null,null,{"$f":"HLOOKUP($C29,'Dados Gerais'!$D$6:$BI$15,10)","v":{"$error":"#N/A"}},null,null,0,null,0,null,0,null,0,null,0,null,0,null,0,null,0,null,0,null,0,null,0,null,0,null,0,null,0,null,0,null,0,null,0,null,0,null,0,null,0,null,0,null,0,null,0,null,0,null,0,null,0,null,0,null,0,null,0,null,0,null,0,null,0,null,0,null,0,null,0,null,0,null,0,null,0,null,0,null,0,null,0,null,0,null,0,null,0,null,0,null,0,null,0,null,0,null,0,null,0,null,0,null,0,null,0,null,0,null,0,null,0,null,0,null,0,null,0,null,0]
[null,null,null,{"$f":"HLOOKUP($C30,'Dados Gerais'!$D$6:$BI$11,6)","v":{"$error":"#N/A"}},null,null,null,{"$f":"HLOOKUP($C30,'Dados Gerais'!$D$6:$BI$15,10)","v":{"$error":"#N/A"}},null,null,0,null,0,null,0,null,0,null,0,null,0,null,0,null,0,null,0,null,0,null,0,null,0,null,0,null,0,null,0,null,0,null,0,null,0,null,0,null,0,null,0,null,0,null,0,null,0,null,0,null,0,null,0,null,0,null,0,null,0,null,0,null,0,null,0,null,0,null,0,null,0,null,0,null,0,null,0,null,0,null,0,null,0,null,0,null,0,null,0,null,0,null,0,null,0,null,0,null,0,null,0,null,0,null,0,null,0,null,0,null,0,null,0,null,0,null,0,null,0]
[null,null,null,{"$f":"HLOOKUP($C31,'Dados Gerais'!$D$6:$BI$11,6)","v":{"$error":"#N/A"}},null,null,null,{"$f":"HLOOKUP($C31,'Dados Gerais'!$D$6:$BI$15,10)","v":{"$error":"#N/A"}},null,null,0,null,0,null,0,null,0,null,0,null,0,null,0,null,0,null,0,null,0,null,0,null,0,null,0,null,0,null,0,null,0,null,0,null,0,null,0,null,0,null,0,null,0,null,0,null,0,null,0,null,0,null,0,null,0,null,0,null,0,null,0,null,0,null,0,null,0,null,0,null,0,null,0,null,0,null,0,null,0,null,0,null,0,null,0,null,0,null,0,null,0,null,0,null,0,null,0,null,0,null,0,null,0,null,0,null,0,null,0,null,0,null,0,null,0,null,0,null,0]
[null,null,null,{"$f":"HLOOKUP($C32,'Dados Gerais'!$D$6:$BI$11,6)","v":{"$error":"#N/A"}},null,null,null,{"$f":"HLOOKUP($C32,'Dados Gerais'!$D$6:$BI$15,10)","v":{"$error":"#N/A"}},null,null,0,null,0,null,0,null,0,null,0,null,0,null,0,null,0,null,0,null,0,null,0,null,0,null,0,null,0,null,0,null,0,null,0,null,0,null,0,null,0,null,0,null,0,null,0,null,0,null,0,null,0,null,0,null,0,null,0,null,0,null,0,null,0,null,0,null,0,null,0,null,0,null,0,null,0,null,0,null,0,null,0,null,0,null,0,null,0,null,0,null,0,null,0,null,0,null,0,null,0,null,0,null,0,null,0,null,0,null,0,null,0,null,0,null,0,null,0,null,0]
[null,null,null,{"$f":"HLOOKUP($C33,'Dados Gerais'!$D$6:$BI$11,6)","v":{"$error":"#N/A"}},null,null,null,{"$f":"HLOOKUP($C33,'Dados Gerais'!$D$6:$BI$15,10)","v":{"$error":"#N/A"}},null,null,{"$f":"IF($C33=K$4,1,0)","v":0},null,{"$f":"IF($C33=M$4,1,0)","v":0},null,{"$f":"IF($C33=O$4,1,0)","v":0},null,{"$f":"IF($C33=Q$4,1,0)","v":0},null,{"$f":"IF($C33=S$4,1,0)","v":0},null,{"$f":"IF($C33=U$4,1,0)","v":0},null,{"$f":"IF($C33=W$4,1,0)","v":0},null,{"$f":"IF($C33=Y$4,1,0)","v":0},null,{"$f":"IF($C33=AA$4,1,0)","v":0},null,{"$f":"IF($C33=AC$4,1,0)","v":0},null,{"$f":"IF($C33=AE$4,1,0)","v":0},null,{"$f":"IF($C33=AG$4,1,0)","v":0},null,{"$f":"IF($C33=AI$4,1,0)","v":0},null,{"$f":"IF($C33=AK$4,1,0)","v":0},null,{"$f":"IF($C33=AM$4,1,0)","v":0},null,{"$f":"IF($C33=AO$4,1,0)","v":0},null,{"$f":"IF($C33=AQ$4,1,0)","v":0},null,{"$f":"IF($C33=AS$4,1,0)","v":0},null,{"$f":"IF($C33=AU$4,1,0)","v":0},null,{"$f":"IF($C33=AW$4,1,0)","v":0},null,{"$f":"IF($C33=AY$4,1,0)","v":0},null,{"$f":"IF($C33=BA$4,1,0)","v":0},null,{"$f":"IF($C33=BC$4,1,0)","v":0},null,{"$f":"IF($C33=BE$4,1,0)","v":0},null,{"$f":"IF($C33=BG$4,1,0)","v":0},null,{"$f":"IF($C33=BI$4,1,0)","v":0},null,{"$f":"IF($C33=BK$4,1,0)","v":0},null,{"$f":"IF($C33=BM$4,1,0)","v":0},null,{"$f":"IF($C33=BO$4,1,0)","v":0},null,{"$f":"IF($C33=BQ$4,1,0)","v":0},null,{"$f":"IF($C33=BS$4,1,0)","v":0},null,{"$f":"IF($C33=BU$4,1,0)","v":0},null,{"$f":"IF($C33=BW$4,1,0)","v":0},null,{"$f":"IF($C33=BY$4,1,0)","v":0},null,{"$f":"IF($C33=CA$4,1,0)","v":0},null,{"$f":"IF($C33=CC$4,1,0)","v":0},null,{"$f":"IF($C33=CE$4,1,0)","v":0},null,{"$f":"IF($C33=CG$4,1,0)","v":0},null,{"$f":"IF($C33=CI$4,1,0)","v":0},null,{"$f":"IF($C33=CK$4,1,0)","v":0},null,{"$f":"IF($C33=CM$4,1,0)","v":0},null,{"$f":"IF($C33=CO$4,1,0)","v":0},null,{"$f":"IF($C33=CQ$4,1,0)","v":0},null,{"$f":"IF($C33=CS$4,1,0)","v":0},null,{"$f":"IF($C33=CU$4,1,0)","v":0},null,{"$f":"IF($C33=CW$4,1,0)","v":0},null,{"$f":"IF($C33=CY$4,1,0)","v":0},null,{"$f":"IF($C33=DA$4,1,0)","v":0},null,{"$f":"IF($C33=DC$4,1,0)","v":0},null,{"$f":"IF($C33=DE$4,1,0)","v":0},null,{"$f":"IF($C33=DG$4,1,0)","v":0},null,{"$f":"IF($C33=DI$4,1,0)","v":0},null,{"$f":"IF($C33=DK$4,1,0)","v":0},null,{"$f":"IF($C33=DM$4,1,0)","v":0},null,{"$f":"IF($C33=DO$4,1,0)","v":0},null,{"$f":"IF($C33=DQ$4,1,0)","v":0},null,{"$f":"IF($C33=DS$4,1,0)","v":0},null,{"$f":"IF($C33=DU$4,1,0)","v":0},null,{"$f":"IF($C33=DW$4,1,0)","v":0},null,{"$f":"IF($C33=DY$4,1,0)","v":0}]
[null,null,null,{"$f":"HLOOKUP($C34,'Dados Gerais'!$D$6:$BI$11,6)","v":{"$error":"#N/A"}},null,null,null,{"$f":"HLOOKUP($C34,'Dados Gerais'!$D$6:$BI$15,10)","v":{"$error":"#N/A"}},null,null,0,null,0,null,0,null,0,null,0,null,0,null,0,null,0,null,0,null,0,null,0,null,0,null,0,null,0,null,0,null,0,null,0,null,0,null,0,null,0,null,0,null,0,null,0,null,0,null,0,null,0,null,0,null,0,null,0,null,0,null,0,null,0,null,0,null,0,null,0,null,0,null,0,null,0,null,0,null,0,null,0,null,0,null,0,null,0,null,0,null,0,null,0,null,0,null,0,null,0,null,0,null,0,null,0,null,0,null,0,null,0,null,0,null,0,null,0,null,0]
[null,null,null,{"$f":"HLOOKUP($C35,'Dados Gerais'!$D$6:$BI$11,6)","v":{"$error":"#N/A"}},null,null,null,{"$f":"HLOOKUP($C35,'Dados Gerais'!$D$6:$BI$15,10)","v":{"$error":"#N/A"}},null,null,0,null,0,null,0,null,0,null,0,null,0,null,0,null,0,null,0,null,0,null,0,null,0,null,0,null,0,null,0,null,0,null,0,null,0,null,0,null,0,null,0,null,0,null,0,null,0,null,0,null,0,null,0,null,0,null,0,null,0,null,0,null,0,null,0,null,0,null,0,null,0,null,0,null,0,null,0,null,0,null,0,null,0,null,0,null,0,null,0,null,0,null,0,null,0,null,0,null,0,null,0,null,0,null,0,null,0,null,0,null,0,null,0,null,0,null,0,null,0]
[null,null,null,null,null,null,null,null,null,null,{"$f":"IF($C36=K$4,1,0)","v":0},null,{"$f":"IF($C36=M$4,1,0)","v":0},null,{"$f":"IF($C36=O$4,1,0)","v":0},null,{"$f":"IF($C36=Q$4,1,0)","v":0},null,{"$f":"IF($C36=S$4,1,0)","v":0},null,{"$f":"IF($C36=U$4,1,0)","v":0},null,{"$f":"IF($C36=W$4,1,0)","v":0},null,{"$f":"IF($C36=Y$4,1,0)","v":0},null,{"$f":"IF($C36=AA$4,1,0)","v":0},null,{"$f":"IF($C36=AC$4,1,0)","v":0},null,{"$f":"IF($C36=AE$4,1,0)","v":0},null,{"$f":"IF($C36=AG$4,1,0)","v":0},null,{"$f":"IF($C36=AI$4,1,0)","v":0},null,{"$f":"IF($C36=AK$4,1,0)","v":0},null,{"$f":"IF($C36=AM$4,1,0)","v":0},null,{"$f":"IF($C36=AO$4,1,0)","v":0},null,{"$f":"IF($C36=AQ$4,1,0)","v":0},null,{"$f":"IF($C36=AS$4,1,0)","v":0},null,{"$f":"IF($C36=AU$4,1,0)","v":0},null,{"$f":"IF($C36=AW$4,1,0)","v":0},null,{"$f":"IF($C36=AY$4,1,0)","v":0},null,{"$f":"IF($C36=BA$4,1,0)","v":0},null,{"$f":"IF($C36=BC$4,1,0)","v":0},null,{"$f":"IF($C36=BE$4,1,0)","v":0},null,{"$f":"IF($C36=BG$4,1,0)","v":0},null,{"$f":"IF($C36=BI$4,1,0)","v":0},null,{"$f":"IF($C36=BK$4,1,0)","v":0},null,{"$f":"IF($C36=BM$4,1,0)","v":0},null,{"$f":"IF($C36=BO$4,1,0)","v":0},null,{"$f":"IF($C36=BQ$4,1,0)","v":0},null,{"$f":"IF($C36=BS$4,1,0)","v":0},null,{"$f":"IF($C36=BU$4,1,0)","v":0},null,{"$f":"IF($C36=BW$4,1,0)","v":0},null,{"$f":"IF($C36=BY$4,1,0)","v":0},null,{"$f":"IF($C36=CA$4,1,0)","v":0},null,{"$f":"IF($C36=CC$4,1,0)","v":0},null,{"$f":"IF($C36=CE$4,1,0)","v":0},null,{"$f":"IF($C36=CG$4,1,0)","v":0},null,{"$f":"IF($C36=CI$4,1,0)","v":0},null,{"$f":"IF($C36=CK$4,1,0)","v":0},null,{"$f":"IF($C36=CM$4,1,0)","v":0},null,{"$f":"IF($C36=CO$4,1,0)","v":0},null,{"$f":"IF($C36=CQ$4,1,0)","v":0},null,{"$f":"IF($C36=CS$4,1,0)","v":0},null,{"$f":"IF($C36=CU$4,1,0)","v":0},null,{"$f":"IF($C36=CW$4,1,0)","v":0},null,{"$f":"IF($C36=CY$4,1,0)","v":0},null,{"$f":"IF($C36=DA$4,1,0)","v":0},null,{"$f":"IF($C36=DC$4,1,0)","v":0},null,{"$f":"IF($C36=DE$4,1,0)","v":0},null,{"$f":"IF($C36=DG$4,1,0)","v":0},null,{"$f":"IF($C36=DI$4,1,0)","v":0},null,{"$f":"IF($C36=DK$4,1,0)","v":0},null,{"$f":"IF($C36=DM$4,1,0)","v":0},null,{"$f":"IF($C36=DO$4,1,0)","v":0},null,{"$f":"IF($C36=DQ$4,1,0)","v":0},null,{"$f":"IF($C36=DS$4,1,0)","v":0},null,{"$f":"IF($C36=DU$4,1,0)","v":0},null,{"$f":"IF($C36=DW$4,1,0)","v":0},null,{"$f":"IF($C36=DY$4,1,0)","v":0}]
[]
[null,null,"ITEM","DESCRIÇÃO","QUANT ANUAL\nPOR POSTO","Nº DE POSTOS","QUANT ANUAL\nTOTAL","VALOR"]
[null,null,null,null,null,null,null,null,null,null,null,{"$f":"IF(SUM(K$8:K$8)>0,$E39*$H39,0)","v":0},null,{"$f":"IF(SUM(M$8:M$8)>0,$E39*$H39,0)","v":0},null,{"$f":"IF(SUM(O$8:O$8)>0,$E39*$H39,0)","v":0},null,{"$f":"IF(SUM(Q$8:Q$8)>0,$E39*$H39,0)","v":0},null,{"$f":"IF(SUM(S$8:S$8)>0,$E39*$H39,0)","v":0},null,{"$f":"IF(SUM(U$8:U$8)>0,$E39*$H39,0)","v":0},null,{"$f":"IF(SUM(W$8:W$8)>0,$E39*$H39,0)","v":0},null,{"$f":"IF(SUM(Y$8:Y$8)>0,$E39*$H39,0)","v":0},null,{"$f":"IF(SUM(AA$8:AA$8)>0,$E39*$H39,0)","v":0},null,{"$f":"IF(SUM(AC$8:AC$8)>0,$E39*$H39,0)","v":0},null,{"$f":"IF(SUM(AE$8:AE$8)>0,$E39*$H39,0)","v":0},null,{"$f":"IF(SUM(AG$8:AG$8)>0,$E39*$H39,0)","v":0},null,{"$f":"IF(SUM(AI$8:AI$8)>0,$E39*$H39,0)","v":0},null,{"$f":"IF(SUM(AK$8:AK$8)>0,$E39*$H39,0)","v":0},null,{"$f":"IF(SUM(AM$8:AM$8)>0,$E39*$H39,0)","v":0},null,{"$f":"IF(SUM(AO$8:AO$8)>0,$E39*$H39,0)","v":0},null,{"$f":"IF(SUM(AQ$8:AQ$8)>0,$E39*$H39,0)","v":0},null,{"$f":"IF(SUM(AS$8:AS$8)>0,$E39*$H39,0)","v":0},null,{"$f":"IF(SUM(AU$8:AU$8)>0,$E39*$H39,0)","v":0},null,{"$f":"IF(SUM(AW$8:AW$8)>0,$E39*$H39,0)","v":0},null,{"$f":"IF(SUM(AY$8:AY$8)>0,$E39*$H39,0)","v":0},null,{"$f":"IF(SUM(BA$8:BA$8)>0,$E39*$H39,0)","v":0},null,{"$f":"IF(SUM(BC$8:BC$8)>0,$E39*$H39,0)","v":0},null,{"$f":"IF(SUM(BE$8:BE$8)>0,$E39*$H39,0)","v":0},null,{"$f":"IF(SUM(BG$8:BG$8)>0,$E39*$H39,0)","v":0},null,{"$f":"IF(SUM(BI$8:BI$8)>0,$E39*$H39,0)","v":0},null,{"$f":"IF(SUM(BK$8:BK$8)>0,$E39*$H39,0)","v":0},null,{"$f":"IF(SUM(BM$8:BM$8)>0,$E39*$H39,0)","v":0},null,{"$f":"IF(SUM(BO$8:BO$8)>0,$E39*$H39,0)","v":0},null,{"$f":"IF(SUM(BQ$8:BQ$8)>0,$E39*$H39,0)","v":0},null,{"$f":"IF(SUM(BS$8:BS$8)>0,$E39*$H39,0)","v":0},null,{"$f":"IF(SUM(BU$8:BU$8)>0,$E39*$H39,0)","v":0},null,{"$f":"IF(SUM(BW$8:BW$8)>0,$E39*$H39,0)","v":0},null,{"$f":"IF(SUM(BY$8:BY$8)>0,$E39*$H39,0)","v":0},null,{"$f":"IF(SUM(CA$8:CA$8)>0,$E39*$H39,0)","v":0},null,{"$f":"IF(SUM(CC$8:CC$8)>0,$E39*$H39,0)","v":0},null,{"$f":"IF(SUM(CE$8:CE$8)>0,$E39*$H39,0)","v":0},null,{"$f":"IF(SUM(CG$8:CG$8)>0,$E39*$H39,0)","v":0},null,{"$f":"IF(SUM(CI$8:CI$8)>0,$E39*$H39,0)","v":0},null,{"$f":"IF(SUM(CK$8:CK$8)>0,$E39*$H39,0)","v":0},null,{"$f":"IF(SUM(CM$8:CM$8)>0,$E39*$H39,0)","v":0},null,{"$f":"IF(SUM(CO$8:CO$8)>0,$E39*$H39,0)","v":0},null,{"$f":"IF(SUM(CQ$8:CQ$8)>0,$E39*$H39,0)","v":0},null,{"$f":"IF(SUM(CS$8:CS$8)>0,$E39*$H39,0)","v":0},null,{"$f":"IF(SUM(CU$8:CU$8)>0,$E39*$H39,0)","v":0},null,{"$f":"IF(SUM(CW$8:CW$8)>0,$E39*$H39,0)","v":0},null,{"$f":"IF(SUM(CY$8:CY$8)>0,$E39*$H39,0)","v":0},null,{"$f":"IF(SUM(DA$8:DA$8)>0,$E39*$H39,0)","v":0},null,{"$f":"IF(SUM(DC$8:DC$8)>0,$E39*$H39,0)","v":0},null,{"$f":"IF(SUM(DE$8:DE$8)>0,$E39*$H39,0)","v":0},null,{"$f":"IF(SUM(DG$8:DG$8)>0,$E39*$H39,0)","v":0},null,{"$f":"IF(SUM(DI$8:DI$8)>0,$E39*$H39,0)","v":0},null,{"$f":"IF(SUM(DK$8:DK$8)>0,$E39*$H39,0)","v":0},null,{"$f":"IF(SUM(DM$8:DM$8)>0,$E39*$H39,0)","v":0},null,{"$f":"IF(SUM(DO$8:DO$8)>0,$E39*$H39,0)","v":0},null,{"$f":"IF(SUM(DQ$8:DQ$8)>0,$E39*$H39,0)","v":0},null,{"$f":"IF(SUM(DS$8:DS$8)>0,$E39*$H39,0)","v":0},null,{"$f":"IF(SUM(DU$8:DU$8)>0,$E39*$H39,0)","v":0},null,{"$f":"IF(SUM(DW$8:DW$8)>0,$E39*$H39,0)","v":0},null,{"$f":"IF(SUM(DY$8:DY$8)>0,$E39*$H39,0)","v":0}]
[null,null,null,null,null,{"$f":"SUM(H25:H36)","v":{"$error":"#N/A"}},{"$f":"E40*F40","v":{"$error":"#N/A"}},null,null,null,null,{"$f":"IF(SUM(K$25:K$36)>0,$E40*$H40,0)","v":0},null,{"$f":"IF(SUM(M$25:M$36)>0,$E40*$H40,0)","v":0},null,{"$f":"IF(SUM(O$25:O$36)>0,$E40*$H40,0)","v":0},null,{"$f":"IF(SUM(Q$25:Q$36)>0,$E40*$H40,0)","v":0},null,{"$f":"IF(SUM(S$25:S$36)>0,$E40*$H40,0)","v":0},null,{"$f":"IF(SUM(U$25:U$36)>0,$E40*$H40,0)","v":0},null,{"$f":"IF(SUM(W$25:W$36)>0,$E40*$H40,0)","v":0},null,{"$f":"IF(SUM(Y$25:Y$36)>0,$E40*$H40,0)","v":0},null,{"$f":"IF(SUM(AA$25:AA$36)>0,$E40*$H40,0)","v":0},null,{"$f":"IF(SUM(AC$25:AC$36)>0,$E40*$H40,0)","v":0},null,{"$f":"IF(SUM(AE$25:AE$36)>0,$E40*$H40,0)","v":0},null,{"$f":"IF(SUM(AG$25:AG$36)>0,$E40*$H40,0)","v":0},null,{"$f":"IF(SUM(AI$25:AI$36)>0,$E40*$H40,0)","v":0},null,{"$f":"IF(SUM(AK$25:AK$36)>0,$E40*$H40,0)","v":0},null,{"$f":"IF(SUM(AM$25:AM$36)>0,$E40*$H40,0)","v":0},null,{"$f":"IF(SUM(AO$25:AO$36)>0,$E40*$H40,0)","v":0},null,{"$f":"IF(SUM(AQ$25:AQ$36)>0,$E40*$H40,0)","v":0},null,{"$f":"IF(SUM(AS$25:AS$36)>0,$E40*$H40,0)","v":0},null,{"$f":"IF(SUM(AU$25:AU$36)>0,$E40*$H40,0)","v":0},null,{"$f":"IF(SUM(AW$25:AW$36)>0,$E40*$H40,0)","v":0},null,{"$f":"IF(SUM(AY$25:AY$36)>0,$E40*$H40,0)","v":0},null,{"$f":"IF(SUM(BA$25:BA$36)>0,$E40*$H40,0)","v":0},null,{"$f":"IF(SUM(BC$25:BC$36)>0,$E40*$H40,0)","v":0},null,{"$f":"IF(SUM(BE$25:BE$36)>0,$E40*$H40,0)","v":0},null,{"$f":"IF(SUM(BG$25:BG$36)>0,$E40*$H40,0)","v":0},null,{"$f":"IF(SUM(BI$25:BI$36)>0,$E40*$H40,0)","v":0},null,{"$f":"IF(SUM(BK$25:BK$36)>0,$E40*$H40,0)","v":0},null,{"$f":"IF(SUM(BM$25:BM$36)>0,$E40*$H40,0)","v":0},null,{"$f":"IF(SUM(BO$25:BO$36)>0,$E40*$H40,0)","v":0},null,{"$f":"IF(SUM(BQ$25:BQ$36)>0,$E40*$H40,0)","v":0},null,{"$f":"IF(SUM(BS$25:BS$36)>0,$E40*$H40,0)","v":0},null,{"$f":"IF(SUM(BU$25:BU$36)>0,$E40*$H40,0)","v":0},null,{"$f":"IF(SUM(BW$25:BW$36)>0,$E40*$H40,0)","v":0},null,{"$f":"IF(SUM(BY$25:BY$36)>0,$E40*$H40,0)","v":0},null,{"$f":"IF(SUM(CA$25:CA$36)>0,$E40*$H40,0)","v":0},null,{"$f":"IF(SUM(CC$25:CC$36)>0,$E40*$H40,0)","v":0},null,{"$f":"IF(SUM(CE$25:CE$36)>0,$E40*$H40,0)","v":0},null,{"$f":"IF(SUM(CG$25:CG$36)>0,$E40*$H40,0)","v":0},null,{"$f":"IF(SUM(CI$25:CI$36)>0,$E40*$H40,0)","v":0},null,{"$f":"IF(SUM(CK$25:CK$36)>0,$E40*$H40,0)","v":0},null,{"$f":"IF(SUM(CM$25:CM$36)>0,$E40*$H40,0)","v":0},null,{"$f":"IF(SUM(CO$25:CO$36)>0,$E40*$H40,0)","v":0},null,{"$f":"IF(SUM(CQ$25:CQ$36)>0,$E40*$H40,0)","v":0},null,{"$f":"IF(SUM(CS$25:CS$36)>0,$E40*$H40,0)","v":0},null,{"$f":"IF(SUM(CU$25:CU$36)>0,$E40*$H40,0)","v":0},null,{"$f":"IF(SUM(CW$25:CW$36)>0,$E40*$H40,0)","v":0},null,{"$f":"IF(SUM(CY$25:CY$36)>0,$E40*$H40,0)","v":0},null,{"$f":"IF(SUM(DA$25:DA$36)>0,$E40*$H40,0)","v":0},null,{"$f":"IF(SUM(DC$25:DC$36)>0,$E40*$H40,0)","v":0},null,{"$f":"IF(SUM(DE$25:DE$36)>0,$E40*$H40,0)","v":0},null,{"$f":"IF(SUM(DG$25:DG$36)>0,$E40*$H40,0)","v":0},null,{"$f":"IF(SUM(DI$25:DI$36)>0,$E40*$H40,0)","v":0},null,{"$f":"IF(SUM(DK$25:DK$36)>0,$E40*$H40,0)","v":0},null,{"$f":"IF(SUM(DM$25:DM$36)>0,$E40*$H40,0)","v":0},null,{"$f":"IF(SUM(DO$25:DO$36)>0,$E40*$H40,0)","v":0},null,{"$f":"IF(SUM(DQ$25:DQ$36)>0,$E40*$H40,0)","v":0},null,{"$f":"IF(SUM(DS$25:DS$36)>0,$E40*$H40,0)","v":0},null,{"$f":"IF(SUM(DU$25:DU$36)>0,$E40*$H40,0)","v":0},null,{"$f":"IF(SUM(DW$25:DW$36)>0,$E40*$H40,0)","v":0},null,{"$f":"IF(SUM(DY$25:DY$36)>0,$E40*$H40,0)","v":0}]
[null,null,null,null,null,{"$f":"F40","v":{"$error":"#N/A"}},{"$error":"#N/A"},null,null,null,null,0,null,0,null,0,null,0,null,0,null,0,null,0,null,0,null,0,null,0,null,0,null,0,null,0,null,0,null,0,null,0,null,0,null,0,null,0,null,0,null,0,null,0,null,0,null,0,null,0,null,0,null,0,null,0,null,0,null,0,null,0,null,0,null,0,null,0,null,0,null,0,null,0,null,0,null,0,null,0,null,0,null,0,null,0,null,0,null,0,null,0,null,0,null,0,null,0,null,0,null,0,null,0,null,0,null,0,null,0,null,0,null,0,null,0,null,0,null,0]
[null,null,null,null,null,{"$f":"F41","v":{"$error":"#N/A"}},{"$error":"#N/A"},null,null,null,null,0,null,0,null,0,null,0,null,0,null,0,null,0,null,0,null,0,null,0,null,0,null,0,null,0,null,0,null,0,null,0,null,0,null,0,null,0,null,0,null,0,null,0,null,0,null,0,null,0,null,0,null,0,null,0,null,0,null,0,null,0,null,0,null,0,null,0,null,0,null,0,null,0,null,0,null,0,null,0,null,0,null,0,null,0,null,0,null,0,null,0,null,0,null,0,null,0,null,0,null,0,null,0,null,0,null,0,null,0,null,0,null,0,null,0,null,0,null,0]
[null,null,null,null,null,{"$f":"F42","v":{"$error":"#N/A"}},{"$error":"#N/A"},null,null,null,null,0,null,0,null,0,null,0,null,0,null,0,null,0,null,0,null,0,null,0,null,0,null,0,null,0,null,0,null,0,null,0,null,0,null,0,null,0,null,0,null,0,null,0,null,0,null,0,null,0,null,0,null,0,null,0,null,0,null,0,null,0,null,0,null,0,null,0,null,0,null,0,null,0,null,0,null,0,null,0,null,0,null,0,null,0,null,0,null,0,null,0,null,0,null,0,null,0,null,0,null,0,null,0,null,0,null,0,null,0,null,0,null,0,null,0,null,0,null,0]
[null,null,null,null,null,{"$f":"F43","v":{"$error":"#N/A"}},{"$error":"#N/A"},null,null,null,null,0,null,0,null,0,null,0,null,0,null,0,null,0,null,0,null,0,null,0,null,0,null,0,null,0,null,0,null,0,null,0,null,0,null,0,null,0,null,0,null,0,null,0,null,0,null,0,null,0,null,0,null,0,null,0,null,0,null,0,null,0,null,0,null,0,null,0,null,0,null,0,null,0,null,0,null,0,null,0,null,0,null,0,null,0,null,0,null,0,null,0,null,0,null,0,null,0,null,0,null,0,null,0,null,0,null,0,null,0,null,0,null,0,null,0,null,0,null,0]
[null,null,null,null,null,{"$f":"F44","v":{"$error":"#N/A"}},{"$error":"#N/A"},null,null,null,null,0,null,0,null,0,null,0,null,0,null,0,null,0,null,0,null,0,null,0,null,0,null,0,null,0,null,0,null,0,null,0,null,0,null,0,null,0,null,0,null,0,null,0,null,0,null,0,null,0,null,0,null,0,null,0,null,0,null,0,null,0,null,0,null,0,null,0,null,0,null,0,null,0,null,0,null,0,null,0,null,0,null,0,null,0,null,0,null,0,null,0,null,0,null,0,null,0,null,0,null,0,null,0,null,0,null,0,null,0,null,0,null,0,null,0,null,0,null,0]

{"sheet":"EPI","index":11,"n_rows":301,"n_cols":79,"rows_kept":301,"cut":false,"hidden":false,"merged":[[2,1,2,3],[3,1,3,7]]}
[]
[]
[]
[null,"EQUIPAMENTOS DE PROTEÇÃO INDIVIDUAL - AQUISIÇÃO",null,null,null,null,null,null,null,null,1,null,{"$f":"K4+1","v":2},null,{"$f":"M4+1","v":3},null,4,null,5,null,6,null,7,null,8,null,9,null,10,null,11,null,12,null,13,null,14,null,15,null,16,null,17,null,18,null,19,null,20,null,21,null,22,null,23,null,24,null,25,null,26,null,27,null,28,null,29,null,30,null,31,null,32,null,33,null,34]
[]
[null,null,null,null,null,null,null,null,null,null,{"$f":"ROUND(SUM(L5:L315),2)","v":0},null,{"$f":"ROUND(SUM(N5:N315),2)","v":0},null,{"$f":"ROUND(SUM(P5:P315),2)","v":303.39999999999998},null,{"$f":"ROUND(SUM(R5:R315),2)","v":0},null,{"$f":"ROUND(SUM(T5:T315),2)","v":0},null,{"$f":"ROUND(SUM(V5:V315),2)","v":0},null,{"$f":"ROUND(SUM(X5:X315),2)","v":0},null,{"$f":"ROUND(SUM(Z5:Z315),2)","v":0},null,{"$f":"ROUND(SUM(AB5:AB315),2)","v":0},null,{"$f":"ROUND(SUM(AD5:AD315),2)","v":351.04},null,{"$f":"ROUND(SUM(AF5:AF315),2)","v":0},null,{"$f":"ROUND(SUM(AH5:AH315),2)","v":0},null,{"$f":"ROUND(SUM(AJ5:AJ315),2)","v":0},null,{"$f":"ROUND(SUM(AL5:AL315),2)","v":0},null,{"$f":"ROUND(SUM(AN5:AN315),2)","v":0},null,{"$f":"ROUND(SUM(AP5:AP315),2)","v":0},null,{"$f":"ROUND(SUM(AR5:AR315),2)","v":0},null,{"$f":"ROUND(SUM(AT5:AT315),2)","v":0},null,{"$f":"ROUND(SUM(AV5:AV315),2)","v":0},null,{"$f":"ROUND(SUM(AX5:AX315),2)","v":0},null,{"$f":"ROUND(SUM(AZ5:AZ315),2)","v":0},null,{"$f":"ROUND(SUM(BB5:BB315),2)","v":0},null,{"$f":"ROUND(SUM(BD5:BD315),2)","v":0},null,{"$f":"ROUND(SUM(BF5:BF315),2)","v":0},null,{"$f":"ROUND(SUM(BH5:BH315),2)","v":0},null,{"$f":"ROUND(SUM(BJ5:BJ315),2)","v":0},null,{"$f":"ROUND(SUM(BL5:BL315),2)","v":0},null,{"$f":"ROUND(SUM(BN5:BN315),2)","v":0},null,{"$f":"ROUND(SUM(BP5:BP315),2)","v":0},null,{"$f":"ROUND(SUM(BR5:BR315),2)","v":0},null,{"$f":"ROUND(SUM(BT5:BT315),2)","v":0},null,{"$f":"ROUND(SUM(BV5:BV315),2)","v":0},null,{"$f":"ROUND(SUM(BX5:BX315),2)","v":0},null,{"$f":"ROUND(SUM(BZ5:BZ315),2)","v":0},null,{"$f":"ROUND(SUM(CB5:CB315),2)","v":0}]
[null,null,"CATEGORIAS",null,null,null,null,"QUANTIDADE"]
[null,null,null,null,null,null,null,null,null,null,{"$f":"IF($C8=K$4,1,0)","v":0},null,{"$f":"IF($C8=M$4,1,0)","v":0},null,{"$f":"IF($C8=O$4,1,0)","v":0},null,{"$f":"IF($C8=Q$4,1,0)","v":0},null,{"$f":"IF($C8=S$4,1,0)","v":0},null,{"$f":"IF($C8=U$4,1,0)","v":0},null,{"$f":"IF($C8=W$4,1,0)","v":0},null,{"$f":"IF($C8=Y$4,1,0)","v":0},null,{"$f":"IF($C8=AA$4,1,0)","v":0},null,{"$f":"IF($C8=AC$4,1,0)","v":0},null,{"$f":"IF($C8=AE$4,1,0)","v":0},null,{"$f":"IF($C8=AG$4,1,0)","v":0},null,{"$f":"IF($C8=AI$4,1,0)","v":0},null,{"$f":"IF($C8=AK$4,1,0)","v":0},null,{"$f":"IF($C8=AM$4,1,0)","v":0},null,{"$f":"IF($C8=AO$4,1,0)","v":0},null,{"$f":"IF($C8=AQ$4,1,0)","v":0},null,{"$f":"IF($C8=AS$4,1,0)","v":0},null,{"$f":"IF($C8=AU$4,1,0)","v":0},null,{"$f":"IF($C8=AW$4,1,0)","v":0},null,{"$f":"IF($C8=AY$4,1,0)","v":0},null,{"$f":"IF($C8=BA$4,1,0)","v":0},null,{"$f":"IF($C8=BC$4,1,0)","v":0},null,{"$f":"IF($C8=BE$4,1,0)","v":0},null,{"$f":"IF($C8=BG$4,1,0)","v":0},null,{"$f":"IF($C8=BI$4,1,0)","v":0},null,{"$f":"IF($C8=BK$4,1,0)","v":0},null,{"$f":"IF($C8=BM$4,1,0)","v":0},null,{"$f":"IF($C8=BO$4,1,0)","v":0},null,{"$f":"IF($C8=BQ$4,1,0)","v":0},null,{"$f":"IF($C8=BS$4,1,0)","v":0},null,{"$f":"IF($C8=BU$4,1,0)","v":0},null,{"$f":"IF($C8=BW$4,1,0)","v":0},null,{"$f":"IF($C8=BY$4,1,0)","v":0}]
[null,null,3,{"$f":"HLOOKUP($C9,'Dados Gerais'!$D$6:$BI$11,6)","v":"SUPERVISOR TÉCNICO \n(CENTRO DE TRANSMISSÃO)"},null,null,null,{"$f":"HLOOKUP($C9,'Dados Gerais'!$D$6:$BI$15,10)","v":1},null,null,{"$f":"IF($C9=K$4,1,0)","v":0},null,{"$f":"IF($C9=M$4,1,0)","v":0},null,{"$f":"IF($C9=O$4,1,0)","v":1},null,{"$f":"IF($C9=Q$4,1,0)","v":0},null,{"$f":"IF($C9=S$4,1,0)","v":0},null,{"$f":"IF($C9=U$4,1,0)","v":0},null,{"$f":"IF($C9=W$4,1,0)","v":0},null,{"$f":"IF($C9=Y$4,1,0)","v":0},null,{"$f":"IF($C9=AA$4,1,0)","v":0},null,{"$f":"IF($C9=AC$4,1,0)","v":0},null,{"$f":"IF($C9=AE$4,1,0)","v":0},null,{"$f":"IF($C9=AG$4,1,0)","v":0},null,{"$f":"IF($C9=AI$4,1,0)","v":0},null,{"$f":"IF($C9=AK$4,1,0)","v":0},null,{"$f":"IF($C9=AM$4,1,0)","v":0},null,{"$f":"IF($C9=AO$4,1,0)","v":0},null,{"$f":"IF($C9=AQ$4,1,0)","v":0},null,{"$f":"IF($C9=AS$4,1,0)","v":0},null,{"$f":"IF($C9=AU$4,1,0)","v":0},null,{"$f":"IF($C9=AW$4,1,0)","v":0},null,{"$f":"IF($C9=AY$4,1,0)","v":0},null,{"$f":"IF($C9=BA$4,1,0)","v":0},null,{"$f":"IF($C9=BC$4,1,0)","v":0},null,{"$f":"IF($C9=BE$4,1,0)","v":0},null,{"$f":"IF($C9=BG$4,1,0)","v":0},null,{"$f":"IF($C9=BI$4,1,0)","v":0},null,{"$f":"IF($C9=BK$4,1,0)","v":0},null,{"$f":"IF($C9=BM$4,1,0)","v":0},null,{"$f":"IF($C9=BO$4,1,0)","v":0},null,{"$f":"IF($C9=BQ$4,1,0)","v":0},null,{"$f":"IF($C9=BS$4,1,0)","v":0},null,{"$f":"IF($C9=BU$4,1,0)","v":0},null,{"$f":"IF($C9=BW$4,1,0)","v":0},null,{"$f":"IF($C9=BY$4,1,0)","v":0}]
[null,null,null,null,null,null,null,null,null,null,{"$f":"IF($C10=K$4,1,0)","v":0},null,{"$f":"IF($C10=M$4,1,0)","v":0},null,{"$f":"IF($C10=O$4,1,0)","v":0},null,{"$f":"IF($C10=Q$4,1,0)","v":0},null,{"$f":"IF($C10=S$4,1,0)","v":0},null,{"$f":"IF($C10=U$4,1,0)","v":0},null,{"$f":"IF($C10=W$4,1,0)","v":0},null,{"$f":"IF($C10=Y$4,1,0)","v":0},null,{"$f":"IF($C10=AA$4,1,0)","v":0},null,{"$f":"IF($C10=AC$4,1,0)","v":0},null,{"$f":"IF($C10=AE$4,1,0)","v":0},null,{"$f":"IF($C10=AG$4,1,0)","v":0},null,{"$f":"IF($C10=AI$4,1,0)","v":0},null,{"$f":"IF($C10=AK$4,1,0)","v":0},null,{"$f":"IF($C10=AM$4,1,0)","v":0},null,{"$f":"IF($C10=AO$4,1,0)","v":0},null,{"$f":"IF($C10=AQ$4,1,0)","v":0},null,{"$f":"IF($C10=AS$4,1,0)","v":0},null,{"$f":"IF($C10=AU$4,1,0)","v":0},null,{"$f":"IF($C10=AW$4,1,0)","v":0},null,{"$f":"IF($C10=AY$4,1,0)","v":0},null,{"$f":"IF($C10=BA$4,1,0)","v":0},null,{"$f":"IF($C10=BC$4,1,0)","v":0},null,{"$f":"IF($C10=BE$4,1,0)","v":0},null,{"$f":"IF($C10=BG$4,1,0)","v":0},null,{"$f":"IF($C10=BI$4,1,0)","v":0},null,{"$f":"IF($C10=BK$4,1,0)","v":0},null,{"$f":"IF($C10=BM$4,1,0)","v":0},null,{"$f":"IF($C10=BO$4,1,0)","v":0},null,{"$f":"IF($C10=BQ$4,1,0)","v":0},null,{"$f":"IF($C10=BS$4,1,0)","v":0},null,{"$f":"IF($C10=BU$4,1,0)","v":0},null,{"$f":"IF($C10=BW$4,1,0)","v":0},null,{"$f":"IF($C10=BY$4,1,0)","v":0}]
[]
[null,null,"ITEM","DESCRIÇÃO","QUANT ANUAL POR POSTO","UNIDADE","QUANT DE POSTOS","VALOR"]
[null,null,null,null,null,null,null,null,null,null,null,{"$f":"IF(SUM(K$8:K$10)>0,$E13*$H13,0)","v":0},null,{"$f":"IF(SUM(M$8:M$10)>0,$E13*$H13,0)","v":0},null,{"$f":"IF(SUM(O$8:O$10)>0,$E13*$H13,0)","v":0},null,{"$f":"IF(SUM(Q$8:Q$10)>0,$E13*$H13,0)","v":0},null,{"$f":"IF(SUM(S$8:S$10)>0,$E13*$H13,0)","v":0},null,{"$f":"IF(SUM(U$8:U$10)>0,$E13*$H13,0)","v":0},null,{"$f":"IF(SUM(W$8:W$10)>0,$E13*$H13,0)","v":0},null,{"$f":"IF(SUM(Y$8:Y$10)>0,$E13*$H13,0)","v":0},null,{"$f":"IF(SUM(AA$8:AA$10)>0,$E13*$H13,0)","v":0},null,{"$f":"IF(SUM(AC$8:AC$10)>0,$E13*$H13,0)","v":0},null,{"$f":"IF(SUM(AE$8:AE$10)>0,$E13*$H13,0)","v":0},null,{"$f":"IF(SUM(AG$8:AG$10)>0,$E13*$H13,0)","v":0},null,{"$f":"IF(SUM(AI$8:AI$10)>0,$E13*$H13,0)","v":0},null,{"$f":"IF(SUM(AK$8:AK$10)>0,$E13*$H13,0)","v":0},null,{"$f":"IF(SUM(AM$8:AM$10)>0,$E13*$H13,0)","v":0},null,{"$f":"IF(SUM(AO$8:AO$10)>0,$E13*$H13,0)","v":0},null,{"$f":"IF(SUM(AQ$8:AQ$10)>0,$E13*$H13,0)","v":0},null,{"$f":"IF(SUM(AS$8:AS$10)>0,$E13*$H13,0)","v":0},null,{"$f":"IF(SUM(AU$8:AU$10)>0,$E13*$H13,0)","v":0},null,{"$f":"IF(SUM(AW$8:AW$10)>0,$E13*$H13,0)","v":0},null,{"$f":"IF(SUM(AY$8:AY$10)>0,$E13*$H13,0)","v":0},null,{"$f":"IF(SUM(BA$8:BA$10)>0,$E13*$H13,0)","v":0},null,{"$f":"IF(SUM(BC$8:BC$10)>0,$E13*$H13,0)","v":0},null,{"$f":"IF(SUM(BE$8:BE$10)>0,$E13*$H13,0)","v":0},null,{"$f":"IF(SUM(BG$8:BG$10)>0,$E13*$H13,0)","v":0},null,{"$f":"IF(SUM(BI$8:BI$10)>0,$E13*$H13,0)","v":0},null,{"$f":"IF(SUM(BK$8:BK$10)>0,$E13*$H13,0)","v":0},null,{"$f":"IF(SUM(BM$8:BM$10)>0,$E13*$H13,0)","v":0},null,{"$f":"IF(SUM(BO$8:BO$10)>0,$E13*$H13,0)","v":0},null,{"$f":"IF(SUM(BQ$8:BQ$10)>0,$E13*$H13,0)","v":0},null,{"$f":"IF(SUM(BS$8:BS$10)>0,$E13*$H13,0)","v":0},null,{"$f":"IF(SUM(BU$8:BU$10)>0,$E13*$H13,0)","v":0},null,{"$f":"IF(SUM(BW$8:BW$10)>0,$E13*$H13,0)","v":0},null,{"$f":"IF(SUM(BY$8:BY$10)>0,$E13*$H13,0)","v":0}]
[null,null,1,"Respirador purificador de ar tipo, peça semifacial filtrante para partículas (PFF2), com formato dobrável, solda ultra-Respirador purificador de ar tipo, peça semifacial filtrante para partículas (PFF2), com formato dobrável, solda ultra-sônica em todo o seu perímetro. Fita elástica branca fixada nas laterais externas do respirador, perfazendo uma alça na para fixação na parte superior da cabeça e a outra na parte inferior, para fixação na altura da nuca do usuário. A parte superior externa da peça possui tira de material metálico moldável, utilizada para ajuste no septo nasal. Dispositivo de material plástico na face lateral do respirador dotado internamente de válvula de exalação. DEVERÁ APRESENTAR O SELO DE APROVAÇÃO DO INMETRO. Ref.: 3M",4,"und",{"$f":"H9","v":1},1.97,null,null,null,{"$f":"ROUND(IF(SUM(K$8:K$10)>0,$E14*$G14*$H14/$H$9,0),2)","v":0},null,{"$f":"ROUND(IF(SUM(M$8:M$10)>0,$E14*$G14*$H14/$H$9,0),2)","v":0},null,{"$f":"ROUND(IF(SUM(O$8:O$10)>0,$E14*$G14*$H14/$H$9,0),2)","v":7.88},null,{"$f":"ROUND(IF(SUM(Q$8:Q$10)>0,$E14*$G14*$H14/$H$9,0),2)","v":0},null,{"$f":"ROUND(IF(SUM(S$8:S$10)>0,$E14*$G14*$H14/$H$9,0),2)","v":0},null,{"$f":"ROUND(IF(SUM(U$8:U$10)>0,$E14*$G14*$H14/$H$9,0),2)","v":0},null,{"$f":"ROUND(IF(SUM(W$8:W$10)>0,$E14*$G14*$H14/$H$9,0),2)","v":0},null,{"$f":"ROUND(IF(SUM(Y$8:Y$10)>0,$E14*$G14*$H14/$H$9,0),2)","v":0},null,{"$f":"ROUND(IF(SUM(AA$8:AA$10)>0,$E14*$G14*$H14/$H$9,0),2)","v":0},null,{"$f":"ROUND(IF(SUM(AC$8:AC$10)>0,$E14*$G14*$H14/$H$9,0),2)","v":0},null,{"$f":"ROUND(IF(SUM(AE$8:AE$10)>0,$E14*$G14*$H14/$H$9,0),2)","v":0},null,{"$f":"ROUND(IF(SUM(AG$8:AG$10)>0,$E14*$G14*$H14/$H$9,0),2)","v":0},null,{"$f":"ROUND(IF(SUM(AI$8:AI$10)>0,$E14*$G14*$H14/$H$9,0),2)","v":0},null,{"$f":"ROUND(IF(SUM(AK$8:AK$10)>0,$E14*$G14*$H14/$H$9,0),2)","v":0},null,{"$f":"ROUND(IF(SUM(AM$8:AM$10)>0,$E14*$G14*$H14/$H$9,0),2)","v":0},null,{"$f":"ROUND(IF(SUM(AO$8:AO$10)>0,$E14*$G14*$H14/$H$9,0),2)","v":0},null,{"$f":"ROUND(IF(SUM(AQ$8:AQ$10)>0,$E14*$G14*$H14/$H$9,0),2)","v":0},null,{"$f":"ROUND(IF(SUM(AS$8:AS$10)>0,$E14*$G14*$H14/$H$9,0),2)","v":0},null,{"$f":"ROUND(IF(SUM(AU$8:AU$10)>0,$E14*$G14*$H14/$H$9,0),2)","v":0},null,{"$f":"ROUND(IF(SUM(AW$8:AW$10)>0,$E14*$G14*$H14/$H$9,0),2)","v":0},null,{"$f":"ROUND(IF(SUM(AY$8:AY$10)>0,$E14*$G14*$H14/$H$9,0),2)","v":0},null,{"$f":"ROUND(IF(SUM(BA$8:BA$10)>0,$E14*$G14*$H14/$H$9,0),2)","v":0},null,{"$f":"ROUND(IF(SUM(BC$8:BC$10)>0,$E14*$G14*$H14/$H$9,0),2)","v":0},null,{"$f":"ROUND(IF(SUM(BE$8:BE$10)>0,$E14*$G14*$H14/$H$9,0),2)","v":0},null,{"$f":"ROUND(IF(SUM(BG$8:BG$10)>0,$E14*$G14*$H14/$H$9,0),2)","v":0},null,{"$f":"ROUND(IF(SUM(BI$8:BI$10)>0,$E14*$G14*$H14/$H$9,0),2)","v":0},null,{"$f":"ROUND(IF(SUM(BK$8:BK$10)>0,$E14*$G14*$H14/$H$9,0),2)","v":0},null,{"$f":"ROUND(IF(SUM(BM$8:BM$10)>0,$E14*$G14*$H14/$H$9,0),2)","v":0},null,{"$f":"ROUND(IF(SUM(BO$8:BO$10)>0,$E14*$G14*$H14/$H$9,0),2)","v":0},null,{"$f":"ROUND(IF(SUM(BQ$8:BQ$10)>0,$E14*$G14*$H14/$H$9,0),2)","v":0},null,{"$f":"ROUND(IF(SUM(BS$8:BS$10)>0,$E14*$G14*$H14/$H$9,0),2)","v":0},null,{"$f":"ROUND(IF(SUM(BU$8:BU$10)>0,$E14*$G14*$H14/$H$9,0),2)","v":0},null,{"$f":"ROUND(IF(SUM(BW$8:BW$10)>0,$E14*$G14*$H14/$H$9,0),2)","v":0},null,{"$f":"ROUND(IF(SUM(BY$8:BY$10)>0,$E14*$G14*$H14/$H$9,0),2)","v":0}]
[null,null,2,"Protetor auditivo, do tipo inserção pré-moldado, de silicone, lavável, com cordão e tamanho único,  com proteção mínima de 18 dB(A) de atenuação pelo método NRRsf. Ref: 3M",2,"und",{"$f":"G14","v":1},2.35,null,null,null,{"$f":"ROUND(IF(SUM(K$8:K$10)>0,$E15*$G15*$H15/$H$9,0),2)","v":0},null,{"$f":"ROUND(IF(SUM(M$8:M$10)>0,$E15*$G15*$H15/$H$9,0),2)","v":0},null,{"$f":"ROUND(IF(SUM(O$8:O$10)>0,$E15*$G15*$H15/$H$9,0),2)","v":4.7},null,{"$f":"ROUND(IF(SUM(Q$8:Q$10)>0,$E15*$G15*$H15/$H$9,0),2)","v":0},null,{"$f":"ROUND(IF(SUM(S$8:S$10)>0,$E15*$G15*$H15/$H$9,0),2)","v":0},null,{"$f":"ROUND(IF(SUM(U$8:U$10)>0,$E15*$G15*$H15/$H$9,0),2)","v":0},null,{"$f":"ROUND(IF(SUM(W$8:W$10)>0,$E15*$G15*$H15/$H$9,0),2)","v":0},null,{"$f":"ROUND(IF(SUM(Y$8:Y$10)>0,$E15*$G15*$H15/$H$9,0),2)","v":0},null,{"$f":"ROUND(IF(SUM(AA$8:AA$10)>0,$E15*$G15*$H15/$H$9,0),2)","v":0},null,{"$f":"ROUND(IF(SUM(AC$8:AC$10)>0,$E15*$G15*$H15/$H$9,0),2)","v":0},null,{"$f":"ROUND(IF(SUM(AE$8:AE$10)>0,$E15*$G15*$H15/$H$9,0),2)","v":0},null,{"$f":"ROUND(IF(SUM(AG$8:AG$10)>0,$E15*$G15*$H15/$H$9,0),2)","v":0},null,{"$f":"ROUND(IF(SUM(AI$8:AI$10)>0,$E15*$G15*$H15/$H$9,0),2)","v":0},null,{"$f":"ROUND(IF(SUM(AK$8:AK$10)>0,$E15*$G15*$H15/$H$9,0),2)","v":0},null,{"$f":"ROUND(IF(SUM(AM$8:AM$10)>0,$E15*$G15*$H15/$H$9,0),2)","v":0},null,{"$f":"ROUND(IF(SUM(AO$8:AO$10)>0,$E15*$G15*$H15/$H$9,0),2)","v":0},null,{"$f":"ROUND(IF(SUM(AQ$8:AQ$10)>0,$E15*$G15*$H15/$H$9,0),2)","v":0},null,{"$f":"ROUND(IF(SUM(AS$8:AS$10)>0,$E15*$G15*$H15/$H$9,0),2)","v":0},null,{"$f":"ROUND(IF(SUM(AU$8:AU$10)>0,$E15*$G15*$H15/$H$9,0),2)","v":0},null,{"$f":"ROUND(IF(SUM(AW$8:AW$10)>0,$E15*$G15*$H15/$H$9,0),2)","v":0},null,{"$f":"ROUND(IF(SUM(AY$8:AY$10)>0,$E15*$G15*$H15/$H$9,0),2)","v":0},null,{"$f":"ROUND(IF(SUM(BA$8:BA$10)>0,$E15*$G15*$H15/$H$9,0),2)","v":0},null,{"$f":"ROUND(IF(SUM(BC$8:BC$10)>0,$E15*$G15*$H15/$H$9,0),2)","v":0},null,{"$f":"ROUND(IF(SUM(BE$8:BE$10)>0,$E15*$G15*$H15/$H$9,0),2)","v":0},null,{"$f":"ROUND(IF(SUM(BG$8:BG$10)>0,$E15*$G15*$H15/$H$9,0),2)","v":0},null,{"$f":"ROUND(IF(SUM(BI$8:BI$10)>0,$E15*$G15*$H15/$H$9,0),2)","v":0},null,{"$f":"ROUND(IF(SUM(BK$8:BK$10)>0,$E15*$G15*$H15/$H$9,0),2)","v":0},null,{"$f":"ROUND(IF(SUM(BM$8:BM$10)>0,$E15*$G15*$H15/$H$9,0),2)","v":0},null,{"$f":"ROUND(IF(SUM(BO$8:BO$10)>0,$E15*$G15*$H15/$H$9,0),2)","v":0},null,{"$f":"ROUND(IF(SUM(BQ$8:BQ$10)>0,$E15*$G15*$H15/$H$9,0),2)","v":0},null,{"$f":"ROUND(IF(SUM(BS$8:BS$10)>0,$E15*$G15*$H15/$H$9,0),2)","v":0},null,{"$f":"ROUND(IF(SUM(BU$8:BU$10)>0,$E15*$G15*$H15/$H$9,0),2)","v":0},null,{"$f":"ROUND(IF(SUM(BW$8:BW$10)>0,$E15*$G15*$H15/$H$9,0),2)","v":0},null,{"$f":"ROUND(IF(SUM(BY$8:BY$10)>0,$E15*$G15*$H15/$H$9,0),2)","v":0}]
[null,null,3,"Botina de segurança confeccionada em couro nobuck e material têxtil; proteção contra risco elétrico; fechamento em cadarço; colarinho acolchoado; forração em tecido transpirável; palmilha de montagem em não tecido costurada/fixada junto ao cabedal; biqueira em composite; solado em PU bidensidade bicolor com sistema de absorção de impacto, injetado diretamente no cabedal; resistência ao escorregamento SRC. Cor preta ou marrom escura (café). Ref.: Bracol, modelo Dubai.",2,"und",{"$f":"G15","v":1},141.78,null,null,null,{"$f":"ROUND(IF(SUM(K$8:K$10)>0,$E16*$G16*$H16/$H$9,0),2)","v":0},null,{"$f":"ROUND(IF(SUM(M$8:M$10)>0,$E16*$G16*$H16/$H$9,0),2)","v":0},null,{"$f":"ROUND(IF(SUM(O$8:O$10)>0,$E16*$G16*$H16/$H$9,0),2)","v":283.56},null,{"$f":"ROUND(IF(SUM(Q$8:Q$10)>0,$E16*$G16*$H16/$H$9,0),2)","v":0},null,{"$f":"ROUND(IF(SUM(S$8:S$10)>0,$E16*$G16*$H16/$H$9,0),2)","v":0},null,{"$f":"ROUND(IF(SUM(U$8:U$10)>0,$E16*$G16*$H16/$H$9,0),2)","v":0},null,{"$f":"ROUND(IF(SUM(W$8:W$10)>0,$E16*$G16*$H16/$H$9,0),2)","v":0},null,{"$f":"ROUND(IF(SUM(Y$8:Y$10)>0,$E16*$G16*$H16/$H$9,0),2)","v":0},null,{"$f":"ROUND(IF(SUM(AA$8:AA$10)>0,$E16*$G16*$H16/$H$9,0),2)","v":0},null,{"$f":"ROUND(IF(SUM(AC$8:AC$10)>0,$E16*$G16*$H16/$H$9,0),2)","v":0},null,{"$f":"ROUND(IF(SUM(AE$8:AE$10)>0,$E16*$G16*$H16/$H$9,0),2)","v":0},null,{"$f":"ROUND(IF(SUM(AG$8:AG$10)>0,$E16*$G16*$H16/$H$9,0),2)","v":0},null,{"$f":"ROUND(IF(SUM(AI$8:AI$10)>0,$E16*$G16*$H16/$H$9,0),2)","v":0},null,{"$f":"ROUND(IF(SUM(AK$8:AK$10)>0,$E16*$G16*$H16/$H$9,0),2)","v":0},null,{"$f":"ROUND(IF(SUM(AM$8:AM$10)>0,$E16*$G16*$H16/$H$9,0),2)","v":0},null,{"$f":"ROUND(IF(SUM(AO$8:AO$10)>0,$E16*$G16*$H16/$H$9,0),2)","v":0},null,{"$f":"ROUND(IF(SUM(AQ$8:AQ$10)>0,$E16*$G16*$H16/$H$9,0),2)","v":0},null,{"$f":"ROUND(IF(SUM(AS$8:AS$10)>0,$E16*$G16*$H16/$H$9,0),2)","v":0},null,{"$f":"ROUND(IF(SUM(AU$8:AU$10)>0,$E16*$G16*$H16/$H$9,0),2)","v":0},null,{"$f":"ROUND(IF(SUM(AW$8:AW$10)>0,$E16*$G16*$H16/$H$9,0),2)","v":0},null,{"$f":"ROUND(IF(SUM(AY$8:AY$10)>0,$E16*$G16*$H16/$H$9,0),2)","v":0},null,{"$f":"ROUND(IF(SUM(BA$8:BA$10)>0,$E16*$G16*$H16/$H$9,0),2)","v":0},null,{"$f":"ROUND(IF(SUM(BC$8:BC$10)>0,$E16*$G16*$H16/$H$9,0),2)","v":0},null,{"$f":"ROUND(IF(SUM(BE$8:BE$10)>0,$E16*$G16*$H16/$H$9,0),2)","v":0},null,{"$f":"ROUND(IF(SUM(BG$8:BG$10)>0,$E16*$G16*$H16/$H$9,0),2)","v":0},null,{"$f":"ROUND(IF(SUM(BI$8:BI$10)>0,$E16*$G16*$H16/$H$9,0),2)","v":0},null,{"$f":"ROUND(IF(SUM(BK$8:BK$10)>0,$E16*$G16*$H16/$H$9,0),2)","v":0},null,{"$f":"ROUND(IF(SUM(BM$8:BM$10)>0,$E16*$G16*$H16/$H$9,0),2)","v":0},null,{"$f":"ROUND(IF(SUM(BO$8:BO$10)>0,$E16*$G16*$H16/$H$9,0),2)","v":0},null,{"$f":"ROUND(IF(SUM(BQ$8:BQ$10)>0,$E16*$G16*$H16/$H$9,0),2)","v":0},null,{"$f":"ROUND(IF(SUM(BS$8:BS$10)>0,$E16*$G16*$H16/$H$9,0),2)","v":0},null,{"$f":"ROUND(IF(SUM(BU$8:BU$10)>0,$E16*$G16*$H16/$H$9,0),2)","v":0},null,{"$f":"ROUND(IF(SUM(BW$8:BW$10)>0,$E16*$G16*$H16/$H$9,0),2)","v":0},null,{"$f":"ROUND(IF(SUM(BY$8:BY$10)>0,$E16*$G16*$H16/$H$9,0),2)","v":0}]
[null,null,4,"Luvas em poliuretano, cor preta, acabamento liso, com forro em poliamida, sem costura, punho tricotado c/ elástico. tamanho P, M e G. Ref. Promat modelo multitato 750 PT",2,"und",{"$f":"G16","v":1},3.63,null,null,null,{"$f":"ROUND(IF(SUM(K$8:K$10)>0,$E17*$G17*$H17/$H$9,0),2)","v":0},null,{"$f":"ROUND(IF(SUM(M$8:M$10)>0,$E17*$G17*$H17/$H$9,0),2)","v":0},null,{"$f":"ROUND(IF(SUM(O$8:O$10)>0,$E17*$G17*$H17/$H$9,0),2)","v":7.26},null,{"$f":"ROUND(IF(SUM(Q$8:Q$10)>0,$E17*$G17*$H17/$H$9,0),2)","v":0},null,{"$f":"ROUND(IF(SUM(S$8:S$10)>0,$E17*$G17*$H17/$H$9,0),2)","v":0},null,{"$f":"ROUND(IF(SUM(U$8:U$10)>0,$E17*$G17*$H17/$H$9,0),2)","v":0},null,{"$f":"ROUND(IF(SUM(W$8:W$10)>0,$E17*$G17*$H17/$H$9,0),2)","v":0},null,{"$f":"ROUND(IF(SUM(Y$8:Y$10)>0,$E17*$G17*$H17/$H$9,0),2)","v":0},null,{"$f":"ROUND(IF(SUM(AA$8:AA$10)>0,$E17*$G17*$H17/$H$9,0),2)","v":0},null,{"$f":"ROUND(IF(SUM(AC$8:AC$10)>0,$E17*$G17*$H17/$H$9,0),2)","v":0},null,{"$f":"ROUND(IF(SUM(AE$8:AE$10)>0,$E17*$G17*$H17/$H$9,0),2)","v":0},null,{"$f":"ROUND(IF(SUM(AG$8:AG$10)>0,$E17*$G17*$H17/$H$9,0),2)","v":0},null,{"$f":"ROUND(IF(SUM(AI$8:AI$10)>0,$E17*$G17*$H17/$H$9,0),2)","v":0},null,{"$f":"ROUND(IF(SUM(AK$8:AK$10)>0,$E17*$G17*$H17/$H$9,0),2)","v":0},null,{"$f":"ROUND(IF(SUM(AM$8:AM$10)>0,$E17*$G17*$H17/$H$9,0),2)","v":0},null,{"$f":"ROUND(IF(SUM(AO$8:AO$10)>0,$E17*$G17*$H17/$H$9,0),2)","v":0},null,{"$f":"ROUND(IF(SUM(AQ$8:AQ$10)>0,$E17*$G17*$H17/$H$9,0),2)","v":0},null,{"$f":"ROUND(IF(SUM(AS$8:AS$10)>0,$E17*$G17*$H17/$H$9,0),2)","v":0},null,{"$f":"ROUND(IF(SUM(AU$8:AU$10)>0,$E17*$G17*$H17/$H$9,0),2)","v":0},null,{"$f":"ROUND(IF(SUM(AW$8:AW$10)>0,$E17*$G17*$H17/$H$9,0),2)","v":0},null,{"$f":"ROUND(IF(SUM(AY$8:AY$10)>0,$E17*$G17*$H17/$H$9,0),2)","v":0},null,{"$f":"ROUND(IF(SUM(BA$8:BA$10)>0,$E17*$G17*$H17/$H$9,0),2)","v":0},null,{"$f":"ROUND(IF(SUM(BC$8:BC$10)>0,$E17*$G17*$H17/$H$9,0),2)","v":0},null,{"$f":"ROUND(IF(SUM(BE$8:BE$10)>0,$E17*$G17*$H17/$H$9,0),2)","v":0},null,{"$f":"ROUND(IF(SUM(BG$8:BG$10)>0,$E17*$G17*$H17/$H$9,0),2)","v":0},null,{"$f":"ROUND(IF(SUM(BI$8:BI$10)>0,$E17*$G17*$H17/$H$9,0),2)","v":0},null,{"$f":"ROUND(IF(SUM(BK$8:BK$10)>0,$E17*$G17*$H17/$H$9,0),2)","v":0},null,{"$f":"ROUND(IF(SUM(BM$8:BM$10)>0,$E17*$G17*$H17/$H$9,0),2)","v":0},null,{"$f":"ROUND(IF(SUM(BO$8:BO$10)>0,$E17*$G17*$H17/$H$9,0),2)","v":0},null,{"$f":"ROUND(IF(SUM(BQ$8:BQ$10)>0,$E17*$G17*$H17/$H$9,0),2)","v":0},null,{"$f":"ROUND(IF(SUM(BS$8:BS$10)>0,$E17*$G17*$H17/$H$9,0),2)","v":0},null,{"$f":"ROUND(IF(SUM(BU$8:BU$10)>0,$E17*$G17*$H17/$H$9,0),2)","v":0},null,{"$f":"ROUND(IF(SUM(BW$8:BW$10)>0,$E17*$G17*$H17/$H$9,0),2)","v":0},null,{"$f":"ROUND(IF(SUM(BY$8:BY$10)>0,$E17*$G17*$H17/$H$9,0),2)","v":0}]
[]
[null,null,"CATEGORIAS",null,null,null,null,"QUANTIDADE"]
[null,null,null,null,null,null,null,null,null,null,{"$f":"IF($C20=K$4,1,0)","v":0},null,{"$f":"IF($C20=M$4,1,0)","v":0},null,{"$f":"IF($C20=O$4,1,0)","v":0},null,{"$f":"IF($C20=Q$4,1,0)","v":0},null,{"$f":"IF($C20=S$4,1,0)","v":0},null,{"$f":"IF($C20=U$4,1,0)","v":0},null,{"$f":"IF($C20=W$4,1,0)","v":0},null,{"$f":"IF($C20=Y$4,1,0)","v":0},null,{"$f":"IF($C20=AA$4,1,0)","v":0},null,{"$f":"IF($C20=AC$4,1,0)","v":0},null,{"$f":"IF($C20=AE$4,1,0)","v":0},null,{"$f":"IF($C20=AG$4,1,0)","v":0},null,{"$f":"IF($C20=AI$4,1,0)","v":0},null,{"$f":"IF($C20=AK$4,1,0)","v":0},null,{"$f":"IF($C20=AM$4,1,0)","v":0},null,{"$f":"IF($C20=AO$4,1,0)","v":0},null,{"$f":"IF($C20=AQ$4,1,0)","v":0},null,{"$f":"IF($C20=AS$4,1,0)","v":0},null,{"$f":"IF($C20=AU$4,1,0)","v":0},null,{"$f":"IF($C20=AW$4,1,0)","v":0},null,{"$f":"IF($C20=AY$4,1,0)","v":0},null,{"$f":"IF($C20=BA$4,1,0)","v":0},null,{"$f":"IF($C20=BC$4,1,0)","v":0},null,{"$f":"IF($C20=BE$4,1,0)","v":0},null,{"$f":"IF($C20=BG$4,1,0)","v":0},null,{"$f":"IF($C20=BI$4,1,0)","v":0},null,{"$f":"IF($C20=BK$4,1,0)","v":0},null,{"$f":"IF($C20=BM$4,1,0)","v":0},null,{"$f":"IF($C20=BO$4,1,0)","v":0},null,{"$f":"IF($C20=BQ$4,1,0)","v":0},null,{"$f":"IF($C20=BS$4,1,0)","v":0},null,{"$f":"IF($C20=BU$4,1,0)","v":0},null,{"$f":"IF($C20=BW$4,1,0)","v":0},null,{"$f":"IF($C20=BY$4,1,0)","v":0}]
[null,null,10,{"$f":"HLOOKUP($C21,'Dados Gerais'!$D$6:$BI$11,6)","v":"OPERADOR DE TRANSMISSOR – Rádio e TV - 24H"},null,null,null,{"$f":"HLOOKUP($C21,'Dados Gerais'!$D$6:$BI$15,10)","v":5},null,null,{"$f":"IF($C21=K$4,1,0)","v":0},null,{"$f":"IF($C21=M$4,1,0)","v":0},null,{"$f":"IF($C21=O$4,1,0)","v":0},null,{"$f":"IF($C21=Q$4,1,0)","v":0},null,{"$f":"IF($C21=S$4,1,0)","v":0},null,{"$f":"IF($C21=U$4,1,0)","v":0},null,{"$f":"IF($C21=W$4,1,0)","v":0},null,{"$f":"IF($C21=Y$4,1,0)","v":0},null,{"$f":"IF($C21=AA$4,1,0)","v":0},null,{"$f":"IF($C21=AC$4,1,0)","v":1},null,{"$f":"IF($C21=AE$4,1,0)","v":0},null,{"$f":"IF($C21=AG$4,1,0)","v":0},null,{"$f":"IF($C21=AI$4,1,0)","v":0},null,{"$f":"IF($C21=AK$4,1,0)","v":0},null,{"$f":"IF($C21=AM$4,1,0)","v":0},null,{"$f":"IF($C21=AO$4,1,0)","v":0},null,{"$f":"IF($C21=AQ$4,1,0)","v":0},null,{"$f":"IF($C21=AS$4,1,0)","v":0},null,{"$f":"IF($C21=AU$4,1,0)","v":0},null,{"$f":"IF($C21=AW$4,1,0)","v":0},null,{"$f":"IF($C21=AY$4,1,0)","v":0},null,{"$f":"IF($C21=BA$4,1,0)","v":0},null,{"$f":"IF($C21=BC$4,1,0)","v":0},null,{"$f":"IF($C21=BE$4,1,0)","v":0},null,{"$f":"IF($C21=BG$4,1,0)","v":0},null,{"$f":"IF($C21=BI$4,1,0)","v":0},null,{"$f":"IF($C21=BK$4,1,0)","v":0},null,{"$f":"IF($C21=BM$4,1,0)","v":0},null,{"$f":"IF($C21=BO$4,1,0)","v":0},null,{"$f":"IF($C21=BQ$4,1,0)","v":0},null,{"$f":"IF($C21=BS$4,1,0)","v":0},null,{"$f":"IF($C21=BU$4,1,0)","v":0},null,{"$f":"IF($C21=BW$4,1,0)","v":0},null,{"$f":"IF($C21=BY$4,1,0)","v":0}]
[null,null,null,null,null,null,null,null,null,null,{"$f":"IF($C22=K$4,1,0)","v":0},null,{"$f":"IF($C22=M$4,1,0)","v":0},null,{"$f":"IF($C22=O$4,1,0)","v":0},null,{"$f":"IF($C22=Q$4,1,0)","v":0},null,{"$f":"IF($C22=S$4,1,0)","v":0},null,{"$f":"IF($C22=U$4,1,0)","v":0},null,{"$f":"IF($C22=W$4,1,0)","v":0},null,{"$f":"IF($C22=Y$4,1,0)","v":0},null,{"$f":"IF($C22=AA$4,1,0)","v":0},null,{"$f":"IF($C22=AC$4,1,0)","v":0},null,{"$f":"IF($C22=AE$4,1,0)","v":0},null,{"$f":"IF($C22=AG$4,1,0)","v":0},null,{"$f":"IF($C22=AI$4,1,0)","v":0},null,{"$f":"IF($C22=AK$4,1,0)","v":0},null,{"$f":"IF($C22=AM$4,1,0)","v":0},null,{"$f":"IF($C22=AO$4,1,0)","v":0},null,{"$f":"IF($C22=AQ$4,1,0)","v":0},null,{"$f":"IF($C22=AS$4,1,0)","v":0},null,{"$f":"IF($C22=AU$4,1,0)","v":0},null,{"$f":"IF($C22=AW$4,1,0)","v":0},null,{"$f":"IF($C22=AY$4,1,0)","v":0},null,{"$f":"IF($C22=BA$4,1,0)","v":0},null,{"$f":"IF($C22=BC$4,1,0)","v":0},null,{"$f":"IF($C22=BE$4,1,0)","v":0},null,{"$f":"IF($C22=BG$4,1,0)","v":0},null,{"$f":"IF($C22=BI$4,1,0)","v":0},null,{"$f":"IF($C22=BK$4,1,0)","v":0},null,{"$f":"IF($C22=BM$4,1,0)","v":0},null,{"$f":"IF($C22=BO$4,1,0)","v":0},null,{"$f":"IF($C22=BQ$4,1,0)","v":0},null,{"$f":"IF($C22=BS$4,1,0)","v":0},null,{"$f":"IF($C22=BU$4,1,0)","v":0},null,{"$f":"IF($C22=BW$4,1,0)","v":0},null,{"$f":"IF($C22=BY$4,1,0)","v":0}]
[]
[null,null,"ITEM","DESCRIÇÃO","QUANT ANUAL POR POSTO","UNIDADE","QUANT DE POSTOS","VALOR"]
[null,null,null,null,null,null,null,null,null,null,null,{"$f":"IF(SUM(K$8:K$10)>0,$E25*$H25,0)","v":0},null,{"$f":"IF(SUM(M$8:M$10)>0,$E25*$H25,0)","v":0},null,{"$f":"IF(SUM(O$8:O$10)>0,$E25*$H25,0)","v":0},null,{"$f":"IF(SUM(Q$8:Q$10)>0,$E25*$H25,0)","v":0},null,{"$f":"IF(SUM(S$8:S$10)>0,$E25*$H25,0)","v":0},null,{"$f":"IF(SUM(U$8:U$10)>0,$E25*$H25,0)","v":0},null,{"$f":"IF(SUM(W$8:W$10)>0,$E25*$H25,0)","v":0},null,{"$f":"IF(SUM(Y$8:Y$10)>0,$E25*$H25,0)","v":0},null,{"$f":"IF(SUM(AA$8:AA$10)>0,$E25*$H25,0)","v":0},null,{"$f":"IF(SUM(AC$8:AC$10)>0,$E25*$H25,0)","v":0},null,{"$f":"IF(SUM(AE$8:AE$10)>0,$E25*$H25,0)","v":0},null,{"$f":"IF(SUM(AG$8:AG$10)>0,$E25*$H25,0)","v":0},null,{"$f":"IF(SUM(AI$8:AI$10)>0,$E25*$H25,0)","v":0},null,{"$f":"IF(SUM(AK$8:AK$10)>0,$E25*$H25,0)","v":0},null,{"$f":"IF(SUM(AM$8:AM$10)>0,$E25*$H25,0)","v":0},null,{"$f":"IF(SUM(AO$8:AO$10)>0,$E25*$H25,0)","v":0},null,{"$f":"IF(SUM(AQ$8:AQ$10)>0,$E25*$H25,0)","v":0},null,{"$f":"IF(SUM(AS$8:AS$10)>0,$E25*$H25,0)","v":0},null,{"$f":"IF(SUM(AU$8:AU$10)>0,$E25*$H25,0)","v":0},null,{"$f":"IF(SUM(AW$8:AW$10)>0,$E25*$H25,0)","v":0},null,{"$f":"IF(SUM(AY$8:AY$10)>0,$E25*$H25,0)","v":0},null,{"$f":"IF(SUM(BA$8:BA$10)>0,$E25*$H25,0)","v":0},null,{"$f":"IF(SUM(BC$8:BC$10)>0,$E25*$H25,0)","v":0},null,{"$f":"IF(SUM(BE$8:BE$10)>0,$E25*$H25,0)","v":0},null,{"$f":"IF(SUM(BG$8:BG$10)>0,$E25*$H25,0)","v":0},null,{"$f":"IF(SUM(BI$8:BI$10)>0,$E25*$H25,0)","v":0},null,{"$f":"IF(SUM(BK$8:BK$10)>0,$E25*$H25,0)","v":0},null,{"$f":"IF(SUM(BM$8:BM$10)>0,$E25*$H25,0)","v":0},null,{"$f":"IF(SUM(BO$8:BO$10)>0,$E25*$H25,0)","v":0},null,{"$f":"IF(SUM(BQ$8:BQ$10)>0,$E25*$H25,0)","v":0},null,{"$f":"IF(SUM(BS$8:BS$10)>0,$E25*$H25,0)","v":0},null,{"$f":"IF(SUM(BU$8:BU$10)>0,$E25*$H25,0)","v":0},null,{"$f":"IF(SUM(BW$8:BW$10)>0,$E25*$H25,0)","v":0},null,{"$f":"IF(SUM(BY$8:BY$10)>0,$E25*$H25,0)","v":0}]
[null,null,1,"Respirador purificador de ar tipo, peça semifacial filtrante para partículas (PFF2), com formato dobrável, solda ultra-Respirador purificador de ar tipo, peça semifacial filtrante para partículas (PFF2), com formato dobrável, solda ultra-sônica em todo o seu perímetro. Fita elástica branca fixada nas laterais externas do respirador, perfazendo uma alça na para fixação na parte superior da cabeça e a outra na parte inferior, para fixação na altura da nuca do usuário. A parte superior externa da peça possui tira de material metálico moldável, utilizada para ajuste no septo nasal. Dispositivo de material plástico na face lateral do respirador dotado internamente de válvula de exalação. DEVERÁ APRESENTAR O SELO DE APROVAÇÃO DO INMETRO. Ref.: 3M",6,"und",{"$f":"H21","v":5},{"$f":"H14","v":1.97},null,null,null,{"$f":"ROUND(IF(SUM(K$20:K$22)>0,$E26*$G26*$H26/$H$21,0),2)","v":0},null,{"$f":"ROUND(IF(SUM(M$20:M$22)>0,$E26*$G26*$H26/$H$21,0),2)","v":0},null,{"$f":"ROUND(IF(SUM(O$20:O$22)>0,$E26*$G26*$H26/$H$21,0),2)","v":0},null,{"$f":"ROUND(IF(SUM(Q$20:Q$22)>0,$E26*$G26*$H26/$H$21,0),2)","v":0},null,{"$f":"ROUND(IF(SUM(S$20:S$22)>0,$E26*$G26*$H26/$H$21,0),2)","v":0},null,{"$f":"ROUND(IF(SUM(U$20:U$22)>0,$E26*$G26*$H26/$H$21,0),2)","v":0},null,{"$f":"ROUND(IF(SUM(W$20:W$22)>0,$E26*$G26*$H26/$H$21,0),2)","v":0},null,{"$f":"ROUND(IF(SUM(Y$20:Y$22)>0,$E26*$G26*$H26/$H$21,0),2)","v":0},null,{"$f":"ROUND(IF(SUM(AA$20:AA$22)>0,$E26*$G26*$H26/$H$21,0),2)","v":0},null,{"$f":"ROUND(IF(SUM(AC$20:AC$22)>0,$E26*$G26*$H26/$H$21,0),2)","v":11.82},null,{"$f":"ROUND(IF(SUM(AE$20:AE$22)>0,$E26*$G26*$H26/$H$21,0),2)","v":0},null,{"$f":"ROUND(IF(SUM(AG$20:AG$22)>0,$E26*$G26*$H26/$H$21,0),2)","v":0},null,{"$f":"ROUND(IF(SUM(AI$20:AI$22)>0,$E26*$G26*$H26/$H$21,0),2)","v":0},null,{"$f":"ROUND(IF(SUM(AK$20:AK$22)>0,$E26*$G26*$H26/$H$21,0),2)","v":0},null,{"$f":"ROUND(IF(SUM(AM$20:AM$22)>0,$E26*$G26*$H26/$H$21,0),2)","v":0},null,{"$f":"ROUND(IF(SUM(AO$20:AO$22)>0,$E26*$G26*$H26/$H$21,0),2)","v":0},null,{"$f":"ROUND(IF(SUM(AQ$20:AQ$22)>0,$E26*$G26*$H26/$H$21,0),2)","v":0},null,{"$f":"ROUND(IF(SUM(AS$20:AS$22)>0,$E26*$G26*$H26/$H$21,0),2)","v":0},null,{"$f":"ROUND(IF(SUM(AU$20:AU$22)>0,$E26*$G26*$H26/$H$21,0),2)","v":0},null,{"$f":"ROUND(IF(SUM(AW$20:AW$22)>0,$E26*$G26*$H26/$H$21,0),2)","v":0},null,{"$f":"ROUND(IF(SUM(AY$20:AY$22)>0,$E26*$G26*$H26/$H$21,0),2)","v":0},null,{"$f":"ROUND(IF(SUM(BA$20:BA$22)>0,$E26*$G26*$H26/$H$21,0),2)","v":0},null,{"$f":"ROUND(IF(SUM(BC$20:BC$22)>0,$E26*$G26*$H26/$H$21,0),2)","v":0},null,{"$f":"ROUND(IF(SUM(BE$20:BE$22)>0,$E26*$G26*$H26/$H$21,0),2)","v":0},null,{"$f":"ROUND(IF(SUM(BG$20:BG$22)>0,$E26*$G26*$H26/$H$21,0),2)","v":0},null,{"$f":"ROUND(IF(SUM(BI$20:BI$22)>0,$E26*$G26*$H26/$H$21,0),2)","v":0},null,{"$f":"ROUND(IF(SUM(BK$20:BK$22)>0,$E26*$G26*$H26/$H$21,0),2)","v":0},null,{"$f":"ROUND(IF(SUM(BM$20:BM$22)>0,$E26*$G26*$H26/$H$21,0),2)","v":0},null,{"$f":"ROUND(IF(SUM(BO$20:BO$22)>0,$E26*$G26*$H26/$H$21,0),2)","v":0},null,{"$f":"ROUND(IF(SUM(BQ$20:BQ$22)>0,$E26*$G26*$H26/$H$21,0),2)","v":0},null,{"$f":"ROUND(IF(SUM(BS$20:BS$22)>0,$E26*$G26*$H26/$H$21,0),2)","v":0},null,{"$f":"ROUND(IF(SUM(BU$20:BU$22)>0,$E26*$G26*$H26/$H$21,0),2)","v":0},null,{"$f":"ROUND(IF(SUM(BW$20:BW$22)>0,$E26*$G26*$H26/$H$21,0),2)","v":0},null,{"$f":"ROUND(IF(SUM(BY$20:BY$22)>0,$E26*$G26*$H26/$H$21,0),2)","v":0}]
[null,null,2,"Protetor auditivo, do tipo inserção pré-moldado, de silicone, lavável, com cordão e tamanho único,  com proteção mínima de 18 dB(A) de atenuação pelo método NRRsf. Ref: 3M",4,"und",{"$f":"G26","v":5},{"$f":"H15","v":2.35},null,null,null,{"$f":"ROUND(IF(SUM(K$20:K$22)>0,$E27*$G27*$H27/$H$21,0),2)","v":0},null,{"$f":"ROUND(IF(SUM(M$20:M$22)>0,$E27*$G27*$H27/$H$21,0),2)","v":0},null,{"$f":"ROUND(IF(SUM(O$20:O$22)>0,$E27*$G27*$H27/$H$21,0),2)","v":0},null,{"$f":"ROUND(IF(SUM(Q$20:Q$22)>0,$E27*$G27*$H27/$H$21,0),2)","v":0},null,{"$f":"ROUND(IF(SUM(S$20:S$22)>0,$E27*$G27*$H27/$H$21,0),2)","v":0},null,{"$f":"ROUND(IF(SUM(U$20:U$22)>0,$E27*$G27*$H27/$H$21,0),2)","v":0},null,{"$f":"ROUND(IF(SUM(W$20:W$22)>0,$E27*$G27*$H27/$H$21,0),2)","v":0},null,{"$f":"ROUND(IF(SUM(Y$20:Y$22)>0,$E27*$G27*$H27/$H$21,0),2)","v":0},null,{"$f":"ROUND(IF(SUM(AA$20:AA$22)>0,$E27*$G27*$H27/$H$21,0),2)","v":0},null,{"$f":"ROUND(IF(SUM(AC$20:AC$22)>0,$E27*$G27*$H27/$H$21,0),2)","v":9.4},null,{"$f":"ROUND(IF(SUM(AE$20:AE$22)>0,$E27*$G27*$H27/$H$21,0),2)","v":0},null,{"$f":"ROUND(IF(SUM(AG$20:AG$22)>0,$E27*$G27*$H27/$H$21,0),2)","v":0},null,{"$f":"ROUND(IF(SUM(AI$20:AI$22)>0,$E27*$G27*$H27/$H$21,0),2)","v":0},null,{"$f":"ROUND(IF(SUM(AK$20:AK$22)>0,$E27*$G27*$H27/$H$21,0),2)","v":0},null,{"$f":"ROUND(IF(SUM(AM$20:AM$22)>0,$E27*$G27*$H27/$H$21,0),2)","v":0},null,{"$f":"ROUND(IF(SUM(AO$20:AO$22)>0,$E27*$G27*$H27/$H$21,0),2)","v":0},null,{"$f":"ROUND(IF(SUM(AQ$20:AQ$22)>0,$E27*$G27*$H27/$H$21,0),2)","v":0},null,{"$f":"ROUND(IF(SUM(AS$20:AS$22)>0,$E27*$G27*$H27/$H$21,0),2)","v":0},null,{"$f":"ROUND(IF(SUM(AU$20:AU$22)>0,$E27*$G27*$H27/$H$21,0),2)","v":0},null,{"$f":"ROUND(IF(SUM(AW$20:AW$22)>0,$E27*$G27*$H27/$H$21,0),2)","v":0},null,{"$f":"ROUND(IF(SUM(AY$20:AY$22)>0,$E27*$G27*$H27/$H$21,0),2)","v":0},null,{"$f":"ROUND(IF(SUM(BA$20:BA$22)>0,$E27*$G27*$H27/$H$21,0),2)","v":0},null,{"$f":"ROUND(IF(SUM(BC$20:BC$22)>0,$E27*$G27*$H27/$H$21,0),2)","v":0},null,{"$f":"ROUND(IF(SUM(BE$20:BE$22)>0,$E27*$G27*$H27/$H$21,0),2)","v":0},null,{"$f":"ROUND(IF(SUM(BG$20:BG$22)>0,$E27*$G27*$H27/$H$21,0),2)","v":0},null,{"$f":"ROUND(IF(SUM(BI$20:BI$22)>0,$E27*$G27*$H27/$H$21,0),2)","v":0},null,{"$f":"ROUND(IF(SUM(BK$20:BK$22)>0,$E27*$G27*$H27/$H$21,0),2)","v":0},null,{"$f":"ROUND(IF(SUM(BM$20:BM$22)>0,$E27*$G27*$H27/$H$21,0),2)","v":0},null,{"$f":"ROUND(IF(SUM(BO$20:BO$22)>0,$E27*$G27*$H27/$H$21,0),2)","v":0},null,{"$f":"ROUND(IF(SUM(BQ$20:BQ$22)>0,$E27*$G27*$H27/$H$21,0),2)","v":0},null,{"$f":"ROUND(IF(SUM(BS$20:BS$22)>0,$E27*$G27*$H27/$H$21,0),2)","v":0},null,{"$f":"ROUND(IF(SUM(BU$20:BU$22)>0,$E27*$G27*$H27/$H$21,0),2)","v":0},null,{"$f":"ROUND(IF(SUM(BW$20:BW$22)>0,$E27*$G27*$H27/$H$21,0),2)","v":0},null,{"$f":"ROUND(IF(SUM(BY$20:BY$22)>0,$E27*$G27*$H27/$H$21,0),2)","v":0}]
[null,null,3,"Botina de segurança confeccionada em couro nobuck e material têxtil; proteção contra risco elétrico; fechamento em cadarço; colarinho acolchoado; forração em tecido transpirável; palmilha de montagem em não tecido costurada/fixada junto ao cabedal; biqueira em composite; solado em PU bidensidade bicolor com sistema de absorção de impacto, injetado diretamente no cabedal; resistência ao escorregamento SRC. Cor preta ou marrom escura (café). Ref.: Bracol, modelo Dubai.",2,"und",{"$f":"G27","v":5},{"$f":"H16","v":141.78},null,null,null,{"$f":"ROUND(IF(SUM(K$20:K$22)>0,$E28*$G28*$H28/$H$21,0),2)","v":0},null,{"$f":"ROUND(IF(SUM(M$20:M$22)>0,$E28*$G28*$H28/$H$21,0),2)","v":0},null,{"$f":"ROUND(IF(SUM(O$20:O$22)>0,$E28*$G28*$H28/$H$21,0),2)","v":0},null,{"$f":"ROUND(IF(SUM(Q$20:Q$22)>0,$E28*$G28*$H28/$H$21,0),2)","v":0},null,{"$f":"ROUND(IF(SUM(S$20:S$22)>0,$E28*$G28*$H28/$H$21,0),2)","v":0},null,{"$f":"ROUND(IF(SUM(U$20:U$22)>0,$E28*$G28*$H28/$H$21,0),2)","v":0},null,{"$f":"ROUND(IF(SUM(W$20:W$22)>0,$E28*$G28*$H28/$H$21,0),2)","v":0},null,{"$f":"ROUND(IF(SUM(Y$20:Y$22)>0,$E28*$G28*$H28/$H$21,0),2)","v":0},null,{"$f":"ROUND(IF(SUM(AA$20:AA$22)>0,$E28*$G28*$H28/$H$21,0),2)","v":0},null,{"$f":"ROUND(IF(SUM(AC$20:AC$22)>0,$E28*$G28*$H28/$H$21,0),2)","v":283.56},null,{"$f":"ROUND(IF(SUM(AE$20:AE$22)>0,$E28*$G28*$H28/$H$21,0),2)","v":0},null,{"$f":"ROUND(IF(SUM(AG$20:AG$22)>0,$E28*$G28*$H28/$H$21,0),2)","v":0},null,{"$f":"ROUND(IF(SUM(AI$20:AI$22)>0,$E28*$G28*$H28/$H$21,0),2)","v":0},null,{"$f":"ROUND(IF(SUM(AK$20:AK$22)>0,$E28*$G28*$H28/$H$21,0),2)","v":0},null,{"$f":"ROUND(IF(SUM(AM$20:AM$22)>0,$E28*$G28*$H28/$H$21,0),2)","v":0},null,{"$f":"ROUND(IF(SUM(AO$20:AO$22)>0,$E28*$G28*$H28/$H$21,0),2)","v":0},null,{"$f":"ROUND(IF(SUM(AQ$20:AQ$22)>0,$E28*$G28*$H28/$H$21,0),2)","v":0},null,{"$f":"ROUND(IF(SUM(AS$20:AS$22)>0,$E28*$G28*$H28/$H$21,0),2)","v":0},null,{"$f":"ROUND(IF(SUM(AU$20:AU$22)>0,$E28*$G28*$H28/$H$21,0),2)","v":0},null,{"$f":"ROUND(IF(SUM(AW$20:AW$22)>0,$E28*$G28*$H28/$H$21,0),2)","v":0},null,{"$f":"ROUND(IF(SUM(AY$20:AY$22)>0,$E28*$G28*$H28/$H$21,0),2)","v":0},null,{"$f":"ROUND(IF(SUM(BA$20:BA$22)>0,$E28*$G28*$H28/$H$21,0),2)","v":0},null,{"$f":"ROUND(IF(SUM(BC$20:BC$22)>0,$E28*$G28*$H28/$H$21,0),2)","v":0},null,{"$f":"ROUND(IF(SUM(BE$20:BE$22)>0,$E28*$G28*$H28/$H$21,0),2)","v":0},null,{"$f":"ROUND(IF(SUM(BG$20:BG$22)>0,$E28*$G28*$H28/$H$21,0),2)","v":0},null,{"$f":"ROUND(IF(SUM(BI$20:BI$22)>0,$E28*$G28*$H28/$H$21,0),2)","v":0},null,{"$f":"ROUND(IF(SUM(BK$20:BK$22)>0,$E28*$G28*$H28/$H$21,0),2)","v":0},null,{"$f":"ROUND(IF(SUM(BM$20:BM$22)>0,$E28*$G28*$H28/$H$21,0),2)","v":0},null,{"$f":"ROUND(IF(SUM(BO$20:BO$22)>0,$E28*$G28*$H28/$H$21,0),2)","v":0},null,{"$f":"ROUND(IF(SUM(BQ$20:BQ$22)>0,$E28*$G28*$H28/$H$21,0),2)","v":0},null,{"$f":"ROUND(IF(SUM(BS$20:BS$22)>0,$E28*$G28*$H28/$H$21,0),2)","v":0},null,{"$f":"ROUND(IF(SUM(BU$20:BU$22)>0,$E28*$G28*$H28/$H$21,0),2)","v":0},null,{"$f":"ROUND(IF(SUM(BW$20:BW$22)>0,$E28*$G28*$H28/$H$21,0),2)","v":0},null,{"$f":"ROUND(IF(SUM(BY$20:BY$22)>0,$E28*$G28*$H28/$H$21,0),2)","v":0}]
[null,null,4,"Luvas em poliuretano, cor preta, acabamento liso, com forro em poliamida, sem costura, punho tricotado c/ elástico. tamanho P, M e G. Ref. Promat modelo multitato 750 PT",4,"und",{"$f":"G28","v":5},{"$f":"H17","v":3.63},null,null,null,{"$f":"ROUND(IF(SUM(K$20:K$22)>0,$E29*$G29*$H29/$H$21,0),2)","v":0},null,{"$f":"ROUND(IF(SUM(M$20:M$22)>0,$E29*$G29*$H29/$H$21,0),2)","v":0},null,{"$f":"ROUND(IF(SUM(O$20:O$22)>0,$E29*$G29*$H29/$H$21,0),2)","v":0},null,{"$f":"ROUND(IF(SUM(Q$20:Q$22)>0,$E29*$G29*$H29/$H$21,0),2)","v":0},null,{"$f":"ROUND(IF(SUM(S$20:S$22)>0,$E29*$G29*$H29/$H$21,0),2)","v":0},null,{"$f":"ROUND(IF(SUM(U$20:U$22)>0,$E29*$G29*$H29/$H$21,0),2)","v":0},null,{"$f":"ROUND(IF(SUM(W$20:W$22)>0,$E29*$G29*$H29/$H$21,0),2)","v":0},null,{"$f":"ROUND(IF(SUM(Y$20:Y$22)>0,$E29*$G29*$H29/$H$21,0),2)","v":0},null,{"$f":"ROUND(IF(SUM(AA$20:AA$22)>0,$E29*$G29*$H29/$H$21,0),2)","v":0},null,{"$f":"ROUND(IF(SUM(AC$20:AC$22)>0,$E29*$G29*$H29/$H$21,0),2)","v":14.52},null,{"$f":"ROUND(IF(SUM(AE$20:AE$22)>0,$E29*$G29*$H29/$H$21,0),2)","v":0},null,{"$f":"ROUND(IF(SUM(AG$20:AG$22)>0,$E29*$G29*$H29/$H$21,0),2)","v":0},null,{"$f":"ROUND(IF(SUM(AI$20:AI$22)>0,$E29*$G29*$H29/$H$21,0),2)","v":0},null,{"$f":"ROUND(IF(SUM(AK$20:AK$22)>0,$E29*$G29*$H29/$H$21,0),2)","v":0},null,{"$f":"ROUND(IF(SUM(AM$20:AM$22)>0,$E29*$G29*$H29/$H$21,0),2)","v":0},null,{"$f":"ROUND(IF(SUM(AO$20:AO$22)>0,$E29*$G29*$H29/$H$21,0),2)","v":0},null,{"$f":"ROUND(IF(SUM(AQ$20:AQ$22)>0,$E29*$G29*$H29/$H$21,0),2)","v":0},null,{"$f":"ROUND(IF(SUM(AS$20:AS$22)>0,$E29*$G29*$H29/$H$21,0),2)","v":0},null,{"$f":"ROUND(IF(SUM(AU$20:AU$22)>0,$E29*$G29*$H29/$H$21,0),2)","v":0},null,{"$f":"ROUND(IF(SUM(AW$20:AW$22)>0,$E29*$G29*$H29/$H$21,0),2)","v":0},null,{"$f":"ROUND(IF(SUM(AY$20:AY$22)>0,$E29*$G29*$H29/$H$21,0),2)","v":0},null,{"$f":"ROUND(IF(SUM(BA$20:BA$22)>0,$E29*$G29*$H29/$H$21,0),2)","v":0},null,{"$f":"ROUND(IF(SUM(BC$20:BC$22)>0,$E29*$G29*$H29/$H$21,0),2)","v":0},null,{"$f":"ROUND(IF(SUM(BE$20:BE$22)>0,$E29*$G29*$H29/$H$21,0),2)","v":0},null,{"$f":"ROUND(IF(SUM(BG$20:BG$22)>0,$E29*$G29*$H29/$H$21,0),2)","v":0},null,{"$f":"ROUND(IF(SUM(BI$20:BI$22)>0,$E29*$G29*$H29/$H$21,0),2)","v":0},null,{"$f":"ROUND(IF(SUM(BK$20:BK$22)>0,$E29*$G29*$H29/$H$21,0),2)","v":0},null,{"$f":"ROUND(IF(SUM(BM$20:BM$22)>0,$E29*$G29*$H29/$H$21,0),2)","v":0},null,{"$f":"ROUND(IF(SUM(BO$20:BO$22)>0,$E29*$G29*$H29/$H$21,0),2)","v":0},null,{"$f":"ROUND(IF(SUM(BQ$20:BQ$22)>0,$E29*$G29*$H29/$H$21,0),2)","v":0},null,{"$f":"ROUND(IF(SUM(BS$20:BS$22)>0,$E29*$G29*$H29/$H$21,0),2)","v":0},null,{"$f":"ROUND(IF(SUM(BU$20:BU$22)>0,$E29*$G29*$H29/$H$21,0),2)","v":0},null,{"$f":"ROUND(IF(SUM(BW$20:BW$22)>0,$E29*$G29*$H29/$H$21,0),2)","v":0},null,{"$f":"ROUND(IF(SUM(BY$20:BY$22)>0,$E29*$G29*$H29/$H$21,0),2)","v":0}]
[null,null,5,"Óculos de segurança constituídos de armação e visor confeccionados em uma única peça de policarbonato INCOLOR, anti-risco, apoio nasal de plástico maleável ou elastômero. Hastes tipo espátula confeccionadas de material plástico, com acabamento emborrachado, articuladas através de parafusos metálicos. Resistente a alto impacto, devendo apresentar a marcação na lente em conformidade com a norma ANSI/ISEA Z87.1-2015. Ref.: 3M, modelo Securefit 400.",1,"und",{"$f":"G29","v":5},31.74,null,null,null,{"$f":"ROUND(IF(SUM(K$20:K$22)>0,$E30*$G30*$H30/$H$21,0),2)","v":0},null,{"$f":"ROUND(IF(SUM(M$20:M$22)>0,$E30*$G30*$H30/$H$21,0),2)","v":0},null,{"$f":"ROUND(IF(SUM(O$20:O$22)>0,$E30*$G30*$H30/$H$21,0),2)","v":0},null,{"$f":"ROUND(IF(SUM(Q$20:Q$22)>0,$E30*$G30*$H30/$H$21,0),2)","v":0},null,{"$f":"ROUND(IF(SUM(S$20:S$22)>0,$E30*$G30*$H30/$H$21,0),2)","v":0},null,{"$f":"ROUND(IF(SUM(U$20:U$22)>0,$E30*$G30*$H30/$H$21,0),2)","v":0},null,{"$f":"ROUND(IF(SUM(W$20:W$22)>0,$E30*$G30*$H30/$H$21,0),2)","v":0},null,{"$f":"ROUND(IF(SUM(Y$20:Y$22)>0,$E30*$G30*$H30/$H$21,0),2)","v":0},null,{"$f":"ROUND(IF(SUM(AA$20:AA$22)>0,$E30*$G30*$H30/$H$21,0),2)","v":0},null,{"$f":"ROUND(IF(SUM(AC$20:AC$22)>0,$E30*$G30*$H30/$H$21,0),2)","v":31.74},null,{"$f":"ROUND(IF(SUM(AE$20:AE$22)>0,$E30*$G30*$H30/$H$21,0),2)","v":0},null,{"$f":"ROUND(IF(SUM(AG$20:AG$22)>0,$E30*$G30*$H30/$H$21,0),2)","v":0},null,{"$f":"ROUND(IF(SUM(AI$20:AI$22)>0,$E30*$G30*$H30/$H$21,0),2)","v":0},null,{"$f":"ROUND(IF(SUM(AK$20:AK$22)>0,$E30*$G30*$H30/$H$21,0),2)","v":0},null,{"$f":"ROUND(IF(SUM(AM$20:AM$22)>0,$E30*$G30*$H30/$H$21,0),2)","v":0},null,{"$f":"ROUND(IF(SUM(AO$20:AO$22)>0,$E30*$G30*$H30/$H$21,0),2)","v":0},null,{"$f":"ROUND(IF(SUM(AQ$20:AQ$22)>0,$E30*$G30*$H30/$H$21,0),2)","v":0},null,{"$f":"ROUND(IF(SUM(AS$20:AS$22)>0,$E30*$G30*$H30/$H$21,0),2)","v":0},null,{"$f":"ROUND(IF(SUM(AU$20:AU$22)>0,$E30*$G30*$H30/$H$21,0),2)","v":0},null,{"$f":"ROUND(IF(SUM(AW$20:AW$22)>0,$E30*$G30*$H30/$H$21,0),2)","v":0},null,{"$f":"ROUND(IF(SUM(AY$20:AY$22)>0,$E30*$G30*$H30/$H$21,0),2)","v":0},null,{"$f":"ROUND(IF(SUM(BA$20:BA$22)>0,$E30*$G30*$H30/$H$21,0),2)","v":0},null,{"$f":"ROUND(IF(SUM(BC$20:BC$22)>0,$E30*$G30*$H30/$H$21,0),2)","v":0},null,{"$f":"ROUND(IF(SUM(BE$20:BE$22)>0,$E30*$G30*$H30/$H$21,0),2)","v":0},null,{"$f":"ROUND(IF(SUM(BG$20:BG$22)>0,$E30*$G30*$H30/$H$21,0),2)","v":0},null,{"$f":"ROUND(IF(SUM(BI$20:BI$22)>0,$E30*$G30*$H30/$H$21,0),2)","v":0},null,{"$f":"ROUND(IF(SUM(BK$20:BK$22)>0,$E30*$G30*$H30/$H$21,0),2)","v":0},null,{"$f":"ROUND(IF(SUM(BM$20:BM$22)>0,$E30*$G30*$H30/$H$21,0),2)","v":0},null,{"$f":"ROUND(IF(SUM(BO$20:BO$22)>0,$E30*$G30*$H30/$H$21,0),2)","v":0},null,{"$f":"ROUND(IF(SUM(BQ$20:BQ$22)>0,$E30*$G30*$H30/$H$21,0),2)","v":0},null,{"$f":"ROUND(IF(SUM(BS$20:BS$22)>0,$E30*$G30*$H30/$H$21,0),2)","v":0},null,{"$f":"ROUND(IF(SUM(BU$20:BU$22)>0,$E30*$G30*$H30/$H$21,0),2)","v":0},null,{"$f":"ROUND(IF(SUM(BW$20:BW$22)>0,$E30*$G30*$H30/$H$21,0),2)","v":0},null,{"$f":"ROUND(IF(SUM(BY$20:BY$22)>0,$E30*$G30*$H30/$H$21,0),2)","v":0}]
[]
[null,null,"CATEGORIAS",null,null,null,null,"QUANTIDADE"]
[null,null,null,null,null,null,null,null,null,null,{"$f":"IF($C33=K$4,1,0)","v":0},null,{"$f":"IF($C33=M$4,1,0)","v":0},null,{"$f":"IF($C33=O$4,1,0)","v":0},null,{"$f":"IF($C33=Q$4,1,0)","v":0},null,{"$f":"IF($C33=S$4,1,0)","v":0},null,{"$f":"IF($C33=U$4,1,0)","v":0},null,{"$f":"IF($C33=W$4,1,0)","v":0},null,{"$f":"IF($C33=Y$4,1,0)","v":0},null,{"$f":"IF($C33=AA$4,1,0)","v":0},null,{"$f":"IF($C33=AC$4,1,0)","v":0},null,{"$f":"IF($C33=AE$4,1,0)","v":0},null,{"$f":"IF($C33=AG$4,1,0)","v":0},null,{"$f":"IF($C33=AI$4,1,0)","v":0},null,{"$f":"IF($C33=AK$4,1,0)","v":0},null,{"$f":"IF($C33=AM$4,1,0)","v":0},null,{"$f":"IF($C33=AO$4,1,0)","v":0},null,{"$f":"IF($C33=AQ$4,1,0)","v":0},null,{"$f":"IF($C33=AS$4,1,0)","v":0},null,{"$f":"IF($C33=AU$4,1,0)","v":0},null,{"$f":"IF($C33=AW$4,1,0)","v":0},null,{"$f":"IF($C33=AY$4,1,0)","v":0},null,{"$f":"IF($C33=BA$4,1,0)","v":0},null,{"$f":"IF($C33=BC$4,1,0)","v":0},null,{"$f":"IF($C33=BE$4,1,0)","v":0},null,{"$f":"IF($C33=BG$4,1,0)","v":0},null,{"$f":"IF($C33=BI$4,1,0)","v":0},null,{"$f":"IF($C33=BK$4,1,0)","v":0},null,{"$f":"IF($C33=BM$4,1,0)","v":0},null,{"$f":"IF($C33=BO$4,1,0)","v":0},null,{"$f":"IF($C33=BQ$4,1,0)","v":0},null,{"$f":"IF($C33=BS$4,1,0)","v":0},null,{"$f":"IF($C33=BU$4,1,0)","v":0},null,{"$f":"IF($C33=BW$4,1,0)","v":0},null,{"$f":"IF($C33=BY$4,1,0)","v":0}]
[null,null,null,{"$f":"HLOOKUP($C34,'Dados Gerais'!$D$6:$BI$11,6)","v":{"$error":"#N/A"}},null,null,null,{"$f":"HLOOKUP($C34,'Dados Gerais'!$D$6:$BI$15,10)","v":{"$error":"#N/A"}},null,null,{"$f":"IF($C34=K$4,1,0)","v":0},null,{"$f":"IF($C34=M$4,1,0)","v":0},null,{"$f":"IF($C34=O$4,1,0)","v":0},null,{"$f":"IF($C34=Q$4,1,0)","v":0},null,{"$f":"IF($C34=S$4,1,0)","v":0},null,{"$f":"IF($C34=U$4,1,0)","v":0},null,{"$f":"IF($C34=W$4,1,0)","v":0},null,{"$f":"IF($C34=Y$4,1,0)","v":0},null,{"$f":"IF($C34=AA$4,1,0)","v":0},null,{"$f":"IF($C34=AC$4,1,0)","v":0},null,{"$f":"IF($C34=AE$4,1,0)","v":0},null,{"$f":"IF($C34=AG$4,1,0)","v":0},null,{"$f":"IF($C34=AI$4,1,0)","v":0},null,{"$f":"IF($C34=AK$4,1,0)","v":0},null,{"$f":"IF($C34=AM$4,1,0)","v":0},null,{"$f":"IF($C34=AO$4,1,0)","v":0},null,{"$f":"IF($C34=AQ$4,1,0)","v":0},null,{"$f":"IF($C34=AS$4,1,0)","v":0},null,{"$f":"IF($C34=AU$4,1,0)","v":0},null,{"$f":"IF($C34=AW$4,1,0)","v":0},null,{"$f":"IF($C34=AY$4,1,0)","v":0},null,{"$f":"IF($C34=BA$4,1,0)","v":0},null,{"$f":"IF($C34=BC$4,1,0)","v":0},null,{"$f":"IF($C34=BE$4,1,0)","v":0},null,{"$f":"IF($C34=BG$4,1,0)","v":0},null,{"$f":"IF($C34=BI$4,1,0)","v":0},null,{"$f":"IF($C34=BK$4,1,0)","v":0},null,{"$f":"IF($C34=BM$4,1,0)","v":0},null,{"$f":"IF($C34=BO$4,1,0)","v":0},null,{"$f":"IF($C34=BQ$4,1,0)","v":0},null,{"$f":"IF($C34=BS$4,1,0)","v":0},null,{"$f":"IF($C34=BU$4,1,0)","v":0},null,{"$f":"IF($C34=BW$4,1,0)","v":0},null,{"$f":"IF($C34=BY$4,1,0)","v":0}]
[null,null,null,null,null,null,null,null,null,null,{"$f":"IF($C35=K$4,1,0)","v":0},null,{"$f":"IF($C35=M$4,1,0)","v":0},null,{"$f":"IF($C35=O$4,1,0)","v":0},null,{"$f":"IF($C35=Q$4,1,0)","v":0},null,{"$f":"IF($C35=S$4,1,0)","v":0},null,{"$f":"IF($C35=U$4,1,0)","v":0},null,{"$f":"IF($C35=W$4,1,0)","v":0},null,{"$f":"IF($C35=Y$4,1,0)","v":0},null,{"$f":"IF($C35=AA$4,1,0)","v":0},null,{"$f":"IF($C35=AC$4,1,0)","v":0},null,{"$f":"IF($C35=AE$4,1,0)","v":0},null,{"$f":"IF($C35=AG$4,1,0)","v":0},null,{"$f":"IF($C35=AI$4,1,0)","v":0},null,{"$f":"IF($C35=AK$4,1,0)","v":0},null,{"$f":"IF($C35=AM$4,1,0)","v":0},null,{"$f":"IF($C35=AO$4,1,0)","v":0},null,{"$f":"IF($C35=AQ$4,1,0)","v":0},null,{"$f":"IF($C35=AS$4,1,0)","v":0},null,{"$f":"IF($C35=AU$4,1,0)","v":0},null,{"$f":"IF($C35=AW$4,1,0)","v":0},null,{"$f":"IF($C35=AY$4,1,0)","v":0},null,{"$f":"IF($C35=BA$4,1,0)","v":0},null,{"$f":"IF($C35=BC$4,1,0)","v":0},null,{"$f":"IF($C35=BE$4,1,0)","v":0},null,{"$f":"IF($C35=BG$4,1,0)","v":0},null,{"$f":"IF($C35=BI$4,1,0)","v":0},null,{"$f":"IF($C35=BK$4,1,0)","v":0},null,{"$f":"IF($C35=BM$4,1,0)","v":0},null,{"$f":"IF($C35=BO$4,1,0)","v":0},null,{"$f":"IF($C35=BQ$4,1,0)","v":0},null,{"$f":"IF($C35=BS$4,1,0)","v":0},null,{"$f":"IF($C35=BU$4,1,0)","v":0},null,{"$f":"IF($C35=BW$4,1,0)","v":0},null,{"$f":"IF($C35=BY$4,1,0)","v":0}]
[]
[null,null,"ITEM","DESCRIÇÃO","QUANT ANUAL POR POSTO","UNIDADE","QUANT DE POSTOS","VALOR"]
[null,null,null,null,null,null,null,null,null,null,null,{"$f":"IF(SUM(K$8:K$10)>0,$E38*$H38,0)","v":0},null,{"$f":"IF(SUM(M$8:M$10)>0,$E38*$H38,0)","v":0},null,{"$f":"IF(SUM(O$8:O$10)>0,$E38*$H38,0)","v":0},null,{"$f":"IF(SUM(Q$8:Q$10)>0,$E38*$H38,0)","v":0},null,{"$f":"IF(SUM(S$8:S$10)>0,$E38*$H38,0)","v":0},null,{"$f":"IF(SUM(U$8:U$10)>0,$E38*$H38,0)","v":0},null,{"$f":"IF(SUM(W$8:W$10)>0,$E38*$H38,0)","v":0},null,{"$f":"IF(SUM(Y$8:Y$10)>0,$E38*$H38,0)","v":0},null,{"$f":"IF(SUM(AA$8:AA$10)>0,$E38*$H38,0)","v":0},null,{"$f":"IF(SUM(AC$8:AC$10)>0,$E38*$H38,0)","v":0},null,{"$f":"IF(SUM(AE$8:AE$10)>0,$E38*$H38,0)","v":0},null,{"$f":"IF(SUM(AG$8:AG$10)>0,$E38*$H38,0)","v":0},null,{"$f":"IF(SUM(AI$8:AI$10)>0,$E38*$H38,0)","v":0},null,{"$f":"IF(SUM(AK$8:AK$10)>0,$E38*$H38,0)","v":0},null,{"$f":"IF(SUM(AM$8:AM$10)>0,$E38*$H38,0)","v":0},null,{"$f":"IF(SUM(AO$8:AO$10)>0,$E38*$H38,0)","v":0},null,{"$f":"IF(SUM(AQ$8:AQ$10)>0,$E38*$H38,0)","v":0},null,{"$f":"IF(SUM(AS$8:AS$10)>0,$E38*$H38,0)","v":0},null,{"$f":"IF(SUM(AU$8:AU$10)>0,$E38*$H38,0)","v":0},null,{"$f":"IF(SUM(AW$8:AW$10)>0,$E38*$H38,0)","v":0},null,{"$f":"IF(SUM(AY$8:AY$10)>0,$E38*$H38,0)","v":0},null,{"$f":"IF(SUM(BA$8:BA$10)>0,$E38*$H38,0)","v":0},null,{"$f":"IF(SUM(BC$8:BC$10)>0,$E38*$H38,0)","v":0},null,{"$f":"IF(SUM(BE$8:BE$10)>0,$E38*$H38,0)","v":0},null,{"$f":"IF(SUM(BG$8:BG$10)>0,$E38*$H38,0)","v":0},null,{"$f":"IF(SUM(BI$8:BI$10)>0,$E38*$H38,0)","v":0},null,{"$f":"IF(SUM(BK$8:BK$10)>0,$E38*$H38,0)","v":0},null,{"$f":"IF(SUM(BM$8:BM$10)>0,$E38*$H38,0)","v":0},null,{"$f":"IF(SUM(BO$8:BO$10)>0,$E38*$H38,0)","v":0},null,{"$f":"IF(SUM(BQ$8:BQ$10)>0,$E38*$H38,0)","v":0},null,{"$f":"IF(SUM(BS$8:BS$10)>0,$E38*$H38,0)","v":0},null,{"$f":"IF(SUM(BU$8:BU$10)>0,$E38*$H38,0)","v":0},null,{"$f":"IF(SUM(BW$8:BW$10)>0,$E38*$H38,0)","v":0},null,{"$f":"IF(SUM(BY$8:BY$10)>0,$E38*$H38,0)","v":0}]
[null,null,null,null,null,null,null,null,null,null,null,{"$f":"ROUND(IF(SUM(K$33:K$35)>0,$E39*$G39*$H39/$H$34,0),2)","v":0},null,{"$f":"ROUND(IF(SUM(M$33:M$35)>0,$E39*$G39*$H39/$H$34,0),2)","v":0},null,{"$f":"ROUND(IF(SUM(O$33:O$35)>0,$E39*$G39*$H39/$H$34,0),2)","v":0},null,{"$f":"ROUND(IF(SUM(Q$33:Q$35)>0,$E39*$G39*$H39/$H$34,0),2)","v":0},null,{"$f":"ROUND(IF(SUM(S$33:S$35)>0,$E39*$G39*$H39/$H$34,0),2)","v":0},null,{"$f":"ROUND(IF(SUM(U$33:U$35)>0,$E39*$G39*$H39/$H$34,0),2)","v":0},null,{"$f":"ROUND(IF(SUM(W$33:W$35)>0,$E39*$G39*$H39/$H$34,0),2)","v":0},null,{"$f":"ROUND(IF(SUM(Y$33:Y$35)>0,$E39*$G39*$H39/$H$34,0),2)","v":0},null,{"$f":"ROUND(IF(SUM(AA$33:AA$35)>0,$E39*$G39*$H39/$H$34,0),2)","v":0},null,{"$f":"ROUND(IF(SUM(AC$33:AC$35)>0,$E39*$G39*$H39/$H$34,0),2)","v":0},null,{"$f":"ROUND(IF(SUM(AE$33:AE$35)>0,$E39*$G39*$H39/$H$34,0),2)","v":0},null,{"$f":"ROUND(IF(SUM(AG$33:AG$35)>0,$E39*$G39*$H39/$H$34,0),2)","v":0},null,{"$f":"ROUND(IF(SUM(AI$33:AI$35)>0,$E39*$G39*$H39/$H$34,0),2)","v":0},null,{"$f":"ROUND(IF(SUM(AK$33:AK$35)>0,$E39*$G39*$H39/$H$34,0),2)","v":0},null,{"$f":"ROUND(IF(SUM(AM$33:AM$35)>0,$E39*$G39*$H39/$H$34,0),2)","v":0},null,{"$f":"ROUND(IF(SUM(AO$33:AO$35)>0,$E39*$G39*$H39/$H$34,0),2)","v":0},null,{"$f":"ROUND(IF(SUM(AQ$33:AQ$35)>0,$E39*$G39*$H39/$H$34,0),2)","v":0},null,{"$f":"ROUND(IF(SUM(AS$33:AS$35)>0,$E39*$G39*$H39/$H$34,0),2)","v":0},null,{"$f":"ROUND(IF(SUM(AU$33:AU$35)>0,$E39*$G39*$H39/$H$34,0),2)","v":0},null,{"$f":"ROUND(IF(SUM(AW$33:AW$35)>0,$E39*$G39*$H39/$H$34,0),2)","v":0},null,{"$f":"ROUND(IF(SUM(AY$33:AY$35)>0,$E39*$G39*$H39/$H$34,0),2)","v":0},null,{"$f":"ROUND(IF(SUM(BA$33:BA$35)>0,$E39*$G39*$H39/$H$34,0),2)","v":0},null,{"$f":"ROUND(IF(SUM(BC$33:BC$35)>0,$E39*$G39*$H39/$H$34,0),2)","v":0},null,{"$f":"ROUND(IF(SUM(BE$33:BE$35)>0,$E39*$G39*$H39/$H$34,0),2)","v":0},null,{"$f":"ROUND(IF(SUM(BG$33:BG$35)>0,$E39*$G39*$H39/$H$34,0),2)","v":0},null,{"$f":"ROUND(IF(SUM(BI$33:BI$35)>0,$E39*$G39*$H39/$H$34,0),2)","v":0},null,{"$f":"ROUND(IF(SUM(BK$33:BK$35)>0,$E39*$G39*$H39/$H$34,0),2)","v":0},null,{"$f":"ROUND(IF(SUM(BM$33:BM$35)>0,$E39*$G39*$H39/$H$34,0),2)","v":0},null,{"$f":"ROUND(IF(SUM(BO$33:BO$35)>0,$E39*$G39*$H39/$H$34,0),2)","v":0},null,{"$f":"ROUND(IF(SUM(BQ$33:BQ$35)>0,$E39*$G39*$H39/$H$34,0),2)","v":0},null,{"$f":"ROUND(IF(SUM(BS$33:BS$35)>0,$E39*$G39*$H39/$H$34,0),2)","v":0},null,{"$f":"ROUND(IF(SUM(BU$33:BU$35)>0,$E39*$G39*$H39/$H$34,0),2)","v":0},null,{"$f":"ROUND(IF(SUM(BW$33:BW$35)>0,$E39*$G39*$H39/$H$34,0),2)","v":0},null,{"$f":"ROUND(IF(SUM(BY$33:BY$35)>0,$E39*$G39*$H39/$H$34,0),2)","v":0}]
[null,null,null,null,null,null,null,null,null,null,null,0,null,0,null,0,null,0,null,0,null,0,null,0,null,0,null,0,null,0,null,0,null,0,null,0,null,0,null,0,null,0,null,0,null,0,null,0,null,0,null,0,null,0,null,0,null,0,null,0,null,0,null,0,null,0,null,0,null,0,null,0,null,0,null,0,null,0]
[null,null,null,null,null,null,null,null,null,null,null,0,null,0,null,0,null,0,null,0,null,0,null,0,null,0,null,0,null,0,null,0,null,0,null,0,null,0,null,0,null,0,null,0,null,0,null,0,null,0,null,0,null,0,null,0,null,0,null,0,null,0,null,0,null,0,null,0,null,0,null,0,null,0,null,0,null,0]
[null,null,null,null,null,null,null,null,null,null,null,0,null,0,null,0,null,0,null,0,null,0,null,0,null,0,null,0,null,0,null,0,null,0,null,0,null,0,null,0,null,0,null,0,null,0,null,0,null,0,null,0,null,0,null,0,null,0,null,0,null,0,null,0,null,0,null,0,null,0,null,0,null,0,null,0,null,0]
[null,null,null,null,null,null,null,null,null,null,null,0,null,0,null,0,null,0,null,0,null,0,null,0,null,0,null,0,null,0,null,0,null,0,null,0,null,0,null,0,null,0,null,0,null,0,null,0,null,0,null,0,null,0,null,0,null,0,null,0,null,0,null,0,null,0,null,0,null,0,null,0,null,0,null,0,null,0]
[null,null,null,null,null,null,null,null,null,null,null,0,null,0,null,0,null,0,null,0,null,0,null,0,null,0,null,0,null,0,null,0,null,0,null,0,null,0,null,0,null,0,null,0,null,0,null,0,null,0,null,0,null,0,null,0,null,0,null,0,null,0,null,0,null,0,null,0,null,0,null,0,null,0,null,0,null,0]
[]
[null,null,"CATEGORIAS",null,null,null,null,"QUANTIDADE"]
[null,null,null,null,null,null,null,null,null,null,{"$f":"IF($C47=K$4,1,0)","v":0},null,{"$f":"IF($C47=M$4,1,0)","v":0},null,{"$f":"IF($C47=O$4,1,0)","v":0},null,{"$f":"IF($C47=Q$4,1,0)","v":0},null,{"$f":"IF($C47=S$4,1,0)","v":0},null,{"$f":"IF($C47=U$4,1,0)","v":0},null,{"$f":"IF($C47=W$4,1,0)","v":0},null,{"$f":"IF($C47=Y$4,1,0)","v":0},null,{"$f":"IF($C47=AA$4,1,0)","v":0},null,{"$f":"IF($C47=AC$4,1,0)","v":0},null,{"$f":"IF($C47=AE$4,1,0)","v":0},null,{"$f":"IF($C47=AG$4,1,0)","v":0},null,{"$f":"IF($C47=AI$4,1,0)","v":0},null,{"$f":"IF($C47=AK$4,1,0)","v":0},null,{"$f":"IF($C47=AM$4,1,0)","v":0},null,{"$f":"IF($C47=AO$4,1,0)","v":0},null,{"$f":"IF($C47=AQ$4,1,0)","v":0},null,{"$f":"IF($C47=AS$4,1,0)","v":0},null,{"$f":"IF($C47=AU$4,1,0)","v":0},null,{"$f":"IF($C47=AW$4,1,0)","v":0},null,{"$f":"IF($C47=AY$4,1,0)","v":0},null,{"$f":"IF($C47=BA$4,1,0)","v":0},null,{"$f":"IF($C47=BC$4,1,0)","v":0},null,{"$f":"IF($C47=BE$4,1,0)","v":0},null,{"$f":"IF($C47=BG$4,1,0)","v":0},null,{"$f":"IF($C47=BI$4,1,0)","v":0},null,{"$f":"IF($C47=BK$4,1,0)","v":0},null,{"$f":"IF($C47=BM$4,1,0)","v":0},null,{"$f":"IF($C47=BO$4,1,0)","v":0},null,{"$f":"IF($C47=BQ$4,1,0)","v":0},null,{"$f":"IF($C47=BS$4,1,0)","v":0},null,{"$f":"IF($C47=BU$4,1,0)","v":0},null,{"$f":"IF($C47=BW$4,1,0)","v":0},null,{"$f":"IF($C47=BY$4,1,0)","v":0}]
[null,null,null,{"$f":"HLOOKUP($C48,'Dados Gerais'!$D$6:$BI$11,6)","v":{"$error":"#N/A"}},null,null,null,{"$f":"HLOOKUP($C48,'Dados Gerais'!$D$6:$BI$15,10)","v":{"$error":"#N/A"}},null,null,{"$f":"IF($C48=K$4,1,0)","v":0},null,{"$f":"IF($C48=M$4,1,0)","v":0},null,{"$f":"IF($C48=O$4,1,0)","v":0},null,{"$f":"IF($C48=Q$4,1,0)","v":0},null,{"$f":"IF($C48=S$4,1,0)","v":0},null,{"$f":"IF($C48=U$4,1,0)","v":0},null,{"$f":"IF($C48=W$4,1,0)","v":0},null,{"$f":"IF($C48=Y$4,1,0)","v":0},null,{"$f":"IF($C48=AA$4,1,0)","v":0},null,{"$f":"IF($C48=AC$4,1,0)","v":0},null,{"$f":"IF($C48=AE$4,1,0)","v":0},null,{"$f":"IF($C48=AG$4,1,0)","v":0},null,{"$f":"IF($C48=AI$4,1,0)","v":0},null,{"$f":"IF($C48=AK$4,1,0)","v":0},null,{"$f":"IF($C48=AM$4,1,0)","v":0},null,{"$f":"IF($C48=AO$4,1,0)","v":0},null,{"$f":"IF($C48=AQ$4,1,0)","v":0},null,{"$f":"IF($C48=AS$4,1,0)","v":0},null,{"$f":"IF($C48=AU$4,1,0)","v":0},null,{"$f":"IF($C48=AW$4,1,0)","v":0},null,{"$f":"IF($C48=AY$4,1,0)","v":0},null,{"$f":"IF($C48=BA$4,1,0)","v":0},null,{"$f":"IF($C48=BC$4,1,0)","v":0},null,{"$f":"IF($C48=BE$4,1,0)","v":0},null,{"$f":"IF($C48=BG$4,1,0)","v":0},null,{"$f":"IF($C48=BI$4,1,0)","v":0},null,{"$f":"IF($C48=BK$4,1,0)","v":0},null,{"$f":"IF($C48=BM$4,1,0)","v":0},null,{"$f":"IF($C48=BO$4,1,0)","v":0},null,{"$f":"IF($C48=BQ$4,1,0)","v":0},null,{"$f":"IF($C48=BS$4,1,0)","v":0},null,{"$f":"IF($C48=BU$4,1,0)","v":0},null,{"$f":"IF($C48=BW$4,1,0)","v":0},null,{"$f":"IF($C48=BY$4,1,0)","v":0}]
[null,null,null,null,null,null,null,null,null,null,{"$f":"IF($C49=K$4,1,0)","v":0},null,{"$f":"IF($C49=M$4,1,0)","v":0},null,{"$f":"IF($C49=O$4,1,0)","v":0},null,{"$f":"IF($C49=Q$4,1,0)","v":0},null,{"$f":"IF($C49=S$4,1,0)","v":0},null,{"$f":"IF($C49=U$4,1,0)","v":0},null,{"$f":"IF($C49=W$4,1,0)","v":0},null,{"$f":"IF($C49=Y$4,1,0)","v":0},null,{"$f":"IF($C49=AA$4,1,0)","v":0},null,{"$f":"IF($C49=AC$4,1,0)","v":0},null,{"$f":"IF($C49=AE$4,1,0)","v":0},null,{"$f":"IF($C49=AG$4,1,0)","v":0},null,{"$f":"IF($C49=AI$4,1,0)","v":0},null,{"$f":"IF($C49=AK$4,1,0)","v":0},null,{"$f":"IF($C49=AM$4,1,0)","v":0},null,{"$f":"IF($C49=AO$4,1,0)","v":0},null,{"$f":"IF($C49=AQ$4,1,0)","v":0},null,{"$f":"IF($C49=AS$4,1,0)","v":0},null,{"$f":"IF($C49=AU$4,1,0)","v":0},null,{"$f":"IF($C49=AW$4,1,0)","v":0},null,{"$f":"IF($C49=AY$4,1,0)","v":0},null,{"$f":"IF($C49=BA$4,1,0)","v":0},null,{"$f":"IF($C49=BC$4,1,0)","v":0},null,{"$f":"IF($C49=BE$4,1,0)","v":0},null,{"$f":"IF($C49=BG$4,1,0)","v":0},null,{"$f":"IF($C49=BI$4,1,0)","v":0},null,{"$f":"IF($C49=BK$4,1,0)","v":0},null,{"$f":"IF($C49=BM$4,1,0)","v":0},null,{"$f":"IF($C49=BO$4,1,0)","v":0},null,{"$f":"IF($C49=BQ$4,1,0)","v":0},null,{"$f":"IF($C49=BS$4,1,0)","v":0},null,{"$f":"IF($C49=BU$4,1,0)","v":0},null,{"$f":"IF($C49=BW$4,1,0)","v":0},null,{"$f":"IF($C49=BY$4,1,0)","v":0}]
[]
[null,null,"ITEM","DESCRIÇÃO","QUANT ANUAL POR POSTO","UNIDADE","QUANT DE POSTOS","VALOR"]
[null,null,null,null,null,null,null,null,null,null,null,{"$f":"IF(SUM(K$8:K$10)>0,$E52*$H52,0)","v":0},null,{"$f":"IF(SUM(M$8:M$10)>0,$E52*$H52,0)","v":0},null,{"$f":"IF(SUM(O$8:O$10)>0,$E52*$H52,0)","v":0},null,{"$f":"IF(SUM(Q$8:Q$10)>0,$E52*$H52,0)","v":0},null,{"$f":"IF(SUM(S$8:S$10)>0,$E52*$H52,0)","v":0},null,{"$f":"IF(SUM(U$8:U$10)>0,$E52*$H52,0)","v":0},null,{"$f":"IF(SUM(W$8:W$10)>0,$E52*$H52,0)","v":0},null,{"$f":"IF(SUM(Y$8:Y$10)>0,$E52*$H52,0)","v":0},null,{"$f":"IF(SUM(AA$8:AA$10)>0,$E52*$H52,0)","v":0},null,{"$f":"IF(SUM(AC$8:AC$10)>0,$E52*$H52,0)","v":0},null,{"$f":"IF(SUM(AE$8:AE$10)>0,$E52*$H52,0)","v":0},null,{"$f":"IF(SUM(AG$8:AG$10)>0,$E52*$H52,0)","v":0},null,{"$f":"IF(SUM(AI$8:AI$10)>0,$E52*$H52,0)","v":0},null,{"$f":"IF(SUM(AK$8:AK$10)>0,$E52*$H52,0)","v":0},null,{"$f":"IF(SUM(AM$8:AM$10)>0,$E52*$H52,0)","v":0},null,{"$f":"IF(SUM(AO$8:AO$10)>0,$E52*$H52,0)","v":0},null,{"$f":"IF(SUM(AQ$8:AQ$10)>0,$E52*$H52,0)","v":0},null,{"$f":"IF(SUM(AS$8:AS$10)>0,$E52*$H52,0)","v":0},null,{"$f":"IF(SUM(AU$8:AU$10)>0,$E52*$H52,0)","v":0},null,{"$f":"IF(SUM(AW$8:AW$10)>0,$E52*$H52,0)","v":0},null,{"$f":"IF(SUM(AY$8:AY$10)>0,$E52*$H52,0)","v":0},null,{"$f":"IF(SUM(BA$8:BA$10)>0,$E52*$H52,0)","v":0},null,{"$f":"IF(SUM(BC$8:BC$10)>0,$E52*$H52,0)","v":0},null,{"$f":"IF(SUM(BE$8:BE$10)>0,$E52*$H52,0)","v":0},null,{"$f":"IF(SUM(BG$8:BG$10)>0,$E52*$H52,0)","v":0},null,{"$f":"IF(SUM(BI$8:BI$10)>0,$E52*$H52,0)","v":0},null,{"$f":"IF(SUM(BK$8:BK$10)>0,$E52*$H52,0)","v":0},null,{"$f":"IF(SUM(BM$8:BM$10)>0,$E52*$H52,0)","v":0},null,{"$f":"IF(SUM(BO$8:BO$10)>0,$E52*$H52,0)","v":0},null,{"$f":"IF(SUM(BQ$8:BQ$10)>0,$E52*$H52,0)","v":0},null,{"$f":"IF(SUM(BS$8:BS$10)>0,$E52*$H52,0)","v":0},null,{"$f":"IF(SUM(BU$8:BU$10)>0,$E52*$H52,0)","v":0},null,{"$f":"IF(SUM(BW$8:BW$10)>0,$E52*$H52,0)","v":0},null,{"$f":"IF(SUM(BY$8:BY$10)>0,$E52*$H52,0)","v":0}]
[null,null,null,null,null,null,null,null,null,null,null,{"$f":"ROUND(IF(SUM(K$47:K$49)>0,$E53*$G53*$H53/$H$48,0),2)","v":0},null,{"$f":"ROUND(IF(SUM(M$47:M$49)>0,$E53*$G53*$H53/$H$48,0),2)","v":0},null,{"$f":"ROUND(IF(SUM(O$47:O$49)>0,$E53*$G53*$H53/$H$48,0),2)","v":0},null,{"$f":"ROUND(IF(SUM(Q$47:Q$49)>0,$E53*$G53*$H53/$H$48,0),2)","v":0},null,{"$f":"ROUND(IF(SUM(S$47:S$49)>0,$E53*$G53*$H53/$H$48,0),2)","v":0},null,{"$f":"ROUND(IF(SUM(U$47:U$49)>0,$E53*$G53*$H53/$H$48,0),2)","v":0},null,{"$f":"ROUND(IF(SUM(W$47:W$49)>0,$E53*$G53*$H53/$H$48,0),2)","v":0},null,{"$f":"ROUND(IF(SUM(Y$47:Y$49)>0,$E53*$G53*$H53/$H$48,0),2)","v":0},null,{"$f":"ROUND(IF(SUM(AA$47:AA$49)>0,$E53*$G53*$H53/$H$48,0),2)","v":0},null,{"$f":"ROUND(IF(SUM(AC$47:AC$49)>0,$E53*$G53*$H53/$H$48,0),2)","v":0},null,{"$f":"ROUND(IF(SUM(AE$47:AE$49)>0,$E53*$G53*$H53/$H$48,0),2)","v":0},null,{"$f":"ROUND(IF(SUM(AG$47:AG$49)>0,$E53*$G53*$H53/$H$48,0),2)","v":0},null,{"$f":"ROUND(IF(SUM(AI$47:AI$49)>0,$E53*$G53*$H53/$H$48,0),2)","v":0},null,{"$f":"ROUND(IF(SUM(AK$47:AK$49)>0,$E53*$G53*$H53/$H$48,0),2)","v":0},null,{"$f":"ROUND(IF(SUM(AM$47:AM$49)>0,$E53*$G53*$H53/$H$48,0),2)","v":0},null,{"$f":"ROUND(IF(SUM(AO$47:AO$49)>0,$E53*$G53*$H53/$H$48,0),2)","v":0},null,{"$f":"ROUND(IF(SUM(AQ$47:AQ$49)>0,$E53*$G53*$H53/$H$48,0),2)","v":0},null,{"$f":"ROUND(IF(SUM(AS$47:AS$49)>0,$E53*$G53*$H53/$H$48,0),2)","v":0},null,{"$f":"ROUND(IF(SUM(AU$47:AU$49)>0,$E53*$G53*$H53/$H$48,0),2)","v":0},null,{"$f":"ROUND(IF(SUM(AW$47:AW$49)>0,$E53*$G53*$H53/$H$48,0),2)","v":0},null,{"$f":"ROUND(IF(SUM(AY$47:AY$49)>0,$E53*$G53*$H53/$H$48,0),2)","v":0},null,{"$f":"ROUND(IF(SUM(BA$47:BA$49)>0,$E53*$G53*$H53/$H$48,0),2)","v":0},null,{"$f":"ROUND(IF(SUM(BC$47:BC$49)>0,$E53*$G53*$H53/$H$48,0),2)","v":0},null,{"$f":"ROUND(IF(SUM(BE$47:BE$49)>0,$E53*$G53*$H53/$H$48,0),2)","v":0},null,{"$f":"ROUND(IF(SUM(BG$47:BG$49)>0,$E53*$G53*$H53/$H$48,0),2)","v":0},null,{"$f":"ROUND(IF(SUM(BI$47:BI$49)>0,$E53*$G53*$H53/$H$48,0),2)","v":0},null,{"$f":"ROUND(IF(SUM(BK$47:BK$49)>0,$E53*$G53*$H53/$H$48,0),2)","v":0},null,{"$f":"ROUND(IF(SUM(BM$47:BM$49)>0,$E53*$G53*$H53/$H$48,0),2)","v":0},null,{"$f":"ROUND(IF(SUM(BO$47:BO$49)>0,$E53*$G53*$H53/$H$48,0),2)","v":0},null,{"$f":"ROUND(IF(SUM(BQ$47:BQ$49)>0,$E53*$G53*$H53/$H$48,0),2)","v":0},null,{"$f":"ROUND(IF(SUM(BS$47:BS$49)>0,$E53*$G53*$H53/$H$48,0),2)","v":0},null,{"$f":"ROUND(IF(SUM(BU$47:BU$49)>0,$E53*$G53*$H53/$H$48,0),2)","v":0},null,{"$f":"ROUND(IF(SUM(BW$47:BW$49)>0,$E53*$G53*$H53/$H$48,0),2)","v":0},null,{"$f":"ROUND(IF(SUM(BY$47:BY$49)>0,$E53*$G53*$H53/$H$48,0),2)","v":0}]
[null,null,null,null,null,null,null,null,null,null,null,0,null,0,null,0,null,{"$f":"ROUND(IF(SUM(Q$47:Q$49)>0,$E54*$G54*$H54/$H$48,0),2)","v":0},null,0,null,0,null,0,null,0,null,0,null,0,null,0,null,0,null,0,null,0,null,0,null,0,null,0,null,0,null,0,null,0,null,0,null,0,null,0,null,0,null,0,null,0,null,0,null,0,null,0,null,0,null,0,null,0,null,0,null,0]
[null,null,null,null,null,null,null,null,null,null,null,0,null,0,null,0,null,0,null,0,null,0,null,0,null,0,null,0,null,0,null,0,null,0,null,0,null,0,null,0,null,0,null,0,null,0,null,0,null,0,null,0,null,0,null,0,null,0,null,0,null,0,null,0,null,0,null,0,null,0,null,0,null,0,null,0,null,0]
[null,null,null,null,null,null,null,null,null,null,null,0,null,0,null,0,null,0,null,0,null,0,null,0,null,0,null,0,null,0,null,0,null,0,null,0,null,0,null,0,null,0,null,0,null,0,null,0,null,0,null,0,null,0,null,0,null,0,null,0,null,0,null,0,null,0,null,0,null,0,null,0,null,0,null,0,null,0]
[null,null,null,null,null,null,null,null,null,null,null,0,null,0,null,0,null,0,null,0,null,0,null,0,null,0,null,0,null,0,null,0,null,0,null,0,null,0,null,0,null,0,null,0,null,0,null,0,null,0,null,0,null,0,null,0,null,0,null,0,null,0,null,0,null,0,null,0,null,0,null,0,null,0,null,0,null,0]
[null,null,null,null,null,null,null,null,null,null,null,0,null,0,null,0,null,0,null,0,null,0,null,0,null,0,null,0,null,0,null,0,null,0,null,0,null,0,null,0,null,0,null,0,null,0,null,0,null,0,null,0,null,0,null,0,null,0,null,0,null,0,null,0,null,0,null,0,null,0,null,0,null,0,null,0,null,0]
[null,null,null,null,null,null,null,null,null,null,null,0,null,0,null,0,null,0,null,0,null,0,null,0,null,0,null,0,null,0,null,0,null,0,null,0,null,0,null,0,null,0,null,0,null,0,null,0,null,0,null,0,null,0,null,0,null,0,null,0,null,0,null,0,null,0,null,0,null,0,null,0,null,0,null,0,null,0]
[null,null,null,null,null,null,null,null,null,null,null,0,null,0,null,0,null,0,null,0,null,0,null,0,null,0,null,0,null,0,null,0,null,0,null,0,null,0,null,0,null,0,null,0,null,0,null,0,null,0,null,0,null,0,null,0,null,0,null,0,null,0,null,0,null,0,null,0,null,0,null,0,null,0,null,0,null,0]
[null,null,null,null,null,null,null,null,null,null,null,0,null,0,null,0,null,0,null,0,null,0,null,0,null,0,null,0,null,0,null,0,null,0,null,0,null,0,null,0,null,0,null,0,null,0,null,0,null,0,null,0,null,0,null,0,null,0,null,0,null,0,null,0,null,0,null,0,null,0,null,0,null,0,null,0,null,0]
[null,null,null,null,null,null,null,null,null,null,null,0,null,0,null,0,null,0,null,0,null,0,null,0,null,0,null,0,null,0,null,0,null,0,null,0,null,0,null,0,null,0,null,0,null,0,null,0,null,0,null,0,null,0,null,0,null,0,null,0,null,0,null,0,null,0,null,0,null,0,null,0,null,0,null,0,null,0]
[null,null,null,null,null,null,null,null,null,null,null,0,null,0,null,0,null,0,null,0,null,0,null,0,null,0,null,0,null,0,null,0,null,0,null,0,null,0,null,0,null,0,null,0,null,0,null,0,null,0,null,0,null,0,null,0,null,0,null,0,null,0,null,0,null,0,null,0,null,0,null,0,null,0,null,0,null,0]
[null,null,null,null,null,null,null,null,null,null,null,0,null,0,null,0,null,0,null,0,null,0,null,0,null,0,null,0,null,0,null,0,null,0,null,0,null,0,null,0,null,0,null,0,null,0,null,0,null,0,null,0,null,0,null,0,null,0,null,0,null,0,null,0,null,0,null,0,null,0,null,0,null,0,null,0,null,0]
[null,null,null,null,null,null,null,null,null,null,null,0,null,0,null,0,null,0,null,0,null,0,null,0,null,0,null,0,null,0,null,0,null,0,null,0,null,0,null,0,null,0,null,0,null,0,null,0,null,0,null,0,null,0,null,0,null,0,null,0,null,0,null,0,null,0,null,0,null,0,null,0,null,0,null,0,null,0]
[null,null,null,null,null,null,null,null,null,null,null,0,null,0,null,0,null,0,null,0,null,0,null,0,null,0,null,0,null,0,null,0,null,0,null,0,null,0,null,0,null,0,null,0,null,0,null,0,null,0,null,0,null,0,null,0,null,0,null,0,null,0,null,0,null,0,null,0,null,0,null,0,null,0,null,0,null,0]
[null,null,null,null,null,null,null,null,null,null,null,0,null,0,null,0,null,0,null,0,null,0,null,0,null,0,null,0,null,0,null,0,null,0,null,0,null,0,null,0,null,0,null,0,null,0,null,0,null,0,null,0,null,0,null,0,null,0,null,0,null,0,null,0,null,0,null,0,null,0,null,0,null,0,null,0,null,0]
[null,null,null,null,null,null,null,null,null,null,null,0,null,0,null,0,null,0,null,0,null,0,null,0,null,0,null,0,null,0,null,0,null,0,null,0,null,0,null,0,null,0,null,0,null,0,null,0,null,0,null,0,null,0,null,0,null,0,null,0,null,0,null,0,null,0,null,0,null,0,null,0,null,0,null,0,null,0]
[null,null,null,null,null,null,null,null,null,null,null,0,null,0,null,0,null,0,null,0,null,0,null,0,null,0,null,0,null,0,null,0,null,0,null,0,null,0,null,0,null,0,null,0,null,0,null,0,null,0,null,0,null,0,null,0,null,0,null,0,null,0,null,0,null,0,null,0,null,0,null,0,null,0,null,0,null,0]
[null,null,null,null,null,null,null,null,null,null,null,0,null,0,null,0,null,0,null,0,null,0,null,0,null,0,null,0,null,0,null,0,null,0,null,0,null,0,null,0,null,0,null,0,null,0,null,0,null,0,null,0,null,0,null,0,null,0,null,0,null,0,null,0,null,0,null,0,null,0,null,0,null,0,null,0,null,0]
[null,null,null,null,null,null,null,null,null,null,null,0,null,0,null,0,null,0,null,0,null,0,null,0,null,0,null,0,null,0,null,0,null,0,null,0,null,0,null,0,null,0,null,0,null,0,null,0,null,0,null,0,null,0,null,0,null,0,null,0,null,0,null,0,null,0,null,0,null,0,null,0,null,0,null,0,null,0]
[null,null,null,null,null,null,null,null,null,null,null,0,null,0,null,0,null,0,null,0,null,0,null,0,null,0,null,0,null,0,null,0,null,0,null,0,null,0,null,0,null,0,null,0,null,0,null,0,null,0,null,0,null,0,null,0,null,0,null,0,null,0,null,0,null,0,null,0,null,0,null,0,null,0,null,0,null,0]
[null,null,null,null,null,null,null,null,null,null,null,0,null,0,null,0,null,0,null,0,null,0,null,0,null,0,null,0,null,0,null,0,null,0,null,0,null,0,null,0,null,0,null,0,null,0,null,0,null,0,null,0,null,0,null,0,null,0,null,0,null,0,null,0,null,0,null,0,null,0,null,0,null,0,null,0,null,0]
[]
[null,null,"CATEGORIAS",null,null,null,null,"QUANTIDADE"]
[null,null,null,null,null,null,null,null,null,null,{"$f":"IF($C76=K$4,1,0)","v":0},null,{"$f":"IF($C76=M$4,1,0)","v":0},null,{"$f":"IF($C76=O$4,1,0)","v":0},null,{"$f":"IF($C76=Q$4,1,0)","v":0},null,{"$f":"IF($C76=S$4,1,0)","v":0},null,{"$f":"IF($C76=U$4,1,0)","v":0},null,{"$f":"IF($C76=W$4,1,0)","v":0},null,{"$f":"IF($C76=Y$4,1,0)","v":0},null,{"$f":"IF($C76=AA$4,1,0)","v":0},null,{"$f":"IF($C76=AC$4,1,0)","v":0},null,{"$f":"IF($C76=AE$4,1,0)","v":0},null,{"$f":"IF($C76=AG$4,1,0)","v":0},null,{"$f":"IF($C76=AI$4,1,0)","v":0},null,{"$f":"IF($C76=AK$4,1,0)","v":0},null,{"$f":"IF($C76=AM$4,1,0)","v":0},null,{"$f":"IF($C76=AO$4,1,0)","v":0},null,{"$f":"IF($C76=AQ$4,1,0)","v":0},null,{"$f":"IF($C76=AS$4,1,0)","v":0},null,{"$f":"IF($C76=AU$4,1,0)","v":0},null,{"$f":"IF($C76=AW$4,1,0)","v":0},null,{"$f":"IF($C76=AY$4,1,0)","v":0},null,{"$f":"IF($C76=BA$4,1,0)","v":0},null,{"$f":"IF($C76=BC$4,1,0)","v":0},null,{"$f":"IF($C76=BE$4,1,0)","v":0},null,{"$f":"IF($C76=BG$4,1,0)","v":0},null,{"$f":"IF($C76=BI$4,1,0)","v":0},null,{"$f":"IF($C76=BK$4,1,0)","v":0},null,{"$f":"IF($C76=BM$4,1,0)","v":0},null,{"$f":"IF($C76=BO$4,1,0)","v":0},null,{"$f":"IF($C76=BQ$4,1,0)","v":0},null,{"$f":"IF($C76=BS$4,1,0)","v":0},null,{"$f":"IF($C76=BU$4,1,0)","v":0},null,{"$f":"IF($C76=BW$4,1,0)","v":0},null,{"$f":"IF($C76=BY$4,1,0)","v":0}]
[null,null,null,{"$f":"HLOOKUP($C77,'Dados Gerais'!$D$6:$BI$11,6)","v":{"$error":"#N/A"}},null,null,null,{"$f":"HLOOKUP($C77,'Dados Gerais'!$D$6:$BI$15,10)","v":{"$error":"#N/A"}},null,null,{"$f":"IF($C77=K$4,1,0)","v":0},null,{"$f":"IF($C77=M$4,1,0)","v":0},null,{"$f":"IF($C77=O$4,1,0)","v":0},null,{"$f":"IF($C77=Q$4,1,0)","v":0},null,{"$f":"IF($C77=S$4,1,0)","v":0},null,{"$f":"IF($C77=U$4,1,0)","v":0},null,{"$f":"IF($C77=W$4,1,0)","v":0},null,{"$f":"IF($C77=Y$4,1,0)","v":0},null,{"$f":"IF($C77=AA$4,1,0)","v":0},null,{"$f":"IF($C77=AC$4,1,0)","v":0},null,{"$f":"IF($C77=AE$4,1,0)","v":0},null,{"$f":"IF($C77=AG$4,1,0)","v":0},null,{"$f":"IF($C77=AI$4,1,0)","v":0},null,{"$f":"IF($C77=AK$4,1,0)","v":0},null,{"$f":"IF($C77=AM$4,1,0)","v":0},null,{"$f":"IF($C77=AO$4,1,0)","v":0},null,{"$f":"IF($C77=AQ$4,1,0)","v":0},null,{"$f":"IF($C77=AS$4,1,0)","v":0},null,{"$f":"IF($C77=AU$4,1,0)","v":0},null,{"$f":"IF($C77=AW$4,1,0)","v":0},null,{"$f":"IF($C77=AY$4,1,0)","v":0},null,{"$f":"IF($C77=BA$4,1,0)","v":0},null,{"$f":"IF($C77=BC$4,1,0)","v":0},null,{"$f":"IF($C77=BE$4,1,0)","v":0},null,{"$f":"IF($C77=BG$4,1,0)","v":0},null,{"$f":"IF($C77=BI$4,1,0)","v":0},null,{"$f":"IF($C77=BK$4,1,0)","v":0},null,{"$f":"IF($C77=BM$4,1,0)","v":0},null,{"$f":"IF($C77=BO$4,1,0)","v":0},null,{"$f":"IF($C77=BQ$4,1,0)","v":0},null,{"$f":"IF($C77=BS$4,1,0)","v":0},null,{"$f":"IF($C77=BU$4,1,0)","v":0},null,{"$f":"IF($C77=BW$4,1,0)","v":0},null,{"$f":"IF($C77=BY$4,1,0)","v":0}]
[null,null,null,null,null,null,null,null,null,null,{"$f":"IF($C78=K$4,1,0)","v":0},null,{"$f":"IF($C78=M$4,1,0)","v":0},null,{"$f":"IF($C78=O$4,1,0)","v":0},null,{"$f":"IF($C78=Q$4,1,0)","v":0},null,{"$f":"IF($C78=S$4,1,0)","v":0},null,{"$f":"IF($C78=U$4,1,0)","v":0},null,{"$f":"IF($C78=W$4,1,0)","v":0},null,{"$f":"IF($C78=Y$4,1,0)","v":0},null,{"$f":"IF($C78=AA$4,1,0)","v":0},null,{"$f":"IF($C78=AC$4,1,0)","v":0},null,{"$f":"IF($C78=AE$4,1,0)","v":0},null,{"$f":"IF($C78=AG$4,1,0)","v":0},null,{"$f":"IF($C78=AI$4,1,0)","v":0},null,{"$f":"IF($C78=AK$4,1,0)","v":0},null,{"$f":"IF($C78=AM$4,1,0)","v":0},null,{"$f":"IF($C78=AO$4,1,0)","v":0},null,{"$f":"IF($C78=AQ$4,1,0)","v":0},null,{"$f":"IF($C78=AS$4,1,0)","v":0},null,{"$f":"IF($C78=AU$4,1,0)","v":0},null,{"$f":"IF($C78=AW$4,1,0)","v":0},null,{"$f":"IF($C78=AY$4,1,0)","v":0},null,{"$f":"IF($C78=BA$4,1,0)","v":0},null,{"$f":"IF($C78=BC$4,1,0)","v":0},null,{"$f":"IF($C78=BE$4,1,0)","v":0},null,{"$f":"IF($C78=BG$4,1,0)","v":0},null,{"$f":"IF($C78=BI$4,1,0)","v":0},null,{"$f":"IF($C78=BK$4,1,0)","v":0},null,{"$f":"IF($C78=BM$4,1,0)","v":0},null,{"$f":"IF($C78=BO$4,1,0)","v":0},null,{"$f":"IF($C78=BQ$4,1,0)","v":0},null,{"$f":"IF($C78=BS$4,1,0)","v":0},null,{"$f":"IF($C78=BU$4,1,0)","v":0},null,{"$f":"IF($C78=BW$4,1,0)","v":0},null,{"$f":"IF($C78=BY$4,1,0)","v":0}]
[]
[null,null,"ITEM","DESCRIÇÃO","QUANT ANUAL POR POSTO","UNIDADE","QUANT DE POSTOS","VALOR"]
[null,null,null,null,null,null,null,null,null,null,null,{"$f":"IF(SUM(K$8:K$10)>0,$E81*$H81,0)","v":0},null,{"$f":"IF(SUM(M$8:M$10)>0,$E81*$H81,0)","v":0},null,{"$f":"IF(SUM(O$8:O$10)>0,$E81*$H81,0)","v":0},null,{"$f":"IF(SUM(Q$8:Q$10)>0,$E81*$H81,0)","v":0},null,{"$f":"IF(SUM(S$8:S$10)>0,$E81*$H81,0)","v":0},null,{"$f":"IF(SUM(U$8:U$10)>0,$E81*$H81,0)","v":0},null,{"$f":"IF(SUM(W$8:W$10)>0,$E81*$H81,0)","v":0},null,{"$f":"IF(SUM(Y$8:Y$10)>0,$E81*$H81,0)","v":0},null,{"$f":"IF(SUM(AA$8:AA$10)>0,$E81*$H81,0)","v":0},null,{"$f":"IF(SUM(AC$8:AC$10)>0,$E81*$H81,0)","v":0},null,{"$f":"IF(SUM(AE$8:AE$10)>0,$E81*$H81,0)","v":0},null,{"$f":"IF(SUM(AG$8:AG$10)>0,$E81*$H81,0)","v":0},null,{"$f":"IF(SUM(AI$8:AI$10)>0,$E81*$H81,0)","v":0},null,{"$f":"IF(SUM(AK$8:AK$10)>0,$E81*$H81,0)","v":0},null,{"$f":"IF(SUM(AM$8:AM$10)>0,$E81*$H81,0)","v":0},null,{"$f":"IF(SUM(AO$8:AO$10)>0,$E81*$H81,0)","v":0},null,{"$f":"IF(SUM(AQ$8:AQ$10)>0,$E81*$H81,0)","v":0},null,{"$f":"IF(SUM(AS$8:AS$10)>0,$E81*$H81,0)","v":0},null,{"$f":"IF(SUM(AU$8:AU$10)>0,$E81*$H81,0)","v":0},null,{"$f":"IF(SUM(AW$8:AW$10)>0,$E81*$H81,0)","v":0},null,{"$f":"IF(SUM(AY$8:AY$10)>0,$E81*$H81,0)","v":0},null,{"$f":"IF(SUM(BA$8:BA$10)>0,$E81*$H81,0)","v":0},null,{"$f":"IF(SUM(BC$8:BC$10)>0,$E81*$H81,0)","v":0},null,{"$f":"IF(SUM(BE$8:BE$10)>0,$E81*$H81,0)","v":0},null,{"$f":"IF(SUM(BG$8:BG$10)>0,$E81*$H81,0)","v":0},null,{"$f":"IF(SUM(BI$8:BI$10)>0,$E81*$H81,0)","v":0},null,{"$f":"IF(SUM(BK$8:BK$10)>0,$E81*$H81,0)","v":0},null,{"$f":"IF(SUM(BM$8:BM$10)>0,$E81*$H81,0)","v":0},null,{"$f":"IF(SUM(BO$8:BO$10)>0,$E81*$H81,0)","v":0},null,{"$f":"IF(SUM(BQ$8:BQ$10)>0,$E81*$H81,0)","v":0},null,{"$f":"IF(SUM(BS$8:BS$10)>0,$E81*$H81,0)","v":0},null,{"$f":"IF(SUM(BU$8:BU$10)>0,$E81*$H81,0)","v":0},null,{"$f":"IF(SUM(BW$8:BW$10)>0,$E81*$H81,0)","v":0},null,{"$f":"IF(SUM(BY$8:BY$10)>0,$E81*$H81,0)","v":0}]
[null,null,null,null,null,null,null,null,null,null,null,{"$f":"ROUND(IF(SUM(K$76:K$78)>0,$E82*$G82*$H82/$H$77,0),2)","v":0},null,{"$f":"ROUND(IF(SUM(M$76:M$78)>0,$E82*$G82*$H82/$H$77,0),2)","v":0},null,{"$f":"ROUND(IF(SUM(O$76:O$78)>0,$E82*$G82*$H82/$H$77,0),2)","v":0},null,{"$f":"ROUND(IF(SUM(Q$76:Q$78)>0,$E82*$G82*$H82/$H$77,0),2)","v":0},null,{"$f":"ROUND(IF(SUM(S$76:S$78)>0,$E82*$G82*$H82/$H$77,0),2)","v":0},null,{"$f":"ROUND(IF(SUM(U$76:U$78)>0,$E82*$G82*$H82/$H$77,0),2)","v":0},null,{"$f":"ROUND(IF(SUM(W$76:W$78)>0,$E82*$G82*$H82/$H$77,0),2)","v":0},null,{"$f":"ROUND(IF(SUM(Y$76:Y$78)>0,$E82*$G82*$H82/$H$77,0),2)","v":0},null,{"$f":"ROUND(IF(SUM(AA$76:AA$78)>0,$E82*$G82*$H82/$H$77,0),2)","v":0},null,{"$f":"ROUND(IF(SUM(AC$76:AC$78)>0,$E82*$G82*$H82/$H$77,0),2)","v":0},null,{"$f":"ROUND(IF(SUM(AE$76:AE$78)>0,$E82*$G82*$H82/$H$77,0),2)","v":0},null,{"$f":"ROUND(IF(SUM(AG$76:AG$78)>0,$E82*$G82*$H82/$H$77,0),2)","v":0},null,{"$f":"ROUND(IF(SUM(AI$76:AI$78)>0,$E82*$G82*$H82/$H$77,0),2)","v":0},null,{"$f":"ROUND(IF(SUM(AK$76:AK$78)>0,$E82*$G82*$H82/$H$77,0),2)","v":0},null,{"$f":"ROUND(IF(SUM(AM$76:AM$78)>0,$E82*$G82*$H82/$H$77,0),2)","v":0},null,{"$f":"ROUND(IF(SUM(AO$76:AO$78)>0,$E82*$G82*$H82/$H$77,0),2)","v":0},null,{"$f":"ROUND(IF(SUM(AQ$76:AQ$78)>0,$E82*$G82*$H82/$H$77,0),2)","v":0},null,{"$f":"ROUND(IF(SUM(AS$76:AS$78)>0,$E82*$G82*$H82/$H$77,0),2)","v":0},null,{"$f":"ROUND(IF(SUM(AU$76:AU$78)>0,$E82*$G82*$H82/$H$77,0),2)","v":0},null,{"$f":"ROUND(IF(SUM(AW$76:AW$78)>0,$E82*$G82*$H82/$H$77,0),2)","v":0},null,{"$f":"ROUND(IF(SUM(AY$76:AY$78)>0,$E82*$G82*$H82/$H$77,0),2)","v":0},null,{"$f":"ROUND(IF(SUM(BA$76:BA$78)>0,$E82*$G82*$H82/$H$77,0),2)","v":0},null,{"$f":"ROUND(IF(SUM(BC$76:BC$78)>0,$E82*$G82*$H82/$H$77,0),2)","v":0},null,{"$f":"ROUND(IF(SUM(BE$76:BE$78)>0,$E82*$G82*$H82/$H$77,0),2)","v":0},null,{"$f":"ROUND(IF(SUM(BG$76:BG$78)>0,$E82*$G82*$H82/$H$77,0),2)","v":0},null,{"$f":"ROUND(IF(SUM(BI$76:BI$78)>0,$E82*$G82*$H82/$H$77,0),2)","v":0},null,{"$f":"ROUND(IF(SUM(BK$76:BK$78)>0,$E82*$G82*$H82/$H$77,0),2)","v":0},null,{"$f":"ROUND(IF(SUM(BM$76:BM$78)>0,$E82*$G82*$H82/$H$77,0),2)","v":0},null,{"$f":"ROUND(IF(SUM(BO$76:BO$78)>0,$E82*$G82*$H82/$H$77,0),2)","v":0},null,{"$f":"ROUND(IF(SUM(BQ$76:BQ$78)>0,$E82*$G82*$H82/$H$77,0),2)","v":0},null,{"$f":"ROUND(IF(SUM(BS$76:BS$78)>0,$E82*$G82*$H82/$H$77,0),2)","v":0},null,{"$f":"ROUND(IF(SUM(BU$76:BU$78)>0,$E82*$G82*$H82/$H$77,0),2)","v":0},null,{"$f":"ROUND(IF(SUM(BW$76:BW$78)>0,$E82*$G82*$H82/$H$77,0),2)","v":0},null,{"$f":"ROUND(IF(SUM(BY$76:BY$78)>0,$E82*$G82*$H82/$H$77,0),2)","v":0}]
[null,null,null,null,null,null,null,null,null,null,null,0,null,0,null,0,null,0,null,0,null,0,null,0,null,0,null,0,null,0,null,0,null,0,null,0,null,0,null,0,null,0,null,0,null,0,null,0,null,0,null,0,null,0,null,0,null,0,null,0,null,0,null,0,null,0,null,0,null,0,null,0,null,0,null,0,null,0]
[null,null,null,null,null,null,null,null,null,null,null,0,null,0,null,0,null,0,null,0,null,0,null,0,null,0,null,0,null,0,null,0,null,0,null,0,null,0,null,0,null,0,null,0,null,0,null,0,null,0,null,0,null,0,null,0,null,0,null,0,null,0,null,0,null,0,null,0,null,0,null,0,null,0,null,0,null,0]
[null,null,null,null,null,null,null,null,null,null,null,0,null,0,null,0,null,0,null,0,null,0,null,0,null,0,null,0,null,0,null,0,null,0,null,0,null,0,null,0,null,0,null,0,null,0,null,0,null,0,null,0,null,0,null,0,null,0,null,0,null,0,null,0,null,0,null,0,null,0,null,0,null,0,null,0,null,0]
[null,null,null,null,null,null,null,null,null,null,null,0,null,0,null,0,null,0,null,0,null,0,null,0,null,0,null,0,null,0,null,0,null,0,null,0,null,0,null,0,null,0,null,0,null,0,null,0,null,0,null,0,null,0,null,0,null,0,null,0,null,0,null,0,null,0,null,0,null,0,null,0,null,0,null,0,null,0]
[null,null,null,null,null,null,null,null,null,null,null,0,null,0,null,0,null,0,null,0,null,0,null,0,null,0,null,0,null,0,null,0,null,0,null,0,null,0,null,0,null,0,null,0,null,0,null,0,null,0,null,0,null,0,null,0,null,0,null,0,null,0,null,0,null,0,null,0,null,0,null,0,null,0,null,0,null,0]
[null,null,null,null,null,null,null,null,null,null,null,0,null,0,null,0,null,0,null,0,null,0,null,0,null,0,null,0,null,0,null,0,null,0,null,0,null,0,null,0,null,0,null,0,null,0,null,0,null,0,null,0,null,0,null,0,null,0,null,0,null,0,null,0,null,0,null,0,null,0,null,0,null,0,null,0,null,0]
[null,null,null,null,null,null,null,null,null,null,null,0,null,0,null,0,null,0,null,0,null,0,null,0,null,0,null,0,null,0,null,0,null,0,null,0,null,0,null,0,null,0,null,0,null,0,null,0,null,0,null,0,null,0,null,0,null,0,null,0,null,0,null,0,null,0,null,0,null,0,null,0,null,0,null,0,null,0]
[null,null,null,null,null,null,null,null,null,null,null,0,null,0,null,0,null,0,null,0,null,0,null,0,null,0,null,0,null,0,null,0,null,0,null,0,null,0,null,0,null,0,null,0,null,0,null,0,null,0,null,0,null,0,null,0,null,0,null,0,null,0,null,0,null,0,null,0,null,0,null,0,null,0,null,0,null,0]
[null,null,null,null,null,null,null,null,null,null,null,0,null,0,null,0,null,0,null,0,null,0,null,0,null,0,null,0,null,0,null,0,null,0,null,0,null,0,null,0,null,0,null,0,null,0,null,0,null,0,null,0,null,0,null,0,null,0,null,0,null,0,null,0,null,0,null,0,null,0,null,0,null,0,null,0,null,0]
[null,null,null,null,null,null,null,null,null,null,null,0,null,0,null,0,null,0,null,0,null,0,null,0,null,0,null,0,null,0,null,0,null,0,null,0,null,0,null,0,null,0,null,0,null,0,null,0,null,0,null,0,null,0,null,0,null,0,null,0,null,0,null,0,null,0,null,0,null,0,null,0,null,0,null,0,null,0]
[null,null,null,null,null,null,null,null,null,null,null,0,null,0,null,0,null,0,null,0,null,0,null,0,null,0,null,0,null,0,null,0,null,0,null,0,null,0,null,0,null,0,null,0,null,0,null,0,null,0,null,0,null,0,null,0,null,0,null,0,null,0,null,0,null,0,null,0,null,0,null,0,null,0,null,0,null,0]
[null,null,null,null,null,null,null,null,null,null,null,0,null,0,null,0,null,0,null,0,null,0,null,0,null,0,null,0,null,0,null,0,null,0,null,0,null,0,null,0,null,0,null,0,null,0,null,0,null,0,null,0,null,0,null,0,null,0,null,0,null,0,null,0,null,0,null,0,null,0,null,0,null,0,null,0,null,0]
[null,null,null,null,null,null,null,null,null,null,null,0,null,0,null,0,null,0,null,0,null,0,null,0,null,0,null,0,null,0,null,0,null,0,null,0,null,0,null,0,null,0,null,0,null,0,null,0,null,0,null,0,null,0,null,0,null,0,null,0,null,0,null,0,null,0,null,0,null,0,null,0,null,0,null,0,null,0]
[null,null,null,null,null,null,null,null,null,null,null,0,null,0,null,0,null,0,null,0,null,0,null,0,null,0,null,0,null,0,null,0,null,0,null,0,null,0,null,0,null,0,null,0,null,0,null,0,null,0,null,0,null,0,null,0,null,0,null,0,null,0,null,0,null,0,null,0,null,0,null,0,null,0,null,0,null,0]
[null,null,null,null,null,null,null,null,null,null,null,0,null,0,null,0,null,0,null,0,null,0,null,0,null,0,null,0,null,0,null,0,null,0,null,0,null,0,null,0,null,0,null,0,null,0,null,0,null,0,null,0,null,0,null,0,null,0,null,0,null,0,null,0,null,0,null,0,null,0,null,0,null,0,null,0,null,0]
[null,null,null,null,null,null,null,null,null,null,null,0,null,0,null,0,null,0,null,0,null,0,null,0,null,0,null,0,null,0,null,0,null,0,null,0,null,0,null,0,null,0,null,0,null,0,null,0,null,0,null,0,null,0,null,0,null,0,null,0,null,0,null,0,null,0,null,0,null,0,null,0,null,0,null,0,null,0]
[null,null,null,null,null,null,null,null,null,null,null,0,null,0,null,0,null,0,null,0,null,0,null,0,null,0,null,0,null,0,null,0,null,0,null,0,null,0,null,0,null,0,null,0,null,0,null,0,null,0,null,0,null,0,null,0,null,0,null,0,null,0,null,0,null,0,null,0,null,0,null,0,null,0,null,0,null,0]
[null,null,null,null,null,null,null,null,null,null,null,0,null,0,null,0,null,0,null,0,null,0,null,0,null,0,null,0,null,0,null,0,null,0,null,0,null,0,null,0,null,0,null,0,null,0,null,0,null,0,null,0,null,0,null,0,null,0,null,0,null,0,null,0,null,0,null,0,null,0,null,0,null,0,null,0,null,0]
[null,null,null,null,null,null,null,null,null,null,null,0,null,0,null,0,null,0,null,0,null,0,null,0,null,0,null,0,null,0,null,0,null,0,null,0,null,0,null,0,null,0,null,0,null,0,null,0,null,0,null,0,null,0,null,0,null,0,null,0,null,0,null,0,null,0,null,0,null,0,null,0,null,0,null,0,null,0]
[null,null,null,null,null,null,null,null,null,null,null,0,null,0,null,0,null,0,null,0,null,0,null,0,null,0,null,0,null,0,null,0,null,0,null,0,null,0,null,0,null,0,null,0,null,0,null,0,null,0,null,0,null,0,null,0,null,0,null,0,null,0,null,0,null,0,null,0,null,0,null,0,null,0,null,0,null,0]
[]
[null,null,"CATEGORIAS",null,null,null,null,"QUANTIDADE"]
[null,null,null,null,null,null,null,null,null,null,{"$f":"IF($C105=K$4,1,0)","v":0},null,{"$f":"IF($C105=M$4,1,0)","v":0},null,{"$f":"IF($C105=O$4,1,0)","v":0},null,{"$f":"IF($C105=Q$4,1,0)","v":0},null,{"$f":"IF($C105=S$4,1,0)","v":0},null,{"$f":"IF($C105=U$4,1,0)","v":0},null,{"$f":"IF($C105=W$4,1,0)","v":0},null,{"$f":"IF($C105=Y$4,1,0)","v":0},null,{"$f":"IF($C105=AA$4,1,0)","v":0},null,{"$f":"IF($C105=AC$4,1,0)","v":0},null,{"$f":"IF($C105=AE$4,1,0)","v":0},null,{"$f":"IF($C105=AG$4,1,0)","v":0},null,{"$f":"IF($C105=AI$4,1,0)","v":0},null,{"$f":"IF($C105=AK$4,1,0)","v":0},null,{"$f":"IF($C105=AM$4,1,0)","v":0},null,{"$f":"IF($C105=AO$4,1,0)","v":0},null,{"$f":"IF($C105=AQ$4,1,0)","v":0},null,{"$f":"IF($C105=AS$4,1,0)","v":0},null,{"$f":"IF($C105=AU$4,1,0)","v":0},null,{"$f":"IF($C105=AW$4,1,0)","v":0},null,{"$f":"IF($C105=AY$4,1,0)","v":0},null,{"$f":"IF($C105=BA$4,1,0)","v":0},null,{"$f":"IF($C105=BC$4,1,0)","v":0},null,{"$f":"IF($C105=BE$4,1,0)","v":0},null,{"$f":"IF($C105=BG$4,1,0)","v":0},null,{"$f":"IF($C105=BI$4,1,0)","v":0},null,{"$f":"IF($C105=BK$4,1,0)","v":0},null,{"$f":"IF($C105=BM$4,1,0)","v":0},null,{"$f":"IF($C105=BO$4,1,0)","v":0},null,{"$f":"IF($C105=BQ$4,1,0)","v":0},null,{"$f":"IF($C105=BS$4,1,0)","v":0},null,{"$f":"IF($C105=BU$4,1,0)","v":0},null,{"$f":"IF($C105=BW$4,1,0)","v":0},null,{"$f":"IF($C105=BY$4,1,0)","v":0}]
[null,null,null,{"$f":"HLOOKUP($C106,'Dados Gerais'!$D$6:$BI$11,6)","v":{"$error":"#N/A"}},null,null,null,{"$f":"HLOOKUP($C106,'Dados Gerais'!$D$6:$BI$15,10)","v":{"$error":"#N/A"}},null,null,{"$f":"IF($C106=K$4,1,0)","v":0},null,{"$f":"IF($C106=M$4,1,0)","v":0},null,{"$f":"IF($C106=O$4,1,0)","v":0},null,{"$f":"IF($C106=Q$4,1,0)","v":0},null,{"$f":"IF($C106=S$4,1,0)","v":0},null,{"$f":"IF($C106=U$4,1,0)","v":0},null,{"$f":"IF($C106=W$4,1,0)","v":0},null,{"$f":"IF($C106=Y$4,1,0)","v":0},null,{"$f":"IF($C106=AA$4,1,0)","v":0},null,{"$f":"IF($C106=AC$4,1,0)","v":0},null,{"$f":"IF($C106=AE$4,1,0)","v":0},null,{"$f":"IF($C106=AG$4,1,0)","v":0},null,{"$f":"IF($C106=AI$4,1,0)","v":0},null,{"$f":"IF($C106=AK$4,1,0)","v":0},null,{"$f":"IF($C106=AM$4,1,0)","v":0},null,{"$f":"IF($C106=AO$4,1,0)","v":0},null,{"$f":"IF($C106=AQ$4,1,0)","v":0},null,{"$f":"IF($C106=AS$4,1,0)","v":0},null,{"$f":"IF($C106=AU$4,1,0)","v":0},null,{"$f":"IF($C106=AW$4,1,0)","v":0},null,{"$f":"IF($C106=AY$4,1,0)","v":0},null,{"$f":"IF($C106=BA$4,1,0)","v":0},null,{"$f":"IF($C106=BC$4,1,0)","v":0},null,{"$f":"IF($C106=BE$4,1,0)","v":0},null,{"$f":"IF($C106=BG$4,1,0)","v":0},null,{"$f":"IF($C106=BI$4,1,0)","v":0},null,{"$f":"IF($C106=BK$4,1,0)","v":0},null,{"$f":"IF($C106=BM$4,1,0)","v":0},null,{"$f":"IF($C106=BO$4,1,0)","v":0},null,{"$f":"IF($C106=BQ$4,1,0)","v":0},null,{"$f":"IF($C106=BS$4,1,0)","v":0},null,{"$f":"IF($C106=BU$4,1,0)","v":0},null,{"$f":"IF($C106=BW$4,1,0)","v":0},null,{"$f":"IF($C106=BY$4,1,0)","v":0}]
[null,null,null,null,null,null,null,null,null,null,{"$f":"IF($C107=K$4,1,0)","v":0},null,{"$f":"IF($C107=M$4,1,0)","v":0},null,{"$f":"IF($C107=O$4,1,0)","v":0},null,{"$f":"IF($C107=Q$4,1,0)","v":0},null,{"$f":"IF($C107=S$4,1,0)","v":0},null,{"$f":"IF($C107=U$4,1,0)","v":0},null,{"$f":"IF($C107=W$4,1,0)","v":0},null,{"$f":"IF($C107=Y$4,1,0)","v":0},null,{"$f":"IF($C107=AA$4,1,0)","v":0},null,{"$f":"IF($C107=AC$4,1,0)","v":0},null,{"$f":"IF($C107=AE$4,1,0)","v":0},null,{"$f":"IF($C107=AG$4,1,0)","v":0},null,{"$f":"IF($C107=AI$4,1,0)","v":0},null,{"$f":"IF($C107=AK$4,1,0)","v":0},null,{"$f":"IF($C107=AM$4,1,0)","v":0},null,{"$f":"IF($C107=AO$4,1,0)","v":0},null,{"$f":"IF($C107=AQ$4,1,0)","v":0},null,{"$f":"IF($C107=AS$4,1,0)","v":0},null,{"$f":"IF($C107=AU$4,1,0)","v":0},null,{"$f":"IF($C107=AW$4,1,0)","v":0},null,{"$f":"IF($C107=AY$4,1,0)","v":0},null,{"$f":"IF($C107=BA$4,1,0)","v":0},null,{"$f":"IF($C107=BC$4,1,0)","v":0},null,{"$f":"IF($C107=BE$4,1,0)","v":0},null,{"$f":"IF($C107=BG$4,1,0)","v":0},null,{"$f":"IF($C107=BI$4,1,0)","v":0},null,{"$f":"IF($C107=BK$4,1,0)","v":0},null,{"$f":"IF($C107=BM$4,1,0)","v":0},null,{"$f":"IF($C107=BO$4,1,0)","v":0},null,{"$f":"IF($C107=BQ$4,1,0)","v":0},null,{"$f":"IF($C107=BS$4,1,0)","v":0},null,{"$f":"IF($C107=BU$4,1,0)","v":0},null,{"$f":"IF($C107=BW$4,1,0)","v":0},null,{"$f":"IF($C107=BY$4,1,0)","v":0}]
[]
[null,null,"ITEM","DESCRIÇÃO","QUANT ANUAL POR POSTO","UNIDADE","QUANT DE POSTOS","VALOR"]
[null,null,null,null,null,null,null,null,null,null,null,{"$f":"IF(SUM(K$8:K$10)>0,$E110*$H110,0)","v":0},null,{"$f":"IF(SUM(M$8:M$10)>0,$E110*$H110,0)","v":0},null,{"$f":"IF(SUM(O$8:O$10)>0,$E110*$H110,0)","v":0},null,{"$f":"IF(SUM(Q$8:Q$10)>0,$E110*$H110,0)","v":0},null,{"$f":"IF(SUM(S$8:S$10)>0,$E110*$H110,0)","v":0},null,{"$f":"IF(SUM(U$8:U$10)>0,$E110*$H110,0)","v":0},null,{"$f":"IF(SUM(W$8:W$10)>0,$E110*$H110,0)","v":0},null,{"$f":"IF(SUM(Y$8:Y$10)>0,$E110*$H110,0)","v":0},null,{"$f":"IF(SUM(AA$8:AA$10)>0,$E110*$H110,0)","v":0},null,{"$f":"IF(SUM(AC$8:AC$10)>0,$E110*$H110,0)","v":0},null,{"$f":"IF(SUM(AE$8:AE$10)>0,$E110*$H110,0)","v":0},null,{"$f":"IF(SUM(AG$8:AG$10)>0,$E110*$H110,0)","v":0},null,{"$f":"IF(SUM(AI$8:AI$10)>0,$E110*$H110,0)","v":0},null,{"$f":"IF(SUM(AK$8:AK$10)>0,$E110*$H110,0)","v":0},null,{"$f":"IF(SUM(AM$8:AM$10)>0,$E110*$H110,0)","v":0},null,{"$f":"IF(SUM(AO$8:AO$10)>0,$E110*$H110,0)","v":0},null,{"$f":"IF(SUM(AQ$8:AQ$10)>0,$E110*$H110,0)","v":0},null,{"$f":"IF(SUM(AS$8:AS$10)>0,$E110*$H110,0)","v":0},null,{"$f":"IF(SUM(AU$8:AU$10)>0,$E110*$H110,0)","v":0},null,{"$f":"IF(SUM(AW$8:AW$10)>0,$E110*$H110,0)","v":0},null,{"$f":"IF(SUM(AY$8:AY$10)>0,$E110*$H110,0)","v":0},null,{"$f":"IF(SUM(BA$8:BA$10)>0,$E110*$H110,0)","v":0},null,{"$f":"IF(SUM(BC$8:BC$10)>0,$E110*$H110,0)","v":0},null,{"$f":"IF(SUM(BE$8:BE$10)>0,$E110*$H110,0)","v":0},null,{"$f":"IF(SUM(BG$8:BG$10)>0,$E110*$H110,0)","v":0},null,{"$f":"IF(SUM(BI$8:BI$10)>0,$E110*$H110,0)","v":0},null,{"$f":"IF(SUM(BK$8:BK$10)>0,$E110*$H110,0)","v":0},null,{"$f":"IF(SUM(BM$8:BM$10)>0,$E110*$H110,0)","v":0},null,{"$f":"IF(SUM(BO$8:BO$10)>0,$E110*$H110,0)","v":0},null,{"$f":"IF(SUM(BQ$8:BQ$10)>0,$E110*$H110,0)","v":0},null,{"$f":"IF(SUM(BS$8:BS$10)>0,$E110*$H110,0)","v":0},null,{"$f":"IF(SUM(BU$8:BU$10)>0,$E110*$H110,0)","v":0},null,{"$f":"IF(SUM(BW$8:BW$10)>0,$E110*$H110,0)","v":0},null,{"$f":"IF(SUM(BY$8:BY$10)>0,$E110*$H110,0)","v":0}]
[null,null,null,null,null,null,null,null,null,null,null,{"$f":"ROUND(IF(SUM(K$105:K$107)>0,$E111*$G111*$H111/$H$106,0),2)","v":0},null,{"$f":"ROUND(IF(SUM(M$105:M$107)>0,$E111*$G111*$H111/$H$106,0),2)","v":0},null,{"$f":"ROUND(IF(SUM(O$105:O$107)>0,$E111*$G111*$H111/$H$106,0),2)","v":0},null,{"$f":"ROUND(IF(SUM(Q$105:Q$107)>0,$E111*$G111*$H111/$H$106,0),2)","v":0},null,{"$f":"ROUND(IF(SUM(S$105:S$107)>0,$E111*$G111*$H111/$H$106,0),2)","v":0},null,{"$f":"ROUND(IF(SUM(U$105:U$107)>0,$E111*$G111*$H111/$H$106,0),2)","v":0},null,{"$f":"ROUND(IF(SUM(W$105:W$107)>0,$E111*$G111*$H111/$H$106,0),2)","v":0},null,{"$f":"ROUND(IF(SUM(Y$105:Y$107)>0,$E111*$G111*$H111/$H$106,0),2)","v":0},null,{"$f":"ROUND(IF(SUM(AA$105:AA$107)>0,$E111*$G111*$H111/$H$106,0),2)","v":0},null,{"$f":"ROUND(IF(SUM(AC$105:AC$107)>0,$E111*$G111*$H111/$H$106,0),2)","v":0},null,{"$f":"ROUND(IF(SUM(AE$105:AE$107)>0,$E111*$G111*$H111/$H$106,0),2)","v":0},null,{"$f":"ROUND(IF(SUM(AG$105:AG$107)>0,$E111*$G111*$H111/$H$106,0),2)","v":0},null,{"$f":"ROUND(IF(SUM(AI$105:AI$107)>0,$E111*$G111*$H111/$H$106,0),2)","v":0},null,{"$f":"ROUND(IF(SUM(AK$105:AK$107)>0,$E111*$G111*$H111/$H$106,0),2)","v":0},null,{"$f":"ROUND(IF(SUM(AM$105:AM$107)>0,$E111*$G111*$H111/$H$106,0),2)","v":0},null,{"$f":"ROUND(IF(SUM(AO$105:AO$107)>0,$E111*$G111*$H111/$H$106,0),2)","v":0},null,{"$f":"ROUND(IF(SUM(AQ$105:AQ$107)>0,$E111*$G111*$H111/$H$106,0),2)","v":0},null,{"$f":"ROUND(IF(SUM(AS$105:AS$107)>0,$E111*$G111*$H111/$H$106,0),2)","v":0},null,{"$f":"ROUND(IF(SUM(AU$105:AU$107)>0,$E111*$G111*$H111/$H$106,0),2)","v":0},null,{"$f":"ROUND(IF(SUM(AW$105:AW$107)>0,$E111*$G111*$H111/$H$106,0),2)","v":0},null,{"$f":"ROUND(IF(SUM(AY$105:AY$107)>0,$E111*$G111*$H111/$H$106,0),2)","v":0},null,{"$f":"ROUND(IF(SUM(BA$105:BA$107)>0,$E111*$G111*$H111/$H$106,0),2)","v":0},null,{"$f":"ROUND(IF(SUM(BC$105:BC$107)>0,$E111*$G111*$H111/$H$106,0),2)","v":0},null,{"$f":"ROUND(IF(SUM(BE$105:BE$107)>0,$E111*$G111*$H111/$H$106,0),2)","v":0},null,{"$f":"ROUND(IF(SUM(BG$105:BG$107)>0,$E111*$G111*$H111/$H$106,0),2)","v":0},null,{"$f":"ROUND(IF(SUM(BI$105:BI$107)>0,$E111*$G111*$H111/$H$106,0),2)","v":0},null,{"$f":"ROUND(IF(SUM(BK$105:BK$107)>0,$E111*$G111*$H111/$H$106,0),2)","v":0},null,{"$f":"ROUND(IF(SUM(BM$105:BM$107)>0,$E111*$G111*$H111/$H$106,0),2)","v":0},null,{"$f":"ROUND(IF(SUM(BO$105:BO$107)>0,$E111*$G111*$H111/$H$106,0),2)","v":0},null,{"$f":"ROUND(IF(SUM(BQ$105:BQ$107)>0,$E111*$G111*$H111/$H$106,0),2)","v":0},null,{"$f":"ROUND(IF(SUM(BS$105:BS$107)>0,$E111*$G111*$H111/$H$106,0),2)","v":0},null,{"$f":"ROUND(IF(SUM(BU$105:BU$107)>0,$E111*$G111*$H111/$H$106,0),2)","v":0},null,{"$f":"ROUND(IF(SUM(BW$105:BW$107)>0,$E111*$G111*$H111/$H$106,0),2)","v":0},null,{"$f":"ROUND(IF(SUM(BY$105:BY$107)>0,$E111*$G111*$H111/$H$106,0),2)","v":0}]
[null,null,null,null,null,null,null,null,null,null,null,0,null,0,null,0,null,0,null,0,null,0,null,0,null,0,null,0,null,0,null,0,null,0,null,0,null,0,null,0,null,0,null,0,null,0,null,0,null,0,null,0,null,0,null,0,null,0,null,0,null,0,null,0,null,0,null,0,null,0,null,0,null,0,null,0,null,0]
[null,null,null,null,null,null,null,null,null,null,null,0,null,0,null,0,null,0,null,0,null,0,null,0,null,0,null,0,null,0,null,0,null,0,null,0,null,0,null,0,null,0,null,0,null,0,null,0,null,0,null,0,null,0,null,0,null,0,null,0,null,0,null,0,null,0,null,0,null,0,null,0,null,0,null,0,null,0]
[null,null,null,null,null,null,null,null,null,null,null,0,null,0,null,0,null,0,null,0,null,0,null,0,null,0,null,0,null,0,null,0,null,0,null,0,null,0,null,0,null,0,null,0,null,0,null,0,null,0,null,0,null,0,null,0,null,0,null,0,null,0,null,0,null,0,null,0,null,0,null,0,null,0,null,0,null,0]
[null,null,null,null,null,null,null,null,null,null,null,0,null,0,null,0,null,0,null,0,null,0,null,0,null,0,null,0,null,0,null,0,null,0,null,0,null,0,null,0,null,0,null,0,null,0,null,0,null,0,null,0,null,0,null,0,null,0,null,0,null,0,null,0,null,0,null,0,null,0,null,0,null,0,null,0,null,0]
[null,null,null,null,null,null,null,null,null,null,null,0,null,0,null,0,null,0,null,0,null,0,null,0,null,0,null,0,null,0,null,0,null,0,null,0,null,0,null,0,null,0,null,0,null,0,null,0,null,0,null,0,null,0,null,0,null,0,null,0,null,0,null,0,null,0,null,0,null,0,null,0,null,0,null,0,null,0]
[null,null,null,null,null,null,null,null,null,null,null,0,null,0,null,0,null,0,null,0,null,0,null,0,null,0,null,0,null,0,null,0,null,0,null,0,null,0,null,0,null,0,null,0,null,0,null,0,null,0,null,0,null,0,null,0,null,0,null,0,null,0,null,0,null,0,null,0,null,0,null,0,null,0,null,0,null,0]
[]
[null,null,"CATEGORIAS",null,null,null,null,"QUANTIDADE"]
[null,null,null,null,null,null,null,null,null,null,{"$f":"IF($C120=K$4,1,0)","v":0},null,{"$f":"IF($C120=M$4,1,0)","v":0},null,{"$f":"IF($C120=O$4,1,0)","v":0},null,{"$f":"IF($C120=Q$4,1,0)","v":0},null,{"$f":"IF($C120=S$4,1,0)","v":0},null,{"$f":"IF($C120=U$4,1,0)","v":0},null,{"$f":"IF($C120=W$4,1,0)","v":0},null,{"$f":"IF($C120=Y$4,1,0)","v":0},null,{"$f":"IF($C120=AA$4,1,0)","v":0},null,{"$f":"IF($C120=AC$4,1,0)","v":0},null,{"$f":"IF($C120=AE$4,1,0)","v":0},null,{"$f":"IF($C120=AG$4,1,0)","v":0},null,{"$f":"IF($C120=AI$4,1,0)","v":0},null,{"$f":"IF($C120=AK$4,1,0)","v":0},null,{"$f":"IF($C120=AM$4,1,0)","v":0},null,{"$f":"IF($C120=AO$4,1,0)","v":0},null,{"$f":"IF($C120=AQ$4,1,0)","v":0},null,{"$f":"IF($C120=AS$4,1,0)","v":0},null,{"$f":"IF($C120=AU$4,1,0)","v":0},null,{"$f":"IF($C120=AW$4,1,0)","v":0},null,{"$f":"IF($C120=AY$4,1,0)","v":0},null,{"$f":"IF($C120=BA$4,1,0)","v":0},null,{"$f":"IF($C120=BC$4,1,0)","v":0},null,{"$f":"IF($C120=BE$4,1,0)","v":0},null,{"$f":"IF($C120=BG$4,1,0)","v":0},null,{"$f":"IF($C120=BI$4,1,0)","v":0},null,{"$f":"IF($C120=BK$4,1,0)","v":0},null,{"$f":"IF($C120=BM$4,1,0)","v":0},null,{"$f":"IF($C120=BO$4,1,0)","v":0},null,{"$f":"IF($C120=BQ$4,1,0)","v":0},null,{"$f":"IF($C120=BS$4,1,0)","v":0},null,{"$f":"IF($C120=BU$4,1,0)","v":0},null,{"$f":"IF($C120=BW$4,1,0)","v":0},null,{"$f":"IF($C120=BY$4,1,0)","v":0}]
[null,null,null,{"$f":"HLOOKUP($C121,'Dados Gerais'!$D$6:$BI$11,6)","v":{"$error":"#N/A"}},null,null,null,{"$f":"HLOOKUP($C121,'Dados Gerais'!$D$6:$BI$15,10)","v":{"$error":"#N/A"}},null,null,{"$f":"IF($C121=K$4,1,0)","v":0},null,{"$f":"IF($C121=M$4,1,0)","v":0},null,{"$f":"IF($C121=O$4,1,0)","v":0},null,{"$f":"IF($C121=Q$4,1,0)","v":0},null,{"$f":"IF($C121=S$4,1,0)","v":0},null,{"$f":"IF($C121=U$4,1,0)","v":0},null,{"$f":"IF($C121=W$4,1,0)","v":0},null,{"$f":"IF($C121=Y$4,1,0)","v":0},null,{"$f":"IF($C121=AA$4,1,0)","v":0},null,{"$f":"IF($C121=AC$4,1,0)","v":0},null,{"$f":"IF($C121=AE$4,1,0)","v":0},null,{"$f":"IF($C121=AG$4,1,0)","v":0},null,{"$f":"IF($C121=AI$4,1,0)","v":0},null,{"$f":"IF($C121=AK$4,1,0)","v":0},null,{"$f":"IF($C121=AM$4,1,0)","v":0},null,{"$f":"IF($C121=AO$4,1,0)","v":0},null,{"$f":"IF($C121=AQ$4,1,0)","v":0},null,{"$f":"IF($C121=AS$4,1,0)","v":0},null,{"$f":"IF($C121=AU$4,1,0)","v":0},null,{"$f":"IF($C121=AW$4,1,0)","v":0},null,{"$f":"IF($C121=AY$4,1,0)","v":0},null,{"$f":"IF($C121=BA$4,1,0)","v":0},null,{"$f":"IF($C121=BC$4,1,0)","v":0},null,{"$f":"IF($C121=BE$4,1,0)","v":0},null,{"$f":"IF($C121=BG$4,1,0)","v":0},null,{"$f":"IF($C121=BI$4,1,0)","v":0},null,{"$f":"IF($C121=BK$4,1,0)","v":0},null,{"$f":"IF($C121=BM$4,1,0)","v":0},null,{"$f":"IF($C121=BO$4,1,0)","v":0},null,{"$f":"IF($C121=BQ$4,1,0)","v":0},null,{"$f":"IF($C121=BS$4,1,0)","v":0},null,{"$f":"IF($C121=BU$4,1,0)","v":0},null,{"$f":"IF($C121=BW$4,1,0)","v":0},null,{"$f":"IF($C121=BY$4,1,0)","v":0}]
[null,null,null,null,null,null,null,null,null,null,{"$f":"IF($C122=K$4,1,0)","v":0},null,{"$f":"IF($C122=M$4,1,0)","v":0},null,{"$f":"IF($C122=O$4,1,0)","v":0},null,{"$f":"IF($C122=Q$4,1,0)","v":0},null,{"$f":"IF($C122=S$4,1,0)","v":0},null,{"$f":"IF($C122=U$4,1,0)","v":0},null,{"$f":"IF($C122=W$4,1,0)","v":0},null,{"$f":"IF($C122=Y$4,1,0)","v":0},null,{"$f":"IF($C122=AA$4,1,0)","v":0},null,{"$f":"IF($C122=AC$4,1,0)","v":0},null,{"$f":"IF($C122=AE$4,1,0)","v":0},null,{"$f":"IF($C122=AG$4,1,0)","v":0},null,{"$f":"IF($C122=AI$4,1,0)","v":0},null,{"$f":"IF($C122=AK$4,1,0)","v":0},null,{"$f":"IF($C122=AM$4,1,0)","v":0},null,{"$f":"IF($C122=AO$4,1,0)","v":0},null,{"$f":"IF($C122=AQ$4,1,0)","v":0},null,{"$f":"IF($C122=AS$4,1,0)","v":0},null,{"$f":"IF($C122=AU$4,1,0)","v":0},null,{"$f":"IF($C122=AW$4,1,0)","v":0},null,{"$f":"IF($C122=AY$4,1,0)","v":0},null,{"$f":"IF($C122=BA$4,1,0)","v":0},null,{"$f":"IF($C122=BC$4,1,0)","v":0},null,{"$f":"IF($C122=BE$4,1,0)","v":0},null,{"$f":"IF($C122=BG$4,1,0)","v":0},null,{"$f":"IF($C122=BI$4,1,0)","v":0},null,{"$f":"IF($C122=BK$4,1,0)","v":0},null,{"$f":"IF($C122=BM$4,1,0)","v":0},null,{"$f":"IF($C122=BO$4,1,0)","v":0},null,{"$f":"IF($C122=BQ$4,1,0)","v":0},null,{"$f":"IF($C122=BS$4,1,0)","v":0},null,{"$f":"IF($C122=BU$4,1,0)","v":0},null,{"$f":"IF($C122=BW$4,1,0)","v":0},null,{"$f":"IF($C122=BY$4,1,0)","v":0}]
[]
[null,null,"ITEM","DESCRIÇÃO","QUANT ANUAL POR POSTO","UNIDADE","QUANT DE POSTOS","VALOR"]
[null,null,null,null,null,null,null,null,null,null,null,{"$f":"IF(SUM(K$8:K$10)>0,$E125*$H125,0)","v":0},null,{"$f":"IF(SUM(M$8:M$10)>0,$E125*$H125,0)","v":0},null,{"$f":"IF(SUM(O$8:O$10)>0,$E125*$H125,0)","v":0},null,{"$f":"IF(SUM(Q$8:Q$10)>0,$E125*$H125,0)","v":0},null,{"$f":"IF(SUM(S$8:S$10)>0,$E125*$H125,0)","v":0},null,{"$f":"IF(SUM(U$8:U$10)>0,$E125*$H125,0)","v":0},null,{"$f":"IF(SUM(W$8:W$10)>0,$E125*$H125,0)","v":0},null,{"$f":"IF(SUM(Y$8:Y$10)>0,$E125*$H125,0)","v":0},null,{"$f":"IF(SUM(AA$8:AA$10)>0,$E125*$H125,0)","v":0},null,{"$f":"IF(SUM(AC$8:AC$10)>0,$E125*$H125,0)","v":0},null,{"$f":"IF(SUM(AE$8:AE$10)>0,$E125*$H125,0)","v":0},null,{"$f":"IF(SUM(AG$8:AG$10)>0,$E125*$H125,0)","v":0},null,{"$f":"IF(SUM(AI$8:AI$10)>0,$E125*$H125,0)","v":0},null,{"$f":"IF(SUM(AK$8:AK$10)>0,$E125*$H125,0)","v":0},null,{"$f":"IF(SUM(AM$8:AM$10)>0,$E125*$H125,0)","v":0},null,{"$f":"IF(SUM(AO$8:AO$10)>0,$E125*$H125,0)","v":0},null,{"$f":"IF(SUM(AQ$8:AQ$10)>0,$E125*$H125,0)","v":0},null,{"$f":"IF(SUM(AS$8:AS$10)>0,$E125*$H125,0)","v":0},null,{"$f":"IF(SUM(AU$8:AU$10)>0,$E125*$H125,0)","v":0},null,{"$f":"IF(SUM(AW$8:AW$10)>0,$E125*$H125,0)","v":0},null,{"$f":"IF(SUM(AY$8:AY$10)>0,$E125*$H125,0)","v":0},null,{"$f":"IF(SUM(BA$8:BA$10)>0,$E125*$H125,0)","v":0},null,{"$f":"IF(SUM(BC$8:BC$10)>0,$E125*$H125,0)","v":0},null,{"$f":"IF(SUM(BE$8:BE$10)>0,$E125*$H125,0)","v":0},null,{"$f":"IF(SUM(BG$8:BG$10)>0,$E125*$H125,0)","v":0},null,{"$f":"IF(SUM(BI$8:BI$10)>0,$E125*$H125,0)","v":0},null,{"$f":"IF(SUM(BK$8:BK$10)>0,$E125*$H125,0)","v":0},null,{"$f":"IF(SUM(BM$8:BM$10)>0,$E125*$H125,0)","v":0},null,{"$f":"IF(SUM(BO$8:BO$10)>0,$E125*$H125,0)","v":0},null,{"$f":"IF(SUM(BQ$8:BQ$10)>0,$E125*$H125,0)","v":0},null,{"$f":"IF(SUM(BS$8:BS$10)>0,$E125*$H125,0)","v":0},null,{"$f":"IF(SUM(BU$8:BU$10)>0,$E125*$H125,0)","v":0},null,{"$f":"IF(SUM(BW$8:BW$10)>0,$E125*$H125,0)","v":0},null,{"$f":"IF(SUM(BY$8:BY$10)>0,$E125*$H125,0)","v":0}]
[null,null,null,null,null,null,null,null,null,null,null,{"$f":"ROUND(IF(SUM(K$120:K$122)>0,$E126*$G126*$H126/$H$121,0),2)","v":0},null,{"$f":"ROUND(IF(SUM(M$120:M$122)>0,$E126*$G126*$H126/$H$121,0),2)","v":0},null,{"$f":"ROUND(IF(SUM(O$120:O$122)>0,$E126*$G126*$H126/$H$121,0),2)","v":0},null,{"$f":"ROUND(IF(SUM(Q$120:Q$122)>0,$E126*$G126*$H126/$H$121,0),2)","v":0},null,{"$f":"ROUND(IF(SUM(S$120:S$122)>0,$E126*$G126*$H126/$H$121,0),2)","v":0},null,{"$f":"ROUND(IF(SUM(U$120:U$122)>0,$E126*$G126*$H126/$H$121,0),2)","v":0},null,{"$f":"ROUND(IF(SUM(W$120:W$122)>0,$E126*$G126*$H126/$H$121,0),2)","v":0},null,{"$f":"ROUND(IF(SUM(Y$120:Y$122)>0,$E126*$G126*$H126/$H$121,0),2)","v":0},null,{"$f":"ROUND(IF(SUM(AA$120:AA$122)>0,$E126*$G126*$H126/$H$121,0),2)","v":0},null,{"$f":"ROUND(IF(SUM(AC$120:AC$122)>0,$E126*$G126*$H126/$H$121,0),2)","v":0},null,{"$f":"ROUND(IF(SUM(AE$120:AE$122)>0,$E126*$G126*$H126/$H$121,0),2)","v":0},null,{"$f":"ROUND(IF(SUM(AG$120:AG$122)>0,$E126*$G126*$H126/$H$121,0),2)","v":0},null,{"$f":"ROUND(IF(SUM(AI$120:AI$122)>0,$E126*$G126*$H126/$H$121,0),2)","v":0},null,{"$f":"ROUND(IF(SUM(AK$120:AK$122)>0,$E126*$G126*$H126/$H$121,0),2)","v":0},null,{"$f":"ROUND(IF(SUM(AM$120:AM$122)>0,$E126*$G126*$H126/$H$121,0),2)","v":0},null,{"$f":"ROUND(IF(SUM(AO$120:AO$122)>0,$E126*$G126*$H126/$H$121,0),2)","v":0},null,{"$f":"ROUND(IF(SUM(AQ$120:AQ$122)>0,$E126*$G126*$H126/$H$121,0),2)","v":0},null,{"$f":"ROUND(IF(SUM(AS$120:AS$122)>0,$E126*$G126*$H126/$H$121,0),2)","v":0},null,{"$f":"ROUND(IF(SUM(AU$120:AU$122)>0,$E126*$G126*$H126/$H$121,0),2)","v":0},null,{"$f":"ROUND(IF(SUM(AW$120:AW$122)>0,$E126*$G126*$H126/$H$121,0),2)","v":0},null,{"$f":"ROUND(IF(SUM(AY$120:AY$122)>0,$E126*$G126*$H126/$H$121,0),2)","v":0},null,{"$f":"ROUND(IF(SUM(BA$120:BA$122)>0,$E126*$G126*$H126/$H$121,0),2)","v":0},null,{"$f":"ROUND(IF(SUM(BC$120:BC$122)>0,$E126*$G126*$H126/$H$121,0),2)","v":0},null,{"$f":"ROUND(IF(SUM(BE$120:BE$122)>0,$E126*$G126*$H126/$H$121,0),2)","v":0},null,{"$f":"ROUND(IF(SUM(BG$120:BG$122)>0,$E126*$G126*$H126/$H$121,0),2)","v":0},null,{"$f":"ROUND(IF(SUM(BI$120:BI$122)>0,$E126*$G126*$H126/$H$121,0),2)","v":0},null,{"$f":"ROUND(IF(SUM(BK$120:BK$122)>0,$E126*$G126*$H126/$H$121,0),2)","v":0},null,{"$f":"ROUND(IF(SUM(BM$120:BM$122)>0,$E126*$G126*$H126/$H$121,0),2)","v":0},null,{"$f":"ROUND(IF(SUM(BO$120:BO$122)>0,$E126*$G126*$H126/$H$121,0),2)","v":0},null,{"$f":"ROUND(IF(SUM(BQ$120:BQ$122)>0,$E126*$G126*$H126/$H$121,0),2)","v":0},null,{"$f":"ROUND(IF(SUM(BS$120:BS$122)>0,$E126*$G126*$H126/$H$121,0),2)","v":0},null,{"$f":"ROUND(IF(SUM(BU$120:BU$122)>0,$E126*$G126*$H126/$H$121,0),2)","v":0},null,{"$f":"ROUND(IF(SUM(BW$120:BW$122)>0,$E126*$G126*$H126/$H$121,0),2)","v":0},null,{"$f":"ROUND(IF(SUM(BY$120:BY$122)>0,$E126*$G126*$H126/$H$121,0),2)","v":0}]
[null,null,null,null,null,null,null,null,null,null,null,0,null,0,null,0,null,0,null,0,null,0,null,0,null,0,null,0,null,0,null,0,null,0,null,0,null,0,null,0,null,0,null,0,null,0,null,0,null,0,null,0,null,0,null,0,null,0,null,0,null,0,null,0,null,0,null,0,null,0,null,0,null,0,null,0,null,0]
[null,null,null,null,null,null,null,null,null,null,null,0,null,0,null,0,null,0,null,0,null,0,null,0,null,0,null,0,null,0,null,0,null,0,null,0,null,0,null,0,null,0,null,0,null,0,null,0,null,0,null,0,null,0,null,0,null,0,null,0,null,0,null,0,null,0,null,0,null,0,null,0,null,0,null,0,null,0]
[null,null,null,null,null,null,null,null,null,null,null,0,null,0,null,0,null,0,null,0,null,0,null,0,null,0,null,0,null,0,null,0,null,0,null,0,null,0,null,0,null,0,null,0,null,0,null,0,null,0,null,0,null,0,null,0,null,0,null,0,null,0,null,0,null,0,null,0,null,0,null,0,null,0,null,0,null,0]
[null,null,null,null,null,null,null,null,null,null,null,0,null,0,null,0,null,0,null,0,null,0,null,0,null,0,null,0,null,0,null,0,null,0,null,0,null,0,null,0,null,0,null,0,null,0,null,0,null,0,null,0,null,0,null,0,null,0,null,0,null,0,null,0,null,0,null,0,null,0,null,0,null,0,null,0,null,0]
[null,null,null,null,null,null,null,null,null,null,null,0,null,0,null,0,null,0,null,0,null,0,null,0,null,0,null,0,null,0,null,0,null,0,null,0,null,0,null,0,null,0,null,0,null,0,null,0,null,0,null,0,null,0,null,0,null,0,null,0,null,0,null,0,null,0,null,0,null,0,null,0,null,0,null,0,null,0]
[null,null,null,null,null,null,null,null,null,null,null,0,null,0,null,0,null,0,null,0,null,0,null,0,null,0,null,0,null,0,null,0,null,0,null,0,null,0,null,0,null,0,null,0,null,0,null,0,null,0,null,0,null,0,null,0,null,0,null,0,null,0,null,0,null,0,null,0,null,0,null,0,null,0,null,0,null,0]
[null,null,null,null,null,null,null,null,null,null,null,0,null,0,null,0,null,0,null,0,null,0,null,0,null,0,null,0,null,0,null,0,null,0,null,0,null,0,null,0,null,0,null,0,null,0,null,0,null,0,null,0,null,0,null,0,null,0,null,0,null,0,null,0,null,0,null,0,null,0,null,0,null,0,null,0,null,0]
[null,null,null,null,null,null,null,null,null,null,null,0,null,0,null,0,null,0,null,0,null,0,null,0,null,0,null,0,null,0,null,0,null,0,null,0,null,0,null,0,null,0,null,0,null,0,null,0,null,0,null,0,null,0,null,0,null,0,null,0,null,0,null,0,null,0,null,0,null,0,null,0,null,0,null,0,null,0]
[null,null,null,null,null,null,null,null,null,null,null,0,null,0,null,0,null,0,null,0,null,0,null,0,null,0,null,0,null,0,null,0,null,0,null,0,null,0,null,0,null,0,null,0,null,0,null,0,null,0,null,0,null,0,null,0,null,0,null,0,null,0,null,0,null,0,null,0,null,0,null,0,null,0,null,0,null,0]
[null,null,null,null,null,null,null,null,null,null,null,0,null,0,null,0,null,0,null,0,null,0,null,0,null,0,null,0,null,0,null,0,null,0,null,0,null,0,null,0,null,0,null,0,null,0,null,0,null,0,null,0,null,0,null,0,null,0,null,0,null,0,null,0,null,0,null,0,null,0,null,0,null,0,null,0,null,0]
[null,null,null,null,null,null,null,null,null,null,null,0,null,0,null,0,null,0,null,0,null,0,null,0,null,0,null,0,null,0,null,0,null,0,null,0,null,0,null,0,null,0,null,0,null,0,null,0,null,0,null,0,null,0,null,0,null,0,null,0,null,0,null,0,null,0,null,0,null,0,null,0,null,0,null,0,null,0]
[null,null,null,null,null,null,null,null,null,null,null,0,null,0,null,0,null,0,null,0,null,0,null,0,null,0,null,0,null,0,null,0,null,0,null,0,null,0,null,0,null,0,null,0,null,0,null,0,null,0,null,0,null,0,null,0,null,0,null,0,null,0,null,0,null,0,null,0,null,0,null,0,null,0,null,0,null,0]
[null,null,null,null,null,null,null,null,null,null,null,0,null,0,null,0,null,0,null,0,null,0,null,0,null,0,null,0,null,0,null,0,null,0,null,0,null,0,null,0,null,0,null,0,null,0,null,0,null,0,null,0,null,0,null,0,null,0,null,0,null,0,null,0,null,0,null,0,null,0,null,0,null,0,null,0,null,0]
[null,null,null,null,null,null,null,null,null,null,null,0,null,0,null,0,null,0,null,0,null,0,null,0,null,0,null,0,null,0,null,0,null,0,null,0,null,0,null,0,null,0,null,0,null,0,null,0,null,0,null,0,null,0,null,0,null,0,null,0,null,0,null,0,null,0,null,0,null,0,null,0,null,0,null,0,null,0]
[null,null,null,null,null,null,null,null,null,null,null,0,null,0,null,0,null,0,null,0,null,0,null,0,null,0,null,0,null,0,null,0,null,0,null,0,null,0,null,0,null,0,null,0,null,0,null,0,null,0,null,0,null,0,null,0,null,0,null,0,null,0,null,0,null,0,null,0,null,0,null,0,null,0,null,0,null,0]
[null,null,null,null,null,null,null,null,null,null,null,0,null,0,null,0,null,0,null,0,null,0,null,0,null,0,null,0,null,0,null,0,null,0,null,0,null,0,null,0,null,0,null,0,null,0,null,0,null,0,null,0,null,0,null,0,null,0,null,0,null,0,null,0,null,0,null,0,null,0,null,0,null,0,null,0,null,0]
[null,null,null,null,null,null,null,null,null,null,null,0,null,0,null,0,null,0,null,0,null,0,null,0,null,0,null,0,null,0,null,0,null,0,null,0,null,0,null,0,null,0,null,0,null,0,null,0,null,0,null,0,null,0,null,0,null,0,null,0,null,0,null,0,null,0,null,0,null,0,null,0,null,0,null,0,null,0]
[null,null,null,null,null,null,null,null,null,null,null,0,null,0,null,0,null,0,null,0,null,0,null,0,null,0,null,0,null,0,null,0,null,0,null,0,null,0,null,0,null,0,null,0,null,0,null,0,null,0,null,0,null,0,null,0,null,0,null,0,null,0,null,0,null,0,null,0,null,0,null,0,null,0,null,0,null,0]
[null,null,null,null,null,null,null,null,null,null,null,0,null,0,null,0,null,0,null,0,null,0,null,0,null,0,null,0,null,0,null,0,null,0,null,0,null,0,null,0,null,0,null,0,null,0,null,0,null,0,null,0,null,0,null,0,null,0,null,0,null,0,null,0,null,0,null,0,null,0,null,0,null,0,null,0,null,0]
[null,null,null,null,null,null,null,null,null,null,null,0,null,0,null,0,null,0,null,0,null,0,null,0,null,0,null,0,null,0,null,0,null,0,null,0,null,0,null,0,null,0,null,0,null,0,null,0,null,0,null,0,null,0,null,0,null,0,null,0,null,0,null,0,null,0,null,0,null,0,null,0,null,0,null,0,null,0]
[null,null,null,null,null,null,null,null,null,null,null,0,null,0,null,0,null,0,null,0,null,0,null,0,null,0,null,0,null,0,null,0,null,0,null,0,null,0,null,0,null,0,null,0,null,0,null,0,null,0,null,0,null,0,null,0,null,0,null,0,null,0,null,0,null,0,null,0,null,0,null,0,null,0,null,0,null,0]
[]
[null,null,"CATEGORIAS",null,null,null,null,"QUANTIDADE"]
[null,null,null,null,null,null,null,null,null,null,{"$f":"IF($C150=K$4,1,0)","v":0},null,{"$f":"IF($C150=M$4,1,0)","v":0},null,{"$f":"IF($C150=O$4,1,0)","v":0},null,{"$f":"IF($C150=Q$4,1,0)","v":0},null,{"$f":"IF($C150=S$4,1,0)","v":0},null,{"$f":"IF($C150=U$4,1,0)","v":0},null,{"$f":"IF($C150=W$4,1,0)","v":0},null,{"$f":"IF($C150=Y$4,1,0)","v":0},null,{"$f":"IF($C150=AA$4,1,0)","v":0},null,{"$f":"IF($C150=AC$4,1,0)","v":0},null,{"$f":"IF($C150=AE$4,1,0)","v":0},null,{"$f":"IF($C150=AG$4,1,0)","v":0},null,{"$f":"IF($C150=AI$4,1,0)","v":0},null,{"$f":"IF($C150=AK$4,1,0)","v":0},null,{"$f":"IF($C150=AM$4,1,0)","v":0},null,{"$f":"IF($C150=AO$4,1,0)","v":0},null,{"$f":"IF($C150=AQ$4,1,0)","v":0},null,{"$f":"IF($C150=AS$4,1,0)","v":0},null,{"$f":"IF($C150=AU$4,1,0)","v":0},null,{"$f":"IF($C150=AW$4,1,0)","v":0},null,{"$f":"IF($C150=AY$4,1,0)","v":0},null,{"$f":"IF($C150=BA$4,1,0)","v":0},null,{"$f":"IF($C150=BC$4,1,0)","v":0},null,{"$f":"IF($C150=BE$4,1,0)","v":0},null,{"$f":"IF($C150=BG$4,1,0)","v":0},null,{"$f":"IF($C150=BI$4,1,0)","v":0},null,{"$f":"IF($C150=BK$4,1,0)","v":0},null,{"$f":"IF($C150=BM$4,1,0)","v":0},null,{"$f":"IF($C150=BO$4,1,0)","v":0},null,{"$f":"IF($C150=BQ$4,1,0)","v":0},null,{"$f":"IF($C150=BS$4,1,0)","v":0},null,{"$f":"IF($C150=BU$4,1,0)","v":0},null,{"$f":"IF($C150=BW$4,1,0)","v":0},null,{"$f":"IF($C150=BY$4,1,0)","v":0}]
[null,null,null,{"$f":"HLOOKUP($C151,'Dados Gerais'!$D$6:$BI$11,6)","v":{"$error":"#N/A"}},null,null,null,{"$f":"HLOOKUP($C151,'Dados Gerais'!$D$6:$BI$15,10)","v":{"$error":"#N/A"}},null,null,{"$f":"IF($C151=K$4,1,0)","v":0},null,{"$f":"IF($C151=M$4,1,0)","v":0},null,{"$f":"IF($C151=O$4,1,0)","v":0},null,{"$f":"IF($C151=Q$4,1,0)","v":0},null,{"$f":"IF($C151=S$4,1,0)","v":0},null,{"$f":"IF($C151=U$4,1,0)","v":0},null,{"$f":"IF($C151=W$4,1,0)","v":0},null,{"$f":"IF($C151=Y$4,1,0)","v":0},null,{"$f":"IF($C151=AA$4,1,0)","v":0},null,{"$f":"IF($C151=AC$4,1,0)","v":0},null,{"$f":"IF($C151=AE$4,1,0)","v":0},null,{"$f":"IF($C151=AG$4,1,0)","v":0},null,{"$f":"IF($C151=AI$4,1,0)","v":0},null,{"$f":"IF($C151=AK$4,1,0)","v":0},null,{"$f":"IF($C151=AM$4,1,0)","v":0},null,{"$f":"IF($C151=AO$4,1,0)","v":0},null,{"$f":"IF($C151=AQ$4,1,0)","v":0},null,{"$f":"IF($C151=AS$4,1,0)","v":0},null,{"$f":"IF($C151=AU$4,1,0)","v":0},null,{"$f":"IF($C151=AW$4,1,0)","v":0},null,{"$f":"IF($C151=AY$4,1,0)","v":0},null,{"$f":"IF($C151=BA$4,1,0)","v":0},null,{"$f":"IF($C151=BC$4,1,0)","v":0},null,{"$f":"IF($C151=BE$4,1,0)","v":0},null,{"$f":"IF($C151=BG$4,1,0)","v":0},null,{"$f":"IF($C151=BI$4,1,0)","v":0},null,{"$f":"IF($C151=BK$4,1,0)","v":0},null,{"$f":"IF($C151=BM$4,1,0)","v":0},null,{"$f":"IF($C151=BO$4,1,0)","v":0},null,{"$f":"IF($C151=BQ$4,1,0)","v":0},null,{"$f":"IF($C151=BS$4,1,0)","v":0},null,{"$f":"IF($C151=BU$4,1,0)","v":0},null,{"$f":"IF($C151=BW$4,1,0)","v":0},null,{"$f":"IF($C151=BY$4,1,0)","v":0}]
[null,null,null,null,null,null,null,null,null,null,{"$f":"IF($C152=K$4,1,0)","v":0},null,{"$f":"IF($C152=M$4,1,0)","v":0},null,{"$f":"IF($C152=O$4,1,0)","v":0},null,{"$f":"IF($C152=Q$4,1,0)","v":0},null,{"$f":"IF($C152=S$4,1,0)","v":0},null,{"$f":"IF($C152=U$4,1,0)","v":0},null,{"$f":"IF($C152=W$4,1,0)","v":0},null,{"$f":"IF($C152=Y$4,1,0)","v":0},null,{"$f":"IF($C152=AA$4,1,0)","v":0},null,{"$f":"IF($C152=AC$4,1,0)","v":0},null,{"$f":"IF($C152=AE$4,1,0)","v":0},null,{"$f":"IF($C152=AG$4,1,0)","v":0},null,{"$f":"IF($C152=AI$4,1,0)","v":0},null,{"$f":"IF($C152=AK$4,1,0)","v":0},null,{"$f":"IF($C152=AM$4,1,0)","v":0},null,{"$f":"IF($C152=AO$4,1,0)","v":0},null,{"$f":"IF($C152=AQ$4,1,0)","v":0},null,{"$f":"IF($C152=AS$4,1,0)","v":0},null,{"$f":"IF($C152=AU$4,1,0)","v":0},null,{"$f":"IF($C152=AW$4,1,0)","v":0},null,{"$f":"IF($C152=AY$4,1,0)","v":0},null,{"$f":"IF($C152=BA$4,1,0)","v":0},null,{"$f":"IF($C152=BC$4,1,0)","v":0},null,{"$f":"IF($C152=BE$4,1,0)","v":0},null,{"$f":"IF($C152=BG$4,1,0)","v":0},null,{"$f":"IF($C152=BI$4,1,0)","v":0},null,{"$f":"IF($C152=BK$4,1,0)","v":0},null,{"$f":"IF($C152=BM$4,1,0)","v":0},null,{"$f":"IF($C152=BO$4,1,0)","v":0},null,{"$f":"IF($C152=BQ$4,1,0)","v":0},null,{"$f":"IF($C152=BS$4,1,0)","v":0},null,{"$f":"IF($C152=BU$4,1,0)","v":0},null,{"$f":"IF($C152=BW$4,1,0)","v":0},null,{"$f":"IF($C152=BY$4,1,0)","v":0}]
[]
[null,null,"ITEM","DESCRIÇÃO","QUANT ANUAL POR POSTO","UNIDADE","QUANT DE POSTOS","VALOR"]
[null,null,null,null,null,null,null,null,null,null,null,{"$f":"IF(SUM(K$8:K$10)>0,$E155*$H155,0)","v":0},null,{"$f":"IF(SUM(M$8:M$10)>0,$E155*$H155,0)","v":0},null,{"$f":"IF(SUM(O$8:O$10)>0,$E155*$H155,0)","v":0},null,{"$f":"IF(SUM(Q$8:Q$10)>0,$E155*$H155,0)","v":0},null,{"$f":"IF(SUM(S$8:S$10)>0,$E155*$H155,0)","v":0},null,{"$f":"IF(SUM(U$8:U$10)>0,$E155*$H155,0)","v":0},null,{"$f":"IF(SUM(W$8:W$10)>0,$E155*$H155,0)","v":0},null,{"$f":"IF(SUM(Y$8:Y$10)>0,$E155*$H155,0)","v":0},null,{"$f":"IF(SUM(AA$8:AA$10)>0,$E155*$H155,0)","v":0},null,{"$f":"IF(SUM(AC$8:AC$10)>0,$E155*$H155,0)","v":0},null,{"$f":"IF(SUM(AE$8:AE$10)>0,$E155*$H155,0)","v":0},null,{"$f":"IF(SUM(AG$8:AG$10)>0,$E155*$H155,0)","v":0},null,{"$f":"IF(SUM(AI$8:AI$10)>0,$E155*$H155,0)","v":0},null,{"$f":"IF(SUM(AK$8:AK$10)>0,$E155*$H155,0)","v":0},null,{"$f":"IF(SUM(AM$8:AM$10)>0,$E155*$H155,0)","v":0},null,{"$f":"IF(SUM(AO$8:AO$10)>0,$E155*$H155,0)","v":0},null,{"$f":"IF(SUM(AQ$8:AQ$10)>0,$E155*$H155,0)","v":0},null,{"$f":"IF(SUM(AS$8:AS$10)>0,$E155*$H155,0)","v":0},null,{"$f":"IF(SUM(AU$8:AU$10)>0,$E155*$H155,0)","v":0},null,{"$f":"IF(SUM(AW$8:AW$10)>0,$E155*$H155,0)","v":0},null,{"$f":"IF(SUM(AY$8:AY$10)>0,$E155*$H155,0)","v":0},null,{"$f":"IF(SUM(BA$8:BA$10)>0,$E155*$H155,0)","v":0},null,{"$f":"IF(SUM(BC$8:BC$10)>0,$E155*$H155,0)","v":0},null,{"$f":"IF(SUM(BE$8:BE$10)>0,$E155*$H155,0)","v":0},null,{"$f":"IF(SUM(BG$8:BG$10)>0,$E155*$H155,0)","v":0},null,{"$f":"IF(SUM(BI$8:BI$10)>0,$E155*$H155,0)","v":0},null,{"$f":"IF(SUM(BK$8:BK$10)>0,$E155*$H155,0)","v":0},null,{"$f":"IF(SUM(BM$8:BM$10)>0,$E155*$H155,0)","v":0},null,{"$f":"IF(SUM(BO$8:BO$10)>0,$E155*$H155,0)","v":0},null,{"$f":"IF(SUM(BQ$8:BQ$10)>0,$E155*$H155,0)","v":0},null,{"$f":"IF(SUM(BS$8:BS$10)>0,$E155*$H155,0)","v":0},null,{"$f":"IF(SUM(BU$8:BU$10)>0,$E155*$H155,0)","v":0},null,{"$f":"IF(SUM(BW$8:BW$10)>0,$E155*$H155,0)","v":0},null,{"$f":"IF(SUM(BY$8:BY$10)>0,$E155*$H155,0)","v":0}]
[null,null,null,null,null,null,null,null,null,null,null,{"$f":"ROUND(IF(SUM(K$150:K$152)>0,$E156*$G156*$H156/$H$151,0),2)","v":0},null,{"$f":"ROUND(IF(SUM(M$150:M$152)>0,$E156*$G156*$H156/$H$151,0),2)","v":0},null,{"$f":"ROUND(IF(SUM(O$150:O$152)>0,$E156*$G156*$H156/$H$151,0),2)","v":0},null,{"$f":"ROUND(IF(SUM(Q$150:Q$152)>0,$E156*$G156*$H156/$H$151,0),2)","v":0},null,{"$f":"ROUND(IF(SUM(S$150:S$152)>0,$E156*$G156*$H156/$H$151,0),2)","v":0},null,{"$f":"ROUND(IF(SUM(U$150:U$152)>0,$E156*$G156*$H156/$H$151,0),2)","v":0},null,{"$f":"ROUND(IF(SUM(W$150:W$152)>0,$E156*$G156*$H156/$H$151,0),2)","v":0},null,{"$f":"ROUND(IF(SUM(Y$150:Y$152)>0,$E156*$G156*$H156/$H$151,0),2)","v":0},null,{"$f":"ROUND(IF(SUM(AA$150:AA$152)>0,$E156*$G156*$H156/$H$151,0),2)","v":0},null,{"$f":"ROUND(IF(SUM(AC$150:AC$152)>0,$E156*$G156*$H156/$H$151,0),2)","v":0},null,{"$f":"ROUND(IF(SUM(AE$150:AE$152)>0,$E156*$G156*$H156/$H$151,0),2)","v":0},null,{"$f":"ROUND(IF(SUM(AG$150:AG$152)>0,$E156*$G156*$H156/$H$151,0),2)","v":0},null,{"$f":"ROUND(IF(SUM(AI$150:AI$152)>0,$E156*$G156*$H156/$H$151,0),2)","v":0},null,{"$f":"ROUND(IF(SUM(AK$150:AK$152)>0,$E156*$G156*$H156/$H$151,0),2)","v":0},null,{"$f":"ROUND(IF(SUM(AM$150:AM$152)>0,$E156*$G156*$H156/$H$151,0),2)","v":0},null,{"$f":"ROUND(IF(SUM(AO$150:AO$152)>0,$E156*$G156*$H156/$H$151,0),2)","v":0},null,{"$f":"ROUND(IF(SUM(AQ$150:AQ$152)>0,$E156*$G156*$H156/$H$151,0),2)","v":0},null,{"$f":"ROUND(IF(SUM(AS$150:AS$152)>0,$E156*$G156*$H156/$H$151,0),2)","v":0},null,{"$f":"ROUND(IF(SUM(AU$150:AU$152)>0,$E156*$G156*$H156/$H$151,0),2)","v":0},null,{"$f":"ROUND(IF(SUM(AW$150:AW$152)>0,$E156*$G156*$H156/$H$151,0),2)","v":0},null,{"$f":"ROUND(IF(SUM(AY$150:AY$152)>0,$E156*$G156*$H156/$H$151,0),2)","v":0},null,{"$f":"ROUND(IF(SUM(BA$150:BA$152)>0,$E156*$G156*$H156/$H$151,0),2)","v":0},null,{"$f":"ROUND(IF(SUM(BC$150:BC$152)>0,$E156*$G156*$H156/$H$151,0),2)","v":0},null,{"$f":"ROUND(IF(SUM(BE$150:BE$152)>0,$E156*$G156*$H156/$H$151,0),2)","v":0},null,{"$f":"ROUND(IF(SUM(BG$150:BG$152)>0,$E156*$G156*$H156/$H$151,0),2)","v":0},null,{"$f":"ROUND(IF(SUM(BI$150:BI$152)>0,$E156*$G156*$H156/$H$151,0),2)","v":0},null,{"$f":"ROUND(IF(SUM(BK$150:BK$152)>0,$E156*$G156*$H156/$H$151,0),2)","v":0},null,{"$f":"ROUND(IF(SUM(BM$150:BM$152)>0,$E156*$G156*$H156/$H$151,0),2)","v":0},null,{"$f":"ROUND(IF(SUM(BO$150:BO$152)>0,$E156*$G156*$H156/$H$151,0),2)","v":0},null,{"$f":"ROUND(IF(SUM(BQ$150:BQ$152)>0,$E156*$G156*$H156/$H$151,0),2)","v":0},null,{"$f":"ROUND(IF(SUM(BS$150:BS$152)>0,$E156*$G156*$H156/$H$151,0),2)","v":0},null,{"$f":"ROUND(IF(SUM(BU$150:BU$152)>0,$E156*$G156*$H156/$H$151,0),2)","v":0},null,{"$f":"ROUND(IF(SUM(BW$150:BW$152)>0,$E156*$G156*$H156/$H$151,0),2)","v":0},null,{"$f":"ROUND(IF(SUM(BY$150:BY$152)>0,$E156*$G156*$H156/$H$151,0),2)","v":0}]
[null,null,null,null,null,null,null,null,null,null,null,0,null,0,null,0,null,0,null,0,null,0,null,0,null,0,null,0,null,0,null,0,null,0,null,0,null,0,null,0,null,0,null,0,null,0,null,0,null,0,null,0,null,0,null,0,null,0,null,0,null,0,null,0,null,0,null,0,null,0,null,0,null,0,null,0,null,0]
[null,null,null,null,null,null,null,null,null,null,null,0,null,0,null,0,null,0,null,0,null,0,null,0,null,0,null,0,null,0,null,0,null,0,null,0,null,0,null,0,null,0,null,0,null,0,null,0,null,0,null,0,null,0,null,0,null,0,null,0,null,0,null,0,null,0,null,0,null,0,null,0,null,0,null,0,null,0]
[null,null,null,null,null,null,null,null,null,null,null,0,null,0,null,0,null,0,null,0,null,0,null,0,null,0,null,0,null,0,null,0,null,0,null,0,null,0,null,0,null,0,null,0,null,0,null,0,null,0,null,0,null,0,null,0,null,0,null,0,null,0,null,0,null,0,null,0,null,0,null,0,null,0,null,0,null,0]
[null,null,null,null,null,null,null,null,null,null,null,0,null,0,null,0,null,0,null,0,null,0,null,0,null,0,null,0,null,0,null,0,null,0,null,0,null,0,null,0,null,0,null,0,null,0,null,0,null,0,null,0,null,0,null,0,null,0,null,0,null,0,null,0,null,0,null,0,null,0,null,0,null,0,null,0,null,0]
[null,null,null,null,null,null,null,null,null,null,null,0,null,0,null,0,null,0,null,0,null,0,null,0,null,0,null,0,null,0,null,0,null,0,null,0,null,0,null,0,null,0,null,0,null,0,null,0,null,0,null,0,null,0,null,0,null,0,null,0,null,0,null,0,null,0,null,0,null,0,null,0,null,0,null,0,null,0]
[null,null,null,null,null,null,null,null,null,null,null,0,null,0,null,0,null,0,null,0,null,0,null,0,null,0,null,0,null,0,null,0,null,0,null,0,null,0,null,0,null,0,null,0,null,0,null,0,null,0,null,0,null,0,null,0,null,0,null,0,null,0,null,0,null,0,null,0,null,0,null,0,null,0,null,0,null,0]
[null,null,null,null,null,null,null,null,null,null,null,0,null,0,null,0,null,0,null,0,null,0,null,0,null,0,null,0,null,0,null,0,null,0,null,0,null,0,null,0,null,0,null,0,null,0,null,0,null,0,null,0,null,0,null,0,null,0,null,0,null,0,null,0,null,0,null,0,null,0,null,0,null,0,null,0,null,0]
[null,null,null,null,null,null,null,null,null,null,null,0,null,0,null,0,null,0,null,0,null,0,null,0,null,0,null,0,null,0,null,0,null,0,null,0,null,0,null,0,null,0,null,0,null,0,null,0,null,0,null,0,null,0,null,0,null,0,null,0,null,0,null,0,null,0,null,0,null,0,null,0,null,0,null,0,null,0]
[null,null,null,null,null,null,null,null,null,null,null,0,null,0,null,0,null,0,null,0,null,0,null,0,null,0,null,0,null,0,null,0,null,0,null,0,null,0,null,0,null,0,null,0,null,0,null,0,null,0,null,0,null,0,null,0,null,0,null,0,null,0,null,0,null,0,null,0,null,0,null,0,null,0,null,0,null,0]
[null,null,null,null,null,null,null,null,null,null,null,0,null,0,null,0,null,0,null,0,null,0,null,0,null,0,null,0,null,0,null,0,null,0,null,0,null,0,null,0,null,0,null,0,null,0,null,0,null,0,null,0,null,0,null,0,null,0,null,0,null,0,null,0,null,0,null,0,null,0,null,0,null,0,null,0,null,0]
[null,null,null,null,null,null,null,null,null,null,null,0,null,0,null,0,null,0,null,0,null,0,null,0,null,0,null,0,null,0,null,0,null,0,null,0,null,0,null,0,null,0,null,0,null,0,null,0,null,0,null,0,null,0,null,0,null,0,null,0,null,0,null,0,null,0,null,0,null,0,null,0,null,0,null,0,null,0]
[null,null,null,null,null,null,null,null,null,null,null,0,null,0,null,0,null,0,null,0,null,0,null,0,null,0,null,0,null,0,null,0,null,0,null,0,null,0,null,0,null,0,null,0,null,0,null,0,null,0,null,0,null,0,null,0,null,0,null,0,null,0,null,0,null,0,null,0,null,0,null,0,null,0,null,0,null,0]
[null,null,null,null,null,null,null,null,null,null,null,0,null,0,null,0,null,0,null,0,null,0,null,0,null,0,null,0,null,0,null,0,null,0,null,0,null,0,null,0,null,0,null,0,null,0,null,0,null,0,null,0,null,0,null,0,null,0,null,0,null,0,null,0,null,0,null,0,null,0,null,0,null,0,null,0,null,0]
[null,null,null,null,null,null,null,null,null,null,null,0,null,0,null,0,null,0,null,0,null,0,null,0,null,0,null,0,null,0,null,0,null,0,null,0,null,0,null,0,null,0,null,0,null,0,null,0,null,0,null,0,null,0,null,0,null,0,null,0,null,0,null,0,null,0,null,0,null,0,null,0,null,0,null,0,null,0]
[null,null,null,null,null,null,null,null,null,null,null,0,null,0,null,0,null,0,null,0,null,0,null,0,null,0,null,0,null,0,null,0,null,0,null,0,null,0,null,0,null,0,null,0,null,0,null,0,null,0,null,0,null,0,null,0,null,0,null,0,null,0,null,0,null,0,null,0,null,0,null,0,null,0,null,0,null,0]
[null,null,null,null,null,null,null,null,null,null,null,0,null,0,null,0,null,0,null,0,null,0,null,0,null,0,null,0,null,0,null,0,null,0,null,0,null,0,null,0,null,0,null,0,null,0,null,0,null,0,null,0,null,0,null,0,null,0,null,0,null,0,null,0,null,0,null,0,null,0,null,0,null,0,null,0,null,0]
[null,null,null,null,null,null,null,null,null,null,null,0,null,0,null,0,null,0,null,0,null,0,null,0,null,0,null,0,null,0,null,0,null,0,null,0,null,0,null,0,null,0,null,0,null,0,null,0,null,0,null,0,null,0,null,0,null,0,null,0,null,0,null,0,null,0,null,0,null,0,null,0,null,0,null,0,null,0]
[null,null,null,null,null,null,null,null,null,null,null,0,null,0,null,0,null,0,null,0,null,0,null,0,null,0,null,0,null,0,null,0,null,0,null,0,null,0,null,0,null,0,null,0,null,0,null,0,null,0,null,0,null,0,null,0,null,0,null,0,null,0,null,0,null,0,null,0,null,0,null,0,null,0,null,0,null,0]
[null,null,null,null,null,null,null,null,null,null,null,0,null,0,null,0,null,0,null,0,null,0,null,0,null,0,null,0,null,0,null,0,null,0,null,0,null,0,null,0,null,0,null,0,null,0,null,0,null,0,null,0,null,0,null,0,null,0,null,0,null,0,null,0,null,0,null,0,null,0,null,0,null,0,null,0,null,0]
[null,null,null,null,null,null,null,null,null,null,null,0,null,0,null,0,null,0,null,0,null,0,null,0,null,0,null,0,null,0,null,0,null,0,null,0,null,0,null,0,null,0,null,0,null,0,null,0,null,0,null,0,null,0,null,0,null,0,null,0,null,0,null,0,null,0,null,0,null,0,null,0,null,0,null,0,null,0]
[null,null,null,null,null,null,null,null,null,null,null,0,null,0,null,0,null,0,null,0,null,0,null,0,null,0,null,0,null,0,null,0,null,0,null,0,null,0,null,0,null,0,null,0,null,0,null,0,null,0,null,0,null,0,null,0,null,0,null,0,null,0,null,0,null,0,null,0,null,0,null,0,null,0,null,0,null,0]
[null,null,null,null,null,null,null,null,null,null,null,0,null,0,null,0,null,0,null,0,null,0,null,0,null,0,null,0,null,0,null,0,null,0,null,0,null,0,null,0,null,0,null,0,null,0,null,0,null,0,null,0,null,0,null,0,null,0,null,0,null,0,null,0,null,0,null,0,null,0,null,0,null,0,null,0,null,0]
[null,null,null,null,null,null,null,null,null,null,null,0,null,0,null,0,null,0,null,0,null,0,null,0,null,0,null,0,null,0,null,0,null,0,null,0,null,0,null,0,null,0,null,0,null,0,null,0,null,0,null,0,null,0,null,0,null,0,null,0,null,0,null,0,null,0,null,0,null,0,null,0,null,0,null,0,null,0]
[null,null,null,null,null,null,null,null,null,null,null,0,null,0,null,0,null,0,null,0,null,0,null,0,null,0,null,0,null,0,null,0,null,0,null,0,null,0,null,0,null,0,null,0,null,0,null,0,null,0,null,0,null,0,null,0,null,0,null,0,null,0,null,0,null,0,null,0,null,0,null,0,null,0,null,0,null,0]
[]
[null,null,"CATEGORIAS"]
[null,null,null,null,null,null,null,null,null,null,{"$f":"IF($C183=K$4,1,0)","v":0},null,{"$f":"IF($C183=M$4,1,0)","v":0},null,{"$f":"IF($C183=O$4,1,0)","v":0},null,{"$f":"IF($C183=Q$4,1,0)","v":0},null,{"$f":"IF($C183=S$4,1,0)","v":0},null,{"$f":"IF($C183=U$4,1,0)","v":0},null,{"$f":"IF($C183=W$4,1,0)","v":0},null,{"$f":"IF($C183=Y$4,1,0)","v":0},null,{"$f":"IF($C183=AA$4,1,0)","v":0},null,{"$f":"IF($C183=AC$4,1,0)","v":0},null,{"$f":"IF($C183=AE$4,1,0)","v":0},null,{"$f":"IF($C183=AG$4,1,0)","v":0},null,{"$f":"IF($C183=AI$4,1,0)","v":0},null,{"$f":"IF($C183=AK$4,1,0)","v":0},null,{"$f":"IF($C183=AM$4,1,0)","v":0},null,{"$f":"IF($C183=AO$4,1,0)","v":0},null,{"$f":"IF($C183=AQ$4,1,0)","v":0},null,{"$f":"IF($C183=AS$4,1,0)","v":0},null,{"$f":"IF($C183=AU$4,1,0)","v":0},null,{"$f":"IF($C183=AW$4,1,0)","v":0},null,{"$f":"IF($C183=AY$4,1,0)","v":0},null,{"$f":"IF($C183=BA$4,1,0)","v":0},null,{"$f":"IF($C183=BC$4,1,0)","v":0},null,{"$f":"IF($C183=BE$4,1,0)","v":0},null,{"$f":"IF($C183=BG$4,1,0)","v":0},null,{"$f":"IF($C183=BI$4,1,0)","v":0},null,{"$f":"IF($C183=BK$4,1,0)","v":0},null,{"$f":"IF($C183=BM$4,1,0)","v":0},null,{"$f":"IF($C183=BO$4,1,0)","v":0},null,{"$f":"IF($C183=BQ$4,1,0)","v":0},null,{"$f":"IF($C183=BS$4,1,0)","v":0},null,{"$f":"IF($C183=BU$4,1,0)","v":0},null,{"$f":"IF($C183=BW$4,1,0)","v":0},null,{"$f":"IF($C183=BY$4,1,0)","v":0}]
[null,null,null,{"$f":"HLOOKUP($C184,'Dados Gerais'!$D$6:$BI$11,6)","v":{"$error":"#N/A"}},null,null,null,{"$f":"HLOOKUP($C184,'Dados Gerais'!$D$6:$BI$15,10)","v":{"$error":"#N/A"}},null,null,{"$f":"IF($C184=K$4,1,0)","v":0},null,{"$f":"IF($C184=M$4,1,0)","v":0},null,{"$f":"IF($C184=O$4,1,0)","v":0},null,{"$f":"IF($C184=Q$4,1,0)","v":0},null,{"$f":"IF($C184=S$4,1,0)","v":0},null,{"$f":"IF($C184=U$4,1,0)","v":0},null,{"$f":"IF($C184=W$4,1,0)","v":0},null,{"$f":"IF($C184=Y$4,1,0)","v":0},null,{"$f":"IF($C184=AA$4,1,0)","v":0},null,{"$f":"IF($C184=AC$4,1,0)","v":0},null,{"$f":"IF($C184=AE$4,1,0)","v":0},null,{"$f":"IF($C184=AG$4,1,0)","v":0},null,{"$f":"IF($C184=AI$4,1,0)","v":0},null,{"$f":"IF($C184=AK$4,1,0)","v":0},null,{"$f":"IF($C184=AM$4,1,0)","v":0},null,{"$f":"IF($C184=AO$4,1,0)","v":0},null,{"$f":"IF($C184=AQ$4,1,0)","v":0},null,{"$f":"IF($C184=AS$4,1,0)","v":0},null,{"$f":"IF($C184=AU$4,1,0)","v":0},null,{"$f":"IF($C184=AW$4,1,0)","v":0},null,{"$f":"IF($C184=AY$4,1,0)","v":0},null,{"$f":"IF($C184=BA$4,1,0)","v":0},null,{"$f":"IF($C184=BC$4,1,0)","v":0},null,{"$f":"IF($C184=BE$4,1,0)","v":0},null,{"$f":"IF($C184=BG$4,1,0)","v":0},null,{"$f":"IF($C184=BI$4,1,0)","v":0},null,{"$f":"IF($C184=BK$4,1,0)","v":0},null,{"$f":"IF($C184=BM$4,1,0)","v":0},null,{"$f":"IF($C184=BO$4,1,0)","v":0},null,{"$f":"IF($C184=BQ$4,1,0)","v":0},null,{"$f":"IF($C184=BS$4,1,0)","v":0},null,{"$f":"IF($C184=BU$4,1,0)","v":0},null,{"$f":"IF($C184=BW$4,1,0)","v":0},null,{"$f":"IF($C184=BY$4,1,0)","v":0}]
[null,null,null,null,null,null,null,null,null,null,{"$f":"IF($C185=K$4,1,0)","v":0},null,{"$f":"IF($C185=M$4,1,0)","v":0},null,{"$f":"IF($C185=O$4,1,0)","v":0},null,{"$f":"IF($C185=Q$4,1,0)","v":0},null,{"$f":"IF($C185=S$4,1,0)","v":0},null,{"$f":"IF($C185=U$4,1,0)","v":0},null,{"$f":"IF($C185=W$4,1,0)","v":0},null,{"$f":"IF($C185=Y$4,1,0)","v":0},null,{"$f":"IF($C185=AA$4,1,0)","v":0},null,{"$f":"IF($C185=AC$4,1,0)","v":0},null,{"$f":"IF($C185=AE$4,1,0)","v":0},null,{"$f":"IF($C185=AG$4,1,0)","v":0},null,{"$f":"IF($C185=AI$4,1,0)","v":0},null,{"$f":"IF($C185=AK$4,1,0)","v":0},null,{"$f":"IF($C185=AM$4,1,0)","v":0},null,{"$f":"IF($C185=AO$4,1,0)","v":0},null,{"$f":"IF($C185=AQ$4,1,0)","v":0},null,{"$f":"IF($C185=AS$4,1,0)","v":0},null,{"$f":"IF($C185=AU$4,1,0)","v":0},null,{"$f":"IF($C185=AW$4,1,0)","v":0},null,{"$f":"IF($C185=AY$4,1,0)","v":0},null,{"$f":"IF($C185=BA$4,1,0)","v":0},null,{"$f":"IF($C185=BC$4,1,0)","v":0},null,{"$f":"IF($C185=BE$4,1,0)","v":0},null,{"$f":"IF($C185=BG$4,1,0)","v":0},null,{"$f":"IF($C185=BI$4,1,0)","v":0},null,{"$f":"IF($C185=BK$4,1,0)","v":0},null,{"$f":"IF($C185=BM$4,1,0)","v":0},null,{"$f":"IF($C185=BO$4,1,0)","v":0},null,{"$f":"IF($C185=BQ$4,1,0)","v":0},null,{"$f":"IF($C185=BS$4,1,0)","v":0},null,{"$f":"IF($C185=BU$4,1,0)","v":0},null,{"$f":"IF($C185=BW$4,1,0)","v":0},null,{"$f":"IF($C185=BY$4,1,0)","v":0}]
[]
[null,null,"ITEM","DESCRIÇÃO","QUANT ANUAL POR POSTO","UNIDADE","QUANT DE POSTOS","VALOR"]
[null,null,null,null,null,null,null,null,null,null,null,{"$f":"IF(SUM(K$8:K$10)>0,$E188*$H188,0)","v":0},null,{"$f":"IF(SUM(M$8:M$10)>0,$E188*$H188,0)","v":0},null,{"$f":"IF(SUM(O$8:O$10)>0,$E188*$H188,0)","v":0},null,{"$f":"IF(SUM(Q$8:Q$10)>0,$E188*$H188,0)","v":0},null,{"$f":"IF(SUM(S$8:S$10)>0,$E188*$H188,0)","v":0},null,{"$f":"IF(SUM(U$8:U$10)>0,$E188*$H188,0)","v":0},null,{"$f":"IF(SUM(W$8:W$10)>0,$E188*$H188,0)","v":0},null,{"$f":"IF(SUM(Y$8:Y$10)>0,$E188*$H188,0)","v":0},null,{"$f":"IF(SUM(AA$8:AA$10)>0,$E188*$H188,0)","v":0},null,{"$f":"IF(SUM(AC$8:AC$10)>0,$E188*$H188,0)","v":0},null,{"$f":"IF(SUM(AE$8:AE$10)>0,$E188*$H188,0)","v":0},null,{"$f":"IF(SUM(AG$8:AG$10)>0,$E188*$H188,0)","v":0},null,{"$f":"IF(SUM(AI$8:AI$10)>0,$E188*$H188,0)","v":0},null,{"$f":"IF(SUM(AK$8:AK$10)>0,$E188*$H188,0)","v":0},null,{"$f":"IF(SUM(AM$8:AM$10)>0,$E188*$H188,0)","v":0},null,{"$f":"IF(SUM(AO$8:AO$10)>0,$E188*$H188,0)","v":0},null,{"$f":"IF(SUM(AQ$8:AQ$10)>0,$E188*$H188,0)","v":0},null,{"$f":"IF(SUM(AS$8:AS$10)>0,$E188*$H188,0)","v":0},null,{"$f":"IF(SUM(AU$8:AU$10)>0,$E188*$H188,0)","v":0},null,{"$f":"IF(SUM(AW$8:AW$10)>0,$E188*$H188,0)","v":0},null,{"$f":"IF(SUM(AY$8:AY$10)>0,$E188*$H188,0)","v":0},null,{"$f":"IF(SUM(BA$8:BA$10)>0,$E188*$H188,0)","v":0},null,{"$f":"IF(SUM(BC$8:BC$10)>0,$E188*$H188,0)","v":0},null,{"$f":"IF(SUM(BE$8:BE$10)>0,$E188*$H188,0)","v":0},null,{"$f":"IF(SUM(BG$8:BG$10)>0,$E188*$H188,0)","v":0},null,{"$f":"IF(SUM(BI$8:BI$10)>0,$E188*$H188,0)","v":0},null,{"$f":"IF(SUM(BK$8:BK$10)>0,$E188*$H188,0)","v":0},null,{"$f":"IF(SUM(BM$8:BM$10)>0,$E188*$H188,0)","v":0},null,{"$f":"IF(SUM(BO$8:BO$10)>0,$E188*$H188,0)","v":0},null,{"$f":"IF(SUM(BQ$8:BQ$10)>0,$E188*$H188,0)","v":0},null,{"$f":"IF(SUM(BS$8:BS$10)>0,$E188*$H188,0)","v":0},null,{"$f":"IF(SUM(BU$8:BU$10)>0,$E188*$H188,0)","v":0},null,{"$f":"IF(SUM(BW$8:BW$10)>0,$E188*$H188,0)","v":0},null,{"$f":"IF(SUM(BY$8:BY$10)>0,$E188*$H188,0)","v":0}]
[null,null,null,null,null,null,null,null,null,null,null,{"$f":"ROUND(IF(SUM(K$183:K$185)>0,$E189*$G189*$H189/$H$184,0),2)","v":0},null,{"$f":"ROUND(IF(SUM(M$183:M$185)>0,$E189*$G189*$H189/$H$184,0),2)","v":0},null,{"$f":"ROUND(IF(SUM(O$183:O$185)>0,$E189*$G189*$H189/$H$184,0),2)","v":0},null,{"$f":"ROUND(IF(SUM(Q$183:Q$185)>0,$E189*$G189*$H189/$H$184,0),2)","v":0},null,{"$f":"ROUND(IF(SUM(S$183:S$185)>0,$E189*$G189*$H189/$H$184,0),2)","v":0},null,{"$f":"ROUND(IF(SUM(U$183:U$185)>0,$E189*$G189*$H189/$H$184,0),2)","v":0},null,{"$f":"ROUND(IF(SUM(W$183:W$185)>0,$E189*$G189*$H189/$H$184,0),2)","v":0},null,{"$f":"ROUND(IF(SUM(Y$183:Y$185)>0,$E189*$G189*$H189/$H$184,0),2)","v":0},null,{"$f":"ROUND(IF(SUM(AA$183:AA$185)>0,$E189*$G189*$H189/$H$184,0),2)","v":0},null,{"$f":"ROUND(IF(SUM(AC$183:AC$185)>0,$E189*$G189*$H189/$H$184,0),2)","v":0},null,{"$f":"ROUND(IF(SUM(AE$183:AE$185)>0,$E189*$G189*$H189/$H$184,0),2)","v":0},null,{"$f":"ROUND(IF(SUM(AG$183:AG$185)>0,$E189*$G189*$H189/$H$184,0),2)","v":0},null,{"$f":"ROUND(IF(SUM(AI$183:AI$185)>0,$E189*$G189*$H189/$H$184,0),2)","v":0},null,{"$f":"ROUND(IF(SUM(AK$183:AK$185)>0,$E189*$G189*$H189/$H$184,0),2)","v":0},null,{"$f":"ROUND(IF(SUM(AM$183:AM$185)>0,$E189*$G189*$H189/$H$184,0),2)","v":0},null,{"$f":"ROUND(IF(SUM(AO$183:AO$185)>0,$E189*$G189*$H189/$H$184,0),2)","v":0},null,{"$f":"ROUND(IF(SUM(AQ$183:AQ$185)>0,$E189*$G189*$H189/$H$184,0),2)","v":0},null,{"$f":"ROUND(IF(SUM(AS$183:AS$185)>0,$E189*$G189*$H189/$H$184,0),2)","v":0},null,{"$f":"ROUND(IF(SUM(AU$183:AU$185)>0,$E189*$G189*$H189/$H$184,0),2)","v":0},null,{"$f":"ROUND(IF(SUM(AW$183:AW$185)>0,$E189*$G189*$H189/$H$184,0),2)","v":0},null,{"$f":"ROUND(IF(SUM(AY$183:AY$185)>0,$E189*$G189*$H189/$H$184,0),2)","v":0},null,{"$f":"ROUND(IF(SUM(BA$183:BA$185)>0,$E189*$G189*$H189/$H$184,0),2)","v":0},null,{"$f":"ROUND(IF(SUM(BC$183:BC$185)>0,$E189*$G189*$H189/$H$184,0),2)","v":0},null,{"$f":"ROUND(IF(SUM(BE$183:BE$185)>0,$E189*$G189*$H189/$H$184,0),2)","v":0},null,{"$f":"ROUND(IF(SUM(BG$183:BG$185)>0,$E189*$G189*$H189/$H$184,0),2)","v":0},null,{"$f":"ROUND(IF(SUM(BI$183:BI$185)>0,$E189*$G189*$H189/$H$184,0),2)","v":0},null,{"$f":"ROUND(IF(SUM(BK$183:BK$185)>0,$E189*$G189*$H189/$H$184,0),2)","v":0},null,{"$f":"ROUND(IF(SUM(BM$183:BM$185)>0,$E189*$G189*$H189/$H$184,0),2)","v":0},null,{"$f":"ROUND(IF(SUM(BO$183:BO$185)>0,$E189*$G189*$H189/$H$184,0),2)","v":0},null,{"$f":"ROUND(IF(SUM(BQ$183:BQ$185)>0,$E189*$G189*$H189/$H$184,0),2)","v":0},null,{"$f":"ROUND(IF(SUM(BS$183:BS$185)>0,$E189*$G189*$H189/$H$184,0),2)","v":0},null,{"$f":"ROUND(IF(SUM(BU$183:BU$185)>0,$E189*$G189*$H189/$H$184,0),2)","v":0},null,{"$f":"ROUND(IF(SUM(BW$183:BW$185)>0,$E189*$G189*$H189/$H$184,0),2)","v":0},null,{"$f":"ROUND(IF(SUM(BY$183:BY$185)>0,$E189*$G189*$H189/$H$184,0),2)","v":0}]
[null,null,null,null,null,null,null,null,null,null,null,0,null,0,null,0,null,0,null,0,null,0,null,0,null,0,null,0,null,0,null,0,null,0,null,0,null,0,null,0,null,0,null,0,null,0,null,0,null,0,null,0,null,0,null,0,null,0,null,0,null,0,null,0,null,0,null,0,null,0,null,0,null,0,null,0,null,0]
[null,null,null,null,null,null,null,null,null,null,null,0,null,0,null,0,null,0,null,0,null,0,null,0,null,0,null,0,null,0,null,0,null,0,null,0,null,0,null,0,null,0,null,0,null,0,null,0,null,0,null,0,null,0,null,0,null,0,null,0,null,0,null,0,null,0,null,0,null,0,null,0,null,0,null,0,null,0]
[null,null,null,null,null,null,null,null,null,null,null,0,null,0,null,0,null,0,null,0,null,0,null,0,null,0,null,0,null,0,null,0,null,0,null,0,null,0,null,0,null,0,null,0,null,0,null,0,null,0,null,0,null,0,null,0,null,0,null,0,null,0,null,0,null,0,null,0,null,0,null,0,null,0,null,0,null,0]
[null,null,null,null,null,null,null,null,null,null,null,0,null,0,null,0,null,0,null,0,null,0,null,0,null,0,null,0,null,0,null,0,null,0,null,0,null,0,null,0,null,0,null,0,null,0,null,0,null,0,null,0,null,0,null,0,null,0,null,0,null,0,null,0,null,0,null,0,null,0,null,0,null,0,null,0,null,0]
[null,null,null,null,null,null,null,null,null,null,null,0,null,0,null,0,null,0,null,0,null,0,null,0,null,0,null,0,null,0,null,0,null,0,null,0,null,0,null,0,null,0,null,0,null,0,null,0,null,0,null,0,null,0,null,0,null,0,null,0,null,0,null,0,null,0,null,0,null,0,null,0,null,0,null,0,null,0]
[]
[null,null,"CATEGORIAS",null,null,null,null,"QUANTIDADE"]
[null,null,null,null,null,null,null,null,null,null,{"$f":"IF($C197=K$4,1,0)","v":0},null,{"$f":"IF($C197=M$4,1,0)","v":0},null,{"$f":"IF($C197=O$4,1,0)","v":0},null,{"$f":"IF($C197=Q$4,1,0)","v":0},null,{"$f":"IF($C197=S$4,1,0)","v":0},null,{"$f":"IF($C197=U$4,1,0)","v":0},null,{"$f":"IF($C197=W$4,1,0)","v":0},null,{"$f":"IF($C197=Y$4,1,0)","v":0},null,{"$f":"IF($C197=AA$4,1,0)","v":0},null,{"$f":"IF($C197=AC$4,1,0)","v":0},null,{"$f":"IF($C197=AE$4,1,0)","v":0},null,{"$f":"IF($C197=AG$4,1,0)","v":0},null,{"$f":"IF($C197=AI$4,1,0)","v":0},null,{"$f":"IF($C197=AK$4,1,0)","v":0},null,{"$f":"IF($C197=AM$4,1,0)","v":0},null,{"$f":"IF($C197=AO$4,1,0)","v":0},null,{"$f":"IF($C197=AQ$4,1,0)","v":0},null,{"$f":"IF($C197=AS$4,1,0)","v":0},null,{"$f":"IF($C197=AU$4,1,0)","v":0},null,{"$f":"IF($C197=AW$4,1,0)","v":0},null,{"$f":"IF($C197=AY$4,1,0)","v":0},null,{"$f":"IF($C197=BA$4,1,0)","v":0},null,{"$f":"IF($C197=BC$4,1,0)","v":0},null,{"$f":"IF($C197=BE$4,1,0)","v":0},null,{"$f":"IF($C197=BG$4,1,0)","v":0},null,{"$f":"IF($C197=BI$4,1,0)","v":0},null,{"$f":"IF($C197=BK$4,1,0)","v":0},null,{"$f":"IF($C197=BM$4,1,0)","v":0},null,{"$f":"IF($C197=BO$4,1,0)","v":0},null,{"$f":"IF($C197=BQ$4,1,0)","v":0},null,{"$f":"IF($C197=BS$4,1,0)","v":0},null,{"$f":"IF($C197=BU$4,1,0)","v":0},null,{"$f":"IF($C197=BW$4,1,0)","v":0},null,{"$f":"IF($C197=BY$4,1,0)","v":0}]
[null,null,null,{"$f":"HLOOKUP($C198,'Dados Gerais'!$D$6:$BI$11,6)","v":{"$error":"#N/A"}},null,null,null,{"$f":"HLOOKUP($C198,'Dados Gerais'!$D$6:$BI$15,10)","v":{"$error":"#N/A"}},null,null,{"$f":"IF($C198=K$4,1,0)","v":0},null,{"$f":"IF($C198=M$4,1,0)","v":0},null,{"$f":"IF($C198=O$4,1,0)","v":0},null,{"$f":"IF($C198=Q$4,1,0)","v":0},null,{"$f":"IF($C198=S$4,1,0)","v":0},null,{"$f":"IF($C198=U$4,1,0)","v":0},null,{"$f":"IF($C198=W$4,1,0)","v":0},null,{"$f":"IF($C198=Y$4,1,0)","v":0},null,{"$f":"IF($C198=AA$4,1,0)","v":0},null,{"$f":"IF($C198=AC$4,1,0)","v":0},null,{"$f":"IF($C198=AE$4,1,0)","v":0},null,{"$f":"IF($C198=AG$4,1,0)","v":0},null,{"$f":"IF($C198=AI$4,1,0)","v":0},null,{"$f":"IF($C198=AK$4,1,0)","v":0},null,{"$f":"IF($C198=AM$4,1,0)","v":0},null,{"$f":"IF($C198=AO$4,1,0)","v":0},null,{"$f":"IF($C198=AQ$4,1,0)","v":0},null,{"$f":"IF($C198=AS$4,1,0)","v":0},null,{"$f":"IF($C198=AU$4,1,0)","v":0},null,{"$f":"IF($C198=AW$4,1,0)","v":0},null,{"$f":"IF($C198=AY$4,1,0)","v":0},null,{"$f":"IF($C198=BA$4,1,0)","v":0},null,{"$f":"IF($C198=BC$4,1,0)","v":0},null,{"$f":"IF($C198=BE$4,1,0)","v":0},null,{"$f":"IF($C198=BG$4,1,0)","v":0},null,{"$f":"IF($C198=BI$4,1,0)","v":0},null,{"$f":"IF($C198=BK$4,1,0)","v":0},null,{"$f":"IF($C198=BM$4,1,0)","v":0},null,{"$f":"IF($C198=BO$4,1,0)","v":0},null,{"$f":"IF($C198=BQ$4,1,0)","v":0},null,{"$f":"IF($C198=BS$4,1,0)","v":0},null,{"$f":"IF($C198=BU$4,1,0)","v":0},null,{"$f":"IF($C198=BW$4,1,0)","v":0},null,{"$f":"IF($C198=BY$4,1,0)","v":0}]
[null,null,null,null,null,null,null,null,null,null,{"$f":"IF($C199=K$4,1,0)","v":0},null,{"$f":"IF($C199=M$4,1,0)","v":0},null,{"$f":"IF($C199=O$4,1,0)","v":0},null,{"$f":"IF($C199=Q$4,1,0)","v":0},null,{"$f":"IF($C199=S$4,1,0)","v":0},null,{"$f":"IF($C199=U$4,1,0)","v":0},null,{"$f":"IF($C199=W$4,1,0)","v":0},null,{"$f":"IF($C199=Y$4,1,0)","v":0},null,{"$f":"IF($C199=AA$4,1,0)","v":0},null,{"$f":"IF($C199=AC$4,1,0)","v":0},null,{"$f":"IF($C199=AE$4,1,0)","v":0},null,{"$f":"IF($C199=AG$4,1,0)","v":0},null,{"$f":"IF($C199=AI$4,1,0)","v":0},null,{"$f":"IF($C199=AK$4,1,0)","v":0},null,{"$f":"IF($C199=AM$4,1,0)","v":0},null,{"$f":"IF($C199=AO$4,1,0)","v":0},null,{"$f":"IF($C199=AQ$4,1,0)","v":0},null,{"$f":"IF($C199=AS$4,1,0)","v":0},null,{"$f":"IF($C199=AU$4,1,0)","v":0},null,{"$f":"IF($C199=AW$4,1,0)","v":0},null,{"$f":"IF($C199=AY$4,1,0)","v":0},null,{"$f":"IF($C199=BA$4,1,0)","v":0},null,{"$f":"IF($C199=BC$4,1,0)","v":0},null,{"$f":"IF($C199=BE$4,1,0)","v":0},null,{"$f":"IF($C199=BG$4,1,0)","v":0},null,{"$f":"IF($C199=BI$4,1,0)","v":0},null,{"$f":"IF($C199=BK$4,1,0)","v":0},null,{"$f":"IF($C199=BM$4,1,0)","v":0},null,{"$f":"IF($C199=BO$4,1,0)","v":0},null,{"$f":"IF($C199=BQ$4,1,0)","v":0},null,{"$f":"IF($C199=BS$4,1,0)","v":0},null,{"$f":"IF($C199=BU$4,1,0)","v":0},null,{"$f":"IF($C199=BW$4,1,0)","v":0},null,{"$f":"IF($C199=BY$4,1,0)","v":0}]
[]
[null,null,"ITEM","DESCRIÇÃO","QUANT ANUAL POR POSTO","UNIDADE","QUANT DE POSTOS","VALOR"]
[null,null,null,null,null,null,null,null,null,null,null,{"$f":"IF(SUM(K$8:K$10)>0,$E202*$H202,0)","v":0},null,{"$f":"IF(SUM(M$8:M$10)>0,$E202*$H202,0)","v":0},null,{"$f":"IF(SUM(O$8:O$10)>0,$E202*$H202,0)","v":0},null,{"$f":"IF(SUM(Q$8:Q$10)>0,$E202*$H202,0)","v":0},null,{"$f":"IF(SUM(S$8:S$10)>0,$E202*$H202,0)","v":0},null,{"$f":"IF(SUM(U$8:U$10)>0,$E202*$H202,0)","v":0},null,{"$f":"IF(SUM(W$8:W$10)>0,$E202*$H202,0)","v":0},null,{"$f":"IF(SUM(Y$8:Y$10)>0,$E202*$H202,0)","v":0},null,{"$f":"IF(SUM(AA$8:AA$10)>0,$E202*$H202,0)","v":0},null,{"$f":"IF(SUM(AC$8:AC$10)>0,$E202*$H202,0)","v":0},null,{"$f":"IF(SUM(AE$8:AE$10)>0,$E202*$H202,0)","v":0},null,{"$f":"IF(SUM(AG$8:AG$10)>0,$E202*$H202,0)","v":0},null,{"$f":"IF(SUM(AI$8:AI$10)>0,$E202*$H202,0)","v":0},null,{"$f":"IF(SUM(AK$8:AK$10)>0,$E202*$H202,0)","v":0},null,{"$f":"IF(SUM(AM$8:AM$10)>0,$E202*$H202,0)","v":0},null,{"$f":"IF(SUM(AO$8:AO$10)>0,$E202*$H202,0)","v":0},null,{"$f":"IF(SUM(AQ$8:AQ$10)>0,$E202*$H202,0)","v":0},null,{"$f":"IF(SUM(AS$8:AS$10)>0,$E202*$H202,0)","v":0},null,{"$f":"IF(SUM(AU$8:AU$10)>0,$E202*$H202,0)","v":0},null,{"$f":"IF(SUM(AW$8:AW$10)>0,$E202*$H202,0)","v":0},null,{"$f":"IF(SUM(AY$8:AY$10)>0,$E202*$H202,0)","v":0},null,{"$f":"IF(SUM(BA$8:BA$10)>0,$E202*$H202,0)","v":0},null,{"$f":"IF(SUM(BC$8:BC$10)>0,$E202*$H202,0)","v":0},null,{"$f":"IF(SUM(BE$8:BE$10)>0,$E202*$H202,0)","v":0},null,{"$f":"IF(SUM(BG$8:BG$10)>0,$E202*$H202,0)","v":0},null,{"$f":"IF(SUM(BI$8:BI$10)>0,$E202*$H202,0)","v":0},null,{"$f":"IF(SUM(BK$8:BK$10)>0,$E202*$H202,0)","v":0},null,{"$f":"IF(SUM(BM$8:BM$10)>0,$E202*$H202,0)","v":0},null,{"$f":"IF(SUM(BO$8:BO$10)>0,$E202*$H202,0)","v":0},null,{"$f":"IF(SUM(BQ$8:BQ$10)>0,$E202*$H202,0)","v":0},null,{"$f":"IF(SUM(BS$8:BS$10)>0,$E202*$H202,0)","v":0},null,{"$f":"IF(SUM(BU$8:BU$10)>0,$E202*$H202,0)","v":0},null,{"$f":"IF(SUM(BW$8:BW$10)>0,$E202*$H202,0)","v":0},null,{"$f":"IF(SUM(BY$8:BY$10)>0,$E202*$H202,0)","v":0}]
[null,null,null,null,null,null,null,null,null,null,null,{"$f":"ROUND(IF(SUM(K$197:K$199)>0,$E203*$G203*$H203/$H$198,0),2)","v":0},null,{"$f":"ROUND(IF(SUM(M$197:M$199)>0,$E203*$G203*$H203/$H$198,0),2)","v":0},null,{"$f":"ROUND(IF(SUM(O$197:O$199)>0,$E203*$G203*$H203/$H$198,0),2)","v":0},null,{"$f":"ROUND(IF(SUM(Q$197:Q$199)>0,$E203*$G203*$H203/$H$198,0),2)","v":0},null,{"$f":"ROUND(IF(SUM(S$197:S$199)>0,$E203*$G203*$H203/$H$198,0),2)","v":0},null,{"$f":"ROUND(IF(SUM(U$197:U$199)>0,$E203*$G203*$H203/$H$198,0),2)","v":0},null,{"$f":"ROUND(IF(SUM(W$197:W$199)>0,$E203*$G203*$H203/$H$198,0),2)","v":0},null,{"$f":"ROUND(IF(SUM(Y$197:Y$199)>0,$E203*$G203*$H203/$H$198,0),2)","v":0},null,{"$f":"ROUND(IF(SUM(AA$197:AA$199)>0,$E203*$G203*$H203/$H$198,0),2)","v":0},null,{"$f":"ROUND(IF(SUM(AC$197:AC$199)>0,$E203*$G203*$H203/$H$198,0),2)","v":0},null,{"$f":"ROUND(IF(SUM(AE$197:AE$199)>0,$E203*$G203*$H203/$H$198,0),2)","v":0},null,{"$f":"ROUND(IF(SUM(AG$197:AG$199)>0,$E203*$G203*$H203/$H$198,0),2)","v":0},null,{"$f":"ROUND(IF(SUM(AI$197:AI$199)>0,$E203*$G203*$H203/$H$198,0),2)","v":0},null,{"$f":"ROUND(IF(SUM(AK$197:AK$199)>0,$E203*$G203*$H203/$H$198,0),2)","v":0},null,{"$f":"ROUND(IF(SUM(AM$197:AM$199)>0,$E203*$G203*$H203/$H$198,0),2)","v":0},null,{"$f":"ROUND(IF(SUM(AO$197:AO$199)>0,$E203*$G203*$H203/$H$198,0),2)","v":0},null,{"$f":"ROUND(IF(SUM(AQ$197:AQ$199)>0,$E203*$G203*$H203/$H$198,0),2)","v":0},null,{"$f":"ROUND(IF(SUM(AS$197:AS$199)>0,$E203*$G203*$H203/$H$198,0),2)","v":0},null,{"$f":"ROUND(IF(SUM(AU$197:AU$199)>0,$E203*$G203*$H203/$H$198,0),2)","v":0},null,{"$f":"ROUND(IF(SUM(AW$197:AW$199)>0,$E203*$G203*$H203/$H$198,0),2)","v":0},null,{"$f":"ROUND(IF(SUM(AY$197:AY$199)>0,$E203*$G203*$H203/$H$198,0),2)","v":0},null,{"$f":"ROUND(IF(SUM(BA$197:BA$199)>0,$E203*$G203*$H203/$H$198,0),2)","v":0},null,{"$f":"ROUND(IF(SUM(BC$197:BC$199)>0,$E203*$G203*$H203/$H$198,0),2)","v":0},null,{"$f":"ROUND(IF(SUM(BE$197:BE$199)>0,$E203*$G203*$H203/$H$198,0),2)","v":0},null,{"$f":"ROUND(IF(SUM(BG$197:BG$199)>0,$E203*$G203*$H203/$H$198,0),2)","v":0},null,{"$f":"ROUND(IF(SUM(BI$197:BI$199)>0,$E203*$G203*$H203/$H$198,0),2)","v":0},null,{"$f":"ROUND(IF(SUM(BK$197:BK$199)>0,$E203*$G203*$H203/$H$198,0),2)","v":0},null,{"$f":"ROUND(IF(SUM(BM$197:BM$199)>0,$E203*$G203*$H203/$H$198,0),2)","v":0},null,{"$f":"ROUND(IF(SUM(BO$197:BO$199)>0,$E203*$G203*$H203/$H$198,0),2)","v":0},null,{"$f":"ROUND(IF(SUM(BQ$197:BQ$199)>0,$E203*$G203*$H203/$H$198,0),2)","v":0},null,{"$f":"ROUND(IF(SUM(BS$197:BS$199)>0,$E203*$G203*$H203/$H$198,0),2)","v":0},null,{"$f":"ROUND(IF(SUM(BU$197:BU$199)>0,$E203*$G203*$H203/$H$198,0),2)","v":0},null,{"$f":"ROUND(IF(SUM(BW$197:BW$199)>0,$E203*$G203*$H203/$H$198,0),2)","v":0},null,{"$f":"ROUND(IF(SUM(BY$197:BY$199)>0,$E203*$G203*$H203/$H$198,0),2)","v":0}]
[null,null,null,null,null,null,null,null,null,null,null,{"$f":"ROUND(IF(SUM(K$197:K$199)>0,$E204*$G204*$H204/$H$198,0),2)","v":0},null,{"$f":"ROUND(IF(SUM(M$197:M$199)>0,$E204*$G204*$H204/$H$198,0),2)","v":0},null,{"$f":"ROUND(IF(SUM(O$197:O$199)>0,$E204*$G204*$H204/$H$198,0),2)","v":0},null,{"$f":"ROUND(IF(SUM(Q$197:Q$199)>0,$E204*$G204*$H204/$H$198,0),2)","v":0},null,{"$f":"ROUND(IF(SUM(S$197:S$199)>0,$E204*$G204*$H204/$H$198,0),2)","v":0},null,{"$f":"ROUND(IF(SUM(U$197:U$199)>0,$E204*$G204*$H204/$H$198,0),2)","v":0},null,{"$f":"ROUND(IF(SUM(W$197:W$199)>0,$E204*$G204*$H204/$H$198,0),2)","v":0},null,{"$f":"ROUND(IF(SUM(Y$197:Y$199)>0,$E204*$G204*$H204/$H$198,0),2)","v":0},null,{"$f":"ROUND(IF(SUM(AA$197:AA$199)>0,$E204*$G204*$H204/$H$198,0),2)","v":0},null,{"$f":"ROUND(IF(SUM(AC$197:AC$199)>0,$E204*$G204*$H204/$H$198,0),2)","v":0},null,{"$f":"ROUND(IF(SUM(AE$197:AE$199)>0,$E204*$G204*$H204/$H$198,0),2)","v":0},null,{"$f":"ROUND(IF(SUM(AG$197:AG$199)>0,$E204*$G204*$H204/$H$198,0),2)","v":0},null,{"$f":"ROUND(IF(SUM(AI$197:AI$199)>0,$E204*$G204*$H204/$H$198,0),2)","v":0},null,{"$f":"ROUND(IF(SUM(AK$197:AK$199)>0,$E204*$G204*$H204/$H$198,0),2)","v":0},null,{"$f":"ROUND(IF(SUM(AM$197:AM$199)>0,$E204*$G204*$H204/$H$198,0),2)","v":0},null,{"$f":"ROUND(IF(SUM(AO$197:AO$199)>0,$E204*$G204*$H204/$H$198,0),2)","v":0},null,{"$f":"ROUND(IF(SUM(AQ$197:AQ$199)>0,$E204*$G204*$H204/$H$198,0),2)","v":0},null,{"$f":"ROUND(IF(SUM(AS$197:AS$199)>0,$E204*$G204*$H204/$H$198,0),2)","v":0},null,{"$f":"ROUND(IF(SUM(AU$197:AU$199)>0,$E204*$G204*$H204/$H$198,0),2)","v":0},null,{"$f":"ROUND(IF(SUM(AW$197:AW$199)>0,$E204*$G204*$H204/$H$198,0),2)","v":0},null,{"$f":"ROUND(IF(SUM(AY$197:AY$199)>0,$E204*$G204*$H204/$H$198,0),2)","v":0},null,{"$f":"ROUND(IF(SUM(BA$197:BA$199)>0,$E204*$G204*$H204/$H$198,0),2)","v":0},null,{"$f":"ROUND(IF(SUM(BC$197:BC$199)>0,$E204*$G204*$H204/$H$198,0),2)","v":0},null,{"$f":"ROUND(IF(SUM(BE$197:BE$199)>0,$E204*$G204*$H204/$H$198,0),2)","v":0},null,{"$f":"ROUND(IF(SUM(BG$197:BG$199)>0,$E204*$G204*$H204/$H$198,0),2)","v":0},null,{"$f":"ROUND(IF(SUM(BI$197:BI$199)>0,$E204*$G204*$H204/$H$198,0),2)","v":0},null,{"$f":"ROUND(IF(SUM(BK$197:BK$199)>0,$E204*$G204*$H204/$H$198,0),2)","v":0},null,{"$f":"ROUND(IF(SUM(BM$197:BM$199)>0,$E204*$G204*$H204/$H$198,0),2)","v":0},null,{"$f":"ROUND(IF(SUM(BO$197:BO$199)>0,$E204*$G204*$H204/$H$198,0),2)","v":0},null,{"$f":"ROUND(IF(SUM(BQ$197:BQ$199)>0,$E204*$G204*$H204/$H$198,0),2)","v":0},null,{"$f":"ROUND(IF(SUM(BS$197:BS$199)>0,$E204*$G204*$H204/$H$198,0),2)","v":0},null,{"$f":"ROUND(IF(SUM(BU$197:BU$199)>0,$E204*$G204*$H204/$H$198,0),2)","v":0},null,{"$f":"ROUND(IF(SUM(BW$197:BW$199)>0,$E204*$G204*$H204/$H$198,0),2)","v":0},null,{"$f":"ROUND(IF(SUM(BY$197:BY$199)>0,$E204*$G204*$H204/$H$198,0),2)","v":0}]
[null,null,null,null,null,null,null,null,null,null,null,{"$f":"ROUND(IF(SUM(K$197:K$199)>0,$E205*$G205*$H205/$H$198,0),2)","v":0},null,{"$f":"ROUND(IF(SUM(M$197:M$199)>0,$E205*$G205*$H205/$H$198,0),2)","v":0},null,{"$f":"ROUND(IF(SUM(O$197:O$199)>0,$E205*$G205*$H205/$H$198,0),2)","v":0},null,{"$f":"ROUND(IF(SUM(Q$197:Q$199)>0,$E205*$G205*$H205/$H$198,0),2)","v":0},null,{"$f":"ROUND(IF(SUM(S$197:S$199)>0,$E205*$G205*$H205/$H$198,0),2)","v":0},null,{"$f":"ROUND(IF(SUM(U$197:U$199)>0,$E205*$G205*$H205/$H$198,0),2)","v":0},null,{"$f":"ROUND(IF(SUM(W$197:W$199)>0,$E205*$G205*$H205/$H$198,0),2)","v":0},null,{"$f":"ROUND(IF(SUM(Y$197:Y$199)>0,$E205*$G205*$H205/$H$198,0),2)","v":0},null,{"$f":"ROUND(IF(SUM(AA$197:AA$199)>0,$E205*$G205*$H205/$H$198,0),2)","v":0},null,{"$f":"ROUND(IF(SUM(AC$197:AC$199)>0,$E205*$G205*$H205/$H$198,0),2)","v":0},null,{"$f":"ROUND(IF(SUM(AE$197:AE$199)>0,$E205*$G205*$H205/$H$198,0),2)","v":0},null,{"$f":"ROUND(IF(SUM(AG$197:AG$199)>0,$E205*$G205*$H205/$H$198,0),2)","v":0},null,{"$f":"ROUND(IF(SUM(AI$197:AI$199)>0,$E205*$G205*$H205/$H$198,0),2)","v":0},null,{"$f":"ROUND(IF(SUM(AK$197:AK$199)>0,$E205*$G205*$H205/$H$198,0),2)","v":0},null,{"$f":"ROUND(IF(SUM(AM$197:AM$199)>0,$E205*$G205*$H205/$H$198,0),2)","v":0},null,{"$f":"ROUND(IF(SUM(AO$197:AO$199)>0,$E205*$G205*$H205/$H$198,0),2)","v":0},null,{"$f":"ROUND(IF(SUM(AQ$197:AQ$199)>0,$E205*$G205*$H205/$H$198,0),2)","v":0},null,{"$f":"ROUND(IF(SUM(AS$197:AS$199)>0,$E205*$G205*$H205/$H$198,0),2)","v":0},null,{"$f":"ROUND(IF(SUM(AU$197:AU$199)>0,$E205*$G205*$H205/$H$198,0),2)","v":0},null,{"$f":"ROUND(IF(SUM(AW$197:AW$199)>0,$E205*$G205*$H205/$H$198,0),2)","v":0},null,{"$f":"ROUND(IF(SUM(AY$197:AY$199)>0,$E205*$G205*$H205/$H$198,0),2)","v":0},null,{"$f":"ROUND(IF(SUM(BA$197:BA$199)>0,$E205*$G205*$H205/$H$198,0),2)","v":0},null,{"$f":"ROUND(IF(SUM(BC$197:BC$199)>0,$E205*$G205*$H205/$H$198,0),2)","v":0},null,{"$f":"ROUND(IF(SUM(BE$197:BE$199)>0,$E205*$G205*$H205/$H$198,0),2)","v":0},null,{"$f":"ROUND(IF(SUM(BG$197:BG$199)>0,$E205*$G205*$H205/$H$198,0),2)","v":0},null,{"$f":"ROUND(IF(SUM(BI$197:BI$199)>0,$E205*$G205*$H205/$H$198,0),2)","v":0},null,{"$f":"ROUND(IF(SUM(BK$197:BK$199)>0,$E205*$G205*$H205/$H$198,0),2)","v":0},null,{"$f":"ROUND(IF(SUM(BM$197:BM$199)>0,$E205*$G205*$H205/$H$198,0),2)","v":0},null,{"$f":"ROUND(IF(SUM(BO$197:BO$199)>0,$E205*$G205*$H205/$H$198,0),2)","v":0},null,{"$f":"ROUND(IF(SUM(BQ$197:BQ$199)>0,$E205*$G205*$H205/$H$198,0),2)","v":0},null,{"$f":"ROUND(IF(SUM(BS$197:BS$199)>0,$E205*$G205*$H205/$H$198,0),2)","v":0},null,{"$f":"ROUND(IF(SUM(BU$197:BU$199)>0,$E205*$G205*$H205/$H$198,0),2)","v":0},null,{"$f":"ROUND(IF(SUM(BW$197:BW$199)>0,$E205*$G205*$H205/$H$198,0),2)","v":0},null,{"$f":"ROUND(IF(SUM(BY$197:BY$199)>0,$E205*$G205*$H205/$H$198,0),2)","v":0}]
[null,null,null,null,null,null,null,null,null,null,null,{"$f":"ROUND(IF(SUM(K$197:K$199)>0,$E206*$G206*$H206/$H$198,0),2)","v":0},null,{"$f":"ROUND(IF(SUM(M$197:M$199)>0,$E206*$G206*$H206/$H$198,0),2)","v":0},null,{"$f":"ROUND(IF(SUM(O$197:O$199)>0,$E206*$G206*$H206/$H$198,0),2)","v":0},null,{"$f":"ROUND(IF(SUM(Q$197:Q$199)>0,$E206*$G206*$H206/$H$198,0),2)","v":0},null,{"$f":"ROUND(IF(SUM(S$197:S$199)>0,$E206*$G206*$H206/$H$198,0),2)","v":0},null,{"$f":"ROUND(IF(SUM(U$197:U$199)>0,$E206*$G206*$H206/$H$198,0),2)","v":0},null,{"$f":"ROUND(IF(SUM(W$197:W$199)>0,$E206*$G206*$H206/$H$198,0),2)","v":0},null,{"$f":"ROUND(IF(SUM(Y$197:Y$199)>0,$E206*$G206*$H206/$H$198,0),2)","v":0},null,{"$f":"ROUND(IF(SUM(AA$197:AA$199)>0,$E206*$G206*$H206/$H$198,0),2)","v":0},null,{"$f":"ROUND(IF(SUM(AC$197:AC$199)>0,$E206*$G206*$H206/$H$198,0),2)","v":0},null,{"$f":"ROUND(IF(SUM(AE$197:AE$199)>0,$E206*$G206*$H206/$H$198,0),2)","v":0},null,{"$f":"ROUND(IF(SUM(AG$197:AG$199)>0,$E206*$G206*$H206/$H$198,0),2)","v":0},null,{"$f":"ROUND(IF(SUM(AI$197:AI$199)>0,$E206*$G206*$H206/$H$198,0),2)","v":0},null,{"$f":"ROUND(IF(SUM(AK$197:AK$199)>0,$E206*$G206*$H206/$H$198,0),2)","v":0},null,{"$f":"ROUND(IF(SUM(AM$197:AM$199)>0,$E206*$G206*$H206/$H$198,0),2)","v":0},null,{"$f":"ROUND(IF(SUM(AO$197:AO$199)>0,$E206*$G206*$H206/$H$198,0),2)","v":0},null,{"$f":"ROUND(IF(SUM(AQ$197:AQ$199)>0,$E206*$G206*$H206/$H$198,0),2)","v":0},null,{"$f":"ROUND(IF(SUM(AS$197:AS$199)>0,$E206*$G206*$H206/$H$198,0),2)","v":0},null,{"$f":"ROUND(IF(SUM(AU$197:AU$199)>0,$E206*$G206*$H206/$H$198,0),2)","v":0},null,{"$f":"ROUND(IF(SUM(AW$197:AW$199)>0,$E206*$G206*$H206/$H$198,0),2)","v":0},null,{"$f":"ROUND(IF(SUM(AY$197:AY$199)>0,$E206*$G206*$H206/$H$198,0),2)","v":0},null,{"$f":"ROUND(IF(SUM(BA$197:BA$199)>0,$E206*$G206*$H206/$H$198,0),2)","v":0},null,{"$f":"ROUND(IF(SUM(BC$197:BC$199)>0,$E206*$G206*$H206/$H$198,0),2)","v":0},null,{"$f":"ROUND(IF(SUM(BE$197:BE$199)>0,$E206*$G206*$H206/$H$198,0),2)","v":0},null,{"$f":"ROUND(IF(SUM(BG$197:BG$199)>0,$E206*$G206*$H206/$H$198,0),2)","v":0},null,{"$f":"ROUND(IF(SUM(BI$197:BI$199)>0,$E206*$G206*$H206/$H$198,0),2)","v":0},null,{"$f":"ROUND(IF(SUM(BK$197:BK$199)>0,$E206*$G206*$H206/$H$198,0),2)","v":0},null,{"$f":"ROUND(IF(SUM(BM$197:BM$199)>0,$E206*$G206*$H206/$H$198,0),2)","v":0},null,{"$f":"ROUND(IF(SUM(BO$197:BO$199)>0,$E206*$G206*$H206/$H$198,0),2)","v":0},null,{"$f":"ROUND(IF(SUM(BQ$197:BQ$199)>0,$E206*$G206*$H206/$H$198,0),2)","v":0},null,{"$f":"ROUND(IF(SUM(BS$197:BS$199)>0,$E206*$G206*$H206/$H$198,0),2)","v":0},null,{"$f":"ROUND(IF(SUM(BU$197:BU$199)>0,$E206*$G206*$H206/$H$198,0),2)","v":0},null,{"$f":"ROUND(IF(SUM(BW$197:BW$199)>0,$E206*$G206*$H206/$H$198,0),2)","v":0},null,{"$f":"ROUND(IF(SUM(BY$197:BY$199)>0,$E206*$G206*$H206/$H$198,0),2)","v":0}]
[null,null,null,null,null,null,null,null,null,null,null,{"$f":"ROUND(IF(SUM(K$197:K$199)>0,$E207*$G207*$H207/$H$198,0),2)","v":0},null,{"$f":"ROUND(IF(SUM(M$197:M$199)>0,$E207*$G207*$H207/$H$198,0),2)","v":0},null,{"$f":"ROUND(IF(SUM(O$197:O$199)>0,$E207*$G207*$H207/$H$198,0),2)","v":0},null,{"$f":"ROUND(IF(SUM(Q$197:Q$199)>0,$E207*$G207*$H207/$H$198,0),2)","v":0},null,{"$f":"ROUND(IF(SUM(S$197:S$199)>0,$E207*$G207*$H207/$H$198,0),2)","v":0},null,{"$f":"ROUND(IF(SUM(U$197:U$199)>0,$E207*$G207*$H207/$H$198,0),2)","v":0},null,{"$f":"ROUND(IF(SUM(W$197:W$199)>0,$E207*$G207*$H207/$H$198,0),2)","v":0},null,{"$f":"ROUND(IF(SUM(Y$197:Y$199)>0,$E207*$G207*$H207/$H$198,0),2)","v":0},null,{"$f":"ROUND(IF(SUM(AA$197:AA$199)>0,$E207*$G207*$H207/$H$198,0),2)","v":0},null,{"$f":"ROUND(IF(SUM(AC$197:AC$199)>0,$E207*$G207*$H207/$H$198,0),2)","v":0},null,{"$f":"ROUND(IF(SUM(AE$197:AE$199)>0,$E207*$G207*$H207/$H$198,0),2)","v":0},null,{"$f":"ROUND(IF(SUM(AG$197:AG$199)>0,$E207*$G207*$H207/$H$198,0),2)","v":0},null,{"$f":"ROUND(IF(SUM(AI$197:AI$199)>0,$E207*$G207*$H207/$H$198,0),2)","v":0},null,{"$f":"ROUND(IF(SUM(AK$197:AK$199)>0,$E207*$G207*$H207/$H$198,0),2)","v":0},null,{"$f":"ROUND(IF(SUM(AM$197:AM$199)>0,$E207*$G207*$H207/$H$198,0),2)","v":0},null,{"$f":"ROUND(IF(SUM(AO$197:AO$199)>0,$E207*$G207*$H207/$H$198,0),2)","v":0},null,{"$f":"ROUND(IF(SUM(AQ$197:AQ$199)>0,$E207*$G207*$H207/$H$198,0),2)","v":0},null,{"$f":"ROUND(IF(SUM(AS$197:AS$199)>0,$E207*$G207*$H207/$H$198,0),2)","v":0},null,{"$f":"ROUND(IF(SUM(AU$197:AU$199)>0,$E207*$G207*$H207/$H$198,0),2)","v":0},null,{"$f":"ROUND(IF(SUM(AW$197:AW$199)>0,$E207*$G207*$H207/$H$198,0),2)","v":0},null,{"$f":"ROUND(IF(SUM(AY$197:AY$199)>0,$E207*$G207*$H207/$H$198,0),2)","v":0},null,{"$f":"ROUND(IF(SUM(BA$197:BA$199)>0,$E207*$G207*$H207/$H$198,0),2)","v":0},null,{"$f":"ROUND(IF(SUM(BC$197:BC$199)>0,$E207*$G207*$H207/$H$198,0),2)","v":0},null,{"$f":"ROUND(IF(SUM(BE$197:BE$199)>0,$E207*$G207*$H207/$H$198,0),2)","v":0},null,{"$f":"ROUND(IF(SUM(BG$197:BG$199)>0,$E207*$G207*$H207/$H$198,0),2)","v":0},null,{"$f":"ROUND(IF(SUM(BI$197:BI$199)>0,$E207*$G207*$H207/$H$198,0),2)","v":0},null,{"$f":"ROUND(IF(SUM(BK$197:BK$199)>0,$E207*$G207*$H207/$H$198,0),2)","v":0},null,{"$f":"ROUND(IF(SUM(BM$197:BM$199)>0,$E207*$G207*$H207/$H$198,0),2)","v":0},null,{"$f":"ROUND(IF(SUM(BO$197:BO$199)>0,$E207*$G207*$H207/$H$198,0),2)","v":0},null,{"$f":"ROUND(IF(SUM(BQ$197:BQ$199)>0,$E207*$G207*$H207/$H$198,0),2)","v":0},null,{"$f":"ROUND(IF(SUM(BS$197:BS$199)>0,$E207*$G207*$H207/$H$198,0),2)","v":0},null,{"$f":"ROUND(IF(SUM(BU$197:BU$199)>0,$E207*$G207*$H207/$H$198,0),2)","v":0},null,{"$f":"ROUND(IF(SUM(BW$197:BW$199)>0,$E207*$G207*$H207/$H$198,0),2)","v":0},null,{"$f":"ROUND(IF(SUM(BY$197:BY$199)>0,$E207*$G207*$H207/$H$198,0),2)","v":0}]
[]
[null,null,"CATEGORIAS",null,null,null,null,"QUANTIDADE"]
[null,null,null,null,null,null,null,null,null,null,{"$f":"IF($C210=K$4,1,0)","v":0},null,{"$f":"IF($C210=M$4,1,0)","v":0},null,{"$f":"IF($C210=O$4,1,0)","v":0},null,{"$f":"IF($C210=Q$4,1,0)","v":0},null,{"$f":"IF($C210=S$4,1,0)","v":0},null,{"$f":"IF($C210=U$4,1,0)","v":0},null,{"$f":"IF($C210=W$4,1,0)","v":0},null,{"$f":"IF($C210=Y$4,1,0)","v":0},null,{"$f":"IF($C210=AA$4,1,0)","v":0},null,{"$f":"IF($C210=AC$4,1,0)","v":0},null,{"$f":"IF($C210=AE$4,1,0)","v":0},null,{"$f":"IF($C210=AG$4,1,0)","v":0},null,{"$f":"IF($C210=AI$4,1,0)","v":0},null,{"$f":"IF($C210=AK$4,1,0)","v":0},null,{"$f":"IF($C210=AM$4,1,0)","v":0},null,{"$f":"IF($C210=AO$4,1,0)","v":0},null,{"$f":"IF($C210=AQ$4,1,0)","v":0},null,{"$f":"IF($C210=AS$4,1,0)","v":0},null,{"$f":"IF($C210=AU$4,1,0)","v":0},null,{"$f":"IF($C210=AW$4,1,0)","v":0},null,{"$f":"IF($C210=AY$4,1,0)","v":0},null,{"$f":"IF($C210=BA$4,1,0)","v":0},null,{"$f":"IF($C210=BC$4,1,0)","v":0},null,{"$f":"IF($C210=BE$4,1,0)","v":0},null,{"$f":"IF($C210=BG$4,1,0)","v":0},null,{"$f":"IF($C210=BI$4,1,0)","v":0},null,{"$f":"IF($C210=BK$4,1,0)","v":0},null,{"$f":"IF($C210=BM$4,1,0)","v":0},null,{"$f":"IF($C210=BO$4,1,0)","v":0},null,{"$f":"IF($C210=BQ$4,1,0)","v":0},null,{"$f":"IF($C210=BS$4,1,0)","v":0},null,{"$f":"IF($C210=BU$4,1,0)","v":0},null,{"$f":"IF($C210=BW$4,1,0)","v":0},null,{"$f":"IF($C210=BY$4,1,0)","v":0}]
[null,null,null,{"$f":"HLOOKUP($C211,'Dados Gerais'!$D$6:$BI$11,6)","v":{"$error":"#N/A"}},null,null,null,{"$f":"HLOOKUP($C211,'Dados Gerais'!$D$6:$BI$15,10)","v":{"$error":"#N/A"}},null,null,{"$f":"IF($C211=K$4,1,0)","v":0},null,{"$f":"IF($C211=M$4,1,0)","v":0},null,{"$f":"IF($C211=O$4,1,0)","v":0},null,{"$f":"IF($C211=Q$4,1,0)","v":0},null,{"$f":"IF($C211=S$4,1,0)","v":0},null,{"$f":"IF($C211=U$4,1,0)","v":0},null,{"$f":"IF($C211=W$4,1,0)","v":0},null,{"$f":"IF($C211=Y$4,1,0)","v":0},null,{"$f":"IF($C211=AA$4,1,0)","v":0},null,{"$f":"IF($C211=AC$4,1,0)","v":0},null,{"$f":"IF($C211=AE$4,1,0)","v":0},null,{"$f":"IF($C211=AG$4,1,0)","v":0},null,{"$f":"IF($C211=AI$4,1,0)","v":0},null,{"$f":"IF($C211=AK$4,1,0)","v":0},null,{"$f":"IF($C211=AM$4,1,0)","v":0},null,{"$f":"IF($C211=AO$4,1,0)","v":0},null,{"$f":"IF($C211=AQ$4,1,0)","v":0},null,{"$f":"IF($C211=AS$4,1,0)","v":0},null,{"$f":"IF($C211=AU$4,1,0)","v":0},null,{"$f":"IF($C211=AW$4,1,0)","v":0},null,{"$f":"IF($C211=AY$4,1,0)","v":0},null,{"$f":"IF($C211=BA$4,1,0)","v":0},null,{"$f":"IF($C211=BC$4,1,0)","v":0},null,{"$f":"IF($C211=BE$4,1,0)","v":0},null,{"$f":"IF($C211=BG$4,1,0)","v":0},null,{"$f":"IF($C211=BI$4,1,0)","v":0},null,{"$f":"IF($C211=BK$4,1,0)","v":0},null,{"$f":"IF($C211=BM$4,1,0)","v":0},null,{"$f":"IF($C211=BO$4,1,0)","v":0},null,{"$f":"IF($C211=BQ$4,1,0)","v":0},null,{"$f":"IF($C211=BS$4,1,0)","v":0},null,{"$f":"IF($C211=BU$4,1,0)","v":0},null,{"$f":"IF($C211=BW$4,1,0)","v":0},null,{"$f":"IF($C211=BY$4,1,0)","v":0}]
[null,null,null,null,null,null,null,null,null,null,{"$f":"IF($C212=K$4,1,0)","v":0},null,{"$f":"IF($C212=M$4,1,0)","v":0},null,{"$f":"IF($C212=O$4,1,0)","v":0},null,{"$f":"IF($C212=Q$4,1,0)","v":0},null,{"$f":"IF($C212=S$4,1,0)","v":0},null,{"$f":"IF($C212=U$4,1,0)","v":0},null,{"$f":"IF($C212=W$4,1,0)","v":0},null,{"$f":"IF($C212=Y$4,1,0)","v":0},null,{"$f":"IF($C212=AA$4,1,0)","v":0},null,{"$f":"IF($C212=AC$4,1,0)","v":0},null,{"$f":"IF($C212=AE$4,1,0)","v":0},null,{"$f":"IF($C212=AG$4,1,0)","v":0},null,{"$f":"IF($C212=AI$4,1,0)","v":0},null,{"$f":"IF($C212=AK$4,1,0)","v":0},null,{"$f":"IF($C212=AM$4,1,0)","v":0},null,{"$f":"IF($C212=AO$4,1,0)","v":0},null,{"$f":"IF($C212=AQ$4,1,0)","v":0},null,{"$f":"IF($C212=AS$4,1,0)","v":0},null,{"$f":"IF($C212=AU$4,1,0)","v":0},null,{"$f":"IF($C212=AW$4,1,0)","v":0},null,{"$f":"IF($C212=AY$4,1,0)","v":0},null,{"$f":"IF($C212=BA$4,1,0)","v":0},null,{"$f":"IF($C212=BC$4,1,0)","v":0},null,{"$f":"IF($C212=BE$4,1,0)","v":0},null,{"$f":"IF($C212=BG$4,1,0)","v":0},null,{"$f":"IF($C212=BI$4,1,0)","v":0},null,{"$f":"IF($C212=BK$4,1,0)","v":0},null,{"$f":"IF($C212=BM$4,1,0)","v":0},null,{"$f":"IF($C212=BO$4,1,0)","v":0},null,{"$f":"IF($C212=BQ$4,1,0)","v":0},null,{"$f":"IF($C212=BS$4,1,0)","v":0},null,{"$f":"IF($C212=BU$4,1,0)","v":0},null,{"$f":"IF($C212=BW$4,1,0)","v":0},null,{"$f":"IF($C212=BY$4,1,0)","v":0}]
[]
[null,null,"ITEM","DESCRIÇÃO","QUANT ANUAL POR POSTO","UNIDADE","QUANT DE POSTOS","VALOR"]
[null,null,null,null,null,null,null,null,null,null,null,{"$f":"IF(SUM(K$8:K$10)>0,$E215*$H215,0)","v":0},null,{"$f":"IF(SUM(M$8:M$10)>0,$E215*$H215,0)","v":0},null,{"$f":"IF(SUM(O$8:O$10)>0,$E215*$H215,0)","v":0},null,{"$f":"IF(SUM(Q$8:Q$10)>0,$E215*$H215,0)","v":0},null,{"$f":"IF(SUM(S$8:S$10)>0,$E215*$H215,0)","v":0},null,{"$f":"IF(SUM(U$8:U$10)>0,$E215*$H215,0)","v":0},null,{"$f":"IF(SUM(W$8:W$10)>0,$E215*$H215,0)","v":0},null,{"$f":"IF(SUM(Y$8:Y$10)>0,$E215*$H215,0)","v":0},null,{"$f":"IF(SUM(AA$8:AA$10)>0,$E215*$H215,0)","v":0},null,{"$f":"IF(SUM(AC$8:AC$10)>0,$E215*$H215,0)","v":0},null,{"$f":"IF(SUM(AE$8:AE$10)>0,$E215*$H215,0)","v":0},null,{"$f":"IF(SUM(AG$8:AG$10)>0,$E215*$H215,0)","v":0},null,{"$f":"IF(SUM(AI$8:AI$10)>0,$E215*$H215,0)","v":0},null,{"$f":"IF(SUM(AK$8:AK$10)>0,$E215*$H215,0)","v":0},null,{"$f":"IF(SUM(AM$8:AM$10)>0,$E215*$H215,0)","v":0},null,{"$f":"IF(SUM(AO$8:AO$10)>0,$E215*$H215,0)","v":0},null,{"$f":"IF(SUM(AQ$8:AQ$10)>0,$E215*$H215,0)","v":0},null,{"$f":"IF(SUM(AS$8:AS$10)>0,$E215*$H215,0)","v":0},null,{"$f":"IF(SUM(AU$8:AU$10)>0,$E215*$H215,0)","v":0},null,{"$f":"IF(SUM(AW$8:AW$10)>0,$E215*$H215,0)","v":0},null,{"$f":"IF(SUM(AY$8:AY$10)>0,$E215*$H215,0)","v":0},null,{"$f":"IF(SUM(BA$8:BA$10)>0,$E215*$H215,0)","v":0},null,{"$f":"IF(SUM(BC$8:BC$10)>0,$E215*$H215,0)","v":0},null,{"$f":"IF(SUM(BE$8:BE$10)>0,$E215*$H215,0)","v":0},null,{"$f":"IF(SUM(BG$8:BG$10)>0,$E215*$H215,0)","v":0},null,{"$f":"IF(SUM(BI$8:BI$10)>0,$E215*$H215,0)","v":0},null,{"$f":"IF(SUM(BK$8:BK$10)>0,$E215*$H215,0)","v":0},null,{"$f":"IF(SUM(BM$8:BM$10)>0,$E215*$H215,0)","v":0},null,{"$f":"IF(SUM(BO$8:BO$10)>0,$E215*$H215,0)","v":0},null,{"$f":"IF(SUM(BQ$8:BQ$10)>0,$E215*$H215,0)","v":0},null,{"$f":"IF(SUM(BS$8:BS$10)>0,$E215*$H215,0)","v":0},null,{"$f":"IF(SUM(BU$8:BU$10)>0,$E215*$H215,0)","v":0},null,{"$f":"IF(SUM(BW$8:BW$10)>0,$E215*$H215,0)","v":0},null,{"$f":"IF(SUM(BY$8:BY$10)>0,$E215*$H215,0)","v":0}]
[null,null,null,null,null,null,null,null,null,null,null,{"$f":"ROUND(IF(SUM(K$210:K$212)>0,$E216*$G216*$H216/$H$211,0),2)","v":0},null,{"$f":"ROUND(IF(SUM(M$210:M$212)>0,$E216*$G216*$H216/$H$211,0),2)","v":0},null,{"$f":"ROUND(IF(SUM(O$210:O$212)>0,$E216*$G216*$H216/$H$211,0),2)","v":0},null,{"$f":"ROUND(IF(SUM(Q$210:Q$212)>0,$E216*$G216*$H216/$H$211,0),2)","v":0},null,{"$f":"ROUND(IF(SUM(S$210:S$212)>0,$E216*$G216*$H216/$H$211,0),2)","v":0},null,{"$f":"ROUND(IF(SUM(U$210:U$212)>0,$E216*$G216*$H216/$H$211,0),2)","v":0},null,{"$f":"ROUND(IF(SUM(W$210:W$212)>0,$E216*$G216*$H216/$H$211,0),2)","v":0},null,{"$f":"ROUND(IF(SUM(Y$210:Y$212)>0,$E216*$G216*$H216/$H$211,0),2)","v":0},null,{"$f":"ROUND(IF(SUM(AA$210:AA$212)>0,$E216*$G216*$H216/$H$211,0),2)","v":0},null,{"$f":"ROUND(IF(SUM(AC$210:AC$212)>0,$E216*$G216*$H216/$H$211,0),2)","v":0},null,{"$f":"ROUND(IF(SUM(AE$210:AE$212)>0,$E216*$G216*$H216/$H$211,0),2)","v":0},null,{"$f":"ROUND(IF(SUM(AG$210:AG$212)>0,$E216*$G216*$H216/$H$211,0),2)","v":0},null,{"$f":"ROUND(IF(SUM(AI$210:AI$212)>0,$E216*$G216*$H216/$H$211,0),2)","v":0},null,{"$f":"ROUND(IF(SUM(AK$210:AK$212)>0,$E216*$G216*$H216/$H$211,0),2)","v":0},null,{"$f":"ROUND(IF(SUM(AM$210:AM$212)>0,$E216*$G216*$H216/$H$211,0),2)","v":0},null,{"$f":"ROUND(IF(SUM(AO$210:AO$212)>0,$E216*$G216*$H216/$H$211,0),2)","v":0},null,{"$f":"ROUND(IF(SUM(AQ$210:AQ$212)>0,$E216*$G216*$H216/$H$211,0),2)","v":0},null,{"$f":"ROUND(IF(SUM(AS$210:AS$212)>0,$E216*$G216*$H216/$H$211,0),2)","v":0},null,{"$f":"ROUND(IF(SUM(AU$210:AU$212)>0,$E216*$G216*$H216/$H$211,0),2)","v":0},null,{"$f":"ROUND(IF(SUM(AW$210:AW$212)>0,$E216*$G216*$H216/$H$211,0),2)","v":0},null,{"$f":"ROUND(IF(SUM(AY$210:AY$212)>0,$E216*$G216*$H216/$H$211,0),2)","v":0},null,{"$f":"ROUND(IF(SUM(BA$210:BA$212)>0,$E216*$G216*$H216/$H$211,0),2)","v":0},null,{"$f":"ROUND(IF(SUM(BC$210:BC$212)>0,$E216*$G216*$H216/$H$211,0),2)","v":0},null,{"$f":"ROUND(IF(SUM(BE$210:BE$212)>0,$E216*$G216*$H216/$H$211,0),2)","v":0},null,{"$f":"ROUND(IF(SUM(BG$210:BG$212)>0,$E216*$G216*$H216/$H$211,0),2)","v":0},null,{"$f":"ROUND(IF(SUM(BI$210:BI$212)>0,$E216*$G216*$H216/$H$211,0),2)","v":0},null,{"$f":"ROUND(IF(SUM(BK$210:BK$212)>0,$E216*$G216*$H216/$H$211,0),2)","v":0},null,{"$f":"ROUND(IF(SUM(BM$210:BM$212)>0,$E216*$G216*$H216/$H$211,0),2)","v":0},null,{"$f":"ROUND(IF(SUM(BO$210:BO$212)>0,$E216*$G216*$H216/$H$211,0),2)","v":0},null,{"$f":"ROUND(IF(SUM(BQ$210:BQ$212)>0,$E216*$G216*$H216/$H$211,0),2)","v":0},null,{"$f":"ROUND(IF(SUM(BS$210:BS$212)>0,$E216*$G216*$H216/$H$211,0),2)","v":0},null,{"$f":"ROUND(IF(SUM(BU$210:BU$212)>0,$E216*$G216*$H216/$H$211,0),2)","v":0},null,{"$f":"ROUND(IF(SUM(BW$210:BW$212)>0,$E216*$G216*$H216/$H$211,0),2)","v":0},null,{"$f":"ROUND(IF(SUM(BY$210:BY$212)>0,$E216*$G216*$H216/$H$211,0),2)","v":0}]
[null,null,null,null,null,null,null,null,null,null,null,0,null,0,null,0,null,0,null,0,null,0,null,0,null,0,null,0,null,0,null,0,null,0,null,0,null,0,null,0,null,0,null,0,null,0,null,0,null,0,null,0,null,0,null,0,null,0,null,0,null,0,null,0,null,0,null,0,null,0,null,0,null,0,null,0,null,0]
[null,null,null,null,null,null,null,null,null,null,null,0,null,0,null,0,null,0,null,0,null,0,null,0,null,0,null,0,null,0,null,0,null,0,null,0,null,0,null,0,null,0,null,0,null,0,null,0,null,0,null,0,null,0,null,0,null,0,null,0,null,0,null,0,null,0,null,0,null,0,null,0,null,0,null,0,null,0]
[null,null,null,null,null,null,null,null,null,null,null,0,null,0,null,0,null,0,null,0,null,0,null,0,null,0,null,0,null,0,null,0,null,0,null,0,null,0,null,0,null,0,null,0,null,0,null,0,null,0,null,0,null,0,null,0,null,0,null,0,null,0,null,0,null,0,null,0,null,0,null,0,null,0,null,0,null,0]
[null,null,null,null,null,null,null,null,null,null,null,0,null,0,null,0,null,0,null,0,null,0,null,0,null,0,null,0,null,0,null,0,null,0,null,0,null,0,null,0,null,0,null,0,null,0,null,0,null,0,null,0,null,0,null,0,null,0,null,0,null,0,null,0,null,0,null,0,null,0,null,0,null,0,null,0,null,0]
[null,null,null,null,null,null,null,null,null,null,null,0,null,0,null,0,null,0,null,0,null,0,null,0,null,0,null,0,null,0,null,0,null,0,null,0,null,0,null,0,null,0,null,0,null,0,null,0,null,0,null,0,null,0,null,0,null,0,null,0,null,0,null,0,null,0,null,0,null,0,null,0,null,0,null,0,null,0]
[null,null,null,null,null,null,null,null,null,null,null,0,null,0,null,0,null,0,null,0,null,0,null,0,null,0,null,0,null,0,null,0,null,0,null,0,null,0,null,0,null,0,null,0,null,0,null,0,null,0,null,0,null,0,null,0,null,0,null,0,null,0,null,0,null,0,null,0,null,0,null,0,null,0,null,0,null,0]
[null,null,null,null,null,null,null,null,null,null,null,0,null,0,null,0,null,0,null,0,null,0,null,0,null,0,null,0,null,0,null,0,null,0,null,0,null,0,null,0,null,0,null,0,null,0,null,0,null,0,null,0,null,0,null,0,null,0,null,0,null,0,null,0,null,0,null,0,null,0,null,0,null,0,null,0,null,0]
[null,null,null,null,null,null,null,null,null,null,null,0,null,0,null,0,null,0,null,0,null,0,null,0,null,0,null,0,null,0,null,0,null,0,null,0,null,0,null,0,null,0,null,0,null,0,null,0,null,0,null,0,null,0,null,0,null,0,null,0,null,0,null,0,null,0,null,0,null,0,null,0,null,0,null,0,null,0]
[null,null,null,null,null,null,null,null,null,null,null,0,null,0,null,0,null,0,null,0,null,0,null,0,null,0,null,0,null,0,null,0,null,0,null,0,null,0,null,0,null,0,null,0,null,0,null,0,null,0,null,0,null,0,null,0,null,0,null,0,null,0,null,0,null,0,null,0,null,0,null,0,null,0,null,0,null,0]
[null,null,null,null,null,null,null,null,null,null,null,0,null,0,null,0,null,0,null,0,null,0,null,0,null,0,null,0,null,0,null,0,null,0,null,0,null,0,null,0,null,0,null,0,null,0,null,0,null,0,null,0,null,0,null,0,null,0,null,0,null,0,null,0,null,0,null,0,null,0,null,0,null,0,null,0,null,0]
[]
[null,null,"CATEGORIAS",null,null,null,null,"QUANTIDADE"]
[null,null,null,null,null,null,null,null,null,null,{"$f":"IF($C229=K$4,1,0)","v":0},null,{"$f":"IF($C229=M$4,1,0)","v":0},null,{"$f":"IF($C229=O$4,1,0)","v":0},null,{"$f":"IF($C229=Q$4,1,0)","v":0},null,{"$f":"IF($C229=S$4,1,0)","v":0},null,{"$f":"IF($C229=U$4,1,0)","v":0},null,{"$f":"IF($C229=W$4,1,0)","v":0},null,{"$f":"IF($C229=Y$4,1,0)","v":0},null,{"$f":"IF($C229=AA$4,1,0)","v":0},null,{"$f":"IF($C229=AC$4,1,0)","v":0},null,{"$f":"IF($C229=AE$4,1,0)","v":0},null,{"$f":"IF($C229=AG$4,1,0)","v":0},null,{"$f":"IF($C229=AI$4,1,0)","v":0},null,{"$f":"IF($C229=AK$4,1,0)","v":0},null,{"$f":"IF($C229=AM$4,1,0)","v":0},null,{"$f":"IF($C229=AO$4,1,0)","v":0},null,{"$f":"IF($C229=AQ$4,1,0)","v":0},null,{"$f":"IF($C229=AS$4,1,0)","v":0},null,{"$f":"IF($C229=AU$4,1,0)","v":0},null,{"$f":"IF($C229=AW$4,1,0)","v":0},null,{"$f":"IF($C229=AY$4,1,0)","v":0},null,{"$f":"IF($C229=BA$4,1,0)","v":0},null,{"$f":"IF($C229=BC$4,1,0)","v":0},null,{"$f":"IF($C229=BE$4,1,0)","v":0},null,{"$f":"IF($C229=BG$4,1,0)","v":0},null,{"$f":"IF($C229=BI$4,1,0)","v":0},null,{"$f":"IF($C229=BK$4,1,0)","v":0},null,{"$f":"IF($C229=BM$4,1,0)","v":0},null,{"$f":"IF($C229=BO$4,1,0)","v":0},null,{"$f":"IF($C229=BQ$4,1,0)","v":0},null,{"$f":"IF($C229=BS$4,1,0)","v":0},null,{"$f":"IF($C229=BU$4,1,0)","v":0},null,{"$f":"IF($C229=BW$4,1,0)","v":0},null,{"$f":"IF($C229=BY$4,1,0)","v":0}]
[null,null,null,{"$f":"HLOOKUP($C230,'Dados Gerais'!$D$6:$BI$11,6)","v":{"$error":"#N/A"}},null,null,null,{"$f":"HLOOKUP($C230,'Dados Gerais'!$D$6:$BI$15,10)","v":{"$error":"#N/A"}},null,null,{"$f":"IF($C230=K$4,1,0)","v":0},null,{"$f":"IF($C230=M$4,1,0)","v":0},null,{"$f":"IF($C230=O$4,1,0)","v":0},null,{"$f":"IF($C230=Q$4,1,0)","v":0},null,{"$f":"IF($C230=S$4,1,0)","v":0},null,{"$f":"IF($C230=U$4,1,0)","v":0},null,{"$f":"IF($C230=W$4,1,0)","v":0},null,{"$f":"IF($C230=Y$4,1,0)","v":0},null,{"$f":"IF($C230=AA$4,1,0)","v":0},null,{"$f":"IF($C230=AC$4,1,0)","v":0},null,{"$f":"IF($C230=AE$4,1,0)","v":0},null,{"$f":"IF($C230=AG$4,1,0)","v":0},null,{"$f":"IF($C230=AI$4,1,0)","v":0},null,{"$f":"IF($C230=AK$4,1,0)","v":0},null,{"$f":"IF($C230=AM$4,1,0)","v":0},null,{"$f":"IF($C230=AO$4,1,0)","v":0},null,{"$f":"IF($C230=AQ$4,1,0)","v":0},null,{"$f":"IF($C230=AS$4,1,0)","v":0},null,{"$f":"IF($C230=AU$4,1,0)","v":0},null,{"$f":"IF($C230=AW$4,1,0)","v":0},null,{"$f":"IF($C230=AY$4,1,0)","v":0},null,{"$f":"IF($C230=BA$4,1,0)","v":0},null,{"$f":"IF($C230=BC$4,1,0)","v":0},null,{"$f":"IF($C230=BE$4,1,0)","v":0},null,{"$f":"IF($C230=BG$4,1,0)","v":0},null,{"$f":"IF($C230=BI$4,1,0)","v":0},null,{"$f":"IF($C230=BK$4,1,0)","v":0},null,{"$f":"IF($C230=BM$4,1,0)","v":0},null,{"$f":"IF($C230=BO$4,1,0)","v":0},null,{"$f":"IF($C230=BQ$4,1,0)","v":0},null,{"$f":"IF($C230=BS$4,1,0)","v":0},null,{"$f":"IF($C230=BU$4,1,0)","v":0},null,{"$f":"IF($C230=BW$4,1,0)","v":0},null,{"$f":"IF($C230=BY$4,1,0)","v":0}]
[null,null,null,null,null,null,null,null,null,null,{"$f":"IF($C231=K$4,1,0)","v":0},null,{"$f":"IF($C231=M$4,1,0)","v":0},null,{"$f":"IF($C231=O$4,1,0)","v":0},null,{"$f":"IF($C231=Q$4,1,0)","v":0},null,{"$f":"IF($C231=S$4,1,0)","v":0},null,{"$f":"IF($C231=U$4,1,0)","v":0},null,{"$f":"IF($C231=W$4,1,0)","v":0},null,{"$f":"IF($C231=Y$4,1,0)","v":0},null,{"$f":"IF($C231=AA$4,1,0)","v":0},null,{"$f":"IF($C231=AC$4,1,0)","v":0},null,{"$f":"IF($C231=AE$4,1,0)","v":0},null,{"$f":"IF($C231=AG$4,1,0)","v":0},null,{"$f":"IF($C231=AI$4,1,0)","v":0},null,{"$f":"IF($C231=AK$4,1,0)","v":0},null,{"$f":"IF($C231=AM$4,1,0)","v":0},null,{"$f":"IF($C231=AO$4,1,0)","v":0},null,{"$f":"IF($C231=AQ$4,1,0)","v":0},null,{"$f":"IF($C231=AS$4,1,0)","v":0},null,{"$f":"IF($C231=AU$4,1,0)","v":0},null,{"$f":"IF($C231=AW$4,1,0)","v":0},null,{"$f":"IF($C231=AY$4,1,0)","v":0},null,{"$f":"IF($C231=BA$4,1,0)","v":0},null,{"$f":"IF($C231=BC$4,1,0)","v":0},null,{"$f":"IF($C231=BE$4,1,0)","v":0},null,{"$f":"IF($C231=BG$4,1,0)","v":0},null,{"$f":"IF($C231=BI$4,1,0)","v":0},null,{"$f":"IF($C231=BK$4,1,0)","v":0},null,{"$f":"IF($C231=BM$4,1,0)","v":0},null,{"$f":"IF($C231=BO$4,1,0)","v":0},null,{"$f":"IF($C231=BQ$4,1,0)","v":0},null,{"$f":"IF($C231=BS$4,1,0)","v":0},null,{"$f":"IF($C231=BU$4,1,0)","v":0},null,{"$f":"IF($C231=BW$4,1,0)","v":0},null,{"$f":"IF($C231=BY$4,1,0)","v":0}]
[]
[null,null,"ITEM","DESCRIÇÃO","QUANT ANUAL POR POSTO","UNIDADE","QUANT DE POSTOS","VALOR"]
[null,null,null,null,null,null,null,null,null,null,null,{"$f":"IF(SUM(K$8:K$10)>0,$E234*$H234,0)","v":0},null,{"$f":"IF(SUM(M$8:M$10)>0,$E234*$H234,0)","v":0},null,{"$f":"IF(SUM(O$8:O$10)>0,$E234*$H234,0)","v":0},null,{"$f":"IF(SUM(Q$8:Q$10)>0,$E234*$H234,0)","v":0},null,{"$f":"IF(SUM(S$8:S$10)>0,$E234*$H234,0)","v":0},null,{"$f":"IF(SUM(U$8:U$10)>0,$E234*$H234,0)","v":0},null,{"$f":"IF(SUM(W$8:W$10)>0,$E234*$H234,0)","v":0},null,{"$f":"IF(SUM(Y$8:Y$10)>0,$E234*$H234,0)","v":0},null,{"$f":"IF(SUM(AA$8:AA$10)>0,$E234*$H234,0)","v":0},null,{"$f":"IF(SUM(AC$8:AC$10)>0,$E234*$H234,0)","v":0},null,{"$f":"IF(SUM(AE$8:AE$10)>0,$E234*$H234,0)","v":0},null,{"$f":"IF(SUM(AG$8:AG$10)>0,$E234*$H234,0)","v":0},null,{"$f":"IF(SUM(AI$8:AI$10)>0,$E234*$H234,0)","v":0},null,{"$f":"IF(SUM(AK$8:AK$10)>0,$E234*$H234,0)","v":0},null,{"$f":"IF(SUM(AM$8:AM$10)>0,$E234*$H234,0)","v":0},null,{"$f":"IF(SUM(AO$8:AO$10)>0,$E234*$H234,0)","v":0},null,{"$f":"IF(SUM(AQ$8:AQ$10)>0,$E234*$H234,0)","v":0},null,{"$f":"IF(SUM(AS$8:AS$10)>0,$E234*$H234,0)","v":0},null,{"$f":"IF(SUM(AU$8:AU$10)>0,$E234*$H234,0)","v":0},null,{"$f":"IF(SUM(AW$8:AW$10)>0,$E234*$H234,0)","v":0},null,{"$f":"IF(SUM(AY$8:AY$10)>0,$E234*$H234,0)","v":0},null,{"$f":"IF(SUM(BA$8:BA$10)>0,$E234*$H234,0)","v":0},null,{"$f":"IF(SUM(BC$8:BC$10)>0,$E234*$H234,0)","v":0},null,{"$f":"IF(SUM(BE$8:BE$10)>0,$E234*$H234,0)","v":0},null,{"$f":"IF(SUM(BG$8:BG$10)>0,$E234*$H234,0)","v":0},null,{"$f":"IF(SUM(BI$8:BI$10)>0,$E234*$H234,0)","v":0},null,{"$f":"IF(SUM(BK$8:BK$10)>0,$E234*$H234,0)","v":0},null,{"$f":"IF(SUM(BM$8:BM$10)>0,$E234*$H234,0)","v":0},null,{"$f":"IF(SUM(BO$8:BO$10)>0,$E234*$H234,0)","v":0},null,{"$f":"IF(SUM(BQ$8:BQ$10)>0,$E234*$H234,0)","v":0},null,{"$f":"IF(SUM(BS$8:BS$10)>0,$E234*$H234,0)","v":0},null,{"$f":"IF(SUM(BU$8:BU$10)>0,$E234*$H234,0)","v":0},null,{"$f":"IF(SUM(BW$8:BW$10)>0,$E234*$H234,0)","v":0},null,{"$f":"IF(SUM(BY$8:BY$10)>0,$E234*$H234,0)","v":0}]
[null,null,null,null,null,null,null,null,null,null,null,{"$f":"ROUND(IF(SUM(K$229:K$231)>0,$E235*$G235*$H235/$H$230,0),2)","v":0},null,{"$f":"ROUND(IF(SUM(M$229:M$231)>0,$E235*$G235*$H235/$H$230,0),2)","v":0},null,{"$f":"ROUND(IF(SUM(O$229:O$231)>0,$E235*$G235*$H235/$H$230,0),2)","v":0},null,{"$f":"ROUND(IF(SUM(Q$229:Q$231)>0,$E235*$G235*$H235/$H$230,0),2)","v":0},null,{"$f":"ROUND(IF(SUM(S$229:S$231)>0,$E235*$G235*$H235/$H$230,0),2)","v":0},null,{"$f":"ROUND(IF(SUM(U$229:U$231)>0,$E235*$G235*$H235/$H$230,0),2)","v":0},null,{"$f":"ROUND(IF(SUM(W$229:W$231)>0,$E235*$G235*$H235/$H$230,0),2)","v":0},null,{"$f":"ROUND(IF(SUM(Y$229:Y$231)>0,$E235*$G235*$H235/$H$230,0),2)","v":0},null,{"$f":"ROUND(IF(SUM(AA$229:AA$231)>0,$E235*$G235*$H235/$H$230,0),2)","v":0},null,{"$f":"ROUND(IF(SUM(AC$229:AC$231)>0,$E235*$G235*$H235/$H$230,0),2)","v":0},null,{"$f":"ROUND(IF(SUM(AE$229:AE$231)>0,$E235*$G235*$H235/$H$230,0),2)","v":0},null,{"$f":"ROUND(IF(SUM(AG$229:AG$231)>0,$E235*$G235*$H235/$H$230,0),2)","v":0},null,{"$f":"ROUND(IF(SUM(AI$229:AI$231)>0,$E235*$G235*$H235/$H$230,0),2)","v":0},null,{"$f":"ROUND(IF(SUM(AK$229:AK$231)>0,$E235*$G235*$H235/$H$230,0),2)","v":0},null,{"$f":"ROUND(IF(SUM(AM$229:AM$231)>0,$E235*$G235*$H235/$H$230,0),2)","v":0},null,{"$f":"ROUND(IF(SUM(AO$229:AO$231)>0,$E235*$G235*$H235/$H$230,0),2)","v":0},null,{"$f":"ROUND(IF(SUM(AQ$229:AQ$231)>0,$E235*$G235*$H235/$H$230,0),2)","v":0},null,{"$f":"ROUND(IF(SUM(AS$229:AS$231)>0,$E235*$G235*$H235/$H$230,0),2)","v":0},null,{"$f":"ROUND(IF(SUM(AU$229:AU$231)>0,$E235*$G235*$H235/$H$230,0),2)","v":0},null,{"$f":"ROUND(IF(SUM(AW$229:AW$231)>0,$E235*$G235*$H235/$H$230,0),2)","v":0},null,{"$f":"ROUND(IF(SUM(AY$229:AY$231)>0,$E235*$G235*$H235/$H$230,0),2)","v":0},null,{"$f":"ROUND(IF(SUM(BA$229:BA$231)>0,$E235*$G235*$H235/$H$230,0),2)","v":0},null,{"$f":"ROUND(IF(SUM(BC$229:BC$231)>0,$E235*$G235*$H235/$H$230,0),2)","v":0},null,{"$f":"ROUND(IF(SUM(BE$229:BE$231)>0,$E235*$G235*$H235/$H$230,0),2)","v":0},null,{"$f":"ROUND(IF(SUM(BG$229:BG$231)>0,$E235*$G235*$H235/$H$230,0),2)","v":0},null,{"$f":"ROUND(IF(SUM(BI$229:BI$231)>0,$E235*$G235*$H235/$H$230,0),2)","v":0},null,{"$f":"ROUND(IF(SUM(BK$229:BK$231)>0,$E235*$G235*$H235/$H$230,0),2)","v":0},null,{"$f":"ROUND(IF(SUM(BM$229:BM$231)>0,$E235*$G235*$H235/$H$230,0),2)","v":0},null,{"$f":"ROUND(IF(SUM(BO$229:BO$231)>0,$E235*$G235*$H235/$H$230,0),2)","v":0},null,{"$f":"ROUND(IF(SUM(BQ$229:BQ$231)>0,$E235*$G235*$H235/$H$230,0),2)","v":0},null,{"$f":"ROUND(IF(SUM(BS$229:BS$231)>0,$E235*$G235*$H235/$H$230,0),2)","v":0},null,{"$f":"ROUND(IF(SUM(BU$229:BU$231)>0,$E235*$G235*$H235/$H$230,0),2)","v":0},null,{"$f":"ROUND(IF(SUM(BW$229:BW$231)>0,$E235*$G235*$H235/$H$230,0),2)","v":0},null,{"$f":"ROUND(IF(SUM(BY$229:BY$231)>0,$E235*$G235*$H235/$H$230,0),2)","v":0}]
[null,null,null,null,null,null,null,null,null,null,null,0,null,0,null,0,null,0,null,0,null,0,null,0,null,0,null,0,null,0,null,0,null,0,null,0,null,0,null,0,null,0,null,0,null,0,null,0,null,0,null,0,null,0,null,0,null,0,null,0,null,0,null,0,null,0,null,0,null,0,null,0,null,0,null,0,null,0]
[null,null,null,null,null,null,null,null,null,null,null,0,null,0,null,0,null,0,null,0,null,0,null,0,null,0,null,0,null,0,null,0,null,0,null,0,null,0,null,0,null,0,null,0,null,0,null,0,null,0,null,0,null,0,null,0,null,0,null,0,null,0,null,0,null,0,null,0,null,0,null,0,null,0,null,0,null,0]
[null,null,null,null,null,null,null,null,null,null,null,0,null,0,null,0,null,0,null,0,null,0,null,0,null,0,null,0,null,0,null,0,null,0,null,0,null,0,null,0,null,0,null,0,null,0,null,0,null,0,null,0,null,0,null,0,null,0,null,0,null,0,null,0,null,0,null,0,null,0,null,0,null,0,null,0,null,0]
[null,null,null,null,null,null,null,null,null,null,null,0,null,0,null,0,null,0,null,0,null,0,null,0,null,0,null,0,null,0,null,0,null,0,null,0,null,0,null,0,null,0,null,0,null,0,null,0,null,0,null,0,null,0,null,0,null,0,null,0,null,0,null,0,null,0,null,0,null,0,null,0,null,0,null,0,null,0]
[null,null,null,null,null,null,null,null,null,null,null,0,null,0,null,0,null,0,null,0,null,0,null,0,null,0,null,0,null,0,null,0,null,0,null,0,null,0,null,0,null,0,null,0,null,0,null,0,null,0,null,0,null,0,null,0,null,0,null,0,null,0,null,0,null,0,null,0,null,0,null,0,null,0,null,0,null,0]
[null,null,null,null,null,null,null,null,null,null,null,0,null,0,null,0,null,0,null,0,null,0,null,0,null,0,null,0,null,0,null,0,null,0,null,0,null,0,null,0,null,0,null,0,null,0,null,0,null,0,null,0,null,0,null,0,null,0,null,0,null,0,null,0,null,0,null,0,null,0,null,0,null,0,null,0,null,0]
[null,null,null,null,null,null,null,null,null,null,null,0,null,0,null,0,null,0,null,0,null,0,null,0,null,0,null,0,null,0,null,0,null,0,null,0,null,0,null,0,null,0,null,0,null,0,null,0,null,0,null,0,null,0,null,0,null,0,null,0,null,0,null,0,null,0,null,0,null,0,null,0,null,0,null,0,null,0]
[null,null,null,null,null,null,null,null,null,null,null,0,null,0,null,0,null,0,null,0,null,0,null,0,null,0,null,0,null,0,null,0,null,0,null,0,null,0,null,0,null,0,null,0,null,0,null,0,null,0,null,0,null,0,null,0,null,0,null,0,null,0,null,0,null,0,null,0,null,0,null,0,null,0,null,0,null,0]
[]
[null,null,"CATEGORIAS",null,null,null,null,"QUANTIDADE"]
[null,null,null,null,null,null,null,null,null,null,{"$f":"IF($C246=K$4,1,0)","v":0},null,{"$f":"IF($C246=M$4,1,0)","v":0},null,{"$f":"IF($C246=O$4,1,0)","v":0},null,{"$f":"IF($C246=Q$4,1,0)","v":0},null,{"$f":"IF($C246=S$4,1,0)","v":0},null,{"$f":"IF($C246=U$4,1,0)","v":0},null,{"$f":"IF($C246=W$4,1,0)","v":0},null,{"$f":"IF($C246=Y$4,1,0)","v":0},null,{"$f":"IF($C246=AA$4,1,0)","v":0},null,{"$f":"IF($C246=AC$4,1,0)","v":0},null,{"$f":"IF($C246=AE$4,1,0)","v":0},null,{"$f":"IF($C246=AG$4,1,0)","v":0},null,{"$f":"IF($C246=AI$4,1,0)","v":0},null,{"$f":"IF($C246=AK$4,1,0)","v":0},null,{"$f":"IF($C246=AM$4,1,0)","v":0},null,{"$f":"IF($C246=AO$4,1,0)","v":0},null,{"$f":"IF($C246=AQ$4,1,0)","v":0},null,{"$f":"IF($C246=AS$4,1,0)","v":0},null,{"$f":"IF($C246=AU$4,1,0)","v":0},null,{"$f":"IF($C246=AW$4,1,0)","v":0},null,{"$f":"IF($C246=AY$4,1,0)","v":0},null,{"$f":"IF($C246=BA$4,1,0)","v":0},null,{"$f":"IF($C246=BC$4,1,0)","v":0},null,{"$f":"IF($C246=BE$4,1,0)","v":0},null,{"$f":"IF($C246=BG$4,1,0)","v":0},null,{"$f":"IF($C246=BI$4,1,0)","v":0},null,{"$f":"IF($C246=BK$4,1,0)","v":0},null,{"$f":"IF($C246=BM$4,1,0)","v":0},null,{"$f":"IF($C246=BO$4,1,0)","v":0},null,{"$f":"IF($C246=BQ$4,1,0)","v":0},null,{"$f":"IF($C246=BS$4,1,0)","v":0},null,{"$f":"IF($C246=BU$4,1,0)","v":0},null,{"$f":"IF($C246=BW$4,1,0)","v":0},null,{"$f":"IF($C246=BY$4,1,0)","v":0}]
[null,null,null,{"$f":"HLOOKUP($C247,'Dados Gerais'!$D$6:$BI$11,6)","v":{"$error":"#N/A"}},null,null,null,{"$f":"HLOOKUP($C247,'Dados Gerais'!$D$6:$BI$15,10)","v":{"$error":"#N/A"}},null,null,{"$f":"IF($C247=K$4,1,0)","v":0},null,{"$f":"IF($C247=M$4,1,0)","v":0},null,{"$f":"IF($C247=O$4,1,0)","v":0},null,{"$f":"IF($C247=Q$4,1,0)","v":0},null,{"$f":"IF($C247=S$4,1,0)","v":0},null,{"$f":"IF($C247=U$4,1,0)","v":0},null,{"$f":"IF($C247=W$4,1,0)","v":0},null,{"$f":"IF($C247=Y$4,1,0)","v":0},null,{"$f":"IF($C247=AA$4,1,0)","v":0},null,{"$f":"IF($C247=AC$4,1,0)","v":0},null,{"$f":"IF($C247=AE$4,1,0)","v":0},null,{"$f":"IF($C247=AG$4,1,0)","v":0},null,{"$f":"IF($C247=AI$4,1,0)","v":0},null,{"$f":"IF($C247=AK$4,1,0)","v":0},null,{"$f":"IF($C247=AM$4,1,0)","v":0},null,{"$f":"IF($C247=AO$4,1,0)","v":0},null,{"$f":"IF($C247=AQ$4,1,0)","v":0},null,{"$f":"IF($C247=AS$4,1,0)","v":0},null,{"$f":"IF($C247=AU$4,1,0)","v":0},null,{"$f":"IF($C247=AW$4,1,0)","v":0},null,{"$f":"IF($C247=AY$4,1,0)","v":0},null,{"$f":"IF($C247=BA$4,1,0)","v":0},null,{"$f":"IF($C247=BC$4,1,0)","v":0},null,{"$f":"IF($C247=BE$4,1,0)","v":0},null,{"$f":"IF($C247=BG$4,1,0)","v":0},null,{"$f":"IF($C247=BI$4,1,0)","v":0},null,{"$f":"IF($C247=BK$4,1,0)","v":0},null,{"$f":"IF($C247=BM$4,1,0)","v":0},null,{"$f":"IF($C247=BO$4,1,0)","v":0},null,{"$f":"IF($C247=BQ$4,1,0)","v":0},null,{"$f":"IF($C247=BS$4,1,0)","v":0},null,{"$f":"IF($C247=BU$4,1,0)","v":0},null,{"$f":"IF($C247=BW$4,1,0)","v":0},null,{"$f":"IF($C247=BY$4,1,0)","v":0}]
[null,null,null,null,null,null,null,null,null,null,{"$f":"IF($C248=K$4,1,0)","v":0},null,{"$f":"IF($C248=M$4,1,0)","v":0},null,{"$f":"IF($C248=O$4,1,0)","v":0},null,{"$f":"IF($C248=Q$4,1,0)","v":0},null,{"$f":"IF($C248=S$4,1,0)","v":0},null,{"$f":"IF($C248=U$4,1,0)","v":0},null,{"$f":"IF($C248=W$4,1,0)","v":0},null,{"$f":"IF($C248=Y$4,1,0)","v":0},null,{"$f":"IF($C248=AA$4,1,0)","v":0},null,{"$f":"IF($C248=AC$4,1,0)","v":0},null,{"$f":"IF($C248=AE$4,1,0)","v":0},null,{"$f":"IF($C248=AG$4,1,0)","v":0},null,{"$f":"IF($C248=AI$4,1,0)","v":0},null,{"$f":"IF($C248=AK$4,1,0)","v":0},null,{"$f":"IF($C248=AM$4,1,0)","v":0},null,{"$f":"IF($C248=AO$4,1,0)","v":0},null,{"$f":"IF($C248=AQ$4,1,0)","v":0},null,{"$f":"IF($C248=AS$4,1,0)","v":0},null,{"$f":"IF($C248=AU$4,1,0)","v":0},null,{"$f":"IF($C248=AW$4,1,0)","v":0},null,{"$f":"IF($C248=AY$4,1,0)","v":0},null,{"$f":"IF($C248=BA$4,1,0)","v":0},null,{"$f":"IF($C248=BC$4,1,0)","v":0},null,{"$f":"IF($C248=BE$4,1,0)","v":0},null,{"$f":"IF($C248=BG$4,1,0)","v":0},null,{"$f":"IF($C248=BI$4,1,0)","v":0},null,{"$f":"IF($C248=BK$4,1,0)","v":0},null,{"$f":"IF($C248=BM$4,1,0)","v":0},null,{"$f":"IF($C248=BO$4,1,0)","v":0},null,{"$f":"IF($C248=BQ$4,1,0)","v":0},null,{"$f":"IF($C248=BS$4,1,0)","v":0},null,{"$f":"IF($C248=BU$4,1,0)","v":0},null,{"$f":"IF($C248=BW$4,1,0)","v":0},null,{"$f":"IF($C248=BY$4,1,0)","v":0}]
[]
[null,null,"ITEM","DESCRIÇÃO","QUANT ANUAL POR POSTO","UNIDADE","QUANT DE POSTOS","VALOR"]
[null,null,null,null,null,null,null,null,null,null,null,{"$f":"IF(SUM(K$8:K$10)>0,$E251*$H251,0)","v":0},null,{"$f":"IF(SUM(M$8:M$10)>0,$E251*$H251,0)","v":0},null,{"$f":"IF(SUM(O$8:O$10)>0,$E251*$H251,0)","v":0},null,{"$f":"IF(SUM(Q$8:Q$10)>0,$E251*$H251,0)","v":0},null,{"$f":"IF(SUM(S$8:S$10)>0,$E251*$H251,0)","v":0},null,{"$f":"IF(SUM(U$8:U$10)>0,$E251*$H251,0)","v":0},null,{"$f":"IF(SUM(W$8:W$10)>0,$E251*$H251,0)","v":0},null,{"$f":"IF(SUM(Y$8:Y$10)>0,$E251*$H251,0)","v":0},null,{"$f":"IF(SUM(AA$8:AA$10)>0,$E251*$H251,0)","v":0},null,{"$f":"IF(SUM(AC$8:AC$10)>0,$E251*$H251,0)","v":0},null,{"$f":"IF(SUM(AE$8:AE$10)>0,$E251*$H251,0)","v":0},null,{"$f":"IF(SUM(AG$8:AG$10)>0,$E251*$H251,0)","v":0},null,{"$f":"IF(SUM(AI$8:AI$10)>0,$E251*$H251,0)","v":0},null,{"$f":"IF(SUM(AK$8:AK$10)>0,$E251*$H251,0)","v":0},null,{"$f":"IF(SUM(AM$8:AM$10)>0,$E251*$H251,0)","v":0},null,{"$f":"IF(SUM(AO$8:AO$10)>0,$E251*$H251,0)","v":0},null,{"$f":"IF(SUM(AQ$8:AQ$10)>0,$E251*$H251,0)","v":0},null,{"$f":"IF(SUM(AS$8:AS$10)>0,$E251*$H251,0)","v":0},null,{"$f":"IF(SUM(AU$8:AU$10)>0,$E251*$H251,0)","v":0},null,{"$f":"IF(SUM(AW$8:AW$10)>0,$E251*$H251,0)","v":0},null,{"$f":"IF(SUM(AY$8:AY$10)>0,$E251*$H251,0)","v":0},null,{"$f":"IF(SUM(BA$8:BA$10)>0,$E251*$H251,0)","v":0},null,{"$f":"IF(SUM(BC$8:BC$10)>0,$E251*$H251,0)","v":0},null,{"$f":"IF(SUM(BE$8:BE$10)>0,$E251*$H251,0)","v":0},null,{"$f":"IF(SUM(BG$8:BG$10)>0,$E251*$H251,0)","v":0},null,{"$f":"IF(SUM(BI$8:BI$10)>0,$E251*$H251,0)","v":0},null,{"$f":"IF(SUM(BK$8:BK$10)>0,$E251*$H251,0)","v":0},null,{"$f":"IF(SUM(BM$8:BM$10)>0,$E251*$H251,0)","v":0},null,{"$f":"IF(SUM(BO$8:BO$10)>0,$E251*$H251,0)","v":0},null,{"$f":"IF(SUM(BQ$8:BQ$10)>0,$E251*$H251,0)","v":0},null,{"$f":"IF(SUM(BS$8:BS$10)>0,$E251*$H251,0)","v":0},null,{"$f":"IF(SUM(BU$8:BU$10)>0,$E251*$H251,0)","v":0},null,{"$f":"IF(SUM(BW$8:BW$10)>0,$E251*$H251,0)","v":0},null,{"$f":"IF(SUM(BY$8:BY$10)>0,$E251*$H251,0)","v":0}]
[null,null,null,null,null,null,null,null,null,null,null,{"$f":"ROUND(IF(SUM(K$246:K$248)>0,$E252*$G252*$H252/$H$247,0),2)","v":0},null,{"$f":"ROUND(IF(SUM(M$246:M$248)>0,$E252*$G252*$H252/$H$247,0),2)","v":0},null,{"$f":"ROUND(IF(SUM(O$246:O$248)>0,$E252*$G252*$H252/$H$247,0),2)","v":0},null,{"$f":"ROUND(IF(SUM(Q$246:Q$248)>0,$E252*$G252*$H252/$H$247,0),2)","v":0},null,{"$f":"ROUND(IF(SUM(S$246:S$248)>0,$E252*$G252*$H252/$H$247,0),2)","v":0},null,{"$f":"ROUND(IF(SUM(U$246:U$248)>0,$E252*$G252*$H252/$H$247,0),2)","v":0},null,{"$f":"ROUND(IF(SUM(W$246:W$248)>0,$E252*$G252*$H252/$H$247,0),2)","v":0},null,{"$f":"ROUND(IF(SUM(Y$246:Y$248)>0,$E252*$G252*$H252/$H$247,0),2)","v":0},null,{"$f":"ROUND(IF(SUM(AA$246:AA$248)>0,$E252*$G252*$H252/$H$247,0),2)","v":0},null,{"$f":"ROUND(IF(SUM(AC$246:AC$248)>0,$E252*$G252*$H252/$H$247,0),2)","v":0},null,{"$f":"ROUND(IF(SUM(AE$246:AE$248)>0,$E252*$G252*$H252/$H$247,0),2)","v":0},null,{"$f":"ROUND(IF(SUM(AG$246:AG$248)>0,$E252*$G252*$H252/$H$247,0),2)","v":0},null,{"$f":"ROUND(IF(SUM(AI$246:AI$248)>0,$E252*$G252*$H252/$H$247,0),2)","v":0},null,{"$f":"ROUND(IF(SUM(AK$246:AK$248)>0,$E252*$G252*$H252/$H$247,0),2)","v":0},null,{"$f":"ROUND(IF(SUM(AM$246:AM$248)>0,$E252*$G252*$H252/$H$247,0),2)","v":0},null,{"$f":"ROUND(IF(SUM(AO$246:AO$248)>0,$E252*$G252*$H252/$H$247,0),2)","v":0},null,{"$f":"ROUND(IF(SUM(AQ$246:AQ$248)>0,$E252*$G252*$H252/$H$247,0),2)","v":0},null,{"$f":"ROUND(IF(SUM(AS$246:AS$248)>0,$E252*$G252*$H252/$H$247,0),2)","v":0},null,{"$f":"ROUND(IF(SUM(AU$246:AU$248)>0,$E252*$G252*$H252/$H$247,0),2)","v":0},null,{"$f":"ROUND(IF(SUM(AW$246:AW$248)>0,$E252*$G252*$H252/$H$247,0),2)","v":0},null,{"$f":"ROUND(IF(SUM(AY$246:AY$248)>0,$E252*$G252*$H252/$H$247,0),2)","v":0},null,{"$f":"ROUND(IF(SUM(BA$246:BA$248)>0,$E252*$G252*$H252/$H$247,0),2)","v":0},null,{"$f":"ROUND(IF(SUM(BC$246:BC$248)>0,$E252*$G252*$H252/$H$247,0),2)","v":0},null,{"$f":"ROUND(IF(SUM(BE$246:BE$248)>0,$E252*$G252*$H252/$H$247,0),2)","v":0},null,{"$f":"ROUND(IF(SUM(BG$246:BG$248)>0,$E252*$G252*$H252/$H$247,0),2)","v":0},null,{"$f":"ROUND(IF(SUM(BI$246:BI$248)>0,$E252*$G252*$H252/$H$247,0),2)","v":0},null,{"$f":"ROUND(IF(SUM(BK$246:BK$248)>0,$E252*$G252*$H252/$H$247,0),2)","v":0},null,{"$f":"ROUND(IF(SUM(BM$246:BM$248)>0,$E252*$G252*$H252/$H$247,0),2)","v":0},null,{"$f":"ROUND(IF(SUM(BO$246:BO$248)>0,$E252*$G252*$H252/$H$247,0),2)","v":0},null,{"$f":"ROUND(IF(SUM(BQ$246:BQ$248)>0,$E252*$G252*$H252/$H$247,0),2)","v":0},null,{"$f":"ROUND(IF(SUM(BS$246:BS$248)>0,$E252*$G252*$H252/$H$247,0),2)","v":0},null,{"$f":"ROUND(IF(SUM(BU$246:BU$248)>0,$E252*$G252*$H252/$H$247,0),2)","v":0},null,{"$f":"ROUND(IF(SUM(BW$246:BW$248)>0,$E252*$G252*$H252/$H$247,0),2)","v":0},null,{"$f":"ROUND(IF(SUM(BY$246:BY$248)>0,$E252*$G252*$H252/$H$247,0),2)","v":0}]
[null,null,null,null,null,null,null,null,null,null,null,0,null,0,null,0,null,0,null,0,null,0,null,0,null,0,null,0,null,0,null,0,null,0,null,0,null,0,null,0,null,0,null,0,null,0,null,0,null,0,null,0,null,0,null,0,null,0,null,0,null,0,null,0,null,0,null,0,null,0,null,0,null,0,null,0,null,0]
[null,null,null,null,null,null,null,null,null,null,null,0,null,0,null,0,null,0,null,0,null,0,null,0,null,0,null,0,null,0,null,0,null,0,null,0,null,0,null,0,null,0,null,0,null,0,null,0,null,0,null,0,null,0,null,0,null,0,null,0,null,0,null,0,null,0,null,0,null,0,null,0,null,0,null,0,null,0]
[null,null,null,null,null,null,null,null,null,null,null,0,null,0,null,0,null,0,null,0,null,0,null,0,null,0,null,0,null,0,null,0,null,0,null,0,null,0,null,0,null,0,null,0,null,0,null,0,null,0,null,0,null,0,null,0,null,0,null,0,null,0,null,0,null,0,null,0,null,0,null,0,null,0,null,0,null,0]
[null,null,null,null,null,null,null,null,null,null,null,0,null,0,null,0,null,0,null,0,null,0,null,0,null,0,null,0,null,0,null,0,null,0,null,0,null,0,null,0,null,0,null,0,null,0,null,0,null,0,null,0,null,0,null,0,null,0,null,0,null,0,null,0,null,0,null,0,null,0,null,0,null,0,null,0,null,0]
[null,null,null,null,null,null,null,null,null,null,null,0,null,0,null,0,null,0,null,0,null,0,null,0,null,0,null,0,null,0,null,0,null,0,null,0,null,0,null,0,null,0,null,0,null,0,null,0,null,0,null,0,null,0,null,0,null,0,null,0,null,0,null,0,null,0,null,0,null,0,null,0,null,0,null,0,null,0]
[null,null,null,null,null,null,null,null,null,null,null,0,null,0,null,0,null,0,null,0,null,0,null,0,null,0,null,0,null,0,null,0,null,0,null,0,null,0,null,0,null,0,null,0,null,0,null,0,null,0,null,0,null,0,null,0,null,0,null,0,null,0,null,0,null,0,null,0,null,0,null,0,null,0,null,0,null,0]
[null,null,null,null,null,null,null,null,null,null,null,0,null,0,null,0,null,0,null,0,null,0,null,0,null,0,null,0,null,0,null,0,null,0,null,0,null,0,null,0,null,0,null,0,null,0,null,0,null,0,null,0,null,0,null,0,null,0,null,0,null,0,null,0,null,0,null,0,null,0,null,0,null,0,null,0,null,0]
[null,null,null,null,null,null,null,null,null,null,null,0,null,0,null,0,null,0,null,0,null,0,null,0,null,0,null,0,null,0,null,0,null,0,null,0,null,0,null,0,null,0,null,0,null,0,null,0,null,0,null,0,null,0,null,0,null,0,null,0,null,0,null,0,null,0,null,0,null,0,null,0,null,0,null,0,null,0]
[]
[null,null,"CATEGORIAS",null,null,null,null,"QUANTIDADE"]
[null,null,null,null,null,null,null,null,null,null,{"$f":"IF($C263=K$4,1,0)","v":0},null,{"$f":"IF($C263=M$4,1,0)","v":0},null,{"$f":"IF($C263=O$4,1,0)","v":0},null,{"$f":"IF($C263=Q$4,1,0)","v":0},null,{"$f":"IF($C263=S$4,1,0)","v":0},null,{"$f":"IF($C263=U$4,1,0)","v":0},null,{"$f":"IF($C263=W$4,1,0)","v":0},null,{"$f":"IF($C263=Y$4,1,0)","v":0},null,{"$f":"IF($C263=AA$4,1,0)","v":0},null,{"$f":"IF($C263=AC$4,1,0)","v":0},null,{"$f":"IF($C263=AE$4,1,0)","v":0},null,{"$f":"IF($C263=AG$4,1,0)","v":0},null,{"$f":"IF($C263=AI$4,1,0)","v":0},null,{"$f":"IF($C263=AK$4,1,0)","v":0},null,{"$f":"IF($C263=AM$4,1,0)","v":0},null,{"$f":"IF($C263=AO$4,1,0)","v":0},null,{"$f":"IF($C263=AQ$4,1,0)","v":0},null,{"$f":"IF($C263=AS$4,1,0)","v":0},null,{"$f":"IF($C263=AU$4,1,0)","v":0},null,{"$f":"IF($C263=AW$4,1,0)","v":0},null,{"$f":"IF($C263=AY$4,1,0)","v":0},null,{"$f":"IF($C263=BA$4,1,0)","v":0},null,{"$f":"IF($C263=BC$4,1,0)","v":0},null,{"$f":"IF($C263=BE$4,1,0)","v":0},null,{"$f":"IF($C263=BG$4,1,0)","v":0},null,{"$f":"IF($C263=BI$4,1,0)","v":0},null,{"$f":"IF($C263=BK$4,1,0)","v":0},null,{"$f":"IF($C263=BM$4,1,0)","v":0},null,{"$f":"IF($C263=BO$4,1,0)","v":0},null,{"$f":"IF($C263=BQ$4,1,0)","v":0},null,{"$f":"IF($C263=BS$4,1,0)","v":0},null,{"$f":"IF($C263=BU$4,1,0)","v":0},null,{"$f":"IF($C263=BW$4,1,0)","v":0},null,{"$f":"IF($C263=BY$4,1,0)","v":0}]
[null,null,null,{"$f":"HLOOKUP($C264,'Dados Gerais'!$D$6:$BI$11,6)","v":{"$error":"#N/A"}},null,null,null,{"$f":"HLOOKUP($C264,'Dados Gerais'!$D$6:$BI$15,10)","v":{"$error":"#N/A"}},null,null,{"$f":"IF($C264=K$4,1,0)","v":0},null,{"$f":"IF($C264=M$4,1,0)","v":0},null,{"$f":"IF($C264=O$4,1,0)","v":0},null,{"$f":"IF($C264=Q$4,1,0)","v":0},null,{"$f":"IF($C264=S$4,1,0)","v":0},null,{"$f":"IF($C264=U$4,1,0)","v":0},null,{"$f":"IF($C264=W$4,1,0)","v":0},null,{"$f":"IF($C264=Y$4,1,0)","v":0},null,{"$f":"IF($C264=AA$4,1,0)","v":0},null,{"$f":"IF($C264=AC$4,1,0)","v":0},null,{"$f":"IF($C264=AE$4,1,0)","v":0},null,{"$f":"IF($C264=AG$4,1,0)","v":0},null,{"$f":"IF($C264=AI$4,1,0)","v":0},null,{"$f":"IF($C264=AK$4,1,0)","v":0},null,{"$f":"IF($C264=AM$4,1,0)","v":0},null,{"$f":"IF($C264=AO$4,1,0)","v":0},null,{"$f":"IF($C264=AQ$4,1,0)","v":0},null,{"$f":"IF($C264=AS$4,1,0)","v":0},null,{"$f":"IF($C264=AU$4,1,0)","v":0},null,{"$f":"IF($C264=AW$4,1,0)","v":0},null,{"$f":"IF($C264=AY$4,1,0)","v":0},null,{"$f":"IF($C264=BA$4,1,0)","v":0},null,{"$f":"IF($C264=BC$4,1,0)","v":0},null,{"$f":"IF($C264=BE$4,1,0)","v":0},null,{"$f":"IF($C264=BG$4,1,0)","v":0},null,{"$f":"IF($C264=BI$4,1,0)","v":0},null,{"$f":"IF($C264=BK$4,1,0)","v":0},null,{"$f":"IF($C264=BM$4,1,0)","v":0},null,{"$f":"IF($C264=BO$4,1,0)","v":0},null,{"$f":"IF($C264=BQ$4,1,0)","v":0},null,{"$f":"IF($C264=BS$4,1,0)","v":0},null,{"$f":"IF($C264=BU$4,1,0)","v":0},null,{"$f":"IF($C264=BW$4,1,0)","v":0},null,{"$f":"IF($C264=BY$4,1,0)","v":0}]
[null,null,null,null,null,null,null,null,null,null,{"$f":"IF($C265=K$4,1,0)","v":0},null,{"$f":"IF($C265=M$4,1,0)","v":0},null,{"$f":"IF($C265=O$4,1,0)","v":0},null,{"$f":"IF($C265=Q$4,1,0)","v":0},null,{"$f":"IF($C265=S$4,1,0)","v":0},null,{"$f":"IF($C265=U$4,1,0)","v":0},null,{"$f":"IF($C265=W$4,1,0)","v":0},null,{"$f":"IF($C265=Y$4,1,0)","v":0},null,{"$f":"IF($C265=AA$4,1,0)","v":0},null,{"$f":"IF($C265=AC$4,1,0)","v":0},null,{"$f":"IF($C265=AE$4,1,0)","v":0},null,{"$f":"IF($C265=AG$4,1,0)","v":0},null,{"$f":"IF($C265=AI$4,1,0)","v":0},null,{"$f":"IF($C265=AK$4,1,0)","v":0},null,{"$f":"IF($C265=AM$4,1,0)","v":0},null,{"$f":"IF($C265=AO$4,1,0)","v":0},null,{"$f":"IF($C265=AQ$4,1,0)","v":0},null,{"$f":"IF($C265=AS$4,1,0)","v":0},null,{"$f":"IF($C265=AU$4,1,0)","v":0},null,{"$f":"IF($C265=AW$4,1,0)","v":0},null,{"$f":"IF($C265=AY$4,1,0)","v":0},null,{"$f":"IF($C265=BA$4,1,0)","v":0},null,{"$f":"IF($C265=BC$4,1,0)","v":0},null,{"$f":"IF($C265=BE$4,1,0)","v":0},null,{"$f":"IF($C265=BG$4,1,0)","v":0},null,{"$f":"IF($C265=BI$4,1,0)","v":0},null,{"$f":"IF($C265=BK$4,1,0)","v":0},null,{"$f":"IF($C265=BM$4,1,0)","v":0},null,{"$f":"IF($C265=BO$4,1,0)","v":0},null,{"$f":"IF($C265=BQ$4,1,0)","v":0},null,{"$f":"IF($C265=BS$4,1,0)","v":0},null,{"$f":"IF($C265=BU$4,1,0)","v":0},null,{"$f":"IF($C265=BW$4,1,0)","v":0},null,{"$f":"IF($C265=BY$4,1,0)","v":0}]
[]
[null,null,"ITEM","DESCRIÇÃO","QUANT ANUAL POR POSTO","UNIDADE","QUANT DE POSTOS","VALOR"]
[null,null,null,null,null,null,null,null,null,null,null,{"$f":"IF(SUM(K$8:K$10)>0,$E268*$H268,0)","v":0},null,{"$f":"IF(SUM(M$8:M$10)>0,$E268*$H268,0)","v":0},null,{"$f":"IF(SUM(O$8:O$10)>0,$E268*$H268,0)","v":0},null,{"$f":"IF(SUM(Q$8:Q$10)>0,$E268*$H268,0)","v":0},null,{"$f":"IF(SUM(S$8:S$10)>0,$E268*$H268,0)","v":0},null,{"$f":"IF(SUM(U$8:U$10)>0,$E268*$H268,0)","v":0},null,{"$f":"IF(SUM(W$8:W$10)>0,$E268*$H268,0)","v":0},null,{"$f":"IF(SUM(Y$8:Y$10)>0,$E268*$H268,0)","v":0},null,{"$f":"IF(SUM(AA$8:AA$10)>0,$E268*$H268,0)","v":0},null,{"$f":"IF(SUM(AC$8:AC$10)>0,$E268*$H268,0)","v":0},null,{"$f":"IF(SUM(AE$8:AE$10)>0,$E268*$H268,0)","v":0},null,{"$f":"IF(SUM(AG$8:AG$10)>0,$E268*$H268,0)","v":0},null,{"$f":"IF(SUM(AI$8:AI$10)>0,$E268*$H268,0)","v":0},null,{"$f":"IF(SUM(AK$8:AK$10)>0,$E268*$H268,0)","v":0},null,{"$f":"IF(SUM(AM$8:AM$10)>0,$E268*$H268,0)","v":0},null,{"$f":"IF(SUM(AO$8:AO$10)>0,$E268*$H268,0)","v":0},null,{"$f":"IF(SUM(AQ$8:AQ$10)>0,$E268*$H268,0)","v":0},null,{"$f":"IF(SUM(AS$8:AS$10)>0,$E268*$H268,0)","v":0},null,{"$f":"IF(SUM(AU$8:AU$10)>0,$E268*$H268,0)","v":0},null,{"$f":"IF(SUM(AW$8:AW$10)>0,$E268*$H268,0)","v":0},null,{"$f":"IF(SUM(AY$8:AY$10)>0,$E268*$H268,0)","v":0},null,{"$f":"IF(SUM(BA$8:BA$10)>0,$E268*$H268,0)","v":0},null,{"$f":"IF(SUM(BC$8:BC$10)>0,$E268*$H268,0)","v":0},null,{"$f":"IF(SUM(BE$8:BE$10)>0,$E268*$H268,0)","v":0},null,{"$f":"IF(SUM(BG$8:BG$10)>0,$E268*$H268,0)","v":0},null,{"$f":"IF(SUM(BI$8:BI$10)>0,$E268*$H268,0)","v":0},null,{"$f":"IF(SUM(BK$8:BK$10)>0,$E268*$H268,0)","v":0},null,{"$f":"IF(SUM(BM$8:BM$10)>0,$E268*$H268,0)","v":0},null,{"$f":"IF(SUM(BO$8:BO$10)>0,$E268*$H268,0)","v":0},null,{"$f":"IF(SUM(BQ$8:BQ$10)>0,$E268*$H268,0)","v":0},null,{"$f":"IF(SUM(BS$8:BS$10)>0,$E268*$H268,0)","v":0},null,{"$f":"IF(SUM(BU$8:BU$10)>0,$E268*$H268,0)","v":0},null,{"$f":"IF(SUM(BW$8:BW$10)>0,$E268*$H268,0)","v":0},null,{"$f":"IF(SUM(BY$8:BY$10)>0,$E268*$H268,0)","v":0}]
[null,null,null,null,null,null,null,null,null,null,null,{"$f":"ROUND(IF(SUM(K$263:K$265)>0,$E269*$G269*$H269/$H$264,0),2)","v":0},null,{"$f":"ROUND(IF(SUM(M$263:M$265)>0,$E269*$G269*$H269/$H$264,0),2)","v":0},null,{"$f":"ROUND(IF(SUM(O$263:O$265)>0,$E269*$G269*$H269/$H$264,0),2)","v":0},null,{"$f":"ROUND(IF(SUM(Q$263:Q$265)>0,$E269*$G269*$H269/$H$264,0),2)","v":0},null,{"$f":"ROUND(IF(SUM(S$263:S$265)>0,$E269*$G269*$H269/$H$264,0),2)","v":0},null,{"$f":"ROUND(IF(SUM(U$263:U$265)>0,$E269*$G269*$H269/$H$264,0),2)","v":0},null,{"$f":"ROUND(IF(SUM(W$263:W$265)>0,$E269*$G269*$H269/$H$264,0),2)","v":0},null,{"$f":"ROUND(IF(SUM(Y$263:Y$265)>0,$E269*$G269*$H269/$H$264,0),2)","v":0},null,{"$f":"ROUND(IF(SUM(AA$263:AA$265)>0,$E269*$G269*$H269/$H$264,0),2)","v":0},null,{"$f":"ROUND(IF(SUM(AC$263:AC$265)>0,$E269*$G269*$H269/$H$264,0),2)","v":0},null,{"$f":"ROUND(IF(SUM(AE$263:AE$265)>0,$E269*$G269*$H269/$H$264,0),2)","v":0},null,{"$f":"ROUND(IF(SUM(AG$263:AG$265)>0,$E269*$G269*$H269/$H$264,0),2)","v":0},null,{"$f":"ROUND(IF(SUM(AI$263:AI$265)>0,$E269*$G269*$H269/$H$264,0),2)","v":0},null,{"$f":"ROUND(IF(SUM(AK$263:AK$265)>0,$E269*$G269*$H269/$H$264,0),2)","v":0},null,{"$f":"ROUND(IF(SUM(AM$263:AM$265)>0,$E269*$G269*$H269/$H$264,0),2)","v":0},null,{"$f":"ROUND(IF(SUM(AO$263:AO$265)>0,$E269*$G269*$H269/$H$264,0),2)","v":0},null,{"$f":"ROUND(IF(SUM(AQ$263:AQ$265)>0,$E269*$G269*$H269/$H$264,0),2)","v":0},null,{"$f":"ROUND(IF(SUM(AS$263:AS$265)>0,$E269*$G269*$H269/$H$264,0),2)","v":0},null,{"$f":"ROUND(IF(SUM(AU$263:AU$265)>0,$E269*$G269*$H269/$H$264,0),2)","v":0},null,{"$f":"ROUND(IF(SUM(AW$263:AW$265)>0,$E269*$G269*$H269/$H$264,0),2)","v":0},null,{"$f":"ROUND(IF(SUM(AY$263:AY$265)>0,$E269*$G269*$H269/$H$264,0),2)","v":0},null,{"$f":"ROUND(IF(SUM(BA$263:BA$265)>0,$E269*$G269*$H269/$H$264,0),2)","v":0},null,{"$f":"ROUND(IF(SUM(BC$263:BC$265)>0,$E269*$G269*$H269/$H$264,0),2)","v":0},null,{"$f":"ROUND(IF(SUM(BE$263:BE$265)>0,$E269*$G269*$H269/$H$264,0),2)","v":0},null,{"$f":"ROUND(IF(SUM(BG$263:BG$265)>0,$E269*$G269*$H269/$H$264,0),2)","v":0},null,{"$f":"ROUND(IF(SUM(BI$263:BI$265)>0,$E269*$G269*$H269/$H$264,0),2)","v":0},null,{"$f":"ROUND(IF(SUM(BK$263:BK$265)>0,$E269*$G269*$H269/$H$264,0),2)","v":0},null,{"$f":"ROUND(IF(SUM(BM$263:BM$265)>0,$E269*$G269*$H269/$H$264,0),2)","v":0},null,{"$f":"ROUND(IF(SUM(BO$263:BO$265)>0,$E269*$G269*$H269/$H$264,0),2)","v":0},null,{"$f":"ROUND(IF(SUM(BQ$263:BQ$265)>0,$E269*$G269*$H269/$H$264,0),2)","v":0},null,{"$f":"ROUND(IF(SUM(BS$263:BS$265)>0,$E269*$G269*$H269/$H$264,0),2)","v":0},null,{"$f":"ROUND(IF(SUM(BU$263:BU$265)>0,$E269*$G269*$H269/$H$264,0),2)","v":0},null,{"$f":"ROUND(IF(SUM(BW$263:BW$265)>0,$E269*$G269*$H269/$H$264,0),2)","v":0},null,{"$f":"ROUND(IF(SUM(BY$263:BY$265)>0,$E269*$G269*$H269/$H$264,0),2)","v":0}]
[null,null,null,null,null,null,null,null,null,null,null,0,null,0,null,0,null,0,null,0,null,0,null,0,null,0,null,0,null,0,null,0,null,0,null,0,null,0,null,0,null,0,null,0,null,0,null,0,null,0,null,0,null,0,null,0,null,0,null,0,null,0,null,0,null,0,null,0,null,0,null,0,null,0,null,0,null,0]
[null,null,null,null,null,null,null,null,null,null,null,0,null,0,null,0,null,0,null,0,null,0,null,0,null,0,null,0,null,0,null,0,null,0,null,0,null,0,null,0,null,0,null,0,null,0,null,0,null,0,null,0,null,0,null,0,null,0,null,0,null,0,null,0,null,0,null,0,null,0,null,0,null,0,null,0,null,0]
[null,null,null,null,null,null,null,null,null,null,null,0,null,0,null,0,null,0,null,0,null,0,null,0,null,0,null,0,null,0,null,0,null,0,null,0,null,0,null,0,null,0,null,0,null,0,null,0,null,0,null,0,null,0,null,0,null,0,null,0,null,0,null,0,null,0,null,0,null,0,null,0,null,0,null,0,null,0]
[null,null,null,null,null,null,null,null,null,null,null,0,null,0,null,0,null,0,null,0,null,0,null,0,null,0,null,0,null,0,null,0,null,0,null,0,null,0,null,0,null,0,null,0,null,0,null,0,null,0,null,0,null,0,null,0,null,0,null,0,null,0,null,0,null,0,null,0,null,0,null,0,null,0,null,0,null,0]
[null,null,null,null,null,null,null,null,null,null,null,0,null,0,null,0,null,0,null,0,null,0,null,0,null,0,null,0,null,0,null,0,null,0,null,0,null,0,null,0,null,0,null,0,null,0,null,0,null,0,null,0,null,0,null,0,null,0,null,0,null,0,null,0,null,0,null,0,null,0,null,0,null,0,null,0,null,0]
[null,null,null,null,null,null,null,null,null,null,null,0,null,0,null,0,null,0,null,0,null,0,null,0,null,0,null,0,null,0,null,0,null,0,null,0,null,0,null,0,null,0,null,0,null,0,null,0,null,0,null,0,null,0,null,0,null,0,null,0,null,0,null,0,null,0,null,0,null,0,null,0,null,0,null,0,null,0]
[null,null,null,null,null,null,null,null,null,null,null,0,null,0,null,0,null,0,null,0,null,0,null,0,null,0,null,0,null,0,null,0,null,0,null,0,null,0,null,0,null,0,null,0,null,0,null,0,null,0,null,0,null,0,null,0,null,0,null,0,null,0,null,0,null,0,null,0,null,0,null,0,null,0,null,0,null,0]
[null,null,null,null,null,null,null,null,null,null,null,0,null,0,null,0,null,0,null,0,null,0,null,0,null,0,null,0,null,0,null,0,null,0,null,0,null,0,null,0,null,0,null,0,null,0,null,0,null,0,null,0,null,0,null,0,null,0,null,0,null,0,null,0,null,0,null,0,null,0,null,0,null,0,null,0,null,0]
[]
[null,null,"CATEGORIAS",null,null,null,null,"QUANTIDADE"]
[null,null,null,null,null,null,null,null,null,null,{"$f":"IF($C280=K$4,1,0)","v":0},null,{"$f":"IF($C280=M$4,1,0)","v":0},null,{"$f":"IF($C280=O$4,1,0)","v":0},null,{"$f":"IF($C280=Q$4,1,0)","v":0},null,{"$f":"IF($C280=S$4,1,0)","v":0},null,{"$f":"IF($C280=U$4,1,0)","v":0},null,{"$f":"IF($C280=W$4,1,0)","v":0},null,{"$f":"IF($C280=Y$4,1,0)","v":0},null,{"$f":"IF($C280=AA$4,1,0)","v":0},null,{"$f":"IF($C280=AC$4,1,0)","v":0},null,{"$f":"IF($C280=AE$4,1,0)","v":0},null,{"$f":"IF($C280=AG$4,1,0)","v":0},null,{"$f":"IF($C280=AI$4,1,0)","v":0},null,{"$f":"IF($C280=AK$4,1,0)","v":0},null,{"$f":"IF($C280=AM$4,1,0)","v":0},null,{"$f":"IF($C280=AO$4,1,0)","v":0},null,{"$f":"IF($C280=AQ$4,1,0)","v":0},null,{"$f":"IF($C280=AS$4,1,0)","v":0},null,{"$f":"IF($C280=AU$4,1,0)","v":0},null,{"$f":"IF($C280=AW$4,1,0)","v":0},null,{"$f":"IF($C280=AY$4,1,0)","v":0},null,{"$f":"IF($C280=BA$4,1,0)","v":0},null,{"$f":"IF($C280=BC$4,1,0)","v":0},null,{"$f":"IF($C280=BE$4,1,0)","v":0},null,{"$f":"IF($C280=BG$4,1,0)","v":0},null,{"$f":"IF($C280=BI$4,1,0)","v":0},null,{"$f":"IF($C280=BK$4,1,0)","v":0},null,{"$f":"IF($C280=BM$4,1,0)","v":0},null,{"$f":"IF($C280=BO$4,1,0)","v":0},null,{"$f":"IF($C280=BQ$4,1,0)","v":0},null,{"$f":"IF($C280=BS$4,1,0)","v":0},null,{"$f":"IF($C280=BU$4,1,0)","v":0},null,{"$f":"IF($C280=BW$4,1,0)","v":0},null,{"$f":"IF($C280=BY$4,1,0)","v":0}]
[null,null,null,{"$f":"HLOOKUP($C281,'Dados Gerais'!$D$6:$BI$11,6)","v":{"$error":"#N/A"}},null,null,null,{"$f":"HLOOKUP($C281,'Dados Gerais'!$D$6:$BI$15,10)","v":{"$error":"#N/A"}},null,null,{"$f":"IF($C281=K$4,1,0)","v":0},null,{"$f":"IF($C281=M$4,1,0)","v":0},null,{"$f":"IF($C281=O$4,1,0)","v":0},null,{"$f":"IF($C281=Q$4,1,0)","v":0},null,{"$f":"IF($C281=S$4,1,0)","v":0},null,{"$f":"IF($C281=U$4,1,0)","v":0},null,{"$f":"IF($C281=W$4,1,0)","v":0},null,{"$f":"IF($C281=Y$4,1,0)","v":0},null,{"$f":"IF($C281=AA$4,1,0)","v":0},null,{"$f":"IF($C281=AC$4,1,0)","v":0},null,{"$f":"IF($C281=AE$4,1,0)","v":0},null,{"$f":"IF($C281=AG$4,1,0)","v":0},null,{"$f":"IF($C281=AI$4,1,0)","v":0},null,{"$f":"IF($C281=AK$4,1,0)","v":0},null,{"$f":"IF($C281=AM$4,1,0)","v":0},null,{"$f":"IF($C281=AO$4,1,0)","v":0},null,{"$f":"IF($C281=AQ$4,1,0)","v":0},null,{"$f":"IF($C281=AS$4,1,0)","v":0},null,{"$f":"IF($C281=AU$4,1,0)","v":0},null,{"$f":"IF($C281=AW$4,1,0)","v":0},null,{"$f":"IF($C281=AY$4,1,0)","v":0},null,{"$f":"IF($C281=BA$4,1,0)","v":0},null,{"$f":"IF($C281=BC$4,1,0)","v":0},null,{"$f":"IF($C281=BE$4,1,0)","v":0},null,{"$f":"IF($C281=BG$4,1,0)","v":0},null,{"$f":"IF($C281=BI$4,1,0)","v":0},null,{"$f":"IF($C281=BK$4,1,0)","v":0},null,{"$f":"IF($C281=BM$4,1,0)","v":0},null,{"$f":"IF($C281=BO$4,1,0)","v":0},null,{"$f":"IF($C281=BQ$4,1,0)","v":0},null,{"$f":"IF($C281=BS$4,1,0)","v":0},null,{"$f":"IF($C281=BU$4,1,0)","v":0},null,{"$f":"IF($C281=BW$4,1,0)","v":0},null,{"$f":"IF($C281=BY$4,1,0)","v":0}]
[null,null,null,null,null,null,null,null,null,null,{"$f":"IF($C282=K$4,1,0)","v":0},null,{"$f":"IF($C282=M$4,1,0)","v":0},null,{"$f":"IF($C282=O$4,1,0)","v":0},null,{"$f":"IF($C282=Q$4,1,0)","v":0},null,{"$f":"IF($C282=S$4,1,0)","v":0},null,{"$f":"IF($C282=U$4,1,0)","v":0},null,{"$f":"IF($C282=W$4,1,0)","v":0},null,{"$f":"IF($C282=Y$4,1,0)","v":0},null,{"$f":"IF($C282=AA$4,1,0)","v":0},null,{"$f":"IF($C282=AC$4,1,0)","v":0},null,{"$f":"IF($C282=AE$4,1,0)","v":0},null,{"$f":"IF($C282=AG$4,1,0)","v":0},null,{"$f":"IF($C282=AI$4,1,0)","v":0},null,{"$f":"IF($C282=AK$4,1,0)","v":0},null,{"$f":"IF($C282=AM$4,1,0)","v":0},null,{"$f":"IF($C282=AO$4,1,0)","v":0},null,{"$f":"IF($C282=AQ$4,1,0)","v":0},null,{"$f":"IF($C282=AS$4,1,0)","v":0},null,{"$f":"IF($C282=AU$4,1,0)","v":0},null,{"$f":"IF($C282=AW$4,1,0)","v":0},null,{"$f":"IF($C282=AY$4,1,0)","v":0},null,{"$f":"IF($C282=BA$4,1,0)","v":0},null,{"$f":"IF($C282=BC$4,1,0)","v":0},null,{"$f":"IF($C282=BE$4,1,0)","v":0},null,{"$f":"IF($C282=BG$4,1,0)","v":0},null,{"$f":"IF($C282=BI$4,1,0)","v":0},null,{"$f":"IF($C282=BK$4,1,0)","v":0},null,{"$f":"IF($C282=BM$4,1,0)","v":0},null,{"$f":"IF($C282=BO$4,1,0)","v":0},null,{"$f":"IF($C282=BQ$4,1,0)","v":0},null,{"$f":"IF($C282=BS$4,1,0)","v":0},null,{"$f":"IF($C282=BU$4,1,0)","v":0},null,{"$f":"IF($C282=BW$4,1,0)","v":0},null,{"$f":"IF($C282=BY$4,1,0)","v":0}]
[]
[null,null,"ITEM","DESCRIÇÃO","QUANT ANUAL POR POSTO","UNIDADE","QUANT DE POSTOS","VALOR"]
[null,null,null,null,null,null,null,null,null,null,null,{"$f":"IF(SUM(K$8:K$10)>0,$E285*$H285,0)","v":0},null,{"$f":"IF(SUM(M$8:M$10)>0,$E285*$H285,0)","v":0},null,{"$f":"IF(SUM(O$8:O$10)>0,$E285*$H285,0)","v":0},null,{"$f":"IF(SUM(Q$8:Q$10)>0,$E285*$H285,0)","v":0},null,{"$f":"IF(SUM(S$8:S$10)>0,$E285*$H285,0)","v":0},null,{"$f":"IF(SUM(U$8:U$10)>0,$E285*$H285,0)","v":0},null,{"$f":"IF(SUM(W$8:W$10)>0,$E285*$H285,0)","v":0},null,{"$f":"IF(SUM(Y$8:Y$10)>0,$E285*$H285,0)","v":0},null,{"$f":"IF(SUM(AA$8:AA$10)>0,$E285*$H285,0)","v":0},null,{"$f":"IF(SUM(AC$8:AC$10)>0,$E285*$H285,0)","v":0},null,{"$f":"IF(SUM(AE$8:AE$10)>0,$E285*$H285,0)","v":0},null,{"$f":"IF(SUM(AG$8:AG$10)>0,$E285*$H285,0)","v":0},null,{"$f":"IF(SUM(AI$8:AI$10)>0,$E285*$H285,0)","v":0},null,{"$f":"IF(SUM(AK$8:AK$10)>0,$E285*$H285,0)","v":0},null,{"$f":"IF(SUM(AM$8:AM$10)>0,$E285*$H285,0)","v":0},null,{"$f":"IF(SUM(AO$8:AO$10)>0,$E285*$H285,0)","v":0},null,{"$f":"IF(SUM(AQ$8:AQ$10)>0,$E285*$H285,0)","v":0},null,{"$f":"IF(SUM(AS$8:AS$10)>0,$E285*$H285,0)","v":0},null,{"$f":"IF(SUM(AU$8:AU$10)>0,$E285*$H285,0)","v":0},null,{"$f":"IF(SUM(AW$8:AW$10)>0,$E285*$H285,0)","v":0},null,{"$f":"IF(SUM(AY$8:AY$10)>0,$E285*$H285,0)","v":0},null,{"$f":"IF(SUM(BA$8:BA$10)>0,$E285*$H285,0)","v":0},null,{"$f":"IF(SUM(BC$8:BC$10)>0,$E285*$H285,0)","v":0},null,{"$f":"IF(SUM(BE$8:BE$10)>0,$E285*$H285,0)","v":0},null,{"$f":"IF(SUM(BG$8:BG$10)>0,$E285*$H285,0)","v":0},null,{"$f":"IF(SUM(BI$8:BI$10)>0,$E285*$H285,0)","v":0},null,{"$f":"IF(SUM(BK$8:BK$10)>0,$E285*$H285,0)","v":0},null,{"$f":"IF(SUM(BM$8:BM$10)>0,$E285*$H285,0)","v":0},null,{"$f":"IF(SUM(BO$8:BO$10)>0,$E285*$H285,0)","v":0},null,{"$f":"IF(SUM(BQ$8:BQ$10)>0,$E285*$H285,0)","v":0},null,{"$f":"IF(SUM(BS$8:BS$10)>0,$E285*$H285,0)","v":0},null,{"$f":"IF(SUM(BU$8:BU$10)>0,$E285*$H285,0)","v":0},null,{"$f":"IF(SUM(BW$8:BW$10)>0,$E285*$H285,0)","v":0},null,{"$f":"IF(SUM(BY$8:BY$10)>0,$E285*$H285,0)","v":0}]
[null,null,null,null,null,null,null,null,null,null,null,{"$f":"ROUND(IF(SUM(K$280:K$282)>0,$E286*$G286*$H286/$H$281,0),2)","v":0},null,{"$f":"ROUND(IF(SUM(M$280:M$282)>0,$E286*$G286*$H286/$H$281,0),2)","v":0},null,{"$f":"ROUND(IF(SUM(O$280:O$282)>0,$E286*$G286*$H286/$H$281,0),2)","v":0},null,{"$f":"ROUND(IF(SUM(Q$280:Q$282)>0,$E286*$G286*$H286/$H$281,0),2)","v":0},null,{"$f":"ROUND(IF(SUM(S$280:S$282)>0,$E286*$G286*$H286/$H$281,0),2)","v":0},null,{"$f":"ROUND(IF(SUM(U$280:U$282)>0,$E286*$G286*$H286/$H$281,0),2)","v":0},null,{"$f":"ROUND(IF(SUM(W$280:W$282)>0,$E286*$G286*$H286/$H$281,0),2)","v":0},null,{"$f":"ROUND(IF(SUM(Y$280:Y$282)>0,$E286*$G286*$H286/$H$281,0),2)","v":0},null,{"$f":"ROUND(IF(SUM(AA$280:AA$282)>0,$E286*$G286*$H286/$H$281,0),2)","v":0},null,{"$f":"ROUND(IF(SUM(AC$280:AC$282)>0,$E286*$G286*$H286/$H$281,0),2)","v":0},null,{"$f":"ROUND(IF(SUM(AE$280:AE$282)>0,$E286*$G286*$H286/$H$281,0),2)","v":0},null,{"$f":"ROUND(IF(SUM(AG$280:AG$282)>0,$E286*$G286*$H286/$H$281,0),2)","v":0},null,{"$f":"ROUND(IF(SUM(AI$280:AI$282)>0,$E286*$G286*$H286/$H$281,0),2)","v":0},null,{"$f":"ROUND(IF(SUM(AK$280:AK$282)>0,$E286*$G286*$H286/$H$281,0),2)","v":0},null,{"$f":"ROUND(IF(SUM(AM$280:AM$282)>0,$E286*$G286*$H286/$H$281,0),2)","v":0},null,{"$f":"ROUND(IF(SUM(AO$280:AO$282)>0,$E286*$G286*$H286/$H$281,0),2)","v":0},null,{"$f":"ROUND(IF(SUM(AQ$280:AQ$282)>0,$E286*$G286*$H286/$H$281,0),2)","v":0},null,{"$f":"ROUND(IF(SUM(AS$280:AS$282)>0,$E286*$G286*$H286/$H$281,0),2)","v":0},null,{"$f":"ROUND(IF(SUM(AU$280:AU$282)>0,$E286*$G286*$H286/$H$281,0),2)","v":0},null,{"$f":"ROUND(IF(SUM(AW$280:AW$282)>0,$E286*$G286*$H286/$H$281,0),2)","v":0},null,{"$f":"ROUND(IF(SUM(AY$280:AY$282)>0,$E286*$G286*$H286/$H$281,0),2)","v":0},null,{"$f":"ROUND(IF(SUM(BA$280:BA$282)>0,$E286*$G286*$H286/$H$281,0),2)","v":0},null,{"$f":"ROUND(IF(SUM(BC$280:BC$282)>0,$E286*$G286*$H286/$H$281,0),2)","v":0},null,{"$f":"ROUND(IF(SUM(BE$280:BE$282)>0,$E286*$G286*$H286/$H$281,0),2)","v":0},null,{"$f":"ROUND(IF(SUM(BG$280:BG$282)>0,$E286*$G286*$H286/$H$281,0),2)","v":0},null,{"$f":"ROUND(IF(SUM(BI$280:BI$282)>0,$E286*$G286*$H286/$H$281,0),2)","v":0},null,{"$f":"ROUND(IF(SUM(BK$280:BK$282)>0,$E286*$G286*$H286/$H$281,0),2)","v":0},null,{"$f":"ROUND(IF(SUM(BM$280:BM$282)>0,$E286*$G286*$H286/$H$281,0),2)","v":0},null,{"$f":"ROUND(IF(SUM(BO$280:BO$282)>0,$E286*$G286*$H286/$H$281,0),2)","v":0},null,{"$f":"ROUND(IF(SUM(BQ$280:BQ$282)>0,$E286*$G286*$H286/$H$281,0),2)","v":0},null,{"$f":"ROUND(IF(SUM(BS$280:BS$282)>0,$E286*$G286*$H286/$H$281,0),2)","v":0},null,{"$f":"ROUND(IF(SUM(BU$280:BU$282)>0,$E286*$G286*$H286/$H$281,0),2)","v":0},null,{"$f":"ROUND(IF(SUM(BW$280:BW$282)>0,$E286*$G286*$H286/$H$281,0),2)","v":0},null,{"$f":"ROUND(IF(SUM(BY$280:BY$282)>0,$E286*$G286*$H286/$H$281,0),2)","v":0}]
[null,null,null,null,null,null,null,null,null,null,null,0,null,0,null,0,null,0,null,0,null,0,null,0,null,0,null,0,null,0,null,0,null,0,null,0,null,0,null,0,null,0,null,0,null,0,null,0,null,0,null,0,null,0,null,0,null,0,null,0,null,0,null,0,null,0,null,0,null,0,null,0,null,0,null,0,null,0]
[null,null,null,null,null,null,null,null,null,null,null,0,null,0,null,0,null,0,null,0,null,0,null,0,null,0,null,0,null,0,null,0,null,0,null,0,null,0,null,0,null,0,null,0,null,0,null,0,null,0,null,0,null,0,null,0,null,0,null,0,null,0,null,0,null,0,null,0,null,0,null,0,null,0,null,0,null,0]
[null,null,null,null,null,null,null,null,null,null,null,0,null,0,null,0,null,0,null,0,null,0,null,0,null,0,null,0,null,0,null,0,null,0,null,0,null,0,null,0,null,0,null,0,null,0,null,0,null,0,null,0,null,0,null,0,null,0,null,0,null,0,null,0,null,0,null,0,null,0,null,0,null,0,null,0,null,0]
[null,null,null,null,null,null,null,null,null,null,null,0,null,0,null,0,null,0,null,0,null,0,null,0,null,0,null,0,null,0,null,0,null,0,null,0,null,0,null,0,null,0,null,0,null,0,null,0,null,0,null,0,null,0,null,0,null,0,null,0,null,0,null,0,null,0,null,0,null,0,null,0,null,0,null,0,null,0]
[null,null,null,null,null,null,null,null,null,null,null,0,null,0,null,0,null,0,null,0,null,0,null,0,null,0,null,0,null,0,null,0,null,0,null,0,null,0,null,0,null,0,null,0,null,0,null,0,null,0,null,0,null,0,null,0,null,0,null,0,null,0,null,0,null,0,null,0,null,0,null,0,null,0,null,0,null,0]
[null,null,null,null,null,null,null,null,null,null,null,0,null,0,null,0,null,0,null,0,null,0,null,0,null,0,null,0,null,0,null,0,null,0,null,0,null,0,null,0,null,0,null,0,null,0,null,0,null,0,null,0,null,0,null,0,null,0,null,0,null,0,null,0,null,0,null,0,null,0,null,0,null,0,null,0,null,0]
[null,null,null,null,null,null,null,null,null,null,null,0,null,0,null,0,null,0,null,0,null,0,null,0,null,0,null,0,null,0,null,0,null,0,null,0,null,0,null,0,null,0,null,0,null,0,null,0,null,0,null,0,null,0,null,0,null,0,null,0,null,0,null,0,null,0,null,0,null,0,null,0,null,0,null,0,null,0]
[null,null,null,null,null,null,null,null,null,null,null,0,null,0,null,0,null,0,null,0,null,0,null,0,null,0,null,0,null,0,null,0,null,0,null,0,null,0,null,0,null,0,null,0,null,0,null,0,null,0,null,0,null,0,null,0,null,0,null,0,null,0,null,0,null,0,null,0,null,0,null,0,null,0,null,0,null,0]
[null,null,null,null,null,null,null,null,null,null,null,0,null,0,null,0,null,0,null,0,null,0,null,0,null,0,null,0,null,0,null,0,null,0,null,0,null,0,null,0,null,0,null,0,null,0,null,0,null,0,null,0,null,0,null,0,null,0,null,0,null,0,null,0,null,0,null,0,null,0,null,0,null,0,null,0,null,0]
[null,null,null,null,null,null,null,null,null,null,null,0,null,0,null,0,null,0,null,0,null,0,null,0,null,0,null,0,null,0,null,0,null,0,null,0,null,0,null,0,null,0,null,0,null,0,null,0,null,0,null,0,null,0,null,0,null,0,null,0,null,0,null,0,null,0,null,0,null,0,null,0,null,0,null,0,null,0]
[null,null,null,null,null,null,null,null,null,null,null,0,null,0,null,0,null,0,null,0,null,0,null,0,null,0,null,0,null,0,null,0,null,0,null,0,null,0,null,0,null,0,null,0,null,0,null,0,null,0,null,0,null,0,null,0,null,0,null,0,null,0,null,0,null,0,null,0,null,0,null,0,null,0,null,0,null,0]
[null,null,null,null,null,null,null,null,null,null,null,0,null,0,null,0,null,0,null,0,null,0,null,0,null,0,null,0,null,0,null,0,null,0,null,0,null,0,null,0,null,0,null,0,null,0,null,0,null,0,null,0,null,0,null,0,null,0,null,0,null,0,null,0,null,0,null,0,null,0,null,0,null,0,null,0,null,0]
[null,null,null,null,null,null,null,null,null,null,null,0,null,0,null,0,null,0,null,0,null,0,null,0,null,0,null,0,null,0,null,0,null,0,null,0,null,0,null,0,null,0,null,0,null,0,null,0,null,0,null,0,null,0,null,0,null,0,null,0,null,0,null,0,null,0,null,0,null,0,null,0,null,0,null,0,null,0]
[null,null,null,null,null,null,null,null,null,null,null,0,null,0,null,0,null,0,null,0,null,0,null,0,null,0,null,0,null,0,null,0,null,0,null,0,null,0,null,0,null,0,null,0,null,0,null,0,null,0,null,0,null,0,null,0,null,0,null,0,null,0,null,0,null,0,null,0,null,0,null,0,null,0,null,0,null,0]
[null,null,null,null,null,null,null,null,null,null,null,0,null,0,null,0,null,0,null,0,null,0,null,0,null,0,null,0,null,0,null,0,null,0,null,0,null,0,null,0,null,0,null,0,null,0,null,0,null,0,null,0,null,0,null,0,null,0,null,0,null,0,null,0,null,0,null,0,null,0,null,0,null,0,null,0,null,0]

{"sheet":"QTDE POSTOS POR CATEGORIA","index":12,"n_rows":36,"n_cols":9,"rows_kept":36,"cut":false,"hidden":true,"merged":[[0,0,0,8]]}
["Detalhamento dos quantitativos dos postos de trabalho"]
["Função","Manutenção de elementos não estruturais","Gestão de materiais","Manutenção de elementos estruturais","Intervenções eletivas","Gestão de documentos","Cequi","Cohab","Total previsto"]
["Ajudante de campo",12,null,7,12,null,4,8,43]
["Ajudante de campo com insalubridade (tapeçaria)",1,null,null,null,null,null,0,1]
["Ajudante de campo com insalubridade (estofamento)",4,null,null,null,null,null,0,4]
["Ajudante de campo com insalubridade (impermeabilização)",3,null,null,null,null,null,1,4]
["Ajudante de campo com insalubridade (pintura)",4,null,null,3,null,null,2,9]
["Ajudante de campo com insalubridade (marcenaria)",4,null,null,15,null,null,2,21]
["Ajudante de campo com insalubridade (serralheria)",3,null,null,5,null,null,1,9]
["Assistente de controle de recursos físicos",null,3,null,null,null,null,2,5]
["Chaveiro",2,null,null,null,null,null,0,2]
["Encarregado de serviços (marcenaria)",null,null,null,2,null,null,0,2]
["Encarregado de serviços (obra civil)",null,null,null,1,null,null,0,1]
["Encarregado de serviços (pintura)",null,null,null,1,null,null,0,1]
["Encarregado de serviços (serralheria)",null,null,null,1,null,null,0,1]
["Encarregado de serviços (geral)",3,null,null,null,null,null,3,6]
["Estofador",4,null,null,null,null,null,0,4]
["Gesseiro",3,null,null,2,null,null,0,5]
["Impermeabilizador",3,null,null,null,null,null,2,5]
["Instalador de pisos e revestimentos",2,null,null,1,null,null,0,3]
["Marceneiro",6,null,null,21,null,null,5,32]
["Mecânico de máquinas",1,null,null,null,null,null,0,1]
["Mestre de obras",null,null,null,2,null,null,3,5]
["Pedreiro",5,null,3,7,null,null,4,19]
["Pintor",4,null,null,4,null,null,6,14]
["Projetista de elementos construtivos",1,null,1,null,null,null,0,2]
["Serralheiro",3,null,null,5,null,null,1,9]
["Supervisor-geral",null,null,null,null,1,null,0,1]
["Técnico de controle de recursos físicos",null,6,null,2,null,null,2,10]
["Técnico de facilities I",3,4,1,null,null,null,0,8]
["Técnico de facilities II",1,2,1,1,3,null,12,20]
["Técnico de facilities III",1,null,1,1,null,null,0,3]
["Técnico em persianas",2,null,null,null,null,null,1,3]
["Torneiro mecânico",null,null,null,1,null,null,0,1]
["Vidraceiro",3,null,null,null,null,null,1,4]
["Total",78,15,14,87,4,4,56,258]

{"sheet":"Relacion - Ferram","index":13,"n_rows":277,"n_cols":138,"rows_kept":277,"cut":false,"hidden":false,"merged":[[1,1,1,3],[2,1,2,14]]}
[]
[]
[null,"FERRAMENTAS INDIVIDUAIS RELACIONADOS AO POSTO - PAGAMENTO DA DEPRECIAÇÃO / MANUTENÇÃO",null,null,null,null,null,null,null,null,null,null,null,null,null,null,1,null,{"$f":"Q3+1","v":2},null,{"$f":"S3+1","v":3},null,{"$f":"U3+1","v":4},null,{"$f":"W3+1","v":5},null,{"$f":"Y3+1","v":6},null,{"$f":"AA3+1","v":7},null,{"$f":"AC3+1","v":8},null,{"$f":"AE3+1","v":9},null,{"$f":"AG3+1","v":10},null,{"$f":"AI3+1","v":11},null,{"$f":"AK3+1","v":12},null,{"$f":"AM3+1","v":13},null,{"$f":"AO3+1","v":14},null,{"$f":"AQ3+1","v":15},null,{"$f":"AS3+1","v":16},null,{"$f":"AU3+1","v":17},null,{"$f":"AW3+1","v":18},null,{"$f":"AY3+1","v":19},null,{"$f":"BA3+1","v":20},null,{"$f":"BC3+1","v":21},null,{"$f":"BE3+1","v":22},null,{"$f":"BG3+1","v":23},null,{"$f":"BI3+1","v":24},null,{"$f":"BK3+1","v":25},null,{"$f":"BM3+1","v":26},null,{"$f":"BO3+1","v":27},null,{"$f":"BQ3+1","v":28},null,{"$f":"BS3+1","v":29},null,{"$f":"BU3+1","v":30},null,{"$f":"BW3+1","v":31},null,{"$f":"BY3+1","v":32},null,{"$f":"CA3+1","v":33},null,{"$f":"CC3+1","v":34},null,{"$f":"CE3+1","v":35},null,{"$f":"CG3+1","v":36},null,{"$f":"CI3+1","v":37},null,{"$f":"CK3+1","v":38},null,{"$f":"CM3+1","v":39},null,{"$f":"CO3+1","v":40},null,{"$f":"CQ3+1","v":41},null,{"$f":"CS3+1","v":42},null,{"$f":"CU3+1","v":43},null,{"$f":"CW3+1","v":44},null,{"$f":"CY3+1","v":45},null,{"$f":"DA3+1","v":46},null,{"$f":"DC3+1","v":47},null,{"$f":"DE3+1","v":48},null,{"$f":"DG3+1","v":49},null,{"$f":"DI3+1","v":50},null,{"$f":"DK3+1","v":51},null,{"$f":"DM3+1","v":52},null,{"$f":"DO3+1","v":53},null,{"$f":"DQ3+1","v":54},null,{"$f":"DS3+1","v":55},null,{"$f":"DU3+1","v":56},null,{"$f":"DW3+1","v":57},null,{"$f":"DY3+1","v":58},null,{"$f":"EA3+1","v":59},null,{"$f":"EC3+1","v":60},null,{"$f":"EE3+1","v":61}]
[]
[null,null,null,null,null,null,null,null,null,null,null,null,null,null,null,null,{"$f":"SUM(R4:R258)","v":0},null,{"$f":"SUM(T4:T258)","v":0},null,{"$f":"SUM(V4:V258)","v":0},null,{"$f":"SUM(X4:X258)","v":0},null,{"$f":"SUM(Z4:Z258)","v":5.37},null,{"$f":"SUM(AB4:AB258)","v":5.37},null,{"$f":"SUM(AD4:AD258)","v":0},null,{"$f":"SUM(AF4:AF258)","v":5.37},null,{"$f":"SUM(AH4:AH258)","v":5.37},null,{"$f":"SUM(AJ4:AJ258)","v":0},null,{"$f":"SUM(AL4:AL258)","v":0},null,{"$f":"SUM(AN4:AN258)","v":0},null,{"$f":"SUM(AP4:AP258)","v":0},null,{"$f":"SUM(AR4:AR258)","v":0},null,{"$f":"SUM(AT4:AT258)","v":0},null,{"$f":"SUM(AV4:AV258)","v":0},null,{"$f":"SUM(AX4:AX258)","v":0},null,{"$f":"SUM(AZ4:AZ258)","v":0},null,{"$f":"SUM(BB4:BB258)","v":0},null,{"$f":"SUM(BD4:BD258)","v":0},null,{"$f":"SUM(BF4:BF258)","v":0},null,{"$f":"SUM(BH4:BH258)","v":0},null,{"$f":"SUM(BJ4:BJ258)","v":0},null,{"$f":"SUM(BL4:BL258)","v":0},null,{"$f":"SUM(BN4:BN258)","v":0},null,{"$f":"SUM(BP4:BP258)","v":0},null,{"$f":"SUM(BR4:BR258)","v":0},null,{"$f":"SUM(BT4:BT258)","v":0},null,{"$f":"SUM(BV4:BV258)","v":0},null,{"$f":"SUM(BX4:BX258)","v":0},null,{"$f":"SUM(BZ4:BZ258)","v":0},null,{"$f":"SUM(CB4:CB258)","v":0},null,{"$f":"SUM(CD4:CD258)","v":0},null,{"$f":"SUM(CF4:CF258)","v":0},null,{"$f":"SUM(CH4:CH258)","v":0},null,{"$f":"SUM(CJ4:CJ258)","v":0},null,{"$f":"SUM(CL4:CL258)","v":0},null,{"$f":"SUM(CN4:CN258)","v":0},null,{"$f":"SUM(CP4:CP258)","v":0},null,{"$f":"SUM(CR4:CR258)","v":0},null,{"$f":"SUM(CT4:CT258)","v":0},null,{"$f":"SUM(CV4:CV258)","v":0},null,{"$f":"SUM(CX4:CX258)","v":0},null,{"$f":"SUM(CZ4:CZ258)","v":0},null,{"$f":"SUM(DB4:DB258)","v":0},null,{"$f":"SUM(DD4:DD258)","v":0},null,{"$f":"SUM(DF4:DF258)","v":0},null,{"$f":"SUM(DH4:DH258)","v":0},null,{"$f":"SUM(DJ4:DJ258)","v":0},null,{"$f":"SUM(DL4:DL258)","v":0},null,{"$f":"SUM(DN4:DN258)","v":0},null,{"$f":"SUM(DP4:DP258)","v":0},null,{"$f":"SUM(DR4:DR258)","v":0},null,{"$f":"SUM(DT4:DT258)","v":0},null,{"$f":"SUM(DV4:DV258)","v":0},null,{"$f":"SUM(DX4:DX258)","v":0},null,{"$f":"SUM(DZ4:DZ258)","v":0},null,{"$f":"SUM(EB4:EB258)","v":0},null,{"$f":"SUM(ED4:ED258)","v":0},null,{"$f":"SUM(EF4:EF258)","v":0},null,{"$f":"SUM(EH4:EH258)","v":0}]
[null,null,"CATEGORIAS",null,"QUANTIDADE",null,null,null,null,null,null,null,null,null,null,null,{"$f":"SUM(Q7:Q12)","v":0},null,{"$f":"SUM(S7:S12)","v":0},null,{"$f":"SUM(U7:U12)","v":0},null,{"$f":"SUM(W7:W12)","v":0},null,{"$f":"SUM(Y7:Y12)","v":1},null,{"$f":"SUM(AA7:AA12)","v":1},null,{"$f":"SUM(AC7:AC12)","v":0},null,{"$f":"SUM(AE7:AE12)","v":1},null,{"$f":"SUM(AG7:AG12)","v":1},null,{"$f":"SUM(AI7:AI12)","v":0},null,{"$f":"SUM(AK7:AK12)","v":0},null,{"$f":"SUM(AM7:AM12)","v":0},null,{"$f":"SUM(AO7:AO12)","v":0},null,{"$f":"SUM(AQ7:AQ12)","v":0},null,{"$f":"SUM(AS7:AS12)","v":0},null,{"$f":"SUM(AU7:AU12)","v":0},null,{"$f":"SUM(AW7:AW12)","v":0},null,{"$f":"SUM(AY7:AY12)","v":0},null,{"$f":"SUM(BA7:BA12)","v":0},null,{"$f":"SUM(BC7:BC12)","v":0},null,{"$f":"SUM(BE7:BE12)","v":0},null,{"$f":"SUM(BG7:BG12)","v":0},null,{"$f":"SUM(BI7:BI12)","v":0},null,{"$f":"SUM(BK7:BK12)","v":0},null,{"$f":"SUM(BM7:BM12)","v":0},null,{"$f":"SUM(BO7:BO12)","v":0},null,{"$f":"SUM(BQ7:BQ12)","v":0},null,{"$f":"SUM(BS7:BS12)","v":0},null,{"$f":"SUM(BU7:BU12)","v":0},null,{"$f":"SUM(BW7:BW12)","v":0},null,{"$f":"SUM(BY7:BY12)","v":0},null,{"$f":"SUM(CA7:CA12)","v":0},null,{"$f":"SUM(CC7:CC12)","v":0},null,{"$f":"SUM(CE7:CE12)","v":0},null,{"$f":"SUM(CG7:CG12)","v":0},null,{"$f":"SUM(CI7:CI12)","v":0},null,{"$f":"SUM(CK7:CK12)","v":0},null,{"$f":"SUM(CM7:CM12)","v":0},null,{"$f":"SUM(CO7:CO12)","v":0},null,{"$f":"SUM(CQ7:CQ12)","v":0},null,{"$f":"SUM(CS7:CS12)","v":0},null,{"$f":"SUM(CU7:CU12)","v":0},null,{"$f":"SUM(CW7:CW12)","v":0},null,{"$f":"SUM(CY7:CY12)","v":0},null,{"$f":"SUM(DA7:DA12)","v":0},null,{"$f":"SUM(DC7:DC12)","v":0},null,{"$f":"SUM(DE7:DE12)","v":0},null,{"$f":"SUM(DG7:DG12)","v":0},null,{"$f":"SUM(DI7:DI12)","v":0},null,{"$f":"SUM(DK7:DK12)","v":0},null,{"$f":"SUM(DM7:DM12)","v":0},null,{"$f":"SUM(DO7:DO12)","v":0},null,{"$f":"SUM(DQ7:DQ12)","v":0},null,{"$f":"SUM(DS7:DS12)","v":0},null,{"$f":"SUM(DU7:DU12)","v":0},null,{"$f":"SUM(DW7:DW12)","v":0},null,{"$f":"SUM(DY7:DY12)","v":0},null,{"$f":"SUM(EA7:EA12)","v":0},null,{"$f":"SUM(EC7:EC12)","v":0},null,{"$f":"SUM(EE7:EE12)","v":0},null,{"$f":"SUM(EG7:EG12)","v":0}]
[null,null,null,null,null,null,null,null,null,null,null,null,null,null,null,null,{"$f":"IF($C7=Q$3,1,0)","v":0},null,{"$f":"IF($C7=S$3,1,0)","v":0},null,{"$f":"IF($C7=U$3,1,0)","v":0},null,{"$f":"IF($C7=W$3,1,0)","v":0},null,{"$f":"IF($C7=Y$3,1,0)","v":0},null,{"$f":"IF($C7=AA$3,1,0)","v":0},null,{"$f":"IF($C7=AC$3,1,0)","v":0},null,{"$f":"IF($C7=AE$3,1,0)","v":0},null,{"$f":"IF($C7=AG$3,1,0)","v":0},null,{"$f":"IF($C7=AI$3,1,0)","v":0},null,{"$f":"IF($C7=AK$3,1,0)","v":0},null,{"$f":"IF($C7=AM$3,1,0)","v":0},null,{"$f":"IF($C7=AO$3,1,0)","v":0},null,{"$f":"IF($C7=AQ$3,1,0)","v":0},null,{"$f":"IF($C7=AS$3,1,0)","v":0},null,{"$f":"IF($C7=AU$3,1,0)","v":0},null,{"$f":"IF($C7=AW$3,1,0)","v":0},null,{"$f":"IF($C7=AY$3,1,0)","v":0},null,{"$f":"IF($C7=BA$3,1,0)","v":0},null,{"$f":"IF($C7=BC$3,1,0)","v":0},null,{"$f":"IF($C7=BE$3,1,0)","v":0},null,{"$f":"IF($C7=BG$3,1,0)","v":0},null,{"$f":"IF($C7=BI$3,1,0)","v":0},null,{"$f":"IF($C7=BK$3,1,0)","v":0},null,{"$f":"IF($C7=BM$3,1,0)","v":0},null,{"$f":"IF($C7=BO$3,1,0)","v":0},null,{"$f":"IF($C7=BQ$3,1,0)","v":0},null,{"$f":"IF($C7=BS$3,1,0)","v":0},null,{"$f":"IF($C7=BU$3,1,0)","v":0},null,{"$f":"IF($C7=BW$3,1,0)","v":0},null,{"$f":"IF($C7=BY$3,1,0)","v":0},null,{"$f":"IF($C7=CA$3,1,0)","v":0},null,{"$f":"IF($C7=CC$3,1,0)","v":0},null,{"$f":"IF($C7=CE$3,1,0)","v":0},null,{"$f":"IF($C7=CG$3,1,0)","v":0},null,{"$f":"IF($C7=CI$3,1,0)","v":0},null,{"$f":"IF($C7=CK$3,1,0)","v":0},null,{"$f":"IF($C7=CM$3,1,0)","v":0},null,{"$f":"IF($C7=CO$3,1,0)","v":0},null,{"$f":"IF($C7=CQ$3,1,0)","v":0},null,{"$f":"IF($C7=CS$3,1,0)","v":0},null,0,null,0,null,0,null,0,null,0,null,0,null,0,null,0,null,0,null,0,null,0,null,0,null,0,null,0,null,0,null,0,null,0,null,0,null,0,null,0]
[null,null,5,{"$f":"HLOOKUP($C8,'Dados Gerais'!$D$6:$BI$11,6)","v":" DIRETOR DE IMAGENS – 30H"},{"$f":"HLOOKUP($C8,'Dados Gerais'!$D$6:$BI$15,10)","v":24},null,null,null,null,null,null,null,null,null,null,null,0,null,{"$f":"IF($C8=S$3,1,0)","v":0},null,{"$f":"IF($C8=U$3,1,0)","v":0},null,{"$f":"IF($C8=W$3,1,0)","v":0},null,{"$f":"IF($C8=Y$3,1,0)","v":1},null,{"$f":"IF($C8=AA$3,1,0)","v":0},null,{"$f":"IF($C8=AC$3,1,0)","v":0},null,{"$f":"IF($C8=AE$3,1,0)","v":0},null,{"$f":"IF($C8=AG$3,1,0)","v":0},null,{"$f":"IF($C8=AI$3,1,0)","v":0},null,{"$f":"IF($C8=AK$3,1,0)","v":0},null,{"$f":"IF($C8=AM$3,1,0)","v":0},null,{"$f":"IF($C8=AO$3,1,0)","v":0},null,{"$f":"IF($C8=AQ$3,1,0)","v":0},null,{"$f":"IF($C8=AS$3,1,0)","v":0},null,{"$f":"IF($C8=AU$3,1,0)","v":0},null,{"$f":"IF($C8=AW$3,1,0)","v":0},null,{"$f":"IF($C8=AY$3,1,0)","v":0},null,{"$f":"IF($C8=BA$3,1,0)","v":0},null,{"$f":"IF($C8=BC$3,1,0)","v":0},null,{"$f":"IF($C8=BE$3,1,0)","v":0},null,{"$f":"IF($C8=BG$3,1,0)","v":0},null,{"$f":"IF($C8=BI$3,1,0)","v":0},null,{"$f":"IF($C8=BK$3,1,0)","v":0},null,{"$f":"IF($C8=BM$3,1,0)","v":0},null,{"$f":"IF($C8=BO$3,1,0)","v":0},null,{"$f":"IF($C8=BQ$3,1,0)","v":0},null,{"$f":"IF($C8=BS$3,1,0)","v":0},null,{"$f":"IF($C8=BU$3,1,0)","v":0},null,{"$f":"IF($C8=BW$3,1,0)","v":0},null,{"$f":"IF($C8=BY$3,1,0)","v":0},null,{"$f":"IF($C8=CA$3,1,0)","v":0},null,{"$f":"IF($C8=CC$3,1,0)","v":0},null,0,null,0,null,0,null,0,null,0,null,0,null,0,null,0,null,0,null,0,null,0,null,0,null,0,null,0,null,0,null,0,null,0,null,0,null,0,null,0,null,0,null,0,null,0,null,0,null,0,null,0,null,0,null,0]
[null,null,6,{"$f":"HLOOKUP($C9,'Dados Gerais'!$D$6:$BI$11,6)","v":" DIRETOR DE IMAGENS – 18H"},{"$f":"HLOOKUP($C9,'Dados Gerais'!$D$6:$BI$15,10)","v":21},null,null,null,null,null,null,null,null,null,null,null,0,null,{"$f":"IF($C9=S$3,1,0)","v":0},null,{"$f":"IF($C9=U$3,1,0)","v":0},null,{"$f":"IF($C9=W$3,1,0)","v":0},null,{"$f":"IF($C9=Y$3,1,0)","v":0},null,{"$f":"IF($C9=AA$3,1,0)","v":1},null,{"$f":"IF($C9=AC$3,1,0)","v":0},null,{"$f":"IF($C9=AE$3,1,0)","v":0},null,{"$f":"IF($C9=AG$3,1,0)","v":0},null,{"$f":"IF($C9=AI$3,1,0)","v":0},null,{"$f":"IF($C9=AK$3,1,0)","v":0},null,{"$f":"IF($C9=AM$3,1,0)","v":0},null,{"$f":"IF($C9=AO$3,1,0)","v":0},null,{"$f":"IF($C9=AQ$3,1,0)","v":0},null,{"$f":"IF($C9=AS$3,1,0)","v":0},null,{"$f":"IF($C9=AU$3,1,0)","v":0},null,{"$f":"IF($C9=AW$3,1,0)","v":0},null,{"$f":"IF($C9=AY$3,1,0)","v":0},null,{"$f":"IF($C9=BA$3,1,0)","v":0},null,{"$f":"IF($C9=BC$3,1,0)","v":0},null,{"$f":"IF($C9=BE$3,1,0)","v":0},null,{"$f":"IF($C9=BG$3,1,0)","v":0},null,{"$f":"IF($C9=BI$3,1,0)","v":0},null,{"$f":"IF($C9=BK$3,1,0)","v":0},null,{"$f":"IF($C9=BM$3,1,0)","v":0},null,{"$f":"IF($C9=BO$3,1,0)","v":0},null,{"$f":"IF($C9=BQ$3,1,0)","v":0},null,{"$f":"IF($C9=BS$3,1,0)","v":0},null,{"$f":"IF($C9=BU$3,1,0)","v":0},null,{"$f":"IF($C9=BW$3,1,0)","v":0},null,{"$f":"IF($C9=BY$3,1,0)","v":0},null,{"$f":"IF($C9=CA$3,1,0)","v":0},null,{"$f":"IF($C9=CC$3,1,0)","v":0},null,0,null,0,null,0,null,0,null,0,null,0,null,0,null,0,null,0,null,0,null,0,null,0,null,0,null,0,null,0,null,0,null,0,null,0,null,0,null,0,null,0,null,0,null,0,null,0,null,0,null,0,null,0,null,0]
[null,null,8,{"$f":"HLOOKUP($C10,'Dados Gerais'!$D$6:$BI$11,6)","v":"OPERADOR DE MÍDIA AUDIOVISUAL – 30H"},{"$f":"HLOOKUP($C10,'Dados Gerais'!$D$6:$BI$15,10)","v":34},null,null,null,null,null,null,null,null,null,null,null,0,null,{"$f":"IF($C10=S$3,1,0)","v":0},null,{"$f":"IF($C10=U$3,1,0)","v":0},null,{"$f":"IF($C10=W$3,1,0)","v":0},null,{"$f":"IF($C10=Y$3,1,0)","v":0},null,{"$f":"IF($C10=AA$3,1,0)","v":0},null,{"$f":"IF($C10=AC$3,1,0)","v":0},null,{"$f":"IF($C10=AE$3,1,0)","v":1},null,{"$f":"IF($C10=AG$3,1,0)","v":0},null,{"$f":"IF($C10=AI$3,1,0)","v":0},null,{"$f":"IF($C10=AK$3,1,0)","v":0},null,{"$f":"IF($C10=AM$3,1,0)","v":0},null,{"$f":"IF($C10=AO$3,1,0)","v":0},null,{"$f":"IF($C10=AQ$3,1,0)","v":0},null,{"$f":"IF($C10=AS$3,1,0)","v":0},null,{"$f":"IF($C10=AU$3,1,0)","v":0},null,{"$f":"IF($C10=AW$3,1,0)","v":0},null,{"$f":"IF($C10=AY$3,1,0)","v":0},null,{"$f":"IF($C10=BA$3,1,0)","v":0},null,{"$f":"IF($C10=BC$3,1,0)","v":0},null,{"$f":"IF($C10=BE$3,1,0)","v":0},null,{"$f":"IF($C10=BG$3,1,0)","v":0},null,{"$f":"IF($C10=BI$3,1,0)","v":0},null,{"$f":"IF($C10=BK$3,1,0)","v":0},null,{"$f":"IF($C10=BM$3,1,0)","v":0},null,{"$f":"IF($C10=BO$3,1,0)","v":0},null,{"$f":"IF($C10=BQ$3,1,0)","v":0},null,{"$f":"IF($C10=BS$3,1,0)","v":0},null,{"$f":"IF($C10=BU$3,1,0)","v":0},null,{"$f":"IF($C10=BW$3,1,0)","v":0},null,{"$f":"IF($C10=BY$3,1,0)","v":0},null,{"$f":"IF($C10=CA$3,1,0)","v":0},null,{"$f":"IF($C10=CC$3,1,0)","v":0},null,0,null,0,null,0,null,0,null,0,null,0,null,0,null,0,null,0,null,0,null,0,null,0,null,0,null,0,null,0,null,0,null,0,null,0,null,0,null,0,null,0,null,0,null,0,null,0,null,0,null,0,null,0,null,0]
[null,null,9,{"$f":"HLOOKUP($C11,'Dados Gerais'!$D$6:$BI$11,6)","v":"OPERADOR DE MÍDIA AUDIOVISUAL – 18H"},{"$f":"HLOOKUP($C11,'Dados Gerais'!$D$6:$BI$15,10)","v":26},null,null,null,null,null,null,null,null,null,null,null,0,null,{"$f":"IF($C11=S$3,1,0)","v":0},null,{"$f":"IF($C11=U$3,1,0)","v":0},null,{"$f":"IF($C11=W$3,1,0)","v":0},null,{"$f":"IF($C11=Y$3,1,0)","v":0},null,{"$f":"IF($C11=AA$3,1,0)","v":0},null,{"$f":"IF($C11=AC$3,1,0)","v":0},null,{"$f":"IF($C11=AE$3,1,0)","v":0},null,{"$f":"IF($C11=AG$3,1,0)","v":1},null,{"$f":"IF($C11=AI$3,1,0)","v":0},null,{"$f":"IF($C11=AK$3,1,0)","v":0},null,{"$f":"IF($C11=AM$3,1,0)","v":0},null,{"$f":"IF($C11=AO$3,1,0)","v":0},null,{"$f":"IF($C11=AQ$3,1,0)","v":0},null,{"$f":"IF($C11=AS$3,1,0)","v":0},null,{"$f":"IF($C11=AU$3,1,0)","v":0},null,{"$f":"IF($C11=AW$3,1,0)","v":0},null,{"$f":"IF($C11=AY$3,1,0)","v":0},null,{"$f":"IF($C11=BA$3,1,0)","v":0},null,{"$f":"IF($C11=BC$3,1,0)","v":0},null,{"$f":"IF($C11=BE$3,1,0)","v":0},null,{"$f":"IF($C11=BG$3,1,0)","v":0},null,{"$f":"IF($C11=BI$3,1,0)","v":0},null,{"$f":"IF($C11=BK$3,1,0)","v":0},null,{"$f":"IF($C11=BM$3,1,0)","v":0},null,{"$f":"IF($C11=BO$3,1,0)","v":0},null,{"$f":"IF($C11=BQ$3,1,0)","v":0},null,{"$f":"IF($C11=BS$3,1,0)","v":0},null,{"$f":"IF($C11=BU$3,1,0)","v":0},null,{"$f":"IF($C11=BW$3,1,0)","v":0},null,{"$f":"IF($C11=BY$3,1,0)","v":0},null,{"$f":"IF($C11=CA$3,1,0)","v":0},null,{"$f":"IF($C11=CC$3,1,0)","v":0},null,0,null,0,null,0,null,0,null,0,null,0,null,0,null,0,null,0,null,0,null,0,null,0,null,0,null,0,null,0,null,0,null,0,null,0,null,0,null,0,null,0,null,0,null,0,null,0,null,0,null,0,null,0,null,0]
[null,null,null,null,null,null,null,null,null,null,null,null,null,null,null,null,0,null,{"$f":"IF($C12=S$3,1,0)","v":0},null,0,null,0,null,0,null,0,null,0,null,0,null,0,null,0,null,0,null,0,null,0,null,0,null,0,null,0,null,0,null,0,null,0,null,0,null,0,null,0,null,0,null,0,null,0,null,0,null,0,null,0,null,0,null,0,null,0,null,0,null,0,null,0,null,0,null,0,null,0,null,0,null,0,null,0,null,{"$f":"IF($C12=CS$3,1,0)","v":0},null,{"$f":"IF($C12=CU$3,1,0)","v":0},null,{"$f":"IF($C12=CW$3,1,0)","v":0},null,{"$f":"IF($C12=CY$3,1,0)","v":0},null,{"$f":"IF($C12=DA$3,1,0)","v":0},null,{"$f":"IF($C12=DC$3,1,0)","v":0},null,{"$f":"IF($C12=DE$3,1,0)","v":0},null,{"$f":"IF($C12=DG$3,1,0)","v":0},null,{"$f":"IF($C12=DI$3,1,0)","v":0},null,{"$f":"IF($C12=DK$3,1,0)","v":0},null,{"$f":"IF($C12=DM$3,1,0)","v":0},null,{"$f":"IF($C12=DO$3,1,0)","v":0},null,{"$f":"IF($C12=DQ$3,1,0)","v":0},null,{"$f":"IF($C12=DS$3,1,0)","v":0},null,{"$f":"IF($C12=DU$3,1,0)","v":0},null,{"$f":"IF($C12=DW$3,1,0)","v":0},null,{"$f":"IF($C12=DY$3,1,0)","v":0},null,{"$f":"IF($C12=EA$3,1,0)","v":0},null,{"$f":"IF($C12=EC$3,1,0)","v":0},null,{"$f":"IF($C12=EE$3,1,0)","v":0},null,{"$f":"IF($C12=EG$3,1,0)","v":0}]
[]
[null,null,"PAGAMENTO DA DEPRECIAÇÃO"]
[null,null,"ITEM","DESCRIÇÃO","QUANT ANUAL","CONTA SIAFI","VALOR DE AQ.","% RESIDUAL","VIDA ÚTIL","DEP. MENSAL","CUSTO TOTAL","MANUTENÇÃO (%)","PREÇO TOTAL","FONTE","REFERÊNCIA"]
[]
[null,null,null,"FONE DE OUVIDO \nCARACTERÍSTICA(S): fone de ouvido circumaural (over-ear) estereofônico dinâmico do tipo fechado; protetor e arco do fone acolchoados; arco com ajuste de tamanho; conexão por cabo único, unilateral; resposta mínima em frequência de 20Hz a 20KHz; sensibilidade de 105dB a 1KHz / 1mW, ou melhor; cabo com tamanho mínimo de 2m (dois metros); conector do tipo P2 estéreo de 1/8\" (um oitavo de polegada). \nACESSÓRIO(S): adaptador para conector do tipo P10 estéreo de 1/4\" (um quarto de polegada). \nMARCA(S)/MODELO(S) DE REFERÊNCIA: BEHRINGER/HPM-1000; AKG/K52; SENNHEISER/HD 205 II.",1,null,212.97,0.05,5,{"$f":"G17*(1-H17)/(I17*12)","v":3.3720249999999998},{"$f":"J17*E17","v":3.3720249999999998},{"$f":"J225","v":0.59376239999999991},{"$f":"ROUND(K17*(1+L17),2)","v":5.37},"COTAÇÃO",null,null,null,{"$f":"IF(SUM(Q$6)>0,$M17,0)","v":0},null,{"$f":"IF(SUM(S$6)>0,$M17,0)","v":0},null,{"$f":"IF(SUM(U$6)>0,$M17,0)","v":0},null,{"$f":"IF(SUM(W$6)>0,$M17,0)","v":0},null,{"$f":"IF(SUM(Y$6)>0,$M17,0)","v":5.37},null,{"$f":"IF(SUM(AA$6)>0,$M17,0)","v":5.37},null,{"$f":"IF(SUM(AC$6)>0,$M17,0)","v":0},null,{"$f":"IF(SUM(AE$6)>0,$M17,0)","v":5.37},null,{"$f":"IF(SUM(AG$6)>0,$M17,0)","v":5.37},null,{"$f":"IF(SUM(AI$6)>0,$M17,0)","v":0},null,{"$f":"IF(SUM(AK$6)>0,$M17,0)","v":0},null,{"$f":"IF(SUM(AM$6)>0,$M17,0)","v":0},null,{"$f":"IF(SUM(AO$6)>0,$M17,0)","v":0},null,{"$f":"IF(SUM(AQ$6)>0,$M17,0)","v":0},null,{"$f":"IF(SUM(AS$6)>0,$M17,0)","v":0},null,{"$f":"IF(SUM(AU$6)>0,$M17,0)","v":0},null,{"$f":"IF(SUM(AW$6)>0,$M17,0)","v":0},null,{"$f":"IF(SUM(AY$6)>0,$M17,0)","v":0},null,{"$f":"IF(SUM(BA$6)>0,$M17,0)","v":0},null,{"$f":"IF(SUM(BC$6)>0,$M17,0)","v":0},null,{"$f":"IF(SUM(BE$6)>0,$M17,0)","v":0},null,{"$f":"IF(SUM(BG$6)>0,$M17,0)","v":0},null,{"$f":"IF(SUM(BI$6)>0,$M17,0)","v":0},null,{"$f":"IF(SUM(BK$6)>0,$M17,0)","v":0},null,{"$f":"IF(SUM(BM$6)>0,$M17,0)","v":0},null,{"$f":"IF(SUM(BO$6)>0,$M17,0)","v":0},null,{"$f":"IF(SUM(BQ$6)>0,$M17,0)","v":0},null,{"$f":"IF(SUM(BS$6)>0,$M17,0)","v":0},null,{"$f":"IF(SUM(BU$6)>0,$M17,0)","v":0},null,{"$f":"IF(SUM(BW$6)>0,$M17,0)","v":0},null,{"$f":"IF(SUM(BY$6)>0,$M17,0)","v":0},null,{"$f":"IF(SUM(CA$6)>0,$M17,0)","v":0},null,{"$f":"IF(SUM(CC$6)>0,$M17,0)","v":0},null,{"$f":"IF(SUM(CE$6)>0,$M17,0)","v":0},null,{"$f":"IF(SUM(CG$6)>0,$M17,0)","v":0},null,{"$f":"IF(SUM(CI$6)>0,$M17,0)","v":0},null,{"$f":"IF(SUM(CK$6)>0,$M17,0)","v":0},null,{"$f":"IF(SUM(CM$6)>0,$M17,0)","v":0},null,{"$f":"IF(SUM(CO$6)>0,$M17,0)","v":0},null,{"$f":"IF(SUM(CQ$6)>0,$M17,0)","v":0},null,{"$f":"IF(SUM(CS$6)>0,$M17,0)","v":0},null,{"$f":"IF(SUM(CU$6)>0,$M17,0)","v":0},null,{"$f":"IF(SUM(CW$6)>0,$M17,0)","v":0},null,{"$f":"IF(SUM(CY$6)>0,$M17,0)","v":0},null,{"$f":"IF(SUM(DA$6)>0,$M17,0)","v":0},null,{"$f":"IF(SUM(DC$6)>0,$M17,0)","v":0},null,{"$f":"IF(SUM(DE$6)>0,$M17,0)","v":0},null,{"$f":"IF(SUM(DG$6)>0,$M17,0)","v":0},null,{"$f":"IF(SUM(DI$6)>0,$M17,0)","v":0},null,{"$f":"IF(SUM(DK$6)>0,$M17,0)","v":0},null,{"$f":"IF(SUM(DM$6)>0,$M17,0)","v":0},null,{"$f":"IF(SUM(DO$6)>0,$M17,0)","v":0},null,{"$f":"IF(SUM(DQ$6)>0,$M17,0)","v":0},null,{"$f":"IF(SUM(DS$6)>0,$M17,0)","v":0},null,{"$f":"IF(SUM(DU$6)>0,$M17,0)","v":0},null,{"$f":"IF(SUM(DW$6)>0,$M17,0)","v":0},null,{"$f":"IF(SUM(DY$6)>0,$M17,0)","v":0},null,{"$f":"IF(SUM(EA$6)>0,$M17,0)","v":0},null,{"$f":"IF(SUM(EC$6)>0,$M17,0)","v":0},null,{"$f":"IF(SUM(EE$6)>0,$M17,0)","v":0},null,{"$f":"IF(SUM(EG$6)>0,$M17,0)","v":0}]
[]
[]
[null,null,"CATEGORIAS",null,"QUANTIDADE"]
[null,null,null,null,null,null,null,null,null,null,null,null,null,null,null,null,0,null,0,null,0,null,0,null,0,null,0,null,0,null,0,null,0,null,0,null,0,null,0,null,0,null,0,null,0,null,0,null,0,null,0,null,0,null,0,null,0,null,0,null,0,null,0,null,0,null,0,null,0,null,0,null,0,null,0,null,0,null,0,null,0,null,0,null,0,null,0,null,0,null,0,null,0,null,0,null,0,null,0,null,0,null,0,null,0,null,0,null,0,null,0,null,0,null,0,null,0,null,0,null,0,null,0,null,0,null,0,null,0,null,0,null,0,null,0,null,0]
[null,null,null,{"$f":"HLOOKUP($C22,'Dados Gerais'!$D$6:$BI$11,6)","v":{"$error":"#N/A"}},{"$f":"HLOOKUP($C22,'Dados Gerais'!$D$6:$BI$15,10)","v":{"$error":"#N/A"}},null,null,null,null,null,null,null,null,null,null,null,{"$f":"IF($C22=Q$3,1,0)","v":0},null,{"$f":"IF($C22=S$3,1,0)","v":0},null,{"$f":"IF($C22=U$3,1,0)","v":0},null,{"$f":"IF($C22=W$3,1,0)","v":0},null,{"$f":"IF($C22=Y$3,1,0)","v":0},null,{"$f":"IF($C22=AA$3,1,0)","v":0},null,{"$f":"IF($C22=AC$3,1,0)","v":0},null,{"$f":"IF($C22=AE$3,1,0)","v":0},null,{"$f":"IF($C22=AG$3,1,0)","v":0},null,{"$f":"IF($C22=AI$3,1,0)","v":0},null,{"$f":"IF($C22=AK$3,1,0)","v":0},null,{"$f":"IF($C22=AM$3,1,0)","v":0},null,{"$f":"IF($C22=AO$3,1,0)","v":0},null,{"$f":"IF($C22=AQ$3,1,0)","v":0},null,{"$f":"IF($C22=AS$3,1,0)","v":0},null,{"$f":"IF($C22=AU$3,1,0)","v":0},null,{"$f":"IF($C22=AW$3,1,0)","v":0},null,{"$f":"IF($C22=AY$3,1,0)","v":0},null,{"$f":"IF($C22=BA$3,1,0)","v":0},null,{"$f":"IF($C22=BC$3,1,0)","v":0},null,{"$f":"IF($C22=BE$3,1,0)","v":0},null,{"$f":"IF($C22=BG$3,1,0)","v":0},null,{"$f":"IF($C22=BI$3,1,0)","v":0},null,{"$f":"IF($C22=BK$3,1,0)","v":0},null,{"$f":"IF($C22=BM$3,1,0)","v":0},null,{"$f":"IF($C22=BO$3,1,0)","v":0},null,{"$f":"IF($C22=BQ$3,1,0)","v":0},null,{"$f":"IF($C22=BS$3,1,0)","v":0},null,{"$f":"IF($C22=BU$3,1,0)","v":0},null,{"$f":"IF($C22=BW$3,1,0)","v":0},null,{"$f":"IF($C22=BY$3,1,0)","v":0},null,{"$f":"IF($C22=CA$3,1,0)","v":0},null,{"$f":"IF($C22=CC$3,1,0)","v":0},null,{"$f":"IF($C22=CE$3,1,0)","v":0},null,{"$f":"IF($C22=CG$3,1,0)","v":0},null,{"$f":"IF($C22=CI$3,1,0)","v":0},null,{"$f":"IF($C22=CK$3,1,0)","v":0},null,{"$f":"IF($C22=CM$3,1,0)","v":0},null,{"$f":"IF($C22=CO$3,1,0)","v":0},null,{"$f":"IF($C22=CQ$3,1,0)","v":0},null,{"$f":"IF($C22=CS$3,1,0)","v":0},null,{"$f":"IF($C22=CU$3,1,0)","v":0},null,{"$f":"IF($C22=CW$3,1,0)","v":0},null,{"$f":"IF($C22=CY$3,1,0)","v":0},null,{"$f":"IF($C22=DA$3,1,0)","v":0},null,{"$f":"IF($C22=DC$3,1,0)","v":0},null,{"$f":"IF($C22=DE$3,1,0)","v":0},null,{"$f":"IF($C22=DG$3,1,0)","v":0},null,{"$f":"IF($C22=DI$3,1,0)","v":0},null,{"$f":"IF($C22=DK$3,1,0)","v":0},null,{"$f":"IF($C22=DM$3,1,0)","v":0},null,{"$f":"IF($C22=DO$3,1,0)","v":0},null,{"$f":"IF($C22=DQ$3,1,0)","v":0},null,{"$f":"IF($C22=DS$3,1,0)","v":0},null,{"$f":"IF($C22=DU$3,1,0)","v":0},null,{"$f":"IF($C22=DW$3,1,0)","v":0},null,{"$f":"IF($C22=DY$3,1,0)","v":0},null,{"$f":"IF($C22=EA$3,1,0)","v":0},null,{"$f":"IF($C22=EC$3,1,0)","v":0},null,{"$f":"IF($C22=EE$3,1,0)","v":0},null,{"$f":"IF($C22=EG$3,1,0)","v":0}]
[null,null,null,null,null,null,null,null,null,null,null,null,null,null,null,null,0,null,0,null,0,null,0,null,0,null,0,null,0,null,0,null,0,null,0,null,0,null,0,null,0,null,0,null,0,null,0,null,0,null,0,null,0,null,0,null,0,null,0,null,0,null,0,null,0,null,0,null,0,null,0,null,0,null,0,null,0,null,0,null,0,null,0,null,0,null,0,null,0,null,0,null,0,null,0,null,0,null,0,null,0,null,0,null,0,null,0,null,0,null,0,null,0,null,0,null,0,null,0,null,0,null,0,null,0,null,0,null,0,null,0,null,0,null,0,null,0]
[]
[null,null,"PAGAMENTO DA DEPRECIAÇÃO"]
[null,null,"ITEM","DESCRIÇÃO","QUANT ANUAL","CONTA SIAFI","VALOR DE AQ.","% RESIDUAL","VIDA ÚTIL","DEP. MENSAL","CUSTO TOTAL","MAN (%)","PREÇO TOTAL","FONTE","REFERÊNCIA"]
[]
[null,null,null,null,null,null,null,0.05,5,{"$f":"G28*(1-H28)/(I28*12)","v":0},{"$f":"J28*E28","v":0},{"$f":"$J$225","v":0.59376239999999991},{"$f":"ROUND(K28*(1+L28),2)","v":0},"COTAÇÃO",null,null,null,{"$f":"IF(SUM(Q$21:Q$23)>0,$M28,0)","v":0},null,{"$f":"IF(SUM(S$21:S$23)>0,$M28,0)","v":0},null,{"$f":"IF(SUM(U$21:U$23)>0,$M28,0)","v":0},null,null,null,{"$f":"IF(SUM(Y$21:Y$23)>0,$M28,0)","v":0},null,{"$f":"IF(SUM(AA$21:AA$23)>0,$M28,0)","v":0},null,{"$f":"IF(SUM(AC$21:AC$23)>0,$M28,0)","v":0},null,{"$f":"IF(SUM(AE$21:AE$23)>0,$M28,0)","v":0},null,{"$f":"IF(SUM(AG$21:AG$23)>0,$M28,0)","v":0},null,{"$f":"IF(SUM(AI$21:AI$23)>0,$M28,0)","v":0},null,{"$f":"IF(SUM(AK$21:AK$23)>0,$M28,0)","v":0},null,{"$f":"IF(SUM(AM$21:AM$23)>0,$M28,0)","v":0},null,{"$f":"IF(SUM(AO$21:AO$23)>0,$M28,0)","v":0},null,{"$f":"IF(SUM(AQ$21:AQ$23)>0,$M28,0)","v":0},null,{"$f":"IF(SUM(AS$21:AS$23)>0,$M28,0)","v":0},null,{"$f":"IF(SUM(AU$21:AU$23)>0,$M28,0)","v":0},null,{"$f":"IF(SUM(AW$21:AW$23)>0,$M28,0)","v":0},null,{"$f":"IF(SUM(AY$21:AY$23)>0,$M28,0)","v":0},null,{"$f":"IF(SUM(BA$21:BA$23)>0,$M28,0)","v":0},null,{"$f":"IF(SUM(BC$21:BC$23)>0,$M28,0)","v":0},null,{"$f":"IF(SUM(BE$21:BE$23)>0,$M28,0)","v":0},null,{"$f":"IF(SUM(BG$21:BG$23)>0,$M28,0)","v":0},null,{"$f":"IF(SUM(BI$21:BI$23)>0,$M28,0)","v":0},null,{"$f":"IF(SUM(BK$21:BK$23)>0,$M28,0)","v":0},null,{"$f":"IF(SUM(BM$21:BM$23)>0,$M28,0)","v":0},null,{"$f":"IF(SUM(BO$21:BO$23)>0,$M28,0)","v":0},null,{"$f":"IF(SUM(BQ$21:BQ$23)>0,$M28,0)","v":0},null,{"$f":"IF(SUM(BS$21:BS$23)>0,$M28,0)","v":0},null,{"$f":"IF(SUM(BU$21:BU$23)>0,$M28,0)","v":0},null,{"$f":"IF(SUM(BW$21:BW$23)>0,$M28,0)","v":0},null,{"$f":"IF(SUM(BY$21:BY$23)>0,$M28,0)","v":0},null,{"$f":"IF(SUM(CA$21:CA$23)>0,$M28,0)","v":0},null,{"$f":"IF(SUM(CC$21:CC$23)>0,$M28,0)","v":0},null,{"$f":"IF(SUM(CE$21:CE$23)>0,$M28,0)","v":0},null,{"$f":"IF(SUM(CG$21:CG$23)>0,$M28,0)","v":0},null,{"$f":"IF(SUM(CI$21:CI$23)>0,$M28,0)","v":0},null,{"$f":"IF(SUM(CK$21:CK$23)>0,$M28,0)","v":0},null,{"$f":"IF(SUM(CM$21:CM$23)>0,$M28,0)","v":0},null,{"$f":"IF(SUM(CO$21:CO$23)>0,$M28,0)","v":0},null,{"$f":"IF(SUM(CQ$21:CQ$23)>0,$M28,0)","v":0},null,{"$f":"IF(SUM(CS$21:CS$23)>0,$M28,0)","v":0},null,{"$f":"IF(SUM(CU$21:CU$23)>0,$M28,0)","v":0},null,{"$f":"IF(SUM(CW$21:CW$23)>0,$M28,0)","v":0},null,{"$f":"IF(SUM(CY$21:CY$23)>0,$M28,0)","v":0},null,{"$f":"IF(SUM(DA$21:DA$23)>0,$M28,0)","v":0},null,{"$f":"IF(SUM(DC$21:DC$23)>0,$M28,0)","v":0},null,{"$f":"IF(SUM(DE$21:DE$23)>0,$M28,0)","v":0},null,{"$f":"IF(SUM(DG$21:DG$23)>0,$M28,0)","v":0},null,{"$f":"IF(SUM(DI$21:DI$23)>0,$M28,0)","v":0},null,{"$f":"IF(SUM(DK$21:DK$23)>0,$M28,0)","v":0},null,{"$f":"IF(SUM(DM$21:DM$23)>0,$M28,0)","v":0},null,{"$f":"IF(SUM(DO$21:DO$23)>0,$M28,0)","v":0},null,{"$f":"IF(SUM(DQ$21:DQ$23)>0,$M28,0)","v":0},null,{"$f":"IF(SUM(DS$21:DS$23)>0,$M28,0)","v":0},null,{"$f":"IF(SUM(DU$21:DU$23)>0,$M28,0)","v":0},null,{"$f":"IF(SUM(DW$21:DW$23)>0,$M28,0)","v":0},null,{"$f":"IF(SUM(DY$21:DY$23)>0,$M28,0)","v":0},null,{"$f":"IF(SUM(EA$21:EA$23)>0,$M28,0)","v":0},null,{"$f":"IF(SUM(EC$21:EC$23)>0,$M28,0)","v":0},null,{"$f":"IF(SUM(EE$21:EE$23)>0,$M28,0)","v":0},null,{"$f":"IF(SUM(EG$21:EG$23)>0,$M28,0)","v":0}]
[null,null,null,null,null,null,null,0.05,5,{"$f":"G29*(1-H29)/(I29*12)","v":0},{"$f":"J29*E29","v":0},0.59376239999999991,{"$f":"ROUND(K29*(1+L29),2)","v":0},"COTAÇÃO",null,null,null,0,null,0,null,0,null,null,null,0,null,0,null,{"$f":"IF(SUM(AC$21:AC$23)>0,$M29,0)","v":0},null,0,null,0,null,0,null,0,null,0,null,0,null,0,null,0,null,0,null,0,null,0,null,0,null,0,null,0,null,0,null,0,null,0,null,0,null,0,null,0,null,0,null,0,null,0,null,0,null,0,null,0,null,0,null,0,null,0,null,0,null,0,null,0,null,0,null,0,null,0,null,0,null,0,null,0,null,0,null,0,null,0,null,0,null,0,null,0,null,0,null,0,null,0,null,0,null,0,null,0,null,0,null,0,null,0,null,0]
[null,null,null,null,null,null,null,0.05,5,{"$f":"G30*(1-H30)/(I30*12)","v":0},{"$f":"J30*E30","v":0},0.59376239999999991,{"$f":"ROUND(K30*(1+L30),2)","v":0},"COTAÇÃO",null,null,null,0,null,0,null,0,null,null,null,0,null,0,null,{"$f":"IF(SUM(AC$21:AC$23)>0,$M30,0)","v":0},null,0,null,0,null,0,null,0,null,0,null,0,null,0,null,0,null,0,null,0,null,0,null,0,null,0,null,0,null,0,null,0,null,0,null,0,null,0,null,0,null,0,null,0,null,0,null,0,null,0,null,0,null,0,null,0,null,0,null,0,null,0,null,0,null,0,null,0,null,0,null,0,null,0,null,0,null,0,null,0,null,0,null,0,null,0,null,0,null,0,null,0,null,0,null,0,null,0,null,0,null,0,null,0,null,0,null,0]
[null,null,null,null,null,null,null,0.05,5,{"$f":"G31*(1-H31)/(I31*12)","v":0},{"$f":"J31*E31","v":0},0.59376239999999991,{"$f":"ROUND(K31*(1+L31),2)","v":0},"COTAÇÃO",null,null,null,0,null,0,null,0,null,null,null,0,null,0,null,0,null,0,null,0,null,0,null,0,null,0,null,0,null,0,null,0,null,0,null,0,null,0,null,0,null,0,null,0,null,0,null,0,null,0,null,0,null,0,null,0,null,0,null,0,null,0,null,0,null,0,null,0,null,0,null,0,null,0,null,0,null,0,null,0,null,0,null,0,null,0,null,0,null,0,null,0,null,0,null,0,null,0,null,0,null,0,null,0,null,0,null,0,null,0,null,0,null,0,null,0,null,0,null,0,null,0,null,0]
[null,null,null,null,null,null,null,0.05,5,{"$f":"G32*(1-H32)/(I32*12)","v":0},{"$f":"J32*E32","v":0},0.59376239999999991,{"$f":"ROUND(K32*(1+L32),2)","v":0},"COTAÇÃO",null,null,null,0,null,0,null,0,null,null,null,0,null,0,null,0,null,0,null,0,null,0,null,0,null,0,null,0,null,0,null,0,null,0,null,0,null,0,null,0,null,0,null,0,null,0,null,0,null,0,null,0,null,0,null,0,null,0,null,0,null,0,null,0,null,0,null,0,null,0,null,0,null,0,null,0,null,0,null,0,null,0,null,0,null,0,null,0,null,0,null,0,null,0,null,0,null,0,null,0,null,0,null,0,null,0,null,0,null,0,null,0,null,0,null,0,null,0,null,0,null,0,null,0]
[null,null,null,null,null,null,null,0.05,5,{"$f":"G33*(1-H33)/(I33*12)","v":0},{"$f":"J33*E33","v":0},0.59376239999999991,{"$f":"ROUND(K33*(1+L33),2)","v":0},"COTAÇÃO",null,null,null,0,null,0,null,0,null,null,null,0,null,0,null,0,null,0,null,0,null,0,null,0,null,0,null,0,null,0,null,0,null,0,null,0,null,0,null,0,null,0,null,0,null,0,null,0,null,0,null,0,null,0,null,0,null,0,null,0,null,0,null,0,null,0,null,0,null,0,null,0,null,0,null,0,null,0,null,0,null,0,null,0,null,0,null,0,null,0,null,0,null,0,null,0,null,0,null,0,null,0,null,0,null,0,null,0,null,0,null,0,null,0,null,0,null,0,null,0,null,0,null,0]
[null,null,null,null,null,null,null,0.05,5,0,0,0.59376239999999991,0,"COTAÇÃO",null,null,null,0,null,0,null,0,null,null,null,0,null,0,null,0,null,0,null,0,null,0,null,0,null,0,null,0,null,0,null,0,null,0,null,0,null,0,null,0,null,0,null,0,null,0,null,0,null,0,null,0,null,0,null,0,null,0,null,0,null,0,null,0,null,0,null,0,null,0,null,0,null,0,null,0,null,0,null,0,null,0,null,0,null,0,null,0,null,0,null,0,null,0,null,0,null,0,null,0,null,0,null,0,null,0,null,0,null,0,null,0,null,0,null,0,null,0,null,0,null,0,null,0]
[null,null,null,null,null,null,null,0.05,5,0,0,0.59376239999999991,0,"COTAÇÃO",null,null,null,0,null,0,null,0,null,null,null,0,null,0,null,0,null,0,null,0,null,0,null,0,null,0,null,0,null,0,null,0,null,0,null,0,null,0,null,0,null,0,null,0,null,0,null,0,null,0,null,0,null,0,null,0,null,0,null,0,null,0,null,0,null,0,null,0,null,0,null,0,null,0,null,0,null,0,null,0,null,0,null,0,null,0,null,0,null,0,null,0,null,0,null,0,null,0,null,0,null,0,null,0,null,0,null,0,null,0,null,0,null,0,null,0,null,0,null,0,null,0,null,0]
[null,null,null,null,null,null,null,0.05,5,0,0,0.59376239999999991,0,"COTAÇÃO",null,null,null,0,null,0,null,0,null,null,null,0,null,0,null,0,null,0,null,0,null,0,null,0,null,0,null,0,null,0,null,0,null,0,null,0,null,0,null,0,null,0,null,0,null,0,null,0,null,0,null,0,null,0,null,0,null,0,null,0,null,0,null,0,null,0,null,0,null,0,null,0,null,0,null,0,null,0,null,0,null,0,null,0,null,0,null,0,null,0,null,0,null,0,null,0,null,0,null,0,null,0,null,0,null,0,null,0,null,0,null,0,null,0,null,0,null,0,null,0,null,0,null,0]
[null,null,null,null,null,null,null,0.05,5,0,0,0.59376239999999991,0,"COTAÇÃO",null,null,null,0,null,0,null,0,null,null,null,0,null,0,null,0,null,0,null,0,null,0,null,0,null,0,null,0,null,0,null,0,null,0,null,0,null,0,null,0,null,0,null,0,null,0,null,0,null,0,null,0,null,0,null,0,null,0,null,0,null,0,null,0,null,0,null,0,null,0,null,0,null,0,null,0,null,0,null,0,null,0,null,0,null,0,null,0,null,0,null,0,null,0,null,0,null,0,null,0,null,0,null,0,null,0,null,0,null,0,null,0,null,0,null,0,null,0,null,0,null,0,null,0]
[null,null,null,null,null,null,null,0.05,5,0,0,0.59376239999999991,0,"COTAÇÃO",null,null,null,0,null,0,null,0,null,null,null,0,null,0,null,0,null,0,null,0,null,0,null,0,null,0,null,0,null,0,null,0,null,0,null,0,null,0,null,0,null,0,null,0,null,0,null,0,null,0,null,0,null,0,null,0,null,0,null,0,null,0,null,0,null,0,null,0,null,0,null,0,null,0,null,0,null,0,null,0,null,0,null,0,null,0,null,0,null,0,null,0,null,0,null,0,null,0,null,0,null,0,null,0,null,0,null,0,null,0,null,0,null,0,null,0,null,0,null,0,null,0,null,0]
[null,null,null,null,null,null,null,0.05,5,0,0,0.59376239999999991,0,"COTAÇÃO",null,null,null,0,null,0,null,0,null,null,null,0,null,0,null,0,null,0,null,0,null,0,null,0,null,0,null,0,null,0,null,0,null,0,null,0,null,0,null,0,null,0,null,0,null,0,null,0,null,0,null,0,null,0,null,0,null,0,null,0,null,0,null,0,null,0,null,0,null,0,null,0,null,0,null,0,null,0,null,0,null,0,null,0,null,0,null,0,null,0,null,0,null,0,null,0,null,0,null,0,null,0,null,0,null,0,null,0,null,0,null,0,null,0,null,0,null,0,null,0,null,0,null,0]
[null,null,null,null,null,null,null,0.05,5,{"$f":"G40*(1-H40)/(I40*12)","v":0},{"$f":"J40*E40","v":0},0.59376239999999991,{"$f":"ROUND(K40*(1+L40),2)","v":0},"COTAÇÃO",null,null,null,0,null,0,null,0,null,null,null,0,null,0,null,0,null,0,null,0,null,0,null,0,null,0,null,0,null,0,null,0,null,0,null,0,null,0,null,0,null,0,null,0,null,0,null,0,null,0,null,0,null,0,null,0,null,0,null,0,null,0,null,0,null,0,null,0,null,0,null,0,null,0,null,0,null,0,null,0,null,0,null,0,null,0,null,0,null,0,null,0,null,0,null,0,null,0,null,0,null,0,null,0,null,0,null,0,null,0,null,0,null,0,null,0,null,0,null,0,null,0,null,0]
[null,null,null,null,null,null,null,0.05,5,0,0,0.59376239999999991,0,"COTAÇÃO",null,null,null,0,null,0,null,0,null,null,null,0,null,0,null,0,null,0,null,0,null,0,null,0,null,0,null,0,null,0,null,0,null,0,null,0,null,0,null,0,null,0,null,0,null,0,null,0,null,0,null,0,null,0,null,0,null,0,null,0,null,0,null,0,null,0,null,0,null,0,null,0,null,0,null,0,null,0,null,0,null,0,null,0,null,0,null,0,null,0,null,0,null,0,null,0,null,0,null,0,null,0,null,0,null,0,null,0,null,0,null,0,null,0,null,0,null,0,null,0,null,0,null,0]
[null,null,null,null,null,null,null,0.05,5,0,0,0.59376239999999991,0,"COTAÇÃO",null,null,null,0,null,0,null,0,null,null,null,0,null,0,null,0,null,0,null,0,null,0,null,0,null,0,null,0,null,0,null,0,null,0,null,0,null,0,null,0,null,0,null,0,null,0,null,0,null,0,null,0,null,0,null,0,null,0,null,0,null,0,null,0,null,0,null,0,null,0,null,0,null,0,null,0,null,0,null,0,null,0,null,0,null,0,null,0,null,0,null,0,null,0,null,0,null,0,null,0,null,0,null,0,null,0,null,0,null,0,null,0,null,0,null,0,null,0,null,0,null,0,null,0]
[null,null,null,null,null,null,null,0.05,5,0,0,0.59376239999999991,0,"COTAÇÃO",null,null,null,0,null,0,null,0,null,null,null,0,null,0,null,0,null,0,null,0,null,0,null,0,null,0,null,0,null,0,null,0,null,0,null,0,null,0,null,0,null,0,null,0,null,0,null,0,null,0,null,0,null,0,null,0,null,0,null,0,null,0,null,0,null,0,null,0,null,0,null,0,null,0,null,0,null,0,null,0,null,0,null,0,null,0,null,0,null,0,null,0,null,0,null,0,null,0,null,0,null,0,null,0,null,0,null,0,null,0,null,0,null,0,null,0,null,0,null,0,null,0,null,0]
[null,null,null,null,null,null,null,0.05,5,0,0,0.59376239999999991,0,"COTAÇÃO",null,null,null,0,null,0,null,0,null,null,null,0,null,0,null,0,null,0,null,0,null,0,null,0,null,0,null,0,null,0,null,0,null,0,null,0,null,0,null,0,null,0,null,0,null,0,null,0,null,0,null,0,null,0,null,0,null,0,null,0,null,0,null,0,null,0,null,0,null,0,null,0,null,0,null,0,null,0,null,0,null,0,null,0,null,0,null,0,null,0,null,0,null,0,null,0,null,0,null,0,null,0,null,0,null,0,null,0,null,0,null,0,null,0,null,0,null,0,null,0,null,0,null,0]
[null,null,null,null,null,null,null,0.05,5,0,0,0.59376239999999991,0,"COTAÇÃO",null,null,null,0,null,0,null,0,null,null,null,0,null,0,null,0,null,0,null,0,null,0,null,0,null,0,null,0,null,0,null,0,null,0,null,0,null,0,null,0,null,0,null,0,null,0,null,0,null,0,null,0,null,0,null,0,null,0,null,0,null,0,null,0,null,0,null,0,null,0,null,0,null,0,null,0,null,0,null,0,null,0,null,0,null,0,null,0,null,0,null,0,null,0,null,0,null,0,null,0,null,0,null,0,null,0,null,0,null,0,null,0,null,0,null,0,null,0,null,0,null,0,null,0]
[null,null,null,null,null,null,null,0.05,5,0,0,0.59376239999999991,0,"COTAÇÃO",null,null,null,0,null,0,null,0,null,null,null,0,null,0,null,0,null,0,null,0,null,0,null,0,null,0,null,0,null,0,null,0,null,0,null,0,null,0,null,0,null,0,null,0,null,0,null,0,null,0,null,0,null,0,null,0,null,0,null,0,null,0,null,0,null,0,null,0,null,0,null,0,null,0,null,0,null,0,null,0,null,0,null,0,null,0,null,0,null,0,null,0,null,0,null,0,null,0,null,0,null,0,null,0,null,0,null,0,null,0,null,0,null,0,null,0,null,0,null,0,null,0,null,0]
[null,null,null,null,null,null,null,0.05,5,{"$f":"G47*(1-H47)/(I47*12)","v":0},{"$f":"J47*E47","v":0},0.59376239999999991,{"$f":"ROUND(K47*(1+L47),2)","v":0},"COTAÇÃO",null,null,null,0,null,0,null,0,null,null,null,0,null,0,null,0,null,0,null,0,null,0,null,0,null,0,null,0,null,0,null,0,null,0,null,0,null,0,null,0,null,0,null,0,null,0,null,0,null,0,null,0,null,0,null,0,null,0,null,0,null,0,null,0,null,0,null,0,null,0,null,0,null,0,null,0,null,0,null,0,null,0,null,0,null,0,null,0,null,0,null,0,null,0,null,0,null,0,null,0,null,0,null,0,null,0,null,0,null,0,null,0,null,0,null,0,null,0,null,0,null,0,null,0]
[null,null,null,null,null,null,null,0.05,5,0,0,0.59376239999999991,0,"COTAÇÃO",null,null,null,0,null,0,null,0,null,null,null,0,null,0,null,0,null,0,null,0,null,0,null,0,null,0,null,0,null,0,null,0,null,0,null,0,null,0,null,0,null,0,null,0,null,0,null,0,null,0,null,0,null,0,null,0,null,0,null,0,null,0,null,0,null,0,null,0,null,0,null,0,null,0,null,0,null,0,null,0,null,0,null,0,null,0,null,0,null,0,null,0,null,0,null,0,null,0,null,0,null,0,null,0,null,0,null,0,null,0,null,0,null,0,null,0,null,0,null,0,null,0,null,0]
[null,null,null,null,null,null,null,0.05,5,0,0,0.59376239999999991,0,"COTAÇÃO",null,null,null,0,null,0,null,0,null,null,null,0,null,0,null,0,null,0,null,0,null,0,null,0,null,0,null,0,null,0,null,0,null,0,null,0,null,0,null,0,null,0,null,0,null,0,null,0,null,0,null,0,null,0,null,0,null,0,null,0,null,0,null,0,null,0,null,0,null,0,null,0,null,0,null,0,null,0,null,0,null,0,null,0,null,0,null,0,null,0,null,0,null,0,null,0,null,0,null,0,null,0,null,0,null,0,null,0,null,0,null,0,null,0,null,0,null,0,null,0,null,0,null,0]
[null,null,null,null,null,null,null,0.05,5,0,0,0.59376239999999991,0,"COTAÇÃO",null,null,null,0,null,0,null,0,null,null,null,0,null,0,null,0,null,0,null,0,null,0,null,0,null,0,null,0,null,0,null,0,null,0,null,0,null,0,null,0,null,0,null,0,null,0,null,0,null,0,null,0,null,0,null,0,null,0,null,0,null,0,null,0,null,0,null,0,null,0,null,0,null,0,null,0,null,0,null,0,null,0,null,0,null,0,null,0,null,0,null,0,null,0,null,0,null,0,null,0,null,0,null,0,null,0,null,0,null,0,null,0,null,0,null,0,null,0,null,0,null,0,null,0]
[null,null,null,null,null,null,null,0.05,5,0,0,0.59376239999999991,0,"COTAÇÃO",null,null,null,0,null,0,null,0,null,null,null,0,null,0,null,0,null,0,null,0,null,0,null,0,null,0,null,0,null,0,null,0,null,0,null,0,null,0,null,0,null,0,null,0,null,0,null,0,null,0,null,0,null,0,null,0,null,0,null,0,null,0,null,0,null,0,null,0,null,0,null,0,null,0,null,0,null,0,null,0,null,0,null,0,null,0,null,0,null,0,null,0,null,0,null,0,null,0,null,0,null,0,null,0,null,0,null,0,null,0,null,0,null,0,null,0,null,0,null,0,null,0,null,0]
[null,null,null,null,null,null,null,0.05,5,0,0,0.59376239999999991,0,"COTAÇÃO",null,null,null,0,null,0,null,0,null,null,null,0,null,0,null,0,null,0,null,0,null,0,null,0,null,0,null,0,null,0,null,0,null,0,null,0,null,0,null,0,null,0,null,0,null,0,null,0,null,0,null,0,null,0,null,0,null,0,null,0,null,0,null,0,null,0,null,0,null,0,null,0,null,0,null,0,null,0,null,0,null,0,null,0,null,0,null,0,null,0,null,0,null,0,null,0,null,0,null,0,null,0,null,0,null,0,null,0,null,0,null,0,null,0,null,0,null,0,null,0,null,0,null,0]
[null,null,null,null,null,null,null,0.05,5,0,0,0.59376239999999991,0,"COTAÇÃO",null,null,null,0,null,0,null,0,null,null,null,0,null,0,null,0,null,0,null,0,null,0,null,0,null,0,null,0,null,0,null,0,null,0,null,0,null,0,null,0,null,0,null,0,null,0,null,0,null,0,null,0,null,0,null,0,null,0,null,0,null,0,null,0,null,0,null,0,null,0,null,0,null,0,null,0,null,0,null,0,null,0,null,0,null,0,null,0,null,0,null,0,null,0,null,0,null,0,null,0,null,0,null,0,null,0,null,0,null,0,null,0,null,0,null,0,null,0,null,0,null,0,null,0]
[null,null,null,null,null,null,null,0.05,5,{"$f":"G54*(1-H54)/(I54*12)","v":0},{"$f":"J54*E54","v":0},0.59376239999999991,{"$f":"ROUND(K54*(1+L54),2)","v":0},"COTAÇÃO",null,null,null,0,null,0,null,0,null,null,null,0,null,0,null,0,null,0,null,0,null,0,null,0,null,0,null,0,null,0,null,0,null,0,null,0,null,0,null,0,null,0,null,0,null,0,null,0,null,0,null,0,null,0,null,0,null,0,null,0,null,0,null,0,null,0,null,0,null,0,null,0,null,0,null,0,null,0,null,0,null,0,null,0,null,0,null,0,null,0,null,0,null,0,null,0,null,0,null,0,null,0,null,0,null,0,null,0,null,0,null,0,null,0,null,0,null,0,null,0,null,0,null,0]
[null,null,null,null,null,null,null,0.05,5,0,0,0.59376239999999991,0,"COTAÇÃO",null,null,null,0,null,0,null,0,null,null,null,0,null,0,null,0,null,0,null,0,null,0,null,0,null,0,null,0,null,0,null,0,null,0,null,0,null,0,null,0,null,0,null,0,null,0,null,0,null,0,null,0,null,0,null,0,null,0,null,0,null,0,null,0,null,0,null,0,null,0,null,0,null,0,null,0,null,0,null,0,null,0,null,0,null,0,null,0,null,0,null,0,null,0,null,0,null,0,null,0,null,0,null,0,null,0,null,0,null,0,null,0,null,0,null,0,null,0,null,0,null,0,null,0]
[null,null,null,null,null,null,null,0.05,5,0,0,0.59376239999999991,0,"COTAÇÃO",null,null,null,0,null,0,null,0,null,null,null,0,null,0,null,0,null,0,null,0,null,0,null,0,null,0,null,0,null,0,null,0,null,0,null,0,null,0,null,0,null,0,null,0,null,0,null,0,null,0,null,0,null,0,null,0,null,0,null,0,null,0,null,0,null,0,null,0,null,0,null,0,null,0,null,0,null,0,null,0,null,0,null,0,null,0,null,0,null,0,null,0,null,0,null,0,null,0,null,0,null,0,null,0,null,0,null,0,null,0,null,0,null,0,null,0,null,0,null,0,null,0,null,0]
[null,null,null,null,null,null,null,0.05,5,0,0,0.59376239999999991,0,"COTAÇÃO",null,null,null,0,null,0,null,0,null,null,null,0,null,0,null,0,null,0,null,0,null,0,null,0,null,0,null,0,null,0,null,0,null,0,null,0,null,0,null,0,null,0,null,0,null,0,null,0,null,0,null,0,null,0,null,0,null,0,null,0,null,0,null,0,null,0,null,0,null,0,null,0,null,0,null,0,null,0,null,0,null,0,null,0,null,0,null,0,null,0,null,0,null,0,null,0,null,0,null,0,null,0,null,0,null,0,null,0,null,0,null,0,null,0,null,0,null,0,null,0,null,0,null,0]
[null,null,null,null,null,null,null,0.05,5,0,0,0.59376239999999991,0,"COTAÇÃO",null,null,null,0,null,0,null,0,null,null,null,0,null,0,null,0,null,0,null,0,null,0,null,0,null,0,null,0,null,0,null,0,null,0,null,0,null,0,null,0,null,0,null,0,null,0,null,0,null,0,null,0,null,0,null,0,null,0,null,0,null,0,null,0,null,0,null,0,null,0,null,0,null,0,null,0,null,0,null,0,null,0,null,0,null,0,null,0,null,0,null,0,null,0,null,0,null,0,null,0,null,0,null,0,null,0,null,0,null,0,null,0,null,0,null,0,null,0,null,0,null,0,null,0]
[null,null,null,null,null,null,null,0.05,5,0,0,0.59376239999999991,0,"COTAÇÃO",null,null,null,0,null,0,null,0,null,null,null,0,null,0,null,0,null,0,null,0,null,0,null,0,null,0,null,0,null,0,null,0,null,0,null,0,null,0,null,0,null,0,null,0,null,0,null,0,null,0,null,0,null,0,null,0,null,0,null,0,null,0,null,0,null,0,null,0,null,0,null,0,null,0,null,0,null,0,null,0,null,0,null,0,null,0,null,0,null,0,null,0,null,0,null,0,null,0,null,0,null,0,null,0,null,0,null,0,null,0,null,0,null,0,null,0,null,0,null,0,null,0,null,0]
[null,null,null,null,null,null,null,0.05,5,0,0,{"$f":"$J$225","v":0.59376239999999991},0,"COTAÇÃO",null,null,null,0,null,0,null,0,null,null,null,0,null,0,null,0,null,0,null,0,null,0,null,0,null,0,null,0,null,0,null,0,null,0,null,0,null,0,null,0,null,0,null,0,null,0,null,0,null,0,null,0,null,0,null,0,null,0,null,0,null,0,null,0,null,0,null,0,null,0,null,0,null,0,null,0,null,0,null,0,null,0,null,0,null,0,null,0,null,0,null,0,null,0,null,0,null,0,null,0,null,0,null,0,null,0,null,0,null,0,null,0,null,0,null,0,null,0,null,0,null,0,null,0]
[null,null,null,null,null,null,null,0.05,5,0,0,0.59376239999999991,0,"COTAÇÃO",null,null,null,{"$f":"IF(SUM(Q$21:Q$23)>0,$M61,0)","v":0},null,{"$f":"IF(SUM(S$21:S$23)>0,$M61,0)","v":0},null,{"$f":"IF(SUM(U$21:U$23)>0,$M61,0)","v":0},null,null,null,{"$f":"IF(SUM(Y$21:Y$23)>0,$M61,0)","v":0},null,{"$f":"IF(SUM(AA$21:AA$23)>0,$M61,0)","v":0},null,{"$f":"IF(SUM(AC$21:AC$23)>0,$M61,0)","v":0},null,{"$f":"IF(SUM(AE$21:AE$23)>0,$M61,0)","v":0},null,{"$f":"IF(SUM(AG$21:AG$23)>0,$M61,0)","v":0},null,{"$f":"IF(SUM(AI$21:AI$23)>0,$M61,0)","v":0},null,{"$f":"IF(SUM(AK$21:AK$23)>0,$M61,0)","v":0},null,{"$f":"IF(SUM(AM$21:AM$23)>0,$M61,0)","v":0},null,{"$f":"IF(SUM(AO$21:AO$23)>0,$M61,0)","v":0},null,{"$f":"IF(SUM(AQ$21:AQ$23)>0,$M61,0)","v":0},null,{"$f":"IF(SUM(AS$21:AS$23)>0,$M61,0)","v":0},null,{"$f":"IF(SUM(AU$21:AU$23)>0,$M61,0)","v":0},null,{"$f":"IF(SUM(AW$21:AW$23)>0,$M61,0)","v":0},null,{"$f":"IF(SUM(AY$21:AY$23)>0,$M61,0)","v":0},null,{"$f":"IF(SUM(BA$21:BA$23)>0,$M61,0)","v":0},null,{"$f":"IF(SUM(BC$21:BC$23)>0,$M61,0)","v":0},null,{"$f":"IF(SUM(BE$21:BE$23)>0,$M61,0)","v":0},null,{"$f":"IF(SUM(BG$21:BG$23)>0,$M61,0)","v":0},null,{"$f":"IF(SUM(BI$21:BI$23)>0,$M61,0)","v":0},null,{"$f":"IF(SUM(BK$21:BK$23)>0,$M61,0)","v":0},null,{"$f":"IF(SUM(BM$21:BM$23)>0,$M61,0)","v":0},null,{"$f":"IF(SUM(BO$21:BO$23)>0,$M61,0)","v":0},null,{"$f":"IF(SUM(BQ$21:BQ$23)>0,$M61,0)","v":0},null,{"$f":"IF(SUM(BS$21:BS$23)>0,$M61,0)","v":0},null,{"$f":"IF(SUM(BU$21:BU$23)>0,$M61,0)","v":0},null,{"$f":"IF(SUM(BW$21:BW$23)>0,$M61,0)","v":0},null,{"$f":"IF(SUM(BY$21:BY$23)>0,$M61,0)","v":0},null,{"$f":"IF(SUM(CA$21:CA$23)>0,$M61,0)","v":0},null,{"$f":"IF(SUM(CC$21:CC$23)>0,$M61,0)","v":0},null,{"$f":"IF(SUM(CE$21:CE$23)>0,$M61,0)","v":0},null,{"$f":"IF(SUM(CG$21:CG$23)>0,$M61,0)","v":0},null,{"$f":"IF(SUM(CI$21:CI$23)>0,$M61,0)","v":0},null,{"$f":"IF(SUM(CK$21:CK$23)>0,$M61,0)","v":0},null,{"$f":"IF(SUM(CM$21:CM$23)>0,$M61,0)","v":0},null,{"$f":"IF(SUM(CO$21:CO$23)>0,$M61,0)","v":0},null,{"$f":"IF(SUM(CQ$21:CQ$23)>0,$M61,0)","v":0},null,{"$f":"IF(SUM(CS$21:CS$23)>0,$M61,0)","v":0},null,{"$f":"IF(SUM(CU$21:CU$23)>0,$M61,0)","v":0},null,{"$f":"IF(SUM(CW$21:CW$23)>0,$M61,0)","v":0},null,{"$f":"IF(SUM(CY$21:CY$23)>0,$M61,0)","v":0},null,{"$f":"IF(SUM(DA$21:DA$23)>0,$M61,0)","v":0},null,{"$f":"IF(SUM(DC$21:DC$23)>0,$M61,0)","v":0},null,{"$f":"IF(SUM(DE$21:DE$23)>0,$M61,0)","v":0},null,{"$f":"IF(SUM(DG$21:DG$23)>0,$M61,0)","v":0},null,{"$f":"IF(SUM(DI$21:DI$23)>0,$M61,0)","v":0},null,{"$f":"IF(SUM(DK$21:DK$23)>0,$M61,0)","v":0},null,{"$f":"IF(SUM(DM$21:DM$23)>0,$M61,0)","v":0},null,{"$f":"IF(SUM(DO$21:DO$23)>0,$M61,0)","v":0},null,{"$f":"IF(SUM(DQ$21:DQ$23)>0,$M61,0)","v":0},null,{"$f":"IF(SUM(DS$21:DS$23)>0,$M61,0)","v":0},null,{"$f":"IF(SUM(DU$21:DU$23)>0,$M61,0)","v":0},null,{"$f":"IF(SUM(DW$21:DW$23)>0,$M61,0)","v":0},null,{"$f":"IF(SUM(DY$21:DY$23)>0,$M61,0)","v":0},null,{"$f":"IF(SUM(EA$21:EA$23)>0,$M61,0)","v":0},null,{"$f":"IF(SUM(EC$21:EC$23)>0,$M61,0)","v":0},null,{"$f":"IF(SUM(EE$21:EE$23)>0,$M61,0)","v":0},null,{"$f":"IF(SUM(EG$21:EG$23)>0,$M61,0)","v":0}]
[null,null,null,null,null,null,null,0.05,5,0,0,0.59376239999999991,0,"COTAÇÃO",null,null,null,0,null,0,null,0,null,null,null,0,null,0,null,0,null,0,null,0,null,0,null,0,null,0,null,0,null,0,null,0,null,0,null,0,null,0,null,0,null,0,null,0,null,0,null,0,null,0,null,0,null,0,null,0,null,0,null,0,null,0,null,0,null,0,null,0,null,0,null,0,null,0,null,0,null,0,null,0,null,0,null,0,null,0,null,0,null,0,null,0,null,0,null,0,null,0,null,0,null,0,null,0,null,0,null,0,null,0,null,0,null,0,null,0,null,0,null,0,null,0,null,0]
[null,null,null,null,null,null,null,0.05,5,0,0,0.59376239999999991,0,"COTAÇÃO",null,null,null,0,null,0,null,0,null,null,null,0,null,0,null,0,null,0,null,0,null,0,null,0,null,0,null,0,null,0,null,0,null,0,null,0,null,0,null,0,null,0,null,0,null,0,null,0,null,0,null,0,null,0,null,0,null,0,null,0,null,0,null,0,null,0,null,0,null,0,null,0,null,0,null,0,null,0,null,0,null,0,null,0,null,0,null,0,null,0,null,0,null,0,null,0,null,0,null,0,null,0,null,0,null,0,null,0,null,0,null,0,null,0,null,0,null,0,null,0,null,0,null,0]
[null,null,null,null,null,null,null,0.05,5,0,0,0.59376239999999991,0,"COTAÇÃO",null,null,null,0,null,0,null,0,null,null,null,0,null,0,null,0,null,0,null,0,null,0,null,0,null,0,null,0,null,0,null,0,null,0,null,0,null,0,null,0,null,0,null,0,null,0,null,0,null,0,null,0,null,0,null,0,null,0,null,0,null,0,null,0,null,0,null,0,null,0,null,0,null,0,null,0,null,0,null,0,null,0,null,0,null,0,null,0,null,0,null,0,null,0,null,0,null,0,null,0,null,0,null,0,null,0,null,0,null,0,null,0,null,0,null,0,null,0,null,0,null,0,null,0]
[null,null,null,null,null,null,null,0.05,5,0,0,0.59376239999999991,0,"COTAÇÃO",null,null,null,0,null,0,null,0,null,null,null,0,null,0,null,0,null,0,null,0,null,0,null,0,null,0,null,0,null,0,null,0,null,0,null,0,null,0,null,0,null,0,null,0,null,0,null,0,null,0,null,0,null,0,null,0,null,0,null,0,null,0,null,0,null,0,null,0,null,0,null,0,null,0,null,0,null,0,null,0,null,0,null,0,null,0,null,0,null,0,null,0,null,0,null,0,null,0,null,0,null,0,null,0,null,0,null,0,null,0,null,0,null,0,null,0,null,0,null,0,null,0,null,0]
[null,null,null,null,null,null,null,0.05,5,0,0,0.59376239999999991,0,"COTAÇÃO",null,null,null,0,null,0,null,0,null,null,null,0,null,0,null,0,null,0,null,0,null,0,null,0,null,0,null,0,null,0,null,0,null,0,null,0,null,0,null,0,null,0,null,0,null,0,null,0,null,0,null,0,null,0,null,0,null,0,null,0,null,0,null,0,null,0,null,0,null,0,null,0,null,0,null,0,null,0,null,0,null,0,null,0,null,0,null,0,null,0,null,0,null,0,null,0,null,0,null,0,null,0,null,0,null,0,null,0,null,0,null,0,null,0,null,0,null,0,null,0,null,0,null,0]
[null,null,null,null,null,null,null,0.05,5,{"$f":"G67*(1-H67)/(I67*12)","v":0},{"$f":"J67*E67","v":0},0.59376239999999991,{"$f":"ROUND(K67*(1+L67),2)","v":0},"COTAÇÃO",null,null,null,0,null,0,null,0,null,null,null,0,null,0,null,0,null,0,null,0,null,0,null,0,null,0,null,0,null,0,null,0,null,0,null,0,null,0,null,0,null,0,null,0,null,0,null,0,null,0,null,0,null,0,null,0,null,0,null,0,null,0,null,0,null,0,null,0,null,0,null,0,null,0,null,0,null,0,null,0,null,0,null,0,null,0,null,0,null,0,null,0,null,0,null,0,null,0,null,0,null,0,null,0,null,0,null,0,null,0,null,0,null,0,null,0,null,0,null,0,null,0,null,0]
[null,null,null,null,null,null,null,0.05,5,0,0,0.59376239999999991,0,"COTAÇÃO",null,null,null,0,null,0,null,0,null,null,null,0,null,0,null,0,null,0,null,0,null,0,null,0,null,0,null,0,null,0,null,0,null,0,null,0,null,0,null,0,null,0,null,0,null,0,null,0,null,0,null,0,null,0,null,0,null,0,null,0,null,0,null,0,null,0,null,0,null,0,null,0,null,0,null,0,null,0,null,0,null,0,null,0,null,0,null,0,null,0,null,0,null,0,null,0,null,0,null,0,null,0,null,0,null,0,null,0,null,0,null,0,null,0,null,0,null,0,null,0,null,0,null,0]
[null,null,null,null,null,null,null,0.05,5,0,0,0.59376239999999991,0,"COTAÇÃO",null,null,null,0,null,0,null,0,null,null,null,0,null,0,null,0,null,0,null,0,null,0,null,0,null,0,null,0,null,0,null,0,null,0,null,0,null,0,null,0,null,0,null,0,null,0,null,0,null,0,null,0,null,0,null,0,null,0,null,0,null,0,null,0,null,0,null,0,null,0,null,0,null,0,null,0,null,0,null,0,null,0,null,0,null,0,null,0,null,0,null,0,null,0,null,0,null,0,null,0,null,0,null,0,null,0,null,0,null,0,null,0,null,0,null,0,null,0,null,0,null,0,null,0]
[null,null,null,null,null,null,null,0.05,5,0,0,0.59376239999999991,0,"COTAÇÃO",null,null,null,0,null,0,null,0,null,null,null,0,null,0,null,0,null,0,null,0,null,0,null,0,null,0,null,0,null,0,null,0,null,0,null,0,null,0,null,0,null,0,null,0,null,0,null,0,null,0,null,0,null,0,null,0,null,0,null,0,null,0,null,0,null,0,null,0,null,0,null,0,null,0,null,0,null,0,null,0,null,0,null,0,null,0,null,0,null,0,null,0,null,0,null,0,null,0,null,0,null,0,null,0,null,0,null,0,null,0,null,0,null,0,null,0,null,0,null,0,null,0,null,0]
[null,null,null,null,null,null,null,0.05,5,0,0,0.59376239999999991,0,"COTAÇÃO",null,null,null,0,null,0,null,0,null,null,null,0,null,0,null,0,null,0,null,0,null,0,null,0,null,0,null,0,null,0,null,0,null,0,null,0,null,0,null,0,null,0,null,0,null,0,null,0,null,0,null,0,null,0,null,0,null,0,null,0,null,0,null,0,null,0,null,0,null,0,null,0,null,0,null,0,null,0,null,0,null,0,null,0,null,0,null,0,null,0,null,0,null,0,null,0,null,0,null,0,null,0,null,0,null,0,null,0,null,0,null,0,null,0,null,0,null,0,null,0,null,0,null,0]
[null,null,null,null,null,null,null,0.05,5,0,0,0.59376239999999991,0,"COTAÇÃO",null,null,null,0,null,0,null,0,null,null,null,0,null,0,null,0,null,0,null,0,null,0,null,0,null,0,null,0,null,0,null,0,null,0,null,0,null,0,null,0,null,0,null,0,null,0,null,0,null,0,null,0,null,0,null,0,null,0,null,0,null,0,null,0,null,0,null,0,null,0,null,0,null,0,null,0,null,0,null,0,null,0,null,0,null,0,null,0,null,0,null,0,null,0,null,0,null,0,null,0,null,0,null,0,null,0,null,0,null,0,null,0,null,0,null,0,null,0,null,0,null,0,null,0]
[null,null,null,null,null,null,null,0.05,5,0,0,0.59376239999999991,0,"COTAÇÃO",null,null,null,0,null,0,null,0,null,null,null,0,null,0,null,0,null,0,null,0,null,0,null,0,null,0,null,0,null,0,null,0,null,0,null,0,null,0,null,0,null,0,null,0,null,0,null,0,null,0,null,0,null,0,null,0,null,0,null,0,null,0,null,0,null,0,null,0,null,0,null,0,null,0,null,0,null,0,null,0,null,0,null,0,null,0,null,0,null,0,null,0,null,0,null,0,null,0,null,0,null,0,null,0,null,0,null,0,null,0,null,0,null,0,null,0,null,0,null,0,null,0,null,0]
[null,null,null,null,null,null,null,0.05,5,{"$f":"G74*(1-H74)/(I74*12)","v":0},{"$f":"J74*E74","v":0},0.59376239999999991,{"$f":"ROUND(K74*(1+L74),2)","v":0},"COTAÇÃO",null,null,null,0,null,0,null,0,null,null,null,0,null,0,null,0,null,0,null,0,null,0,null,0,null,0,null,0,null,0,null,0,null,0,null,0,null,0,null,0,null,0,null,0,null,0,null,0,null,0,null,0,null,0,null,0,null,0,null,0,null,0,null,0,null,0,null,0,null,0,null,0,null,0,null,0,null,0,null,0,null,0,null,0,null,0,null,0,null,0,null,0,null,0,null,0,null,0,null,0,null,0,null,0,null,0,null,0,null,0,null,0,null,0,null,0,null,0,null,0,null,0,null,0]
[null,null,null,null,null,null,null,0.05,5,0,0,0.59376239999999991,0,"COTAÇÃO",null,null,null,0,null,0,null,0,null,null,null,0,null,0,null,0,null,0,null,0,null,0,null,0,null,0,null,0,null,0,null,0,null,0,null,0,null,0,null,0,null,0,null,0,null,0,null,0,null,0,null,0,null,0,null,0,null,0,null,0,null,0,null,0,null,0,null,0,null,0,null,0,null,0,null,0,null,0,null,0,null,0,null,0,null,0,null,0,null,0,null,0,null,0,null,0,null,0,null,0,null,0,null,0,null,0,null,0,null,0,null,0,null,0,null,0,null,0,null,0,null,0,null,0]
[null,null,null,null,null,null,null,0.05,5,0,0,0.59376239999999991,0,"COTAÇÃO",null,null,null,0,null,0,null,0,null,null,null,0,null,0,null,0,null,0,null,0,null,0,null,0,null,0,null,0,null,0,null,0,null,0,null,0,null,0,null,0,null,0,null,0,null,0,null,0,null,0,null,0,null,0,null,0,null,0,null,0,null,0,null,0,null,0,null,0,null,0,null,0,null,0,null,0,null,0,null,0,null,0,null,0,null,0,null,0,null,0,null,0,null,0,null,0,null,0,null,0,null,0,null,0,null,0,null,0,null,0,null,0,null,0,null,0,null,0,null,0,null,0,null,0]
[null,null,null,null,null,null,null,0.05,5,0,0,0.59376239999999991,0,"COTAÇÃO",null,null,null,0,null,0,null,0,null,null,null,0,null,0,null,0,null,0,null,0,null,0,null,0,null,0,null,0,null,0,null,0,null,0,null,0,null,0,null,0,null,0,null,0,null,0,null,0,null,0,null,0,null,0,null,0,null,0,null,0,null,0,null,0,null,0,null,0,null,0,null,0,null,0,null,0,null,0,null,0,null,0,null,0,null,0,null,0,null,0,null,0,null,0,null,0,null,0,null,0,null,0,null,0,null,0,null,0,null,0,null,0,null,0,null,0,null,0,null,0,null,0,null,0]
[null,null,null,null,null,null,null,0.05,5,0,0,0.59376239999999991,0,"COTAÇÃO",null,null,null,0,null,0,null,0,null,null,null,0,null,0,null,0,null,0,null,0,null,0,null,0,null,0,null,0,null,0,null,0,null,0,null,0,null,0,null,0,null,0,null,0,null,0,null,0,null,0,null,0,null,0,null,0,null,0,null,0,null,0,null,0,null,0,null,0,null,0,null,0,null,0,null,0,null,0,null,0,null,0,null,0,null,0,null,0,null,0,null,0,null,0,null,0,null,0,null,0,null,0,null,0,null,0,null,0,null,0,null,0,null,0,null,0,null,0,null,0,null,0,null,0]
[null,null,null,null,null,null,null,0.05,5,0,0,0.59376239999999991,0,"COTAÇÃO",null,null,null,0,null,0,null,0,null,null,null,0,null,0,null,0,null,0,null,0,null,0,null,0,null,0,null,0,null,0,null,0,null,0,null,0,null,0,null,0,null,0,null,0,null,0,null,0,null,0,null,0,null,0,null,0,null,0,null,0,null,0,null,0,null,0,null,0,null,0,null,0,null,0,null,0,null,0,null,0,null,0,null,0,null,0,null,0,null,0,null,0,null,0,null,0,null,0,null,0,null,0,null,0,null,0,null,0,null,0,null,0,null,0,null,0,null,0,null,0,null,0,null,0]
[null,null,null,null,null,null,null,0.05,5,0,0,0.59376239999999991,0,"COTAÇÃO",null,null,null,0,null,0,null,0,null,null,null,0,null,0,null,0,null,0,null,0,null,0,null,0,null,0,null,0,null,0,null,0,null,0,null,0,null,0,null,0,null,0,null,0,null,0,null,0,null,0,null,0,null,0,null,0,null,0,null,0,null,0,null,0,null,0,null,0,null,0,null,0,null,0,null,0,null,0,null,0,null,0,null,0,null,0,null,0,null,0,null,0,null,0,null,0,null,0,null,0,null,0,null,0,null,0,null,0,null,0,null,0,null,0,null,0,null,0,null,0,null,0,null,0]
[null,null,null,null,null,null,null,0.05,5,{"$f":"G81*(1-H81)/(I81*12)","v":0},{"$f":"J81*E81","v":0},0.59376239999999991,{"$f":"ROUND(K81*(1+L81),2)","v":0},"COTAÇÃO",null,null,null,0,null,0,null,0,null,null,null,0,null,0,null,0,null,0,null,0,null,0,null,0,null,0,null,0,null,0,null,0,null,0,null,0,null,0,null,0,null,0,null,0,null,0,null,0,null,0,null,0,null,0,null,0,null,0,null,0,null,0,null,0,null,0,null,0,null,0,null,0,null,0,null,0,null,0,null,0,null,0,null,0,null,0,null,0,null,0,null,0,null,0,null,0,null,0,null,0,null,0,null,0,null,0,null,0,null,0,null,0,null,0,null,0,null,0,null,0,null,0,null,0]
[null,null,null,null,null,null,null,0.05,5,0,0,0.59376239999999991,0,"COTAÇÃO",null,null,null,0,null,0,null,0,null,null,null,0,null,0,null,0,null,0,null,0,null,0,null,0,null,0,null,0,null,0,null,0,null,0,null,0,null,0,null,0,null,0,null,0,null,0,null,0,null,0,null,0,null,0,null,0,null,0,null,0,null,0,null,0,null,0,null,0,null,0,null,0,null,0,null,0,null,0,null,0,null,0,null,0,null,0,null,0,null,0,null,0,null,0,null,0,null,0,null,0,null,0,null,0,null,0,null,0,null,0,null,0,null,0,null,0,null,0,null,0,null,0,null,0]
[null,null,null,null,null,null,null,0.05,5,0,0,0.59376239999999991,0,"COTAÇÃO",null,null,null,0,null,0,null,0,null,null,null,0,null,0,null,0,null,0,null,0,null,0,null,0,null,0,null,0,null,0,null,0,null,0,null,0,null,0,null,0,null,0,null,0,null,0,null,0,null,0,null,0,null,0,null,0,null,0,null,0,null,0,null,0,null,0,null,0,null,0,null,0,null,0,null,0,null,0,null,0,null,0,null,0,null,0,null,0,null,0,null,0,null,0,null,0,null,0,null,0,null,0,null,0,null,0,null,0,null,0,null,0,null,0,null,0,null,0,null,0,null,0,null,0]
[null,null,null,null,null,null,null,0.05,5,0,0,0.59376239999999991,0,"COTAÇÃO",null,null,null,0,null,0,null,0,null,null,null,0,null,0,null,0,null,0,null,0,null,0,null,0,null,0,null,0,null,0,null,0,null,0,null,0,null,0,null,0,null,0,null,0,null,0,null,0,null,0,null,0,null,0,null,0,null,0,null,0,null,0,null,0,null,0,null,0,null,0,null,0,null,0,null,0,null,0,null,0,null,0,null,0,null,0,null,0,null,0,null,0,null,0,null,0,null,0,null,0,null,0,null,0,null,0,null,0,null,0,null,0,null,0,null,0,null,0,null,0,null,0,null,0]
[null,null,null,null,null,null,null,0.05,5,0,0,0.59376239999999991,0,"COTAÇÃO",null,null,null,0,null,0,null,0,null,null,null,0,null,0,null,0,null,0,null,0,null,0,null,0,null,0,null,0,null,0,null,0,null,0,null,0,null,0,null,0,null,0,null,0,null,0,null,0,null,0,null,0,null,0,null,0,null,0,null,0,null,0,null,0,null,0,null,0,null,0,null,0,null,0,null,0,null,0,null,0,null,0,null,0,null,0,null,0,null,0,null,0,null,0,null,0,null,0,null,0,null,0,null,0,null,0,null,0,null,0,null,0,null,0,null,0,null,0,null,0,null,0,null,0]
[null,null,null,null,null,null,null,0.05,5,0,0,0.59376239999999991,0,"COTAÇÃO",null,null,null,0,null,0,null,0,null,null,null,0,null,0,null,0,null,0,null,0,null,0,null,0,null,0,null,0,null,0,null,0,null,0,null,0,null,0,null,0,null,0,null,0,null,0,null,0,null,0,null,0,null,0,null,0,null,0,null,0,null,0,null,0,null,0,null,0,null,0,null,0,null,0,null,0,null,0,null,0,null,0,null,0,null,0,null,0,null,0,null,0,null,0,null,0,null,0,null,0,null,0,null,0,null,0,null,0,null,0,null,0,null,0,null,0,null,0,null,0,null,0,null,0]
[null,null,null,null,null,null,null,0.05,5,0,0,0.59376239999999991,0,"COTAÇÃO",null,null,null,0,null,{"$f":"IF(SUM(S$21:S$23)>0,$M87,0)","v":0},null,{"$f":"IF(SUM(U$21:U$23)>0,$M87,0)","v":0},null,null,null,{"$f":"IF(SUM(Y$21:Y$23)>0,$M87,0)","v":0},null,{"$f":"IF(SUM(AA$21:AA$23)>0,$M87,0)","v":0},null,{"$f":"IF(SUM(AC$21:AC$23)>0,$M87,0)","v":0},null,{"$f":"IF(SUM(AE$21:AE$23)>0,$M87,0)","v":0},null,{"$f":"IF(SUM(AG$21:AG$23)>0,$M87,0)","v":0},null,{"$f":"IF(SUM(AI$21:AI$23)>0,$M87,0)","v":0},null,{"$f":"IF(SUM(AK$21:AK$23)>0,$M87,0)","v":0},null,{"$f":"IF(SUM(AM$21:AM$23)>0,$M87,0)","v":0},null,{"$f":"IF(SUM(AO$21:AO$23)>0,$M87,0)","v":0},null,{"$f":"IF(SUM(AQ$21:AQ$23)>0,$M87,0)","v":0},null,{"$f":"IF(SUM(AS$21:AS$23)>0,$M87,0)","v":0},null,{"$f":"IF(SUM(AU$21:AU$23)>0,$M87,0)","v":0},null,{"$f":"IF(SUM(AW$21:AW$23)>0,$M87,0)","v":0},null,{"$f":"IF(SUM(AY$21:AY$23)>0,$M87,0)","v":0},null,{"$f":"IF(SUM(BA$21:BA$23)>0,$M87,0)","v":0},null,{"$f":"IF(SUM(BC$21:BC$23)>0,$M87,0)","v":0},null,{"$f":"IF(SUM(BE$21:BE$23)>0,$M87,0)","v":0},null,{"$f":"IF(SUM(BG$21:BG$23)>0,$M87,0)","v":0},null,{"$f":"IF(SUM(BI$21:BI$23)>0,$M87,0)","v":0},null,{"$f":"IF(SUM(BK$21:BK$23)>0,$M87,0)","v":0},null,{"$f":"IF(SUM(BM$21:BM$23)>0,$M87,0)","v":0},null,{"$f":"IF(SUM(BO$21:BO$23)>0,$M87,0)","v":0},null,{"$f":"IF(SUM(BQ$21:BQ$23)>0,$M87,0)","v":0},null,{"$f":"IF(SUM(BS$21:BS$23)>0,$M87,0)","v":0},null,{"$f":"IF(SUM(BU$21:BU$23)>0,$M87,0)","v":0},null,{"$f":"IF(SUM(BW$21:BW$23)>0,$M87,0)","v":0},null,{"$f":"IF(SUM(BY$21:BY$23)>0,$M87,0)","v":0},null,{"$f":"IF(SUM(CA$21:CA$23)>0,$M87,0)","v":0},null,{"$f":"IF(SUM(CC$21:CC$23)>0,$M87,0)","v":0},null,0,null,0,null,0,null,0,null,0,null,0,null,0,null,0,null,0,null,0,null,0,null,0,null,0,null,0,null,0,null,0,null,0,null,0,null,0,null,0,null,0,null,0,null,0,null,0,null,0,null,0,null,0,null,0]
[null,null,null,null,null,null,null,0.05,5,{"$f":"G88*(1-H88)/(I88*12)","v":0},{"$f":"J88*E88","v":0},0.59376239999999991,{"$f":"ROUND(K88*(1+L88),2)","v":0},"COTAÇÃO",null,null,null,0,null,{"$f":"IF(SUM(S$21:S$23)>0,$M88,0)","v":0},null,{"$f":"IF(SUM(U$21:U$23)>0,$M88,0)","v":0},null,null,null,{"$f":"IF(SUM(Y$21:Y$23)>0,$M88,0)","v":0},null,{"$f":"IF(SUM(AA$21:AA$23)>0,$M88,0)","v":0},null,{"$f":"IF(SUM(AC$21:AC$23)>0,$M88,0)","v":0},null,{"$f":"IF(SUM(AE$21:AE$23)>0,$M88,0)","v":0},null,{"$f":"IF(SUM(AG$21:AG$23)>0,$M88,0)","v":0},null,{"$f":"IF(SUM(AI$21:AI$23)>0,$M88,0)","v":0},null,{"$f":"IF(SUM(AK$21:AK$23)>0,$M88,0)","v":0},null,{"$f":"IF(SUM(AM$21:AM$23)>0,$M88,0)","v":0},null,{"$f":"IF(SUM(AO$21:AO$23)>0,$M88,0)","v":0},null,{"$f":"IF(SUM(AQ$21:AQ$23)>0,$M88,0)","v":0},null,{"$f":"IF(SUM(AS$21:AS$23)>0,$M88,0)","v":0},null,{"$f":"IF(SUM(AU$21:AU$23)>0,$M88,0)","v":0},null,{"$f":"IF(SUM(AW$21:AW$23)>0,$M88,0)","v":0},null,{"$f":"IF(SUM(AY$21:AY$23)>0,$M88,0)","v":0},null,{"$f":"IF(SUM(BA$21:BA$23)>0,$M88,0)","v":0},null,{"$f":"IF(SUM(BC$21:BC$23)>0,$M88,0)","v":0},null,{"$f":"IF(SUM(BE$21:BE$23)>0,$M88,0)","v":0},null,{"$f":"IF(SUM(BG$21:BG$23)>0,$M88,0)","v":0},null,{"$f":"IF(SUM(BI$21:BI$23)>0,$M88,0)","v":0},null,{"$f":"IF(SUM(BK$21:BK$23)>0,$M88,0)","v":0},null,{"$f":"IF(SUM(BM$21:BM$23)>0,$M88,0)","v":0},null,{"$f":"IF(SUM(BO$21:BO$23)>0,$M88,0)","v":0},null,{"$f":"IF(SUM(BQ$21:BQ$23)>0,$M88,0)","v":0},null,{"$f":"IF(SUM(BS$21:BS$23)>0,$M88,0)","v":0},null,{"$f":"IF(SUM(BU$21:BU$23)>0,$M88,0)","v":0},null,{"$f":"IF(SUM(BW$21:BW$23)>0,$M88,0)","v":0},null,{"$f":"IF(SUM(BY$21:BY$23)>0,$M88,0)","v":0},null,{"$f":"IF(SUM(CA$21:CA$23)>0,$M88,0)","v":0},null,{"$f":"IF(SUM(CC$21:CC$23)>0,$M88,0)","v":0},null,0,null,0,null,0,null,0,null,0,null,0,null,0,null,0,null,0,null,0,null,0,null,0,null,0,null,0,null,0,null,0,null,0,null,0,null,0,null,0,null,0,null,0,null,0,null,0,null,0,null,0,null,0,null,0]
[null,null,null,null,null,null,null,null,null,null,null,null,null,null,null,null,null,0,null,{"$f":"IF(SUM(S$21:S$23)>0,$M89,0)","v":0},null,{"$f":"IF(SUM(U$21:U$23)>0,$M89,0)","v":0},null,null,null,{"$f":"IF(SUM(Y$21:Y$23)>0,$M89,0)","v":0},null,{"$f":"IF(SUM(AA$21:AA$23)>0,$M89,0)","v":0},null,{"$f":"IF(SUM(AC$21:AC$23)>0,$M89,0)","v":0},null,{"$f":"IF(SUM(AE$21:AE$23)>0,$M89,0)","v":0},null,{"$f":"IF(SUM(AG$21:AG$23)>0,$M89,0)","v":0},null,{"$f":"IF(SUM(AI$21:AI$23)>0,$M89,0)","v":0},null,{"$f":"IF(SUM(AK$21:AK$23)>0,$M89,0)","v":0},null,{"$f":"IF(SUM(AM$21:AM$23)>0,$M89,0)","v":0},null,{"$f":"IF(SUM(AO$21:AO$23)>0,$M89,0)","v":0},null,{"$f":"IF(SUM(AQ$21:AQ$23)>0,$M89,0)","v":0},null,{"$f":"IF(SUM(AS$21:AS$23)>0,$M89,0)","v":0},null,{"$f":"IF(SUM(AU$21:AU$23)>0,$M89,0)","v":0},null,{"$f":"IF(SUM(AW$21:AW$23)>0,$M89,0)","v":0},null,{"$f":"IF(SUM(AY$21:AY$23)>0,$M89,0)","v":0},null,{"$f":"IF(SUM(BA$21:BA$23)>0,$M89,0)","v":0},null,{"$f":"IF(SUM(BC$21:BC$23)>0,$M89,0)","v":0},null,{"$f":"IF(SUM(BE$21:BE$23)>0,$M89,0)","v":0},null,{"$f":"IF(SUM(BG$21:BG$23)>0,$M89,0)","v":0},null,{"$f":"IF(SUM(BI$21:BI$23)>0,$M89,0)","v":0},null,{"$f":"IF(SUM(BK$21:BK$23)>0,$M89,0)","v":0},null,{"$f":"IF(SUM(BM$21:BM$23)>0,$M89,0)","v":0},null,{"$f":"IF(SUM(BO$21:BO$23)>0,$M89,0)","v":0},null,{"$f":"IF(SUM(BQ$21:BQ$23)>0,$M89,0)","v":0},null,{"$f":"IF(SUM(BS$21:BS$23)>0,$M89,0)","v":0},null,{"$f":"IF(SUM(BU$21:BU$23)>0,$M89,0)","v":0},null,{"$f":"IF(SUM(BW$21:BW$23)>0,$M89,0)","v":0},null,{"$f":"IF(SUM(BY$21:BY$23)>0,$M89,0)","v":0},null,{"$f":"IF(SUM(CA$21:CA$23)>0,$M89,0)","v":0},null,{"$f":"IF(SUM(CC$21:CC$23)>0,$M89,0)","v":0},null,0,null,0,null,0,null,0,null,0,null,0,null,0,null,0,null,0,null,0,null,0,null,0,null,0,null,0,null,0,null,0,null,0,null,0,null,0,null,0,null,0,null,0,null,0,null,0,null,0,null,0,null,0,null,0]
[]
[null,null,"CATEGORIAS",null,"QUANTIDADE"]
[null,null,null,null,null,null,null,null,null,null,null,null,null,null,null,null,0,null,0,null,0,null,0,null,0,null,0,null,0,null,0,null,0,null,0,null,0,null,0,null,0,null,0,null,0,null,0,null,0,null,0,null,0,null,0,null,0,null,0,null,0,null,0,null,0,null,0,null,0,null,0,null,0,null,0,null,0,null,0,null,0,null,0,null,0,null,0,null,0,null,0,null,0,null,0,null,0,null,0,null,0,null,0,null,0,null,0,null,0,null,0,null,0,null,0,null,0,null,0,null,0,null,0,null,0,null,0,null,0,null,0,null,0,null,0,null,0]
[null,null,null,{"$f":"HLOOKUP($C93,'Dados Gerais'!$D$6:$BI$11,6)","v":{"$error":"#N/A"}},{"$f":"HLOOKUP($C93,'Dados Gerais'!$D$6:$BI$15,10)","v":{"$error":"#N/A"}},null,null,null,null,null,null,null,null,null,null,null,{"$f":"IF($C93=Q$3,1,0)","v":0},null,{"$f":"IF($C93=S$3,1,0)","v":0},null,{"$f":"IF($C93=U$3,1,0)","v":0},null,{"$f":"IF($C93=W$3,1,0)","v":0},null,{"$f":"IF($C93=Y$3,1,0)","v":0},null,{"$f":"IF($C93=AA$3,1,0)","v":0},null,{"$f":"IF($C93=AC$3,1,0)","v":0},null,{"$f":"IF($C93=AE$3,1,0)","v":0},null,{"$f":"IF($C93=AG$3,1,0)","v":0},null,{"$f":"IF($C93=AI$3,1,0)","v":0},null,{"$f":"IF($C93=AK$3,1,0)","v":0},null,{"$f":"IF($C93=AM$3,1,0)","v":0},null,{"$f":"IF($C93=AO$3,1,0)","v":0},null,{"$f":"IF($C93=AQ$3,1,0)","v":0},null,{"$f":"IF($C93=AS$3,1,0)","v":0},null,{"$f":"IF($C93=AU$3,1,0)","v":0},null,{"$f":"IF($C93=AW$3,1,0)","v":0},null,{"$f":"IF($C93=AY$3,1,0)","v":0},null,{"$f":"IF($C93=BA$3,1,0)","v":0},null,{"$f":"IF($C93=BC$3,1,0)","v":0},null,{"$f":"IF($C93=BE$3,1,0)","v":0},null,{"$f":"IF($C93=BG$3,1,0)","v":0},null,{"$f":"IF($C93=BI$3,1,0)","v":0},null,{"$f":"IF($C93=BK$3,1,0)","v":0},null,{"$f":"IF($C93=BM$3,1,0)","v":0},null,{"$f":"IF($C93=BO$3,1,0)","v":0},null,{"$f":"IF($C93=BQ$3,1,0)","v":0},null,{"$f":"IF($C93=BS$3,1,0)","v":0},null,{"$f":"IF($C93=BU$3,1,0)","v":0},null,{"$f":"IF($C93=BW$3,1,0)","v":0},null,{"$f":"IF($C93=BY$3,1,0)","v":0},null,{"$f":"IF($C93=CA$3,1,0)","v":0},null,{"$f":"IF($C93=CC$3,1,0)","v":0},null,{"$f":"IF($C93=CE$3,1,0)","v":0},null,{"$f":"IF($C93=CG$3,1,0)","v":0},null,{"$f":"IF($C93=CI$3,1,0)","v":0},null,{"$f":"IF($C93=CK$3,1,0)","v":0},null,{"$f":"IF($C93=CM$3,1,0)","v":0},null,{"$f":"IF($C93=CO$3,1,0)","v":0},null,{"$f":"IF($C93=CQ$3,1,0)","v":0},null,{"$f":"IF($C93=CS$3,1,0)","v":0},null,{"$f":"IF($C93=CU$3,1,0)","v":0},null,{"$f":"IF($C93=CW$3,1,0)","v":0},null,{"$f":"IF($C93=CY$3,1,0)","v":0},null,{"$f":"IF($C93=DA$3,1,0)","v":0},null,{"$f":"IF($C93=DC$3,1,0)","v":0},null,{"$f":"IF($C93=DE$3,1,0)","v":0},null,{"$f":"IF($C93=DG$3,1,0)","v":0},null,{"$f":"IF($C93=DI$3,1,0)","v":0},null,{"$f":"IF($C93=DK$3,1,0)","v":0},null,{"$f":"IF($C93=DM$3,1,0)","v":0},null,{"$f":"IF($C93=DO$3,1,0)","v":0},null,{"$f":"IF($C93=DQ$3,1,0)","v":0},null,{"$f":"IF($C93=DS$3,1,0)","v":0},null,{"$f":"IF($C93=DU$3,1,0)","v":0},null,{"$f":"IF($C93=DW$3,1,0)","v":0},null,{"$f":"IF($C93=DY$3,1,0)","v":0},null,{"$f":"IF($C93=EA$3,1,0)","v":0},null,{"$f":"IF($C93=EC$3,1,0)","v":0},null,{"$f":"IF($C93=EE$3,1,0)","v":0},null,{"$f":"IF($C93=EG$3,1,0)","v":0}]
[null,null,null,null,null,null,null,null,null,null,null,null,null,null,null,null,0,null,0,null,0,null,0,null,0,null,0,null,0,null,0,null,0,null,0,null,0,null,0,null,0,null,0,null,0,null,0,null,0,null,0,null,0,null,0,null,0,null,0,null,0,null,0,null,0,null,0,null,0,null,0,null,0,null,0,null,0,null,0,null,0,null,0,null,0,null,0,null,0,null,0,null,0,null,0,null,0,null,0,null,0,null,0,null,0,null,0,null,0,null,0,null,0,null,0,null,0,null,0,null,0,null,0,null,0,null,0,null,0,null,0,null,0,null,0,null,0]
[]
[null,null,"PAGAMENTO DA DEPRECIAÇÃO"]
[null,null,"ITEM","DESCRIÇÃO","QUANT ANUAL","CONTA SIAFI","VALOR DE AQ.","% RESIDUAL","VIDA ÚTIL","DEP. MENSAL","CUSTO TOTAL","MAN (%)","PREÇO TOTAL","FONTE","REFERÊNCIA"]
[]
[null,null,null,null,null,null,31.5,0.05,5,{"$f":"G99*(1-H99)/(I99*12)","v":0.49874999999999997},{"$f":"J99*E99","v":0},{"$f":"$J$225","v":0.59376239999999991},{"$f":"ROUND(K99*(1+L99),2)","v":0},"COTAÇÃO",null,null,null,{"$f":"IF(SUM(Q$92:Q$94)>0,$M99,0)","v":0},null,{"$f":"IF(SUM(S$92:S$94)>0,$M99,0)","v":0},null,{"$f":"IF(SUM(U$92:U$94)>0,$M99,0)","v":0},null,null,null,{"$f":"IF(SUM(Y$92:Y$94)>0,$M99,0)","v":0},null,{"$f":"IF(SUM(AA$92:AA$94)>0,$M99,0)","v":0},null,{"$f":"IF(SUM(AC$92:AC$94)>0,$M99,0)","v":0},null,{"$f":"IF(SUM(AE$92:AE$94)>0,$M99,0)","v":0},null,{"$f":"IF(SUM(AG$92:AG$94)>0,$M99,0)","v":0},null,{"$f":"IF(SUM(AI$92:AI$94)>0,$M99,0)","v":0},null,{"$f":"IF(SUM(AK$92:AK$94)>0,$M99,0)","v":0},null,{"$f":"IF(SUM(AM$92:AM$94)>0,$M99,0)","v":0},null,{"$f":"IF(SUM(AO$92:AO$94)>0,$M99,0)","v":0},null,{"$f":"IF(SUM(AQ$92:AQ$94)>0,$M99,0)","v":0},null,{"$f":"IF(SUM(AS$92:AS$94)>0,$M99,0)","v":0},null,{"$f":"IF(SUM(AU$92:AU$94)>0,$M99,0)","v":0},null,{"$f":"IF(SUM(AW$92:AW$94)>0,$M99,0)","v":0},null,{"$f":"IF(SUM(AY$92:AY$94)>0,$M99,0)","v":0},null,{"$f":"IF(SUM(BA$92:BA$94)>0,$M99,0)","v":0},null,{"$f":"IF(SUM(BC$92:BC$94)>0,$M99,0)","v":0},null,{"$f":"IF(SUM(BE$92:BE$94)>0,$M99,0)","v":0},null,{"$f":"IF(SUM(BG$92:BG$94)>0,$M99,0)","v":0},null,{"$f":"IF(SUM(BI$92:BI$94)>0,$M99,0)","v":0},null,{"$f":"IF(SUM(BK$92:BK$94)>0,$M99,0)","v":0},null,{"$f":"IF(SUM(BM$92:BM$94)>0,$M99,0)","v":0},null,{"$f":"IF(SUM(BO$92:BO$94)>0,$M99,0)","v":0},null,{"$f":"IF(SUM(BQ$92:BQ$94)>0,$M99,0)","v":0},null,{"$f":"IF(SUM(BS$92:BS$94)>0,$M99,0)","v":0},null,{"$f":"IF(SUM(BU$92:BU$94)>0,$M99,0)","v":0},null,{"$f":"IF(SUM(BW$92:BW$94)>0,$M99,0)","v":0},null,{"$f":"IF(SUM(BY$92:BY$94)>0,$M99,0)","v":0},null,{"$f":"IF(SUM(CA$92:CA$94)>0,$M99,0)","v":0},null,{"$f":"IF(SUM(CC$92:CC$94)>0,$M99,0)","v":0},null,{"$f":"IF(SUM(CE$92:CE$94)>0,$M99,0)","v":0},null,{"$f":"IF(SUM(CG$92:CG$94)>0,$M99,0)","v":0},null,{"$f":"IF(SUM(CI$92:CI$94)>0,$M99,0)","v":0},null,{"$f":"IF(SUM(CK$92:CK$94)>0,$M99,0)","v":0},null,{"$f":"IF(SUM(CM$92:CM$94)>0,$M99,0)","v":0},null,{"$f":"IF(SUM(CO$92:CO$94)>0,$M99,0)","v":0},null,{"$f":"IF(SUM(CQ$92:CQ$94)>0,$M99,0)","v":0},null,{"$f":"IF(SUM(CS$92:CS$94)>0,$M99,0)","v":0},null,{"$f":"IF(SUM(CU$92:CU$94)>0,$M99,0)","v":0},null,{"$f":"IF(SUM(CW$92:CW$94)>0,$M99,0)","v":0},null,{"$f":"IF(SUM(CY$92:CY$94)>0,$M99,0)","v":0},null,{"$f":"IF(SUM(DA$92:DA$94)>0,$M99,0)","v":0},null,{"$f":"IF(SUM(DC$92:DC$94)>0,$M99,0)","v":0},null,{"$f":"IF(SUM(DE$92:DE$94)>0,$M99,0)","v":0},null,{"$f":"IF(SUM(DG$92:DG$94)>0,$M99,0)","v":0},null,{"$f":"IF(SUM(DI$92:DI$94)>0,$M99,0)","v":0},null,{"$f":"IF(SUM(DK$92:DK$94)>0,$M99,0)","v":0},null,{"$f":"IF(SUM(DM$92:DM$94)>0,$M99,0)","v":0},null,{"$f":"IF(SUM(DO$92:DO$94)>0,$M99,0)","v":0},null,{"$f":"IF(SUM(DQ$92:DQ$94)>0,$M99,0)","v":0},null,{"$f":"IF(SUM(DS$92:DS$94)>0,$M99,0)","v":0},null,{"$f":"IF(SUM(DU$92:DU$94)>0,$M99,0)","v":0},null,{"$f":"IF(SUM(DW$92:DW$94)>0,$M99,0)","v":0},null,{"$f":"IF(SUM(DY$92:DY$94)>0,$M99,0)","v":0},null,{"$f":"IF(SUM(EA$92:EA$94)>0,$M99,0)","v":0},null,{"$f":"IF(SUM(EC$92:EC$94)>0,$M99,0)","v":0},null,{"$f":"IF(SUM(EE$92:EE$94)>0,$M99,0)","v":0},null,{"$f":"IF(SUM(EG$92:EG$94)>0,$M99,0)","v":0}]
[null,null,null,null,null,null,40.17,0.05,5,{"$f":"G100*(1-H100)/(I100*12)","v":0.63602499999999995},{"$f":"J100*E100","v":0},0.59376239999999991,{"$f":"ROUND(K100*(1+L100),2)","v":0},"COTAÇÃO",null,null,null,0,null,0,null,0,null,null,null,0,null,0,null,0,null,0,null,0,null,0,null,0,null,0,null,0,null,0,null,0,null,0,null,0,null,0,null,0,null,0,null,0,null,0,null,0,null,0,null,0,null,0,null,0,null,0,null,0,null,0,null,0,null,0,null,0,null,0,null,0,null,0,null,0,null,0,null,0,null,0,null,0,null,0,null,0,null,0,null,0,null,0,null,0,null,0,null,0,null,0,null,0,null,0,null,0,null,0,null,0,null,0,null,0,null,0,null,0,null,0,null,0]
[null,null,null,null,null,null,47.97,0.05,5,{"$f":"G101*(1-H101)/(I101*12)","v":0.75952500000000001},{"$f":"J101*E101","v":0},0.59376239999999991,{"$f":"ROUND(K101*(1+L101),2)","v":0},"COTAÇÃO",null,null,null,0,null,0,null,0,null,null,null,0,null,0,null,0,null,0,null,0,null,0,null,0,null,0,null,0,null,0,null,0,null,0,null,0,null,0,null,0,null,0,null,0,null,0,null,0,null,0,null,0,null,0,null,0,null,0,null,0,null,0,null,0,null,0,null,0,null,0,null,0,null,0,null,0,null,0,null,0,null,0,null,0,null,0,null,0,null,0,null,0,null,0,null,0,null,0,null,0,null,0,null,0,null,0,null,0,null,0,null,0,null,0,null,0,null,0,null,0,null,0,null,0]
[null,null,null,null,null,null,72.27,0.05,5,1.1442749999999999,0,0.59376239999999991,0,"COTAÇÃO",null,null,null,0,null,0,null,0,null,null,null,0,null,0,null,0,null,0,null,0,null,0,null,0,null,0,null,0,null,0,null,0,null,0,null,0,null,0,null,0,null,0,null,0,null,0,null,0,null,0,null,0,null,0,null,0,null,0,null,0,null,0,null,0,null,0,null,0,null,0,null,0,null,0,null,0,null,0,null,0,null,0,null,0,null,0,null,0,null,0,null,0,null,0,null,0,null,0,null,0,null,0,null,0,null,0,null,0,null,0,null,0,null,0,null,0,null,0,null,0,null,0,null,0]
[null,null,null,null,null,null,53.31,0.05,5,0.84407500000000002,0,0.59376239999999991,0,"COTAÇÃO",null,null,null,0,null,0,null,0,null,null,null,0,null,0,null,0,null,0,null,0,null,0,null,0,null,0,null,0,null,0,null,0,null,0,null,0,null,0,null,0,null,0,null,0,null,0,null,0,null,0,null,0,null,0,null,0,null,0,null,0,null,0,null,0,null,0,null,0,null,0,null,0,null,0,null,0,null,0,null,0,null,0,null,0,null,0,null,0,null,0,null,0,null,0,null,0,null,0,null,0,null,0,null,0,null,0,null,0,null,0,null,0,null,0,null,0,null,0,null,0,null,0,null,0]
[null,null,null,null,null,null,56.99,0.05,5,0.9023416666666666,0,0.59376239999999991,0,"COTAÇÃO",null,null,null,0,null,0,null,0,null,null,null,0,null,0,null,0,null,0,null,0,null,0,null,0,null,0,null,0,null,0,null,0,null,0,null,0,null,0,null,0,null,0,null,0,null,0,null,0,null,0,null,0,null,0,null,0,null,0,null,0,null,0,null,0,null,0,null,0,null,0,null,0,null,0,null,0,null,0,null,0,null,0,null,0,null,0,null,0,null,0,null,0,null,0,null,0,null,0,null,0,null,0,null,0,null,0,null,0,null,0,null,0,null,0,null,0,null,0,null,0,null,0,null,0]
[null,null,null,null,null,null,100.7,0.05,5,1.5944166666666666,0,0.59376239999999991,0,"COTAÇÃO",null,null,null,0,null,0,null,0,null,null,null,0,null,0,null,0,null,0,null,0,null,0,null,0,null,0,null,0,null,0,null,0,null,0,null,0,null,0,null,0,null,0,null,0,null,0,null,0,null,0,null,0,null,0,null,0,null,0,null,0,null,0,null,0,null,0,null,0,null,0,null,0,null,0,null,0,null,0,null,0,null,0,null,0,null,0,null,0,null,0,null,0,null,0,null,0,null,0,null,0,null,0,null,0,null,0,null,0,null,0,null,0,null,0,null,0,null,0,null,0,null,0,null,0]
[null,null,null,null,null,null,9.23,0.05,5,0.14614166666666667,0,0.59376239999999991,0,"COTAÇÃO",null,null,null,0,null,0,null,0,null,null,null,0,null,0,null,0,null,0,null,0,null,0,null,0,null,0,null,0,null,0,null,0,null,0,null,0,null,0,null,0,null,0,null,0,null,0,null,0,null,0,null,0,null,0,null,0,null,0,null,0,null,0,null,0,null,0,null,0,null,0,null,0,null,0,null,0,null,0,null,0,null,0,null,0,null,0,null,0,null,0,null,0,null,0,null,0,null,0,null,0,null,0,null,0,null,0,null,0,null,0,null,0,null,0,null,0,null,0,null,0,null,0,null,0]
[null,null,null,null,null,null,8.99,0.05,5,0.14234166666666667,0,0.59376239999999991,0,"COTAÇÃO",null,null,null,0,null,0,null,0,null,null,null,0,null,0,null,0,null,0,null,0,null,0,null,0,null,0,null,0,null,0,null,0,null,0,null,0,null,0,null,0,null,0,null,0,null,0,null,0,null,0,null,0,null,0,null,0,null,0,null,0,null,0,null,0,null,0,null,0,null,0,null,0,null,0,null,0,null,0,null,0,null,0,null,0,null,0,null,0,null,0,null,0,null,0,null,0,null,0,null,0,null,0,null,0,null,0,null,0,null,0,null,0,null,0,null,0,null,0,null,0,null,0,null,0]
[null,null,null,null,null,null,249.25,0.05,5,3.9464583333333332,0,0.59376239999999991,0,"COTAÇÃO",null,null,null,0,null,0,null,0,null,null,null,0,null,0,null,0,null,0,null,0,null,0,null,0,null,0,null,0,null,0,null,0,null,0,null,0,null,0,null,0,null,0,null,0,null,0,null,0,null,0,null,0,null,0,null,0,null,0,null,0,null,0,null,0,null,0,null,0,null,0,null,0,null,0,null,0,null,0,null,0,null,0,null,0,null,0,null,0,null,0,null,0,null,0,null,0,null,0,null,0,null,0,null,0,null,0,null,0,null,0,null,0,null,0,null,0,null,0,null,0,null,0,null,0]
[null,null,null,null,null,null,124.94,0.05,5,1.9782166666666667,0,0.59376239999999991,0,"COTAÇÃO",null,null,null,0,null,0,null,0,null,null,null,0,null,0,null,0,null,0,null,0,null,0,null,0,null,0,null,0,null,0,null,0,null,0,null,0,null,0,null,0,null,0,null,0,null,0,null,0,null,0,null,0,null,0,null,0,null,0,null,0,null,0,null,0,null,0,null,0,null,0,null,0,null,0,null,0,null,0,null,0,null,0,null,0,null,0,null,0,null,0,null,0,null,0,null,0,null,0,null,0,null,0,null,0,null,0,null,0,null,0,null,0,null,0,null,0,null,0,null,0,null,0,null,0]
[null,null,null,null,null,null,29.66,0.05,5,0.46961666666666668,0,0.59376239999999991,0,"COTAÇÃO",null,null,null,0,null,0,null,0,null,null,null,0,null,0,null,0,null,0,null,0,null,0,null,0,null,0,null,0,null,0,null,0,null,0,null,0,null,0,null,0,null,0,null,0,null,0,null,0,null,0,null,0,null,0,null,0,null,0,null,0,null,0,null,0,null,0,null,0,null,0,null,0,null,0,null,0,null,0,null,0,null,0,null,0,null,0,null,0,null,0,null,0,null,0,null,0,null,0,null,0,null,0,null,0,null,0,null,0,null,0,null,0,null,0,null,0,null,0,null,0,null,0,null,0]
[null,null,null,null,null,null,11.82,0.05,5,0.18714999999999998,0,0.59376239999999991,0,"COTAÇÃO",null,null,null,0,null,0,null,0,null,null,null,0,null,0,null,0,null,0,null,0,null,0,null,0,null,0,null,0,null,0,null,0,null,0,null,0,null,0,null,0,null,0,null,0,null,0,null,0,null,0,null,0,null,0,null,0,null,0,null,0,null,0,null,0,null,0,null,0,null,0,null,0,null,0,null,0,null,0,null,0,null,0,null,0,null,0,null,0,null,0,null,0,null,0,null,0,null,0,null,0,null,0,null,0,null,0,null,0,null,0,null,0,null,0,null,0,null,0,null,0,null,0,null,0]
[null,null,null,null,null,null,7.65,0.05,5,0.121125,0,0.59376239999999991,0,"COTAÇÃO",null,null,null,0,null,0,null,0,null,null,null,0,null,0,null,0,null,0,null,0,null,0,null,0,null,0,null,0,null,0,null,0,null,0,null,0,null,0,null,0,null,0,null,0,null,0,null,0,null,0,null,0,null,0,null,0,null,0,null,0,null,0,null,0,null,0,null,0,null,0,null,0,null,0,null,0,null,0,null,0,null,0,null,0,null,0,null,0,null,0,null,0,null,0,null,0,null,0,null,0,null,0,null,0,null,0,null,0,null,0,null,0,null,0,null,0,null,0,null,0,null,0,null,0]
[null,null,null,null,null,null,8.58,0.05,5,{"$f":"G113*(1-H113)/(I113*12)","v":0.13585},{"$f":"J113*E113","v":0},0.59376239999999991,{"$f":"ROUND(K113*(1+L113),2)","v":0},"COTAÇÃO",null,null,null,0,null,0,null,0,null,null,null,0,null,0,null,0,null,0,null,0,null,0,null,0,null,0,null,0,null,0,null,0,null,0,null,0,null,0,null,0,null,0,null,0,null,0,null,0,null,0,null,0,null,0,null,0,null,0,null,0,null,0,null,0,null,0,null,0,null,0,null,0,null,0,null,0,null,0,null,0,null,0,null,0,null,0,null,0,null,0,null,0,null,0,null,0,null,0,null,0,null,0,null,0,null,0,null,0,null,0,null,0,null,0,null,0,null,0,null,0,null,0,null,0]
[null,null,null,null,null,null,8.19,0.05,5,{"$f":"G114*(1-H114)/(I114*12)","v":0.12967499999999998},{"$f":"J114*E114","v":0},0.59376239999999991,{"$f":"ROUND(K114*(1+L114),2)","v":0},"COTAÇÃO",null,null,null,0,null,0,null,0,null,null,null,0,null,0,null,0,null,0,null,0,null,0,null,0,null,0,null,0,null,0,null,0,null,0,null,0,null,0,null,0,null,0,null,0,null,0,null,0,null,0,null,0,null,0,null,0,null,0,null,0,null,0,null,0,null,0,null,0,null,0,null,0,null,0,null,0,null,0,null,0,null,0,null,0,null,0,null,0,null,0,null,0,null,0,null,0,null,0,null,0,null,0,null,0,null,0,null,0,null,0,null,0,null,0,null,0,null,0,null,0,null,0,null,0]
[null,null,null,null,null,null,20.83,0.05,5,{"$f":"G115*(1-H115)/(I115*12)","v":0.32980833333333331},{"$f":"J115*E115","v":0},0.59376239999999991,{"$f":"ROUND(K115*(1+L115),2)","v":0},"COTAÇÃO",null,null,null,0,null,0,null,0,null,null,null,0,null,0,null,0,null,0,null,0,null,0,null,0,null,0,null,0,null,0,null,0,null,0,null,0,null,0,null,0,null,0,null,0,null,0,null,0,null,0,null,0,null,0,null,0,null,0,null,0,null,0,null,0,null,0,null,0,null,0,null,0,null,0,null,0,null,0,null,0,null,0,null,0,null,0,null,0,null,0,null,0,null,0,null,0,null,0,null,0,null,0,null,0,null,0,null,0,null,0,null,0,null,0,null,0,null,0,null,0,null,0,null,0]
[null,null,null,null,null,null,12.26,0.05,5,{"$f":"G116*(1-H116)/(I116*12)","v":0.19411666666666663},{"$f":"J116*E116","v":0},0.59376239999999991,{"$f":"ROUND(K116*(1+L116),2)","v":0},"COTAÇÃO",null,null,null,0,null,0,null,0,null,null,null,0,null,0,null,0,null,0,null,0,null,0,null,0,null,0,null,0,null,0,null,0,null,0,null,0,null,0,null,0,null,0,null,0,null,0,null,0,null,0,null,0,null,0,null,0,null,0,null,0,null,0,null,0,null,0,null,0,null,0,null,0,null,0,null,0,null,0,null,0,null,0,null,0,null,0,null,0,null,0,null,0,null,0,null,0,null,0,null,0,null,0,null,0,null,0,null,0,null,0,null,0,null,0,null,0,null,0,null,0,null,0,null,0]
[null,null,null,null,null,null,8.75,0.05,5,{"$f":"G117*(1-H117)/(I117*12)","v":0.13854166666666667},{"$f":"J117*E117","v":0},0.59376239999999991,{"$f":"ROUND(K117*(1+L117),2)","v":0},"COTAÇÃO",null,null,null,0,null,0,null,0,null,null,null,0,null,0,null,0,null,0,null,0,null,0,null,0,null,0,null,0,null,0,null,0,null,0,null,0,null,0,null,0,null,0,null,0,null,0,null,0,null,0,null,0,null,0,null,0,null,0,null,0,null,0,null,0,null,0,null,0,null,0,null,0,null,0,null,0,null,0,null,0,null,0,null,0,null,0,null,0,null,0,null,0,null,0,null,0,null,0,null,0,null,0,null,0,null,0,null,0,null,0,null,0,null,0,null,0,null,0,null,0,null,0,null,0]
[null,null,null,null,null,null,8.48,0.05,5,{"$f":"G118*(1-H118)/(I118*12)","v":0.13426666666666665},{"$f":"J118*E118","v":0},0.59376239999999991,{"$f":"ROUND(K118*(1+L118),2)","v":0},"COTAÇÃO",null,null,null,0,null,0,null,0,null,null,null,0,null,0,null,0,null,0,null,0,null,0,null,0,null,0,null,0,null,0,null,0,null,0,null,0,null,0,null,0,null,0,null,0,null,0,null,0,null,0,null,0,null,0,null,0,null,0,null,0,null,0,null,0,null,0,null,0,null,0,null,0,null,0,null,0,null,0,null,0,null,0,null,0,null,0,null,0,null,0,null,0,null,0,null,0,null,0,null,0,null,0,null,0,null,0,null,0,null,0,null,0,null,0,null,0,null,0,null,0,null,0,null,0]
[null,null,null,null,null,null,18.84,0.05,5,0.29830000000000001,0,0.59376239999999991,0,"COTAÇÃO",null,null,null,0,null,0,null,0,null,null,null,0,null,0,null,0,null,0,null,0,null,0,null,0,null,0,null,0,null,0,null,0,null,0,null,0,null,0,null,0,null,0,null,0,null,0,null,0,null,0,null,0,null,0,null,0,null,0,null,0,null,0,null,0,null,0,null,0,null,0,null,0,null,0,null,0,null,0,null,0,null,0,null,0,null,0,null,0,null,0,null,0,null,0,null,0,null,0,null,0,null,0,null,0,null,0,null,0,null,0,null,0,null,0,null,0,null,0,null,0,null,0,null,0]
[null,null,null,null,null,null,27.13,0.05,5,0.42955833333333332,0,0.59376239999999991,0,"COTAÇÃO",null,null,null,0,null,0,null,0,null,null,null,0,null,0,null,0,null,0,null,0,null,0,null,0,null,0,null,0,null,0,null,0,null,0,null,0,null,0,null,0,null,0,null,0,null,0,null,0,null,0,null,0,null,0,null,0,null,0,null,0,null,0,null,0,null,0,null,0,null,0,null,0,null,0,null,0,null,0,null,0,null,0,null,0,null,0,null,0,null,0,null,0,null,0,null,0,null,0,null,0,null,0,null,0,null,0,null,0,null,0,null,0,null,0,null,0,null,0,null,0,null,0,null,0]
[null,null,null,null,null,null,19.100000000000001,0.05,5,0.30241666666666667,0,0.59376239999999991,0,"COTAÇÃO",null,null,null,0,null,0,null,0,null,null,null,0,null,0,null,0,null,0,null,0,null,0,null,0,null,0,null,0,null,0,null,0,null,0,null,0,null,0,null,0,null,0,null,0,null,0,null,0,null,0,null,0,null,0,null,0,null,0,null,0,null,0,null,0,null,0,null,0,null,0,null,0,null,0,null,0,null,0,null,0,null,0,null,0,null,0,null,0,null,0,null,0,null,0,null,0,null,0,null,0,null,0,null,0,null,0,null,0,null,0,null,0,null,0,null,0,null,0,null,0,null,0,null,0]
[null,null,null,null,null,null,376.23,0.05,5,5.9569749999999999,0,0.59376239999999991,0,"COTAÇÃO",null,null,null,0,null,0,null,0,null,null,null,0,null,0,null,0,null,0,null,0,null,0,null,0,null,0,null,0,null,0,null,0,null,0,null,0,null,0,null,0,null,0,null,0,null,0,null,0,null,0,null,0,null,0,null,0,null,0,null,0,null,0,null,0,null,0,null,0,null,0,null,0,null,0,null,0,null,0,null,0,null,0,null,0,null,0,null,0,null,0,null,0,null,0,null,0,null,0,null,0,null,0,null,0,null,0,null,0,null,0,null,0,null,0,null,0,null,0,null,0,null,0,null,0]
[null,null,null,null,null,null,975.21,0.05,5,15.440824999999998,0,0.59376239999999991,0,"COTAÇÃO",null,null,null,0,null,0,null,0,null,null,null,0,null,0,null,0,null,0,null,0,null,0,null,0,null,0,null,0,null,0,null,0,null,0,null,0,null,0,null,0,null,0,null,0,null,0,null,0,null,0,null,0,null,0,null,0,null,0,null,0,null,0,null,0,null,0,null,0,null,0,null,0,null,0,null,0,null,0,null,0,null,0,null,0,null,0,null,0,null,0,null,0,null,0,null,0,null,0,null,0,null,0,null,0,null,0,null,0,null,0,null,0,null,0,null,0,null,0,null,0,null,0,null,0]
[null,null,null,null,null,null,18.850000000000001,0.05,5,0.29845833333333333,0,0.59376239999999991,0,"COTAÇÃO",null,null,null,0,null,0,null,0,null,null,null,0,null,0,null,0,null,0,null,0,null,0,null,0,null,0,null,0,null,0,null,0,null,0,null,0,null,0,null,0,null,0,null,0,null,0,null,0,null,0,null,0,null,0,null,0,null,0,null,0,null,0,null,0,null,0,null,0,null,0,null,0,null,0,null,0,null,0,null,0,null,0,null,0,null,0,null,0,null,0,null,0,null,0,null,0,null,0,null,0,null,0,null,0,null,0,null,0,null,0,null,0,null,0,null,0,null,0,null,0,null,0,null,0]
[null,null,null,null,null,null,5.95,0.05,5,9.4208333333333324E-2,0,0.59376239999999991,0,"COTAÇÃO",null,null,null,0,null,0,null,0,null,null,null,0,null,0,null,0,null,0,null,0,null,0,null,0,null,0,null,0,null,0,null,0,null,0,null,0,null,0,null,0,null,0,null,0,null,0,null,0,null,0,null,0,null,0,null,0,null,0,null,0,null,0,null,0,null,0,null,0,null,0,null,0,null,0,null,0,null,0,null,0,null,0,null,0,null,0,null,0,null,0,null,0,null,0,null,0,null,0,null,0,null,0,null,0,null,0,null,0,null,0,null,0,null,0,null,0,null,0,null,0,null,0,null,0]
[null,null,null,null,null,null,7.96,0.05,5,0.12603333333333333,0,0.59376239999999991,0,"COTAÇÃO",null,null,null,0,null,0,null,0,null,null,null,0,null,0,null,0,null,0,null,0,null,0,null,0,null,0,null,0,null,0,null,0,null,0,null,0,null,0,null,0,null,0,null,0,null,0,null,0,null,0,null,0,null,0,null,0,null,0,null,0,null,0,null,0,null,0,null,0,null,0,null,0,null,0,null,0,null,0,null,0,null,0,null,0,null,0,null,0,null,0,null,0,null,0,null,0,null,0,null,0,null,0,null,0,null,0,null,0,null,0,null,0,null,0,null,0,null,0,null,0,null,0,null,0]
[null,null,null,null,null,null,19.670000000000002,0.05,5,0.31144166666666673,0,0.59376239999999991,0,"COTAÇÃO",null,null,null,0,null,0,null,0,null,null,null,0,null,0,null,0,null,0,null,0,null,0,null,0,null,0,null,0,null,0,null,0,null,0,null,0,null,0,null,0,null,0,null,0,null,0,null,0,null,0,null,0,null,0,null,0,null,0,null,0,null,0,null,0,null,0,null,0,null,0,null,0,null,0,null,0,null,0,null,0,null,0,null,0,null,0,null,0,null,0,null,0,null,0,null,0,null,0,null,0,null,0,null,0,null,0,null,0,null,0,null,0,null,0,null,0,null,0,null,0,null,0,null,0]
[null,null,null,null,null,null,35.450000000000003,0.05,5,0.56129166666666674,0,0.59376239999999991,0,"COTAÇÃO",null,null,null,0,null,0,null,0,null,null,null,0,null,0,null,0,null,0,null,0,null,0,null,0,null,0,null,0,null,0,null,0,null,0,null,0,null,0,null,0,null,0,null,0,null,0,null,0,null,0,null,0,null,0,null,0,null,0,null,0,null,0,null,0,null,0,null,0,null,0,null,0,null,0,null,0,null,0,null,0,null,0,null,0,null,0,null,0,null,0,null,0,null,0,null,0,null,0,null,0,null,0,null,0,null,0,null,0,null,0,null,0,null,0,null,0,null,0,null,0,null,0,null,0]
[null,null,null,null,null,null,41.91,0.05,5,0.66357499999999991,0,0.59376239999999991,0,"COTAÇÃO",null,null,null,0,null,0,null,0,null,null,null,0,null,0,null,0,null,0,null,0,null,0,null,0,null,0,null,0,null,0,null,0,null,0,null,0,null,0,null,0,null,0,null,0,null,0,null,0,null,0,null,0,null,0,null,0,null,0,null,0,null,0,null,0,null,0,null,0,null,0,null,0,null,0,null,0,null,0,null,0,null,0,null,0,null,0,null,0,null,0,null,0,null,0,null,0,null,0,null,0,null,0,null,0,null,0,null,0,null,0,null,0,null,0,null,0,null,0,null,0,null,0,null,0]
[null,null,null,null,null,null,44.36,0.05,5,{"$f":"G130*(1-H130)/(I130*12)","v":0.70236666666666658},{"$f":"J130*E130","v":0},0.59376239999999991,{"$f":"ROUND(K130*(1+L130),2)","v":0},"COTAÇÃO",null,null,null,0,null,0,null,0,null,null,null,0,null,0,null,0,null,0,null,0,null,0,null,0,null,0,null,0,null,0,null,0,null,0,null,0,null,0,null,0,null,0,null,0,null,0,null,0,null,0,null,0,null,0,null,0,null,0,null,0,null,0,null,0,null,0,null,0,null,0,null,0,null,0,null,0,null,0,null,0,null,0,null,0,null,0,null,0,null,0,null,0,null,0,null,0,null,0,null,0,null,0,null,0,null,0,null,0,null,0,null,0,null,0,null,0,null,0,null,0,null,0,null,0]
[null,null,null,null,null,null,21.44,0.05,5,{"$f":"G131*(1-H131)/(I131*12)","v":0.33946666666666664},{"$f":"J131*E131","v":0},{"$f":"$J$225","v":0.59376239999999991},{"$f":"ROUND(K131*(1+L131),2)","v":0},"COTAÇÃO",null,null,null,{"$f":"IF(SUM(Q$92:Q$94)>0,$M131,0)","v":0},null,{"$f":"IF(SUM(S$92:S$94)>0,$M131,0)","v":0},null,{"$f":"IF(SUM(U$92:U$94)>0,$M131,0)","v":0},null,null,null,{"$f":"IF(SUM(Y$92:Y$94)>0,$M131,0)","v":0},null,{"$f":"IF(SUM(AA$92:AA$94)>0,$M131,0)","v":0},null,{"$f":"IF(SUM(AC$92:AC$94)>0,$M131,0)","v":0},null,{"$f":"IF(SUM(AE$92:AE$94)>0,$M131,0)","v":0},null,{"$f":"IF(SUM(AG$92:AG$94)>0,$M131,0)","v":0},null,{"$f":"IF(SUM(AI$92:AI$94)>0,$M131,0)","v":0},null,{"$f":"IF(SUM(AK$92:AK$94)>0,$M131,0)","v":0},null,{"$f":"IF(SUM(AM$92:AM$94)>0,$M131,0)","v":0},null,{"$f":"IF(SUM(AO$92:AO$94)>0,$M131,0)","v":0},null,{"$f":"IF(SUM(AQ$92:AQ$94)>0,$M131,0)","v":0},null,{"$f":"IF(SUM(AS$92:AS$94)>0,$M131,0)","v":0},null,{"$f":"IF(SUM(AU$92:AU$94)>0,$M131,0)","v":0},null,{"$f":"IF(SUM(AW$92:AW$94)>0,$M131,0)","v":0},null,{"$f":"IF(SUM(AY$92:AY$94)>0,$M131,0)","v":0},null,{"$f":"IF(SUM(BA$92:BA$94)>0,$M131,0)","v":0},null,{"$f":"IF(SUM(BC$92:BC$94)>0,$M131,0)","v":0},null,{"$f":"IF(SUM(BE$92:BE$94)>0,$M131,0)","v":0},null,{"$f":"IF(SUM(BG$92:BG$94)>0,$M131,0)","v":0},null,{"$f":"IF(SUM(BI$92:BI$94)>0,$M131,0)","v":0},null,{"$f":"IF(SUM(BK$92:BK$94)>0,$M131,0)","v":0},null,{"$f":"IF(SUM(BM$92:BM$94)>0,$M131,0)","v":0},null,{"$f":"IF(SUM(BO$92:BO$94)>0,$M131,0)","v":0},null,{"$f":"IF(SUM(BQ$92:BQ$94)>0,$M131,0)","v":0},null,{"$f":"IF(SUM(BS$92:BS$94)>0,$M131,0)","v":0},null,{"$f":"IF(SUM(BU$92:BU$94)>0,$M131,0)","v":0},null,{"$f":"IF(SUM(BW$92:BW$94)>0,$M131,0)","v":0},null,{"$f":"IF(SUM(BY$92:BY$94)>0,$M131,0)","v":0},null,{"$f":"IF(SUM(CA$92:CA$94)>0,$M131,0)","v":0},null,{"$f":"IF(SUM(CC$92:CC$94)>0,$M131,0)","v":0},null,{"$f":"IF(SUM(CE$92:CE$94)>0,$M131,0)","v":0},null,{"$f":"IF(SUM(CG$92:CG$94)>0,$M131,0)","v":0},null,{"$f":"IF(SUM(CI$92:CI$94)>0,$M131,0)","v":0},null,{"$f":"IF(SUM(CK$92:CK$94)>0,$M131,0)","v":0},null,{"$f":"IF(SUM(CM$92:CM$94)>0,$M131,0)","v":0},null,{"$f":"IF(SUM(CO$92:CO$94)>0,$M131,0)","v":0},null,{"$f":"IF(SUM(CQ$92:CQ$94)>0,$M131,0)","v":0},null,{"$f":"IF(SUM(CS$92:CS$94)>0,$M131,0)","v":0},null,{"$f":"IF(SUM(CU$92:CU$94)>0,$M131,0)","v":0},null,{"$f":"IF(SUM(CW$92:CW$94)>0,$M131,0)","v":0},null,{"$f":"IF(SUM(CY$92:CY$94)>0,$M131,0)","v":0},null,{"$f":"IF(SUM(DA$92:DA$94)>0,$M131,0)","v":0},null,{"$f":"IF(SUM(DC$92:DC$94)>0,$M131,0)","v":0},null,{"$f":"IF(SUM(DE$92:DE$94)>0,$M131,0)","v":0},null,{"$f":"IF(SUM(DG$92:DG$94)>0,$M131,0)","v":0},null,{"$f":"IF(SUM(DI$92:DI$94)>0,$M131,0)","v":0},null,{"$f":"IF(SUM(DK$92:DK$94)>0,$M131,0)","v":0},null,{"$f":"IF(SUM(DM$92:DM$94)>0,$M131,0)","v":0},null,{"$f":"IF(SUM(DO$92:DO$94)>0,$M131,0)","v":0},null,{"$f":"IF(SUM(DQ$92:DQ$94)>0,$M131,0)","v":0},null,{"$f":"IF(SUM(DS$92:DS$94)>0,$M131,0)","v":0},null,{"$f":"IF(SUM(DU$92:DU$94)>0,$M131,0)","v":0},null,{"$f":"IF(SUM(DW$92:DW$94)>0,$M131,0)","v":0},null,{"$f":"IF(SUM(DY$92:DY$94)>0,$M131,0)","v":0},null,{"$f":"IF(SUM(EA$92:EA$94)>0,$M131,0)","v":0},null,{"$f":"IF(SUM(EC$92:EC$94)>0,$M131,0)","v":0},null,{"$f":"IF(SUM(EE$92:EE$94)>0,$M131,0)","v":0},null,{"$f":"IF(SUM(EG$92:EG$94)>0,$M131,0)","v":0}]
[null,null,null,null,null,null,20.96,0.05,5,{"$f":"G132*(1-H132)/(I132*12)","v":0.33186666666666664},{"$f":"J132*E132","v":0},0.59376239999999991,{"$f":"ROUND(K132*(1+L132),2)","v":0},"COTAÇÃO",null,null,null,0,null,0,null,0,null,null,null,0,null,0,null,0,null,0,null,0,null,0,null,0,null,0,null,0,null,0,null,0,null,0,null,0,null,0,null,0,null,0,null,0,null,0,null,0,null,0,null,0,null,0,null,0,null,0,null,0,null,0,null,0,null,0,null,0,null,0,null,0,null,0,null,0,null,0,null,0,null,0,null,0,null,0,null,0,null,0,null,0,null,0,null,0,null,0,null,0,null,0,null,0,null,0,null,0,null,0,null,0,null,0,null,0,null,0,null,0,null,0,null,0]
[null,null,null,null,null,null,22.86,0.05,5,{"$f":"G133*(1-H133)/(I133*12)","v":0.36194999999999999},{"$f":"J133*E133","v":0},0.59376239999999991,{"$f":"ROUND(K133*(1+L133),2)","v":0},"COTAÇÃO",null,null,null,0,null,0,null,0,null,null,null,0,null,0,null,0,null,0,null,0,null,0,null,0,null,0,null,0,null,0,null,0,null,0,null,0,null,0,null,0,null,0,null,0,null,0,null,0,null,0,null,0,null,0,null,0,null,0,null,0,null,0,null,0,null,0,null,0,null,0,null,0,null,0,null,0,null,0,null,0,null,0,null,0,null,0,null,0,null,0,null,0,null,0,null,0,null,0,null,0,null,0,null,0,null,0,null,0,null,0,null,0,null,0,null,0,null,0,null,0,null,0,null,0]
[null,null,null,null,null,null,551.61,0.05,5,{"$f":"G134*(1-H134)/(I134*12)","v":8.7338249999999995},{"$f":"J134*E134","v":0},0.59376239999999991,{"$f":"ROUND(K134*(1+L134),2)","v":0},"COTAÇÃO",null,null,null,0,null,0,null,0,null,null,null,0,null,0,null,0,null,0,null,0,null,0,null,0,null,0,null,0,null,0,null,0,null,0,null,0,null,0,null,0,null,0,null,0,null,0,null,0,null,0,null,0,null,0,null,0,null,0,null,0,null,0,null,0,null,0,null,0,null,0,null,0,null,0,null,0,null,0,null,0,null,0,null,0,null,0,null,0,null,0,null,0,null,0,null,0,null,0,null,0,null,0,null,0,null,0,null,0,null,0,null,0,null,0,null,0,null,0,null,0,null,0,null,0]
[null,null,null,null,null,null,725.5,0.05,5,{"$f":"G135*(1-H135)/(I135*12)","v":11.487083333333334},{"$f":"J135*E135","v":0},0.59376239999999991,{"$f":"ROUND(K135*(1+L135),2)","v":0},"COTAÇÃO",null,null,null,0,null,0,null,0,null,null,null,0,null,0,null,0,null,0,null,0,null,0,null,0,null,0,null,0,null,0,null,0,null,0,null,0,null,0,null,0,null,0,null,0,null,0,null,0,null,0,null,0,null,0,null,0,null,0,null,0,null,0,null,0,null,0,null,0,null,0,null,0,null,0,null,0,null,0,null,0,null,0,null,0,null,0,null,0,null,0,null,0,null,0,null,0,null,0,null,0,null,0,null,0,null,0,null,0,null,0,null,0,null,0,null,0,null,0,null,0,null,0,null,0]
[null,null,null,null,null,null,185.5,0.05,5,2.9370833333333333,0,0.59376239999999991,0,"COTAÇÃO",null,null,null,0,null,0,null,0,null,null,null,0,null,0,null,0,null,0,null,0,null,0,null,0,null,0,null,0,null,0,null,0,null,0,null,0,null,0,null,0,null,0,null,0,null,0,null,0,null,0,null,0,null,0,null,0,null,0,null,0,null,0,null,0,null,0,null,0,null,0,null,0,null,0,null,0,null,0,null,0,null,0,null,0,null,0,null,0,null,0,null,0,null,0,null,0,null,0,null,0,null,0,null,0,null,0,null,0,null,0,null,0,null,0,null,0,null,0,null,0,null,0,null,0]
[null,null,null,null,null,null,52.17,0.05,5,0.82602500000000001,0,0.59376239999999991,0,"COTAÇÃO",null,null,null,0,null,0,null,0,null,null,null,0,null,0,null,0,null,0,null,0,null,0,null,0,null,0,null,0,null,0,null,0,null,0,null,0,null,0,null,0,null,0,null,0,null,0,null,0,null,0,null,0,null,0,null,0,null,0,null,0,null,0,null,0,null,0,null,0,null,0,null,0,null,0,null,0,null,0,null,0,null,0,null,0,null,0,null,0,null,0,null,0,null,0,null,0,null,0,null,0,null,0,null,0,null,0,null,0,null,0,null,0,null,0,null,0,null,0,null,0,null,0,null,0]
[null,null,null,null,null,null,39.67,0.05,5,0.62810833333333338,0,0.59376239999999991,0,"COTAÇÃO",null,null,null,0,null,0,null,0,null,null,null,0,null,0,null,0,null,0,null,0,null,0,null,0,null,0,null,0,null,0,null,0,null,0,null,0,null,0,null,0,null,0,null,0,null,0,null,0,null,0,null,0,null,0,null,0,null,0,null,0,null,0,null,0,null,0,null,0,null,0,null,0,null,0,null,0,null,0,null,0,null,0,null,0,null,0,null,0,null,0,null,0,null,0,null,0,null,0,null,0,null,0,null,0,null,0,null,0,null,0,null,0,null,0,null,0,null,0,null,0,null,0,null,0]
[null,null,null,null,null,null,54.81,0.05,5,0.86782499999999996,0,0.59376239999999991,0,"COTAÇÃO",null,null,null,0,null,0,null,0,null,null,null,0,null,0,null,0,null,0,null,0,null,0,null,0,null,0,null,0,null,0,null,0,null,0,null,0,null,0,null,0,null,0,null,0,null,0,null,0,null,0,null,0,null,0,null,0,null,0,null,0,null,0,null,0,null,0,null,0,null,0,null,0,null,0,null,0,null,0,null,0,null,0,null,0,null,0,null,0,null,0,null,0,null,0,null,0,null,0,null,0,null,0,null,0,null,0,null,0,null,0,null,0,null,0,null,0,null,0,null,0,null,0,null,0]
[null,null,null,null,null,null,603.9,0.05,5,9.5617499999999982,0,0.59376239999999991,0,"COTAÇÃO",null,null,null,0,null,0,null,0,null,null,null,0,null,0,null,0,null,0,null,0,null,0,null,0,null,0,null,0,null,0,null,0,null,0,null,0,null,0,null,0,null,0,null,0,null,0,null,0,null,0,null,0,null,0,null,0,null,0,null,0,null,0,null,0,null,0,null,0,null,0,null,0,null,0,null,0,null,0,null,0,null,0,null,0,null,0,null,0,null,0,null,0,null,0,null,0,null,0,null,0,null,0,null,0,null,0,null,0,null,0,null,0,null,0,null,0,null,0,null,0,null,0,null,0]
[null,null,null,null,null,null,153.11000000000001,0.05,5,2.4242416666666666,0,0.59376239999999991,0,"COTAÇÃO",null,null,null,0,null,0,null,0,null,null,null,0,null,0,null,0,null,0,null,0,null,0,null,0,null,0,null,0,null,0,null,0,null,0,null,0,null,0,null,0,null,0,null,0,null,0,null,0,null,0,null,0,null,0,null,0,null,0,null,0,null,0,null,0,null,0,null,0,null,0,null,0,null,0,null,0,null,0,null,0,null,0,null,0,null,0,null,0,null,0,null,0,null,0,null,0,null,0,null,0,null,0,null,0,null,0,null,0,null,0,null,0,null,0,null,0,null,0,null,0,null,0,null,0]
[null,null,null,null,null,null,230.7,0.05,5,3.6527499999999997,0,0.59376239999999991,0,"COTAÇÃO",null,null,null,0,null,0,null,0,null,null,null,0,null,0,null,0,null,0,null,0,null,0,null,0,null,0,null,0,null,0,null,0,null,0,null,0,null,0,null,0,null,0,null,0,null,0,null,0,null,0,null,0,null,0,null,0,null,0,null,0,null,0,null,0,null,0,null,0,null,0,null,0,null,0,null,0,null,0,null,0,null,0,null,0,null,0,null,0,null,0,null,0,null,0,null,0,null,0,null,0,null,0,null,0,null,0,null,0,null,0,null,0,null,0,null,0,null,0,null,0,null,0,null,0]
[null,null,null,null,null,null,112.11,0.05,5,1.775075,0,0.59376239999999991,0,"COTAÇÃO",null,null,null,0,null,0,null,0,null,null,null,0,null,0,null,0,null,0,null,0,null,0,null,0,null,0,null,0,null,0,null,0,null,0,null,0,null,0,null,0,null,0,null,0,null,0,null,0,null,0,null,0,null,0,null,0,null,0,null,0,null,0,null,0,null,0,null,0,null,0,null,0,null,0,null,0,null,0,null,0,null,0,null,0,null,0,null,0,null,0,null,0,null,0,null,0,null,0,null,0,null,0,null,0,null,0,null,0,null,0,null,0,null,0,null,0,null,0,null,0,null,0,null,0]
[null,null,null,null,null,null,45.67,0.05,5,0.72310833333333335,0,0.59376239999999991,0,"COTAÇÃO",null,null,null,0,null,0,null,0,null,null,null,0,null,0,null,0,null,0,null,0,null,0,null,0,null,0,null,0,null,0,null,0,null,0,null,0,null,0,null,0,null,0,null,0,null,0,null,0,null,0,null,0,null,0,null,0,null,0,null,0,null,0,null,0,null,0,null,0,null,0,null,0,null,0,null,0,null,0,null,0,null,0,null,0,null,0,null,0,null,0,null,0,null,0,null,0,null,0,null,0,null,0,null,0,null,0,null,0,null,0,null,0,null,0,null,0,null,0,null,0,null,0,null,0]
[null,null,null,null,null,null,8.67,0.05,5,0.13727499999999998,0,0.59376239999999991,0,"COTAÇÃO",null,null,null,0,null,0,null,0,null,null,null,0,null,0,null,0,null,0,null,0,null,0,null,0,null,0,null,0,null,0,null,0,null,0,null,0,null,0,null,0,null,0,null,0,null,0,null,0,null,0,null,0,null,0,null,0,null,0,null,0,null,0,null,0,null,0,null,0,null,0,null,0,null,0,null,0,null,0,null,0,null,0,null,0,null,0,null,0,null,0,null,0,null,0,null,0,null,0,null,0,null,0,null,0,null,0,null,0,null,0,null,0,null,0,null,0,null,0,null,0,null,0,null,0]
[null,null,null,null,null,null,118.73,0.05,5,1.8798916666666665,0,0.59376239999999991,0,"COTAÇÃO",null,null,null,0,null,0,null,0,null,null,null,0,null,0,null,0,null,0,null,0,null,0,null,0,null,0,null,0,null,0,null,0,null,0,null,0,null,0,null,0,null,0,null,0,null,0,null,0,null,0,null,0,null,0,null,0,null,0,null,0,null,0,null,0,null,0,null,0,null,0,null,0,null,0,null,0,null,0,null,0,null,0,null,0,null,0,null,0,null,0,null,0,null,0,null,0,null,0,null,0,null,0,null,0,null,0,null,0,null,0,null,0,null,0,null,0,null,0,null,0,null,0,null,0]
[null,null,null,null,null,null,988.3,0.05,5,{"$f":"G147*(1-H147)/(I147*12)","v":15.64808333333333},{"$f":"J147*E147","v":0},0.59376239999999991,{"$f":"ROUND(K147*(1+L147),2)","v":0},"COTAÇÃO",null,null,null,0,null,0,null,0,null,null,null,0,null,0,null,0,null,0,null,0,null,0,null,0,null,0,null,0,null,0,null,0,null,0,null,0,null,0,null,0,null,0,null,0,null,0,null,0,null,0,null,0,null,0,null,0,null,0,null,0,null,0,null,0,null,0,null,0,null,0,null,0,null,0,null,0,null,0,null,0,null,0,null,0,null,0,null,0,null,0,null,0,null,0,null,0,null,0,null,0,null,0,null,0,null,0,null,0,null,0,null,0,null,0,null,0,null,0,null,0,null,0,null,0]
[null,null,null,null,null,null,23.94,0.05,5,0.37905,0,0.59376239999999991,0,"COTAÇÃO",null,null,null,0,null,0,null,0,null,null,null,0,null,0,null,0,null,0,null,0,null,0,null,0,null,0,null,0,null,0,null,0,null,0,null,0,null,0,null,0,null,0,null,0,null,0,null,0,null,0,null,0,null,0,null,0,null,0,null,0,null,0,null,0,null,0,null,0,null,0,null,0,null,0,null,0,null,0,null,0,null,0,null,0,null,0,null,0,null,0,null,0,null,0,null,0,null,0,null,0,null,0,null,0,null,0,null,0,null,0,null,0,null,0,null,0,null,0,null,0,null,0,null,0]
[null,null,null,null,null,null,61.57,0.05,5,0.97485833333333327,0,0.59376239999999991,0,"COTAÇÃO",null,null,null,0,null,0,null,0,null,null,null,0,null,0,null,0,null,0,null,0,null,0,null,0,null,0,null,0,null,0,null,0,null,0,null,0,null,0,null,0,null,0,null,0,null,0,null,0,null,0,null,0,null,0,null,0,null,0,null,0,null,0,null,0,null,0,null,0,null,0,null,0,null,0,null,0,null,0,null,0,null,0,null,0,null,0,null,0,null,0,null,0,null,0,null,0,null,0,null,0,null,0,null,0,null,0,null,0,null,0,null,0,null,0,null,0,null,0,null,0,null,0,null,0]
[null,null,null,null,null,null,44.46,0.05,5,0.70395000000000008,0,0.59376239999999991,0,"COTAÇÃO",null,null,null,0,null,0,null,0,null,null,null,0,null,0,null,0,null,0,null,0,null,0,null,0,null,0,null,0,null,0,null,0,null,0,null,0,null,0,null,0,null,0,null,0,null,0,null,0,null,0,null,0,null,0,null,0,null,0,null,0,null,0,null,0,null,0,null,0,null,0,null,0,null,0,null,0,null,0,null,0,null,0,null,0,null,0,null,0,null,0,null,0,null,0,null,0,null,0,null,0,null,0,null,0,null,0,null,0,null,0,null,0,null,0,null,0,null,0,null,0,null,0,null,0]
[null,null,null,null,null,null,28.66,0.05,5,0.45378333333333332,0,0.59376239999999991,0,"COTAÇÃO",null,null,null,0,null,0,null,0,null,null,null,0,null,0,null,0,null,0,null,0,null,0,null,0,null,0,null,0,null,0,null,0,null,0,null,0,null,0,null,0,null,0,null,0,null,0,null,0,null,0,null,0,null,0,null,0,null,0,null,0,null,0,null,0,null,0,null,0,null,0,null,0,null,0,null,0,null,0,null,0,null,0,null,0,null,0,null,0,null,0,null,0,null,0,null,0,null,0,null,0,null,0,null,0,null,0,null,0,null,0,null,0,null,0,null,0,null,0,null,0,null,0,null,0]
[null,null,null,null,null,null,22.84,0.05,5,0.36163333333333336,0,0.59376239999999991,0,"COTAÇÃO",null,null,null,0,null,0,null,0,null,null,null,0,null,0,null,0,null,0,null,0,null,0,null,0,null,0,null,0,null,0,null,0,null,0,null,0,null,0,null,0,null,0,null,0,null,0,null,0,null,0,null,0,null,0,null,0,null,0,null,0,null,0,null,0,null,0,null,0,null,0,null,0,null,0,null,0,null,0,null,0,null,0,null,0,null,0,null,0,null,0,null,0,null,0,null,0,null,0,null,0,null,0,null,0,null,0,null,0,null,0,null,0,null,0,null,0,null,0,null,0,null,0,null,0]
[null,null,null,null,null,null,361.9,0.05,5,5.7300833333333321,0,0.59376239999999991,0,"COTAÇÃO",null,null,null,0,null,0,null,0,null,null,null,0,null,0,null,0,null,0,null,0,null,0,null,0,null,0,null,0,null,0,null,0,null,0,null,0,null,0,null,0,null,0,null,0,null,0,null,0,null,0,null,0,null,0,null,0,null,0,null,0,null,0,null,0,null,0,null,0,null,0,null,0,null,0,null,0,null,0,null,0,null,0,null,0,null,0,null,0,null,0,null,0,null,0,null,0,null,0,null,0,null,0,null,0,null,0,null,0,null,0,null,0,null,0,null,0,null,0,null,0,null,0,null,0]
[null,null,null,null,null,null,23.47,0.05,5,0.37160833333333332,0,0.59376239999999991,0,"COTAÇÃO",null,null,null,0,null,0,null,0,null,null,null,0,null,0,null,0,null,0,null,0,null,0,null,0,null,0,null,0,null,0,null,0,null,0,null,0,null,0,null,0,null,0,null,0,null,0,null,0,null,0,null,0,null,0,null,0,null,0,null,0,null,0,null,0,null,0,null,0,null,0,null,0,null,0,null,0,null,0,null,0,null,0,null,0,null,0,null,0,null,0,null,0,null,0,null,0,null,0,null,0,null,0,null,0,null,0,null,0,null,0,null,0,null,0,null,0,null,0,null,0,null,0,null,0]
[null,null,null,null,null,null,170.95,0.05,5,2.7067083333333328,0,0.59376239999999991,0,"COTAÇÃO",null,null,null,0,null,0,null,0,null,null,null,0,null,0,null,0,null,0,null,0,null,0,null,0,null,0,null,0,null,0,null,0,null,0,null,0,null,0,null,0,null,0,null,0,null,0,null,0,null,0,null,0,null,0,null,0,null,0,null,0,null,0,null,0,null,0,null,0,null,0,null,0,null,0,null,0,null,0,null,0,null,0,null,0,null,0,null,0,null,0,null,0,null,0,null,0,null,0,null,0,null,0,null,0,null,0,null,0,null,0,null,0,null,0,null,0,null,0,null,0,null,0,null,0]
[null,null,null,null,null,null,31.1,0.05,5,0.49241666666666667,0,0.59376239999999991,0,"COTAÇÃO",null,null,null,0,null,0,null,0,null,null,null,0,null,0,null,0,null,0,null,0,null,0,null,0,null,0,null,0,null,0,null,0,null,0,null,0,null,0,null,0,null,0,null,0,null,0,null,0,null,0,null,0,null,0,null,0,null,0,null,0,null,0,null,0,null,0,null,0,null,0,null,0,null,0,null,0,null,0,null,0,null,0,null,0,null,0,null,0,null,0,null,0,null,0,null,0,null,0,null,0,null,0,null,0,null,0,null,0,null,0,null,0,null,0,null,0,null,0,null,0,null,0,null,0]
[null,null,null,null,null,null,22.51,0.05,5,0.35640833333333333,0,0.59376239999999991,0,"COTAÇÃO",null,null,null,0,null,0,null,0,null,null,null,0,null,0,null,0,null,0,null,0,null,0,null,0,null,0,null,0,null,0,null,0,null,0,null,0,null,0,null,0,null,0,null,0,null,0,null,0,null,0,null,0,null,0,null,0,null,0,null,0,null,0,null,0,null,0,null,0,null,0,null,0,null,0,null,0,null,0,null,0,null,0,null,0,null,0,null,0,null,0,null,0,null,0,null,0,null,0,null,0,null,0,null,0,null,0,null,0,null,0,null,0,null,0,null,0,null,0,null,0,null,0,null,0]
[null,null,null,null,null,null,19.649999999999999,0.05,5,{"$f":"G158*(1-H158)/(I158*12)","v":0.31112499999999993},{"$f":"J158*E158","v":0},0.59376239999999991,{"$f":"ROUND(K158*(1+L158),2)","v":0},"COTAÇÃO",null,null,null,0,null,0,null,0,null,null,null,0,null,0,null,0,null,0,null,0,null,0,null,0,null,0,null,0,null,0,null,0,null,0,null,0,null,0,null,0,null,0,null,0,null,0,null,0,null,0,null,0,null,0,null,0,null,0,null,0,null,0,null,0,null,0,null,0,null,0,null,0,null,0,null,0,null,0,null,0,null,0,null,0,null,0,null,0,null,0,null,0,null,0,null,0,null,0,null,0,null,0,null,0,null,0,null,0,null,0,null,0,null,0,null,0,null,0,null,0,null,0,null,0]
[null,null,null,null,null,null,116.96,0.05,5,1.8518666666666665,0,0.59376239999999991,0,"COTAÇÃO",null,null,null,0,null,0,null,0,null,null,null,0,null,0,null,0,null,0,null,0,null,0,null,0,null,0,null,0,null,0,null,0,null,0,null,0,null,0,null,0,null,0,null,0,null,0,null,0,null,0,null,0,null,0,null,0,null,0,null,0,null,0,null,0,null,0,null,0,null,0,null,0,null,0,null,0,null,0,null,0,null,0,null,0,null,0,null,0,null,0,null,0,null,0,null,0,null,0,null,0,null,0,null,0,null,0,null,0,null,0,null,0,null,0,null,0,null,0,null,0,null,0,null,0]
[null,null,null,null,null,null,106.56,0.05,5,1.6872,0,0.59376239999999991,0,"COTAÇÃO",null,null,null,0,null,0,null,0,null,null,null,0,null,0,null,0,null,0,null,0,null,0,null,0,null,0,null,0,null,0,null,0,null,0,null,0,null,0,null,0,null,0,null,0,null,0,null,0,null,0,null,0,null,0,null,0,null,0,null,0,null,0,null,0,null,0,null,0,null,0,null,0,null,0,null,0,null,0,null,0,null,0,null,0,null,0,null,0,null,0,null,0,null,0,null,0,null,0,null,0,null,0,null,0,null,0,null,0,null,0,null,0,null,0,null,0,null,0,null,0,null,0,null,0]
[null,null,null,null,null,null,18.45,0.05,5,0.29212500000000002,0,0.59376239999999991,0,"COTAÇÃO",null,null,null,0,null,0,null,0,null,null,null,0,null,0,null,0,null,0,null,0,null,0,null,0,null,0,null,0,null,0,null,0,null,0,null,0,null,0,null,0,null,0,null,0,null,0,null,0,null,0,null,0,null,0,null,0,null,0,null,0,null,0,null,0,null,0,null,0,null,0,null,0,null,0,null,0,null,0,null,0,null,0,null,0,null,0,null,0,null,0,null,0,null,0,null,0,null,0,null,0,null,0,null,0,null,0,null,0,null,0,null,0,null,0,null,0,null,0,null,0,null,0,null,0]
[null,null,null,null,null,null,25.78,0.05,5,0.40818333333333334,0,0.59376239999999991,0,"COTAÇÃO",null,null,null,0,null,0,null,0,null,null,null,0,null,0,null,0,null,0,null,0,null,0,null,0,null,0,null,0,null,0,null,0,null,0,null,0,null,0,null,0,null,0,null,0,null,0,null,0,null,0,null,0,null,0,null,0,null,0,null,0,null,0,null,0,null,0,null,0,null,0,null,0,null,0,null,0,null,0,null,0,null,0,null,0,null,0,null,0,null,0,null,0,null,0,null,0,null,0,null,0,null,0,null,0,null,0,null,0,null,0,null,0,null,0,null,0,null,0,null,0,null,0,null,0]
[null,null,null,null,null,null,53.26,0.05,5,0.84328333333333327,0,{"$f":"$J$225","v":0.59376239999999991},0,"COTAÇÃO",null,null,null,{"$f":"IF(SUM(Q$92:Q$94)>0,$M163,0)","v":0},null,{"$f":"IF(SUM(S$92:S$94)>0,$M163,0)","v":0},null,{"$f":"IF(SUM(U$92:U$94)>0,$M163,0)","v":0},null,null,null,{"$f":"IF(SUM(Y$92:Y$94)>0,$M163,0)","v":0},null,{"$f":"IF(SUM(AA$92:AA$94)>0,$M163,0)","v":0},null,{"$f":"IF(SUM(AC$92:AC$94)>0,$M163,0)","v":0},null,{"$f":"IF(SUM(AE$92:AE$94)>0,$M163,0)","v":0},null,{"$f":"IF(SUM(AG$92:AG$94)>0,$M163,0)","v":0},null,{"$f":"IF(SUM(AI$92:AI$94)>0,$M163,0)","v":0},null,{"$f":"IF(SUM(AK$92:AK$94)>0,$M163,0)","v":0},null,{"$f":"IF(SUM(AM$92:AM$94)>0,$M163,0)","v":0},null,{"$f":"IF(SUM(AO$92:AO$94)>0,$M163,0)","v":0},null,{"$f":"IF(SUM(AQ$92:AQ$94)>0,$M163,0)","v":0},null,{"$f":"IF(SUM(AS$92:AS$94)>0,$M163,0)","v":0},null,{"$f":"IF(SUM(AU$92:AU$94)>0,$M163,0)","v":0},null,{"$f":"IF(SUM(AW$92:AW$94)>0,$M163,0)","v":0},null,{"$f":"IF(SUM(AY$92:AY$94)>0,$M163,0)","v":0},null,{"$f":"IF(SUM(BA$92:BA$94)>0,$M163,0)","v":0},null,{"$f":"IF(SUM(BC$92:BC$94)>0,$M163,0)","v":0},null,{"$f":"IF(SUM(BE$92:BE$94)>0,$M163,0)","v":0},null,{"$f":"IF(SUM(BG$92:BG$94)>0,$M163,0)","v":0},null,{"$f":"IF(SUM(BI$92:BI$94)>0,$M163,0)","v":0},null,{"$f":"IF(SUM(BK$92:BK$94)>0,$M163,0)","v":0},null,{"$f":"IF(SUM(BM$92:BM$94)>0,$M163,0)","v":0},null,{"$f":"IF(SUM(BO$92:BO$94)>0,$M163,0)","v":0},null,{"$f":"IF(SUM(BQ$92:BQ$94)>0,$M163,0)","v":0},null,{"$f":"IF(SUM(BS$92:BS$94)>0,$M163,0)","v":0},null,{"$f":"IF(SUM(BU$92:BU$94)>0,$M163,0)","v":0},null,{"$f":"IF(SUM(BW$92:BW$94)>0,$M163,0)","v":0},null,{"$f":"IF(SUM(BY$92:BY$94)>0,$M163,0)","v":0},null,{"$f":"IF(SUM(CA$92:CA$94)>0,$M163,0)","v":0},null,{"$f":"IF(SUM(CC$92:CC$94)>0,$M163,0)","v":0},null,{"$f":"IF(SUM(CE$92:CE$94)>0,$M163,0)","v":0},null,{"$f":"IF(SUM(CG$92:CG$94)>0,$M163,0)","v":0},null,{"$f":"IF(SUM(CI$92:CI$94)>0,$M163,0)","v":0},null,{"$f":"IF(SUM(CK$92:CK$94)>0,$M163,0)","v":0},null,{"$f":"IF(SUM(CM$92:CM$94)>0,$M163,0)","v":0},null,{"$f":"IF(SUM(CO$92:CO$94)>0,$M163,0)","v":0},null,{"$f":"IF(SUM(CQ$92:CQ$94)>0,$M163,0)","v":0},null,{"$f":"IF(SUM(CS$92:CS$94)>0,$M163,0)","v":0},null,{"$f":"IF(SUM(CU$92:CU$94)>0,$M163,0)","v":0},null,{"$f":"IF(SUM(CW$92:CW$94)>0,$M163,0)","v":0},null,{"$f":"IF(SUM(CY$92:CY$94)>0,$M163,0)","v":0},null,{"$f":"IF(SUM(DA$92:DA$94)>0,$M163,0)","v":0},null,{"$f":"IF(SUM(DC$92:DC$94)>0,$M163,0)","v":0},null,{"$f":"IF(SUM(DE$92:DE$94)>0,$M163,0)","v":0},null,{"$f":"IF(SUM(DG$92:DG$94)>0,$M163,0)","v":0},null,{"$f":"IF(SUM(DI$92:DI$94)>0,$M163,0)","v":0},null,{"$f":"IF(SUM(DK$92:DK$94)>0,$M163,0)","v":0},null,{"$f":"IF(SUM(DM$92:DM$94)>0,$M163,0)","v":0},null,{"$f":"IF(SUM(DO$92:DO$94)>0,$M163,0)","v":0},null,{"$f":"IF(SUM(DQ$92:DQ$94)>0,$M163,0)","v":0},null,{"$f":"IF(SUM(DS$92:DS$94)>0,$M163,0)","v":0},null,{"$f":"IF(SUM(DU$92:DU$94)>0,$M163,0)","v":0},null,{"$f":"IF(SUM(DW$92:DW$94)>0,$M163,0)","v":0},null,{"$f":"IF(SUM(DY$92:DY$94)>0,$M163,0)","v":0},null,{"$f":"IF(SUM(EA$92:EA$94)>0,$M163,0)","v":0},null,{"$f":"IF(SUM(EC$92:EC$94)>0,$M163,0)","v":0},null,{"$f":"IF(SUM(EE$92:EE$94)>0,$M163,0)","v":0},null,{"$f":"IF(SUM(EG$92:EG$94)>0,$M163,0)","v":0}]
[null,null,null,null,null,null,64.05,0.05,5,1.0141249999999999,0,0.59376239999999991,0,"COTAÇÃO",null,null,null,0,null,0,null,0,null,null,null,0,null,0,null,0,null,0,null,0,null,0,null,0,null,0,null,0,null,0,null,0,null,0,null,0,null,0,null,0,null,0,null,0,null,0,null,0,null,0,null,0,null,0,null,0,null,0,null,0,null,0,null,0,null,0,null,0,null,{"$f":"IF(SUM(CE$92:CE$94)>0,$M164,0)","v":0},null,{"$f":"IF(SUM(CG$92:CG$94)>0,$M164,0)","v":0},null,{"$f":"IF(SUM(CI$92:CI$94)>0,$M164,0)","v":0},null,{"$f":"IF(SUM(CK$92:CK$94)>0,$M164,0)","v":0},null,{"$f":"IF(SUM(CM$92:CM$94)>0,$M164,0)","v":0},null,{"$f":"IF(SUM(CO$92:CO$94)>0,$M164,0)","v":0},null,{"$f":"IF(SUM(CQ$92:CQ$94)>0,$M164,0)","v":0},null,{"$f":"IF(SUM(CS$92:CS$94)>0,$M164,0)","v":0},null,{"$f":"IF(SUM(CU$92:CU$94)>0,$M164,0)","v":0},null,{"$f":"IF(SUM(CW$92:CW$94)>0,$M164,0)","v":0},null,{"$f":"IF(SUM(CY$92:CY$94)>0,$M164,0)","v":0},null,{"$f":"IF(SUM(DA$92:DA$94)>0,$M164,0)","v":0},null,{"$f":"IF(SUM(DC$92:DC$94)>0,$M164,0)","v":0},null,{"$f":"IF(SUM(DE$92:DE$94)>0,$M164,0)","v":0},null,{"$f":"IF(SUM(DG$92:DG$94)>0,$M164,0)","v":0},null,{"$f":"IF(SUM(DI$92:DI$94)>0,$M164,0)","v":0},null,{"$f":"IF(SUM(DK$92:DK$94)>0,$M164,0)","v":0},null,{"$f":"IF(SUM(DM$92:DM$94)>0,$M164,0)","v":0},null,{"$f":"IF(SUM(DO$92:DO$94)>0,$M164,0)","v":0},null,{"$f":"IF(SUM(DQ$92:DQ$94)>0,$M164,0)","v":0},null,{"$f":"IF(SUM(DS$92:DS$94)>0,$M164,0)","v":0},null,{"$f":"IF(SUM(DU$92:DU$94)>0,$M164,0)","v":0},null,{"$f":"IF(SUM(DW$92:DW$94)>0,$M164,0)","v":0},null,{"$f":"IF(SUM(DY$92:DY$94)>0,$M164,0)","v":0},null,{"$f":"IF(SUM(EA$92:EA$94)>0,$M164,0)","v":0},null,{"$f":"IF(SUM(EC$92:EC$94)>0,$M164,0)","v":0},null,{"$f":"IF(SUM(EE$92:EE$94)>0,$M164,0)","v":0},null,{"$f":"IF(SUM(EG$92:EG$94)>0,$M164,0)","v":0}]
[null,null,null,null,null,null,63.91,0.05,5,1.0119083333333332,0,0.59376239999999991,0,"COTAÇÃO",null,null,null,0,null,0,null,0,null,null,null,0,null,0,null,0,null,0,null,0,null,0,null,0,null,0,null,0,null,0,null,0,null,0,null,0,null,0,null,0,null,0,null,0,null,0,null,0,null,0,null,0,null,0,null,0,null,0,null,0,null,0,null,0,null,0,null,0,null,{"$f":"IF(SUM(CE$92:CE$94)>0,$M165,0)","v":0},null,{"$f":"IF(SUM(CG$92:CG$94)>0,$M165,0)","v":0},null,{"$f":"IF(SUM(CI$92:CI$94)>0,$M165,0)","v":0},null,0,null,0,null,0,null,0,null,0,null,0,null,0,null,0,null,0,null,0,null,0,null,0,null,0,null,0,null,0,null,0,null,0,null,0,null,0,null,0,null,0,null,0,null,0,null,0,null,0]
[null,null,null,null,null,null,76.930000000000007,0.05,5,1.2180583333333332,0,0.59376239999999991,0,"COTAÇÃO",null,null,null,0,null,0,null,0,null,null,null,0,null,0,null,0,null,0,null,0,null,0,null,0,null,0,null,0,null,0,null,0,null,0,null,0,null,0,null,0,null,0,null,0,null,0,null,0,null,0,null,0,null,0,null,0,null,0,null,0,null,0,null,0,null,0,null,0,null,{"$f":"IF(SUM(CE$92:CE$94)>0,$M166,0)","v":0},null,0,null,0,null,0,null,0,null,0,null,0,null,0,null,0,null,0,null,0,null,0,null,0,null,0,null,0,null,0,null,0,null,0,null,0,null,0,null,0,null,0,null,0,null,0,null,0,null,0,null,0,null,0]
[null,null,null,null,null,null,107.33,0.05,5,1.6993916666666666,0,0.59376239999999991,0,"COTAÇÃO",null,null,null,0,null,0,null,0,null,null,null,0,null,0,null,0,null,0,null,0,null,0,null,0,null,0,null,0,null,0,null,0,null,0,null,0,null,0,null,0,null,0,null,0,null,0,null,0,null,0,null,0,null,0,null,0,null,0,null,0,null,0,null,0,null,0,null,0,null,0,null,0,null,0,null,0,null,0,null,0,null,0,null,0,null,0,null,0,null,0,null,0,null,0,null,0,null,0,null,0,null,0,null,0,null,0,null,0,null,0,null,0,null,0,null,0,null,0,null,0,null,0,null,0]
[null,null,null,null,null,null,64.540000000000006,0.05,5,1.0218833333333335,0,0.59376239999999991,0,"COTAÇÃO",null,null,null,0,null,0,null,0,null,null,null,0,null,0,null,0,null,0,null,0,null,0,null,0,null,0,null,0,null,0,null,0,null,0,null,0,null,0,null,0,null,0,null,0,null,0,null,0,null,0,null,0,null,0,null,0,null,0,null,0,null,0,null,0,null,0,null,0,null,0,null,0,null,0,null,0,null,0,null,0,null,0,null,0,null,0,null,0,null,0,null,0,null,0,null,0,null,0,null,0,null,0,null,0,null,0,null,0,null,0,null,0,null,0,null,0,null,0,null,0,null,0,null,0]
[null,null,null,null,null,null,22.89,0.05,5,0.362425,0,0.59376239999999991,0,"COTAÇÃO",null,null,null,0,null,0,null,0,null,null,null,0,null,0,null,0,null,0,null,0,null,0,null,0,null,0,null,0,null,0,null,0,null,0,null,0,null,0,null,0,null,0,null,0,null,0,null,0,null,0,null,0,null,0,null,0,null,0,null,0,null,0,null,0,null,0,null,0,null,0,null,0,null,0,null,0,null,0,null,0,null,0,null,0,null,0,null,0,null,0,null,0,null,0,null,0,null,0,null,0,null,0,null,0,null,0,null,0,null,0,null,0,null,0,null,0,null,0,null,0,null,0,null,0]
[null,null,null,null,null,null,79.400000000000006,0.05,5,{"$f":"G170*(1-H170)/(I170*12)","v":1.2571666666666668},{"$f":"J170*E170","v":0},0.59376239999999991,{"$f":"ROUND(K170*(1+L170),2)","v":0},"COTAÇÃO",null,null,null,0,null,0,null,0,null,null,null,0,null,0,null,0,null,0,null,0,null,0,null,0,null,0,null,0,null,0,null,0,null,0,null,0,null,0,null,0,null,0,null,0,null,0,null,0,null,0,null,0,null,0,null,0,null,0,null,0,null,0,null,0,null,0,null,0,null,0,null,0,null,0,null,0,null,0,null,0,null,0,null,0,null,0,null,0,null,0,null,0,null,0,null,0,null,0,null,0,null,0,null,0,null,0,null,0,null,0,null,0,null,0,null,0,null,0,null,0,null,0,null,0]
[null,null,null,null,null,null,35.4,0.05,5,{"$f":"G171*(1-H171)/(I171*12)","v":0.56049999999999989},{"$f":"J171*E171","v":0},0.59376239999999991,{"$f":"ROUND(K171*(1+L171),2)","v":0},"COTAÇÃO",null,null,null,0,null,0,null,0,null,null,null,0,null,0,null,0,null,0,null,0,null,0,null,0,null,0,null,0,null,0,null,0,null,0,null,0,null,0,null,0,null,0,null,0,null,0,null,0,null,0,null,0,null,0,null,0,null,0,null,0,null,0,null,0,null,0,null,0,null,0,null,0,null,0,null,0,null,0,null,0,null,0,null,0,null,0,null,0,null,0,null,0,null,0,null,0,null,0,null,0,null,0,null,0,null,0,null,0,null,0,null,0,null,0,null,0,null,0,null,0,null,0,null,0]
[]
[]
[null,null,"CATEGORIAS",null,"QUANTIDADE"]
[null,null,null,null,null,null,null,null,null,null,null,null,null,null,null,null,0,null,0,null,0,null,0,null,0,null,0,null,0,null,0,null,0,null,0,null,0,null,0,null,0,null,0,null,0,null,0,null,0,null,0,null,0,null,0,null,0,null,0,null,0,null,0,null,0,null,0,null,0,null,0,null,0,null,0,null,0,null,0,null,0,null,0,null,0,null,0,null,0,null,0,null,0,null,0,null,0,null,0,null,0,null,0,null,0,null,0,null,0,null,0,null,0,null,0,null,0,null,0,null,0,null,0,null,0,null,0,null,0,null,0,null,0,null,0,null,0]
[null,null,null,{"$f":"HLOOKUP($C176,'Dados Gerais'!$D$6:$BI$11,6)","v":{"$error":"#N/A"}},{"$f":"HLOOKUP($C176,'Dados Gerais'!$D$6:$BI$15,10)","v":{"$error":"#N/A"}},null,null,null,null,null,null,null,null,null,null,null,{"$f":"IF($C176=Q$3,1,0)","v":0},null,{"$f":"IF($C176=S$3,1,0)","v":0},null,{"$f":"IF($C176=U$3,1,0)","v":0},null,{"$f":"IF($C176=W$3,1,0)","v":0},null,{"$f":"IF($C176=Y$3,1,0)","v":0},null,{"$f":"IF($C176=AA$3,1,0)","v":0},null,{"$f":"IF($C176=AC$3,1,0)","v":0},null,{"$f":"IF($C176=AE$3,1,0)","v":0},null,{"$f":"IF($C176=AG$3,1,0)","v":0},null,{"$f":"IF($C176=AI$3,1,0)","v":0},null,{"$f":"IF($C176=AK$3,1,0)","v":0},null,{"$f":"IF($C176=AM$3,1,0)","v":0},null,{"$f":"IF($C176=AO$3,1,0)","v":0},null,{"$f":"IF($C176=AQ$3,1,0)","v":0},null,{"$f":"IF($C176=AS$3,1,0)","v":0},null,{"$f":"IF($C176=AU$3,1,0)","v":0},null,{"$f":"IF($C176=AW$3,1,0)","v":0},null,{"$f":"IF($C176=AY$3,1,0)","v":0},null,{"$f":"IF($C176=BA$3,1,0)","v":0},null,{"$f":"IF($C176=BC$3,1,0)","v":0},null,{"$f":"IF($C176=BE$3,1,0)","v":0},null,{"$f":"IF($C176=BG$3,1,0)","v":0},null,{"$f":"IF($C176=BI$3,1,0)","v":0},null,{"$f":"IF($C176=BK$3,1,0)","v":0},null,{"$f":"IF($C176=BM$3,1,0)","v":0},null,{"$f":"IF($C176=BO$3,1,0)","v":0},null,{"$f":"IF($C176=BQ$3,1,0)","v":0},null,{"$f":"IF($C176=BS$3,1,0)","v":0},null,{"$f":"IF($C176=BU$3,1,0)","v":0},null,{"$f":"IF($C176=BW$3,1,0)","v":0},null,{"$f":"IF($C176=BY$3,1,0)","v":0},null,{"$f":"IF($C176=CA$3,1,0)","v":0},null,{"$f":"IF($C176=CC$3,1,0)","v":0},null,{"$f":"IF($C176=CE$3,1,0)","v":0},null,{"$f":"IF($C176=CG$3,1,0)","v":0},null,{"$f":"IF($C176=CI$3,1,0)","v":0},null,{"$f":"IF($C176=CK$3,1,0)","v":0},null,{"$f":"IF($C176=CM$3,1,0)","v":0},null,{"$f":"IF($C176=CO$3,1,0)","v":0},null,{"$f":"IF($C176=CQ$3,1,0)","v":0},null,{"$f":"IF($C176=CS$3,1,0)","v":0},null,{"$f":"IF($C176=CU$3,1,0)","v":0},null,{"$f":"IF($C176=CW$3,1,0)","v":0},null,{"$f":"IF($C176=CY$3,1,0)","v":0},null,{"$f":"IF($C176=DA$3,1,0)","v":0},null,{"$f":"IF($C176=DC$3,1,0)","v":0},null,{"$f":"IF($C176=DE$3,1,0)","v":0},null,{"$f":"IF($C176=DG$3,1,0)","v":0},null,{"$f":"IF($C176=DI$3,1,0)","v":0},null,{"$f":"IF($C176=DK$3,1,0)","v":0},null,{"$f":"IF($C176=DM$3,1,0)","v":0},null,{"$f":"IF($C176=DO$3,1,0)","v":0},null,{"$f":"IF($C176=DQ$3,1,0)","v":0},null,{"$f":"IF($C176=DS$3,1,0)","v":0},null,{"$f":"IF($C176=DU$3,1,0)","v":0},null,{"$f":"IF($C176=DW$3,1,0)","v":0},null,{"$f":"IF($C176=DY$3,1,0)","v":0},null,{"$f":"IF($C176=EA$3,1,0)","v":0},null,{"$f":"IF($C176=EC$3,1,0)","v":0},null,{"$f":"IF($C176=EE$3,1,0)","v":0},null,{"$f":"IF($C176=EG$3,1,0)","v":0}]
[null,null,null,null,null,null,null,null,null,null,null,null,null,null,null,null,0,null,0,null,0,null,0,null,0,null,0,null,0,null,0,null,0,null,0,null,0,null,0,null,0,null,0,null,0,null,0,null,0,null,0,null,0,null,0,null,0,null,0,null,0,null,0,null,0,null,0,null,0,null,0,null,0,null,0,null,0,null,0,null,0,null,0,null,0,null,0,null,0,null,0,null,0,null,0,null,0,null,0,null,0,null,0,null,0,null,0,null,0,null,0,null,0,null,0,null,0,null,0,null,0,null,0,null,0,null,0,null,0,null,0,null,0,null,0,null,0]
[]
[null,null,"PAGAMENTO DA DEPRECIAÇÃO"]
[null,null,"ITEM","DESCRIÇÃO","QUANT ANUAL","CONTA SIAFI","VALOR DE AQ.","% RESIDUAL","VIDA ÚTIL","DEP. MENSAL","CUSTO TOTAL","MAN (%)","PREÇO TOTAL","FONTE","REFERÊNCIA"]
[]
[null,null,null,null,null,null,40.17,0.05,5,{"$f":"G182*(1-H182)/(I182*12)","v":0.63602499999999995},{"$f":"J182*E182","v":0},{"$f":"$J$225","v":0.59376239999999991},{"$f":"ROUND(K182*(1+L182),2)","v":0},"COTAÇÃO",null,null,null,{"$f":"IF(SUM(Q$175:Q$177)>0,$M182,0)","v":0},null,{"$f":"IF(SUM(S$175:S$177)>0,$M182,0)","v":0},null,{"$f":"IF(SUM(U$175:U$177)>0,$M182,0)","v":0},null,null,null,{"$f":"IF(SUM(Y$175:Y$177)>0,$M182,0)","v":0},null,{"$f":"IF(SUM(AA$175:AA$177)>0,$M182,0)","v":0},null,{"$f":"IF(SUM(AC$175:AC$177)>0,$M182,0)","v":0},null,{"$f":"IF(SUM(AE$175:AE$177)>0,$M182,0)","v":0},null,{"$f":"IF(SUM(AG$175:AG$177)>0,$M182,0)","v":0},null,{"$f":"IF(SUM(AI$175:AI$177)>0,$M182,0)","v":0},null,{"$f":"IF(SUM(AK$175:AK$177)>0,$M182,0)","v":0},null,{"$f":"IF(SUM(AM$175:AM$177)>0,$M182,0)","v":0},null,{"$f":"IF(SUM(AO$175:AO$177)>0,$M182,0)","v":0},null,{"$f":"IF(SUM(AQ$175:AQ$177)>0,$M182,0)","v":0},null,{"$f":"IF(SUM(AS$175:AS$177)>0,$M182,0)","v":0},null,{"$f":"IF(SUM(AU$175:AU$177)>0,$M182,0)","v":0},null,{"$f":"IF(SUM(AW$175:AW$177)>0,$M182,0)","v":0},null,{"$f":"IF(SUM(AY$175:AY$177)>0,$M182,0)","v":0},null,{"$f":"IF(SUM(BA$175:BA$177)>0,$M182,0)","v":0},null,{"$f":"IF(SUM(BC$175:BC$177)>0,$M182,0)","v":0},null,{"$f":"IF(SUM(BE$175:BE$177)>0,$M182,0)","v":0},null,{"$f":"IF(SUM(BG$175:BG$177)>0,$M182,0)","v":0},null,{"$f":"IF(SUM(BI$175:BI$177)>0,$M182,0)","v":0},null,{"$f":"IF(SUM(BK$175:BK$177)>0,$M182,0)","v":0},null,{"$f":"IF(SUM(BM$175:BM$177)>0,$M182,0)","v":0},null,{"$f":"IF(SUM(BO$175:BO$177)>0,$M182,0)","v":0},null,{"$f":"IF(SUM(BQ$175:BQ$177)>0,$M182,0)","v":0},null,{"$f":"IF(SUM(BS$175:BS$177)>0,$M182,0)","v":0},null,{"$f":"IF(SUM(BU$175:BU$177)>0,$M182,0)","v":0},null,{"$f":"IF(SUM(BW$175:BW$177)>0,$M182,0)","v":0},null,{"$f":"IF(SUM(BY$175:BY$177)>0,$M182,0)","v":0},null,{"$f":"IF(SUM(CA$175:CA$177)>0,$M182,0)","v":0},null,{"$f":"IF(SUM(CC$175:CC$177)>0,$M182,0)","v":0},null,{"$f":"IF(SUM(CE$175:CE$177)>0,$M182,0)","v":0},null,{"$f":"IF(SUM(CG$175:CG$177)>0,$M182,0)","v":0},null,{"$f":"IF(SUM(CI$175:CI$177)>0,$M182,0)","v":0},null,{"$f":"IF(SUM(CK$175:CK$177)>0,$M182,0)","v":0},null,{"$f":"IF(SUM(CM$175:CM$177)>0,$M182,0)","v":0},null,{"$f":"IF(SUM(CO$175:CO$177)>0,$M182,0)","v":0},null,{"$f":"IF(SUM(CQ$175:CQ$177)>0,$M182,0)","v":0},null,{"$f":"IF(SUM(CS$175:CS$177)>0,$M182,0)","v":0},null,{"$f":"IF(SUM(CU$175:CU$177)>0,$M182,0)","v":0},null,{"$f":"IF(SUM(CW$175:CW$177)>0,$M182,0)","v":0},null,{"$f":"IF(SUM(CY$175:CY$177)>0,$M182,0)","v":0},null,{"$f":"IF(SUM(DA$175:DA$177)>0,$M182,0)","v":0},null,{"$f":"IF(SUM(DC$175:DC$177)>0,$M182,0)","v":0},null,{"$f":"IF(SUM(DE$175:DE$177)>0,$M182,0)","v":0},null,{"$f":"IF(SUM(DG$175:DG$177)>0,$M182,0)","v":0},null,{"$f":"IF(SUM(DI$175:DI$177)>0,$M182,0)","v":0},null,{"$f":"IF(SUM(DK$175:DK$177)>0,$M182,0)","v":0},null,{"$f":"IF(SUM(DM$175:DM$177)>0,$M182,0)","v":0},null,{"$f":"IF(SUM(DO$175:DO$177)>0,$M182,0)","v":0},null,{"$f":"IF(SUM(DQ$175:DQ$177)>0,$M182,0)","v":0},null,{"$f":"IF(SUM(DS$175:DS$177)>0,$M182,0)","v":0},null,{"$f":"IF(SUM(DU$175:DU$177)>0,$M182,0)","v":0},null,{"$f":"IF(SUM(DW$175:DW$177)>0,$M182,0)","v":0},null,{"$f":"IF(SUM(DY$175:DY$177)>0,$M182,0)","v":0},null,{"$f":"IF(SUM(EA$175:EA$177)>0,$M182,0)","v":0},null,{"$f":"IF(SUM(EC$175:EC$177)>0,$M182,0)","v":0},null,{"$f":"IF(SUM(EE$175:EE$177)>0,$M182,0)","v":0},null,{"$f":"IF(SUM(EG$175:EG$177)>0,$M182,0)","v":0}]
[null,null,null,null,null,null,47.97,0.05,5,{"$f":"G183*(1-H183)/(I183*12)","v":0.75952500000000001},{"$f":"J183*E183","v":0},0.59376239999999991,{"$f":"ROUND(K183*(1+L183),2)","v":0},"COTAÇÃO",null,null,null,0,null,0,null,0,null,null,null,0,null,0,null,0,null,0,null,0,null,0,null,0,null,0,null,0,null,0,null,0,null,0,null,0,null,0,null,0,null,0,null,0,null,0,null,0,null,0,null,0,null,0,null,0,null,0,null,0,null,0,null,0,null,0,null,0,null,0,null,0,null,0,null,0,null,0,null,0,null,0,null,0,null,0,null,0,null,0,null,0,null,0,null,0,null,0,null,0,null,0,null,0,null,0,null,0,null,0,null,0,null,0,null,0,null,0,null,0,null,0,null,0]
[null,null,null,null,null,null,72.27,0.05,5,{"$f":"G184*(1-H184)/(I184*12)","v":1.1442749999999999},{"$f":"J184*E184","v":0},0.59376239999999991,{"$f":"ROUND(K184*(1+L184),2)","v":0},"COTAÇÃO",null,null,null,0,null,0,null,0,null,null,null,0,null,0,null,0,null,0,null,0,null,0,null,0,null,0,null,0,null,0,null,0,null,0,null,0,null,0,null,0,null,0,null,0,null,0,null,0,null,0,null,0,null,0,null,0,null,0,null,0,null,0,null,0,null,0,null,0,null,0,null,0,null,0,null,0,null,0,null,0,null,0,null,0,null,0,null,0,null,0,null,0,null,0,null,0,null,0,null,0,null,0,null,0,null,0,null,0,null,0,null,0,null,0,null,0,null,0,null,0,null,0,null,0]
[null,null,null,null,null,null,53.31,0.05,5,{"$f":"G185*(1-H185)/(I185*12)","v":0.84407500000000002},{"$f":"J185*E185","v":0},0.59376239999999991,{"$f":"ROUND(K185*(1+L185),2)","v":0},"COTAÇÃO",null,null,null,0,null,0,null,0,null,null,null,0,null,0,null,0,null,0,null,0,null,0,null,0,null,0,null,0,null,0,null,0,null,0,null,0,null,0,null,0,null,0,null,0,null,0,null,0,null,0,null,0,null,0,null,0,null,0,null,0,null,0,null,0,null,0,null,0,null,0,null,0,null,0,null,0,null,0,null,0,null,0,null,0,null,0,null,0,null,0,null,0,null,0,null,0,null,0,null,0,null,0,null,0,null,0,null,0,null,0,null,0,null,0,null,0,null,0,null,0,null,0,null,0]
[null,null,null,null,null,null,100.7,0.05,5,1.5944166666666666,0,0.59376239999999991,0,"COTAÇÃO",null,null,null,0,null,0,null,0,null,null,null,0,null,0,null,0,null,0,null,0,null,0,null,0,null,0,null,0,null,0,null,0,null,0,null,0,null,0,null,0,null,0,null,0,null,0,null,0,null,0,null,0,null,0,null,0,null,0,null,0,null,0,null,0,null,0,null,0,null,0,null,0,null,0,null,0,null,0,null,0,null,0,null,0,null,0,null,0,null,0,null,0,null,0,null,0,null,0,null,0,null,0,null,0,null,0,null,0,null,0,null,0,null,0,null,0,null,0,null,0,null,0,null,0]
[null,null,null,null,null,null,249.25,0.05,5,3.9464583333333332,0,0.59376239999999991,0,"COTAÇÃO",null,null,null,0,null,0,null,0,null,null,null,0,null,0,null,0,null,0,null,0,null,0,null,0,null,0,null,0,null,0,null,0,null,0,null,0,null,0,null,0,null,0,null,0,null,0,null,0,null,0,null,0,null,0,null,0,null,0,null,0,null,0,null,0,null,0,null,0,null,0,null,0,null,0,null,0,null,0,null,0,null,0,null,0,null,0,null,0,null,0,null,0,null,0,null,0,null,0,null,0,null,0,null,0,null,0,null,0,null,0,null,0,null,0,null,0,null,0,null,0,null,0,null,0]
[null,null,null,null,null,null,124.94,0.05,5,1.9782166666666667,0,0.59376239999999991,0,"COTAÇÃO",null,null,null,0,null,0,null,0,null,null,null,0,null,0,null,0,null,0,null,0,null,0,null,0,null,0,null,0,null,0,null,0,null,0,null,0,null,0,null,0,null,0,null,0,null,0,null,0,null,0,null,0,null,0,null,0,null,0,null,0,null,0,null,0,null,0,null,0,null,0,null,0,null,0,null,0,null,0,null,0,null,0,null,0,null,0,null,0,null,0,null,0,null,0,null,0,null,0,null,0,null,0,null,0,null,0,null,0,null,0,null,0,null,0,null,0,null,0,null,0,null,0,null,0]
[null,null,null,null,null,null,8.19,0.05,5,0.12967499999999998,0,0.59376239999999991,0,"COTAÇÃO",null,null,null,0,null,0,null,0,null,null,null,0,null,0,null,0,null,0,null,0,null,0,null,0,null,0,null,0,null,0,null,0,null,0,null,0,null,0,null,0,null,0,null,0,null,0,null,0,null,0,null,0,null,0,null,0,null,0,null,0,null,0,null,0,null,0,null,0,null,0,null,0,null,0,null,0,null,0,null,0,null,0,null,0,null,0,null,0,null,0,null,0,null,0,null,0,null,0,null,0,null,0,null,0,null,0,null,0,null,0,null,0,null,0,null,0,null,0,null,0,null,0,null,0]
[null,null,null,null,null,null,8.48,0.05,5,0.13426666666666665,0,0.59376239999999991,0,"COTAÇÃO",null,null,null,0,null,0,null,0,null,null,null,0,null,0,null,0,null,0,null,0,null,0,null,0,null,0,null,0,null,0,null,0,null,0,null,0,null,0,null,0,null,0,null,0,null,0,null,0,null,0,null,0,null,0,null,0,null,0,null,0,null,0,null,0,null,0,null,0,null,0,null,0,null,0,null,0,null,0,null,0,null,0,null,0,null,0,null,0,null,0,null,0,null,0,null,0,null,0,null,0,null,0,null,0,null,0,null,0,null,0,null,0,null,0,null,0,null,0,null,0,null,0,null,0]
[null,null,null,null,null,null,376.23,0.05,5,5.9569749999999999,0,0.59376239999999991,0,"COTAÇÃO",null,null,null,0,null,0,null,0,null,null,null,0,null,0,null,0,null,0,null,0,null,0,null,0,null,0,null,0,null,0,null,0,null,0,null,0,null,0,null,0,null,0,null,0,null,0,null,0,null,0,null,0,null,0,null,0,null,0,null,0,null,0,null,0,null,0,null,0,null,0,null,0,null,0,null,0,null,0,null,0,null,0,null,0,null,0,null,0,null,0,null,0,null,0,null,0,null,0,null,0,null,0,null,0,null,0,null,0,null,0,null,0,null,0,null,0,null,0,null,0,null,0,null,0]
[null,null,null,null,null,null,975.21,0.05,5,15.440824999999998,0,0.59376239999999991,0,"COTAÇÃO",null,null,null,0,null,0,null,0,null,null,null,0,null,0,null,0,null,0,null,0,null,0,null,0,null,0,null,0,null,0,null,0,null,0,null,0,null,0,null,0,null,0,null,0,null,0,null,0,null,0,null,0,null,0,null,0,null,0,null,0,null,0,null,0,null,0,null,0,null,0,null,0,null,0,null,0,null,0,null,0,null,0,null,0,null,0,null,0,null,0,null,0,null,0,null,0,null,0,null,0,null,0,null,0,null,0,null,0,null,0,null,0,null,0,null,0,null,0,null,0,null,0,null,0]
[null,null,null,null,null,null,19.670000000000002,0.05,5,0.31144166666666673,0,0.59376239999999991,0,"COTAÇÃO",null,null,null,0,null,0,null,0,null,null,null,0,null,0,null,0,null,0,null,0,null,0,null,0,null,0,null,0,null,0,null,0,null,0,null,0,null,0,null,0,null,0,null,0,null,0,null,0,null,0,null,0,null,0,null,0,null,0,null,0,null,0,null,0,null,0,null,0,null,0,null,0,null,0,null,0,null,0,null,0,null,0,null,0,null,0,null,0,null,0,null,0,null,0,null,0,null,0,null,0,null,0,null,0,null,0,null,0,null,0,null,0,null,0,null,0,null,0,null,0,null,0,null,0]
[null,null,null,null,null,null,35.450000000000003,0.05,5,0.56129166666666674,0,0.59376239999999991,0,"COTAÇÃO",null,null,null,0,null,0,null,0,null,null,null,0,null,0,null,0,null,0,null,0,null,0,null,0,null,0,null,0,null,0,null,0,null,0,null,0,null,0,null,0,null,0,null,0,null,0,null,0,null,0,null,0,null,0,null,0,null,0,null,0,null,0,null,0,null,0,null,0,null,0,null,0,null,0,null,0,null,0,null,0,null,0,null,0,null,0,null,0,null,0,null,0,null,0,null,0,null,0,null,0,null,0,null,0,null,0,null,0,null,0,null,0,null,0,null,0,null,0,null,0,null,0,null,0]
[null,null,null,null,null,null,551.61,0.05,5,8.7338249999999995,0,0.59376239999999991,0,"COTAÇÃO",null,null,null,0,null,0,null,0,null,null,null,0,null,0,null,0,null,0,null,0,null,0,null,0,null,0,null,0,null,0,null,0,null,0,null,0,null,0,null,0,null,0,null,0,null,0,null,0,null,0,null,0,null,0,null,0,null,0,null,0,null,0,null,0,null,0,null,0,null,0,null,0,null,0,null,0,null,0,null,0,null,0,null,0,null,0,null,0,null,0,null,0,null,0,null,0,null,0,null,0,null,0,null,0,null,0,null,0,null,0,null,0,null,0,null,0,null,0,null,0,null,0,null,0]
[null,null,null,null,null,null,185.5,0.05,5,2.9370833333333333,0,0.59376239999999991,0,"COTAÇÃO",null,null,null,0,null,0,null,0,null,null,null,0,null,0,null,0,null,0,null,0,null,0,null,0,null,0,null,0,null,0,null,0,null,0,null,0,null,0,null,0,null,0,null,0,null,0,null,0,null,0,null,0,null,0,null,0,null,0,null,0,null,0,null,0,null,0,null,0,null,0,null,0,null,0,null,0,null,0,null,0,null,0,null,0,null,0,null,0,null,0,null,0,null,0,null,0,null,0,null,0,null,0,null,0,null,0,null,0,null,0,null,0,null,0,null,0,null,0,null,0,null,0,null,0]
[null,null,null,null,null,null,39.67,0.05,5,0.62810833333333338,0,0.59376239999999991,0,"COTAÇÃO",null,null,null,0,null,0,null,0,null,null,null,0,null,0,null,0,null,0,null,0,null,0,null,0,null,0,null,0,null,0,null,0,null,0,null,0,null,0,null,0,null,0,null,0,null,0,null,0,null,0,null,0,null,0,null,0,null,0,null,0,null,0,null,0,null,0,null,0,null,0,null,0,null,0,null,0,null,0,null,0,null,0,null,0,null,0,null,0,null,0,null,0,null,0,null,0,null,0,null,0,null,0,null,0,null,0,null,0,null,0,null,0,null,0,null,0,null,0,null,0,null,0,null,0]
[null,null,null,null,null,null,54.81,0.05,5,0.86782499999999996,0,0.59376239999999991,0,"COTAÇÃO",null,null,null,0,null,0,null,0,null,null,null,0,null,0,null,0,null,0,null,0,null,0,null,0,null,0,null,0,null,0,null,0,null,0,null,0,null,0,null,0,null,0,null,0,null,0,null,0,null,0,null,0,null,0,null,0,null,0,null,0,null,0,null,0,null,0,null,0,null,0,null,0,null,0,null,0,null,0,null,0,null,0,null,0,null,0,null,0,null,0,null,0,null,0,null,0,null,0,null,0,null,0,null,0,null,0,null,0,null,0,null,0,null,0,null,0,null,0,null,0,null,0,null,0]
[null,null,null,null,null,null,603.9,0.05,5,9.5617499999999982,0,0.59376239999999991,0,"COTAÇÃO",null,null,null,0,null,0,null,0,null,null,null,0,null,0,null,0,null,0,null,0,null,0,null,0,null,0,null,0,null,0,null,0,null,0,null,0,null,0,null,0,null,0,null,0,null,0,null,0,null,0,null,0,null,0,null,0,null,0,null,0,null,0,null,0,null,0,null,0,null,0,null,0,null,0,null,0,null,0,null,0,null,0,null,0,null,0,null,0,null,0,null,0,null,0,null,0,null,0,null,0,null,0,null,0,null,0,null,0,null,0,null,0,null,0,null,0,null,0,null,0,null,0,null,0]
[null,null,null,null,null,null,8.67,0.05,5,0.13727499999999998,0,0.59376239999999991,0,"COTAÇÃO",null,null,null,0,null,0,null,0,null,null,null,0,null,0,null,0,null,0,null,0,null,0,null,0,null,0,null,0,null,0,null,0,null,0,null,0,null,0,null,0,null,0,null,0,null,0,null,0,null,0,null,0,null,0,null,0,null,0,null,0,null,0,null,0,null,0,null,0,null,0,null,0,null,0,null,0,null,0,null,0,null,0,null,0,null,0,null,0,null,0,null,0,null,0,null,0,null,0,null,0,null,0,null,0,null,0,null,0,null,0,null,0,null,0,null,0,null,0,null,0,null,0,null,0]
[null,null,null,null,null,null,988.3,0.05,5,15.64808333333333,0,0.59376239999999991,0,"COTAÇÃO",null,null,null,0,null,0,null,0,null,null,null,0,null,0,null,0,null,0,null,0,null,0,null,0,null,0,null,0,null,0,null,0,null,0,null,0,null,0,null,0,null,0,null,0,null,0,null,0,null,0,null,0,null,0,null,0,null,0,null,0,null,0,null,0,null,0,null,0,null,0,null,0,null,0,null,0,null,0,null,0,null,0,null,0,null,0,null,0,null,0,null,0,null,0,null,0,null,0,null,0,null,0,null,0,null,0,null,0,null,0,null,0,null,0,null,0,null,0,null,0,null,0,null,0]
[null,null,null,null,null,null,61.57,0.05,5,0.97485833333333327,0,0.59376239999999991,0,"COTAÇÃO",null,null,null,0,null,0,null,0,null,null,null,0,null,0,null,0,null,0,null,0,null,0,null,0,null,0,null,0,null,0,null,0,null,0,null,0,null,0,null,0,null,0,null,0,null,0,null,0,null,0,null,0,null,0,null,0,null,0,null,0,null,0,null,0,null,0,null,0,null,0,null,0,null,0,null,0,null,0,null,0,null,0,null,0,null,0,null,0,null,0,null,0,null,0,null,0,null,0,null,0,null,0,null,0,null,0,null,0,null,0,null,0,null,0,null,0,null,0,null,0,null,0,null,0]
[null,null,null,null,null,null,44.46,0.05,5,0.70395000000000008,0,0.59376239999999991,0,"COTAÇÃO",null,null,null,0,null,0,null,0,null,null,null,0,null,0,null,0,null,0,null,0,null,0,null,0,null,0,null,0,null,0,null,0,null,0,null,0,null,0,null,0,null,0,null,0,null,0,null,0,null,0,null,0,null,0,null,0,null,0,null,0,null,0,null,0,null,0,null,0,null,0,null,0,null,0,null,0,null,0,null,0,null,0,null,0,null,0,null,0,null,0,null,0,null,0,null,0,null,0,null,0,null,0,null,0,null,0,null,0,null,0,null,0,null,0,null,0,null,0,null,0,null,0,null,0]
[null,null,null,null,null,null,583.72,0.05,5,9.2422333333333331,0,0.59376239999999991,0,"COTAÇÃO",null,null,null,0,null,0,null,0,null,null,null,0,null,0,null,0,null,0,null,0,null,0,null,0,null,0,null,0,null,0,null,0,null,0,null,0,null,0,null,0,null,0,null,0,null,0,null,0,null,0,null,0,null,0,null,0,null,0,null,0,null,0,null,0,null,0,null,0,null,0,null,0,null,0,null,0,null,0,null,0,null,0,null,0,null,0,null,0,null,0,null,0,null,0,null,0,null,0,null,0,null,0,null,0,null,0,null,0,null,0,null,0,null,0,null,0,null,0,null,0,null,0,null,0]
[null,null,null,null,null,null,780.49,0.05,5,12.357758333333333,0,0.59376239999999991,0,"COTAÇÃO",null,null,null,0,null,0,null,0,null,null,null,0,null,0,null,0,null,0,null,0,null,0,null,0,null,0,null,0,null,0,null,0,null,0,null,0,null,0,null,0,null,0,null,0,null,0,null,0,null,0,null,0,null,0,null,0,null,0,null,0,null,0,null,0,null,0,null,0,null,0,null,0,null,0,null,0,null,0,null,0,null,0,null,0,null,0,null,0,null,0,null,0,null,0,null,0,null,0,null,0,null,0,null,0,null,0,null,0,null,0,null,0,null,0,null,0,null,0,null,0,null,0,null,0]
[null,null,null,null,null,null,609.24,0.05,5,9.6463000000000001,0,0.59376239999999991,0,"COTAÇÃO",null,null,null,0,null,0,null,0,null,null,null,0,null,0,null,0,null,0,null,0,null,0,null,0,null,0,null,0,null,0,null,0,null,0,null,0,null,0,null,0,null,0,null,0,null,0,null,0,null,0,null,0,null,0,null,0,null,0,null,0,null,0,null,0,null,0,null,0,null,0,null,0,null,0,null,0,null,0,null,0,null,0,null,0,null,0,null,0,null,0,null,0,null,0,null,0,null,0,null,0,null,0,null,0,null,0,null,0,null,0,null,0,null,0,null,0,null,0,null,0,null,0,null,0]
[null,null,null,null,null,null,22.84,0.05,5,{"$f":"G207*(1-H207)/(I207*12)","v":0.36163333333333336},{"$f":"J207*E207","v":0},0.59376239999999991,{"$f":"ROUND(K207*(1+L207),2)","v":0},"COTAÇÃO",null,null,null,0,null,0,null,0,null,null,null,0,null,0,null,0,null,0,null,0,null,0,null,0,null,0,null,0,null,0,null,0,null,0,null,0,null,0,null,0,null,0,null,0,null,0,null,0,null,0,null,0,null,0,null,0,null,0,null,0,null,0,null,0,null,0,null,0,null,0,null,0,null,0,null,0,null,0,null,0,null,0,null,0,null,0,null,0,null,0,null,0,null,0,null,0,null,0,null,0,null,0,null,0,null,0,null,0,null,0,null,0,null,0,null,0,null,0,null,0,null,0,null,0]
[null,null,null,null,null,null,361.9,0.05,5,5.7300833333333321,0,0.59376239999999991,0,"COTAÇÃO",null,null,null,0,null,0,null,0,null,null,null,0,null,0,null,0,null,0,null,0,null,0,null,0,null,0,null,0,null,0,null,0,null,0,null,0,null,0,null,0,null,0,null,0,null,0,null,0,null,0,null,0,null,0,null,0,null,0,null,0,null,0,null,0,null,0,null,0,null,0,null,0,null,0,null,0,null,0,null,0,null,0,null,0,null,0,null,0,null,0,null,0,null,0,null,0,null,0,null,0,null,0,null,0,null,0,null,0,null,0,null,0,null,0,null,0,null,0,null,0,null,0,null,0]
[null,null,null,null,null,null,617.33000000000004,0.05,5,9.7743916666666681,0,0.59376239999999991,0,"COTAÇÃO",null,null,null,0,null,0,null,0,null,null,null,0,null,0,null,0,null,0,null,0,null,0,null,0,null,0,null,0,null,0,null,0,null,0,null,0,null,0,null,0,null,0,null,0,null,0,null,0,null,0,null,0,null,0,null,0,null,0,null,0,null,0,null,0,null,0,null,0,null,0,null,0,null,0,null,0,null,0,null,0,null,0,null,0,null,0,null,0,null,0,null,0,null,0,null,0,null,0,null,0,null,0,null,0,null,0,null,0,null,0,null,0,null,0,null,0,null,0,null,0,null,0,null,0]
[null,null,null,null,null,null,31.1,0.05,5,0.49241666666666667,0,0.59376239999999991,0,"COTAÇÃO",null,null,null,0,null,0,null,0,null,null,null,0,null,0,null,0,null,0,null,0,null,0,null,0,null,0,null,0,null,0,null,0,null,0,null,0,null,0,null,0,null,0,null,0,null,0,null,0,null,0,null,0,null,0,null,0,null,0,null,0,null,0,null,0,null,0,null,0,null,0,null,0,null,0,null,0,null,0,null,0,null,0,null,0,null,0,null,0,null,0,null,0,null,0,null,0,null,0,null,0,null,0,null,0,null,0,null,0,null,0,null,0,null,0,null,0,null,0,null,0,null,0,null,0]
[null,null,null,null,null,null,22.51,0.05,5,0.35640833333333333,0,0.59376239999999991,0,"COTAÇÃO",null,null,null,0,null,0,null,0,null,null,null,0,null,0,null,0,null,0,null,0,null,0,null,0,null,0,null,0,null,0,null,0,null,0,null,0,null,0,null,0,null,0,null,0,null,0,null,0,null,0,null,0,null,0,null,0,null,0,null,0,null,0,null,0,null,0,null,0,null,0,null,0,null,0,null,0,null,0,null,0,null,0,null,0,null,0,null,0,null,0,null,0,null,0,null,0,null,0,null,0,null,0,null,0,null,0,null,0,null,0,null,0,null,0,null,0,null,0,null,0,null,0,null,0]
[null,null,null,null,null,null,19.649999999999999,0.05,5,0.31112499999999993,0,0.59376239999999991,0,"COTAÇÃO",null,null,null,0,null,0,null,0,null,null,null,0,null,0,null,0,null,0,null,0,null,0,null,0,null,0,null,0,null,0,null,0,null,0,null,0,null,0,null,0,null,0,null,0,null,0,null,0,null,0,null,0,null,0,null,0,null,0,null,0,null,0,null,0,null,0,null,0,null,0,null,0,null,0,null,0,null,0,null,0,null,0,null,0,null,0,null,0,null,0,null,0,null,0,null,0,null,0,null,0,null,0,null,0,null,0,null,0,null,0,null,0,null,0,null,0,null,0,null,0,null,0,null,0]
[null,null,null,null,null,null,106.56,0.05,5,{"$f":"G213*(1-H213)/(I213*12)","v":1.6872},{"$f":"J213*E213","v":0},0.59376239999999991,{"$f":"ROUND(K213*(1+L213),2)","v":0},"COTAÇÃO",null,null,null,0,null,0,null,0,null,null,null,0,null,0,null,0,null,0,null,0,null,0,null,0,null,0,null,0,null,0,null,0,null,0,null,0,null,0,null,0,null,0,null,0,null,0,null,0,null,0,null,0,null,0,null,0,null,0,null,0,null,0,null,0,null,0,null,0,null,0,null,0,null,0,null,0,null,0,null,0,null,0,null,0,null,0,null,0,null,0,null,0,null,0,null,0,null,0,null,0,null,0,null,0,null,0,null,0,null,0,null,0,null,0,null,0,null,0,null,0,null,0,null,0]
[null,null,null,null,null,null,25.78,0.05,5,0.40818333333333334,0,0.59376239999999991,0,"COTAÇÃO",null,null,null,0,null,0,null,0,null,null,null,0,null,0,null,0,null,0,null,0,null,0,null,0,null,0,null,0,null,0,null,0,null,0,null,0,null,0,null,0,null,0,null,0,null,0,null,0,null,0,null,0,null,0,null,0,null,0,null,0,null,0,null,0,null,0,null,0,null,0,null,0,null,0,null,0,null,0,null,0,null,0,null,0,null,0,null,0,null,0,null,0,null,0,null,0,null,0,null,0,null,0,null,0,null,0,null,0,null,0,null,0,null,0,null,0,null,0,null,0,null,0,null,0]
[null,null,null,null,null,null,63.91,0.05,5,1.0119083333333332,0,0.59376239999999991,0,"COTAÇÃO",null,null,null,0,null,0,null,0,null,null,null,0,null,0,null,0,null,0,null,0,null,0,null,0,null,0,null,0,null,0,null,0,null,0,null,0,null,0,null,0,null,0,null,0,null,0,null,0,null,0,null,0,null,0,null,0,null,0,null,0,null,0,null,0,null,0,null,0,null,0,null,0,null,0,null,0,null,0,null,0,null,0,null,0,null,0,null,0,null,0,null,0,null,0,null,0,null,0,null,0,null,0,null,0,null,0,null,0,null,0,null,0,null,0,null,0,null,0,null,0,null,0,null,0]
[null,null,null,null,null,null,76.930000000000007,0.05,5,1.2180583333333332,0,0.59376239999999991,0,"COTAÇÃO",null,null,null,0,null,{"$f":"IF(SUM(S$175:S$177)>0,$M216,0)","v":0},null,{"$f":"IF(SUM(U$175:U$177)>0,$M216,0)","v":0},null,null,null,{"$f":"IF(SUM(Y$175:Y$177)>0,$M216,0)","v":0},null,{"$f":"IF(SUM(AA$175:AA$177)>0,$M216,0)","v":0},null,{"$f":"IF(SUM(AC$175:AC$177)>0,$M216,0)","v":0},null,{"$f":"IF(SUM(AE$175:AE$177)>0,$M216,0)","v":0},null,{"$f":"IF(SUM(AG$175:AG$177)>0,$M216,0)","v":0},null,{"$f":"IF(SUM(AI$175:AI$177)>0,$M216,0)","v":0},null,{"$f":"IF(SUM(AK$175:AK$177)>0,$M216,0)","v":0},null,{"$f":"IF(SUM(AM$175:AM$177)>0,$M216,0)","v":0},null,{"$f":"IF(SUM(AO$175:AO$177)>0,$M216,0)","v":0},null,{"$f":"IF(SUM(AQ$175:AQ$177)>0,$M216,0)","v":0},null,{"$f":"IF(SUM(AS$175:AS$177)>0,$M216,0)","v":0},null,{"$f":"IF(SUM(AU$175:AU$177)>0,$M216,0)","v":0},null,{"$f":"IF(SUM(AW$175:AW$177)>0,$M216,0)","v":0},null,{"$f":"IF(SUM(AY$175:AY$177)>0,$M216,0)","v":0},null,{"$f":"IF(SUM(BA$175:BA$177)>0,$M216,0)","v":0},null,{"$f":"IF(SUM(BC$175:BC$177)>0,$M216,0)","v":0},null,{"$f":"IF(SUM(BE$175:BE$177)>0,$M216,0)","v":0},null,{"$f":"IF(SUM(BG$175:BG$177)>0,$M216,0)","v":0},null,{"$f":"IF(SUM(BI$175:BI$177)>0,$M216,0)","v":0},null,{"$f":"IF(SUM(BK$175:BK$177)>0,$M216,0)","v":0},null,{"$f":"IF(SUM(BM$175:BM$177)>0,$M216,0)","v":0},null,{"$f":"IF(SUM(BO$175:BO$177)>0,$M216,0)","v":0},null,{"$f":"IF(SUM(BQ$175:BQ$177)>0,$M216,0)","v":0},null,{"$f":"IF(SUM(BS$175:BS$177)>0,$M216,0)","v":0},null,{"$f":"IF(SUM(BU$175:BU$177)>0,$M216,0)","v":0},null,{"$f":"IF(SUM(BW$175:BW$177)>0,$M216,0)","v":0},null,{"$f":"IF(SUM(BY$175:BY$177)>0,$M216,0)","v":0},null,{"$f":"IF(SUM(CA$175:CA$177)>0,$M216,0)","v":0},null,{"$f":"IF(SUM(CC$175:CC$177)>0,$M216,0)","v":0},null,0,null,0,null,0,null,0,null,0,null,0,null,0,null,0,null,0,null,0,null,0,null,0,null,0,null,0,null,0,null,0,null,0,null,0,null,0,null,0,null,0,null,0,null,0,null,0,null,0,null,0,null,0,null,0]
[null,null,null,null,null,null,107.33,0.05,5,1.6993916666666666,0,0.59376239999999991,0,"COTAÇÃO",null,null,null,0,null,{"$f":"IF(SUM(S$175:S$177)>0,$M217,0)","v":0},null,{"$f":"IF(SUM(U$175:U$177)>0,$M217,0)","v":0},null,null,null,{"$f":"IF(SUM(Y$175:Y$177)>0,$M217,0)","v":0},null,{"$f":"IF(SUM(AA$175:AA$177)>0,$M217,0)","v":0},null,{"$f":"IF(SUM(AC$175:AC$177)>0,$M217,0)","v":0},null,{"$f":"IF(SUM(AE$175:AE$177)>0,$M217,0)","v":0},null,{"$f":"IF(SUM(AG$175:AG$177)>0,$M217,0)","v":0},null,{"$f":"IF(SUM(AI$175:AI$177)>0,$M217,0)","v":0},null,{"$f":"IF(SUM(AK$175:AK$177)>0,$M217,0)","v":0},null,{"$f":"IF(SUM(AM$175:AM$177)>0,$M217,0)","v":0},null,{"$f":"IF(SUM(AO$175:AO$177)>0,$M217,0)","v":0},null,{"$f":"IF(SUM(AQ$175:AQ$177)>0,$M217,0)","v":0},null,{"$f":"IF(SUM(AS$175:AS$177)>0,$M217,0)","v":0},null,{"$f":"IF(SUM(AU$175:AU$177)>0,$M217,0)","v":0},null,{"$f":"IF(SUM(AW$175:AW$177)>0,$M217,0)","v":0},null,{"$f":"IF(SUM(AY$175:AY$177)>0,$M217,0)","v":0},null,{"$f":"IF(SUM(BA$175:BA$177)>0,$M217,0)","v":0},null,{"$f":"IF(SUM(BC$175:BC$177)>0,$M217,0)","v":0},null,{"$f":"IF(SUM(BE$175:BE$177)>0,$M217,0)","v":0},null,{"$f":"IF(SUM(BG$175:BG$177)>0,$M217,0)","v":0},null,{"$f":"IF(SUM(BI$175:BI$177)>0,$M217,0)","v":0},null,{"$f":"IF(SUM(BK$175:BK$177)>0,$M217,0)","v":0},null,{"$f":"IF(SUM(BM$175:BM$177)>0,$M217,0)","v":0},null,{"$f":"IF(SUM(BO$175:BO$177)>0,$M217,0)","v":0},null,{"$f":"IF(SUM(BQ$175:BQ$177)>0,$M217,0)","v":0},null,{"$f":"IF(SUM(BS$175:BS$177)>0,$M217,0)","v":0},null,{"$f":"IF(SUM(BU$175:BU$177)>0,$M217,0)","v":0},null,{"$f":"IF(SUM(BW$175:BW$177)>0,$M217,0)","v":0},null,{"$f":"IF(SUM(BY$175:BY$177)>0,$M217,0)","v":0},null,{"$f":"IF(SUM(CA$175:CA$177)>0,$M217,0)","v":0},null,{"$f":"IF(SUM(CC$175:CC$177)>0,$M217,0)","v":0},null,0,null,0,null,0,null,0,null,0,null,0,null,0,null,0,null,0,null,0,null,0,null,0,null,0,null,0,null,0,null,0,null,0,null,0,null,0,null,0,null,0,null,0,null,0,null,0,null,0,null,0,null,0,null,0]
[null,null,null,null,null,null,22.89,0.05,5,0.362425,0,0.59376239999999991,0,"COTAÇÃO",null,null,null,0,null,{"$f":"IF(SUM(S$175:S$177)>0,$M218,0)","v":0},null,{"$f":"IF(SUM(U$175:U$177)>0,$M218,0)","v":0},null,null,null,{"$f":"IF(SUM(Y$175:Y$177)>0,$M218,0)","v":0},null,{"$f":"IF(SUM(AA$175:AA$177)>0,$M218,0)","v":0},null,{"$f":"IF(SUM(AC$175:AC$177)>0,$M218,0)","v":0},null,{"$f":"IF(SUM(AE$175:AE$177)>0,$M218,0)","v":0},null,{"$f":"IF(SUM(AG$175:AG$177)>0,$M218,0)","v":0},null,{"$f":"IF(SUM(AI$175:AI$177)>0,$M218,0)","v":0},null,{"$f":"IF(SUM(AK$175:AK$177)>0,$M218,0)","v":0},null,{"$f":"IF(SUM(AM$175:AM$177)>0,$M218,0)","v":0},null,{"$f":"IF(SUM(AO$175:AO$177)>0,$M218,0)","v":0},null,{"$f":"IF(SUM(AQ$175:AQ$177)>0,$M218,0)","v":0},null,{"$f":"IF(SUM(AS$175:AS$177)>0,$M218,0)","v":0},null,{"$f":"IF(SUM(AU$175:AU$177)>0,$M218,0)","v":0},null,{"$f":"IF(SUM(AW$175:AW$177)>0,$M218,0)","v":0},null,{"$f":"IF(SUM(AY$175:AY$177)>0,$M218,0)","v":0},null,{"$f":"IF(SUM(BA$175:BA$177)>0,$M218,0)","v":0},null,{"$f":"IF(SUM(BC$175:BC$177)>0,$M218,0)","v":0},null,{"$f":"IF(SUM(BE$175:BE$177)>0,$M218,0)","v":0},null,{"$f":"IF(SUM(BG$175:BG$177)>0,$M218,0)","v":0},null,{"$f":"IF(SUM(BI$175:BI$177)>0,$M218,0)","v":0},null,{"$f":"IF(SUM(BK$175:BK$177)>0,$M218,0)","v":0},null,{"$f":"IF(SUM(BM$175:BM$177)>0,$M218,0)","v":0},null,{"$f":"IF(SUM(BO$175:BO$177)>0,$M218,0)","v":0},null,{"$f":"IF(SUM(BQ$175:BQ$177)>0,$M218,0)","v":0},null,{"$f":"IF(SUM(BS$175:BS$177)>0,$M218,0)","v":0},null,{"$f":"IF(SUM(BU$175:BU$177)>0,$M218,0)","v":0},null,{"$f":"IF(SUM(BW$175:BW$177)>0,$M218,0)","v":0},null,{"$f":"IF(SUM(BY$175:BY$177)>0,$M218,0)","v":0},null,{"$f":"IF(SUM(CA$175:CA$177)>0,$M218,0)","v":0},null,{"$f":"IF(SUM(CC$175:CC$177)>0,$M218,0)","v":0},null,0,null,0,null,0,null,0,null,0,null,0,null,0,null,0,null,0,null,0,null,0,null,0,null,0,null,0,null,0,null,0,null,0,null,0,null,0,null,0,null,0,null,0,null,0,null,0,null,0,null,0,null,0,null,0]
[null,null,null,null,null,null,79.400000000000006,0.05,5,1.2571666666666668,0,0.59376239999999991,0,"COTAÇÃO",null,null,null,0,null,{"$f":"IF(SUM(S$175:S$177)>0,$M219,0)","v":0},null,{"$f":"IF(SUM(U$175:U$177)>0,$M219,0)","v":0},null,null,null,{"$f":"IF(SUM(Y$175:Y$177)>0,$M219,0)","v":0},null,{"$f":"IF(SUM(AA$175:AA$177)>0,$M219,0)","v":0},null,{"$f":"IF(SUM(AC$175:AC$177)>0,$M219,0)","v":0},null,{"$f":"IF(SUM(AE$175:AE$177)>0,$M219,0)","v":0},null,{"$f":"IF(SUM(AG$175:AG$177)>0,$M219,0)","v":0},null,{"$f":"IF(SUM(AI$175:AI$177)>0,$M219,0)","v":0},null,{"$f":"IF(SUM(AK$175:AK$177)>0,$M219,0)","v":0},null,{"$f":"IF(SUM(AM$175:AM$177)>0,$M219,0)","v":0},null,{"$f":"IF(SUM(AO$175:AO$177)>0,$M219,0)","v":0},null,{"$f":"IF(SUM(AQ$175:AQ$177)>0,$M219,0)","v":0},null,{"$f":"IF(SUM(AS$175:AS$177)>0,$M219,0)","v":0},null,{"$f":"IF(SUM(AU$175:AU$177)>0,$M219,0)","v":0},null,{"$f":"IF(SUM(AW$175:AW$177)>0,$M219,0)","v":0},null,{"$f":"IF(SUM(AY$175:AY$177)>0,$M219,0)","v":0},null,{"$f":"IF(SUM(BA$175:BA$177)>0,$M219,0)","v":0},null,{"$f":"IF(SUM(BC$175:BC$177)>0,$M219,0)","v":0},null,{"$f":"IF(SUM(BE$175:BE$177)>0,$M219,0)","v":0},null,{"$f":"IF(SUM(BG$175:BG$177)>0,$M219,0)","v":0},null,{"$f":"IF(SUM(BI$175:BI$177)>0,$M219,0)","v":0},null,{"$f":"IF(SUM(BK$175:BK$177)>0,$M219,0)","v":0},null,{"$f":"IF(SUM(BM$175:BM$177)>0,$M219,0)","v":0},null,{"$f":"IF(SUM(BO$175:BO$177)>0,$M219,0)","v":0},null,{"$f":"IF(SUM(BQ$175:BQ$177)>0,$M219,0)","v":0},null,{"$f":"IF(SUM(BS$175:BS$177)>0,$M219,0)","v":0},null,{"$f":"IF(SUM(BU$175:BU$177)>0,$M219,0)","v":0},null,{"$f":"IF(SUM(BW$175:BW$177)>0,$M219,0)","v":0},null,{"$f":"IF(SUM(BY$175:BY$177)>0,$M219,0)","v":0},null,{"$f":"IF(SUM(CA$175:CA$177)>0,$M219,0)","v":0},null,{"$f":"IF(SUM(CC$175:CC$177)>0,$M219,0)","v":0},null,0,null,0,null,0,null,0,null,0,null,0,null,0,null,0,null,0,null,0,null,0,null,0,null,0,null,0,null,0,null,0,null,0,null,0,null,0,null,0,null,0,null,0,null,0,null,0,null,0,null,0,null,0,null,0]
[]
[]
[null,null,"PAGAMENTO DA MANUTENÇÃO"]
[null,null,"ITEM","DESCRIÇÃO",null,null,null,"K (calculado)","MENSAL DEPR.","% MAN X DEP","MENSAL MAN.","BDI (%)","PREÇO TOTAL"]
[null,null,null,null,null,null,null,null,null,null,null,null,null,null,null,null,null,null,null,null,null,null,null,{"$f":"IF(SUM(W$6)>0,$M224,0)","v":0}]
[null,null,null,null,null,null,null,{"$f":"H232","v":0.59376239999999991},null,{"$f":"H225","v":0.59376239999999991},{"$f":"I225*H225","v":0},{"$f":"'BDI - Geral'!E27","v":0.2165},{"$f":"ROUND(K225*(1+L225),2)","v":0}]
[null,null,null,null,null,null,null,null,null,null,null,null,null,null,null,null,null,{"$f":"IF(SUM(Q$6)>0,$M226,0)","v":0},0,0,0,0,0,0,0,0,0,0,0,0,0,0,0,0,0,0,0,0,0,0]
[null,null,null,null,"K1","K2","K3","K4"]
[null,null,null,null,0.85,1,0.8,1.4]
[null,null,null,null,"K5","K6","K7","K8"]
[null,null,null,null,1,0.6,0.5,1.1000000000000001]
[null,null,null,null,"K9","K10","K11","RESULTADO"]
[null,null,null,"* a descrição de cada coeficiente segue abaixo",1.5,0.9,1.4,{"$f":"E228*F228*G228*H228*E230*F230*G230*H230*E232*F232*G232","v":0.59376239999999991}]
[]
[]
[null,null,"MATERIAL DE CONSUMO ASSOCIADO"]
[null,null,"ITEM","DESCRIÇÃO",null,null,null,"QUANTID/ANO","UNIDADE","VALOR DE AQ.","MENSAL MAT","BDI (%)","PREÇO TOTAL"]
[]
[null,null,null,null,null,null,null,null,null,null,{"$f":"J238*H238/12","v":0},{"$f":"L225","v":0.2165},{"$f":"ROUND(K238*(1+L238),2)","v":0}]
[]
[]
[]
[null,null,"ITEM","DESCRIÇÃO",null,null,null,null,null,null,null,null,"PREÇO TOTAL"]
[]
[null,null,1,"Componente DEPRECIAÇÃO - POR POSTO",null,null,null,null,null,null,null,null,{"$f":"M17","v":5.37}]
[null,null,2,"Componente MANUTENÇÃO - POR POSTO",null,null,null,null,null,null,null,null,{"$f":"M225","v":0}]
[null,null,3,"Componente MATERIAL DE CONSUMO ASSOCIADO - POR POSTO",null,null,null,null,null,null,null,null,{"$f":"M238","v":0}]
[]
[null,null,null,null,null,null,null,null,null,null,null,"SOMATÓRIO TOTAL MENSAL - POR POSTO",{"$f":"SUM(M243:M247)","v":5.37}]
[null,null,null,null,null,null,null,null,null,null,null,"SOMATÓRIO TOTAL ANUAL - POR POSTO",{"$f":"M248*12","v":64.44}]
[]
[]
[null,null,"MATERIAL DE CONSUMO ASSOCIADO"]
[null,null,"MEMÓRIA DE CÁLCULO DO COEFICIENTE DE CORRELAÇÃO MANUTENÇÃO X DEPRECIAÇÃO (K)"]
[]
[null,null,"JUSTIFICATIVAS",null,"TIPO","K1",null,"Condições de Trab","K4",null,"Tempo Vida (anos)","K6",null,"Temperatura","K8"]
[null,null,null,null,"Guindaste",0.5,null,"Em espera",0.4,null,1,0.6,null,"Muito quente (> 40º C)",1.3]
[null,null,"K1","Considerado o valor médio de 0,85","Caminhão-comum",0.8,null,"Leves",0.8,null,2,0.7,null,"Quente (30º a 40º C)",1.1000000000000001]
[null,null,"K2","Considerado o operador médio","Fora-de-estrada",1,null,"Médias",1,null,3,0.8,null,"Médio (10º a 30º C)",1]
[null,null,"K3","Consideradas ferramentas de primeira qualidade","Carregadeira",1,null,"Pesadas",1.4,null,4,0.9,null,"Frio (< 10º C)",1.2]
[null,null,"K4","Foi considerado o valor pesado","Escavadeira",1.4,null,"Severas",2,null,5,1]
[null,null,"K5","Considerando manutenção normal","Motoescrêiper",1.1000000000000001,null,null,null,null,6,1,null,"Ritmo de Trabalho","K9"]
[null,null,"K6","Equipamentos novos","Trator de esteira",1.2,null,"Manutenção","K5",null,7,1,null,"Folgado",0.9]
[null,null,"K7","220h por mês, 252 dias por ano",null,null,null,"Excelente",0.6,null,8,1.2,null,"Médio ",1]
[null,null,"K8","Clima quente, acima de 30º C","Qualid do Operador","K2",null,"Boa",0.8,null,9,1.3,null,"Com pressa",1.5]
[null,null,"K9","Ritmo de trabalho usualmente com pressa","Excelente",0.8,null,"Média",1,null,10,1.4]
[null,null,"K10","Considerado o operador médio","Boa",0.9,null,"Ruim ",1.5,null,11,2,null,"Conh do Serviço","K10"]
[null,null,"K11","Foi considerada a opção de aluguel a terceiros, ainda que a simulação seja dos custos do contratado, contudo a execução dos serviços é em local de terceiros","Média",1,null,"Inexistente",3,null,15,2,null,"Grande ",0.8]
[null,null,null,null,"Ruim",1.2,null,null,null,null,null,null,null,"Médio     ",0.9]
[null,null,null,null,"Péssima",2,null,"Horas de Uso ","K7",6000,1,null,null,"Pouco ",1]
[null,null,null,null,null,null,null,1000,0.5,8000,1.3]
[null,null,null,null,"Qualidade do Equip","K3",null,2000,0.5,10000,1.6,null,null,"Tipo do Serviço","K11"]
[null,null,null,null,"De primeira",0.8,null,3000,0.6,12000,1.9,null,null,"Mina ou Pedreira",0.8]
[null,null,null,null,"Média",1,null,4000,0.7,15000,2.2999999999999998,null,null,"Construção Geral",1]
[null,null,null,null,"Ruim",1.5,null,5000,0.9,20000,3,null,null,"Aluguel a Terceiros",1.4]
[]
[null,null,null,null,"Fonte: "]
[null,null,null,null,"MATTOS, Aldo Dórea. Como preparar orçamentos de obras. São Paulo: Pini, 2006. 281 p., il"]

{"sheet":"Equip Rel","index":14,"n_rows":75,"n_cols":136,"rows_kept":75,"cut":false,"hidden":true,"merged":[[1,1,1,3],[2,1,2,14]]}
[]
[]
[null,"EQUIPAMENTOS RELACIONADAS AO POSTO - PAGAMENTO DA DEPRECIAÇÃO / MANUTENÇÃO",null,null,null,null,null,null,null,null,null,null,null,null,null,null,1,null,{"$f":"Q3+1","v":2},null,{"$f":"S3+1","v":3},null,{"$f":"U3+1","v":4},null,{"$f":"W3+1","v":5},null,{"$f":"Y3+1","v":6},null,{"$f":"AA3+1","v":7},null,{"$f":"AC3+1","v":8},null,{"$f":"AE3+1","v":9},null,{"$f":"AG3+1","v":10},null,{"$f":"AI3+1","v":11},null,{"$f":"AK3+1","v":12},null,{"$f":"AM3+1","v":13},null,{"$f":"AO3+1","v":14},null,{"$f":"AQ3+1","v":15},null,{"$f":"AS3+1","v":16},null,{"$f":"AU3+1","v":17},null,{"$f":"AW3+1","v":18},null,{"$f":"AY3+1","v":19},null,{"$f":"BA3+1","v":20},null,{"$f":"BC3+1","v":21},null,{"$f":"BE3+1","v":22},null,{"$f":"BG3+1","v":23},null,{"$f":"BI3+1","v":24},null,{"$f":"BK3+1","v":25},null,{"$f":"BM3+1","v":26},null,{"$f":"BO3+1","v":27},null,{"$f":"BQ3+1","v":28},null,{"$f":"BS3+1","v":29},null,{"$f":"BU3+1","v":30},null,{"$f":"BW3+1","v":31},null,{"$f":"BY3+1","v":32},null,{"$f":"CA3+1","v":33},null,{"$f":"CC3+1","v":34},null,{"$f":"CE3+1","v":35},null,{"$f":"CG3+1","v":36},null,{"$f":"CI3+1","v":37},null,{"$f":"CK3+1","v":38},null,{"$f":"CM3+1","v":39},null,{"$f":"CO3+1","v":40},null,{"$f":"CQ3+1","v":41},null,{"$f":"CS3+1","v":42},null,{"$f":"CU3+1","v":43},null,{"$f":"CW3+1","v":44},null,{"$f":"CY3+1","v":45},null,{"$f":"DA3+1","v":46},null,{"$f":"DC3+1","v":47},null,{"$f":"DE3+1","v":48},null,{"$f":"DG3+1","v":49},null,{"$f":"DI3+1","v":50},null,{"$f":"DK3+1","v":51},null,{"$f":"DM3+1","v":52},null,{"$f":"DO3+1","v":53},null,{"$f":"DQ3+1","v":54},null,{"$f":"DS3+1","v":55},null,{"$f":"DU3+1","v":56},null,{"$f":"DW3+1","v":57},null,{"$f":"DY3+1","v":58},null,{"$f":"EA3+1","v":59},null,{"$f":"EC3+1","v":60}]
[]
[null,null,null,null,null,null,null,null,null,null,null,null,null,null,null,null,{"$f":"SUM(R4:R56)","v":0},null,{"$f":"SUM(T4:T56)","v":0},null,{"$f":"SUM(V4:V56)","v":0},null,{"$f":"SUM(X4:X56)","v":0},null,{"$f":"SUM(Z4:Z56)","v":0},null,{"$f":"SUM(AB4:AB56)","v":0},null,{"$f":"SUM(AD4:AD56)","v":0},null,{"$f":"SUM(AF4:AF56)","v":0},null,{"$f":"SUM(AH4:AH56)","v":0},null,{"$f":"SUM(AJ4:AJ56)","v":0},null,{"$f":"SUM(AL4:AL56)","v":0},null,{"$f":"SUM(AN4:AN56)","v":0},null,{"$f":"SUM(AP4:AP56)","v":0},null,{"$f":"SUM(AR4:AR56)","v":0},null,{"$f":"SUM(AT4:AT56)","v":0},null,{"$f":"SUM(AV4:AV56)","v":0},null,{"$f":"SUM(AX4:AX56)","v":0},null,{"$f":"SUM(AZ4:AZ56)","v":0},null,{"$f":"SUM(BB4:BB56)","v":0},null,{"$f":"SUM(BD4:BD56)","v":0},null,{"$f":"SUM(BF4:BF56)","v":0},null,{"$f":"SUM(BH4:BH56)","v":0},null,{"$f":"SUM(BJ4:BJ56)","v":0},null,{"$f":"SUM(BL4:BL56)","v":0},null,{"$f":"SUM(BN4:BN56)","v":0},null,{"$f":"SUM(BP4:BP56)","v":0},null,{"$f":"SUM(BR4:BR56)","v":0},null,{"$f":"SUM(BT4:BT56)","v":0},null,{"$f":"SUM(BV4:BV56)","v":0},null,{"$f":"SUM(BX4:BX56)","v":0},null,{"$f":"SUM(BZ4:BZ56)","v":0},null,{"$f":"SUM(CB4:CB56)","v":0},null,{"$f":"SUM(CD4:CD56)","v":0},null,{"$f":"SUM(CF4:CF56)","v":0},null,{"$f":"SUM(CH4:CH56)","v":0},null,{"$f":"SUM(CJ4:CJ56)","v":0},null,{"$f":"SUM(CL4:CL56)","v":0},null,{"$f":"SUM(CN4:CN56)","v":0},null,{"$f":"SUM(CP4:CP56)","v":0},null,{"$f":"SUM(CR4:CR56)","v":0},null,{"$f":"SUM(CT4:CT56)","v":0},null,{"$f":"SUM(CV4:CV56)","v":0},null,{"$f":"SUM(CX4:CX56)","v":0},null,{"$f":"SUM(CZ4:CZ56)","v":0},null,{"$f":"SUM(DB4:DB56)","v":0},null,{"$f":"SUM(DD4:DD56)","v":0},null,{"$f":"SUM(DF4:DF56)","v":0},null,{"$f":"SUM(DH4:DH56)","v":0},null,{"$f":"SUM(DJ4:DJ56)","v":0},null,{"$f":"SUM(DL4:DL56)","v":0},null,{"$f":"SUM(DN4:DN56)","v":0},null,{"$f":"SUM(DP4:DP56)","v":0},null,{"$f":"SUM(DR4:DR56)","v":0},null,{"$f":"SUM(DT4:DT56)","v":0},null,{"$f":"SUM(DV4:DV56)","v":0},null,{"$f":"SUM(DX4:DX56)","v":0},null,{"$f":"SUM(DZ4:DZ56)","v":0},null,{"$f":"SUM(EB4:EB56)","v":0},null,{"$f":"SUM(ED4:ED56)","v":0},null,{"$f":"SUM(EF4:EF56)","v":0}]
[null,null,"CATEGORIAS",null,null,null,null,null,null,null,null,null,null,null,"QUANTIDADE"]
[null,null,null,null,null,null,null,null,null,null,null,null,null,null,null,null,{"$f":"IF($C7=Q$3,1,0)","v":0},null,{"$f":"IF($C7=S$3,1,0)","v":0},null,{"$f":"IF($C7=U$3,1,0)","v":0},null,{"$f":"IF($C7=W$3,1,0)","v":0},null,{"$f":"IF($C7=Y$3,1,0)","v":0},null,{"$f":"IF($C7=AA$3,1,0)","v":0},null,{"$f":"IF($C7=AC$3,1,0)","v":0},null,{"$f":"IF($C7=AE$3,1,0)","v":0},null,{"$f":"IF($C7=AG$3,1,0)","v":0},null,{"$f":"IF($C7=AI$3,1,0)","v":0},null,{"$f":"IF($C7=AK$3,1,0)","v":0},null,{"$f":"IF($C7=AM$3,1,0)","v":0},null,{"$f":"IF($C7=AO$3,1,0)","v":0},null,{"$f":"IF($C7=AQ$3,1,0)","v":0},null,{"$f":"IF($C7=AS$3,1,0)","v":0},null,{"$f":"IF($C7=AU$3,1,0)","v":0},null,{"$f":"IF($C7=AW$3,1,0)","v":0},null,{"$f":"IF($C7=AY$3,1,0)","v":0},null,{"$f":"IF($C7=BA$3,1,0)","v":0},null,{"$f":"IF($C7=BC$3,1,0)","v":0},null,{"$f":"IF($C7=BE$3,1,0)","v":0},null,{"$f":"IF($C7=BG$3,1,0)","v":0},null,{"$f":"IF($C7=BI$3,1,0)","v":0},null,{"$f":"IF($C7=BK$3,1,0)","v":0},null,{"$f":"IF($C7=BM$3,1,0)","v":0},null,{"$f":"IF($C7=BO$3,1,0)","v":0},null,{"$f":"IF($C7=BQ$3,1,0)","v":0},null,{"$f":"IF($C7=BS$3,1,0)","v":0},null,{"$f":"IF($C7=BU$3,1,0)","v":0},null,{"$f":"IF($C7=BW$3,1,0)","v":0},null,{"$f":"IF($C7=BY$3,1,0)","v":0},null,{"$f":"IF($C7=CA$3,1,0)","v":0},null,{"$f":"IF($C7=CC$3,1,0)","v":0},null,{"$f":"IF($C7=CE$3,1,0)","v":0},null,{"$f":"IF($C7=CG$3,1,0)","v":0},null,{"$f":"IF($C7=CI$3,1,0)","v":0},null,{"$f":"IF($C7=CK$3,1,0)","v":0},null,{"$f":"IF($C7=CM$3,1,0)","v":0},null,{"$f":"IF($C7=CO$3,1,0)","v":0},null,{"$f":"IF($C7=CQ$3,1,0)","v":0},null,{"$f":"IF($C7=CS$3,1,0)","v":0},null,{"$f":"IF($C7=CU$3,1,0)","v":0},null,{"$f":"IF($C7=CW$3,1,0)","v":0},null,{"$f":"IF($C7=CY$3,1,0)","v":0},null,{"$f":"IF($C7=DA$3,1,0)","v":0},null,{"$f":"IF($C7=DC$3,1,0)","v":0},null,{"$f":"IF($C7=DE$3,1,0)","v":0},null,{"$f":"IF($C7=DG$3,1,0)","v":0},null,{"$f":"IF($C7=DI$3,1,0)","v":0},null,{"$f":"IF($C7=DK$3,1,0)","v":0},null,{"$f":"IF($C7=DM$3,1,0)","v":0},null,{"$f":"IF($C7=DO$3,1,0)","v":0},null,{"$f":"IF($C7=DQ$3,1,0)","v":0},null,{"$f":"IF($C7=DS$3,1,0)","v":0},null,{"$f":"IF($C7=DU$3,1,0)","v":0},null,{"$f":"IF($C7=DW$3,1,0)","v":0},null,{"$f":"IF($C7=DY$3,1,0)","v":0},null,{"$f":"IF($C7=EA$3,1,0)","v":0},null,{"$f":"IF($C7=EC$3,1,0)","v":0},null,{"$f":"IF($C7=EE$3,1,0)","v":0}]
[null,null,4,{"$f":"HLOOKUP($C8,'Dados Gerais'!$D$6:$BI$11,6)","v":"SUPERVISOR DE OPERAÇÕES"},null,null,null,null,null,null,null,null,null,null,{"$f":"HLOOKUP($C8,'Dados Gerais'!$D$6:$BI$15,10)","v":2},null,0,null,0,null,0,null,1,null,0,null,0,null,0,null,0,null,0,null,0,null,0,null,0,null,0,null,0,null,0,null,0,null,0,null,0,null,0,null,0,null,0,null,0,null,0,null,0,null,0,null,0,null,0,null,0,null,0,null,0,null,0,null,0,null,0,null,0,null,0,null,0,null,0,null,0,null,0,null,0,null,0,null,0,null,0,null,0,null,0,null,0,null,0,null,0,null,0,null,0,null,0,null,0,null,0,null,0,null,0,null,0,null,0,null,0,null,0,null,0]
[null,null,5,{"$f":"HLOOKUP($C9,'Dados Gerais'!$D$6:$BI$11,6)","v":" DIRETOR DE IMAGENS – 30H"},null,null,null,null,null,null,null,null,null,null,{"$f":"HLOOKUP($C9,'Dados Gerais'!$D$6:$BI$15,10)","v":24},null,0,null,0,null,0,null,0,null,1,null,0,null,0,null,0,null,0,null,0,null,0,null,0,null,0,null,0,null,0,null,0,null,0,null,0,null,0,null,0,null,0,null,0,null,0,null,0,null,0,null,0,null,0,null,0,null,0,null,0,null,0,null,0,null,0,null,0,null,0,null,0,null,0,null,0,null,0,null,0,null,0,null,0,null,0,null,0,null,0,null,0,null,0,null,0,null,0,null,0,null,0,null,0,null,0,null,0,null,0,null,0,null,0,null,0,null,0,null,0]
[null,null,7,{"$f":"HLOOKUP($C10,'Dados Gerais'!$D$6:$BI$11,6)","v":"TÉCNICO DE SISTEMAS AUDIOVISUAIS – especialidade Sistemas e Vídeo \n36H"},null,null,null,null,null,null,null,null,null,null,{"$f":"HLOOKUP($C10,'Dados Gerais'!$D$6:$BI$15,10)","v":4},null,0,null,0,null,0,null,0,null,0,null,0,null,1,null,0,null,0,null,0,null,0,null,0,null,0,null,0,null,0,null,0,null,0,null,0,null,0,null,0,null,0,null,0,null,0,null,0,null,0,null,0,null,0,null,0,null,0,null,0,null,0,null,0,null,0,null,0,null,0,null,0,null,0,null,0,null,0,null,0,null,0,null,0,null,0,null,0,null,0,null,0,null,0,null,0,null,0,null,0,null,0,null,0,null,0,null,0,null,0,null,0,null,0,null,0,null,0,null,0]
[null,null,8,{"$f":"HLOOKUP($C11,'Dados Gerais'!$D$6:$BI$11,6)","v":"OPERADOR DE MÍDIA AUDIOVISUAL – 30H"},null,null,null,null,null,null,null,null,null,null,{"$f":"HLOOKUP($C11,'Dados Gerais'!$D$6:$BI$15,10)","v":34},null,0,null,0,null,0,null,0,null,0,null,0,null,0,null,1,null,0,null,0,null,0,null,0,null,0,null,0,null,0,null,0,null,0,null,0,null,0,null,0,null,0,null,0,null,0,null,0,null,0,null,0,null,0,null,0,null,0,null,0,null,0,null,0,null,0,null,0,null,0,null,0,null,0,null,0,null,0,null,0,null,0,null,0,null,0,null,0,null,0,null,0,null,0,null,0,null,0,null,0,null,0,null,0,null,0,null,0,null,0,null,0,null,0,null,0,null,0,null,0]
[null,null,null,null,null,null,null,null,null,null,null,null,null,null,null,null,0,null,0,null,0,null,0,null,0,null,0,null,0,null,0,null,0,null,0,null,0,null,0,null,0,null,0,null,0,null,0,null,0,null,0,null,0,null,0,null,0,null,0,null,0,null,0,null,0,null,0,null,0,null,0,null,0,null,0,null,0,null,0,null,0,null,0,null,0,null,0,null,0,null,0,null,0,null,0,null,0,null,0,null,0,null,0,null,0,null,0,null,0,null,0,null,0,null,0,null,0,null,0,null,0,null,0,null,0,null,0,null,0,null,0,null,0,null,0]
[]
[null,null,"PAGAMENTO DA DEPRECIAÇÃO"]
[null,null,"ITEM","DESCRIÇÃO","QUANT ANUAL","CONTA SIAFI","VALOR DE AQ.","% RESIDUAL","VIDA ÚTIL","DEP. MENSAL","CUSTO TOTAL","BDI (%)","PREÇO TOTAL","FONTE","REFERÊNCIA"]
[]
[null,null,null,null,1,"12311.03.03",null,0.1,10,{"$f":"G17*(1-H17)/(I17*12)","v":0},{"$f":"J17*E17","v":0},{"$f":"'BDI - Geral'!E27","v":0.2165},{"$f":"ROUND(K17*(1+L17),2)","v":0},"COTAÇÃO"]
[]
[]
[null,null,"PAGAMENTO DA MANUTENÇÃO"]
[null,null,"ITEM","DESCRIÇÃO",null,null,null,"K (calculado)","MENSAL DEPR.","% MAN X DEP","MENSAL MAN.","BDI (%)","PREÇO TOTAL"]
[]
[null,null,null,null,null,null,null,{"$f":"H30","v":0.23950080000000007},{"$f":"K17","v":0},{"$f":"H23","v":0.23950080000000007},{"$f":"I23*H23","v":0},{"$f":"L17","v":0.2165},{"$f":"ROUND(K23*(1+L23),2)","v":0}]
[]
[null,null,null,null,"K1","K2","K3","K4"]
[null,null,null,null,1,1,0.8,0.8]
[null,null,null,null,"K5","K6","K7","K8"]
[null,null,null,null,1,0.6,0.5,1.1000000000000001]
[null,null,null,null,"K9","K10","K11","RESULTADO"]
[null,null,null,"* a descrição de cada coeficiente segue abaixo",0.9,0.9,1.4,{"$f":"E26*F26*G26*H26*E28*F28*G28*H28*E30*F30*G30","v":0.23950080000000007}]
[]
[]
[null,null,"MATERIAL DE CONSUMO ASSOCIADO"]
[null,null,"ITEM","DESCRIÇÃO",null,null,null,"QUANTID/ANO","UNIDADE","VALOR DE AQ.","MENSAL MAT","BDI (%)","PREÇO TOTAL"]
[]
[null,null,null,null,null,null,null,null,null,null,{"$f":"J36*H36/12","v":0},{"$f":"L23","v":0.2165},{"$f":"ROUND(K36*(1+L36),2)","v":0}]
[]
[]
[null,null,"MATERIAL DE CONSUMO ASSOCIADO"]
[null,null,"ITEM","DESCRIÇÃO",null,null,null,null,null,null,null,null,"PREÇO TOTAL"]
[]
[null,null,1,"Componente DEPRECIAÇÃO - POR POSTO",null,null,null,null,null,null,null,null,{"$f":"M17","v":0}]
[null,null,2,"Componente MANUTENÇÃO - POR POSTO",null,null,null,null,null,null,null,null,{"$f":"M23","v":0}]
[null,null,3,"Componente MATERIAL DE CONSUMO ASSOCIADO - POR POSTO",null,null,null,null,null,null,null,null,{"$f":"M36","v":0}]
[]
[null,null,null,null,null,null,null,null,null,null,null,"SOMATÓRIO TOTAL MENSAL - POR POSTO",{"$f":"SUM(M41:M45)","v":0},null,null,null,null,{"$f":"IF(SUM(Q$7:Q$12)>0,$M46,0)","v":0},null,{"$f":"IF(SUM(S$7:S$12)>0,$M46,0)","v":0},null,{"$f":"IF(SUM(U$7:U$12)>0,$M46,0)","v":0},null,{"$f":"IF(SUM(W$7:W$12)>0,$M46,0)","v":0},null,{"$f":"IF(SUM(Y$7:Y$12)>0,$M46,0)","v":0},null,{"$f":"IF(SUM(AA$7:AA$12)>0,$M46,0)","v":0},null,{"$f":"IF(SUM(AC$7:AC$12)>0,$M46,0)","v":0},null,{"$f":"IF(SUM(AE$7:AE$12)>0,$M46,0)","v":0},null,{"$f":"IF(SUM(AG$7:AG$12)>0,$M46,0)","v":0},null,{"$f":"IF(SUM(AI$7:AI$12)>0,$M46,0)","v":0},null,{"$f":"IF(SUM(AK$7:AK$12)>0,$M46,0)","v":0},null,{"$f":"IF(SUM(AM$7:AM$12)>0,$M46,0)","v":0},null,{"$f":"IF(SUM(AO$7:AO$12)>0,$M46,0)","v":0},null,{"$f":"IF(SUM(AQ$7:AQ$12)>0,$M46,0)","v":0},null,{"$f":"IF(SUM(AS$7:AS$12)>0,$M46,0)","v":0},null,{"$f":"IF(SUM(AU$7:AU$12)>0,$M46,0)","v":0},null,{"$f":"IF(SUM(AW$7:AW$12)>0,$M46,0)","v":0},null,{"$f":"IF(SUM(AY$7:AY$12)>0,$M46,0)","v":0},null,{"$f":"IF(SUM(BA$7:BA$12)>0,$M46,0)","v":0},null,{"$f":"IF(SUM(BC$7:BC$12)>0,$M46,0)","v":0},null,{"$f":"IF(SUM(BE$7:BE$12)>0,$M46,0)","v":0},null,{"$f":"IF(SUM(BG$7:BG$12)>0,$M46,0)","v":0},null,{"$f":"IF(SUM(BI$7:BI$12)>0,$M46,0)","v":0},null,{"$f":"IF(SUM(BK$7:BK$12)>0,$M46,0)","v":0},null,{"$f":"IF(SUM(BM$7:BM$12)>0,$M46,0)","v":0},null,{"$f":"IF(SUM(BO$7:BO$12)>0,$M46,0)","v":0},null,{"$f":"IF(SUM(BQ$7:BQ$12)>0,$M46,0)","v":0},null,{"$f":"IF(SUM(BS$7:BS$12)>0,$M46,0)","v":0},null,{"$f":"IF(SUM(BU$7:BU$12)>0,$M46,0)","v":0},null,{"$f":"IF(SUM(BW$7:BW$12)>0,$M46,0)","v":0},null,{"$f":"IF(SUM(BY$7:BY$12)>0,$M46,0)","v":0},null,{"$f":"IF(SUM(CA$7:CA$12)>0,$M46,0)","v":0},null,{"$f":"IF(SUM(CC$7:CC$12)>0,$M46,0)","v":0},null,{"$f":"IF(SUM(CE$7:CE$12)>0,$M46,0)","v":0},null,{"$f":"IF(SUM(CG$7:CG$12)>0,$M46,0)","v":0},null,{"$f":"IF(SUM(CI$7:CI$12)>0,$M46,0)","v":0},null,{"$f":"IF(SUM(CK$7:CK$12)>0,$M46,0)","v":0},null,{"$f":"IF(SUM(CM$7:CM$12)>0,$M46,0)","v":0},null,{"$f":"IF(SUM(CO$7:CO$12)>0,$M46,0)","v":0},null,{"$f":"IF(SUM(CQ$7:CQ$12)>0,$M46,0)","v":0},null,{"$f":"IF(SUM(CS$7:CS$12)>0,$M46,0)","v":0},null,{"$f":"IF(SUM(CU$7:CU$12)>0,$M46,0)","v":0},null,{"$f":"IF(SUM(CW$7:CW$12)>0,$M46,0)","v":0},null,{"$f":"IF(SUM(CY$7:CY$12)>0,$M46,0)","v":0},null,{"$f":"IF(SUM(DA$7:DA$12)>0,$M46,0)","v":0},null,{"$f":"IF(SUM(DC$7:DC$12)>0,$M46,0)","v":0},null,{"$f":"IF(SUM(DE$7:DE$12)>0,$M46,0)","v":0},null,{"$f":"IF(SUM(DG$7:DG$12)>0,$M46,0)","v":0},null,{"$f":"IF(SUM(DI$7:DI$12)>0,$M46,0)","v":0},null,{"$f":"IF(SUM(DK$7:DK$12)>0,$M46,0)","v":0},null,{"$f":"IF(SUM(DM$7:DM$12)>0,$M46,0)","v":0},null,{"$f":"IF(SUM(DO$7:DO$12)>0,$M46,0)","v":0},null,{"$f":"IF(SUM(DQ$7:DQ$12)>0,$M46,0)","v":0},null,{"$f":"IF(SUM(DS$7:DS$12)>0,$M46,0)","v":0},null,{"$f":"IF(SUM(DU$7:DU$12)>0,$M46,0)","v":0},null,{"$f":"IF(SUM(DW$7:DW$12)>0,$M46,0)","v":0},null,{"$f":"IF(SUM(DY$7:DY$12)>0,$M46,0)","v":0},null,{"$f":"IF(SUM(EA$7:EA$12)>0,$M46,0)","v":0},null,{"$f":"IF(SUM(EC$7:EC$12)>0,$M46,0)","v":0},null,{"$f":"IF(SUM(EE$7:EE$12)>0,$M46,0)","v":0}]
[null,null,null,null,null,null,null,null,null,null,null,"SOMATÓRIO TOTAL ANUAL - POR POSTO",{"$f":"M46*12","v":0}]
[]
[]
[null,null,"MATERIAL DE CONSUMO ASSOCIADO"]
[null,null,"MEMÓRIA DE CÁLCULO DO COEFICIENTE DE CORRELAÇÃO MANUTENÇÃO X DEPRECIAÇÃO (K)"]
[]
[null,null,"JUSTIFICATIVAS",null,"TIPO","K1",null,"Condições de Trab","K4",null,"Tempo Vida (anos)","K6",null,"Temperatura","K8"]
[null,null,null,null,"Guindaste",0.5,null,"Em espera",0.4,null,1,0.6,null,"Muito quente (> 40º C)",1.3]
[null,null,"K1","Arbitrado 1","Caminhão-comum",0.8,null,"Leves",0.8,null,2,0.7,null,"Quente (30º a 40º C)",1.1000000000000001]
[null,null,"K2","Considerado o operador médio","Fora-de-estrada",1,null,"Médias",1,null,3,0.8,null,"Médio (10º a 30º C)",1]
[null,null,"K3","Consideradas ferramentas de primeira qualidade","Carregadeira",1,null,"Pesadas",1.4,null,4,0.9,null,"Frio (< 10º C)",1.2]
[null,null,"K4","Consições leves","Escavadeira",1.4,null,"Severas",2,null,5,1]
[null,null,"K5","Considerando manutenção normal","Motoescrêiper",1.1000000000000001,null,null,null,null,6,1,null,"Ritmo de Trabalho","K9"]
[null,null,"K6","Equipamentos novos","Trator de esteira",1.2,null,"Manutenção","K5",null,7,1,null,"Folgado",0.9]
[null,null,"K7","220h por mês, 252 dias por ano",null,null,null,"Excelente",0.6,null,8,1.2,null,"Médio ",1]
[null,null,"K8","Clima quente, acima de 30º C","Qualid do Operador","K2",null,"Boa",0.8,null,9,1.3,null,"Com pressa",1.5]
[null,null,"K9","Ritmo de trabalho usualmente folgado","Excelente",0.8,null,"Média",1,null,10,1.4]
[null,null,"K10","Considerado o operador médio","Boa",0.9,null,"Ruim ",1.5,null,11,2,null,"Conh do Serviço","K10"]
[null,null,"K11","Foi considerada a opção de aluguel a terceiros, ainda que a simulação seja dos custos do contratado, contudo a execução dos serviços é em local de terceiros","Média",1,null,"Inexistente",3,null,15,2,null,"Grande ",0.8]
[null,null,null,null,"Ruim",1.2,null,null,null,null,null,null,null,"Médio     ",0.9]
[null,null,null,null,"Péssima",2,null,"Horas de Uso ","K7",6000,1,null,null,"Pouco ",1]
[null,null,null,null,null,null,null,1000,0.5,8000,1.3]
[null,null,null,null,"Qualidade do Equip","K3",null,2000,0.5,10000,1.6,null,null,"Tipo do Serviço","K11"]
[null,null,null,null,"De primeira",0.8,null,3000,0.6,12000,1.9,null,null,"Mina ou Pedreira",0.8]
[null,null,null,null,"Média",1,null,4000,0.7,15000,2.2999999999999998,null,null,"Construção Geral",1]
[null,null,null,null,"Ruim",1.5,null,5000,0.9,20000,3,null,null,"Aluguel a Terceiros",1.4]
[]
[null,null,null,null,"Fonte: "]
[null,null,null,null,"MATTOS, Aldo Dórea. Como preparar orçamentos de obras. São Paulo: Pini, 2006. 281 p., il"]

{"sheet":"SREP","index":15,"n_rows":75,"n_cols":15,"rows_kept":75,"cut":false,"hidden":false,"merged":[[2,1,2,3],[3,1,3,14]]}
[]
[]
[]
[null,"SISTEMA DE REGISTRO ELETRÔNICO DE PRESENÇA - SREP"]
[]
[]
[null,null,"PAGAMENTO DA DEPRECIAÇÃO"]
[null,null,"ITEM","DESCRIÇÃO","QUANT ANUAL","CONTA SIAFI","VALOR DE AQ.","% RESIDUAL","VIDA ÚTIL","DEP. MENSAL","CUSTO TOTAL","BDI (%)","PREÇO TOTAL","FONTE","REFERÊNCIA"]
[]
[null,null,1,"Equipamento de Registro Eletrônico de Ponto, de parede, com teclado externo e leitor biométrico, em conformidade com a Portaria 1.510/2009 do MT",5,"12311.01.24\n(máquinas e equip\neletrônicos)",1619.97,0.1,10,{"$f":"G10*(1-H10)/(I10*12)","v":12.149775},{"$f":"ROUND(J10*E10,3)","v":60.749000000000002},{"$f":"'BDI - Geral'!E27","v":0.2165},{"$f":"ROUND(K10*(1+L10),2)","v":73.900000000000006},"COTAÇÃO"]
[]
[]
[null,null,"PAGAMENTO DA MANUTENÇÃO"]
[null,null,"ITEM","DESCRIÇÃO",null,null,null,"K (calculado)","MENSAL DEPR.","% MAN X DEP","MENSAL MAN.","BDI (%)","PREÇO TOTAL"]
[]
[null,null,2,"Todos os itens",null,null,null,{"$f":"H23","v":1.9000396799999999},{"$f":"K10","v":60.749000000000002},{"$f":"H16","v":1.9000396799999999},{"$f":"I16*H16","v":115.42551052032},{"$f":"L10","v":0.2165},{"$f":"ROUND(K16*(1+L16),2)","v":140.41999999999999}]
[]
[null,null,null,null,"K1","K2","K3","K4"]
[null,null,null,null,0.85,1,0.8,1.4]
[null,null,null,null,"K5","K6","K7","K8"]
[null,null,null,null,1,0.6,1.6,1.1000000000000001]
[null,null,null,null,"K9","K10","K11","RESULTADO"]
[null,null,null,"* a descrição de cada coeficiente segue abaixo",1.5,0.9,1.4,{"$f":"E19*F19*G19*H19*E21*F21*G21*H21*E23*F23*G23","v":1.9000396799999999}]
[]
[]
[null,null,"PAGAMENTO DO SOFTWARE"]
[null,null,"ITEM","DESCRIÇÃO",null,null,null,null,"QUANTIDADE","UNIDADE","UNIT. MENSAL","BDI (%)","PREÇO TOTAL"]
[]
[null,null,3,"Software Ponto Secullum 4 - manutenção e suporte técnico com backup - Web Nuvem - Mensalidade",null,null,null,null,1,"Licença/mês",262.94,{"$f":"L35","v":0.2165},{"$f":"ROUND(I29*K29*(1+L29),2)","v":319.87},"COTAÇÃO"]
[]
[]
[null,null,"MATERIAL DE CONSUMO ASSOCIADO"]
[null,null,"ITEM","DESCRIÇÃO",null,null,"QUANTID/ANO","UNIDADE","VALOR DE AQ.","ANUAL MAT","MENSAL MAT","BDI (%)","PREÇO TOTAL"]
[]
[null,null,4,"Bobina térmica específica para o registrador eletrônico de ponto, com papel termossensível, superfície de impressão externa ao rolo, durabilidade de impressão mínima de 5 anos e comprimento mínimo de 300m",null,null,{"$f":"ROUNDUP((SUM(Remunerações!E4:E18)*4*0.07*52*5/300),0)","v":30},"Bobina",32.479999999999997,{"$f":"I35*G35","v":974.39999999999986},{"$f":"J35/12","v":81.199999999999989},{"$f":"L16","v":0.2165},{"$f":"ROUNDUP(K35*(1+L35),2)","v":98.78},"COTAÇÃO"]
[]
[]
[]
[null,null,"ITEM","DESCRIÇÃO",null,null,null,null,null,null,null,null,"PREÇO TOTAL"]
[]
[null,null,1,"Componente DEPRECIAÇÃO",null,null,null,null,null,null,null,null,{"$f":"M10","v":73.900000000000006}]
[null,null,2,"Componente MANUTENÇÃO",null,null,null,null,null,null,null,null,{"$f":"M16","v":140.41999999999999}]
[null,null,3,"Componente SOFTWARE",null,null,null,null,null,null,null,null,{"$f":"M29","v":319.87}]
[null,null,4,"Componente MATERIAL DE CONSUMO ASSOCIADO",null,null,null,null,null,null,null,null,{"$f":"M35","v":98.78}]
[]
[null,null,null,null,null,null,null,null,null,null,null,"SOMATÓRIO TOTAL MENSAL",{"$f":"SUM(M40:M45)","v":632.97}]
[null,null,null,null,null,null,null,null,null,null,null,"SOMATÓRIO TOTAL ANUAL",{"$f":"M46*12","v":7595.64}]
[]
[]
[null,null,"MATERIAL DE CONSUMO ASSOCIADO"]
[null,null,"MEMÓRIA DE CÁLCULO DO COEFICIENTE DE CORRELAÇÃO MANUTENÇÃO X DEPRECIAÇÃO (K)"]
[]
[null,null,"JUSTIFICATIVAS",null,"TIPO","K1",null,"Condições de Trab","K4",null,"Tempo Vida (anos)","K6",null,"Temperatura","K8"]
[null,null,null,null,"Guindaste",0.5,null,"Em espera",0.4,null,1,0.6,null,"Muito quente (> 40º C)",1.3]
[null,null,"K1","Considerado o valor médio de 0,85","Caminhão-comum",0.8,null,"Leves",0.8,null,2,0.7,null,"Quente (30º a 40º C)",1.1000000000000001]
[null,null,"K2","Considerado o operador médio","Fora-de-estrada",1,null,"Médias",1,null,3,0.8,null,"Médio (10º a 30º C)",1]
[null,null,"K3","Consideradas ferramentas de primeira qualidade","Carregadeira",1,null,"Pesadas",1.4,null,4,0.9,null,"Frio (< 10º C)",1.2]
[null,null,"K4","Há todo o tipo de trabalho, foi considerado condições pesadas","Escavadeira",1.4,null,"Severas",2,null,5,1]
[null,null,"K5","Considerando manutenção normal","Motoescrêiper",1.1000000000000001,null,null,null,null,6,1,null,"Ritmo de Trabalho","K9"]
[null,null,"K6","Equipamentos novos","Trator de esteira",1.2,null,"Manutenção","K5",null,7,1,null,"Folgado",0.9]
[null,null,"K7","44h por dia, 252 dias por ano",null,null,null,"Excelente",0.6,null,8,1.2,null,"Médio ",1]
[null,null,"K8","Clima quente, acima de 30º C","Qualid do Operador","K2",null,"Boa",0.8,null,9,1.3,null,"Com pressa",1.5]
[null,null,"K9","Ritmo de trabalho usualmente com pressa","Excelente",0.8,null,"Média",1,null,10,1.4]
[null,null,"K10","Considerado o operador médio","Boa",0.9,null,"Ruim ",1.5,null,11,2,null,"Conh do Serviço","K10"]
[null,null,"K11","Foi considerada a opção de aluguel a terceiros, ainda que a simulação seja dos custos do contratado, contudo a execução dos serviços é em local de terceiros","Média",1,null,"Inexistente",3,null,15,2,null,"Grande ",0.8]
[null,null,null,null,"Ruim",1.2,null,null,null,null,null,null,null,"Médio     ",0.9]
[null,null,null,null,"Péssima",2,null,"Horas de Uso ","K7",6000,1,null,null,"Pouco ",1]
[null,null,null,null,null,null,null,1000,0.5,8000,1.3]
[null,null,null,null,"Qualidade do Equip","K3",null,2000,0.5,10000,1.6,null,null,"Tipo do Serviço","K11"]
[null,null,null,null,"De primeira",0.8,null,3000,0.6,12000,1.9,null,null,"Mina ou Pedreira",0.8]
[null,null,null,null,"Média",1,null,4000,0.7,15000,2.2999999999999998,null,null,"Construção Geral",1]
[null,null,null,null,"Ruim",1.5,null,5000,0.9,20000,3,null,null,"Aluguel a Terceiros",1.4]
[]
[null,null,null,null,"Fonte: "]
[null,null,null,null,"MATTOS, Aldo Dórea. Como preparar orçamentos de obras. São Paulo: Pini, 2006. 281 p., il"]

{"sheet":"Não Rel - EPI","index":16,"n_rows":37,"n_cols":15,"rows_kept":37,"cut":false,"hidden":true,"merged":[[2,1,2,4],[3,1,3,11]]}
[]
[]
[]
[null,"EPIS NÃO RELACIONADOS DIRETAMENTE A UM POSTO DE TRABALHO - AQUISIÇÃO"]
[]
[]
[null,null,null,"ITEM","DESCRIÇÃO","QUANT ANUAL","UNIDADE","CUSTO UNITÁRIO","CUSTO ANUAL","BDI (%)","PREÇO TOTAL","FONTE"]
[]
[null,null,null,null,null,null,null,null,{"$f":"H9*F9","v":0},{"$f":"'BDI - Geral'!E27","v":0.2165},{"$f":"ROUND(I9*(1+J9),2)","v":0},"COTAÇÃO"]
[null,null,null,null,null,null,null,null,{"$f":"H10*F10","v":0},{"$f":"J9","v":0.2165},{"$f":"ROUND(I10*(1+J10),2)","v":0},"COTAÇÃO"]
[null,null,null,null,null,null,null,null,0,{"$f":"J10","v":0.2165},0,"COTAÇÃO"]
[null,null,null,null,null,null,null,null,0,0.2165,0,"COTAÇÃO"]
[null,null,null,null,null,null,null,null,0,0.2165,0,"COTAÇÃO"]
[null,null,null,null,null,null,null,null,0,0.2165,0,"COTAÇÃO"]
[null,null,null,null,null,null,null,null,0,0.2165,0,"COTAÇÃO"]
[null,null,null,null,null,null,null,null,0,0.2165,0,"COTAÇÃO"]
[null,null,null,null,null,null,null,null,0,0.2165,0,"COTAÇÃO"]
[null,null,null,null,null,null,null,null,0,0.2165,0,"COTAÇÃO"]
[null,null,null,null,null,null,null,null,0,0.2165,0,"COTAÇÃO"]
[null,null,null,null,null,null,null,null,0,0.2165,0,"COTAÇÃO"]
[null,null,null,null,null,null,null,null,0,0.2165,0,"COTAÇÃO"]
[null,null,null,null,null,null,null,null,0,0.2165,0,"COTAÇÃO"]
[null,null,null,null,null,null,null,null,0,0.2165,0,"COTAÇÃO"]
[null,null,null,null,null,null,null,null,0,0.2165,0,"COTAÇÃO"]
[null,null,null,null,null,null,null,null,0,0.2165,0,"COTAÇÃO"]
[null,null,null,null,null,null,null,null,0,0.2165,0,"COTAÇÃO"]
[null,null,null,null,null,null,null,null,0,0.2165,0,"COTAÇÃO"]
[null,null,null,null,null,null,null,null,0,0.2165,0,"COTAÇÃO"]
[null,null,null,null,null,null,null,null,0,0.2165,0,"COTAÇÃO"]
[null,null,null,null,null,null,null,null,0,0.2165,0,"COTAÇÃO"]
[null,null,null,null,null,null,null,null,0,0.2165,0,"COTAÇÃO"]
[null,null,null,null,null,null,null,null,0,0.2165,0,"COTAÇÃO"]
[null,null,null,null,null,null,null,null,0,0.2165,0,"COTAÇÃO"]
[null,null,null,null,null,null,null,null,0,0.2165,0,"COTAÇÃO"]
[]
[null,null,null,null,null,null,null,null,null,"SOMATÓRIO TOTAL MENSAL",{"$f":"K37/12","v":0}]
[null,null,null,null,null,null,null,null,null,"SOMATÓRIO TOTAL ANUAL",{"$f":"SUM(K8:K35)","v":0},null,null,{"$f":"SUM($I$9:$I$34)","v":0},"por ano sem bdi"]

{"sheet":"Não Rel - Depr","index":17,"n_rows":168,"n_cols":15,"rows_kept":168,"cut":false,"hidden":true,"merged":[[2,1,2,3],[3,1,3,14]]}
[]
[]
[]
[null,"EQUIPAMENTOS E FERRAMENTAS NÃO RELACIONADOS DIRETAMENTE A UM POSTO DE TRABALHO - PAGAMENTO DA DEPRECIAÇÃO / MANUTENÇÃO"]
[]
[]
[null,null,"PAGAMENTO DA DEPRECIAÇÃO"]
[null,null,"ITEM","DESCRIÇÃO","QUANT ANUAL","CONTA SIAFI","VALOR DE AQ.","% RESIDUAL","VIDA ÚTIL","DEP. MENSAL","CUSTO TOTAL","BDI (%)","PREÇO TOTAL","FONTE","REFERÊNCIA"]
[]
[null,null,null,null,null,null,null,0.1,20,{"$f":"G10*(1-H10)/(I10*12)","v":0},{"$f":"J10*E10","v":0},{"$f":"'BDI - Geral'!$E$27","v":0.2165},{"$f":"ROUND(K10*(1+L10),2)","v":0},"COTAÇÃO"]
[null,null,null,null,null,null,null,0.1,20,0,{"$f":"J11*E11","v":0},{"$f":"'BDI - Geral'!$E$27","v":0.2165},0,"COTAÇÃO"]
[null,null,null,null,null,null,null,0.1,20,0,0,{"$f":"'BDI - Geral'!$E$27","v":0.2165},0,"COTAÇÃO"]
[null,null,null,null,null,null,null,0.1,20,0,0,{"$f":"'BDI - Geral'!$E$27","v":0.2165},0,"COTAÇÃO"]
[null,null,null,null,null,null,null,0.1,20,0,0,{"$f":"'BDI - Geral'!$E$27","v":0.2165},0,"COTAÇÃO"]
[null,null,null,null,null,null,null,0.1,20,0,0,{"$f":"'BDI - Geral'!$E$27","v":0.2165},0,"COTAÇÃO"]
[null,null,null,null,null,null,null,0.1,20,0,0,{"$f":"'BDI - Geral'!$E$27","v":0.2165},0,"COTAÇÃO"]
[null,null,null,null,null,null,null,0.1,20,0,0,{"$f":"'BDI - Geral'!$E$27","v":0.2165},0,"COTAÇÃO"]
[null,null,null,null,null,null,null,0.1,20,0,0,{"$f":"'BDI - Geral'!$E$27","v":0.2165},0,"COTAÇÃO"]
[null,null,null,null,null,null,null,0.1,20,0,0,{"$f":"'BDI - Geral'!$E$27","v":0.2165},0,"COTAÇÃO"]
[null,null,null,null,null,null,null,0.1,20,0,0,{"$f":"'BDI - Geral'!$E$27","v":0.2165},0,"COTAÇÃO"]
[null,null,null,null,null,null,null,0.1,20,0,0,{"$f":"'BDI - Geral'!$E$27","v":0.2165},0,"COTAÇÃO"]
[null,null,null,null,null,null,null,0.1,20,0,0,{"$f":"'BDI - Geral'!$E$27","v":0.2165},0,"COTAÇÃO"]
[null,null,null,null,null,null,null,0.1,20,0,0,{"$f":"'BDI - Geral'!$E$27","v":0.2165},0,"COTAÇÃO"]
[null,null,null,null,null,null,null,0.1,20,0,0,{"$f":"'BDI - Geral'!$E$27","v":0.2165},0,"COTAÇÃO"]
[null,null,null,null,null,null,null,0.1,20,0,0,{"$f":"'BDI - Geral'!$E$27","v":0.2165},0,"COTAÇÃO"]
[null,null,null,null,null,null,null,0.1,20,0,0,{"$f":"'BDI - Geral'!$E$27","v":0.2165},0,"COTAÇÃO"]
[null,null,null,null,null,null,null,0.1,20,0,0,{"$f":"'BDI - Geral'!$E$27","v":0.2165},0,"COTAÇÃO"]
[null,null,null,null,null,null,null,0.1,20,0,0,{"$f":"'BDI - Geral'!$E$27","v":0.2165},0,"COTAÇÃO"]
[null,null,null,null,null,null,null,0.1,20,0,0,{"$f":"'BDI - Geral'!$E$27","v":0.2165},0,"COTAÇÃO"]
[null,null,null,null,null,null,null,0.1,20,0,0,{"$f":"'BDI - Geral'!$E$27","v":0.2165},0,"COTAÇÃO"]
[null,null,null,null,null,null,null,0.1,20,0,0,{"$f":"'BDI - Geral'!$E$27","v":0.2165},0,"COTAÇÃO"]
[null,null,null,null,null,null,null,0.1,20,0,0,{"$f":"'BDI - Geral'!$E$27","v":0.2165},0,"COTAÇÃO"]
[null,null,null,null,null,null,null,0.1,20,0,0,{"$f":"'BDI - Geral'!$E$27","v":0.2165},0,"COTAÇÃO"]
[null,null,null,null,null,null,null,0.1,20,0,0,{"$f":"'BDI - Geral'!$E$27","v":0.2165},0,"COTAÇÃO"]
[null,null,null,null,null,null,null,0.1,20,0,0,{"$f":"'BDI - Geral'!$E$27","v":0.2165},0,"COTAÇÃO"]
[null,null,null,null,null,null,null,0.1,20,0,0,{"$f":"'BDI - Geral'!$E$27","v":0.2165},0,"COTAÇÃO"]
[null,null,null,null,null,null,null,0.1,20,0,0,{"$f":"'BDI - Geral'!$E$27","v":0.2165},0,"COTAÇÃO"]
[null,null,null,null,null,null,null,0.1,20,0,0,{"$f":"'BDI - Geral'!$E$27","v":0.2165},0,"COTAÇÃO"]
[null,null,null,null,null,null,null,0.1,20,0,0,{"$f":"'BDI - Geral'!$E$27","v":0.2165},0,"COTAÇÃO"]
[null,null,null,null,null,null,null,0.1,20,0,0,{"$f":"'BDI - Geral'!$E$27","v":0.2165},0,"COTAÇÃO"]
[null,null,null,null,null,null,null,0.1,20,0,0,{"$f":"'BDI - Geral'!$E$27","v":0.2165},0,"COTAÇÃO"]
[null,null,null,null,null,null,null,0.1,20,0,0,{"$f":"'BDI - Geral'!$E$27","v":0.2165},0,"COTAÇÃO"]
[null,null,null,null,null,null,null,0.1,20,0,0,{"$f":"'BDI - Geral'!$E$27","v":0.2165},0,"COTAÇÃO"]
[null,null,null,null,null,null,null,0.1,20,0,0,{"$f":"'BDI - Geral'!$E$27","v":0.2165},0,"COTAÇÃO"]
[null,null,null,null,null,null,null,0.1,20,0,0,{"$f":"'BDI - Geral'!$E$27","v":0.2165},0,"COTAÇÃO"]
[null,null,null,null,null,null,null,0.1,20,0,0,{"$f":"'BDI - Geral'!$E$27","v":0.2165},0,"COTAÇÃO"]
[null,null,null,null,null,null,null,0.1,20,0,0,{"$f":"'BDI - Geral'!$E$27","v":0.2165},0,"COTAÇÃO"]
[null,null,null,null,null,null,null,0.1,20,0,0,{"$f":"'BDI - Geral'!$E$27","v":0.2165},0,"COTAÇÃO"]
[null,null,null,null,null,null,null,0.1,20,0,0,{"$f":"'BDI - Geral'!$E$27","v":0.2165},0,"COTAÇÃO"]
[null,null,null,null,null,null,null,0.1,20,0,0,{"$f":"'BDI - Geral'!$E$27","v":0.2165},0,"COTAÇÃO"]
[null,null,null,null,null,null,null,0.1,20,0,0,{"$f":"'BDI - Geral'!$E$27","v":0.2165},0,"COTAÇÃO"]
[null,null,null,null,null,null,null,0.1,20,0,0,{"$f":"'BDI - Geral'!$E$27","v":0.2165},0,"COTAÇÃO"]
[null,null,null,null,null,null,null,0.1,20,0,0,{"$f":"'BDI - Geral'!$E$27","v":0.2165},0,"COTAÇÃO"]
[null,null,null,null,null,null,null,0.1,20,0,0,{"$f":"'BDI - Geral'!$E$27","v":0.2165},0,"COTAÇÃO"]
[null,null,null,null,null,null,null,0.1,20,0,0,{"$f":"'BDI - Geral'!$E$27","v":0.2165},0,"COTAÇÃO"]
[null,null,null,null,null,null,null,0.1,20,0,0,{"$f":"'BDI - Geral'!$E$27","v":0.2165},0,"COTAÇÃO"]
[null,null,null,null,null,null,null,0.1,20,0,0,{"$f":"'BDI - Geral'!$E$27","v":0.2165},0,"COTAÇÃO"]
[null,null,null,null,null,null,null,0.1,20,0,0,{"$f":"'BDI - Geral'!$E$27","v":0.2165},0,"COTAÇÃO"]
[null,null,null,null,null,null,null,0.1,20,0,0,{"$f":"'BDI - Geral'!$E$27","v":0.2165},0,"COTAÇÃO"]
[null,null,null,null,null,null,null,0.1,20,0,0,{"$f":"'BDI - Geral'!$E$27","v":0.2165},0,"COTAÇÃO"]
[null,null,null,null,null,null,null,0.1,20,0,0,{"$f":"'BDI - Geral'!$E$27","v":0.2165},0,"COTAÇÃO"]
[null,null,null,null,null,null,null,0.1,20,0,0,{"$f":"'BDI - Geral'!$E$27","v":0.2165},0,"COTAÇÃO"]
[null,null,null,null,null,null,null,0.1,20,0,0,{"$f":"'BDI - Geral'!$E$27","v":0.2165},0,"COTAÇÃO"]
[null,null,null,null,null,null,null,0.1,20,0,0,{"$f":"'BDI - Geral'!$E$27","v":0.2165},0,"COTAÇÃO"]
[null,null,null,null,null,null,null,0.1,20,0,0,{"$f":"'BDI - Geral'!$E$27","v":0.2165},0,"COTAÇÃO"]
[null,null,null,null,null,null,null,0.1,20,0,0,{"$f":"'BDI - Geral'!$E$27","v":0.2165},0,"COTAÇÃO"]
[null,null,null,null,null,null,null,0.1,20,0,0,{"$f":"'BDI - Geral'!$E$27","v":0.2165},0,"COTAÇÃO"]
[null,null,null,null,null,null,null,0.1,20,0,0,{"$f":"'BDI - Geral'!$E$27","v":0.2165},0,"COTAÇÃO"]
[null,null,null,null,null,null,null,0.1,20,0,0,{"$f":"'BDI - Geral'!$E$27","v":0.2165},0,"COTAÇÃO"]
[null,null,null,null,null,null,null,0.1,20,0,0,{"$f":"'BDI - Geral'!$E$27","v":0.2165},0,"COTAÇÃO"]
[null,null,null,null,null,null,null,0.1,20,0,0,{"$f":"'BDI - Geral'!$E$27","v":0.2165},0,"COTAÇÃO"]
[null,null,null,null,null,null,null,0.1,20,0,0,{"$f":"'BDI - Geral'!$E$27","v":0.2165},0,"COTAÇÃO"]
[null,null,null,null,null,null,null,0.1,20,0,0,{"$f":"'BDI - Geral'!$E$27","v":0.2165},0,"COTAÇÃO"]
[null,null,null,null,null,null,null,0.1,20,0,0,{"$f":"'BDI - Geral'!$E$27","v":0.2165},0,"COTAÇÃO"]
[null,null,null,null,null,null,null,0.1,20,0,0,{"$f":"'BDI - Geral'!$E$27","v":0.2165},0,"COTAÇÃO"]
[null,null,null,null,null,null,null,0.1,20,0,0,{"$f":"'BDI - Geral'!$E$27","v":0.2165},0,"COTAÇÃO"]
[null,null,null,null,null,null,null,0.1,20,0,0,{"$f":"'BDI - Geral'!$E$27","v":0.2165},0,"COTAÇÃO"]
[null,null,null,null,null,null,null,0.1,20,0,0,{"$f":"'BDI - Geral'!$E$27","v":0.2165},0,"COTAÇÃO"]
[null,null,null,null,null,null,null,0.1,20,0,0,{"$f":"'BDI - Geral'!$E$27","v":0.2165},0,"COTAÇÃO"]
[null,null,null,null,null,null,null,0.1,20,0,0,{"$f":"'BDI - Geral'!$E$27","v":0.2165},0,"COTAÇÃO"]
[null,null,null,null,null,null,null,0.1,20,0,0,{"$f":"'BDI - Geral'!$E$27","v":0.2165},0,"COTAÇÃO"]
[null,null,null,null,null,null,null,0.1,20,0,0,{"$f":"'BDI - Geral'!$E$27","v":0.2165},0,"COTAÇÃO"]
[null,null,null,null,null,null,null,0.1,20,0,0,{"$f":"'BDI - Geral'!$E$27","v":0.2165},0,"COTAÇÃO"]
[null,null,null,null,null,null,null,0.1,20,0,0,{"$f":"'BDI - Geral'!$E$27","v":0.2165},0,"COTAÇÃO"]
[null,null,null,null,null,null,null,0.1,20,0,0,{"$f":"'BDI - Geral'!$E$27","v":0.2165},0,"COTAÇÃO"]
[null,null,null,null,null,null,null,0.1,20,0,0,{"$f":"'BDI - Geral'!$E$27","v":0.2165},0,"COTAÇÃO"]
[null,null,null,null,null,null,null,0.1,20,0,0,{"$f":"'BDI - Geral'!$E$27","v":0.2165},0,"COTAÇÃO"]
[null,null,null,null,null,null,null,0.1,20,0,0,{"$f":"'BDI - Geral'!$E$27","v":0.2165},0,"COTAÇÃO"]
[null,null,null,null,null,null,null,0.1,20,0,0,{"$f":"'BDI - Geral'!$E$27","v":0.2165},0,"COTAÇÃO"]
[null,null,null,null,null,null,null,0.1,20,0,0,{"$f":"'BDI - Geral'!$E$27","v":0.2165},0,"COTAÇÃO"]
[null,null,null,null,null,null,null,0.1,20,0,0,{"$f":"'BDI - Geral'!$E$27","v":0.2165},0,"COTAÇÃO"]
[null,null,null,null,null,null,null,0.1,20,0,0,{"$f":"'BDI - Geral'!$E$27","v":0.2165},0,"COTAÇÃO"]
[null,null,null,null,null,null,null,0.1,20,0,0,{"$f":"'BDI - Geral'!$E$27","v":0.2165},0,"COTAÇÃO"]
[null,null,null,null,null,null,null,0.1,20,0,0,{"$f":"'BDI - Geral'!$E$27","v":0.2165},0,"COTAÇÃO"]
[null,null,null,null,null,null,null,0.1,20,0,0,{"$f":"'BDI - Geral'!$E$27","v":0.2165},0,"COTAÇÃO"]
[null,null,null,null,null,null,null,0.1,20,{"$f":"G96*(1-H96)/(I96*12)","v":0},{"$f":"J96*E96","v":0},{"$f":"'BDI - Geral'!$E$27","v":0.2165},{"$f":"ROUND(K96*(1+L96),2)","v":0},"COTAÇÃO"]
[null,null,null,null,null,null,null,0.1,20,0,0,{"$f":"'BDI - Geral'!$E$27","v":0.2165},0,"COTAÇÃO"]
[null,null,null,null,null,null,null,0.1,20,0,0,{"$f":"'BDI - Geral'!$E$27","v":0.2165},0,"COTAÇÃO"]
[null,null,null,null,null,null,null,0.1,20,0,0,{"$f":"'BDI - Geral'!$E$27","v":0.2165},0,"COTAÇÃO"]
[null,null,null,null,null,null,null,0.1,20,0,0,{"$f":"'BDI - Geral'!$E$27","v":0.2165},0,"COTAÇÃO"]
[null,null,null,null,null,null,null,0.1,20,0,0,{"$f":"'BDI - Geral'!$E$27","v":0.2165},0,"COTAÇÃO"]
[null,null,null,null,null,null,null,0.1,20,0,0,{"$f":"'BDI - Geral'!$E$27","v":0.2165},0,"COTAÇÃO"]
[null,null,null,null,null,null,null,0.1,20,0,0,{"$f":"'BDI - Geral'!$E$27","v":0.2165},0,"COTAÇÃO"]
[null,null,null,null,null,null,null,0.1,20,0,0,{"$f":"'BDI - Geral'!$E$27","v":0.2165},0,"COTAÇÃO"]
[null,null,null,null,null,null,null,0.1,20,0,0,{"$f":"'BDI - Geral'!$E$27","v":0.2165},0,"COTAÇÃO"]
[null,null,null,null,null,null,null,0.1,20,0,0,{"$f":"'BDI - Geral'!$E$27","v":0.2165},0,"COTAÇÃO"]
[null,null,null,null,null,null,null,0.1,20,0,0,{"$f":"'BDI - Geral'!$E$27","v":0.2165},0,"COTAÇÃO"]
[null,null,null,null,null,null,null,0.1,20,0,0,{"$f":"'BDI - Geral'!$E$27","v":0.2165},0,"COTAÇÃO"]
[null,null,null,null,null,null,null,0.1,20,{"$f":"G109*(1-H109)/(I109*12)","v":0},{"$f":"J109*E109","v":0},{"$f":"'BDI - Geral'!$E$27","v":0.2165},{"$f":"ROUND(K109*(1+L109),2)","v":0},"COTAÇÃO"]
[null,null,null,null,null,null,null,0.1,20,{"$f":"G110*(1-H110)/(I110*12)","v":0},{"$f":"J110*E110","v":0},{"$f":"'BDI - Geral'!$E$27","v":0.2165},{"$f":"ROUND(K110*(1+L110),2)","v":0},"COTAÇÃO"]
[]
[]
[null,null,"PAGAMENTO DA MANUTENÇÃO"]
[null,null,"ITEM","DESCRIÇÃO",null,null,null,"K (calculado)","MENSAL DEPR.","% MAN X DEP","MENSAL MAN.","BDI (%)","PREÇO TOTAL"]
[]
[null,null,null,null,null,null,null,{"$f":"H123","v":0.38170440000000005},{"$f":"SUM(M10:M111)","v":0},{"$f":"H116","v":0.38170440000000005},{"$f":"I116*H116","v":0},{"$f":"'BDI - Geral'!E27","v":0.2165},{"$f":"ROUND(K116*(1+L116),2)","v":0}]
[]
[null,null,null,null,"K1","K2","K3","K4"]
[null,null,null,null,0.85,0.9,0.8,1]
[null,null,null,null,"K5","K6","K7","K8"]
[null,null,null,null,1,0.6,0.5,1.1000000000000001]
[null,null,null,null,"K9","K10","K11","RESULTADO"]
[null,null,null,"* a descrição de cada coeficiente segue abaixo",1.5,0.9,1.4,{"$f":"E119*F119*G119*H119*E121*F121*G121*H121*E123*F123*G123","v":0.38170440000000005}]
[]
[]
[null,null,"MATERIAL DE CONSUMO ASSOCIADO"]
[null,null,"ITEM","DESCRIÇÃO",null,null,null,"QUANTID/ANO","UNIDADE","VALOR DE AQ.","MENSAL MAT","BDI (%)","PREÇO TOTAL"]
[]
[null,null,null,null,null,null,null,null,null,null,{"$f":"J129*H129/12","v":0},{"$f":"'BDI - Geral'!E27","v":0.2165},{"$f":"ROUND(K129*(1+L129),2)","v":0}]
[]
[]
[null,null,"MATERIAL DE CONSUMO ASSOCIADO"]
[null,null,"ITEM","DESCRIÇÃO",null,null,null,null,null,null,null,null,"PREÇO TOTAL"]
[]
[null,null,1,"Componente DEPRECIAÇÃO",null,null,null,null,null,null,null,null,{"$f":"I116","v":0}]
[null,null,2,"Componente MANUTENÇÃO",null,null,null,null,null,null,null,null,{"$f":"M116","v":0}]
[null,null,3,"Componente MATERIAL DE CONSUMO ASSOCIADO",null,null,null,null,null,null,null,null,{"$f":"M129","v":0}]
[]
[null,null,null,null,null,null,null,null,null,null,null,"SOMATÓRIO TOTAL MENSAL",{"$f":"SUM(M134:M138)","v":0}]
[null,null,null,null,null,null,null,null,null,null,null,"SOMATÓRIO TOTAL ANUAL",{"$f":"M139*12","v":0}]
[]
[]
[null,null,"MATERIAL DE CONSUMO ASSOCIADO"]
[null,null,"MEMÓRIA DE CÁLCULO DO COEFICIENTE DE CORRELAÇÃO MANUTENÇÃO X DEPRECIAÇÃO (K)"]
[]
[null,null,"JUSTIFICATIVAS",null,"TIPO","K1",null,"Condições de Trab","K4",null,"Tempo Vida (anos)","K6",null,"Temperatura","K8"]
[null,null,null,null,"Guindaste",0.5,null,"Em espera",0.4,null,1,0.6,null,"Muito quente (> 40º C)",1.3]
[null,null,"K1","Considerado o valor médio de 0,85","Caminhão-comum",0.8,null,"Leves",0.8,null,2,0.7,null,"Quente (30º a 40º C)",1.1000000000000001]
[null,null,"K2","Considerado o operador bom","Fora-de-estrada",1,null,"Médias",1,null,3,0.8,null,"Médio (10º a 30º C)",1]
[null,null,"K3","Consideradas ferramentas de primeira qualidade","Carregadeira",1,null,"Pesadas",1.4,null,4,0.9,null,"Frio (< 10º C)",1.2]
[null,null,"K4","Há todo o tipo de trabalho, foi considerado o valor médio","Escavadeira",1.4,null,"Severas",2,null,5,1]
[null,null,"K5","Considerando manutenção normal","Motoescrêiper",1.1000000000000001,null,null,null,null,6,1,null,"Ritmo de Trabalho","K9"]
[null,null,"K6","Equipamentos novos","Trator de esteira",1.2,null,"Manutenção","K5",null,7,1,null,"Folgado",0.9]
[null,null,"K7","220h por mês, 252 dias por ano",null,null,null,"Excelente",0.6,null,8,1.2,null,"Médio ",1]
[null,null,"K8","Clima quente, acima de 30º C","Qualid do Operador","K2",null,"Boa",0.8,null,9,1.3,null,"Com pressa",1.5]
[null,null,"K9","Ritmo de trabalho usualmente com pressa","Excelente",0.8,null,"Média",1,null,10,1.4]
[null,null,"K10","Considerado o operador médio","Boa",0.9,null,"Ruim ",1.5,null,11,2,null,"Conh do Serviço","K10"]
[null,null,"K11","Foi considerada a opção de aluguel a terceiros, ainda que a simulação seja dos custos do contratado, contudo a execução dos serviços é em local de terceiros","Média",1,null,"Inexistente",3,null,15,2,null,"Grande ",0.8]
[null,null,null,null,"Ruim",1.2,null,null,null,null,null,null,null,"Médio     ",0.9]
[null,null,null,null,"Péssima",2,null,"Horas de Uso ","K7",6000,1,null,null,"Pouco ",1]
[null,null,null,null,null,null,null,1000,0.5,8000,1.3]
[null,null,null,null,"Qualidade do Equip","K3",null,2000,0.5,10000,1.6,null,null,"Tipo do Serviço","K11"]
[null,null,null,null,"De primeira",0.8,null,3000,0.6,12000,1.9,null,null,"Mina ou Pedreira",0.8]
[null,null,null,null,"Média",1,null,4000,0.7,15000,2.2999999999999998,null,null,"Construção Geral",1]
[null,null,null,null,"Ruim",1.5,null,5000,0.9,20000,3,null,null,"Aluguel a Terceiros",1.4]
[]
[null,null,null,null,"Fonte: "]
[null,null,null,null,"MATTOS, Aldo Dórea. Como preparar orçamentos de obras. São Paulo: Pini, 2006. 281 p., il"]

{"sheet":"Not.Demanda","index":18,"n_rows":68,"n_cols":8,"rows_kept":68,"cut":false,"hidden":false,"merged":[[2,1,2,3],[3,1,3,7]]}
[]
[]
[]
[null,"ADICIONAL NOTURNO SOB DEMANDA"]
[]
[]
[null,null,"CATEGORIAS",null,null,"HORAS / ANO","HORAS / MÊS","% NOTURNA"]
[]
[null,null,2,{"$f":"HLOOKUP($C9,'Dados Gerais'!$D$6:$M$11,6)","v":"SUPERVISOR TÉCNICO"},null,18,{"$f":"F9/12","v":1.5},0.4]
[null,null,4,{"$f":"HLOOKUP($C10,'Dados Gerais'!$D$6:$M$11,6)","v":"SUPERVISOR DE OPERAÇÕES"},null,18,1.5,0.4]
[null,null,5,{"$f":"HLOOKUP($C11,'Dados Gerais'!$D$6:$M$11,6)","v":" DIRETOR DE IMAGENS – 30H"},null,120,10,0.4]
[null,null,7,{"$f":"HLOOKUP($C12,'Dados Gerais'!$D$6:$M$11,6)","v":"TÉCNICO DE SISTEMAS AUDIOVISUAIS – especialidade Sistemas e Vídeo \n36H"},null,24,2,0.4]
[null,null,8,{"$f":"HLOOKUP($C13,'Dados Gerais'!$D$6:$M$11,6)","v":"OPERADOR DE MÍDIA AUDIOVISUAL – 30H"},null,240,20,0.4]
[null,null,10,{"$f":"HLOOKUP($C14,'Dados Gerais'!$D$6:$M$11,6)","v":"OPERADOR DE TRANSMISSOR – Rádio e TV - 24H"},null,2555,212.91666666666666,0.4]
[]
[]
[null,null,"AJUSTE DE HORAS FICTAS",null,"AJUSTE H.NOT","HORA NORMAL","H.FICTAS/MÊS","H.ÚTEIS/MÊS"]
[]
[null,null,{"$f":"C9","v":2},{"$f":"D9","v":"SUPERVISOR TÉCNICO"},52.5,60,{"$f":"G9*(F19/E19)","v":1.7142857142857142},{"$f":"HLOOKUP(C19,'Dados Gerais'!$D$6:$M$19,14,0)","v":220}]
[null,null,{"$f":"C10","v":4},"SUPERVISOR DE OPERAÇÕES",52.5,60,1.7142857142857142,{"$f":"HLOOKUP(C20,'Dados Gerais'!$D$6:$M$19,14,0)","v":220}]
[null,null,5," DIRETOR DE IMAGENS – 30H",52.5,60,11.428571428571427,{"$f":"HLOOKUP(C21,'Dados Gerais'!$D$6:$M$19,14,0)","v":150}]
[null,null,7,"TÉCNICO DE SISTEMAS AUDIOVISUAIS – especialidade Sistemas e Vídeo \n36H",52.5,60,2.2857142857142856,{"$f":"HLOOKUP(C22,'Dados Gerais'!$D$6:$M$19,14,0)","v":180}]
[null,null,8,"OPERADOR DE MÍDIA AUDIOVISUAL – 30H",52.5,60,22.857142857142854,{"$f":"HLOOKUP(C23,'Dados Gerais'!$D$6:$M$19,14,0)","v":150}]
[null,null,10,"OPERADOR DE TRANSMISSOR – Rádio e TV - 24H",52.5,60,243.33333333333331,{"$f":"HLOOKUP(C24,'Dados Gerais'!$D$6:$M$19,14,0)","v":120}]
[]
[]
[null,null,"VALOR DO ADICIONAL NOTURNO",null,null,"SALÁRIO MÊS","VL.H.NORMAL","ADIC.H.FICTAS"]
[]
[null,null,{"$f":"C19","v":2},"SUPERVISOR TÉCNICO",null,{"$f":"HLOOKUP(C29,'Dados Gerais'!$D$6:$M$13,8,0)","v":11305.98},{"$f":"F29/H19","v":51.390818181818183},{"$f":"G29*(H9)","v":20.556327272727273}]
[null,null,4,"SUPERVISOR DE OPERAÇÕES",null,{"$f":"HLOOKUP(C30,'Dados Gerais'!$D$6:$M$13,8,0)","v":10867.58},49.398090909090911,19.759236363636365]
[null,null,5," DIRETOR DE IMAGENS – 30H",null,{"$f":"HLOOKUP(C31,'Dados Gerais'!$D$6:$M$13,8,0)","v":6492.64},43.284266666666667,17.313706666666668]
[null,null,7,"TÉCNICO DE SISTEMAS AUDIOVISUAIS – especialidade Sistemas e Vídeo \n36H",null,{"$f":"HLOOKUP(C32,'Dados Gerais'!$D$6:$M$13,8,0)","v":6660.16},37.000888888888888,14.800355555555555]
[null,null,8,"OPERADOR DE MÍDIA AUDIOVISUAL – 30H",null,{"$f":"HLOOKUP(C33,'Dados Gerais'!$D$6:$M$13,8,0)","v":5394.03},35.9602,14.384080000000001]
[null,null,10,"OPERADOR DE TRANSMISSOR – Rádio e TV - 24H",null,{"$f":"HLOOKUP(C34,'Dados Gerais'!$D$6:$M$13,8,0)","v":3837.34},31.977833333333333,12.791133333333335]
[]
[]
[null,null,"RESUMO DO ADICIONAL NOTURNO SOB DEMANDA"]
[null,null,"TOTAIS MENSAIS",null,null,null,"PREÇO MENSAL"]
[]
[null,null,{"$f":"C29","v":2},"SUPERVISOR TÉCNICO",null,null,{"$f":"H29*G19","v":35.239418181818181}]
[null,null,4,"SUPERVISOR DE OPERAÇÕES",null,null,33.872976623376623]
[null,null,5," DIRETOR DE IMAGENS – 30H",null,null,197.87093333333334]
[null,null,7,"TÉCNICO DE SISTEMAS AUDIOVISUAIS – especialidade Sistemas e Vídeo \n36H",null,null,33.829384126984124]
[null,null,8,"OPERADOR DE MÍDIA AUDIOVISUAL – 30H",null,null,328.77897142857142]
[null,null,10,"OPERADOR DE TRANSMISSOR – Rádio e TV - 24H",null,null,3112.509111111111]
[]
[null,null,null,null,null,"SOMATÓRIO TOTAL MENSAL",{"$f":"SUM(G40:G45)","v":3742.1007948051947}]
[null,null,null,null,null,"SOMATÓRIO TOTAL ANUAL",{"$f":"G47*12","v":44905.209537662333}]
[]
[]
[null,null,"ENCARGOS SOCIAIS E BDI SOBRE ADICIONAL NOTURNO SOB DEMANDA"]
[null,null,"TOTAIS MENSAIS",null,null,"PERCENTUAIS","PREÇO MENSAL"]
[]
[null,null,null,"ENCARGOS SOCIAIS",null,{"$f":"'Encargos Sociais'!E46","v":0.70569999999999999},{"$f":"F54*G47","v":2640.800530894026}]
[null,null,null,"BDI",null,{"$f":"'BDI - Geral'!E27","v":0.2165},{"$f":"F55*(G47+G54)","v":1381.8981370138811}]
[]
[null,null,null,null,null,"SOMATÓRIO TOTAL MENSAL",{"$f":"SUM(G54:G56)","v":4022.6986679079073}]
[null,null,null,null,null,"SOMATÓRIO TOTAL ANUAL",{"$f":"G57*12","v":48272.384014894888}]
[]
[]
[null,null,"VALOR TOTAL ADICIONAL NOTURNO SOB DEMANDA (COM ENCARGOS SOCIAIS E BDI INCLUSOS)"]
[null,null,"TOTAIS MENSAIS",null,null,"PERCENTUAIS","PREÇO MENSAL"]
[]
[]
[]
[]
[null,null,null,null,null,"SOMATÓRIO TOTAL MENSAL",{"$f":"G47+G57","v":7764.799462713102}]
[null,null,null,null,null,"SOMATÓRIO TOTAL ANUAL",{"$f":"G67*12","v":93177.593552557228}]

{"sheet":"Resumo","index":19,"n_rows":102,"n_cols":12,"rows_kept":102,"cut":false,"hidden":false,"merged":[[21,1,21,8],[0,1,0,8],[99,3,99,7],[75,3,75,7],[88,3,88,7],[95,3,95,7],[3,1,3,8],[39,1,39,8],[84,3,84,7],[61,1,61,8]]}
[null,"1.1 - DETEC - FATURA ORDINÁRIA"]
[]
[]
[null,"1.1.1 RESUMO - TOTAIS MENSAIS - FATURA ORDINÁRIA (SEM O 13º E SEM OS ITENS SOB DEMANDA)"]
[]
[]
[null,null,"ITEM","POSTO DE TRABALHO","QUANTIDADE","PREÇO UNIT       (SEM O 13º)","DESTAQUE DO 13º","PREÇO POR EMPREGADO","PREÇO TOTAL (MENSAL)"]
[null,null,1,{"$f":"HLOOKUP(C8,'Dados Gerais'!$D$6:$BI$11,6)","v":"SUPERVISOR TÉCNICO OPERACIONAL"},{"$f":"HLOOKUP(C8,'Dados Gerais'!$D$6:$BI$15,10)","v":2},{"$f":"'1'!$E$115","v":32402.985960000002},0,{"$f":"G8+F8","v":32402.985960000002},{"$f":"H8*E8","v":64805.971920000004}]
[null,null,2,{"$f":"HLOOKUP(C9,'Dados Gerais'!$D$6:$BI$11,6)","v":"SUPERVISOR TÉCNICO"},{"$f":"HLOOKUP(C9,'Dados Gerais'!$D$6:$BI$15,10)","v":2},{"$f":"'2'!$E$115","v":23593.883685000001},0,23593.883685000001,47187.767370000001]
[null,null,3,{"$f":"HLOOKUP(C10,'Dados Gerais'!$D$6:$BI$11,6)","v":"SUPERVISOR TÉCNICO \n(CENTRO DE TRANSMISSÃO)"},{"$f":"HLOOKUP(C10,'Dados Gerais'!$D$6:$BI$15,10)","v":1},{"$f":"'3'!$E$115","v":23624.636804999998},0,23624.636804999998,23624.636804999998]
[null,null,4,{"$f":"HLOOKUP(C11,'Dados Gerais'!$D$6:$BI$11,6)","v":"SUPERVISOR DE OPERAÇÕES"},{"$f":"HLOOKUP(C11,'Dados Gerais'!$D$6:$BI$15,10)","v":2},{"$f":"'4'!$E$115","v":22739.949345000001},0,22739.949345000001,45479.898690000002]
[null,null,5,{"$f":"HLOOKUP(C12,'Dados Gerais'!$D$6:$BI$11,6)","v":" DIRETOR DE IMAGENS – 30H"},{"$f":"HLOOKUP(C12,'Dados Gerais'!$D$6:$BI$15,10)","v":24},{"$f":"'5'!$E$115","v":14224.619655000002},0,14224.619655000002,341390.87172000005]
[null,null,6,{"$f":"HLOOKUP(C13,'Dados Gerais'!$D$6:$BI$11,6)","v":" DIRETOR DE IMAGENS – 18H"},{"$f":"HLOOKUP(C13,'Dados Gerais'!$D$6:$BI$15,10)","v":21},{"$f":"'6'!$E$115","v":8689.6054800000002},0,8689.6054800000002,182481.71507999999]
[null,null,7,{"$f":"HLOOKUP(C14,'Dados Gerais'!$D$6:$BI$11,6)","v":"TÉCNICO DE SISTEMAS AUDIOVISUAIS – especialidade Sistemas e Vídeo \n36H"},{"$f":"HLOOKUP(C14,'Dados Gerais'!$D$6:$BI$15,10)","v":4},{"$f":"'7'!$E$115","v":14544.376679999999},0,14544.376679999999,58177.506719999998]
[null,null,8,{"$f":"HLOOKUP(C15,'Dados Gerais'!$D$6:$BI$11,6)","v":"OPERADOR DE MÍDIA AUDIOVISUAL – 30H"},{"$f":"HLOOKUP(C15,'Dados Gerais'!$D$6:$BI$15,10)","v":34},{"$f":"'8'!$E$115","v":12084.662340000001},0,12084.662340000001,410878.51956000004]
[null,null,9,{"$f":"HLOOKUP(C16,'Dados Gerais'!$D$6:$BI$11,6)","v":"OPERADOR DE MÍDIA AUDIOVISUAL – 18H"},{"$f":"HLOOKUP(C16,'Dados Gerais'!$D$6:$BI$15,10)","v":26},{"$f":"'9'!$E$115","v":7405.626225},0,7405.626225,192546.28185]
[null,null,10,{"$f":"HLOOKUP(C17,'Dados Gerais'!$D$6:$BI$11,6)","v":"OPERADOR DE TRANSMISSOR – Rádio e TV - 24H"},{"$f":"HLOOKUP(C17,'Dados Gerais'!$D$6:$BI$15,10)","v":5},{"$f":"'10'!$E$115","v":8696.6611799999991},0,8696.6611799999991,43483.305899999992]
[]
[null,null,null,"TOTAL MENSAL - DESTAQUE DO 13º",null,null,null,null,{"$f":"SUM(I8:I18)","v":1410056.4756149999}]
[]
[]
[null,"1.1.2 RESUMO - TOTAIS MENSAIS - FATURA ORDINÁRIA - DESTAQUE DO 13º SALÁRIO"]
[]
[]
[null,null,"ITEM","POSTO DE TRABALHO","QUANTIDADE","PREÇO UNIT       (SEM O 13º)","DESTAQUE DO 13º","PREÇO POR EMPREGADO","PREÇO TOTAL (MENSAL)"]
[null,null,1,{"$f":"HLOOKUP(C26,'Dados Gerais'!$D$6:$BI$11,6)","v":"SUPERVISOR TÉCNICO OPERACIONAL"},{"$f":"E8","v":2},0,{"$f":"'1'!$E$116","v":2358.6999999999998},{"$f":"G26+F26","v":2358.6999999999998},{"$f":"H26*E26","v":4717.3999999999996}]
[null,null,2,{"$f":"HLOOKUP(C27,'Dados Gerais'!$D$6:$BI$11,6)","v":"SUPERVISOR TÉCNICO"},2,0,{"$f":"'2'!$E$116","v":1684.79},{"$f":"G27+F27","v":1684.79},{"$f":"H27*E27","v":3369.58}]
[null,null,3,{"$f":"HLOOKUP(C28,'Dados Gerais'!$D$6:$BI$11,6)","v":"SUPERVISOR TÉCNICO \n(CENTRO DE TRANSMISSÃO)"},1,0,{"$f":"'3'!$E$116","v":1684.79},{"$f":"G28+F28","v":1684.79},{"$f":"H28*E28","v":1684.79}]
[null,null,4,{"$f":"HLOOKUP(C29,'Dados Gerais'!$D$6:$BI$11,6)","v":"SUPERVISOR DE OPERAÇÕES"},2,0,{"$f":"'4'!$E$116","v":1619.45},{"$f":"G29+F29","v":1619.45},{"$f":"H29*E29","v":3238.9}]
[null,null,5,{"$f":"HLOOKUP(C30,'Dados Gerais'!$D$6:$BI$11,6)","v":" DIRETOR DE IMAGENS – 30H"},24,0,{"$f":"'5'!$E$116","v":967.51},{"$f":"G30+F30","v":967.51},{"$f":"H30*E30","v":23220.239999999998}]
[null,null,6,{"$f":"HLOOKUP(C31,'Dados Gerais'!$D$6:$BI$11,6)","v":" DIRETOR DE IMAGENS – 18H"},21,0,{"$f":"'6'!$E$116","v":580.5},580.5,12190.5]
[null,null,7,{"$f":"HLOOKUP(C32,'Dados Gerais'!$D$6:$BI$11,6)","v":"TÉCNICO DE SISTEMAS AUDIOVISUAIS – especialidade Sistemas e Vídeo \n36H"},4,0,{"$f":"'7'!$E$116","v":992.48},992.48,3969.92]
[null,null,8,{"$f":"HLOOKUP(C33,'Dados Gerais'!$D$6:$BI$11,6)","v":"OPERADOR DE MÍDIA AUDIOVISUAL – 30H"},34,0,{"$f":"'8'!$E$116","v":803.8},803.8,27329.199999999997]
[null,null,9,{"$f":"HLOOKUP(C34,'Dados Gerais'!$D$6:$BI$11,6)","v":"OPERADOR DE MÍDIA AUDIOVISUAL – 18H"},26,0,{"$f":"'9'!$E$116","v":482.28000000000003},482.28000000000003,12539.28]
[null,null,10,{"$f":"HLOOKUP(C35,'Dados Gerais'!$D$6:$BI$11,6)","v":"OPERADOR DE TRANSMISSOR – Rádio e TV - 24H"},5,0,{"$f":"'10'!$E$116","v":571.82999999999993},571.82999999999993,2859.1499999999996]
[]
[null,null,null,"TOTAL MENSAL - DESTAQUE DO 13º",null,null,null,null,{"$f":"SUM(I26:I36)","v":95118.959999999992}]
[]
[]
[null,"1.1.3 RESUMO - TOTAIS MENSAIS - FATURA ORDINÁRIA TOTAL"]
[]
[]
[null,null,"ITEM","POSTO DE TRABALHO","QUANTIDADE","PREÇO UNIT       (SEM O 13º)","DESTAQUE DO 13º","PREÇO POR EMPREGADO","PREÇO TOTAL (MENSAL)"]
[null,null,1,{"$f":"HLOOKUP(C44,'Dados Gerais'!$D$6:$BI$11,6)","v":"SUPERVISOR TÉCNICO OPERACIONAL"},{"$f":"E8","v":2},32402.985960000002,{"$f":"G26","v":2358.6999999999998},{"$f":"G44+F44","v":34761.685960000003},{"$f":"H44*E44","v":69523.371920000005}]
[null,null,2,{"$f":"HLOOKUP(C45,'Dados Gerais'!$D$6:$BI$11,6)","v":"SUPERVISOR TÉCNICO"},2,23593.883685000001,{"$f":"G27","v":1684.79},{"$f":"G45+F45","v":25278.673685000002},{"$f":"H45*E45","v":50557.347370000003}]
[null,null,3,{"$f":"HLOOKUP(C46,'Dados Gerais'!$D$6:$BI$11,6)","v":"SUPERVISOR TÉCNICO \n(CENTRO DE TRANSMISSÃO)"},1,23624.636804999998,1684.79,{"$f":"G46+F46","v":25309.426804999999},{"$f":"H46*E46","v":25309.426804999999}]
[null,null,4,{"$f":"HLOOKUP(C47,'Dados Gerais'!$D$6:$BI$11,6)","v":"SUPERVISOR DE OPERAÇÕES"},2,22739.949345000001,1619.45,{"$f":"G47+F47","v":24359.399345000002},{"$f":"H47*E47","v":48718.798690000003}]
[null,null,5,{"$f":"HLOOKUP(C48,'Dados Gerais'!$D$6:$BI$11,6)","v":" DIRETOR DE IMAGENS – 30H"},24,14224.619655000002,967.51,{"$f":"G48+F48","v":15192.129655000002},{"$f":"H48*E48","v":364611.11172000004}]
[null,null,6,{"$f":"HLOOKUP(C49,'Dados Gerais'!$D$6:$BI$11,6)","v":" DIRETOR DE IMAGENS – 18H"},21,8689.6054800000002,580.5,9270.1054800000002,194672.21507999999]
[null,null,7,{"$f":"HLOOKUP(C50,'Dados Gerais'!$D$6:$BI$11,6)","v":"TÉCNICO DE SISTEMAS AUDIOVISUAIS – especialidade Sistemas e Vídeo \n36H"},4,14544.376679999999,992.48,15536.856679999999,62147.426719999996]
[null,null,8,{"$f":"HLOOKUP(C51,'Dados Gerais'!$D$6:$BI$11,6)","v":"OPERADOR DE MÍDIA AUDIOVISUAL – 30H"},34,12084.662340000001,803.8,12888.46234,438207.71956]
[null,null,9,{"$f":"HLOOKUP(C52,'Dados Gerais'!$D$6:$BI$11,6)","v":"OPERADOR DE MÍDIA AUDIOVISUAL – 18H"},26,7405.626225,482.28000000000003,7887.9062249999997,205085.56185]
[null,null,10,{"$f":"HLOOKUP(C53,'Dados Gerais'!$D$6:$BI$11,6)","v":"OPERADOR DE TRANSMISSOR – Rádio e TV - 24H"},5,8696.6611799999991,571.82999999999993,9268.4911799999991,46342.455899999994]
[]
[null,null,null,"TOTAL MENSAL - SALÁRIOS",null,null,null,null,{"$f":"SUM(I44:I54)","v":1505175.4356149998}]
[]
[]
[]
[]
[]
[]
[null,"RESUMO - TOTAIS MENSAIS - ITENS SOB DEMANDA"]
[]
[]
[null,null,"ITEM","DESCRIÇÃO",null,null,null,null,"PREÇO TOTAL (MENSAL)"]
[null,null,"SREP","SISTEMA DE REGISTRO ELETRÔNICO DE PRESENÇA - SREP",null,null,null,null,{"$f":"SREP!M46","v":632.97}]
[null,null,"EPI - N.REL","EQUIPAMENTOS DE PROTEÇÃO INDIVIDUAL NÃO RELACIONADOS DIRETAMENTE A UM POSTO DE TRABALHO",null,null,null,null,{"$f":"'Não Rel - EPI'!K36","v":0}]
[null,null,"FERR - N.REL","FERRAMENTAS NÃO RELACIONADAS DIRETAMENTE A UM POSTO DE TRABALHO",null,null,null,null,{"$f":"'Não Rel - Depr'!M139","v":0}]
[null,null,"NOT. DEMANDA","HORAS NOTURNAS - SOB DEMANDA",null,null,null,null,{"$f":"Not.Demanda!G67","v":7764.799462713102}]
[null,null,"MAT SOB DEMANDA","MATERIAIS NÃO RELACIONADOS DIRETAMENTE A UM POSTO DE TRABALHO - AQUISIÇÃO SOB DEMANDA",null,null,null,null,{"$f":"'HE - Demanda'!L61","v":0}]
[null,null,"SERV SOB DEMANDA","SERVIÇOS NÃO RELACIONADOS DIRETAMENTE A UM POSTO DE TRABALHO - AQUISIÇÃO SOB DEMANDA",null,null,null,null,{"$f":"'HE - Demanda'!L62","v":0}]
[]
[]
[null,null,null,"TOTAL MENSAL - ITENS SOB DEMANDA",null,null,null,null,{"$f":"SUM(I66:I73)","v":8397.7694627131023}]
[]
[null,null,null,"TOTAL MENSAL"]
[null,null,null,"DESCRIÇÃO",null,null,null,"VALOR"]
[null,null,null,"FATURA MENSAL ORDINÁRIA - DETEC",null,null,null,{"$f":"I55","v":1505175.4356149998}]
[]
[]
[null,null,null,"ESTIMATIVA MENSAL - ITENS SOB DEMANDA",null,null,null,{"$f":"I74","v":8397.7694627131023}]
[]
[null,null,null,null,null,null,"TOTAL MENSAL DA CONTRATAÇÃO",{"$f":"SUM(H78:H82)","v":1513573.2050777129}]
[null,null,null,null,null,null,null,null,null,null,"ANUAL",{"$f":"H83*12","v":18162878.460932553}]
[null,null,null,"TOTAL GLOBAL DA CONTRATAÇÃO - 30 MESES"]
[]
[null,null,null,null,null,null,"30 x TOTAL MENSAL",{"$f":"ROUND(H83*30,2)","v":45407196.149999999}]
[]
[null,null,null,"TOTAL MENSAL - ITENS SOB DEMANDA"]
[null,null,null,"DESCRIÇÃO",null,null,null,"VALOR"]
[null,null,null,"Materiais não relacionados diretamente a um posto de trabalho - AQUISIÇÃO SOB DEMANDA",null,null,null,{"$f":"I70","v":0}]
[null,null,null,"Equipamentos não relacionados diretamente a um posto de trabalho - AQUISIÇÃO SOB DEMANDA",null,null,null,{"$f":"I71","v":0}]
[]
[null,null,null,null,null,null,"TOTAL MENSAL DA CONTRATAÇÃO",{"$f":"SUM(H91:H93)","v":0}]
[]
[null,null,null,"TOTAL ANUAL - ITENS SOB DEMANDA"]
[]
[null,null,null,null,null,null,"12 x TOTAL MENSAL",{"$f":"H94*12","v":0}]
[]
[null,null,null,"TOTAL ANUAL GLOBAL DA CONTRATAÇÃO"]
[]
[null,null,null,null,null,null,null,{"$f":"H98+H87","v":45407196.149999999}]

{"sheet":"HE - Demanda","index":20,"n_rows":75,"n_cols":14,"rows_kept":75,"cut":false,"hidden":true,"merged":[[68,3,68,8],[72,3,72,8],[0,1,0,13],[3,1,3,13],[27,1,27,13],[51,3,51,12],[59,11,59,12],[58,11,58,12],[52,11,52,12],[53,11,53,12],[54,11,54,12],[61,3,61,8]]}
[null,"HORAS EXTRAS SOB DEMANDA"]
[]
[]
[null,"SERVIÇO EXTRAORDINÁRIO REALIZADO NOS SÁBADOS - ADICIONAL 50% - MÉDIAS HISTÓRICAS"]
[]
[]
[null,null,"ITEM","POSTO DE TRABALHO","REMUNERAÇÃO","CUSTO DA HORA+50%","HORAS/DIA","REMUNERAÇÃO/DIA","VA + VT (DIA)","ENCARGOS SOCIAIS HE","CUSTO/ SÁBADO","POSTOS/SÁBADO","SEMANAS/MÊS","TOTAL MENSAL"]
[null,null,1,{"$f":"HLOOKUP(C8,'Dados Gerais'!$D$6:$BI$11,6)","v":"SUPERVISOR TÉCNICO OPERACIONAL"},{"$f":"'1'!F16","v":15828.37},{"$f":"1.5*E8/220","v":107.92070454545454},9,{"$f":"F8*G8","v":971.28634090909088},37.99,{"$f":"'Encargos Sociais HE'!E47","v":0.63619999999999999},{"$f":"(H8+I8)*(1+J8)","v":1651.3779489954545},null,{"$f":"52/12","v":4.333333333333333},{"$f":"K8*L8*M8","v":0}]
[null,null,2,{"$f":"HLOOKUP(C9,'Dados Gerais'!$D$6:$BI$11,6)","v":"SUPERVISOR TÉCNICO"},{"$f":"#REF!","v":{"$error":"#REF!"}},{"$f":"1.5*E9/220","v":{"$error":"#REF!"}},{"$f":"G8","v":9},{"$error":"#REF!"},{"$f":"I8","v":37.99},{"$f":"J8","v":0.63619999999999999},{"$f":"(H9+I9)*(1+J9)","v":{"$error":"#REF!"}},null,4.333333333333333,{"$f":"K9*L9*M9","v":{"$error":"#REF!"}}]
[null,null,3,{"$f":"HLOOKUP(C10,'Dados Gerais'!$D$6:$BI$11,6)","v":"SUPERVISOR TÉCNICO \n(CENTRO DE TRANSMISSÃO)"},{"$f":"#REF!","v":{"$error":"#REF!"}},{"$error":"#REF!"},9,{"$error":"#REF!"},{"$f":"I9","v":37.99},{"$f":"J9","v":0.63619999999999999},{"$error":"#REF!"},null,4.333333333333333,{"$error":"#REF!"}]
[null,null,4,{"$f":"HLOOKUP(C11,'Dados Gerais'!$D$6:$BI$11,6)","v":"SUPERVISOR DE OPERAÇÕES"},{"$f":"#REF!","v":{"$error":"#REF!"}},{"$error":"#REF!"},9,{"$error":"#REF!"},37.99,0.63619999999999999,{"$error":"#REF!"},null,4.333333333333333,{"$error":"#REF!"}]
[null,null,5,{"$f":"HLOOKUP(C12,'Dados Gerais'!$D$6:$BI$11,6)","v":" DIRETOR DE IMAGENS – 30H"},{"$f":"#REF!","v":{"$error":"#REF!"}},{"$error":"#REF!"},9,{"$error":"#REF!"},37.99,0.63619999999999999,{"$error":"#REF!"},null,4.333333333333333,{"$error":"#REF!"}]
[null,null,6,{"$f":"HLOOKUP(C13,'Dados Gerais'!$D$6:$BI$11,6)","v":" DIRETOR DE IMAGENS – 18H"},{"$f":"#REF!","v":{"$error":"#REF!"}},{"$error":"#REF!"},9,{"$error":"#REF!"},37.99,0.63619999999999999,{"$error":"#REF!"},null,4.333333333333333,{"$error":"#REF!"}]
[null,null,7,{"$f":"HLOOKUP(C14,'Dados Gerais'!$D$6:$BI$11,6)","v":"TÉCNICO DE SISTEMAS AUDIOVISUAIS – especialidade Sistemas e Vídeo \n36H"},{"$f":"#REF!","v":{"$error":"#REF!"}},{"$error":"#REF!"},9,{"$error":"#REF!"},37.99,0.63619999999999999,{"$error":"#REF!"},null,4.333333333333333,{"$error":"#REF!"}]
[null,null,8,{"$f":"HLOOKUP(C15,'Dados Gerais'!$D$6:$BI$11,6)","v":"OPERADOR DE MÍDIA AUDIOVISUAL – 30H"},{"$f":"#REF!","v":{"$error":"#REF!"}},{"$error":"#REF!"},9,{"$error":"#REF!"},37.99,0.63619999999999999,{"$error":"#REF!"},null,4.333333333333333,{"$error":"#REF!"}]
[null,null,9,{"$f":"HLOOKUP(C16,'Dados Gerais'!$D$6:$BI$11,6)","v":"OPERADOR DE MÍDIA AUDIOVISUAL – 18H"},{"$f":"#REF!","v":{"$error":"#REF!"}},{"$error":"#REF!"},9,{"$error":"#REF!"},37.99,0.63619999999999999,{"$error":"#REF!"},null,4.333333333333333,{"$error":"#REF!"}]
[null,null,10,{"$f":"HLOOKUP(C17,'Dados Gerais'!$D$6:$BI$11,6)","v":"OPERADOR DE TRANSMISSOR – Rádio e TV - 24H"},{"$f":"#REF!","v":{"$error":"#REF!"}},{"$error":"#REF!"},9,{"$error":"#REF!"},37.99,0.63619999999999999,{"$error":"#REF!"},null,4.333333333333333,{"$error":"#REF!"}]
[null,null,11,{"$f":"HLOOKUP(C18,'Dados Gerais'!$D$6:$BI$11,6)","v":0},{"$f":"'11'!F$16","v":0},0,9,0,37.99,0.63619999999999999,62.159238000000009,null,4.333333333333333,0]
[null,null,12,{"$f":"HLOOKUP(C19,'Dados Gerais'!$D$6:$BI$11,6)","v":0},{"$f":"'12'!F$16","v":0},0,9,0,37.99,0.63619999999999999,62.159238000000009,null,4.333333333333333,0]
[null,null,13,{"$f":"HLOOKUP(C20,'Dados Gerais'!$D$6:$BI$11,6)","v":0},{"$f":"'13'!F$16","v":0},0,9,0,37.99,0.63619999999999999,62.159238000000009,null,4.333333333333333,0]
[null,null,14,{"$f":"HLOOKUP(C21,'Dados Gerais'!$D$6:$BI$11,6)","v":0},{"$f":"'14'!F$16","v":0},0,9,0,37.99,0.63619999999999999,62.159238000000009,null,4.333333333333333,0]
[null,null,15,{"$f":"HLOOKUP(C22,'Dados Gerais'!$D$6:$BI$11,6)","v":0},{"$f":"'15'!F$16","v":0},0,9,0,37.99,0.63619999999999999,62.159238000000009,null,4.333333333333333,0]
[]
[null,null,null,"TOTAL MENSAL",null,null,null,null,null,null,null,null,null,{"$f":"SUM(N8:N23)","v":{"$error":"#REF!"}}]
[]
[]
[]
[null,"SERVIÇO EXTRAORDINÁRIO REALIZADO NOS DOMINGOS - ADICIONAL 100% - MÉDIAS HISTÓRICAS"]
[]
[]
[null,null,"ITEM","POSTO DE TRABALHO","REMUNERAÇÃO","CUSTO DA HORA+100%","HORAS/DIA","REMUNERAÇÃO/DIA","VA + VT (DIA)","ENCARGOS SOCIAIS HE","CUSTO/ DOMINGO","POSTOS/DOMINGO","SEMANAS/MÊS","TOTAL MENSAL"]
[null,null,1,{"$f":"HLOOKUP(C32,'Dados Gerais'!$D$6:$BI$11,6)","v":"SUPERVISOR TÉCNICO OPERACIONAL"},{"$f":"E8","v":15828.37},{"$f":"2*E32/220","v":143.89427272727272},9,{"$f":"F32*G32","v":1295.0484545454544},{"$f":"I8","v":37.99},{"$f":"J8","v":0.63619999999999999},{"$f":"(H32+I32)*(1+J32)","v":2181.1175193272725},null,{"$f":"52/12","v":4.333333333333333},{"$f":"K32*L32*M32","v":0}]
[null,null,2,{"$f":"HLOOKUP(C33,'Dados Gerais'!$D$6:$BI$11,6)","v":"SUPERVISOR TÉCNICO"},{"$error":"#REF!"},{"$f":"2*E33/220","v":{"$error":"#REF!"}},{"$f":"G32","v":9},{"$error":"#REF!"},{"$f":"I32","v":37.99},{"$f":"J32","v":0.63619999999999999},{"$f":"(H33+I33)*(1+J33)","v":{"$error":"#REF!"}},null,4.333333333333333,{"$error":"#REF!"}]
[null,null,3,{"$f":"HLOOKUP(C34,'Dados Gerais'!$D$6:$BI$11,6)","v":"SUPERVISOR TÉCNICO \n(CENTRO DE TRANSMISSÃO)"},{"$error":"#REF!"},{"$error":"#REF!"},9,{"$error":"#REF!"},{"$f":"I33","v":37.99},{"$f":"J33","v":0.63619999999999999},{"$error":"#REF!"},null,4.333333333333333,{"$error":"#REF!"}]
[null,null,4,{"$f":"HLOOKUP(C35,'Dados Gerais'!$D$6:$BI$11,6)","v":"SUPERVISOR DE OPERAÇÕES"},{"$error":"#REF!"},{"$error":"#REF!"},9,{"$error":"#REF!"},37.99,0.63619999999999999,{"$error":"#REF!"},null,4.333333333333333,{"$error":"#REF!"}]
[null,null,5,{"$f":"HLOOKUP(C36,'Dados Gerais'!$D$6:$BI$11,6)","v":" DIRETOR DE IMAGENS – 30H"},{"$error":"#REF!"},{"$error":"#REF!"},9,{"$error":"#REF!"},37.99,0.63619999999999999,{"$error":"#REF!"},null,4.333333333333333,{"$error":"#REF!"}]
[null,null,6,{"$f":"HLOOKUP(C37,'Dados Gerais'!$D$6:$BI$11,6)","v":" DIRETOR DE IMAGENS – 18H"},{"$error":"#REF!"},{"$error":"#REF!"},9,{"$error":"#REF!"},37.99,0.63619999999999999,{"$error":"#REF!"},null,4.333333333333333,{"$error":"#REF!"}]
[null,null,7,{"$f":"HLOOKUP(C38,'Dados Gerais'!$D$6:$BI$11,6)","v":"TÉCNICO DE SISTEMAS AUDIOVISUAIS – especialidade Sistemas e Vídeo \n36H"},{"$error":"#REF!"},{"$error":"#REF!"},9,{"$error":"#REF!"},37.99,0.63619999999999999,{"$error":"#REF!"},null,4.333333333333333,{"$error":"#REF!"}]
[null,null,8,{"$f":"HLOOKUP(C39,'Dados Gerais'!$D$6:$BI$11,6)","v":"OPERADOR DE MÍDIA AUDIOVISUAL – 30H"},{"$error":"#REF!"},{"$error":"#REF!"},9,{"$error":"#REF!"},37.99,0.63619999999999999,{"$error":"#REF!"},null,4.333333333333333,{"$error":"#REF!"}]
[null,null,9,{"$f":"HLOOKUP(C40,'Dados Gerais'!$D$6:$BI$11,6)","v":"OPERADOR DE MÍDIA AUDIOVISUAL – 18H"},{"$error":"#REF!"},{"$error":"#REF!"},9,{"$error":"#REF!"},37.99,0.63619999999999999,{"$error":"#REF!"},null,4.333333333333333,{"$error":"#REF!"}]
[null,null,10,{"$f":"HLOOKUP(C41,'Dados Gerais'!$D$6:$BI$11,6)","v":"OPERADOR DE TRANSMISSOR – Rádio e TV - 24H"},{"$error":"#REF!"},{"$error":"#REF!"},9,{"$error":"#REF!"},37.99,0.63619999999999999,{"$error":"#REF!"},null,4.333333333333333,{"$error":"#REF!"}]
[null,null,11,{"$f":"HLOOKUP(C42,'Dados Gerais'!$D$6:$BI$11,6)","v":0},0,0,9,0,37.99,0.63619999999999999,62.159238000000009,null,4.333333333333333,0]
[null,null,12,{"$f":"HLOOKUP(C43,'Dados Gerais'!$D$6:$BI$11,6)","v":0},0,0,9,0,37.99,0.63619999999999999,62.159238000000009,null,4.333333333333333,0]
[null,null,13,{"$f":"HLOOKUP(C44,'Dados Gerais'!$D$6:$BI$11,6)","v":0},0,0,9,0,37.99,0.63619999999999999,62.159238000000009,null,4.333333333333333,0]
[null,null,14,{"$f":"HLOOKUP(C45,'Dados Gerais'!$D$6:$BI$11,6)","v":0},0,0,9,0,37.99,0.63619999999999999,62.159238000000009,null,4.333333333333333,0]
[null,null,15,{"$f":"HLOOKUP(C46,'Dados Gerais'!$D$6:$BI$11,6)","v":0},0,0,9,0,37.99,0.63619999999999999,62.159238000000009,null,4.333333333333333,0]
[]
[null,null,null,"TOTAL MENSAL",null,null,null,null,null,null,null,null,null,{"$f":"SUM(N32:N47)","v":{"$error":"#REF!"}}]
[]
[]
[]
[null,null,null,"TOTAIS ANUAIS PARA SERVIÇO EXTRA"]
[null,null,null,"DESCRIÇÃO",null,null,null,"CUSTO MENSAL","BDI","VALOR MENSAL","MESES","VALOR MENSAL"]
[null,null,null,"Serviços Extraordinários executados aos SÁBADOS - Base no histórico do SEROB",null,null,null,{"$f":"N24","v":{"$error":"#REF!"}},{"$f":"'BDI - Geral'!E27","v":0.2165},{"$f":"H54*(1+I54)","v":{"$error":"#REF!"}},12,{"$f":"J54*K54","v":{"$error":"#REF!"}}]
[null,null,null,"Serviços Extraordinários executados aos DOMINGOS - Base no histórico do SEROB",null,null,null,{"$f":"N48","v":{"$error":"#REF!"}},{"$f":"I54","v":0.2165},{"$f":"H55*(1+I55)","v":{"$error":"#REF!"}},12,{"$f":"J55*K55","v":{"$error":"#REF!"}}]
[]
[]
[]
[null,null,null,null,null,null,null,null,null,"TOTAL ANUAL PARA SERVIÇOS EXTRAORDINÁRIOS - SOB DEMANDA",null,{"$f":"SUM(L54:M56)","v":{"$error":"#REF!"}}]
[null,null,null,null,null,null,null,null,null,"MÉDIA MENSAL PARA SERVIÇOS EXTRAORDINÁRIOS - SOB DEMANDA",null,{"$f":"L59/12","v":{"$error":"#REF!"}}]
[]
[null,null,null,"TOTAL MENSAL - ITENS SOB DEMANDA"]
[null,null,null,"DESCRIÇÃO",null,null,null,null,"VALOR"]
[null,null,null,"Materiais não relacionados diretamente a um posto de trabalho - AQUISIÇÃO SOB DEMANDA",null,null,null,null,{"$f":"#REF!","v":{"$error":"#REF!"}}]
[null,null,null,"Equipamentos não relacionados diretamente a um posto de trabalho - AQUISIÇÃO SOB DEMANDA",null,null,null,null,{"$f":"#REF!","v":{"$error":"#REF!"}}]
[]
[null,null,null,null,null,"TOTAL MENSAL DA CONTRATAÇÃO",null,null,{"$f":"SUM(I64:I66)","v":{"$error":"#REF!"}}]
[]
[null,null,null,"TOTAL ANUAL - ITENS SOB DEMANDA"]
[]
[null,null,null,null,null,"12 x TOTAL MENSAL",null,null,{"$f":"I67*12","v":{"$error":"#REF!"}}]
[]
[null,null,null,"TOTAL ANUAL GLOBAL DA CONTRATAÇÃO"]
[]
[null,null,null,null,null,null,null,null,{"$f":"I71+I60","v":{"$error":"#REF!"}}]

{"sheet":"Não Rel - Mat","index":21,"n_rows":1423,"n_cols":13,"rows_kept":1423,"cut":false,"hidden":true,"merged":[[2,1,2,4],[3,1,3,12]]}
[]
[]
[]
[null,"MATERIAIS NÃO RELACIONADOS DIRETAMENTE A UM POSTO DE TRABALHO - AQUISIÇÃO SOB DEMANDA"]
[]
[]
[null,null,"ITEM","CÓDIGO","DESCRIÇÃO","QUANT ANUAL","UNIDADE","CUSTO UNITÁRIO","CUSTO TOTAL","BDI (%)","PREÇO TOTAL","FONTE","REFERÊNCIA"]
[]
[null,null,null,null,null,null,null,null,{"$f":"H9*F9","v":0},{"$f":"'BDI materiais'!E27","v":0.105},{"$f":"ROUND(I9*(1+J9),2)","v":0},"Cotação"]
[null,null,null,null,null,null,null,null,0,{"$f":"J9","v":0.105},0,"Cotação"]
[null,null,null,null,null,null,null,null,0,0.105,0,"Cotação"]
[null,null,null,null,null,null,null,null,0,0.105,0,"Cotação"]
[null,null,null,null,null,null,null,null,0,0.105,0,"Cotação"]
[null,null,null,null,null,null,null,null,0,0.105,0,"Cotação"]
[null,null,null,null,null,null,null,null,0,0.105,0,"Cotação"]
[null,null,null,null,null,null,null,null,0,0.105,0,"Cotação"]
[null,null,null,null,null,null,null,null,0,0.105,0,"Cotação"]
[null,null,null,null,null,null,null,null,0,0.105,0,"Cotação"]
[null,null,null,null,null,null,null,null,0,0.105,0,"Cotação"]
[null,null,null,null,null,null,null,null,0,0.105,0,"Cotação"]
[null,null,null,null,null,null,null,null,0,0.105,0,"Cotação"]
[null,null,null,null,null,null,null,null,0,0.105,0,"Cotação"]
[null,null,null,null,null,null,null,null,0,0.105,0,"Cotação"]
[null,null,null,null,null,null,null,null,0,0.105,0,"Cotação"]
[null,null,null,null,null,null,null,null,0,0.105,0,"Cotação"]
[null,null,null,null,null,null,null,null,0,0.105,0,"Cotação"]
[null,null,null,null,null,null,null,null,0,0.105,0,"Cotação"]
[null,null,null,null,null,null,null,null,0,0.105,0,"Cotação"]
[null,null,null,null,null,null,null,null,0,0.105,0,"Cotação"]
[null,null,null,null,null,null,null,null,0,0.105,0,"Cotação"]
[null,null,null,null,null,null,null,null,0,0.105,0,"Cotação"]
[null,null,null,null,null,null,null,null,0,0.105,0,"Cotação"]
[null,null,null,null,null,null,null,null,0,0.105,0,"Cotação"]
[null,null,null,null,null,null,null,null,0,0.105,0,"Cotação"]
[null,null,null,null,null,null,null,null,0,0.105,0,"Cotação"]
[null,null,null,null,null,null,null,null,0,0.105,0,"Cotação"]
[null,null,null,null,null,null,null,null,0,0.105,0,"Cotação"]
[null,null,null,null,null,null,null,null,0,0.105,0,"Cotação"]
[null,null,null,null,null,null,null,null,0,0.105,0,"Cotação"]
[null,null,null,null,null,null,null,null,0,0.105,0,"Cotação"]
[null,null,null,null,null,null,null,null,0,0.105,0,"Cotação"]
[null,null,null,null,null,null,null,null,0,0.105,0,"Cotação"]
[null,null,null,null,null,null,null,null,0,0.105,0,"Cotação"]
[null,null,null,null,null,null,null,null,0,0.105,0,"Cotação"]
[null,null,null,null,null,null,null,null,0,0.105,0,"Cotação"]
[null,null,null,null,null,null,null,null,0,0.105,0,"Cotação"]
[null,null,null,null,null,null,null,null,0,0.105,0,"Cotação"]
[null,null,null,null,null,null,null,null,0,0.105,0,"Cotação"]
[null,null,null,null,null,null,null,null,0,0.105,0,"Cotação"]
[null,null,null,null,null,null,null,null,0,0.105,0,"Cotação"]
[null,null,null,null,null,null,null,null,0,0.105,0,"Cotação"]
[null,null,null,null,null,null,null,null,0,0.105,0,"SINAPI","5090"]
[null,null,null,null,null,null,null,null,0,0.105,0,"Cotação",""]
[null,null,null,null,null,null,null,null,0,0.105,0,"SINAPI","5085"]
[null,null,null,null,null,null,null,null,0,0.105,0,"Cotação",""]
[null,null,null,null,null,null,null,null,0,0.105,0,"Cotação",""]
[null,null,null,null,null,null,null,null,0,0.105,0,"Cotação",""]
[null,null,null,null,null,null,null,null,0,0.105,0,"Cotação",""]
[null,null,null,null,null,null,null,null,0,0.105,0,"Cotação",""]
[null,null,null,null,null,null,null,null,0,0.105,0,"Cotação",""]
[null,null,null,null,null,null,null,null,0,0.105,0,"SINAPI","11560"]
[null,null,null,null,null,null,null,null,0,0.105,0,"Cotação",""]
[null,null,null,null,null,null,null,null,0,0.105,0,"SINAPI","43059"]
[null,null,null,null,null,null,null,null,0,0.105,0,"SINAPI","34449"]
[null,null,null,null,null,null,null,null,0,0.105,0,"SINAPI","0033"]
[null,null,null,null,null,null,null,null,0,0.105,0,"SINAPI","0034"]
[null,null,null,null,null,null,null,null,0,0.105,0,"SINAPI","43055"]
[null,null,null,null,null,null,null,null,0,0.105,0,"SINAPI","43130"]
[null,null,null,null,null,null,null,null,0,0.105,0,"SINAPI","0344"]
[null,null,null,null,null,null,null,null,0,0.105,0,"SINAPI","0345"]
[null,null,null,null,null,null,null,null,0,0.105,0,"SINAPI","43132"]
[null,null,null,null,null,null,null,null,0,0.105,0,"SINAPI","0339"]
[null,null,null,null,null,null,null,null,{"$f":"H73*F73","v":0},0.105,{"$f":"ROUND(I73*(1+J73),2)","v":0},"SINAPI","0371"]
[null,null,null,null,null,null,null,null,0,{"$f":"J73","v":0.105},0,"SINAPI","1381"]
[null,null,null,null,null,null,null,null,0,0.105,0,"SINAPI","36886"]
[null,null,null,null,null,null,null,null,0,0.105,0,"SINAPI","0130"]
[null,null,null,null,null,null,null,null,0,0.105,0,"SINAPI","1106"]
[null,null,null,null,null,null,null,null,0,0.105,0,"SINAPI","0366"]
[null,null,null,null,null,null,null,null,0,0.105,0,"SINAPI","0370"]
[null,null,null,null,null,null,null,null,0,0.105,0,"SINAPI","0367"]
[null,null,null,null,null,null,null,null,0,0.105,0,"SINAPI","4720"]
[null,null,null,null,null,null,null,null,0,0.105,0,"SINAPI","4721"]
[null,null,null,null,null,null,null,null,0,0.105,0,"Cotação",""]
[null,null,null,null,null,null,null,null,0,0.105,0,"SINAPI","34549"]
[null,null,null,null,null,null,null,null,0,0.105,0,"Cotação",""]
[null,null,null,null,null,null,null,null,0,0.105,0,"Cotação",""]
[null,null,null,null,null,null,null,null,0,0.105,0,"SINAPI","7258"]
[null,null,null,null,null,null,null,null,0,0.105,0,"Cotação",""]
[null,null,null,null,null,null,null,null,0,0.105,0,"SINAPI","0674"]
[null,null,null,null,null,null,null,null,0,0.105,0,"SINAPI","0157"]
[null,null,null,null,null,null,null,null,0,0.105,0,"SINAPI","0156"]
[null,null,null,null,null,null,null,null,0,0.105,0,"SINAPI","0131"]
[null,null,null,null,null,null,null,null,0,0.105,0,"Cotação",""]
[null,null,null,null,null,null,null,null,0,0.105,0,"SINAPI","0134"]
[null,null,null,null,null,null,null,null,0,0.105,0,"Cotação",""]
[null,null,null,null,null,null,null,null,0,0.105,0,"SINAPI","6094"]
[null,null,null,null,null,null,null,null,0,0.105,0,"SINAPI",7334]
[null,null,null,null,null,null,null,null,0,0.105,0,"Cotação",""]
[null,null,null,null,null,null,null,null,0,0.105,0,"Cotação",""]
[null,null,null,null,null,null,null,null,0,0.105,0,"Cotação",""]
[null,null,null,null,null,null,null,null,0,0.105,0,"Cotação",""]
[null,null,null,null,null,null,null,null,0,0.105,0,"SINAPI","38124"]
[null,null,null,null,null,null,null,null,0,0.105,0,"SINAPI","10511"]
[null,null,null,null,null,null,null,null,0,0.105,0,"SINAPI","14152"]
[null,null,null,null,null,null,null,null,0,0.105,0,"SINAPI","7207"]
[null,null,null,null,null,null,null,null,0,0.105,0,"SINAPI","37411"]
[null,null,null,null,null,null,null,null,0,0.105,0,"Cotação",""]
[null,null,null,null,null,null,null,null,0,0.105,0,"SINAPI","7170"]
[null,null,null,null,null,null,null,null,0,0.105,0,"SINAPI","37524"]
[null,null,null,null,null,null,null,null,0,0.105,0,"SINAPI","7158"]
[null,null,null,null,null,null,null,null,0,0.105,0,"SINAPI","10927"]
[null,null,null,null,null,null,null,null,0,0.105,0,"SINAPI","10935"]
[null,null,null,null,null,null,null,null,0,0.105,0,"Cotação",""]
[null,null,null,null,null,null,null,null,0,0.105,0,"Cotação",""]
[null,null,null,null,null,null,null,null,0,0.105,0,"Cotação",""]
[null,null,null,null,null,null,null,null,0,0.105,0,"Cotação",""]
[null,null,null,null,null,null,null,null,0,0.105,0,"Cotação",""]
[null,null,null,null,null,null,null,null,0,0.105,0,"Cotação",""]
[null,null,null,null,null,null,null,null,0,0.105,0,"Cotação",""]
[null,null,null,null,null,null,null,null,0,0.105,0,"Cotação",""]
[null,null,null,null,null,null,null,null,0,0.105,0,"Cotação",""]
[null,null,null,null,null,null,null,null,0,0.105,0,"Cotação",""]
[null,null,null,null,null,null,null,null,0,0.105,0,"Cotação",""]
[null,null,null,null,null,null,null,null,0,0.105,0,"Cotação",""]
[null,null,null,null,null,null,null,null,0,0.105,0,"Cotação",""]
[null,null,null,null,null,null,null,null,0,0.105,0,"SINAPI",36178]
[null,null,null,null,null,null,null,null,0,0.105,0,"SINAPI",36178]
[null,null,null,null,null,null,null,null,0,0.105,0,"SINAPI","36178"]
[null,null,null,null,null,null,null,null,0,0.105,0,"SINAPI",36178]
[null,null,null,null,null,null,null,null,0,0.105,0,"SINAPI",36178]
[null,null,null,null,null,null,null,null,0,0.105,0,"SINAPI","36178"]
[null,null,null,null,null,null,null,null,0,0.105,0,"SINAPI","36170"]
[null,null,null,null,null,null,null,null,0,0.105,0,"SINAPI","4741"]
[null,null,null,null,null,null,null,null,0,0.105,0,"SINAPI","41903"]
[null,null,null,null,null,null,null,null,0,0.105,0,"Cotação",""]
[null,null,null,null,null,null,null,null,0,0.105,0,"SINAPI","36150"]
[null,null,null,null,null,null,null,null,{"$f":"H137*F137","v":0},0.105,{"$f":"ROUND(I137*(1+J137),2)","v":0},"Cotação",""]
[null,null,null,null,null,null,null,null,0,{"$f":"J137","v":0.105},0,"Cotação",""]
[null,null,null,null,null,null,null,null,0,0.105,0,"SINAPI","42015"]
[null,null,null,null,null,null,null,null,0,0.105,0,"Cotação",""]
[null,null,null,null,null,null,null,null,0,0.105,0,"Cotação",""]
[null,null,null,null,null,null,null,null,0,0.105,0,"Cotação",""]
[null,null,null,null,null,null,null,null,0,0.105,0,"Cotação",""]
[null,null,null,null,null,null,null,null,0,0.105,0,"Cotação",""]
[null,null,null,null,null,null,null,null,0,0.105,0,"Cotação",""]
[null,null,null,null,null,null,null,null,0,0.105,0,"SINAPI",12893]
[null,null,null,null,null,null,null,null,0,0.105,0,"Cotação",""]
[null,null,null,null,null,null,null,null,0,0.105,0,"Cotação",""]
[null,null,null,null,null,null,null,null,0,0.105,0,"Cotação",""]
[null,null,null,null,null,null,null,null,0,0.105,0,"Cotação",""]
[null,null,null,null,null,null,null,null,0,0.105,0,"Cotação",""]
[null,null,null,null,null,null,null,null,0,0.105,0,"Cotação",""]
[null,null,null,null,null,null,null,null,0,0.105,0,"Cotação",""]
[null,null,null,null,null,null,null,null,0,0.105,0,"Cotação",""]
[null,null,null,null,null,null,null,null,0,0.105,0,"Cotação",""]
[null,null,null,null,null,null,null,null,0,0.105,0,"Cotação",""]
[null,null,null,null,null,null,null,null,0,0.105,0,"Cotação",""]
[null,null,null,null,null,null,null,null,0,0.105,0,"Cotação",""]
[null,null,null,null,null,null,null,null,0,0.105,0,"Cotação",""]
[null,null,null,null,null,null,null,null,0,0.105,0,"Cotação",""]
[null,null,null,null,null,null,null,null,0,0.105,0,"Cotação",""]
[null,null,null,null,null,null,null,null,0,0.105,0,"Cotação",""]
[null,null,null,null,null,null,null,null,0,0.105,0,"Cotação",""]
[null,null,null,null,null,null,null,null,0,0.105,0,"Cotação",""]
[null,null,null,null,null,null,null,null,0,0.105,0,"Cotação",""]
[null,null,null,null,null,null,null,null,0,0.105,0,"Cotação",""]
[null,null,null,null,null,null,null,null,0,0.105,0,"Cotação",""]
[null,null,null,null,null,null,null,null,0,0.105,0,"Cotação",""]
[null,null,null,null,null,null,null,null,0,0.105,0,"Cotação",""]
[null,null,null,null,null,null,null,null,0,0.105,0,"Cotação",""]
[null,null,null,null,null,null,null,null,0,0.105,0,"Cotação",""]
[null,null,null,null,null,null,null,null,0,0.105,0,"Cotação",""]
[null,null,null,null,null,null,null,null,0,0.105,0,"Cotação"]
[null,null,null,null,null,null,null,null,0,0.105,0,"Cotação",""]
[null,null,null,null,null,null,null,null,0,0.105,0,"Cotação",""]
[null,null,null,null,null,null,null,null,0,0.105,0,"SINAPI","36142"]
[null,null,null,null,null,null,null,null,0,0.105,0,"SINAPI","36143"]
[null,null,null,null,null,null,null,null,0,0.105,0,"Cotação",""]
[null,null,null,null,null,null,null,null,0,0.105,0,"SINAPI","36146"]
[null,null,null,null,null,null,null,null,0,0.105,0,"Cotação",""]
[null,null,null,null,null,null,null,null,0,0.105,0,"Cotação",""]
[null,null,null,null,null,null,null,null,0,0.105,0,"Cotação",""]
[null,null,null,null,null,null,null,null,0,0.105,0,"Cotação",""]
[null,null,null,null,null,null,null,null,0,0.105,0,"Cotação",""]
[null,null,null,null,null,null,null,null,0,0.105,0,"Cotação",""]
[null,null,null,null,null,null,null,null,0,0.105,0,"Cotação",""]
[null,null,null,null,null,null,null,null,0,0.105,0,"Cotação",""]
[null,null,null,null,null,null,null,null,0,0.105,0,"Cotação",""]
[null,null,null,null,null,null,null,null,0,0.105,0,"Cotação",""]
[null,null,null,null,null,null,null,null,0,0.105,0,"Cotação",""]
[null,null,null,null,null,null,null,null,0,0.105,0,"Cotação",""]
[null,null,null,null,null,null,null,null,0,0.105,0,"Cotação",""]
[null,null,null,null,null,null,null,null,0,0.105,0,"Cotação",""]
[null,null,null,null,null,null,null,null,0,0.105,0,"Cotação",""]
[null,null,null,null,null,null,null,null,0,0.105,0,"Cotação",""]
[null,null,null,null,null,null,null,null,0,0.105,0,"Cotação",""]
[null,null,null,null,null,null,null,null,0,0.105,0,"Cotação",""]
[null,null,null,null,null,null,null,null,0,0.105,0,"Cotação",""]
[null,null,null,null,null,null,null,null,0,0.105,0,"Cotação",""]
[null,null,null,null,null,null,null,null,0,0.105,0,"Cotação",""]
[null,null,null,null,null,null,null,null,{"$f":"H201*F201","v":0},0.105,{"$f":"ROUND(I201*(1+J201),2)","v":0},"Cotação",""]
[null,null,null,null,null,null,null,null,0,{"$f":"J201","v":0.105},0,"Cotação",""]
[null,null,null,null,null,null,null,null,0,0.105,0,"Cotação",""]
[null,null,null,null,null,null,null,null,0,0.105,0,"Cotação",""]
[null,null,null,null,null,null,null,null,0,0.105,0,"Cotação",""]
[null,null,null,null,null,null,null,null,0,0.105,0,"Cotação",""]
[null,null,null,null,null,null,null,null,0,0.105,0,"Cotação",""]
[null,null,null,null,null,null,null,null,0,0.105,0,"Cotação",""]
[null,null,null,null,null,null,null,null,0,0.105,0,"Cotação",""]
[null,null,null,null,null,null,null,null,0,0.105,0,"Cotação",""]
[null,null,null,null,null,null,null,null,0,0.105,0,"Cotação",""]
[null,null,null,null,null,null,null,null,0,0.105,0,"Cotação",""]
[null,null,null,null,null,null,null,null,0,0.105,0,"Cotação",""]
[null,null,null,null,null,null,null,null,0,0.105,0,"Cotação",""]
[null,null,null,null,null,null,null,null,0,0.105,0,"Cotação",""]
[null,null,null,null,null,null,null,null,0,0.105,0,"Cotação",""]
[null,null,null,null,null,null,null,null,0,0.105,0,"Cotação",""]
[null,null,null,null,null,null,null,null,0,0.105,0,"Cotação",""]
[null,null,null,null,null,null,null,null,0,0.105,0,"Cotação",""]
[null,null,null,null,null,null,null,null,0,0.105,0,"Cotação",""]
[null,null,null,null,null,null,null,null,0,0.105,0,"Cotação",""]
[null,null,null,null,null,null,null,null,0,0.105,0,"Cotação",""]
[null,null,null,null,null,null,null,null,0,0.105,0,"Cotação",""]
[null,null,null,null,null,null,null,null,0,0.105,0,"Cotação",""]
[null,null,null,null,null,null,null,null,0,0.105,0,"Cotação",""]
[null,null,null,null,null,null,null,null,0,0.105,0,"Cotação",""]
[null,null,null,null,null,null,null,null,0,0.105,0,"Cotação",""]
[null,null,null,null,null,null,null,null,0,0.105,0,"Cotação",""]
[null,null,null,null,null,null,null,null,0,0.105,0,"Cotação",""]
[null,null,null,null,null,null,null,null,0,0.105,0,"Cotação",""]
[null,null,null,null,null,null,null,null,0,0.105,0,"Cotação",""]
[null,null,null,null,null,null,null,null,0,0.105,0,"Cotação",""]
[null,null,null,null,null,null,null,null,0,0.105,0,"Cotação",""]
[null,null,null,null,null,null,null,null,0,0.105,0,"Cotação",""]
[null,null,null,null,null,null,null,null,0,0.105,0,"Cotação",""]
[null,null,null,null,null,null,null,null,0,0.105,0,"Cotação",""]
[null,null,null,null,null,null,null,null,0,0.105,0,"Cotação",""]
[null,null,null,null,null,null,null,null,0,0.105,0,"Cotação",""]
[null,null,null,null,null,null,null,null,0,0.105,0,"Cotação",""]
[null,null,null,null,null,null,null,null,0,0.105,0,"Cotação",""]
[null,null,null,null,null,null,null,null,0,0.105,0,"Cotação",""]
[null,null,null,null,null,null,null,null,0,0.105,0,"Cotação",""]
[null,null,null,null,null,null,null,null,0,0.105,0,"Cotação",""]
[null,null,null,null,null,null,null,null,0,0.105,0,"Cotação",""]
[null,null,null,null,null,null,null,null,0,0.105,0,"Cotação",""]
[null,null,null,null,null,null,null,null,0,0.105,0,"Cotação",""]
[null,null,null,null,null,null,null,null,0,0.105,0,"Cotação",""]
[null,null,null,null,null,null,null,null,0,0.105,0,"Cotação",""]
[null,null,null,null,null,null,null,null,0,0.105,0,"Cotação",""]
[null,null,null,null,null,null,null,null,0,0.105,0,"Cotação",""]
[null,null,null,null,null,null,null,null,0,0.105,0,"Cotação",""]
[null,null,null,null,null,null,null,null,0,0.105,0,"Cotação",""]
[null,null,null,null,null,null,null,null,0,0.105,0,"Cotação",""]
[null,null,null,null,null,null,null,null,0,0.105,0,"Cotação",""]
[null,null,null,null,null,null,null,null,0,0.105,0,"Cotação",""]
[null,null,null,null,null,null,null,null,0,0.105,0,"Cotação",""]
[null,null,null,null,null,null,null,null,0,0.105,0,"Cotação",""]
[null,null,null,null,null,null,null,null,0,0.105,0,"Cotação",""]
[null,null,null,null,null,null,null,null,0,0.105,0,"Cotação",""]
[null,null,null,null,null,null,null,null,0,0.105,0,"Cotação",""]
[null,null,null,null,null,null,null,null,0,0.105,0,"Cotação",""]
[null,null,null,null,null,null,null,null,0,0.105,0,"Cotação",""]
[null,null,null,null,null,null,null,null,0,0.105,0,"Cotação",""]
[null,null,null,null,null,null,null,null,0,0.105,0,"Cotação",""]
[null,null,null,null,null,null,null,null,{"$f":"H265*F265","v":0},0.105,{"$f":"ROUND(I265*(1+J265),2)","v":0},"Cotação",""]
[null,null,null,null,null,null,null,null,0,{"$f":"J265","v":0.105},0,"Cotação",""]
[null,null,null,null,null,null,null,null,0,0.105,0,"Cotação",""]
[null,null,null,null,null,null,null,null,0,0.105,0,"Cotação",""]
[null,null,null,null,null,null,null,null,0,0.105,0,"Cotação",""]
[null,null,null,null,null,null,null,null,0,0.105,0,"Cotação",""]
[null,null,null,null,null,null,null,null,0,0.105,0,"Cotação",""]
[null,null,null,null,null,null,null,null,0,0.105,0,"Cotação",""]
[null,null,null,null,null,null,null,null,0,0.105,0,"Cotação",""]
[null,null,null,null,null,null,null,null,0,0.105,0,"Cotação",""]
[null,null,null,null,null,null,null,null,0,0.105,0,"Cotação",""]
[null,null,null,null,null,null,null,null,0,0.105,0,"Cotação",""]
[null,null,null,null,null,null,null,null,0,0.105,0,"Cotação",""]
[null,null,null,null,null,null,null,null,0,0.105,0,"Cotação",""]
[null,null,null,null,null,null,null,null,0,0.105,0,"Cotação",""]
[null,null,null,null,null,null,null,null,0,0.105,0,"Cotação",""]
[null,null,null,null,null,null,null,null,0,0.105,0,"Cotação",""]
[null,null,null,null,null,null,null,null,0,0.105,0,"Cotação",""]
[null,null,null,null,null,null,null,null,0,0.105,0,"Cotação",""]
[null,null,null,null,null,null,null,null,0,0.105,0,"Cotação",""]
[null,null,null,null,null,null,null,null,0,0.105,0,"Cotação",""]
[null,null,null,null,null,null,null,null,0,0.105,0,"Cotação",""]
[null,null,null,null,null,null,null,null,0,0.105,0,"Cotação",""]
[null,null,null,null,null,null,null,null,0,0.105,0,"Cotação",""]
[null,null,null,null,null,null,null,null,0,0.105,0,"Cotação",""]
[null,null,null,null,null,null,null,null,0,0.105,0,"Cotação",""]
[null,null,null,null,null,null,null,null,0,0.105,0,"Cotação",""]
[null,null,null,null,null,null,null,null,0,0.105,0,"Cotação",""]
[null,null,null,null,null,null,null,null,0,0.105,0,"Cotação",""]
[null,null,null,null,null,null,null,null,0,0.105,0,"Cotação",""]
[null,null,null,null,null,null,null,null,0,0.105,0,"Cotação",""]
[null,null,null,null,null,null,null,null,0,0.105,0,"Cotação",""]
[null,null,null,null,null,null,null,null,0,0.105,0,"Cotação",""]
[null,null,null,null,null,null,null,null,0,0.105,0,"Cotação",""]
[null,null,null,null,null,null,null,null,0,0.105,0,"Cotação",""]
[null,null,null,null,null,null,null,null,0,0.105,0,"Cotação",""]
[null,null,null,null,null,null,null,null,0,0.105,0,"Cotação",""]
[null,null,null,null,null,null,null,null,0,0.105,0,"Cotação",""]
[null,null,null,null,null,null,null,null,0,0.105,0,"Cotação",""]
[null,null,null,null,null,null,null,null,0,0.105,0,"Cotação",""]
[null,null,null,null,null,null,null,null,0,0.105,0,"Cotação",""]
[null,null,null,null,null,null,null,null,0,0.105,0,"Cotação",""]
[null,null,null,null,null,null,null,null,0,0.105,0,"Cotação",""]
[null,null,null,null,null,null,null,null,0,0.105,0,"Cotação",""]
[null,null,null,null,null,null,null,null,0,0.105,0,"Cotação",""]
[null,null,null,null,null,null,null,null,0,0.105,0,"Cotação",""]
[null,null,null,null,null,null,null,null,0,0.105,0,"Cotação",""]
[null,null,null,null,null,null,null,null,0,0.105,0,"Cotação",""]
[null,null,null,null,null,null,null,null,0,0.105,0,"Cotação",""]
[null,null,null,null,null,null,null,null,0,0.105,0,"Cotação",""]
[null,null,null,null,null,null,null,null,0,0.105,0,"Cotação",""]
[null,null,null,null,null,null,null,null,0,0.105,0,"Cotação",""]
[null,null,null,null,null,null,null,null,0,0.105,0,"Cotação",""]
[null,null,null,null,null,null,null,null,0,0.105,0,"Cotação",""]
[null,null,null,null,null,null,null,null,0,0.105,0,"Cotação",""]
[null,null,null,null,null,null,null,null,0,0.105,0,"Cotação",""]
[null,null,null,null,null,null,null,null,0,0.105,0,"Cotação",""]
[null,null,null,null,null,null,null,null,0,0.105,0,"Cotação",""]
[null,null,null,null,null,null,null,null,0,0.105,0,"Cotação",""]
[null,null,null,null,null,null,null,null,0,0.105,0,"Cotação",""]
[null,null,null,null,null,null,null,null,0,0.105,0,"Cotação",""]
[null,null,null,null,null,null,null,null,0,0.105,0,"Cotação",""]
[null,null,null,null,null,null,null,null,0,0.105,0,"Cotação",""]
[null,null,null,null,null,null,null,null,0,0.105,0,"Cotação",""]
[null,null,null,null,null,null,null,null,{"$f":"H329*F329","v":0},0.105,{"$f":"ROUND(I329*(1+J329),2)","v":0},"Cotação",""]
[null,null,null,null,null,null,null,null,0,{"$f":"J329","v":0.105},0,"Cotação",""]
[null,null,null,null,null,null,null,null,0,0.105,0,"Cotação",""]
[null,null,null,null,null,null,null,null,0,0.105,0,"Cotação",""]
[null,null,null,null,null,null,null,null,0,0.105,0,"Cotação",""]
[null,null,null,null,null,null,null,null,0,0.105,0,"Cotação",""]
[null,null,null,null,null,null,null,null,0,0.105,0,"Cotação",""]
[null,null,null,null,null,null,null,null,0,0.105,0,"Cotação",""]
[null,null,null,null,null,null,null,null,0,0.105,0,"Cotação",""]
[null,null,null,null,null,null,null,null,0,0.105,0,"Cotação",""]
[null,null,null,null,null,null,null,null,0,0.105,0,"SINAPI","38384"]
[null,null,null,null,null,null,null,null,0,0.105,0,"Cotação",""]
[null,null,null,null,null,null,null,null,0,0.105,0,"Cotação",""]
[null,null,null,null,null,null,null,null,0,0.105,0,"Cotação",""]
[null,null,null,null,null,null,null,null,0,0.105,0,"Cotação",""]
[null,null,null,null,null,null,null,null,0,0.105,0,"Cotação",""]
[null,null,null,null,null,null,null,null,0,0.105,0,"Cotação",""]
[null,null,null,null,null,null,null,null,0,0.105,0,"Cotação",""]
[null,null,null,null,null,null,null,null,0,0.105,0,"Cotação",""]
[null,null,null,null,null,null,null,null,0,0.105,0,"Cotação",""]
[null,null,null,null,null,null,null,null,0,0.105,0,"Cotação",""]
[null,null,null,null,null,null,null,null,0,0.105,0,"Cotação",""]
[null,null,null,null,null,null,null,null,0,0.105,0,"Cotação",""]
[null,null,null,null,null,null,null,null,0,0.105,0,"Cotação",""]
[null,null,null,null,null,null,null,null,0,0.105,0,"Cotação",""]
[null,null,null,null,null,null,null,null,0,0.105,0,"Cotação",""]
[null,null,null,null,null,null,null,null,0,0.105,0,"Cotação",""]
[null,null,null,null,null,null,null,null,0,0.105,0,"Cotação",""]
[null,null,null,null,null,null,null,null,0,0.105,0,"Cotação",""]
[null,null,null,null,null,null,null,null,0,0.105,0,"Cotação",""]
[null,null,null,null,null,null,null,null,0,0.105,0,"Cotação",""]
[null,null,null,null,null,null,null,null,0,0.105,0,"Cotação",""]
[null,null,null,null,null,null,null,null,0,0.105,0,"Cotação",""]
[null,null,null,null,null,null,null,null,0,0.105,0,"Cotação",""]
[null,null,null,null,null,null,null,null,0,0.105,0,"Cotação",""]
[null,null,null,null,null,null,null,null,0,0.105,0,"Cotação",""]
[null,null,null,null,null,null,null,null,0,0.105,0,"Cotação",""]
[null,null,null,null,null,null,null,null,0,0.105,0,"Cotação",""]
[null,null,null,null,null,null,null,null,0,0.105,0,"Cotação",""]
[null,null,null,null,null,null,null,null,0,0.105,0,"Cotação",""]
[null,null,null,null,null,null,null,null,0,0.105,0,"Cotação",""]
[null,null,null,null,null,null,null,null,0,0.105,0,"Cotação",""]
[null,null,null,null,null,null,null,null,0,0.105,0,"Cotação",""]
[null,null,null,null,null,null,null,null,0,0.105,0,"Cotação",""]
[null,null,null,null,null,null,null,null,0,0.105,0,"Cotação",""]
[null,null,null,null,null,null,null,null,0,0.105,0,"Cotação",""]
[null,null,null,null,null,null,null,null,0,0.105,0,"Cotação",""]
[null,null,null,null,null,null,null,null,0,0.105,0,"Cotação",""]
[null,null,null,null,null,null,null,null,0,0.105,0,"Cotação",""]
[null,null,null,null,null,null,null,null,0,0.105,0,"Cotação",""]
[null,null,null,null,null,null,null,null,0,0.105,0,"Cotação",""]
[null,null,null,null,null,null,null,null,0,0.105,0,"Cotação",""]
[null,null,null,null,null,null,null,null,0,0.105,0,"Cotação",""]
[null,null,null,null,null,null,null,null,0,0.105,0,"Cotação",""]
[null,null,null,null,null,null,null,null,0,0.105,0,"Cotação",""]
[null,null,null,null,null,null,null,null,0,0.105,0,"Cotação",""]
[null,null,null,null,null,null,null,null,0,0.105,0,"Cotação",""]
[null,null,null,null,null,null,null,null,0,0.105,0,"Cotação",""]
[null,null,null,null,null,null,null,null,0,0.105,0,"Cotação",""]
[null,null,null,null,null,null,null,null,0,0.105,0,"Cotação",""]
[null,null,null,null,null,null,null,null,0,0.105,0,"Cotação",""]
[null,null,null,null,null,null,null,null,0,0.105,0,"Cotação",""]
[null,null,null,null,null,null,null,null,0,0.105,0,"Cotação",""]
[null,null,null,null,null,null,null,null,0,0.105,0,"Cotação",""]
[null,null,null,null,null,null,null,null,{"$f":"H393*F393","v":0},0.105,{"$f":"ROUND(I393*(1+J393),2)","v":0},"Cotação",""]
[null,null,null,null,null,null,null,null,0,{"$f":"J393","v":0.105},0,"Cotação",""]
[null,null,null,null,null,null,null,null,0,0.105,0,"Cotação",""]
[null,null,null,null,null,null,null,null,0,0.105,0,"Cotação",""]
[null,null,null,null,null,null,null,null,0,0.105,0,"Cotação",""]
[null,null,null,null,null,null,null,null,0,0.105,0,"Cotação",""]
[null,null,null,null,null,null,null,null,0,0.105,0,"Cotação",""]
[null,null,null,null,null,null,null,null,0,0.105,0,"Cotação",""]
[null,null,null,null,null,null,null,null,0,0.105,0,"Cotação",""]
[null,null,null,null,null,null,null,null,0,0.105,0,"Cotação",""]
[null,null,null,null,null,null,null,null,0,0.105,0,"Cotação",""]
[null,null,null,null,null,null,null,null,0,0.105,0,"Cotação",""]
[null,null,null,null,null,null,null,null,0,0.105,0,"Cotação",""]
[null,null,null,null,null,null,null,null,0,0.105,0,"Cotação",""]
[null,null,null,null,null,null,null,null,0,0.105,0,"Cotação",""]
[null,null,null,null,null,null,null,null,0,0.105,0,"Cotação",""]
[null,null,null,null,null,null,null,null,0,0.105,0,"Cotação",""]
[null,null,null,null,null,null,null,null,0,0.105,0,"SINAPI","4222"]
[null,null,null,null,null,null,null,null,0,0.105,0,"SINAPI","4223"]
[null,null,null,null,null,null,null,null,0,0.105,0,"SINAPI"," 4221"]
[null,null,null,null,null,null,null,null,0,0.105,0,"SINAPI","13003"]
[null,null,null,null,null,null,null,null,0,0.105,0,"Cotação",""]
[null,null,null,null,null,null,null,null,0,0.105,0,"Cotação",""]
[null,null,null,null,null,null,null,null,0,0.105,0,"Cotação",""]
[null,null,null,null,null,null,null,null,0,0.105,0,"SINAPI","38470"]
[null,null,null,null,null,null,null,null,0,0.105,0,"Cotação",""]
[null,null,null,null,null,null,null,null,0,0.105,0,"Cotação",""]
[null,null,null,null,null,null,null,null,0,0.105,0,"Cotação",""]
[null,null,null,null,null,null,null,null,0,0.105,0,"Cotação",""]
[null,null,null,null,null,null,null,null,0,0.105,0,"Cotação",""]
[null,null,null,null,null,null,null,null,0,0.105,0,"Cotação",""]
[null,null,null,null,null,null,null,null,0,0.105,0,"Cotação",""]
[null,null,null,null,null,null,null,null,0,0.105,0,"Cotação",""]
[null,null,null,null,null,null,null,null,0,0.105,0,"Cotação",""]
[null,null,null,null,null,null,null,null,0,0.105,0,"Cotação",""]
[null,null,null,null,null,null,null,null,0,0.105,0,"Cotação",""]
[null,null,null,null,null,null,null,null,0,0.105,0,"Cotação",""]
[null,null,null,null,null,null,null,null,0,0.105,0,"Cotação",""]
[null,null,null,null,null,null,null,null,0,0.105,0,"Cotação",""]
[null,null,null,null,null,null,null,null,0,0.105,0,"Cotação",""]
[null,null,null,null,null,null,null,null,0,0.105,0,"Cotação",""]
[null,null,null,null,null,null,null,null,0,0.105,0,"Cotação",""]
[null,null,null,null,null,null,null,null,0,0.105,0,"Cotação",""]
[null,null,null,null,null,null,null,null,0,0.105,0,"Cotação",""]
[null,null,null,null,null,null,null,null,0,0.105,0,"Cotação",""]
[null,null,null,null,null,null,null,null,0,0.105,0,"Cotação",""]
[null,null,null,null,null,null,null,null,0,0.105,0,"Cotação",""]
[null,null,null,null,null,null,null,null,0,0.105,0,"Cotação",""]
[null,null,null,null,null,null,null,null,0,0.105,0,"Cotação",""]
[null,null,null,null,null,null,null,null,0,0.105,0,"Cotação",""]
[null,null,null,null,null,null,null,null,0,0.105,0,"Cotação",""]
[null,null,null,null,null,null,null,null,0,0.105,0,"Cotação",""]
[null,null,null,null,null,null,null,null,0,0.105,0,"Cotação",""]
[null,null,null,null,null,null,null,null,0,0.105,0,"Cotação",""]
[null,null,null,null,null,null,null,null,0,0.105,0,"Cotação",""]
[null,null,null,null,null,null,null,null,0,0.105,0,"Cotação",""]
[null,null,null,null,null,null,null,null,0,0.105,0,"Cotação",""]
[null,null,null,null,null,null,null,null,0,0.105,0,"Cotação",""]
[null,null,null,null,null,null,null,null,0,0.105,0,"Cotação",""]
[null,null,null,null,null,null,null,null,0,0.105,0,"Cotação",""]
[null,null,null,null,null,null,null,null,0,0.105,0,"Cotação",""]
[null,null,null,null,null,null,null,null,0,0.105,0,"SINAPI","11963"]
[null,null,null,null,null,null,null,null,0,0.105,0,"SINAPI","11964"]
[null,null,null,null,null,null,null,null,0,0.105,0,"Cotação",""]
[null,null,null,null,null,null,null,null,{"$f":"H457*F457","v":0},0.105,{"$f":"ROUND(I457*(1+J457),2)","v":0},"Cotação",""]
[null,null,null,null,null,null,null,null,0,{"$f":"J457","v":0.105},0,"Cotação",""]
[null,null,null,null,null,null,null,null,0,0.105,0,"Cotação",""]
[null,null,null,null,null,null,null,null,0,0.105,0,"Cotação",""]
[null,null,null,null,null,null,null,null,0,0.105,0,"SINAPI","38465"]
[null,null,null,null,null,null,null,null,0,0.105,0,"Cotação",""]
[null,null,null,null,null,null,null,null,0,0.105,0,"Cotação",""]
[null,null,null,null,null,null,null,null,0,0.105,0,"SINAPI","4229"]
[null,null,null,null,null,null,null,null,0,0.105,0,"Cotação",""]
[null,null,null,null,null,null,null,null,0,0.105,0,"Cotação",""]
[null,null,null,null,null,null,null,null,0,0.105,0,"Cotação",""]
[null,null,null,null,null,null,null,null,0,0.105,0,"Cotação",""]
[null,null,null,null,null,null,null,null,0,0.105,0,"Cotação",""]
[null,null,null,null,null,null,null,null,0,0.105,0,"Cotação",""]
[null,null,null,null,null,null,null,null,0,0.105,0,"SINAPI","34583"]
[null,null,null,null,null,null,null,null,0,0.105,0,"SINAPI","3315"]
[null,null,null,null,null,null,null,null,0,0.105,0,"SINAPI","39434"]
[null,null,null,null,null,null,null,null,0,0.105,0,"Cotação",""]
[null,null,null,null,null,null,null,null,0,0.105,0,"Cotação",""]
[null,null,null,null,null,null,null,null,0,0.105,0,"Cotação",""]
[null,null,null,null,null,null,null,null,0,0.105,0,"Cotação",""]
[null,null,null,null,null,null,null,null,0,0.105,0,"SINAPI","39417"]
[null,null,null,null,null,null,null,null,0,0.105,0,"Cotação",""]
[null,null,null,null,null,null,null,null,0,0.105,0,"Cotação",""]
[null,null,null,null,null,null,null,null,0,0.105,0,"SINAPI","39421"]
[null,null,null,null,null,null,null,null,0,0.105,0,"SINAPI","39424"]
[null,null,null,null,null,null,null,null,0,0.105,0,"Cotação",""]
[null,null,null,null,null,null,null,null,0,0.105,0,"Cotação",""]
[null,null,null,null,null,null,null,null,0,0.105,0,"Cotação",""]
[null,null,null,null,null,null,null,null,0,0.105,0,"SINAPI","39574"]
[null,null,null,null,null,null,null,null,0,0.105,0,"SINAPI","39435"]
[null,null,null,null,null,null,null,null,0,0.105,0,"SINAPI","39443"]
[null,null,null,null,null,null,null,null,0,0.105,0,"Cotação",""]
[null,null,null,null,null,null,null,null,0,0.105,0,"Cotação",""]
[null,null,null,null,null,null,null,null,0,0.105,0,"Cotação",""]
[null,null,null,null,null,null,null,null,0,0.105,0,"Cotação",""]
[null,null,null,null,null,null,null,null,0,0.105,0,"Cotação",""]
[null,null,null,null,null,null,null,null,0,0.105,0,"Cotação",""]
[null,null,null,null,null,null,null,null,0,0.105,0,"Cotação",""]
[null,null,null,null,null,null,null,null,0,0.105,0,"Cotação",""]
[null,null,null,null,null,null,null,null,0,0.105,0,"Cotação",""]
[null,null,null,null,null,null,null,null,0,0.105,0,"Cotação",""]
[null,null,null,null,null,null,null,null,0,0.105,0,"Cotação",""]
[null,null,null,null,null,null,null,null,0,0.105,0,"Cotação",""]
[null,null,null,null,null,null,null,null,0,0.105,0,"Cotação",""]
[null,null,null,null,null,null,null,null,0,0.105,0,"Cotação",""]
[null,null,null,null,null,null,null,null,0,0.105,0,"Cotação",""]
[null,null,null,null,null,null,null,null,0,0.105,0,"SINAPI","10841"]
[null,null,null,null,null,null,null,null,0,0.105,0,"SINAPI","10841"]
[null,null,null,null,null,null,null,null,0,0.105,0,"SINAPI","25981"]
[null,null,null,null,null,null,null,null,0,0.105,0,"Cotação",""]
[null,null,null,null,null,null,null,null,0,0.105,0,"SINAPI","25976"]
[null,null,null,null,null,null,null,null,0,0.105,0,"SINAPI","10842"]
[null,null,null,null,null,null,null,null,0,0.105,0,"SINAPI","10842"]
[null,null,null,null,null,null,null,null,0,0.105,0,"SINAPI","10842"]
[null,null,null,null,null,null,null,null,0,0.105,0,"Cotação",""]
[null,null,null,null,null,null,null,null,0,0.105,0,"Cotação",""]
[null,null,null,null,null,null,null,null,0,0.105,0,"Cotação",""]
[null,null,null,null,null,null,null,null,0,0.105,0,"Cotação",""]
[null,null,null,null,null,null,null,null,0,0.105,0,"Cotação",""]
[null,null,null,null,null,null,null,null,0,0.105,0,"SINAPI","26020"]
[null,null,null,null,null,null,null,null,0,0.105,0,"Cotação",""]
[null,null,null,null,null,null,null,null,0,0.105,0,"SINAPI","38140"]
[null,null,null,null,null,null,null,null,0,0.105,0,"Cotação",""]
[null,null,null,null,null,null,null,null,{"$f":"H521*F521","v":0},0.105,{"$f":"ROUND(I521*(1+J521),2)","v":0},"Cotação",""]
[null,null,null,null,null,null,null,null,0,{"$f":"J521","v":0.105},0,"Cotação",""]
[null,null,null,null,null,null,null,null,0,0.105,0,"SINAPI","4015"]
[null,null,null,null,null,null,null,null,0,0.105,0,"SINAPI","4015"]
[null,null,null,null,null,null,null,null,0,0.105,0,"Cotação",""]
[null,null,null,null,null,null,null,null,0,0.105,0,"Cotação",""]
[null,null,null,null,null,null,null,null,0,0.105,0,"Cotação",""]
[null,null,null,null,null,null,null,null,0,0.105,0,"SINAPI","0511"]
[null,null,null,null,null,null,null,null,0,0.105,0,"Cotação",""]
[null,null,null,null,null,null,null,null,0,0.105,0,"Cotação",""]
[null,null,null,null,null,null,null,null,0,0.105,0,"Cotação",""]
[null,null,null,null,null,null,null,null,0,0.105,0,"SINAPI","0123"]
[null,null,null,null,null,null,null,null,0,0.105,0,"SINAPI","11149"]
[null,null,null,null,null,null,null,null,0,0.105,0,"SINAPI","0142"]
[null,null,null,null,null,null,null,null,0,0.105,0,"SINAPI","0142"]
[null,null,null,null,null,null,null,null,0,0.105,0,"SINAPI","0142"]
[null,null,null,null,null,null,null,null,0,0.105,0,"SINAPI","38123"]
[null,null,null,null,null,null,null,null,0,0.105,0,"Cotação",""]
[null,null,null,null,null,null,null,null,0,0.105,0,"Cotação",""]
[null,null,null,null,null,null,null,null,0,0.105,0,"SINAPI","38366"]
[null,null,null,null,null,null,null,null,0,0.105,0,"Cotação",""]
[null,null,null,null,null,null,null,null,0,0.105,0,"SINAPI","7161"]
[null,null,null,null,null,null,null,null,0,0.105,0,"Cotação",""]
[null,null,null,null,null,null,null,null,0,0.105,0,"Cotação",""]
[null,null,null,null,null,null,null,null,0,0.105,0,"Cotação",""]
[null,null,null,null,null,null,null,null,0,0.105,0,"Cotação",""]
[null,null,null,null,null,null,null,null,0,0.105,0,"Cotação",""]
[null,null,null,null,null,null,null,null,0,0.105,0,"Cotação",""]
[null,null,null,null,null,null,null,null,0,0.105,0,"SINAPI","0013"]
[null,null,null,null,null,null,null,null,0,0.105,0,"Cotação",""]
[null,null,null,null,null,null,null,null,0,0.105,0,"Cotação",""]
[null,null,null,null,null,null,null,null,0,0.105,0,"Cotação",""]
[null,null,null,null,null,null,null,null,0,0.105,0,"Cotação",""]
[null,null,null,null,null,null,null,null,0,0.105,0,"Cotação",""]
[null,null,null,null,null,null,null,null,0,0.105,0,"Cotação",""]
[null,null,null,null,null,null,null,null,0,0.105,0,"Cotação",""]
[null,null,null,null,null,null,null,null,0,0.105,0,"Cotação",""]
[null,null,null,null,null,null,null,null,0,0.105,0,"Cotação",""]
[null,null,null,null,null,null,null,null,0,0.105,0,"Cotação",""]
[null,null,null,null,null,null,null,null,0,0.105,0,"Cotação",""]
[null,null,null,null,null,null,null,null,0,0.105,0,"Cotação",""]
[null,null,null,null,null,null,null,null,0,0.105,0,"Cotação",""]
[null,null,null,null,null,null,null,null,0,0.105,0,"Cotação",""]
[null,null,null,null,null,null,null,null,0,0.105,0,"Cotação",""]
[null,null,null,null,null,null,null,null,0,0.105,0,"Cotação",""]
[null,null,null,null,null,null,null,null,0,0.105,0,"Cotação",""]
[null,null,null,null,null,null,null,null,0,0.105,0,"Cotação",""]
[null,null,null,null,null,null,null,null,0,0.105,0,"Cotação",""]
[null,null,null,null,null,null,null,null,0,0.105,0,"Cotação",""]
[null,null,null,null,null,null,null,null,0,0.105,0,"Cotação",""]
[null,null,null,null,null,null,null,null,0,0.105,0,"Cotação",""]
[null,null,null,null,null,null,null,null,0,0.105,0,"Cotação",""]
[null,null,null,null,null,null,null,null,0,0.105,0,"Cotação",""]
[null,null,null,null,null,null,null,null,0,0.105,0,"Cotação",""]
[null,null,null,null,null,null,null,null,0,0.105,0,"Cotação",""]
[null,null,null,null,null,null,null,null,0,0.105,0,"Cotação",""]
[null,null,null,null,null,null,null,null,0,0.105,0,"Cotação",""]
[null,null,null,null,null,null,null,null,0,0.105,0,"Cotação",""]
[null,null,null,null,null,null,null,null,0,0.105,0,"Cotação",""]
[null,null,null,null,null,null,null,null,0,0.105,0,"Cotação",""]
[null,null,null,null,null,null,null,null,0,0.105,0,"Cotação",""]
[null,null,null,null,null,null,null,null,0,0.105,0,"Cotação",""]
[null,null,null,null,null,null,null,null,0,0.105,0,"Cotação",""]
[null,null,null,null,null,null,null,null,0,0.105,0,"Cotação",""]
[null,null,null,null,null,null,null,null,{"$f":"H585*F585","v":0},0.105,{"$f":"ROUND(I585*(1+J585),2)","v":0},"Cotação",""]
[null,null,null,null,null,null,null,null,0,{"$f":"J585","v":0.105},0,"Cotação",""]
[null,null,null,null,null,null,null,null,0,0.105,0,"Cotação",""]
[null,null,null,null,null,null,null,null,0,0.105,0,"Cotação",""]
[null,null,null,null,null,null,null,null,0,0.105,0,"Cotação",""]
[null,null,null,null,null,null,null,null,0,0.105,0,"Cotação",""]
[null,null,null,null,null,null,null,null,0,0.105,0,"Cotação",""]
[null,null,null,null,null,null,null,null,0,0.105,0,"Cotação",""]
[null,null,null,null,null,null,null,null,0,0.105,0,"Cotação",""]
[null,null,null,null,null,null,null,null,0,0.105,0,"Cotação",""]
[null,null,null,null,null,null,null,null,0,0.105,0,"Cotação",""]
[null,null,null,null,null,null,null,null,0,0.105,0,"Cotação",""]
[null,null,null,null,null,null,null,null,0,0.105,0,"Cotação",""]
[null,null,null,null,null,null,null,null,0,0.105,0,"Cotação",""]
[null,null,null,null,null,null,null,null,0,0.105,0,"Cotação",""]
[null,null,null,null,null,null,null,null,0,0.105,0,"Cotação",""]
[null,null,null,null,null,null,null,null,0,0.105,0,"Cotação",""]
[null,null,null,null,null,null,null,null,0,0.105,0,"Cotação",""]
[null,null,null,null,null,null,null,null,0,0.105,0,"Cotação",""]
[null,null,null,null,null,null,null,null,0,0.105,0,"SINAPI","10691"]
[null,null,null,null,null,null,null,null,0,0.105,0,"Cotação",""]
[null,null,null,null,null,null,null,null,0,0.105,0,"Cotação",""]
[null,null,null,null,null,null,null,null,0,0.105,0,"Cotação",""]
[null,null,null,null,null,null,null,null,0,0.105,0,"Cotação",""]
[null,null,null,null,null,null,null,null,0,0.105,0,"Cotação",""]
[null,null,null,null,null,null,null,null,0,0.105,0,"Cotação",""]
[null,null,null,null,null,null,null,null,0,0.105,0,"Cotação",""]
[null,null,null,null,null,null,null,null,0,0.105,0,"Cotação",""]
[null,null,null,null,null,null,null,null,0,0.105,0,"Cotação",""]
[null,null,null,null,null,null,null,null,0,0.105,0,"Cotação",""]
[null,null,null,null,null,null,null,null,0,0.105,0,"Cotação",""]
[null,null,null,null,null,null,null,null,0,0.105,0,"Cotação",""]
[null,null,null,null,null,null,null,null,0,0.105,0,"Cotação",""]
[null,null,null,null,null,null,null,null,0,0.105,0,"Cotação",""]
[null,null,null,null,null,null,null,null,0,0.105,0,"Cotação",""]
[null,null,null,null,null,null,null,null,0,0.105,0,"SINAPI","11946"]
[null,null,null,null,null,null,null,null,0,0.105,0,"SINAPI","4375"]
[null,null,null,null,null,null,null,null,0,0.105,0,"SINAPI","4376"]
[null,null,null,null,null,null,null,null,0,0.105,0,"SINAPI","4374"]
[null,null,null,null,null,null,null,null,0,0.105,0,"Cotação",""]
[null,null,null,null,null,null,null,null,0,0.105,0,"Cotação",""]
[null,null,null,null,null,null,null,null,0,0.105,0,"Cotação",""]
[null,null,null,null,null,null,null,null,0,0.105,0,"Cotação",""]
[null,null,null,null,null,null,null,null,0,0.105,0,"Cotação",""]
[null,null,null,null,null,null,null,null,0,0.105,0,"Cotação",""]
[null,null,null,null,null,null,null,null,0,0.105,0,"Cotação",""]
[null,null,null,null,null,null,null,null,0,0.105,0,"Cotação",""]
[null,null,null,null,null,null,null,null,0,0.105,0,"Cotação",""]
[null,null,null,null,null,null,null,null,0,0.105,0,"Cotação",""]
[null,null,null,null,null,null,null,null,0,0.105,0,"Cotação",""]
[null,null,null,null,null,null,null,null,0,0.105,0,"Cotação",""]
[null,null,null,null,null,null,null,null,0,0.105,0,"SINAPI","11447"]
[null,null,null,null,null,null,null,null,0,0.105,0,"SINAPI","2432"]
[null,null,null,null,null,null,null,null,0,0.105,0,"Cotação",""]
[null,null,null,null,null,null,null,null,0,0.105,0,"Cotação",""]
[null,null,null,null,null,null,null,null,0,0.105,0,"Cotação",""]
[null,null,null,null,null,null,null,null,0,0.105,0,"Cotação",""]
[null,null,null,null,null,null,null,null,0,0.105,0,"Cotação",""]
[null,null,null,null,null,null,null,null,0,0.105,0,"Cotação",""]
[null,null,null,null,null,null,null,null,0,0.105,0,"Cotação",""]
[null,null,null,null,null,null,null,null,0,0.105,0,"SINAPI","3767"]
[null,null,null,null,null,null,null,null,0,0.105,0,"Cotação",""]
[null,null,null,null,null,null,null,null,0,0.105,0,"Cotação",""]
[null,null,null,null,null,null,null,null,0,0.105,0,"Cotação",""]
[null,null,null,null,null,null,null,null,{"$f":"H649*F649","v":0},0.105,{"$f":"ROUND(I649*(1+J649),2)","v":0},"Cotação",""]
[null,null,null,null,null,null,null,null,0,{"$f":"J649","v":0.105},0,"Cotação",""]
[null,null,null,null,null,null,null,null,0,0.105,0,"Cotação",""]
[null,null,null,null,null,null,null,null,0,0.105,0,"Cotação",""]
[null,null,null,null,null,null,null,null,0,0.105,0,"Cotação",""]
[null,null,null,null,null,null,null,null,0,0.105,0,"Cotação",""]
[null,null,null,null,null,null,null,null,0,0.105,0,"Cotação",""]
[null,null,null,null,null,null,null,null,0,0.105,0,"Cotação",""]
[null,null,null,null,null,null,null,null,0,0.105,0,"Cotação",""]
[null,null,null,null,null,null,null,null,0,0.105,0,"Cotação",""]
[null,null,null,null,null,null,null,null,0,0.105,0,"Cotação",""]
[null,null,null,null,null,null,null,null,0,0.105,0,"Cotação",""]
[null,null,null,null,null,null,null,null,0,0.105,0,"Cotação",""]
[null,null,null,null,null,null,null,null,0,0.105,0,"Cotação",""]
[null,null,null,null,null,null,null,null,0,0.105,0,"Cotação",""]
[null,null,null,null,null,null,null,null,0,0.105,0,"Cotação",""]
[null,null,null,null,null,null,null,null,0,0.105,0,"Cotação",""]
[null,null,null,null,null,null,null,null,0,0.105,0,"Cotação",""]
[null,null,null,null,null,null,null,null,0,0.105,0,"Cotação",""]
[null,null,null,null,null,null,null,null,0,0.105,0,"Cotação",""]
[null,null,null,null,null,null,null,null,0,0.105,0,"Cotação",""]
[null,null,null,null,null,null,null,null,0,0.105,0,"Cotação",""]
[null,null,null,null,null,null,null,null,0,0.105,0,"Cotação",""]
[null,null,null,null,null,null,null,null,0,0.105,0,"Cotação",""]
[null,null,null,null,null,null,null,null,0,0.105,0,"Cotação",""]
[null,null,null,null,null,null,null,null,0,0.105,0,"SINAPI","4430"]
[null,null,null,null,null,null,null,null,0,0.105,0,"SINAPI","4433"]
[null,null,null,null,null,null,null,null,0,0.105,0,"SINAPI","4465"]
[null,null,null,null,null,null,null,null,0,0.105,0,"SINAPI","35273"]
[null,null,null,null,null,null,null,null,0,0.105,0,"SINAPI","4470"]
[null,null,null,null,null,null,null,null,0,0.105,0,"SINAPI","14580"]
[null,null,null,null,null,null,null,null,0,0.105,0,"SINAPI","4408"]
[null,null,null,null,null,null,null,null,0,0.105,0,"SINAPI","4415"]
[null,null,null,null,null,null,null,null,0,0.105,0,"SINAPI","4417"]
[null,null,null,null,null,null,null,null,0,0.105,0,"SINAPI","4460"]
[null,null,null,null,null,null,null,null,0,0.105,0,"SINAPI","6204"]
[null,null,null,null,null,null,null,null,0,0.105,0,"Cotação",""]
[null,null,null,null,null,null,null,null,0,0.105,0,"Cotação",""]
[null,null,null,null,null,null,null,null,0,0.105,0,"Cotação",""]
[null,null,null,null,null,null,null,null,0,0.105,0,"Cotação",""]
[null,null,null,null,null,null,null,null,0,0.105,0,"SINAPI","4425"]
[null,null,null,null,null,null,null,null,0,0.105,0,"SINAPI","4472"]
[null,null,null,null,null,null,null,null,0,0.105,0,"SINAPI","35272"]
[null,null,null,null,null,null,null,null,0,0.105,0,"Cotação",""]
[null,null,null,null,null,null,null,null,0,0.105,0,"Cotação",""]
[null,null,null,null,null,null,null,null,0,0.105,0,"Cotação",""]
[null,null,null,null,null,null,null,null,0,0.105,0,"Cotação",""]
[null,null,null,null,null,null,null,null,0,0.105,0,"Cotação",""]
[null,null,null,null,null,null,null,null,0,0.105,0,"Cotação",""]
[null,null,null,null,null,null,null,null,0,0.105,0,"Cotação",""]
[null,null,null,null,null,null,null,null,0,0.105,0,"Cotação",""]
[null,null,null,null,null,null,null,null,0,0.105,0,"Cotação",""]
[null,null,null,null,null,null,null,null,0,0.105,0,"Cotação",""]
[null,null,null,null,null,null,null,null,0,0.105,0,"Cotação",""]
[null,null,null,null,null,null,null,null,0,0.105,0,"Cotação",""]
[null,null,null,null,null,null,null,null,0,0.105,0,"Cotação",""]
[null,null,null,null,null,null,null,null,0,0.105,0,"Cotação",""]
[null,null,null,null,null,null,null,null,0,0.105,0,"Cotação",""]
[null,null,null,null,null,null,null,null,0,0.105,0,"Cotação",""]
[null,null,null,null,null,null,null,null,0,0.105,0,"Cotação",""]
[null,null,null,null,null,null,null,null,0,0.105,0,"Cotação",""]
[null,null,null,null,null,null,null,null,0,0.105,0,"Cotação",""]
[null,null,null,null,null,null,null,null,0,0.105,0,"Cotação",""]
[null,null,null,null,null,null,null,null,0,0.105,0,"Cotação",""]
[null,null,null,null,null,null,null,null,{"$f":"H713*F713","v":0},0.105,{"$f":"ROUND(I713*(1+J713),2)","v":0},"Cotação",""]
[null,null,null,null,null,null,null,null,0,{"$f":"J713","v":0.105},0,"Cotação",""]
[null,null,null,null,null,null,null,null,0,0.105,0,"Cotação",""]
[null,null,null,null,null,null,null,null,0,0.105,0,"Cotação",""]
[null,null,null,null,null,null,null,null,0,0.105,0,"Cotação",""]
[null,null,null,null,null,null,null,null,0,0.105,0,"Cotação",""]
[null,null,null,null,null,null,null,null,0,0.105,0,"Cotação",""]
[null,null,null,null,null,null,null,null,0,0.105,0,"Cotação",""]
[null,null,null,null,null,null,null,null,0,0.105,0,"Cotação",""]
[null,null,null,null,null,null,null,null,0,0.105,0,"Cotação",""]
[null,null,null,null,null,null,null,null,0,0.105,0,"Cotação",""]
[null,null,null,null,null,null,null,null,0,0.105,0,"Cotação",""]
[null,null,null,null,null,null,null,null,0,0.105,0,"Cotação",""]
[null,null,null,null,null,null,null,null,0,0.105,0,"Cotação",""]
[null,null,null,null,null,null,null,null,0,0.105,0,"Cotação",""]
[null,null,null,null,null,null,null,null,0,0.105,0,"Cotação",""]
[null,null,null,null,null,null,null,null,0,0.105,0,"Cotação",""]
[null,null,null,null,null,null,null,null,0,0.105,0,"Cotação",""]
[null,null,null,null,null,null,null,null,0,0.105,0,"Cotação",""]
[null,null,null,null,null,null,null,null,0,0.105,0,"Cotação",""]
[null,null,null,null,null,null,null,null,0,0.105,0,"Cotação",""]
[null,null,null,null,null,null,null,null,0,0.105,0,"Cotação",""]
[null,null,null,null,null,null,null,null,0,0.105,0,"Cotação",""]
[null,null,null,null,null,null,null,null,0,0.105,0,"Cotação",""]
[null,null,null,null,null,null,null,null,0,0.105,0,"Cotação",""]
[null,null,null,null,null,null,null,null,0,0.105,0,"Cotação",""]
[null,null,null,null,null,null,null,null,0,0.105,0,"Cotação",""]
[null,null,null,null,null,null,null,null,0,0.105,0,"Cotação",""]
[null,null,null,null,null,null,null,null,0,0.105,0,"Cotação",""]
[null,null,null,null,null,null,null,null,0,0.105,0,"Cotação",""]
[null,null,null,null,null,null,null,null,0,0.105,0,"Cotação",""]
[null,null,null,null,null,null,null,null,0,0.105,0,"Cotação",""]
[null,null,null,null,null,null,null,null,0,0.105,0,"Cotação",""]
[null,null,null,null,null,null,null,null,0,0.105,0,"Cotação",""]
[null,null,null,null,null,null,null,null,0,0.105,0,"Cotação",""]
[null,null,null,null,null,null,null,null,0,0.105,0,"Cotação",""]
[null,null,null,null,null,null,null,null,0,0.105,0,"Cotação",""]
[null,null,null,null,null,null,null,null,0,0.105,0,"Cotação",""]
[null,null,null,null,null,null,null,null,0,0.105,0,"Cotação",""]
[null,null,null,null,null,null,null,null,0,0.105,0,"Cotação",""]
[null,null,null,null,null,null,null,null,0,0.105,0,"Cotação",""]
[null,null,null,null,null,null,null,null,0,0.105,0,"Cotação",""]
[null,null,null,null,null,null,null,null,0,0.105,0,"Cotação",""]
[null,null,null,null,null,null,null,null,0,0.105,0,"Cotação",""]
[null,null,null,null,null,null,null,null,0,0.105,0,"Cotação",""]
[null,null,null,null,null,null,null,null,0,0.105,0,"Cotação",""]
[null,null,null,null,null,null,null,null,0,0.105,0,"Cotação",""]
[null,null,null,null,null,null,null,null,0,0.105,0,"Cotação",""]
[null,null,null,null,null,null,null,null,0,0.105,0,"Cotação",""]
[null,null,null,null,null,null,null,null,0,0.105,0,"Cotação",""]
[null,null,null,null,null,null,null,null,0,0.105,0,"Cotação",""]
[null,null,null,null,null,null,null,null,0,0.105,0,"Cotação",""]
[null,null,null,null,null,null,null,null,0,0.105,0,"Cotação",""]
[null,null,null,null,null,null,null,null,0,0.105,0,"Cotação",""]
[null,null,null,null,null,null,null,null,0,0.105,0,"Cotação",""]
[null,null,null,null,null,null,null,null,0,0.105,0,"Cotação",""]
[null,null,null,null,null,null,null,null,0,0.105,0,"Cotação",""]
[null,null,null,null,null,null,null,null,0,0.105,0,"Cotação",""]
[null,null,null,null,null,null,null,null,0,0.105,0,"Cotação",""]
[null,null,null,null,null,null,null,null,0,0.105,0,"Cotação",""]
[null,null,null,null,null,null,null,null,0,0.105,0,"Cotação",""]
[null,null,null,null,null,null,null,null,0,0.105,0,"Cotação",""]
[null,null,null,null,null,null,null,null,0,0.105,0,"Cotação",""]
[null,null,null,null,null,null,null,null,0,0.105,0,"Cotação",""]
[null,null,null,null,null,null,null,null,{"$f":"H777*F777","v":0},0.105,{"$f":"ROUND(I777*(1+J777),2)","v":0},"Cotação",""]
[null,null,null,null,null,null,null,null,0,{"$f":"J777","v":0.105},0,"Cotação",""]
[null,null,null,null,null,null,null,null,0,0.105,0,"Cotação",""]
[null,null,null,null,null,null,null,null,0,0.105,0,"Cotação",""]
[null,null,null,null,null,null,null,null,0,0.105,0,"Cotação",""]
[null,null,null,null,null,null,null,null,0,0.105,0,"Cotação",""]
[null,null,null,null,null,null,null,null,0,0.105,0,"Cotação",""]
[null,null,null,null,null,null,null,null,0,0.105,0,"Cotação",""]
[null,null,null,null,null,null,null,null,0,0.105,0,"Cotação",""]
[null,null,null,null,null,null,null,null,0,0.105,0,"Cotação",""]
[null,null,null,null,null,null,null,null,0,0.105,0,"Cotação",""]
[null,null,null,null,null,null,null,null,0,0.105,0,"Cotação",""]
[null,null,null,null,null,null,null,null,0,0.105,0,"Cotação",""]
[null,null,null,null,null,null,null,null,0,0.105,0,"Cotação",""]
[null,null,null,null,null,null,null,null,0,0.105,0,"Cotação",""]
[null,null,null,null,null,null,null,null,0,0.105,0,"Cotação",""]
[null,null,null,null,null,null,null,null,0,0.105,0,"Cotação",""]
[null,null,null,null,null,null,null,null,0,0.105,0,"Cotação",""]
[null,null,null,null,null,null,null,null,0,0.105,0,"Cotação",""]
[null,null,null,null,null,null,null,null,0,0.105,0,"Cotação",""]
[null,null,null,null,null,null,null,null,0,0.105,0,"Cotação",""]
[null,null,null,null,null,null,null,null,0,0.105,0,"Cotação",""]
[null,null,null,null,null,null,null,null,0,0.105,0,"Cotação",""]
[null,null,null,null,null,null,null,null,0,0.105,0,"Cotação",""]
[null,null,null,null,null,null,null,null,0,0.105,0,"Cotação",""]
[null,null,null,null,null,null,null,null,0,0.105,0,"Cotação",""]
[null,null,null,null,null,null,null,null,0,0.105,0,"Cotação",""]
[null,null,null,null,null,null,null,null,0,0.105,0,"Cotação",""]
[null,null,null,null,null,null,null,null,0,0.105,0,"Cotação",""]
[null,null,null,null,null,null,null,null,0,0.105,0,"Cotação",""]
[null,null,null,null,null,null,null,null,0,0.105,0,"Cotação",""]
[null,null,null,null,null,null,null,null,0,0.105,0,"Cotação",""]
[null,null,null,null,null,null,null,null,0,0.105,0,"Cotação",""]
[null,null,null,null,null,null,null,null,0,0.105,0,"Cotação",""]
[null,null,null,null,null,null,null,null,0,0.105,0,"Cotação",""]
[null,null,null,null,null,null,null,null,0,0.105,0,"Cotação",""]
[null,null,null,null,null,null,null,null,0,0.105,0,"Cotação",""]
[null,null,null,null,null,null,null,null,0,0.105,0,"Cotação",""]
[null,null,null,null,null,null,null,null,0,0.105,0,"Cotação",""]
[null,null,null,null,null,null,null,null,0,0.105,0,"Cotação",""]
[null,null,null,null,null,null,null,null,0,0.105,0,"Cotação",""]
[null,null,null,null,null,null,null,null,0,0.105,0,"Cotação",""]
[null,null,null,null,null,null,null,null,0,0.105,0,"Cotação",""]
[null,null,null,null,null,null,null,null,0,0.105,0,"Cotação",""]
[null,null,null,null,null,null,null,null,0,0.105,0,"Cotação",""]
[null,null,null,null,null,null,null,null,0,0.105,0,"Cotação",""]
[null,null,null,null,null,null,null,null,0,0.105,0,"Cotação",""]
[null,null,null,null,null,null,null,null,0,0.105,0,"Cotação",""]
[null,null,null,null,null,null,null,null,0,0.105,0,"Cotação",""]
[null,null,null,null,null,null,null,null,0,0.105,0,"Cotação",""]
[null,null,null,null,null,null,null,null,0,0.105,0,"Cotação",""]
[null,null,null,null,null,null,null,null,0,0.105,0,"Cotação",""]
[null,null,null,null,null,null,null,null,0,0.105,0,"Cotação",""]
[null,null,null,null,null,null,null,null,0,0.105,0,"Cotação",""]
[null,null,null,null,null,null,null,null,0,0.105,0,"Cotação",""]
[null,null,null,null,null,null,null,null,0,0.105,0,"Cotação",""]
[null,null,null,null,null,null,null,null,0,0.105,0,"Cotação",""]
[null,null,null,null,null,null,null,null,0,0.105,0,"Cotação",""]
[null,null,null,null,null,null,null,null,0,0.105,0,"Cotação",""]
[null,null,null,null,null,null,null,null,0,0.105,0,"Cotação",""]
[null,null,null,null,null,null,null,null,0,0.105,0,"Cotação",""]
[null,null,null,null,null,null,null,null,0,0.105,0,"Cotação",""]
[null,null,null,null,null,null,null,null,0,0.105,0,"Cotação",""]
[null,null,null,null,null,null,null,null,0,0.105,0,"Cotação",""]
[null,null,null,null,null,null,null,null,{"$f":"H841*F841","v":0},0.105,{"$f":"ROUND(I841*(1+J841),2)","v":0},"Cotação",""]
[null,null,null,null,null,null,null,null,0,{"$f":"J841","v":0.105},0,"Cotação",""]
[null,null,null,null,null,null,null,null,0,0.105,0,"Cotação",""]
[null,null,null,null,null,null,null,null,0,0.105,0,"Cotação",""]
[null,null,null,null,null,null,null,null,0,0.105,0,"Cotação",""]
[null,null,null,null,null,null,null,null,0,0.105,0,"Cotação",""]
[null,null,null,null,null,null,null,null,0,0.105,0,"Cotação",""]
[null,null,null,null,null,null,null,null,0,0.105,0,"Cotação",""]
[null,null,null,null,null,null,null,null,0,0.105,0,"Cotação",""]
[null,null,null,null,null,null,null,null,0,0.105,0,"Cotação",""]
[null,null,null,null,null,null,null,null,0,0.105,0,"Cotação",""]
[null,null,null,null,null,null,null,null,0,0.105,0,"Cotação",""]
[null,null,null,null,null,null,null,null,0,0.105,0,"Cotação",""]
[null,null,null,null,null,null,null,null,0,0.105,0,"Cotação",""]
[null,null,null,null,null,null,null,null,0,0.105,0,"Cotação",""]
[null,null,null,null,null,null,null,null,0,0.105,0,"Cotação",""]
[null,null,null,null,null,null,null,null,0,0.105,0,"Cotação",""]
[null,null,null,null,null,null,null,null,0,0.105,0,"Cotação",""]
[null,null,null,null,null,null,null,null,0,0.105,0,"Cotação",""]
[null,null,null,null,null,null,null,null,0,0.105,0,"Cotação",""]
[null,null,null,null,null,null,null,null,0,0.105,0,"Cotação",""]
[null,null,null,null,null,null,null,null,0,0.105,0,"Cotação",""]
[null,null,null,null,null,null,null,null,0,0.105,0,"Cotação",""]
[null,null,null,null,null,null,null,null,0,0.105,0,"Cotação",""]
[null,null,null,null,null,null,null,null,0,0.105,0,"Cotação",""]
[null,null,null,null,null,null,null,null,0,0.105,0,"Cotação",""]
[null,null,null,null,null,null,null,null,0,0.105,0,"SINAPI","13294"]
[null,null,null,null,null,null,null,null,0,0.105,0,"SINAPI","13294"]
[null,null,null,null,null,null,null,null,0,0.105,0,"SINAPI","04382"]
[null,null,null,null,null,null,null,null,0,0.105,0,"SINAPI","04382"]
[null,null,null,null,null,null,null,null,0,0.105,0,"Cotação",""]
[null,null,null,null,null,null,null,null,0,0.105,0,"Cotação",""]
[null,null,null,null,null,null,null,null,0,0.105,0,"SINAPI","5065"]
[null,null,null,null,null,null,null,null,0,0.105,0,"SINAPI","5066"]
[null,null,null,null,null,null,null,null,0,0.105,0,"Cotação",""]
[null,null,null,null,null,null,null,null,0,0.105,0,"Cotação",""]
[null,null,null,null,null,null,null,null,0,0.105,0,"SINAPI","5063"]
[null,null,null,null,null,null,null,null,0,0.105,0,"SINAPI","20247"]
[null,null,null,null,null,null,null,null,0,0.105,0,"Cotação",""]
[null,null,null,null,null,null,null,null,0,0.105,0,"SINAPI","5068"]
[null,null,null,null,null,null,null,null,0,0.105,0,"Cotação",""]
[null,null,null,null,null,null,null,null,0,0.105,0,"SINAPI","5071"]
[null,null,null,null,null,null,null,null,0,0.105,0,"SINAPI","5075"]
[null,null,null,null,null,null,null,null,0,0.105,0,"SINAPI","39027"]
[null,null,null,null,null,null,null,null,0,0.105,0,"Cotação",""]
[null,null,null,null,null,null,null,null,0,0.105,0,"Cotação",""]
[null,null,null,null,null,null,null,null,0,0.105,0,"Cotação",""]
[null,null,null,null,null,null,null,null,0,0.105,0,"Cotação",""]
[null,null,null,null,null,null,null,null,0,0.105,0,"Cotação",""]
[null,null,null,null,null,null,null,null,0,0.105,0,"Cotação",""]
[null,null,null,null,null,null,null,null,0,0.105,0,"Cotação",""]
[null,null,null,null,null,null,null,null,0,0.105,0,"SINAPI","39026"]
[null,null,null,null,null,null,null,null,0,0.105,0,"Cotação",""]
[null,null,null,null,null,null,null,null,0,0.105,0,"Cotação",""]
[null,null,null,null,null,null,null,null,0,0.105,0,"Cotação",""]
[null,null,null,null,null,null,null,null,0,0.105,0,"Cotação",""]
[null,null,null,null,null,null,null,null,0,0.105,0,"SINAPI","5061"]
[null,null,null,null,null,null,null,null,0,0.105,0,"SINAPI","39026"]
[null,null,null,null,null,null,null,null,0,0.105,0,"Cotação",""]
[null,null,null,null,null,null,null,null,0,0.105,0,"Cotação",""]
[null,null,null,null,null,null,null,null,0,0.105,0,"Cotação",""]
[null,null,null,null,null,null,null,null,0,0.105,0,"Cotação",""]
[null,null,null,null,null,null,null,null,0,0.105,0,"Cotação",""]
[null,null,null,null,null,null,null,null,0,0.105,0,"Cotação",""]
[null,null,null,null,null,null,null,null,{"$f":"H905*F905","v":0},0.105,{"$f":"ROUND(I905*(1+J905),2)","v":0},"Cotação",""]
[null,null,null,null,null,null,null,null,0,{"$f":"J905","v":0.105},0,"Cotação",""]
[null,null,null,null,null,null,null,null,0,0.105,0,"Cotação",""]
[null,null,null,null,null,null,null,null,0,0.105,0,"SINAPI","7343"]
[null,null,null,null,null,null,null,null,0,0.105,0,"SINAPI","7343"]
[null,null,null,null,null,null,null,null,0,0.105,0,"SINAPI","25973"]
[null,null,null,null,null,null,null,null,0,0.105,0,"Cotação"]
[null,null,null,null,null,null,null,null,0,0.105,0,"SINAPI","7311"]
[null,null,null,null,null,null,null,null,0,0.105,0,"SINAPI","7311"]
[null,null,null,null,null,null,null,null,0,0.105,0,"SINAPI","7311"]
[null,null,null,null,null,null,null,null,0,0.105,0,"SINAPI","7311"]
[null,null,null,null,null,null,null,null,0,0.105,0,"SINAPI","7292"]
[null,null,null,null,null,null,null,null,0,0.105,0,"SINAPI","7292"]
[null,null,null,null,null,null,null,null,0,0.105,0,"SINAPI","7292"]
[null,null,null,null,null,null,null,null,0,0.105,0,"SINAPI","7292"]
[null,null,null,null,null,null,null,null,0,0.105,0,"SINAPI","7292"]
[null,null,null,null,null,null,null,null,0,0.105,0,"SINAPI","7292"]
[null,null,null,null,null,null,null,null,0,0.105,0,"SINAPI","7292"]
[null,null,null,null,null,null,null,null,0,0.105,0,"SINAPI","7292"]
[null,null,null,null,null,null,null,null,0,0.105,0,"SINAPI","7292"]
[null,null,null,null,null,null,null,null,0,0.105,0,"SINAPI","7292"]
[null,null,null,null,null,null,null,null,0,0.105,0,"SINAPI","7288"]
[null,null,null,null,null,null,null,null,0,0.105,0,"SINAPI","7288"]
[null,null,null,null,null,null,null,null,0,0.105,0,"Cotação",""]
[null,null,null,null,null,null,null,null,0,0.105,0,"Cotação",""]
[null,null,null,null,null,null,null,null,0,0.105,0,"Cotação",""]
[null,null,null,null,null,null,null,null,0,0.105,0,"Cotação",""]
[null,null,null,null,null,null,null,null,0,0.105,0,"SINAPI","7356"]
[null,null,null,null,null,null,null,null,0,0.105,0,"SINAPI","7356"]
[null,null,null,null,null,null,null,null,0,0.105,0,"SINAPI","7356"]
[null,null,null,null,null,null,null,null,0,0.105,0,"SINAPI","35693"]
[null,null,null,null,null,null,null,null,0,0.105,0,"SINAPI","35693"]
[null,null,null,null,null,null,null,null,0,0.105,0,"SINAPI","4056"]
[null,null,null,null,null,null,null,null,0,0.105,0,"SINAPI","4051"]
[null,null,null,null,null,null,null,null,0,0.105,0,"Cotação",""]
[null,null,null,null,null,null,null,null,0,0.105,0,"Cotação",""]
[null,null,null,null,null,null,null,null,0,0.105,0,"Cotação",""]
[null,null,null,null,null,null,null,null,0,0.105,0,"SINAPI","5328"]
[null,null,null,null,null,null,null,null,0,0.105,0,"SINAPI","5328"]
[null,null,null,null,null,null,null,null,0,0.105,0,"SINAPI","5328"]
[null,null,null,null,null,null,null,null,0,0.105,0,"SINAPI","5328"]
[null,null,null,null,null,null,null,null,0,0.105,0,"SINAPI","5328"]
[null,null,null,null,null,null,null,null,0,0.105,0,"Cotação",""]
[null,null,null,null,null,null,null,null,0,0.105,0,"Cotação",""]
[null,null,null,null,null,null,null,null,0,0.105,0,"Cotação",""]
[null,null,null,null,null,null,null,null,0,0.105,0,"SINAPI","7293"]
[null,null,null,null,null,null,null,null,0,0.105,0,"SINAPI","7293"]
[null,null,null,null,null,null,null,null,0,0.105,0,"Cotação",""]
[null,null,null,null,null,null,null,null,0,0.105,0,"SINAPI","7307"]
[null,null,null,null,null,null,null,null,0,0.105,0,"SINAPI","0154"]
[null,null,null,null,null,null,null,null,0,0.105,0,"Cotação",""]
[null,null,null,null,null,null,null,null,0,0.105,0,"Cotação",""]
[null,null,null,null,null,null,null,null,0,0.105,0,"Cotação",""]
[null,null,null,null,null,null,null,null,0,0.105,0,"Cotação",""]
[null,null,null,null,null,null,null,null,0,0.105,0,"Cotação",""]
[null,null,null,null,null,null,null,null,0,0.105,0,"Cotação",""]
[null,null,null,null,null,null,null,null,0,0.105,0,"Cotação",""]
[null,null,null,null,null,null,null,null,0,0.105,0,"Cotação",""]
[null,null,null,null,null,null,null,null,0,0.105,0,"Cotação",""]
[null,null,null,null,null,null,null,null,0,0.105,0,"Cotação",""]
[null,null,null,null,null,null,null,null,0,0.105,0,"Cotação",""]
[null,null,null,null,null,null,null,null,0,0.105,0,"Cotação",""]
[null,null,null,null,null,null,null,null,0,0.105,0,"Cotação",""]
[null,null,null,null,null,null,null,null,0,0.105,0,"Cotação",""]
[null,null,null,null,null,null,null,null,{"$f":"H969*F969","v":0},0.105,{"$f":"ROUND(I969*(1+J969),2)","v":0},"Cotação",""]
[null,null,null,null,null,null,null,null,0,{"$f":"J969","v":0.105},0,"Cotação",""]
[null,null,null,null,null,null,null,null,0,0.105,0,"Cotação",""]
[null,null,null,null,null,null,null,null,0,0.105,0,"Cotação",""]
[null,null,null,null,null,null,null,null,0,0.105,0,"Cotação",""]
[null,null,null,null,null,null,null,null,0,0.105,0,"Cotação",""]
[null,null,null,null,null,null,null,null,0,0.105,0,"Cotação",""]
[null,null,null,null,null,null,null,null,0,0.105,0,"Cotação",""]
[null,null,null,null,null,null,null,null,0,0.105,0,"SINAPI","3777"]
[null,null,null,null,null,null,null,null,0,0.105,0,"Cotação",""]
[null,null,null,null,null,null,null,null,0,0.105,0,"SINAPI","12815"]
[null,null,null,null,null,null,null,null,0,0.105,0,"Cotação",""]
[null,null,null,null,null,null,null,null,0,0.105,0,"Cotação",""]
[null,null,null,null,null,null,null,null,0,0.105,0,"Cotação",""]
[null,null,null,null,null,null,null,null,0,0.105,0,"Cotação",""]
[null,null,null,null,null,null,null,null,0,0.105,0,"Cotação",""]
[null,null,null,null,null,null,null,null,0,0.105,0,"Cotação",""]
[null,null,null,null,null,null,null,null,0,0.105,0,"Cotação",""]
[null,null,null,null,null,null,null,null,0,0.105,0,"Cotação",""]
[null,null,null,null,null,null,null,null,0,0.105,0,"Cotação",""]
[null,null,null,null,null,null,null,null,0,0.105,0,"Cotação",""]
[null,null,null,null,null,null,null,null,0,0.105,0,"Cotação",""]
[null,null,null,null,null,null,null,null,0,0.105,0,"Cotação",""]
[null,null,null,null,null,null,null,null,0,0.105,0,"Cotação",""]
[null,null,null,null,null,null,null,null,0,0.105,0,"Cotação",""]
[null,null,null,null,null,null,null,null,0,0.105,0,"Cotação",""]
[null,null,null,null,null,null,null,null,0,0.105,0,"Cotação",""]
[null,null,null,null,null,null,null,null,0,0.105,0,"Cotação",""]
[null,null,null,null,null,null,null,null,0,0.105,0,"Cotação",""]
[null,null,null,null,null,null,null,null,0,0.105,0,"Cotação",""]
[null,null,null,null,null,null,null,null,0,0.105,0,"Cotação",""]
[null,null,null,null,null,null,null,null,0,0.105,0,"Cotação",""]
[null,null,null,null,null,null,null,null,0,0.105,0,"Cotação",""]
[null,null,null,null,null,null,null,null,0,0.105,0,"Cotação",""]
[null,null,null,null,null,null,null,null,0,0.105,0,"Cotação",""]
[null,null,null,null,null,null,null,null,0,0.105,0,"Cotação",""]
[null,null,null,null,null,null,null,null,0,0.105,0,"Cotação",""]
[null,null,null,null,null,null,null,null,0,0.105,0,"Cotação",""]
[null,null,null,null,null,null,null,null,0,0.105,0,"Cotação",""]
[null,null,null,null,null,null,null,null,0,0.105,0,"Cotação",""]
[null,null,null,null,null,null,null,null,0,0.105,0,"Cotação",""]
[null,null,null,null,null,null,null,null,0,0.105,0,"Cotação",""]
[null,null,null,null,null,null,null,null,0,0.105,0,"Cotação",""]
[null,null,null,null,null,null,null,null,0,0.105,0,"Cotação",""]
[null,null,null,null,null,null,null,null,0,0.105,0,"Cotação",""]
[null,null,null,null,null,null,null,null,0,0.105,0,"Cotação",""]
[null,null,null,null,null,null,null,null,0,0.105,0,"Cotação",""]
[null,null,null,null,null,null,null,null,0,0.105,0,"Cotação",""]
[null,null,null,null,null,null,null,null,0,0.105,0,"Cotação",""]
[null,null,null,null,null,null,null,null,0,0.105,0,"Cotação",""]
[null,null,null,null,null,null,null,null,0,0.105,0,"Cotação",""]
[null,null,null,null,null,null,null,null,0,0.105,0,"SINAPI",38180]
[null,null,null,null,null,null,null,null,0,0.105,0,"SINAPI",38180]
[null,null,null,null,null,null,null,null,0,0.105,0,"SINAPI",38180]
[null,null,null,null,null,null,null,null,0,0.105,0,"SINAPI","4791"]
[null,null,null,null,null,null,null,null,0,0.105,0,"Cotação",""]
[null,null,null,null,null,null,null,null,0,0.105,0,"Cotação",""]
[null,null,null,null,null,null,null,null,0,0.105,0,"SINAPI","11051"]
[null,null,null,null,null,null,null,null,0,0.105,0,"SINAPI","43106"]
[null,null,null,null,null,null,null,null,0,0.105,0,"SINAPI","11046"]
[null,null,null,null,null,null,null,null,0,0.105,0,"SINAPI","1322"]
[null,null,null,null,null,null,null,null,0,0.105,0,"SINAPI","1325"]
[null,null,null,null,null,null,null,null,0,0.105,0,"SINAPI","1323"]
[null,null,null,null,null,null,null,null,0,0.105,0,"SINAPI","1322"]
[null,null,null,null,null,null,null,null,{"$f":"H1033*F1033","v":0},0.105,{"$f":"ROUND(I1033*(1+J1033),2)","v":0},"SINAPI","1318"]
[null,null,null,null,null,null,null,null,0,{"$f":"J1033","v":0.105},0,"Cotação",""]
[null,null,null,null,null,null,null,null,0,0.105,0,"Cotação",""]
[null,null,null,null,null,null,null,null,0,0.105,0,"SINAPI","1330"]
[null,null,null,null,null,null,null,null,0,0.105,0,"SINAPI","1332"]
[null,null,null,null,null,null,null,null,0,0.105,0,"Cotação",""]
[null,null,null,null,null,null,null,null,0,0.105,0,"SINAPI","4777"]
[null,null,null,null,null,null,null,null,0,0.105,0,"SINAPI","4777"]
[null,null,null,null,null,null,null,null,0,0.105,0,"SINAPI","4777"]
[null,null,null,null,null,null,null,null,0,0.105,0,"SINAPI","4777"]
[null,null,null,null,null,null,null,null,0,0.105,0,"SINAPI","4777"]
[null,null,null,null,null,null,null,null,0,0.105,0,"SINAPI","4777"]
[null,null,null,null,null,null,null,null,0,0.105,0,"SINAPI","4777"]
[null,null,null,null,null,null,null,null,0,0.105,0,"SINAPI","4777"]
[null,null,null,null,null,null,null,null,0,0.105,0,"SINAPI","4777"]
[null,null,null,null,null,null,null,null,0,0.105,0,"SINAPI","4777"]
[null,null,null,null,null,null,null,null,0,0.105,0,"SINAPI","4777"]
[null,null,null,null,null,null,null,null,0,0.105,0,"SINAPI","4777"]
[null,null,null,null,null,null,null,null,0,0.105,0,"SINAPI","4777"]
[null,null,null,null,null,null,null,null,0,0.105,0,"SINAPI","4777"]
[null,null,null,null,null,null,null,null,0,0.105,0,"SINAPI","4777"]
[null,null,null,null,null,null,null,null,0,0.105,0,"SINAPI","4777"]
[null,null,null,null,null,null,null,null,0,0.105,0,"SINAPI","4777"]
[null,null,null,null,null,null,null,null,0,0.105,0,"SINAPI","4777"]
[null,null,null,null,null,null,null,null,0,0.105,0,"SINAPI","4777"]
[null,null,null,null,null,null,null,null,0,0.105,0,"SINAPI","4777"]
[null,null,null,null,null,null,null,null,0,0.105,0,"SINAPI","4777"]
[null,null,null,null,null,null,null,null,0,0.105,0,"SINAPI","4777"]
[null,null,null,null,null,null,null,null,0,0.105,0,"SINAPI","4777"]
[null,null,null,null,null,null,null,null,0,0.105,0,"SINAPI","4777"]
[null,null,null,null,null,null,null,null,0,0.105,0,"SINAPI","4777"]
[null,null,null,null,null,null,null,null,0,0.105,0,"SINAPI","4777"]
[null,null,null,null,null,null,null,null,0,0.105,0,"SINAPI","0546"]
[null,null,null,null,null,null,null,null,0,0.105,0,"SINAPI","0546"]
[null,null,null,null,null,null,null,null,0,0.105,0,"SINAPI","0546"]
[null,null,null,null,null,null,null,null,0,0.105,0,"SINAPI","0546"]
[null,null,null,null,null,null,null,null,0,0.105,0,"SINAPI","0546"]
[null,null,null,null,null,null,null,null,0,0.105,0,"SINAPI","0546"]
[null,null,null,null,null,null,null,null,0,0.105,0,"SINAPI","0546"]
[null,null,null,null,null,null,null,null,0,0.105,0,"SINAPI","0546"]
[null,null,null,null,null,null,null,null,0,0.105,0,"SINAPI","0546"]
[null,null,null,null,null,null,null,null,0,0.105,0,"SINAPI","0546"]
[null,null,null,null,null,null,null,null,0,0.105,0,"SINAPI","0546"]
[null,null,null,null,null,null,null,null,0,0.105,0,"SINAPI","0546"]
[null,null,null,null,null,null,null,null,0,0.105,0,"SINAPI","0546"]
[null,null,null,null,null,null,null,null,0,0.105,0,"SINAPI","0546"]
[null,null,null,null,null,null,null,null,0,0.105,0,"SINAPI","0546"]
[null,null,null,null,null,null,null,null,0,0.105,0,"SINAPI","0546"]
[null,null,null,null,null,null,null,null,0,0.105,0,"SINAPI","0546"]
[null,null,null,null,null,null,null,null,0,0.105,0,"SINAPI","0546"]
[null,null,null,null,null,null,null,null,0,0.105,0,"SINAPI","0546"]
[null,null,null,null,null,null,null,null,0,0.105,0,"SINAPI","0546"]
[null,null,null,null,null,null,null,null,0,0.105,0,"SINAPI","0546"]
[null,null,null,null,null,null,null,null,0,0.105,0,"SINAPI","0546"]
[null,null,null,null,null,null,null,null,0,0.105,0,"SINAPI","0546"]
[null,null,null,null,null,null,null,null,0,0.105,0,"SINAPI","0546"]
[null,null,null,null,null,null,null,null,0,0.105,0,"SINAPI","0546"]
[null,null,null,null,null,null,null,null,0,0.105,0,"SINAPI","0546"]
[null,null,null,null,null,null,null,null,0,0.105,0,"SINAPI","0546"]
[null,null,null,null,null,null,null,null,0,0.105,0,"SINAPI","0546"]
[null,null,null,null,null,null,null,null,0,0.105,0,"SINAPI","0546"]
[null,null,null,null,null,null,null,null,0,0.105,0,"SINAPI","0546"]
[null,null,null,null,null,null,null,null,0,0.105,0,"SINAPI","0546"]
[null,null,null,null,null,null,null,null,0,0.105,0,"SINAPI","0546"]
[null,null,null,null,null,null,null,null,{"$f":"H1097*F1097","v":0},0.105,{"$f":"ROUND(I1097*(1+J1097),2)","v":0},"Cotação",""]
[null,null,null,null,null,null,null,null,0,{"$f":"J1097","v":0.105},0,"Cotação",""]
[null,null,null,null,null,null,null,null,0,0.105,0,"Cotação",""]
[null,null,null,null,null,null,null,null,0,0.105,0,"Cotação",""]
[null,null,null,null,null,null,null,null,0,0.105,0,"Cotação",""]
[null,null,null,null,null,null,null,null,0,0.105,0,"Cotação",""]
[null,null,null,null,null,null,null,null,0,0.105,0,"Cotação",""]
[null,null,null,null,null,null,null,null,0,0.105,0,"Cotação",""]
[null,null,null,null,null,null,null,null,0,0.105,0,"Cotação",""]
[null,null,null,null,null,null,null,null,0,0.105,0,"Cotação",""]
[null,null,null,null,null,null,null,null,0,0.105,0,"Cotação",""]
[null,null,null,null,null,null,null,null,0,0.105,0,"Cotação",""]
[null,null,null,null,null,null,null,null,0,0.105,0,"Cotação",""]
[null,null,null,null,null,null,null,null,0,0.105,0,"Cotação",""]
[null,null,null,null,null,null,null,null,0,0.105,0,"Cotação",""]
[null,null,null,null,null,null,null,null,0,0.105,0,"Cotação",""]
[null,null,null,null,null,null,null,null,0,0.105,0,"Cotação",""]
[null,null,null,null,null,null,null,null,0,0.105,0,"Cotação",""]
[null,null,null,null,null,null,null,null,0,0.105,0,"Cotação",""]
[null,null,null,null,null,null,null,null,0,0.105,0,"Cotação",""]
[null,null,null,null,null,null,null,null,0,0.105,0,"Cotação",""]
[null,null,null,null,null,null,null,null,0,0.105,0,"Cotação",""]
[null,null,null,null,null,null,null,null,0,0.105,0,"Cotação",""]
[null,null,null,null,null,null,null,null,0,0.105,0,"Cotação",""]
[null,null,null,null,null,null,null,null,0,0.105,0,"Cotação",""]
[null,null,null,null,null,null,null,null,0,0.105,0,"Cotação",""]
[null,null,null,null,null,null,null,null,0,0.105,0,"Cotação",""]
[null,null,null,null,null,null,null,null,0,0.105,0,"Cotação",""]
[null,null,null,null,null,null,null,null,0,0.105,0,"Cotação",""]
[null,null,null,null,null,null,null,null,0,0.105,0,"Cotação",""]
[null,null,null,null,null,null,null,null,0,0.105,0,"Cotação",""]
[null,null,null,null,null,null,null,null,0,0.105,0,"Cotação",""]
[null,null,null,null,null,null,null,null,0,0.105,0,"Cotação",""]
[null,null,null,null,null,null,null,null,0,0.105,0,"Cotação",""]
[null,null,null,null,null,null,null,null,0,0.105,0,"Cotação",""]
[null,null,null,null,null,null,null,null,0,0.105,0,"Cotação",""]
[null,null,null,null,null,null,null,null,0,0.105,0,"Cotação",""]
[null,null,null,null,null,null,null,null,0,0.105,0,"Cotação",""]
[null,null,null,null,null,null,null,null,0,0.105,0,"Cotação",""]
[null,null,null,null,null,null,null,null,0,0.105,0,"Cotação",""]
[null,null,null,null,null,null,null,null,0,0.105,0,"Cotação",""]
[null,null,null,null,null,null,null,null,0,0.105,0,"Cotação",""]
[null,null,null,null,null,null,null,null,0,0.105,0,"Cotação",""]
[null,null,null,null,null,null,null,null,0,0.105,0,"Cotação",""]
[null,null,null,null,null,null,null,null,0,0.105,0,"Cotação",""]
[null,null,null,null,null,null,null,null,0,0.105,0,"Cotação",""]
[null,null,null,null,null,null,null,null,0,0.105,0,"Cotação",""]
[null,null,null,null,null,null,null,null,0,0.105,0,"Cotação",""]
[null,null,null,null,null,null,null,null,0,0.105,0,"Cotação",""]
[null,null,null,null,null,null,null,null,0,0.105,0,"Cotação",""]
[null,null,null,null,null,null,null,null,0,0.105,0,"Cotação",""]
[null,null,null,null,null,null,null,null,0,0.105,0,"Cotação",""]
[null,null,null,null,null,null,null,null,0,0.105,0,"Cotação",""]
[null,null,null,null,null,null,null,null,0,0.105,0,"Cotação",""]
[null,null,null,null,null,null,null,null,0,0.105,0,"Cotação",""]
[null,null,null,null,null,null,null,null,0,0.105,0,"Cotação",""]
[null,null,null,null,null,null,null,null,0,0.105,0,"Cotação",""]
[null,null,null,null,null,null,null,null,0,0.105,0,"Cotação",""]
[null,null,null,null,null,null,null,null,0,0.105,0,"Cotação",""]
[null,null,null,null,null,null,null,null,0,0.105,0,"Cotação",""]
[null,null,null,null,null,null,null,null,0,0.105,0,"Cotação",""]
[null,null,null,null,null,null,null,null,0,0.105,0,"Cotação",""]
[null,null,null,null,null,null,null,null,0,0.105,0,"Cotação",""]
[null,null,null,null,null,null,null,null,0,0.105,0,"Cotação",""]
[null,null,null,null,null,null,null,null,{"$f":"H1161*F1161","v":0},0.105,{"$f":"ROUND(I1161*(1+J1161),2)","v":0},"Cotação",""]
[null,null,null,null,null,null,null,null,0,{"$f":"J1161","v":0.105},0,"Cotação",""]
[null,null,null,null,null,null,null,null,0,0.105,0,"Cotação",""]
[null,null,null,null,null,null,null,null,0,0.105,0,"Cotação",""]
[null,null,null,null,null,null,null,null,0,0.105,0,"Cotação",""]
[null,null,null,null,null,null,null,null,0,0.105,0,"Cotação",""]
[null,null,null,null,null,null,null,null,0,0.105,0,"Cotação",""]
[null,null,null,null,null,null,null,null,0,0.105,0,"Cotação",""]
[null,null,null,null,null,null,null,null,0,0.105,0,"Cotação",""]
[null,null,null,null,null,null,null,null,0,0.105,0,"Cotação",""]
[null,null,null,null,null,null,null,null,0,0.105,0,"Cotação",""]
[null,null,null,null,null,null,null,null,0,0.105,0,"Cotação",""]
[null,null,null,null,null,null,null,null,0,0.105,0,"Cotação",""]
[null,null,null,null,null,null,null,null,0,0.105,0,"Cotação",""]
[null,null,null,null,null,null,null,null,0,0.105,0,"Cotação",""]
[null,null,null,null,null,null,null,null,0,0.105,0,"Cotação",""]
[null,null,null,null,null,null,null,null,0,0.105,0,"Cotação",""]
[null,null,null,null,null,null,null,null,0,0.105,0,"Cotação",""]
[null,null,null,null,null,null,null,null,0,0.105,0,"Cotação",""]
[null,null,null,null,null,null,null,null,0,0.105,0,"Cotação",""]
[null,null,null,null,null,null,null,null,0,0.105,0,"Cotação",""]
[null,null,null,null,null,null,null,null,0,0.105,0,"SINAPI","43663"]
[null,null,null,null,null,null,null,null,0,0.105,0,"SINAPI","43665"]
[null,null,null,null,null,null,null,null,0,0.105,0,"Cotação",""]
[null,null,null,null,null,null,null,null,0,0.105,0,"Cotação",""]
[null,null,null,null,null,null,null,null,0,0.105,0,"Cotação",""]
[null,null,null,null,null,null,null,null,0,0.105,0,"Cotação",""]
[null,null,null,null,null,null,null,null,0,0.105,0,"Cotação",""]
[null,null,null,null,null,null,null,null,0,0.105,0,"Cotação",""]
[null,null,null,null,null,null,null,null,0,0.105,0,"Cotação",""]
[null,null,null,null,null,null,null,null,0,0.105,0,"Cotação",""]
[null,null,null,null,null,null,null,null,0,0.105,0,"Cotação",""]
[null,null,null,null,null,null,null,null,0,0.105,0,"Cotação",""]
[null,null,null,null,null,null,null,null,0,0.105,0,"Cotação",""]
[null,null,null,null,null,null,null,null,0,0.105,0,"Cotação",""]
[null,null,null,null,null,null,null,null,0,0.105,0,"Cotação",""]
[null,null,null,null,null,null,null,null,0,0.105,0,"Cotação",""]
[null,null,null,null,null,null,null,null,0,0.105,0,"Cotação",""]
[null,null,null,null,null,null,null,null,0,0.105,0,"Cotação",""]
[null,null,null,null,null,null,null,null,0,0.105,0,"Cotação",""]
[null,null,null,null,null,null,null,null,0,0.105,0,"Cotação",""]
[null,null,null,null,null,null,null,null,0,0.105,0,"Cotação",""]
[null,null,null,null,null,null,null,null,0,0.105,0,"Cotação",""]
[null,null,null,null,null,null,null,null,0,0.105,0,"Cotação",""]
[null,null,null,null,null,null,null,null,0,0.105,0,"Cotação",""]
[null,null,null,null,null,null,null,null,0,0.105,0,"Cotação",""]
[null,null,null,null,null,null,null,null,0,0.105,0,"Cotação",""]
[null,null,null,null,null,null,null,null,0,0.105,0,"Cotação",""]
[null,null,null,null,null,null,null,null,0,0.105,0,"Cotação",""]
[null,null,null,null,null,null,null,null,0,0.105,0,"Cotação",""]
[null,null,null,null,null,null,null,null,0,0.105,0,"Cotação",""]
[null,null,null,null,null,null,null,null,0,0.105,0,"Cotação",""]
[null,null,null,null,null,null,null,null,0,0.105,0,"Cotação",""]
[null,null,null,null,null,null,null,null,0,0.105,0,"Cotação",""]
[null,null,null,null,null,null,null,null,0,0.105,0,"Cotação",""]
[null,null,null,null,null,null,null,null,0,0.105,0,"Cotação",""]
[null,null,null,null,null,null,null,null,0,0.105,0,"Cotação",""]
[null,null,null,null,null,null,null,null,0,0.105,0,"Cotação",""]
[null,null,null,null,null,null,null,null,0,0.105,0,"Cotação",""]
[null,null,null,null,null,null,null,null,0,0.105,0,"Cotação",""]
[null,null,null,null,null,null,null,null,0,0.105,0,"Cotação",""]
[null,null,null,null,null,null,null,null,0,0.105,0,"Cotação",""]
[null,null,null,null,null,null,null,null,0,0.105,0,"Cotação",""]
[null,null,null,null,null,null,null,null,0,0.105,0,"Cotação",""]
[null,null,null,null,null,null,null,null,{"$f":"H1225*F1225","v":0},0.105,{"$f":"ROUND(I1225*(1+J1225),2)","v":0},"Cotação",""]
[null,null,null,null,null,null,null,null,0,{"$f":"J1225","v":0.105},0,"Cotação",""]
[null,null,null,null,null,null,null,null,0,0.105,0,"Cotação",""]
[null,null,null,null,null,null,null,null,0,0.105,0,"Cotação",""]
[null,null,null,null,null,null,null,null,0,0.105,0,"Cotação",""]
[null,null,null,null,null,null,null,null,0,0.105,0,"Cotação",""]
[null,null,null,null,null,null,null,null,0,0.105,0,"Cotação",""]
[null,null,null,null,null,null,null,null,0,0.105,0,"Cotação",""]
[null,null,null,null,null,null,null,null,0,0.105,0,"Cotação",""]
[null,null,null,null,null,null,null,null,0,0.105,0,"Cotação",""]
[null,null,null,null,null,null,null,null,0,0.105,0,"Cotação",""]
[null,null,null,null,null,null,null,null,0,0.105,0,"Cotação",""]
[null,null,null,null,null,null,null,null,0,0.105,0,"Cotação",""]
[null,null,null,null,null,null,null,null,0,0.105,0,"Cotação",""]
[null,null,null,null,null,null,null,null,0,0.105,0,"Cotação",""]
[null,null,null,null,null,null,null,null,0,0.105,0,"Cotação",""]
[null,null,null,null,null,null,null,null,0,0.105,0,"Cotação",""]
[null,null,null,null,null,null,null,null,0,0.105,0,"Cotação",""]
[null,null,null,null,null,null,null,null,0,0.105,0,"Cotação",""]
[null,null,null,null,null,null,null,null,0,0.105,0,"Cotação",""]
[null,null,null,null,null,null,null,null,0,0.105,0,"SINAPI","11002"]
[null,null,null,null,null,null,null,null,0,0.105,0,"Cotação",""]
[null,null,null,null,null,null,null,null,0,0.105,0,"Cotação",""]
[null,null,null,null,null,null,null,null,0,0.105,0,"Cotação",""]
[null,null,null,null,null,null,null,null,0,0.105,0,"Cotação",""]
[null,null,null,null,null,null,null,null,0,0.105,0,"Cotação",""]
[null,null,null,null,null,null,null,null,0,0.105,0,"Cotação",""]
[null,null,null,null,null,null,null,null,0,0.105,0,"Cotação",""]
[null,null,null,null,null,null,null,null,0,0.105,0,"Cotação",""]
[null,null,null,null,null,null,null,null,0,0.105,0,"Cotação",""]
[null,null,null,null,null,null,null,null,0,0.105,0,"Cotação",""]
[null,null,null,null,null,null,null,null,0,0.105,0,"Cotação",""]
[null,null,null,null,null,null,null,null,0,0.105,0,"Cotação",""]
[null,null,null,null,null,null,null,null,0,0.105,0,"Cotação",""]
[null,null,null,null,null,null,null,null,0,0.105,0,"Cotação",""]
[null,null,null,null,null,null,null,null,0,0.105,0,"Cotação",""]
[null,null,null,null,null,null,null,null,0,0.105,0,"Cotação",""]
[null,null,null,null,null,null,null,null,0,0.105,0,"Cotação",""]
[null,null,null,null,null,null,null,null,0,0.105,0,"Cotação",""]
[null,null,null,null,null,null,null,null,0,0.105,0,"Cotação",""]
[null,null,null,null,null,null,null,null,0,0.105,0,"Cotação",""]
[null,null,null,null,null,null,null,null,0,0.105,0,"Cotação",""]
[null,null,null,null,null,null,null,null,0,0.105,0,"Cotação",""]
[null,null,null,null,null,null,null,null,0,0.105,0,"Cotação",""]
[null,null,null,null,null,null,null,null,0,0.105,0,"Cotação",""]
[null,null,null,null,null,null,null,null,0,0.105,0,"Cotação",""]
[null,null,null,null,null,null,null,null,0,0.105,0,"Cotação",""]
[null,null,null,null,null,null,null,null,0,0.105,0,"Cotação",""]
[null,null,null,null,null,null,null,null,0,0.105,0,"Cotação",""]
[null,null,null,null,null,null,null,null,0,0.105,0,"Cotação",""]
[null,null,null,null,null,null,null,null,0,0.105,0,"SINAPI","38140"]
[null,null,null,null,null,null,null,null,0,0.105,0,"Cotação",""]
[null,null,null,null,null,null,null,null,0,0.105,0,"Cotação",""]
[null,null,null,null,null,null,null,null,0,0.105,0,"Cotação",""]
[null,null,null,null,null,null,null,null,0,0.105,0,"Cotação",""]
[null,null,null,null,null,null,null,null,0,0.105,0,"Cotação",""]
[null,null,null,null,null,null,null,null,0,0.105,0,"SINAPI","3768"]
[null,null,null,null,null,null,null,null,0,0.105,0,"Cotação",""]
[null,null,null,null,null,null,null,null,0,0.105,0,"Cotação",""]
[null,null,null,null,null,null,null,null,0,0.105,0,"Cotação",""]
[null,null,null,null,null,null,null,null,0,0.105,0,"Cotação",""]
[null,null,null,null,null,null,null,null,0,0.105,0,"Cotação",""]
[null,null,null,null,null,null,null,null,0,0.105,0,"Cotação",""]
[null,null,null,null,null,null,null,null,0,0.105,0,"Cotação",""]
[null,null,null,null,null,null,null,null,{"$f":"H1289*F1289","v":0},0.105,{"$f":"ROUND(I1289*(1+J1289),2)","v":0},"Cotação",""]
[null,null,null,null,null,null,null,null,0,{"$f":"J1289","v":0.105},0,"Cotação",""]
[null,null,null,null,null,null,null,null,0,0.105,0,"Cotação",""]
[null,null,null,null,null,null,null,null,0,0.105,0,"Cotação",""]
[null,null,null,null,null,null,null,null,0,0.105,0,"Cotação",""]
[null,null,null,null,null,null,null,null,0,0.105,0,"Cotação",""]
[null,null,null,null,null,null,null,null,0,0.105,0,"Cotação",""]
[null,null,null,null,null,null,null,null,0,0.105,0,"Cotação",""]
[null,null,null,null,null,null,null,null,0,0.105,0,"Cotação",""]
[null,null,null,null,null,null,null,null,0,0.105,0,"Cotação",""]
[null,null,null,null,null,null,null,null,0,0.105,0,"Cotação",""]
[null,null,null,null,null,null,null,null,0,0.105,0,"Cotação",""]
[null,null,null,null,null,null,null,null,0,0.105,0,"Cotação",""]
[null,null,null,null,null,null,null,null,0,0.105,0,"Cotação",""]
[null,null,null,null,null,null,null,null,0,0.105,0,"SINAPI","4224"]
[null,null,null,null,null,null,null,null,0,0.105,0,"Cotação",""]
[null,null,null,null,null,null,null,null,0,0.105,0,"SINAPI","4226"]
[null,null,null,null,null,null,null,null,0,0.105,0,"Cotação",""]
[null,null,null,null,null,null,null,null,0,0.105,0,"SINAPI","0002"]
[null,null,null,null,null,null,null,null,0,0.105,0,"Cotação",""]
[null,null,null,null,null,null,null,null,0,0.105,0,"Cotação",""]
[null,null,null,null,null,null,null,null,0,0.105,0,"Cotação",""]
[null,null,null,null,null,null,null,null,0,0.105,0,"Cotação",""]
[null,null,null,null,null,null,null,null,0,0.105,0,"Cotação",""]
[null,null,null,null,null,null,null,null,0,0.105,0,"Cotação",""]
[null,null,null,null,null,null,null,null,0,0.105,0,"Cotação",""]
[null,null,null,null,null,null,null,null,0,0.105,0,"Cotação",""]
[null,null,null,null,null,null,null,null,0,0.105,0,"Cotação",""]
[null,null,null,null,null,null,null,null,0,0.105,0,"Cotação",""]
[null,null,null,null,null,null,null,null,0,0.105,0,"Cotação",""]
[null,null,null,null,null,null,null,null,0,0.105,0,"Cotação",""]
[null,null,null,null,null,null,null,null,0,0.105,0,"Cotação",""]
[null,null,null,null,null,null,null,null,0,0.105,0,"Cotação",""]
[null,null,null,null,null,null,null,null,0,0.105,0,"Cotação",""]
[null,null,null,null,null,null,null,null,0,0.105,0,"Cotação",""]
[null,null,null,null,null,null,null,null,0,0.105,0,"Cotação",""]
[null,null,null,null,null,null,null,null,0,0.105,0,"Cotação",""]
[null,null,null,null,null,null,null,null,0,0.105,0,"Cotação",""]
[null,null,null,null,null,null,null,null,0,0.105,0,"Cotação",""]
[null,null,null,null,null,null,null,null,0,0.105,0,"Cotação",""]
[null,null,null,null,null,null,null,null,0,0.105,0,"Cotação",""]
[null,null,null,null,null,null,null,null,0,0.105,0,"Cotação",""]
[null,null,null,null,null,null,null,null,0,0.105,0,"Cotação",""]
[null,null,null,null,null,null,null,null,0,0.105,0,"Cotação",""]
[null,null,null,null,null,null,null,null,0,0.105,0,"Cotação",""]
[null,null,null,null,null,null,null,null,0,0.105,0,"Cotação",""]
[null,null,null,null,null,null,null,null,0,0.105,0,"Cotação",""]
[null,null,null,null,null,null,null,null,0,0.105,0,"Cotação",""]
[null,null,null,null,null,null,null,null,0,0.105,0,"Cotação",""]
[null,null,null,null,null,null,null,null,0,0.105,0,"Cotação",""]
[null,null,null,null,null,null,null,null,0,0.105,0,"Cotação",""]
[null,null,null,null,null,null,null,null,0,0.105,0,"Cotação",""]
[null,null,null,null,null,null,null,null,0,0.105,0,"Cotação",""]
[null,null,null,null,null,null,null,null,0,0.105,0,"Cotação",""]
[null,null,null,null,null,null,null,null,0,0.105,0,"Cotação",""]
[null,null,null,null,null,null,null,null,0,0.105,0,"Cotação",""]
[null,null,null,null,null,null,null,null,0,0.105,0,"Cotação",""]
[null,null,null,null,null,null,null,null,0,0.105,0,"Cotação",""]
[null,null,null,null,null,null,null,null,0,0.105,0,"Cotação",""]
[null,null,null,null,null,null,null,null,0,0.105,0,"Cotação",""]
[null,null,null,null,null,null,null,null,0,0.105,0,"Cotação",""]
[null,null,null,null,null,null,null,null,0,0.105,0,"Cotação",""]
[null,null,null,null,null,null,null,null,0,0.105,0,"Cotação",""]
[null,null,null,null,null,null,null,null,0,0.105,0,"Cotação",""]
[null,null,null,null,null,null,null,null,{"$f":"H1353*F1353","v":0},0.105,{"$f":"ROUND(I1353*(1+J1353),2)","v":0},"Cotação",""]
[null,null,null,null,null,null,null,null,0,{"$f":"J1353","v":0.105},0,"Cotação",""]
[null,null,null,null,null,null,null,null,0,0.105,0,"Cotação",""]
[null,null,null,null,null,null,null,null,0,0.105,0,"Cotação",""]
[null,null,null,null,null,null,null,null,0,0.105,0,"Cotação",""]
[null,null,null,null,null,null,null,null,0,0.105,0,"Cotação",""]
[null,null,null,null,null,null,null,null,0,0.105,0,"Cotação",""]
[null,null,null,null,null,null,null,null,0,0.105,0,"Cotação",""]
[null,null,null,null,null,null,null,null,0,0.105,0,"Cotação",""]
[null,null,null,null,null,null,null,null,0,0.105,0,"Cotação",""]
[null,null,null,null,null,null,null,null,0,0.105,0,"Cotação",""]
[null,null,null,null,null,null,null,null,0,0.105,0,"Cotação",""]
[null,null,null,null,null,null,null,null,0,0.105,0,"Cotação",""]
[null,null,null,null,null,null,null,null,0,0.105,0,"Cotação",""]
[null,null,null,null,null,null,null,null,0,0.105,0,"Cotação",""]
[null,null,null,null,null,null,null,null,0,0.105,0,"Cotação",""]
[null,null,null,null,null,null,null,null,0,0.105,0,"Cotação",""]
[null,null,null,null,null,null,null,null,0,0.105,0,"SINAPI","34384"]
[null,null,null,null,null,null,null,null,0,0.105,0,"Cotação",""]
[null,null,null,null,null,null,null,null,0,0.105,0,"Cotação",""]
[null,null,null,null,null,null,null,null,0,0.105,0,"SINAPI","11186"]
[null,null,null,null,null,null,null,null,0,0.105,0,"Cotação",""]
[null,null,null,null,null,null,null,null,0,0.105,0,"Cotação",""]
[null,null,null,null,null,null,null,null,0,0.105,0,"Cotação",""]
[null,null,null,null,null,null,null,null,0,0.105,0,"SINAPI","10498"]
[null,null,null,null,null,null,null,null,0,0.105,0,"Cotação",""]
[null,null,null,null,null,null,null,null,0,0.105,0,"Cotação",""]
[null,null,null,null,null,null,null,null,0,0.105,0,"Cotação",""]
[null,null,null,null,null,null,null,null,0,0.105,0,"Cotação",""]
[null,null,null,null,null,null,null,null,0,0.105,0,"Cotação",""]
[null,null,null,null,null,null,null,null,0,0.105,0,"Cotação",""]
[null,null,null,null,null,null,null,null,0,0.105,0,"Cotação",""]
[null,null,null,null,null,null,null,null,0,0.105,0,"Cotação",""]
[null,null,null,null,null,null,null,null,0,0.105,0,"Cotação",""]
[null,null,null,null,null,null,null,null,0,0.105,0,"Cotação",""]
[null,null,null,null,null,null,null,null,0,0.105,0,"Cotação",""]
[null,null,null,null,null,null,null,null,0,0.105,0,"Cotação",""]
[null,null,null,null,null,null,null,null,0,0.105,0,"Cotação",""]
[null,null,null,null,null,null,null,null,0,0.105,0,"Cotação",""]
[null,null,null,null,null,null,null,null,0,0.105,0,"Cotação",""]
[null,null,null,null,null,null,null,null,0,0.105,0,"Cotação",""]
[null,null,null,null,null,null,null,null,0,0.105,0,"Cotação",""]
[null,null,null,null,null,null,null,null,0,0.105,0,"Cotação",""]
[null,null,null,null,null,null,null,null,0,0.105,0,"Cotação",""]
[null,null,null,null,null,null,null,null,0,0.105,0,"Cotação",""]
[null,null,null,null,null,null,null,null,0,0.105,0,"Cotação",""]
[null,null,null,null,null,null,null,null,0,0.105,0,"Cotação",""]
[null,null,null,null,null,null,null,null,0,0.105,0,"Cotação",""]
[null,null,null,null,null,null,null,null,0,0.105,0,"Cotação",""]
[null,null,null,null,null,null,null,null,0,0.105,0,"Cotação",""]
[null,null,null,null,null,null,null,null,0,0.105,0,"Cotação",""]
[null,null,null,null,null,null,null,null,0,0.105,0,"Cotação",""]
[null,null,null,null,null,null,null,null,0,0.105,0,"Cotação",""]
[null,null,null,null,null,null,null,null,0,0.105,0,"Cotação",""]
[null,null,null,null,null,null,null,null,0,0.105,0,"Cotação",""]
[null,null,null,null,null,null,null,null,0,0.105,0,"Cotação",""]
[null,null,null,null,null,null,null,null,0,0.105,0,"Cotação",""]
[null,null,null,null,null,null,null,null,0,0.105,0,"Cotação",""]
[null,null,null,null,null,null,null,null,0,0.105,0,"Cotação",""]
[null,null,null,null,null,null,null,null,0,0.105,0,"Cotação",""]
[null,null,null,null,null,null,null,null,0,0.105,0,"Cotação",""]
[null,null,null,null,null,null,null,null,0,0.105,0,"Cotação",""]
[null,null,null,null,null,null,null,null,0,0.105,0,"Cotação",""]
[null,null,null,null,null,null,null,null,0,0.105,0,"Cotação",""]
[null,null,null,null,null,null,null,null,{"$f":"H1417*F1417","v":0},0.105,{"$f":"ROUND(I1417*(1+J1417),2)","v":0},"Cotação",""]
[null,null,null,null,null,null,null,null,{"$f":"H1418*F1418","v":0},0.105,{"$f":"ROUND(I1418*(1+J1418),2)","v":0},"Cotação",""]
[null,null,null,null,null,null,null,null,{"$f":"H1419*F1419","v":0},0.105,{"$f":"ROUND(I1419*(1+J1419),2)","v":0},"Cotação",""]
[null,null,null,null,null,null,null,null,{"$f":"H1420*F1420","v":0},0.105,{"$f":"ROUND(I1420*(1+J1420),2)","v":0},"Cotação",""]
[]
[null,null,null,null,null,null,null,null,null,"SOMATÓRIO TOTAL MENSAL",{"$f":"K1423/12","v":0}]
[null,null,null,null,null,null,null,null,null,"SOMATÓRIO TOTAL ANUAL",{"$f":"SUM(K8:K1421)","v":0}]

{"sheet":"N.Relac.-Servicos","index":22,"n_rows":44,"n_cols":12,"rows_kept":44,"cut":false,"hidden":true,"merged":[[2,1,2,4],[3,1,3,11]]}
[]
[]
[]
[null,"SERVIÇOS NÃO RELACIONADOS DIRETAMENTE A UM POSTO DE TRABALHO - AQUISIÇÃO SOB DEMANDA"]
[]
[]
[null,null,"ITEM","CÓDIGO","DESCRIÇÃO","QUANT ANUAL","UNIDADE","CUSTO UNITÁRIO","CUSTO TOTAL","BDI (%)","PREÇO TOTAL","FONTE"]
[]
[null,null,null,null,null,null,null,null,{"$f":"H9*F9","v":0},{"$f":"'BDI servicos'!E27","v":0.23799999999999999},{"$f":"ROUND(I9*(1+J9),2)","v":0},"Cotação"]
[null,null,null,null,null,null,null,null,{"$f":"H10*F10","v":0},{"$f":"J9","v":0.23799999999999999},{"$f":"ROUND(I10*(1+J10),2)","v":0},"Cotação"]
[null,null,null,null,null,null,null,null,0,{"$f":"J10","v":0.23799999999999999},0,"Cotação"]
[null,null,null,null,null,null,null,null,0,0.23799999999999999,0,"Cotação"]
[null,null,null,null,null,null,null,null,0,0.23799999999999999,0,"Cotação"]
[null,null,null,null,null,null,null,null,0,0.23799999999999999,0,"Cotação"]
[null,null,null,null,null,null,null,null,0,0.23799999999999999,0,"SINAPI"]
[null,null,null,null,null,null,null,null,0,0.23799999999999999,0,"SINAPI"]
[null,null,null,null,null,null,null,null,0,0.23799999999999999,0,"SINAPI"]
[null,null,null,null,null,null,null,null,0,0.23799999999999999,0,"Cotação"]
[null,null,null,null,null,null,null,null,0,0.23799999999999999,0,"SINAPI"]
[null,null,null,null,null,null,null,null,0,0.23799999999999999,0,"SINAPI"]
[null,null,null,null,null,null,null,null,0,0.23799999999999999,0,"SINAPI"]
[null,null,null,null,null,null,null,null,{"$f":"H22*F22","v":0},0.23799999999999999,{"$f":"ROUND(I22*(1+J22),2)","v":0},"SINAPI"]
[null,null,null,null,null,null,null,null,0,0.23799999999999999,0,"SINAPI"]
[null,null,null,null,null,null,null,null,0,0.23799999999999999,0,"SINAPI"]
[null,null,null,null,null,null,null,null,0,0.23799999999999999,0,"SINAPI"]
[null,null,null,null,null,null,null,null,0,0.23799999999999999,0,"SINAPI"]
[null,null,null,null,null,null,null,null,0,0.23799999999999999,0,"SINAPI"]
[null,null,null,null,null,null,null,null,0,0.23799999999999999,0,"SINAPI"]
[null,null,null,null,null,null,null,null,0,0.23799999999999999,0,"SINAPI"]
[null,null,null,null,null,null,null,null,0,0.23799999999999999,0,"SINAPI"]
[null,null,null,null,null,null,null,null,0,0.23799999999999999,0,"SINAPI"]
[null,null,null,null,null,null,null,null,0,0.23799999999999999,0,"SINAPI"]
[null,null,null,null,null,null,null,null,0,0.23799999999999999,0,"SINAPI"]
[null,null,null,null,null,null,null,null,0,0.23799999999999999,0,"SINAPI"]
[null,null,null,null,null,null,null,null,0,0.23799999999999999,0,"SINAPI"]
[null,null,null,null,null,null,null,null,0,0.23799999999999999,0,"Cotação"]
[null,null,null,null,null,null,null,null,0,0.23799999999999999,0,"Cotação"]
[null,null,null,null,null,null,null,null,0,0.23799999999999999,0,"Cotação"]
[null,null,null,null,null,null,null,null,0,0.23799999999999999,0,"Cotação"]
[null,null,null,null,null,null,null,null,0,0.23799999999999999,0,"Cotação"]
[null,null,null,null,null,null,null,null,0,0.23799999999999999,0,"Cotação"]
[]
[null,null,null,null,null,null,null,null,null,"SOMATÓRIO TOTAL MENSAL",{"$f":"K44/12","v":0}]
[null,null,null,null,null,null,null,null,null,"SOMATÓRIO TOTAL ANUAL",{"$f":"SUM(K8:K42)","v":0}]

{"sheet":"1","index":23,"n_rows":118,"n_cols":8,"rows_kept":118,"cut":false,"hidden":false,"merged":[[17,1,17,3],[1,1,1,5],[2,1,2,5],[4,1,4,2],[5,1,5,2],[7,1,7,3],[106,1,106,3],[39,3,39,5],[46,1,46,3],[56,1,56,3],[68,3,68,5],[74,1,74,3],[83,1,83,3]]}
[]
[null,"PLANILHA DE ESTIMATIVA DE CUSTOS"]
[null,"Padrão IN 05/2017 e IN 07/2018 - MPDG"]
[]
[null,1,null,{"$f":"HLOOKUP($B$5,'Dados Gerais'!$D$6:$BI$22,6)","v":"SUPERVISOR TÉCNICO OPERACIONAL"},"QUANTIDADE",{"$f":"HLOOKUP($B$5,'Dados Gerais'!$D$6:$BI$22,10)","v":2}]
[null,"CCT",null,{"$f":"HLOOKUP($B$5,'Dados Gerais'!$D$6:$BI$22,16)","v":"SEAC/DF X SINRAD/DF\nCCT 2024/2024\nN.º DF000133/2024"},"DATA-BASE",{"$f":"HLOOKUP($B$5,'Dados Gerais'!$D$6:$BI$22,17)","v":"2024-01-01"}]
[]
[null,"MÓDULO 1 - COMPOSIÇÃO DA REMUNERAÇÃO",null,null,null,"Valor"]
[null,null,"A","Salário-Base",null,{"$f":"HLOOKUP($B$5,'Dados Gerais'!$D$6:$BI$22,8)","v":15828.37}]
[null,null,"B","Adicional de Periculosidade",null,{"$f":"HLOOKUP($B$5,'Dados Gerais'!$D$6:$BI$39,26)","v":0}]
[null,null,"C","Adicional de Insalubridade",null,{"$f":"HLOOKUP($B$5,'Dados Gerais'!$D$6:$BI$39,32)","v":0}]
[null,null,"D","Adicional Noturno",null,{"$f":"HLOOKUP($B$5,'Dados Gerais'!$D$6:$BI$52,47)","v":0},null,"* Nota 1 - O Módulo 1 refere-se ao valor mensal devido ao empregado pela prestação do serviço no período de 12 meses."]
[null,null,"E","Adicional de Hora Extra",null,{"$f":"HLOOKUP($B$5,'Dados Gerais'!$D$6:$BI$69,64)","v":0},null,"* Nota 2 - O adicional de hora extra no feriado trabalhado foi suprimido pela Lei 13.467/17"]
[null,null,"F","Outros (especificar)",null,{"$f":"HLOOKUP($B$5,'Dados Gerais'!$D$6:$BI$69,34)","v":0},null,"* Nota 3 - ART. 7º, § 2º, DA LEI Nº 605/49.Sendo mensalista o obreiro, o adicional noturno pago de forma fixa já é considerado integrado para os efeitos do pagamento do repouso semanal remunerado, nos termos do art. 7º, § 2º, da Lei nº 605/49."]
[]
[null,null,null,"TOTAL DA REMUNERAÇÃO",null,{"$f":"SUM(F9:F14)","v":15828.37}]
[]
[null,"MÓDULO 2 - ENCARGOS E BENEFÍCIOS ANUAIS, MENSAIS E DIÁRIOS",null,null,"Percentuais","Valor"]
[null,"Submódulo 2.1 - 13º Salário, Férias e Adicional de Férias"]
[null,null,"A","13º Salário - Calculado no Módulo 7 - Destacado",0,{"$f":"ROUND(E20*F$16,2)","v":0}]
[null,null,"B","Adicional de Férias",{"$f":"'Encargos Sociais'!E31","v":3.0300000000000001E-2},{"$f":"ROUND(E21*F$16,2)","v":479.6},null,"* Nota 1 - O adicional de férias foi calculado dividindo-se por 11, para comportar os 11 meses presentes e ainda o ausente do posto"]
[]
[null,"Submódulo 2.2 - Encargos Previdenciários (GPS), Fundo de Garantia por Tempo de Serviço (FGTS) e Outras Contribuições"]
[null,null,"A",{"$f":"'Encargos Sociais'!D14","v":"INSS (art. 22, inciso I, Lei nº 8.212/91)"},{"$f":"'Encargos Sociais'!E14","v":0.2},{"$f":"ROUND(E24*($F$16+$F$21+$F$73),2)","v":3612.67},null,"* Nota 1 - Os percentuais dos encargos previdenciários, do FGTS e demais contribuições são estabelecidos por legislação vigente."]
[null,null,"B",{"$f":"'Encargos Sociais'!D15","v":"Salário Educação (art. 3º, inciso I, Decreto nº 87.043/82)"},{"$f":"'Encargos Sociais'!E15","v":2.5000000000000001E-2},{"$f":"ROUND(E25*($F$16+$F$21+$F$73),2)","v":451.58},null,"* Nota 2 - O SAT, a depender do grau de risco do serviço, irá variar entre 1%, para risco leve, de 2%, para risco médio, e de 3% para risco grave."]
[null,null,"C",{"$f":"'Encargos Sociais'!D16","v":"SAT/RAT (art. 22, II, Lei 8.212/91 e Anexo V, Decreto 6.042/07) - Enquadramento 5911-1/99 "},{"$f":"'Encargos Sociais'!E16","v":0.01},{"$f":"ROUND(E26*($F$16+$F$21+$F$73),2)","v":180.63},null,"* Nota 3 - Base de cálculo - remuneração + ausências + terço constitucional (férias)"]
[null,null,"D",{"$f":"'Encargos Sociais'!D17","v":"SESC ou SESI (art. 30, Lei nº 8.036/90 e art. 1º, Lei 8.154/90)"},{"$f":"'Encargos Sociais'!E17","v":1.4999999999999999E-2},270.95]
[null,null,"E",{"$f":"'Encargos Sociais'!D18","v":"SENAI ou SENAC (Decreto nº 2.318/86)"},{"$f":"'Encargos Sociais'!E18","v":0.01},180.63]
[null,null,"F",{"$f":"'Encargos Sociais'!D19","v":"SEBRAE (§ 3º, art. 8º, Lei 8.029/90, alterada pela Lei nº 8.154/90)"},{"$f":"'Encargos Sociais'!E19","v":6.0000000000000001E-3},108.38]
[null,null,"G",{"$f":"'Encargos Sociais'!D20","v":"INCRA (art. 1º, I, Decreto Lei 1.146/70 e Lei 7.787, de 30/06/89)"},{"$f":"'Encargos Sociais'!E20","v":2E-3},36.130000000000003]
[null,null,"H",{"$f":"'Encargos Sociais'!D21","v":"FGTS (Lei Complementar nº 110/01 e art. 30, Lei nº 8.036/90)"},{"$f":"'Encargos Sociais'!E21","v":0.08},1445.07]
[null,null,"I",{"$f":"'Encargos Sociais'!D22","v":"SECONCI (Convenções Coletivas de Trabalho da construção)"},{"$f":"'Encargos Sociais'!E22","v":0},0]
[]
[null,"Submódulo 2.3 - Benefícios Mensais e Diários"]
[null,null,"A","Auxílio Transporte",null,{"$f":"HLOOKUP($B$5,'Dados Gerais'!$D$6:$BI$95,83)","v":0},null,"* Nota 1 - O valor informado deverá ser o custo real do benefício (descontado o valor eventualmente pago pelo empregado)."]
[null,null,"B","Auxílio Alimentação",null,{"$f":"HLOOKUP($B$5,'Dados Gerais'!$D$6:$BI$95,90)","v":957},null,"* Nota 2 - Observar a previsão dos benefícios contidos em Acordos, Convenções e Dissídios Coletivos de Trabalho e o disposto no art. 6º da IN 5/2017"]
[null,null,"C","Assistência Médica e Familiar",null,{"$f":"HLOOKUP($B$5,'Dados Gerais'!$D$6:$BI$103,98)","v":0}]
[null,null,"D","Outros (Seguro de vida, auxílio funeral, auxílio odontológico e auxílio creche)",null,{"$f":"HLOOKUP($B$5,'Dados Gerais'!$D$6:$BI$132,127)","v":334.57}]
[]
[null,null,null,"QUADRO-RESUMO DO MÓDULO 2"]
[null,null,null,"2.1 - Adicional de Férias",{"$f":"SUM(E20:E21)","v":3.0300000000000001E-2},{"$f":"F20+F21","v":479.6}]
[null,null,null,"2.2 - Encargos Previdenciários (GPS), Fundo de Garantia por Tempo de Serviço (FGTS) e Contribuições",{"$f":"SUM(E24:E32)","v":0.34800000000000003},{"$f":"SUM(F24:F32)","v":6286.04}]
[null,null,null,"2.3 - Benefícios Mensais e Diários",null,{"$f":"SUM(F35:F38)","v":1291.57}]
[]
[null,null,null,"TOTAL DOS ENCARGOS E BENEFÍCIOS",null,{"$f":"SUM(F41:F43)","v":8057.21}]
[]
[null,"MÓDULO 3 - PREVISÃO PARA RESCISÃO",null,null,"Percentuais","Valor"]
[null,null,"A",{"$f":"'Encargos Sociais'!D36","v":"Aviso Prévio Indenizado (Art. 7º, inciso XXI, da CF/1988 e arts. 477, 487, §1º, e 491 da CLT)"},{"$f":"'Encargos Sociais'!E36","v":4.1999999999999997E-3},{"$f":"ROUND(E48*($F$16+$F$41+$F$73),2)","v":75.87},null,"* Nota 1 - Base de cálculo - remuneração + ausências + 1/3 férias"]
[null,null,"B",{"$f":"'Encargos Sociais'!D37","v":"Incidência do FGTS sobre o Aviso Prévio Indenizado (Súmula 305 TST)"},{"$f":"'Encargos Sociais'!E37","v":2.9999999999999997E-4},5.42]
[null,null,"C",{"$f":"'Encargos Sociais'!D38","v":"Multa do FGTS sobre o Aviso Prévio Indenizado (Art. 18, §1º, da Lei 8.036/1990)"},{"$f":"'Encargos Sociais'!E38","v":1.9E-3},34.32]
[null,null,"D",{"$f":"'Encargos Sociais'!D39","v":"Aviso Prévio Trabalhado (Art. 488, parágrafo único, CLT)"},{"$f":"'Encargos Sociais'!E39","v":7.7999999999999996E-3},140.88999999999999]
[null,null,"E",{"$f":"'Encargos Sociais'!D40","v":"Incidência de GPS, FGTS e outras contribuições sobre o Aviso Prévio Trabalhado"},{"$f":"'Encargos Sociais'!E40","v":2.7000000000000001E-3},48.77]
[null,null,"F",{"$f":"'Encargos Sociais'!D41","v":"Multa do FGTS"},{"$f":"'Encargos Sociais'!E41","v":3.8199999999999998E-2},690.02]
[]
[null,null,null,"TOTAL DE PREVISÃO PARA RESCISÃO",null,{"$f":"SUM(F48:F53)","v":995.29}]
[]
[null,"MÓDULO 4 - CUSTO DO PROFISSIONAL AUSENTE",null,null,"Percentuais","Valor"]
[null,"Submódulo 4.1 - Ausências Legais"]
[null,null,"A",{"$f":"'Encargos Sociais'!D25","v":"Férias (Arts. 129 e 130, inc. I, da CLT)"},{"$f":"'Encargos Sociais'!E25","v":9.0899999999999995E-2},{"$f":"ROUND(E59*$F$16,2)","v":1438.8},null,"* Nota 1 - O Módulo 4 refere-se às previsões para custear ausências do próprio profissional (titular do cargo)"]
[null,null,"B",{"$f":"'Encargos Sociais'!D26","v":"Ausências Legais (Arts. 131 e 473 da CLT)"},{"$f":"'Encargos Sociais'!E26","v":7.9000000000000008E-3},125.04,null,"* Nota 2 - As férias foram calculadas dividindo-se por 11, para comportar os 11 meses presentes e ainda o ausente do posto"]
[null,null,"C",{"$f":"'Encargos Sociais'!D27","v":"Licença-Paternidade (Art. 7º, XIX, e art. 10, §1º, do ADCT, CF/1988 e Art. 1º, II, da Lei 11.770/2008)"},{"$f":"'Encargos Sociais'!E27","v":8.0000000000000004E-4},12.66]
[null,null,"D",{"$f":"'Encargos Sociais'!D28","v":"Ausência por Acidente de Trabalho (Art. 131, III, da CLT)"},{"$f":"'Encargos Sociais'!E28","v":8.9999999999999998E-4},14.25]
[null,null,"E",{"$f":"'Encargos Sociais'!D29","v":"Afastamento Maternidade (Art. 71 da Lei nº 8.213/1991)"},{"$f":"'Encargos Sociais'!E29","v":3.3E-3},52.23]
[null,null,"F",{"$f":"'Encargos Sociais'!D30","v":"Auxílio Enfermidade - Doença (Art. 59 da Lei nº 8.213/1991)"},{"$f":"'Encargos Sociais'!E30","v":7.1000000000000004E-3},112.38]
[]
[null,"Submódulo 4.2 - Intrajornada"]
[null,null,"A","Intervalo para repouso ou alimentação",{"$f":"'Encargos Sociais'!E33","v":0},{"$f":"ROUND(E67*$F$16,2)","v":0}]
[]
[null,null,null,"QUADRO-RESUMO DO MÓDULO 4",null,"Valor"]
[null,null,null,"4.1 - Ausências Legais",{"$f":"SUM(E59:E64)","v":0.11089999999999998},{"$f":"ROUND(E70*$F$16,2)","v":1755.37}]
[null,null,null,"4.2 - Intrajornada",{"$f":"E67","v":0},{"$f":"ROUND(E71*$F$16,2)","v":0}]
[]
[null,null,null,"TOTAL DE  CUSTO DO PROFISSIONAL AUSENTE E INTERVALO INTRAJORNADA",null,{"$f":"SUM(F70:F71)","v":1755.37}]
[]
[null,"MÓDULO 5 - INSUMOS DIVERSOS",null,null,null,"Valor"]
[null,null,"A","Uniformes - aquisição",null,{"$f":"ROUND(HLOOKUP($B$5,Uniformes!K4:DZ6,3)/12,2)","v":0}]
[null,null,"B","Materiais de consumo relacionados ao posto - aquisição",null,{"$f":"ROUND(HLOOKUP(B5,'Mat Cons'!I11:DX13,3)/12,2)","v":0}]
[null,null,"C","Ferramentas relacionadas ao posto - remuneração da depreciação / manutenção",null,{"$f":"HLOOKUP(B5,'Relacion - Ferram'!Q3:EF5,3)","v":0}]
[null,null,"D","Equipamentos relacionados ao posto - remuneração da depreciação / manutenção",null,{"$f":"ROUND(HLOOKUP(B5,'Equip Rel'!Q3:EF5,3)/12,2)","v":0}]
[null,null,"E","Equipamentos de Proteção Individual - EPI - aquisição",null,{"$f":"ROUND(HLOOKUP(B5,EPI!K4:AM6,3)/12,2)","v":0}]
[]
[null,null,null,"TOTAL DE INSUMOS DIVERSOS",null,{"$f":"SUM(F76:F81)","v":0},null,"* Nota - Valores mensais por empregado"]
[]
[null,"MÓDULO 6 - CUSTOS INDIRETOS, TRIBUTOS E LUCRO - BDI",null,null,"Percentuais","Valor"]
[null,null,"A","Custos Indiretos",{"$f":"'BDI - Geral'!E7","v":2.6000000000000002E-2}]
[null,null,"A.1","Administração Central",{"$f":"'BDI - Geral'!E8","v":2.06E-2}]
[null,null,"A.2","Seguros, Garantias e Riscos",{"$f":"'BDI - Geral'!E9","v":5.4000000000000003E-3}]
[null,null,"B","Lucro",{"$f":"'BDI - Geral'!E11","v":3.3399999999999999E-2}]
[null,null,"C","Tributos",{"$f":"SUM(E90:E91)","v":0.124}]
[null,null,"C.1","Tributos Federais (COFINS, PIS e CPRB)",{"$f":"'BDI - Geral'!E19","v":7.3999999999999996E-2}]
[null,null,"C.2","Tributos Distritais (ISS)",{"$f":"'BDI - Geral'!E24","v":0.05}]
[null,null,"D","Despesas Financeiras",{"$f":"'BDI - Geral'!E14","v":5.0569567433733642E-3}]
[]
[null,null,null,"TOTAL DE BDI",{"$f":"'BDI - Geral'!E27","v":0.2165},{"$f":"E94*E102","v":5766.7459600000002}]
[]
[null,null,null,"QUADRO-RESUMO DO CUSTO MENSAL POR EMPREGADO - SEM O 13º","Valor"]
[null,null,null,"Módulo 1 - Composição da Remuneração",{"$f":"F16","v":15828.37}]
[null,null,null,"Módulo 2 - Encargos e Benefícios Anuais, Mensais e Diários",{"$f":"F45","v":8057.21}]
[null,null,null,"Módulo 3 - Provisão para Rescisão",{"$f":"F55","v":995.29}]
[null,null,null,"Módulo 4 - Custo de Reposição do Profissional Ausente",{"$f":"F73","v":1755.37}]
[null,null,null,"Módulo 5 - Insumos Diversos",{"$f":"F82","v":0}]
[null,null,null,"SUBTOTAL (A+B+C+D+E)",{"$f":"SUM(E97:E101)","v":26636.240000000002}]
[null,null,null,"Módulo 6 - Custos Indiretos, Tributos e Lucro",{"$f":"F94","v":5766.7459600000002}]
[]
[null,null,null,"TOTAL DO POSTO",{"$f":"SUM(E102:E103)","v":32402.985960000002}]
[]
[null,"MÓDULO 7 - DESTAQUE DO MÓDULO 2 - 13º SALÁRIO",null,null,"Percentuais","Valor"]
[null,null,"A","13º Salário",{"$f":"'Encargos Sociais'!E32*12/11","v":9.0872727272727272E-2},{"$f":"ROUND(E108*F$16,2)","v":1438.37},null,"* Nota 1 - Incluindo-se a reincidência das férias do substituto sobre o titular"]
[null,null,"B","Encargos Sociais sobre o 13º Salário - Taxa calculada no MÓDULO 2",{"$f":"SUM($E$24:$E$32)","v":0.34800000000000003},{"$f":"ROUND(E109*$F$108,2)","v":500.55},null,"* Nota 2 - 13º e reflexos calculados à parte a fim de aprovisionamento"]
[null,null,"C","BDI sobre o 13º Salário - Taxa calculada no MÓDULO 6",{"$f":"E94","v":0.2165},{"$f":"ROUND(E110*($F$108+$F$109),2)","v":419.78}]
[]
[null,null,null,"TOTAL DO DESTAQUE DO 13º SALÁRIO",null,{"$f":"SUM(F108:F110)","v":2358.6999999999998}]
[]
[null,null,null,"QUADRO-RESUMO DO CUSTO MENSAL POR EMPREGADO","Valor"]
[null,null,null,"Custo total - sem o 13º Salário",{"$f":"E105","v":32402.985960000002}]
[null,null,null,"Destaque do 13º Salário (valor mensal)",{"$f":"F112","v":2358.6999999999998}]
[]
[null,null,null,"TOTAL DO POSTO",{"$f":"E115+E116","v":34761.685960000003}]

{"sheet":"2","index":24,"n_rows":118,"n_cols":8,"rows_kept":118,"cut":false,"hidden":false,"merged":[[17,1,17,3],[1,1,1,5],[2,1,2,5],[4,1,4,2],[5,1,5,2],[7,1,7,3],[106,1,106,3],[39,3,39,5],[46,1,46,3],[56,1,56,3],[68,3,68,5],[74,1,74,3],[83,1,83,3]]}
[]
[null,"PLANILHA DE ESTIMATIVA DE CUSTOS"]
[null,"Padrão IN 05/2017 e IN 07/2018 - MPDG"]
[]
[null,2,null,{"$f":"HLOOKUP($B$5,'Dados Gerais'!$D$6:$BI$22,6)","v":"SUPERVISOR TÉCNICO"},"QUANTIDADE",{"$f":"HLOOKUP($B$5,'Dados Gerais'!$D$6:$BI$22,10)","v":2}]
[null,"CCT",null,{"$f":"HLOOKUP($B$5,'Dados Gerais'!$D$6:$BI$22,16)","v":"SEAC/DF X SINRAD/DF\nCCT 2024/2024\nN.º DF000133/2024"},"DATA-BASE",{"$f":"HLOOKUP($B$5,'Dados Gerais'!$D$6:$BI$22,17)","v":"2024-01-01"}]
[]
[null,"MÓDULO 1 - COMPOSIÇÃO DA REMUNERAÇÃO",null,null,null,"Valor"]
[null,null,"A","Salário-Base",null,{"$f":"HLOOKUP($B$5,'Dados Gerais'!$D$6:$BI$22,8)","v":11305.98}]
[null,null,"B","Adicional de Periculosidade",null,{"$f":"HLOOKUP($B$5,'Dados Gerais'!$D$6:$BI$39,26)","v":0}]
[null,null,"C","Adicional de Insalubridade",null,{"$f":"HLOOKUP($B$5,'Dados Gerais'!$D$6:$BI$39,32)","v":0}]
[null,null,"D","Adicional Noturno",null,{"$f":"HLOOKUP($B$5,'Dados Gerais'!$D$6:$BI$52,47)","v":0},null,"* Nota 1 - O Módulo 1 refere-se ao valor mensal devido ao empregado pela prestação do serviço no período de 12 meses."]
[null,null,"E","Adicional de Hora Extra",null,{"$f":"HLOOKUP($B$5,'Dados Gerais'!$D$6:$BI$69,64)","v":0},null,"* Nota 2 - O adicional de hora extra no feriado trabalhado foi suprimido pela Lei 13.467/17"]
[null,null,"F","Outros (especificar)",null,{"$f":"HLOOKUP($B$5,'Dados Gerais'!$D$6:$BI$69,34)","v":0},null,"* Nota 3 - ART. 7º, § 2º, DA LEI Nº 605/49.Sendo mensalista o obreiro, o adicional noturno pago de forma fixa já é considerado integrado para os efeitos do pagamento do repouso semanal remunerado, nos termos do art. 7º, § 2º, da Lei nº 605/49."]
[]
[null,null,null,"TOTAL DA REMUNERAÇÃO",null,{"$f":"SUM(F9:F14)","v":11305.98}]
[]
[null,"MÓDULO 2 - ENCARGOS E BENEFÍCIOS ANUAIS, MENSAIS E DIÁRIOS",null,null,"Percentuais","Valor"]
[null,"Submódulo 2.1 - 13º Salário, Férias e Adicional de Férias"]
[null,null,"A","13º Salário - Calculado no Módulo 7 - Destacado",0,{"$f":"ROUND(E20*F$16,2)","v":0}]
[null,null,"B","Adicional de Férias",{"$f":"'Encargos Sociais'!E31","v":3.0300000000000001E-2},{"$f":"ROUND(E21*F$16,2)","v":342.57},null,"* Nota 1 - O adicional de férias foi calculado dividindo-se por 11, para comportar os 11 meses presentes e ainda o ausente do posto"]
[]
[null,"Submódulo 2.2 - Encargos Previdenciários (GPS), Fundo de Garantia por Tempo de Serviço (FGTS) e Outras Contribuições"]
[null,null,"A",{"$f":"'Encargos Sociais'!D14","v":"INSS (art. 22, inciso I, Lei nº 8.212/91)"},{"$f":"'Encargos Sociais'!E14","v":0.2},{"$f":"ROUND(E24*($F$16+$F$21+$F$73),2)","v":2580.48},null,"* Nota 1 - Os percentuais dos encargos previdenciários, do FGTS e demais contribuições são estabelecidos por legislação vigente."]
[null,null,"B",{"$f":"'Encargos Sociais'!D15","v":"Salário Educação (art. 3º, inciso I, Decreto nº 87.043/82)"},{"$f":"'Encargos Sociais'!E15","v":2.5000000000000001E-2},322.56,null,"* Nota 2 - O SAT, a depender do grau de risco do serviço, irá variar entre 1%, para risco leve, de 2%, para risco médio, e de 3% para risco grave."]
[null,null,"C",{"$f":"'Encargos Sociais'!D16","v":"SAT/RAT (art. 22, II, Lei 8.212/91 e Anexo V, Decreto 6.042/07) - Enquadramento 5911-1/99 "},{"$f":"'Encargos Sociais'!E16","v":0.01},129.02000000000001,null,"* Nota 3 - Base de cálculo - remuneração + ausências + terço constitucional (férias)"]
[null,null,"D",{"$f":"'Encargos Sociais'!D17","v":"SESC ou SESI (art. 30, Lei nº 8.036/90 e art. 1º, Lei 8.154/90)"},{"$f":"'Encargos Sociais'!E17","v":1.4999999999999999E-2},193.54]
[null,null,"E",{"$f":"'Encargos Sociais'!D18","v":"SENAI ou SENAC (Decreto nº 2.318/86)"},{"$f":"'Encargos Sociais'!E18","v":0.01},129.02000000000001]
[null,null,"F",{"$f":"'Encargos Sociais'!D19","v":"SEBRAE (§ 3º, art. 8º, Lei 8.029/90, alterada pela Lei nº 8.154/90)"},{"$f":"'Encargos Sociais'!E19","v":6.0000000000000001E-3},77.41]
[null,null,"G",{"$f":"'Encargos Sociais'!D20","v":"INCRA (art. 1º, I, Decreto Lei 1.146/70 e Lei 7.787, de 30/06/89)"},{"$f":"'Encargos Sociais'!E20","v":2E-3},25.8]
[null,null,"H",{"$f":"'Encargos Sociais'!D21","v":"FGTS (Lei Complementar nº 110/01 e art. 30, Lei nº 8.036/90)"},{"$f":"'Encargos Sociais'!E21","v":0.08},1032.19]
[null,null,"I",{"$f":"'Encargos Sociais'!D22","v":"SECONCI (Convenções Coletivas de Trabalho da construção)"},{"$f":"'Encargos Sociais'!E22","v":0},0]
[]
[null,"Submódulo 2.3 - Benefícios Mensais e Diários"]
[null,null,"A","Auxílio Transporte",null,{"$f":"HLOOKUP($B$5,'Dados Gerais'!$D$6:$BI$95,83)","v":0},null,"* Nota 1 - O valor informado deverá ser o custo real do benefício (descontado o valor eventualmente pago pelo empregado)."]
[null,null,"B","Auxílio Alimentação",null,{"$f":"HLOOKUP($B$5,'Dados Gerais'!$D$6:$BI$95,90)","v":957},null,"* Nota 2 - Observar a previsão dos benefícios contidos em Acordos, Convenções e Dissídios Coletivos de Trabalho e o disposto no art. 6º da IN 5/2017"]
[null,null,"C","Assistência Médica e Familiar",null,{"$f":"HLOOKUP($B$5,'Dados Gerais'!$D$6:$BI$103,98)","v":0}]
[null,null,"D","Outros (Seguro de vida, auxílio funeral, auxílio odontológico e auxílio creche)",null,{"$f":"HLOOKUP($B$5,'Dados Gerais'!$D$6:$BI$132,127)","v":334.57}]
[]
[null,null,null,"QUADRO-RESUMO DO MÓDULO 2"]
[null,null,null,"2.1 - Adicional de Férias",{"$f":"SUM(E20:E21)","v":3.0300000000000001E-2},{"$f":"F20+F21","v":342.57}]
[null,null,null,"2.2 - Encargos Previdenciários (GPS), Fundo de Garantia por Tempo de Serviço (FGTS) e Contribuições",{"$f":"SUM(E24:E32)","v":0.34800000000000003},{"$f":"SUM(F24:F32)","v":4490.0200000000004}]
[null,null,null,"2.3 - Benefícios Mensais e Diários",null,{"$f":"SUM(F35:F38)","v":1291.57}]
[]
[null,null,null,"TOTAL DOS ENCARGOS E BENEFÍCIOS",null,{"$f":"SUM(F41:F43)","v":6124.16}]
[]
[null,"MÓDULO 3 - PREVISÃO PARA RESCISÃO",null,null,"Percentuais","Valor"]
[null,null,"A",{"$f":"'Encargos Sociais'!D36","v":"Aviso Prévio Indenizado (Art. 7º, inciso XXI, da CF/1988 e arts. 477, 487, §1º, e 491 da CLT)"},{"$f":"'Encargos Sociais'!E36","v":4.1999999999999997E-3},{"$f":"ROUND(E48*($F$16+$F$41+$F$73),2)","v":54.19},null,"* Nota 1 - Base de cálculo - remuneração + ausências + 1/3 férias"]
[null,null,"B",{"$f":"'Encargos Sociais'!D37","v":"Incidência do FGTS sobre o Aviso Prévio Indenizado (Súmula 305 TST)"},{"$f":"'Encargos Sociais'!E37","v":2.9999999999999997E-4},3.87]
[null,null,"C",{"$f":"'Encargos Sociais'!D38","v":"Multa do FGTS sobre o Aviso Prévio Indenizado (Art. 18, §1º, da Lei 8.036/1990)"},{"$f":"'Encargos Sociais'!E38","v":1.9E-3},24.51]
[null,null,"D",{"$f":"'Encargos Sociais'!D39","v":"Aviso Prévio Trabalhado (Art. 488, parágrafo único, CLT)"},{"$f":"'Encargos Sociais'!E39","v":7.7999999999999996E-3},100.64]
[null,null,"E",{"$f":"'Encargos Sociais'!D40","v":"Incidência de GPS, FGTS e outras contribuições sobre o Aviso Prévio Trabalhado"},{"$f":"'Encargos Sociais'!E40","v":2.7000000000000001E-3},34.840000000000003]
[null,null,"F",{"$f":"'Encargos Sociais'!D41","v":"Multa do FGTS"},{"$f":"'Encargos Sociais'!E41","v":3.8199999999999998E-2},492.87]
[]
[null,null,null,"TOTAL DE PREVISÃO PARA RESCISÃO",null,{"$f":"SUM(F48:F53)","v":710.92}]
[]
[null,"MÓDULO 4 - CUSTO DO PROFISSIONAL AUSENTE",null,null,"Percentuais","Valor"]
[null,"Submódulo 4.1 - Ausências Legais"]
[null,null,"A",{"$f":"'Encargos Sociais'!D25","v":"Férias (Arts. 129 e 130, inc. I, da CLT)"},{"$f":"'Encargos Sociais'!E25","v":9.0899999999999995E-2},{"$f":"ROUND(E59*$F$16,2)","v":1027.71},null,"* Nota 1 - O Módulo 4 refere-se às previsões para custear ausências do próprio profissional (titular do cargo)"]
[null,null,"B",{"$f":"'Encargos Sociais'!D26","v":"Ausências Legais (Arts. 131 e 473 da CLT)"},{"$f":"'Encargos Sociais'!E26","v":7.9000000000000008E-3},89.32,null,"* Nota 2 - As férias foram calculadas dividindo-se por 11, para comportar os 11 meses presentes e ainda o ausente do posto"]
[null,null,"C",{"$f":"'Encargos Sociais'!D27","v":"Licença-Paternidade (Art. 7º, XIX, e art. 10, §1º, do ADCT, CF/1988 e Art. 1º, II, da Lei 11.770/2008)"},{"$f":"'Encargos Sociais'!E27","v":8.0000000000000004E-4},9.0399999999999991]
[null,null,"D",{"$f":"'Encargos Sociais'!D28","v":"Ausência por Acidente de Trabalho (Art. 131, III, da CLT)"},{"$f":"'Encargos Sociais'!E28","v":8.9999999999999998E-4},10.18]
[null,null,"E",{"$f":"'Encargos Sociais'!D29","v":"Afastamento Maternidade (Art. 71 da Lei nº 8.213/1991)"},{"$f":"'Encargos Sociais'!E29","v":3.3E-3},37.31]
[null,null,"F",{"$f":"'Encargos Sociais'!D30","v":"Auxílio Enfermidade - Doença (Art. 59 da Lei nº 8.213/1991)"},{"$f":"'Encargos Sociais'!E30","v":7.1000000000000004E-3},80.27]
[]
[null,"Submódulo 4.2 - Intrajornada"]
[null,null,"A","Intervalo para repouso ou alimentação",{"$f":"'Encargos Sociais'!E33","v":0},{"$f":"ROUND(E67*$F$16,2)","v":0}]
[]
[null,null,null,"QUADRO-RESUMO DO MÓDULO 4",null,"Valor"]
[null,null,null,"4.1 - Ausências Legais",{"$f":"SUM(E59:E64)","v":0.11089999999999998},{"$f":"ROUND(E70*$F$16,2)","v":1253.83}]
[null,null,null,"4.2 - Intrajornada",{"$f":"E67","v":0},{"$f":"ROUND(E71*$F$16,2)","v":0}]
[]
[null,null,null,"TOTAL DE  CUSTO DO PROFISSIONAL AUSENTE E INTERVALO INTRAJORNADA",null,{"$f":"SUM(F70:F71)","v":1253.83}]
[]
[null,"MÓDULO 5 - INSUMOS DIVERSOS",null,null,null,"Valor"]
[null,null,"A","Uniformes - aquisição",null,{"$f":"ROUND(HLOOKUP($B$5,Uniformes!K4:DZ6,3)/12,2)","v":0}]
[null,null,"B","Materiais de consumo relacionados ao posto - aquisição",null,{"$f":"ROUND(HLOOKUP(B5,'Mat Cons'!I11:DX13,3)/12,2)","v":0}]
[null,null,"C","Ferramentas relacionadas ao posto - remuneração da depreciação / manutenção",null,{"$f":"HLOOKUP(B5,'Relacion - Ferram'!Q3:EF5,3)","v":0}]
[null,null,"D","Equipamentos relacionados ao posto - remuneração da depreciação / manutenção",null,{"$f":"ROUND(HLOOKUP(B5,'Equip Rel'!Q3:EF5,3)/12,2)","v":0}]
[null,null,"E","Equipamentos de Proteção Individual - EPI - aquisição",null,{"$f":"ROUND(HLOOKUP(B5,EPI!K4:AM6,3)/12,2)","v":0}]
[]
[null,null,null,"TOTAL DE INSUMOS DIVERSOS",null,{"$f":"SUM(F76:F81)","v":0},null,"* Nota - Valores mensais por empregado"]
[]
[null,"MÓDULO 6 - CUSTOS INDIRETOS, TRIBUTOS E LUCRO - BDI",null,null,"Percentuais","Valor"]
[null,null,"A","Custos Indiretos",{"$f":"'BDI - Geral'!E7","v":2.6000000000000002E-2}]
[null,null,"A.1","Administração Central",{"$f":"'BDI - Geral'!E8","v":2.06E-2}]
[null,null,"A.2","Seguros, Garantias e Riscos",{"$f":"'BDI - Geral'!E9","v":5.4000000000000003E-3}]
[null,null,"B","Lucro",{"$f":"'BDI - Geral'!E11","v":3.3399999999999999E-2}]
[null,null,"C","Tributos",{"$f":"SUM(E90:E91)","v":0.124}]
[null,null,"C.1","Tributos Federais (COFINS, PIS e CPRB)",{"$f":"'BDI - Geral'!E19","v":7.3999999999999996E-2}]
[null,null,"C.2","Tributos Distritais (ISS)",{"$f":"'BDI - Geral'!E24","v":0.05}]
[null,null,"D","Despesas Financeiras",{"$f":"'BDI - Geral'!E14","v":5.0569567433733642E-3}]
[]
[null,null,null,"TOTAL DE BDI",{"$f":"'BDI - Geral'!E27","v":0.2165},{"$f":"E94*E102","v":4198.9936849999995}]
[]
[null,null,null,"QUADRO-RESUMO DO CUSTO MENSAL POR EMPREGADO - SEM O 13º","Valor"]
[null,null,null,"Módulo 1 - Composição da Remuneração",{"$f":"F16","v":11305.98}]
[null,null,null,"Módulo 2 - Encargos e Benefícios Anuais, Mensais e Diários",{"$f":"F45","v":6124.16}]
[null,null,null,"Módulo 3 - Provisão para Rescisão",{"$f":"F55","v":710.92}]
[null,null,null,"Módulo 4 - Custo de Reposição do Profissional Ausente",{"$f":"F73","v":1253.83}]
[null,null,null,"Módulo 5 - Insumos Diversos",{"$f":"F82","v":0}]
[null,null,null,"SUBTOTAL (A+B+C+D+E)",{"$f":"SUM(E97:E101)","v":19394.89}]
[null,null,null,"Módulo 6 - Custos Indiretos, Tributos e Lucro",{"$f":"F94","v":4198.9936849999995}]
[]
[null,null,null,"TOTAL DO POSTO",{"$f":"SUM(E102:E103)","v":23593.883685000001}]
[]
[null,"MÓDULO 7 - DESTAQUE DO MÓDULO 2 - 13º SALÁRIO",null,null,"Percentuais","Valor"]
[null,null,"A","13º Salário",{"$f":"'Encargos Sociais'!E32*12/11","v":9.0872727272727272E-2},{"$f":"ROUND(E108*F$16,2)","v":1027.4100000000001},null,"* Nota 1 - Incluindo-se a reincidência das férias do substituto sobre o titular"]
[null,null,"B","Encargos Sociais sobre o 13º Salário - Taxa calculada no MÓDULO 2",{"$f":"SUM($E$24:$E$32)","v":0.34800000000000003},{"$f":"ROUND(E109*$F$108,2)","v":357.54},null,"* Nota 2 - 13º e reflexos calculados à parte a fim de aprovisionamento"]
[null,null,"C","BDI sobre o 13º Salário - Taxa calculada no MÓDULO 6",{"$f":"E94","v":0.2165},{"$f":"ROUND(E110*($F$108+$F$109),2)","v":299.83999999999997}]
[]
[null,null,null,"TOTAL DO DESTAQUE DO 13º SALÁRIO",null,{"$f":"SUM(F108:F110)","v":1684.79}]
[]
[null,null,null,"QUADRO-RESUMO DO CUSTO MENSAL POR EMPREGADO","Valor"]
[null,null,null,"Custo total - sem o 13º Salário",{"$f":"E105","v":23593.883685000001}]
[null,null,null,"Destaque do 13º Salário (valor mensal)",{"$f":"F112","v":1684.79}]
[]
[null,null,null,"TOTAL DO POSTO",{"$f":"E115+E116","v":25278.673685000002}]

{"sheet":"3","index":25,"n_rows":118,"n_cols":8,"rows_kept":118,"cut":false,"hidden":false,"merged":[[17,1,17,3],[1,1,1,5],[2,1,2,5],[4,1,4,2],[5,1,5,2],[7,1,7,3],[106,1,106,3],[39,3,39,5],[46,1,46,3],[56,1,56,3],[68,3,68,5],[74,1,74,3],[83,1,83,3]]}
[]
[null,"PLANILHA DE ESTIMATIVA DE CUSTOS"]
[null,"Padrão IN 05/2017 e IN 07/2018 - MPDG"]
[]
[null,3,null,{"$f":"HLOOKUP($B$5,'Dados Gerais'!$D$6:$BI$22,6)","v":"SUPERVISOR TÉCNICO \n(CENTRO DE TRANSMISSÃO)"},"QUANTIDADE",{"$f":"HLOOKUP($B$5,'Dados Gerais'!$D$6:$BI$22,10)","v":1}]
[null,"CCT",null,{"$f":"HLOOKUP($B$5,'Dados Gerais'!$D$6:$BI$22,16)","v":"SEAC/DF X SINRAD/DF\nCCT 2024/2024\nN.º DF000133/2024"},"DATA-BASE",{"$f":"HLOOKUP($B$5,'Dados Gerais'!$D$6:$BI$22,17)","v":"2024-01-01"}]
[]
[null,"MÓDULO 1 - COMPOSIÇÃO DA REMUNERAÇÃO",null,null,null,"Valor"]
[null,null,"A","Salário-Base",null,{"$f":"HLOOKUP($B$5,'Dados Gerais'!$D$6:$BI$22,8)","v":11305.98}]
[null,null,"B","Adicional de Periculosidade",null,{"$f":"HLOOKUP($B$5,'Dados Gerais'!$D$6:$BI$39,26)","v":0}]
[null,null,"C","Adicional de Insalubridade",null,{"$f":"HLOOKUP($B$5,'Dados Gerais'!$D$6:$BI$39,32)","v":0}]
[null,null,"D","Adicional Noturno",null,{"$f":"HLOOKUP($B$5,'Dados Gerais'!$D$6:$BI$52,47)","v":0},null,"* Nota 1 - O Módulo 1 refere-se ao valor mensal devido ao empregado pela prestação do serviço no período de 12 meses."]
[null,null,"E","Adicional de Hora Extra",null,{"$f":"HLOOKUP($B$5,'Dados Gerais'!$D$6:$BI$69,64)","v":0},null,"* Nota 2 - O adicional de hora extra no feriado trabalhado foi suprimido pela Lei 13.467/17"]
[null,null,"F","Outros (especificar)",null,{"$f":"HLOOKUP($B$5,'Dados Gerais'!$D$6:$BI$69,34)","v":0},null,"* Nota 3 - ART. 7º, § 2º, DA LEI Nº 605/49.Sendo mensalista o obreiro, o adicional noturno pago de forma fixa já é considerado integrado para os efeitos do pagamento do repouso semanal remunerado, nos termos do art. 7º, § 2º, da Lei nº 605/49."]
[]
[null,null,null,"TOTAL DA REMUNERAÇÃO",null,{"$f":"SUM(F9:F14)","v":11305.98}]
[]
[null,"MÓDULO 2 - ENCARGOS E BENEFÍCIOS ANUAIS, MENSAIS E DIÁRIOS",null,null,"Percentuais","Valor"]
[null,"Submódulo 2.1 - 13º Salário, Férias e Adicional de Férias"]
[null,null,"A","13º Salário - Calculado no Módulo 7 - Destacado",0,{"$f":"ROUND(E20*F$16,2)","v":0}]
[null,null,"B","Adicional de Férias",{"$f":"'Encargos Sociais'!E31","v":3.0300000000000001E-2},{"$f":"ROUND(E21*F$16,2)","v":342.57},null,"* Nota 1 - O adicional de férias foi calculado dividindo-se por 11, para comportar os 11 meses presentes e ainda o ausente do posto"]
[]
[null,"Submódulo 2.2 - Encargos Previdenciários (GPS), Fundo de Garantia por Tempo de Serviço (FGTS) e Outras Contribuições"]
[null,null,"A",{"$f":"'Encargos Sociais'!D14","v":"INSS (art. 22, inciso I, Lei nº 8.212/91)"},{"$f":"'Encargos Sociais'!E14","v":0.2},{"$f":"ROUND(E24*($F$16+$F$21+$F$73),2)","v":2580.48},null,"* Nota 1 - Os percentuais dos encargos previdenciários, do FGTS e demais contribuições são estabelecidos por legislação vigente."]
[null,null,"B",{"$f":"'Encargos Sociais'!D15","v":"Salário Educação (art. 3º, inciso I, Decreto nº 87.043/82)"},{"$f":"'Encargos Sociais'!E15","v":2.5000000000000001E-2},322.56,null,"* Nota 2 - O SAT, a depender do grau de risco do serviço, irá variar entre 1%, para risco leve, de 2%, para risco médio, e de 3% para risco grave."]
[null,null,"C",{"$f":"'Encargos Sociais'!D16","v":"SAT/RAT (art. 22, II, Lei 8.212/91 e Anexo V, Decreto 6.042/07) - Enquadramento 5911-1/99 "},{"$f":"'Encargos Sociais'!E16","v":0.01},129.02000000000001,null,"* Nota 3 - Base de cálculo - remuneração + ausências + terço constitucional (férias)"]
[null,null,"D",{"$f":"'Encargos Sociais'!D17","v":"SESC ou SESI (art. 30, Lei nº 8.036/90 e art. 1º, Lei 8.154/90)"},{"$f":"'Encargos Sociais'!E17","v":1.4999999999999999E-2},193.54]
[null,null,"E",{"$f":"'Encargos Sociais'!D18","v":"SENAI ou SENAC (Decreto nº 2.318/86)"},{"$f":"'Encargos Sociais'!E18","v":0.01},129.02000000000001]
[null,null,"F",{"$f":"'Encargos Sociais'!D19","v":"SEBRAE (§ 3º, art. 8º, Lei 8.029/90, alterada pela Lei nº 8.154/90)"},{"$f":"'Encargos Sociais'!E19","v":6.0000000000000001E-3},77.41]
[null,null,"G",{"$f":"'Encargos Sociais'!D20","v":"INCRA (art. 1º, I, Decreto Lei 1.146/70 e Lei 7.787, de 30/06/89)"},{"$f":"'Encargos Sociais'!E20","v":2E-3},25.8]
[null,null,"H",{"$f":"'Encargos Sociais'!D21","v":"FGTS (Lei Complementar nº 110/01 e art. 30, Lei nº 8.036/90)"},{"$f":"'Encargos Sociais'!E21","v":0.08},1032.19]
[null,null,"I",{"$f":"'Encargos Sociais'!D22","v":"SECONCI (Convenções Coletivas de Trabalho da construção)"},{"$f":"'Encargos Sociais'!E22","v":0},0]
[]
[null,"Submódulo 2.3 - Benefícios Mensais e Diários"]
[null,null,"A","Auxílio Transporte",null,{"$f":"HLOOKUP($B$5,'Dados Gerais'!$D$6:$BI$95,83)","v":0},null,"* Nota 1 - O valor informado deverá ser o custo real do benefício (descontado o valor eventualmente pago pelo empregado)."]
[null,null,"B","Auxílio Alimentação",null,{"$f":"HLOOKUP($B$5,'Dados Gerais'!$D$6:$BI$95,90)","v":957},null,"* Nota 2 - Observar a previsão dos benefícios contidos em Acordos, Convenções e Dissídios Coletivos de Trabalho e o disposto no art. 6º da IN 5/2017"]
[null,null,"C","Assistência Médica e Familiar",null,{"$f":"HLOOKUP($B$5,'Dados Gerais'!$D$6:$BI$103,98)","v":0}]
[null,null,"D","Outros (Seguro de vida, auxílio funeral, auxílio odontológico e auxílio creche)",null,{"$f":"HLOOKUP($B$5,'Dados Gerais'!$D$6:$BI$132,127)","v":334.57}]
[]
[null,null,null,"QUADRO-RESUMO DO MÓDULO 2"]
[null,null,null,"2.1 - Adicional de Férias",{"$f":"SUM(E20:E21)","v":3.0300000000000001E-2},{"$f":"F20+F21","v":342.57}]
[null,null,null,"2.2 - Encargos Previdenciários (GPS), Fundo de Garantia por Tempo de Serviço (FGTS) e Contribuições",{"$f":"SUM(E24:E32)","v":0.34800000000000003},{"$f":"SUM(F24:F32)","v":4490.0200000000004}]
[null,null,null,"2.3 - Benefícios Mensais e Diários",null,{"$f":"SUM(F35:F38)","v":1291.57}]
[]
[null,null,null,"TOTAL DOS ENCARGOS E BENEFÍCIOS",null,{"$f":"SUM(F41:F43)","v":6124.16}]
[]
[null,"MÓDULO 3 - PREVISÃO PARA RESCISÃO",null,null,"Percentuais","Valor"]
[null,null,"A",{"$f":"'Encargos Sociais'!D36","v":"Aviso Prévio Indenizado (Art. 7º, inciso XXI, da CF/1988 e arts. 477, 487, §1º, e 491 da CLT)"},{"$f":"'Encargos Sociais'!E36","v":4.1999999999999997E-3},{"$f":"ROUND(E48*($F$16+$F$41+$F$73),2)","v":54.19},null,"* Nota 1 - Base de cálculo - remuneração + ausências + 1/3 férias"]
[null,null,"B",{"$f":"'Encargos Sociais'!D37","v":"Incidência do FGTS sobre o Aviso Prévio Indenizado (Súmula 305 TST)"},{"$f":"'Encargos Sociais'!E37","v":2.9999999999999997E-4},3.87]
[null,null,"C",{"$f":"'Encargos Sociais'!D38","v":"Multa do FGTS sobre o Aviso Prévio Indenizado (Art. 18, §1º, da Lei 8.036/1990)"},{"$f":"'Encargos Sociais'!E38","v":1.9E-3},24.51]
[null,null,"D",{"$f":"'Encargos Sociais'!D39","v":"Aviso Prévio Trabalhado (Art. 488, parágrafo único, CLT)"},{"$f":"'Encargos Sociais'!E39","v":7.7999999999999996E-3},100.64]
[null,null,"E",{"$f":"'Encargos Sociais'!D40","v":"Incidência de GPS, FGTS e outras contribuições sobre o Aviso Prévio Trabalhado"},{"$f":"'Encargos Sociais'!E40","v":2.7000000000000001E-3},34.840000000000003]
[null,null,"F",{"$f":"'Encargos Sociais'!D41","v":"Multa do FGTS"},{"$f":"'Encargos Sociais'!E41","v":3.8199999999999998E-2},492.87]
[]
[null,null,null,"TOTAL DE PREVISÃO PARA RESCISÃO",null,{"$f":"SUM(F48:F53)","v":710.92}]
[]
[null,"MÓDULO 4 - CUSTO DO PROFISSIONAL AUSENTE",null,null,"Percentuais","Valor"]
[null,"Submódulo 4.1 - Ausências Legais"]
[null,null,"A",{"$f":"'Encargos Sociais'!D25","v":"Férias (Arts. 129 e 130, inc. I, da CLT)"},{"$f":"'Encargos Sociais'!E25","v":9.0899999999999995E-2},{"$f":"ROUND(E59*$F$16,2)","v":1027.71},null,"* Nota 1 - O Módulo 4 refere-se às previsões para custear ausências do próprio profissional (titular do cargo)"]
[null,null,"B",{"$f":"'Encargos Sociais'!D26","v":"Ausências Legais (Arts. 131 e 473 da CLT)"},{"$f":"'Encargos Sociais'!E26","v":7.9000000000000008E-3},89.32,null,"* Nota 2 - As férias foram calculadas dividindo-se por 11, para comportar os 11 meses presentes e ainda o ausente do posto"]
[null,null,"C",{"$f":"'Encargos Sociais'!D27","v":"Licença-Paternidade (Art. 7º, XIX, e art. 10, §1º, do ADCT, CF/1988 e Art. 1º, II, da Lei 11.770/2008)"},{"$f":"'Encargos Sociais'!E27","v":8.0000000000000004E-4},9.0399999999999991]
[null,null,"D",{"$f":"'Encargos Sociais'!D28","v":"Ausência por Acidente de Trabalho (Art. 131, III, da CLT)"},{"$f":"'Encargos Sociais'!E28","v":8.9999999999999998E-4},10.18]
[null,null,"E",{"$f":"'Encargos Sociais'!D29","v":"Afastamento Maternidade (Art. 71 da Lei nº 8.213/1991)"},{"$f":"'Encargos Sociais'!E29","v":3.3E-3},37.31]
[null,null,"F",{"$f":"'Encargos Sociais'!D30","v":"Auxílio Enfermidade - Doença (Art. 59 da Lei nº 8.213/1991)"},{"$f":"'Encargos Sociais'!E30","v":7.1000000000000004E-3},80.27]
[]
[null,"Submódulo 4.2 - Intrajornada"]
[null,null,"A","Intervalo para repouso ou alimentação",{"$f":"'Encargos Sociais'!E33","v":0},{"$f":"ROUND(E67*$F$16,2)","v":0}]
[]
[null,null,null,"QUADRO-RESUMO DO MÓDULO 4",null,"Valor"]
[null,null,null,"4.1 - Ausências Legais",{"$f":"SUM(E59:E64)","v":0.11089999999999998},{"$f":"ROUND(E70*$F$16,2)","v":1253.83}]
[null,null,null,"4.2 - Intrajornada",{"$f":"E67","v":0},{"$f":"ROUND(E71*$F$16,2)","v":0}]
[]
[null,null,null,"TOTAL DE  CUSTO DO PROFISSIONAL AUSENTE E INTERVALO INTRAJORNADA",null,{"$f":"SUM(F70:F71)","v":1253.83}]
[]
[null,"MÓDULO 5 - INSUMOS DIVERSOS",null,null,null,"Valor"]
[null,null,"A","Uniformes - aquisição",null,{"$f":"ROUND(HLOOKUP($B$5,Uniformes!K4:DZ6,3)/12,2)","v":0}]
[null,null,"B","Materiais de consumo relacionados ao posto - aquisição",null,{"$f":"ROUND(HLOOKUP(B5,'Mat Cons'!I11:DX13,3)/12,2)","v":0}]
[null,null,"C","Ferramentas relacionadas ao posto - remuneração da depreciação / manutenção",null,{"$f":"HLOOKUP(B5,'Relacion - Ferram'!Q3:EF5,3)","v":0}]
[null,null,"D","Equipamentos relacionados ao posto - remuneração da depreciação / manutenção",null,{"$f":"ROUND(HLOOKUP(B5,'Equip Rel'!Q3:EF5,3)/12,2)","v":0}]
[null,null,"E","Equipamentos de Proteção Individual - EPI - aquisição",null,{"$f":"ROUND(HLOOKUP(B5,EPI!K4:AM6,3)/12,2)","v":25.28}]
[]
[null,null,null,"TOTAL DE INSUMOS DIVERSOS",null,{"$f":"SUM(F76:F81)","v":25.28},null,"* Nota - Valores mensais por empregado"]
[]
[null,"MÓDULO 6 - CUSTOS INDIRETOS, TRIBUTOS E LUCRO - BDI",null,null,"Percentuais","Valor"]
[null,null,"A","Custos Indiretos",{"$f":"'BDI - Geral'!E7","v":2.6000000000000002E-2}]
[null,null,"A.1","Administração Central",{"$f":"'BDI - Geral'!E8","v":2.06E-2}]
[null,null,"A.2","Seguros, Garantias e Riscos",{"$f":"'BDI - Geral'!E9","v":5.4000000000000003E-3}]
[null,null,"B","Lucro",{"$f":"'BDI - Geral'!E11","v":3.3399999999999999E-2}]
[null,null,"C","Tributos",{"$f":"SUM(E90:E91)","v":0.124}]
[null,null,"C.1","Tributos Federais (COFINS, PIS e CPRB)",{"$f":"'BDI - Geral'!E19","v":7.3999999999999996E-2}]
[null,null,"C.2","Tributos Distritais (ISS)",{"$f":"'BDI - Geral'!E24","v":0.05}]
[null,null,"D","Despesas Financeiras",{"$f":"'BDI - Geral'!E14","v":5.0569567433733642E-3}]
[]
[null,null,null,"TOTAL DE BDI",{"$f":"'BDI - Geral'!E27","v":0.2165},{"$f":"E94*E102","v":4204.466805}]
[]
[null,null,null,"QUADRO-RESUMO DO CUSTO MENSAL POR EMPREGADO - SEM O 13º","Valor"]
[null,null,null,"Módulo 1 - Composição da Remuneração",{"$f":"F16","v":11305.98}]
[null,null,null,"Módulo 2 - Encargos e Benefícios Anuais, Mensais e Diários",{"$f":"F45","v":6124.16}]
[null,null,null,"Módulo 3 - Provisão para Rescisão",{"$f":"F55","v":710.92}]
[null,null,null,"Módulo 4 - Custo de Reposição do Profissional Ausente",{"$f":"F73","v":1253.83}]
[null,null,null,"Módulo 5 - Insumos Diversos",{"$f":"F82","v":25.28}]
[null,null,null,"SUBTOTAL (A+B+C+D+E)",{"$f":"SUM(E97:E101)","v":19420.169999999998}]
[null,null,null,"Módulo 6 - Custos Indiretos, Tributos e Lucro",{"$f":"F94","v":4204.466805}]
[]
[null,null,null,"TOTAL DO POSTO",{"$f":"SUM(E102:E103)","v":23624.636804999998}]
[]
[null,"MÓDULO 7 - DESTAQUE DO MÓDULO 2 - 13º SALÁRIO",null,null,"Percentuais","Valor"]
[null,null,"A","13º Salário",{"$f":"'Encargos Sociais'!E32*12/11","v":9.0872727272727272E-2},{"$f":"ROUND(E108*F$16,2)","v":1027.4100000000001},null,"* Nota 1 - Incluindo-se a reincidência das férias do substituto sobre o titular"]
[null,null,"B","Encargos Sociais sobre o 13º Salário - Taxa calculada no MÓDULO 2",{"$f":"SUM($E$24:$E$32)","v":0.34800000000000003},{"$f":"ROUND(E109*$F$108,2)","v":357.54},null,"* Nota 2 - 13º e reflexos calculados à parte a fim de aprovisionamento"]
[null,null,"C","BDI sobre o 13º Salário - Taxa calculada no MÓDULO 6",{"$f":"E94","v":0.2165},{"$f":"ROUND(E110*($F$108+$F$109),2)","v":299.83999999999997}]
[]
[null,null,null,"TOTAL DO DESTAQUE DO 13º SALÁRIO",null,{"$f":"SUM(F108:F110)","v":1684.79}]
[]
[null,null,null,"QUADRO-RESUMO DO CUSTO MENSAL POR EMPREGADO","Valor"]
[null,null,null,"Custo total - sem o 13º Salário",{"$f":"E105","v":23624.636804999998}]
[null,null,null,"Destaque do 13º Salário (valor mensal)",{"$f":"F112","v":1684.79}]
[]
[null,null,null,"TOTAL DO POSTO",{"$f":"E115+E116","v":25309.426804999999}]

{"sheet":"4","index":26,"n_rows":118,"n_cols":8,"rows_kept":118,"cut":false,"hidden":false,"merged":[[17,1,17,3],[1,1,1,5],[2,1,2,5],[4,1,4,2],[5,1,5,2],[7,1,7,3],[106,1,106,3],[39,3,39,5],[46,1,46,3],[56,1,56,3],[68,3,68,5],[74,1,74,3],[83,1,83,3]]}
[]
[null,"PLANILHA DE ESTIMATIVA DE CUSTOS"]
[null,"Padrão IN 05/2017 e IN 07/2018 - MPDG"]
[]
[null,4,null,{"$f":"HLOOKUP($B$5,'Dados Gerais'!$D$6:$BI$22,6)","v":"SUPERVISOR DE OPERAÇÕES"},"QUANTIDADE",{"$f":"HLOOKUP($B$5,'Dados Gerais'!$D$6:$BI$22,10)","v":2}]
[null,"CCT",null,{"$f":"HLOOKUP($B$5,'Dados Gerais'!$D$6:$BI$22,16)","v":"SEAC/DF X SINRAD/DF\nCCT 2024/2024\nN.º DF000133/2024"},"DATA-BASE",{"$f":"HLOOKUP($B$5,'Dados Gerais'!$D$6:$BI$22,17)","v":"2024-01-01"}]
[]
[null,"MÓDULO 1 - COMPOSIÇÃO DA REMUNERAÇÃO",null,null,null,"Valor"]
[null,null,"A","Salário-Base",null,{"$f":"HLOOKUP($B$5,'Dados Gerais'!$D$6:$BI$22,8)","v":10867.58}]
[null,null,"B","Adicional de Periculosidade",null,{"$f":"HLOOKUP($B$5,'Dados Gerais'!$D$6:$BI$39,26)","v":0}]
[null,null,"C","Adicional de Insalubridade",null,{"$f":"HLOOKUP($B$5,'Dados Gerais'!$D$6:$BI$39,32)","v":0}]
[null,null,"D","Adicional Noturno",null,{"$f":"HLOOKUP($B$5,'Dados Gerais'!$D$6:$BI$52,47)","v":0},null,"* Nota 1 - O Módulo 1 refere-se ao valor mensal devido ao empregado pela prestação do serviço no período de 12 meses."]
[null,null,"E","Adicional de Hora Extra",null,{"$f":"HLOOKUP($B$5,'Dados Gerais'!$D$6:$BI$69,64)","v":0},null,"* Nota 2 - O adicional de hora extra no feriado trabalhado foi suprimido pela Lei 13.467/17"]
[null,null,"F","Outros (especificar)",null,{"$f":"HLOOKUP($B$5,'Dados Gerais'!$D$6:$BI$69,34)","v":0},null,"* Nota 3 - ART. 7º, § 2º, DA LEI Nº 605/49.Sendo mensalista o obreiro, o adicional noturno pago de forma fixa já é considerado integrado para os efeitos do pagamento do repouso semanal remunerado, nos termos do art. 7º, § 2º, da Lei nº 605/49."]
[]
[null,null,null,"TOTAL DA REMUNERAÇÃO",null,{"$f":"SUM(F9:F14)","v":10867.58}]
[]
[null,"MÓDULO 2 - ENCARGOS E BENEFÍCIOS ANUAIS, MENSAIS E DIÁRIOS",null,null,"Percentuais","Valor"]
[null,"Submódulo 2.1 - 13º Salário, Férias e Adicional de Férias"]
[null,null,"A","13º Salário - Calculado no Módulo 7 - Destacado",0,{"$f":"ROUND(E20*F$16,2)","v":0}]
[null,null,"B","Adicional de Férias",{"$f":"'Encargos Sociais'!E31","v":3.0300000000000001E-2},{"$f":"ROUND(E21*F$16,2)","v":329.29},null,"* Nota 1 - O adicional de férias foi calculado dividindo-se por 11, para comportar os 11 meses presentes e ainda o ausente do posto"]
[]
[null,"Submódulo 2.2 - Encargos Previdenciários (GPS), Fundo de Garantia por Tempo de Serviço (FGTS) e Outras Contribuições"]
[null,null,"A",{"$f":"'Encargos Sociais'!D14","v":"INSS (art. 22, inciso I, Lei nº 8.212/91)"},{"$f":"'Encargos Sociais'!E14","v":0.2},{"$f":"ROUND(E24*($F$16+$F$21+$F$73),2)","v":2480.42},null,"* Nota 1 - Os percentuais dos encargos previdenciários, do FGTS e demais contribuições são estabelecidos por legislação vigente."]
[null,null,"B",{"$f":"'Encargos Sociais'!D15","v":"Salário Educação (art. 3º, inciso I, Decreto nº 87.043/82)"},{"$f":"'Encargos Sociais'!E15","v":2.5000000000000001E-2},310.05,null,"* Nota 2 - O SAT, a depender do grau de risco do serviço, irá variar entre 1%, para risco leve, de 2%, para risco médio, e de 3% para risco grave."]
[null,null,"C",{"$f":"'Encargos Sociais'!D16","v":"SAT/RAT (art. 22, II, Lei 8.212/91 e Anexo V, Decreto 6.042/07) - Enquadramento 5911-1/99 "},{"$f":"'Encargos Sociais'!E16","v":0.01},124.02,null,"* Nota 3 - Base de cálculo - remuneração + ausências + terço constitucional (férias)"]
[null,null,"D",{"$f":"'Encargos Sociais'!D17","v":"SESC ou SESI (art. 30, Lei nº 8.036/90 e art. 1º, Lei 8.154/90)"},{"$f":"'Encargos Sociais'!E17","v":1.4999999999999999E-2},186.03]
[null,null,"E",{"$f":"'Encargos Sociais'!D18","v":"SENAI ou SENAC (Decreto nº 2.318/86)"},{"$f":"'Encargos Sociais'!E18","v":0.01},124.02]
[null,null,"F",{"$f":"'Encargos Sociais'!D19","v":"SEBRAE (§ 3º, art. 8º, Lei 8.029/90, alterada pela Lei nº 8.154/90)"},{"$f":"'Encargos Sociais'!E19","v":6.0000000000000001E-3},74.41]
[null,null,"G",{"$f":"'Encargos Sociais'!D20","v":"INCRA (art. 1º, I, Decreto Lei 1.146/70 e Lei 7.787, de 30/06/89)"},{"$f":"'Encargos Sociais'!E20","v":2E-3},24.8]
[null,null,"H",{"$f":"'Encargos Sociais'!D21","v":"FGTS (Lei Complementar nº 110/01 e art. 30, Lei nº 8.036/90)"},{"$f":"'Encargos Sociais'!E21","v":0.08},992.17]
[null,null,"I",{"$f":"'Encargos Sociais'!D22","v":"SECONCI (Convenções Coletivas de Trabalho da construção)"},{"$f":"'Encargos Sociais'!E22","v":0},0]
[]
[null,"Submódulo 2.3 - Benefícios Mensais e Diários"]
[null,null,"A","Auxílio Transporte",null,{"$f":"HLOOKUP($B$5,'Dados Gerais'!$D$6:$BI$95,83)","v":0},null,"* Nota 1 - O valor informado deverá ser o custo real do benefício (descontado o valor eventualmente pago pelo empregado)."]
[null,null,"B","Auxílio Alimentação",null,{"$f":"HLOOKUP($B$5,'Dados Gerais'!$D$6:$BI$95,90)","v":957},null,"* Nota 2 - Observar a previsão dos benefícios contidos em Acordos, Convenções e Dissídios Coletivos de Trabalho e o disposto no art. 6º da IN 5/2017"]
[null,null,"C","Assistência Médica e Familiar",null,{"$f":"HLOOKUP($B$5,'Dados Gerais'!$D$6:$BI$103,98)","v":0}]
[null,null,"D","Outros (Seguro de vida, auxílio funeral, auxílio odontológico e auxílio creche)",null,{"$f":"HLOOKUP($B$5,'Dados Gerais'!$D$6:$BI$132,127)","v":334.57}]
[]
[null,null,null,"QUADRO-RESUMO DO MÓDULO 2"]
[null,null,null,"2.1 - Adicional de Férias",{"$f":"SUM(E20:E21)","v":3.0300000000000001E-2},{"$f":"F20+F21","v":329.29}]
[null,null,null,"2.2 - Encargos Previdenciários (GPS), Fundo de Garantia por Tempo de Serviço (FGTS) e Contribuições",{"$f":"SUM(E24:E32)","v":0.34800000000000003},{"$f":"SUM(F24:F32)","v":4315.92}]
[null,null,null,"2.3 - Benefícios Mensais e Diários",null,{"$f":"SUM(F35:F38)","v":1291.57}]
[]
[null,null,null,"TOTAL DOS ENCARGOS E BENEFÍCIOS",null,{"$f":"SUM(F41:F43)","v":5936.78}]
[]
[null,"MÓDULO 3 - PREVISÃO PARA RESCISÃO",null,null,"Percentuais","Valor"]
[null,null,"A",{"$f":"'Encargos Sociais'!D36","v":"Aviso Prévio Indenizado (Art. 7º, inciso XXI, da CF/1988 e arts. 477, 487, §1º, e 491 da CLT)"},{"$f":"'Encargos Sociais'!E36","v":4.1999999999999997E-3},{"$f":"ROUND(E48*($F$16+$F$41+$F$73),2)","v":52.09},null,"* Nota 1 - Base de cálculo - remuneração + ausências + 1/3 férias"]
[null,null,"B",{"$f":"'Encargos Sociais'!D37","v":"Incidência do FGTS sobre o Aviso Prévio Indenizado (Súmula 305 TST)"},{"$f":"'Encargos Sociais'!E37","v":2.9999999999999997E-4},3.72]
[null,null,"C",{"$f":"'Encargos Sociais'!D38","v":"Multa do FGTS sobre o Aviso Prévio Indenizado (Art. 18, §1º, da Lei 8.036/1990)"},{"$f":"'Encargos Sociais'!E38","v":1.9E-3},23.56]
[null,null,"D",{"$f":"'Encargos Sociais'!D39","v":"Aviso Prévio Trabalhado (Art. 488, parágrafo único, CLT)"},{"$f":"'Encargos Sociais'!E39","v":7.7999999999999996E-3},96.74]
[null,null,"E",{"$f":"'Encargos Sociais'!D40","v":"Incidência de GPS, FGTS e outras contribuições sobre o Aviso Prévio Trabalhado"},{"$f":"'Encargos Sociais'!E40","v":2.7000000000000001E-3},33.49]
[null,null,"F",{"$f":"'Encargos Sociais'!D41","v":"Multa do FGTS"},{"$f":"'Encargos Sociais'!E41","v":3.8199999999999998E-2},473.76]
[]
[null,null,null,"TOTAL DE PREVISÃO PARA RESCISÃO",null,{"$f":"SUM(F48:F53)","v":683.36}]
[]
[null,"MÓDULO 4 - CUSTO DO PROFISSIONAL AUSENTE",null,null,"Percentuais","Valor"]
[null,"Submódulo 4.1 - Ausências Legais"]
[null,null,"A",{"$f":"'Encargos Sociais'!D25","v":"Férias (Arts. 129 e 130, inc. I, da CLT)"},{"$f":"'Encargos Sociais'!E25","v":9.0899999999999995E-2},{"$f":"ROUND(E59*$F$16,2)","v":987.86},null,"* Nota 1 - O Módulo 4 refere-se às previsões para custear ausências do próprio profissional (titular do cargo)"]
[null,null,"B",{"$f":"'Encargos Sociais'!D26","v":"Ausências Legais (Arts. 131 e 473 da CLT)"},{"$f":"'Encargos Sociais'!E26","v":7.9000000000000008E-3},85.85,null,"* Nota 2 - As férias foram calculadas dividindo-se por 11, para comportar os 11 meses presentes e ainda o ausente do posto"]
[null,null,"C",{"$f":"'Encargos Sociais'!D27","v":"Licença-Paternidade (Art. 7º, XIX, e art. 10, §1º, do ADCT, CF/1988 e Art. 1º, II, da Lei 11.770/2008)"},{"$f":"'Encargos Sociais'!E27","v":8.0000000000000004E-4},8.69]
[null,null,"D",{"$f":"'Encargos Sociais'!D28","v":"Ausência por Acidente de Trabalho (Art. 131, III, da CLT)"},{"$f":"'Encargos Sociais'!E28","v":8.9999999999999998E-4},9.7799999999999994]
[null,null,"E",{"$f":"'Encargos Sociais'!D29","v":"Afastamento Maternidade (Art. 71 da Lei nº 8.213/1991)"},{"$f":"'Encargos Sociais'!E29","v":3.3E-3},35.86]
[null,null,"F",{"$f":"'Encargos Sociais'!D30","v":"Auxílio Enfermidade - Doença (Art. 59 da Lei nº 8.213/1991)"},{"$f":"'Encargos Sociais'!E30","v":7.1000000000000004E-3},77.16]
[]
[null,"Submódulo 4.2 - Intrajornada"]
[null,null,"A","Intervalo para repouso ou alimentação",{"$f":"'Encargos Sociais'!E33","v":0},{"$f":"ROUND(E67*$F$16,2)","v":0}]
[]
[null,null,null,"QUADRO-RESUMO DO MÓDULO 4",null,"Valor"]
[null,null,null,"4.1 - Ausências Legais",{"$f":"SUM(E59:E64)","v":0.11089999999999998},{"$f":"ROUND(E70*$F$16,2)","v":1205.21}]
[null,null,null,"4.2 - Intrajornada",{"$f":"E67","v":0},{"$f":"ROUND(E71*$F$16,2)","v":0}]
[]
[null,null,null,"TOTAL DE  CUSTO DO PROFISSIONAL AUSENTE E INTERVALO INTRAJORNADA",null,{"$f":"SUM(F70:F71)","v":1205.21}]
[]
[null,"MÓDULO 5 - INSUMOS DIVERSOS",null,null,null,"Valor"]
[null,null,"A","Uniformes - aquisição",null,{"$f":"ROUND(HLOOKUP($B$5,Uniformes!K4:DZ6,3)/12,2)","v":0}]
[null,null,"B","Materiais de consumo relacionados ao posto - aquisição",null,{"$f":"ROUND(HLOOKUP(B5,'Mat Cons'!I11:DX13,3)/12,2)","v":0}]
[null,null,"C","Ferramentas relacionadas ao posto - remuneração da depreciação / manutenção",null,{"$f":"HLOOKUP(B5,'Relacion - Ferram'!Q3:EF5,3)","v":0}]
[null,null,"D","Equipamentos relacionados ao posto - remuneração da depreciação / manutenção",null,{"$f":"ROUND(HLOOKUP(B5,'Equip Rel'!Q3:EF5,3)/12,2)","v":0}]
[null,null,"E","Equipamentos de Proteção Individual - EPI - aquisição",null,{"$f":"ROUND(HLOOKUP(B5,EPI!K4:AM6,3)/12,2)","v":0}]
[]
[null,null,null,"TOTAL DE INSUMOS DIVERSOS",null,{"$f":"SUM(F76:F81)","v":0},null,"* Nota - Valores mensais por empregado"]
[]
[null,"MÓDULO 6 - CUSTOS INDIRETOS, TRIBUTOS E LUCRO - BDI",null,null,"Percentuais","Valor"]
[null,null,"A","Custos Indiretos",{"$f":"'BDI - Geral'!E7","v":2.6000000000000002E-2}]
[null,null,"A.1","Administração Central",{"$f":"'BDI - Geral'!E8","v":2.06E-2}]
[null,null,"A.2","Seguros, Garantias e Riscos",{"$f":"'BDI - Geral'!E9","v":5.4000000000000003E-3}]
[null,null,"B","Lucro",{"$f":"'BDI - Geral'!E11","v":3.3399999999999999E-2}]
[null,null,"C","Tributos",{"$f":"SUM(E90:E91)","v":0.124}]
[null,null,"C.1","Tributos Federais (COFINS, PIS e CPRB)",{"$f":"'BDI - Geral'!E19","v":7.3999999999999996E-2}]
[null,null,"C.2","Tributos Distritais (ISS)",{"$f":"'BDI - Geral'!E24","v":0.05}]
[null,null,"D","Despesas Financeiras",{"$f":"'BDI - Geral'!E14","v":5.0569567433733642E-3}]
[]
[null,null,null,"TOTAL DE BDI",{"$f":"'BDI - Geral'!E27","v":0.2165},{"$f":"E94*E102","v":4047.0193450000002}]
[]
[null,null,null,"QUADRO-RESUMO DO CUSTO MENSAL POR EMPREGADO - SEM O 13º","Valor"]
[null,null,null,"Módulo 1 - Composição da Remuneração",{"$f":"F16","v":10867.58}]
[null,null,null,"Módulo 2 - Encargos e Benefícios Anuais, Mensais e Diários",{"$f":"F45","v":5936.78}]
[null,null,null,"Módulo 3 - Provisão para Rescisão",{"$f":"F55","v":683.36}]
[null,null,null,"Módulo 4 - Custo de Reposição do Profissional Ausente",{"$f":"F73","v":1205.21}]
[null,null,null,"Módulo 5 - Insumos Diversos",{"$f":"F82","v":0}]
[null,null,null,"SUBTOTAL (A+B+C+D+E)",{"$f":"SUM(E97:E101)","v":18692.93}]
[null,null,null,"Módulo 6 - Custos Indiretos, Tributos e Lucro",{"$f":"F94","v":4047.0193450000002}]
[]
[null,null,null,"TOTAL DO POSTO",{"$f":"SUM(E102:E103)","v":22739.949345000001}]
[]
[null,"MÓDULO 7 - DESTAQUE DO MÓDULO 2 - 13º SALÁRIO",null,null,"Percentuais","Valor"]
[null,null,"A","13º Salário",{"$f":"'Encargos Sociais'!E32*12/11","v":9.0872727272727272E-2},{"$f":"ROUND(E108*F$16,2)","v":987.57},null,"* Nota 1 - Incluindo-se a reincidência das férias do substituto sobre o titular"]
[null,null,"B","Encargos Sociais sobre o 13º Salário - Taxa calculada no MÓDULO 2",{"$f":"SUM($E$24:$E$32)","v":0.34800000000000003},{"$f":"ROUND(E109*$F$108,2)","v":343.67},null,"* Nota 2 - 13º e reflexos calculados à parte a fim de aprovisionamento"]
[null,null,"C","BDI sobre o 13º Salário - Taxa calculada no MÓDULO 6",{"$f":"E94","v":0.2165},{"$f":"ROUND(E110*($F$108+$F$109),2)","v":288.20999999999998}]
[]
[null,null,null,"TOTAL DO DESTAQUE DO 13º SALÁRIO",null,{"$f":"SUM(F108:F110)","v":1619.45}]
[]
[null,null,null,"QUADRO-RESUMO DO CUSTO MENSAL POR EMPREGADO","Valor"]
[null,null,null,"Custo total - sem o 13º Salário",{"$f":"E105","v":22739.949345000001}]
[null,null,null,"Destaque do 13º Salário (valor mensal)",{"$f":"F112","v":1619.45}]
[]
[null,null,null,"TOTAL DO POSTO",{"$f":"E115+E116","v":24359.399345000002}]

{"sheet":"5","index":27,"n_rows":118,"n_cols":8,"rows_kept":118,"cut":false,"hidden":false,"merged":[[17,1,17,3],[1,1,1,5],[2,1,2,5],[4,1,4,2],[5,1,5,2],[7,1,7,3],[106,1,106,3],[39,3,39,5],[46,1,46,3],[56,1,56,3],[68,3,68,5],[74,1,74,3],[83,1,83,3]]}
[]
[null,"PLANILHA DE ESTIMATIVA DE CUSTOS"]
[null,"Padrão IN 05/2017 e IN 07/2018 - MPDG"]
[]
[null,5,null,{"$f":"HLOOKUP($B$5,'Dados Gerais'!$D$6:$BI$22,6)","v":" DIRETOR DE IMAGENS – 30H"},"QUANTIDADE",{"$f":"HLOOKUP($B$5,'Dados Gerais'!$D$6:$BI$22,10)","v":24}]
[null,"CCT",null,{"$f":"HLOOKUP($B$5,'Dados Gerais'!$D$6:$BI$22,16)","v":"SEAC/DF X SINRAD/DF\nCCT 2024/2024\nN.º DF000133/2024"},"DATA-BASE",{"$f":"HLOOKUP($B$5,'Dados Gerais'!$D$6:$BI$22,17)","v":"2024-01-01"}]
[]
[null,"MÓDULO 1 - COMPOSIÇÃO DA REMUNERAÇÃO",null,null,null,"Valor"]
[null,null,"A","Salário-Base",null,{"$f":"HLOOKUP($B$5,'Dados Gerais'!$D$6:$BI$22,8)","v":6492.64}]
[null,null,"B","Adicional de Periculosidade",null,{"$f":"HLOOKUP($B$5,'Dados Gerais'!$D$6:$BI$39,26)","v":0}]
[null,null,"C","Adicional de Insalubridade",null,{"$f":"HLOOKUP($B$5,'Dados Gerais'!$D$6:$BI$39,32)","v":0}]
[null,null,"D","Adicional Noturno",null,{"$f":"HLOOKUP($B$5,'Dados Gerais'!$D$6:$BI$52,47)","v":0},null,"* Nota 1 - O Módulo 1 refere-se ao valor mensal devido ao empregado pela prestação do serviço no período de 12 meses."]
[null,null,"E","Adicional de Hora Extra",null,{"$f":"HLOOKUP($B$5,'Dados Gerais'!$D$6:$BI$69,64)","v":0},null,"* Nota 2 - O adicional de hora extra no feriado trabalhado foi suprimido pela Lei 13.467/17"]
[null,null,"F","Outros (especificar)",null,{"$f":"HLOOKUP($B$5,'Dados Gerais'!$D$6:$BI$69,34)","v":0},null,"* Nota 3 - ART. 7º, § 2º, DA LEI Nº 605/49.Sendo mensalista o obreiro, o adicional noturno pago de forma fixa já é considerado integrado para os efeitos do pagamento do repouso semanal remunerado, nos termos do art. 7º, § 2º, da Lei nº 605/49."]
[]
[null,null,null,"TOTAL DA REMUNERAÇÃO",null,{"$f":"SUM(F9:F14)","v":6492.64}]
[]
[null,"MÓDULO 2 - ENCARGOS E BENEFÍCIOS ANUAIS, MENSAIS E DIÁRIOS",null,null,"Percentuais","Valor"]
[null,"Submódulo 2.1 - 13º Salário, Férias e Adicional de Férias"]
[null,null,"A","13º Salário - Calculado no Módulo 7 - Destacado",0,{"$f":"ROUND(E20*F$16,2)","v":0}]
[null,null,"B","Adicional de Férias",{"$f":"'Encargos Sociais'!E31","v":3.0300000000000001E-2},{"$f":"ROUND(E21*F$16,2)","v":196.73},null,"* Nota 1 - O adicional de férias foi calculado dividindo-se por 11, para comportar os 11 meses presentes e ainda o ausente do posto"]
[]
[null,"Submódulo 2.2 - Encargos Previdenciários (GPS), Fundo de Garantia por Tempo de Serviço (FGTS) e Outras Contribuições"]
[null,null,"A",{"$f":"'Encargos Sociais'!D14","v":"INSS (art. 22, inciso I, Lei nº 8.212/91)"},{"$f":"'Encargos Sociais'!E14","v":0.2},{"$f":"ROUND(E24*($F$16+$F$21+$F$73),2)","v":1481.88},null,"* Nota 1 - Os percentuais dos encargos previdenciários, do FGTS e demais contribuições são estabelecidos por legislação vigente."]
[null,null,"B",{"$f":"'Encargos Sociais'!D15","v":"Salário Educação (art. 3º, inciso I, Decreto nº 87.043/82)"},{"$f":"'Encargos Sociais'!E15","v":2.5000000000000001E-2},185.24,null,"* Nota 2 - O SAT, a depender do grau de risco do serviço, irá variar entre 1%, para risco leve, de 2%, para risco médio, e de 3% para risco grave."]
[null,null,"C",{"$f":"'Encargos Sociais'!D16","v":"SAT/RAT (art. 22, II, Lei 8.212/91 e Anexo V, Decreto 6.042/07) - Enquadramento 5911-1/99 "},{"$f":"'Encargos Sociais'!E16","v":0.01},74.09,null,"* Nota 3 - Base de cálculo - remuneração + ausências + terço constitucional (férias)"]
[null,null,"D",{"$f":"'Encargos Sociais'!D17","v":"SESC ou SESI (art. 30, Lei nº 8.036/90 e art. 1º, Lei 8.154/90)"},{"$f":"'Encargos Sociais'!E17","v":1.4999999999999999E-2},111.14]
[null,null,"E",{"$f":"'Encargos Sociais'!D18","v":"SENAI ou SENAC (Decreto nº 2.318/86)"},{"$f":"'Encargos Sociais'!E18","v":0.01},74.09]
[null,null,"F",{"$f":"'Encargos Sociais'!D19","v":"SEBRAE (§ 3º, art. 8º, Lei 8.029/90, alterada pela Lei nº 8.154/90)"},{"$f":"'Encargos Sociais'!E19","v":6.0000000000000001E-3},44.46]
[null,null,"G",{"$f":"'Encargos Sociais'!D20","v":"INCRA (art. 1º, I, Decreto Lei 1.146/70 e Lei 7.787, de 30/06/89)"},{"$f":"'Encargos Sociais'!E20","v":2E-3},14.82]
[null,null,"H",{"$f":"'Encargos Sociais'!D21","v":"FGTS (Lei Complementar nº 110/01 e art. 30, Lei nº 8.036/90)"},{"$f":"'Encargos Sociais'!E21","v":0.08},592.75]
[null,null,"I",{"$f":"'Encargos Sociais'!D22","v":"SECONCI (Convenções Coletivas de Trabalho da construção)"},{"$f":"'Encargos Sociais'!E22","v":0},0]
[]
[null,"Submódulo 2.3 - Benefícios Mensais e Diários"]
[null,null,"A","Auxílio Transporte",null,{"$f":"HLOOKUP($B$5,'Dados Gerais'!$D$6:$BI$95,83)","v":0},null,"* Nota 1 - O valor informado deverá ser o custo real do benefício (descontado o valor eventualmente pago pelo empregado)."]
[null,null,"B","Auxílio Alimentação",null,{"$f":"HLOOKUP($B$5,'Dados Gerais'!$D$6:$BI$95,90)","v":957},null,"* Nota 2 - Observar a previsão dos benefícios contidos em Acordos, Convenções e Dissídios Coletivos de Trabalho e o disposto no art. 6º da IN 5/2017"]
[null,null,"C","Assistência Médica e Familiar",null,{"$f":"HLOOKUP($B$5,'Dados Gerais'!$D$6:$BI$103,98)","v":0}]
[null,null,"D","Outros (Seguro de vida, auxílio funeral, auxílio odontológico e auxílio creche)",null,{"$f":"HLOOKUP($B$5,'Dados Gerais'!$D$6:$BI$132,127)","v":334.57}]
[]
[null,null,null,"QUADRO-RESUMO DO MÓDULO 2"]
[null,null,null,"2.1 - Adicional de Férias",{"$f":"SUM(E20:E21)","v":3.0300000000000001E-2},{"$f":"F20+F21","v":196.73}]
[null,null,null,"2.2 - Encargos Previdenciários (GPS), Fundo de Garantia por Tempo de Serviço (FGTS) e Contribuições",{"$f":"SUM(E24:E32)","v":0.34800000000000003},{"$f":"SUM(F24:F32)","v":2578.4700000000003}]
[null,null,null,"2.3 - Benefícios Mensais e Diários",null,{"$f":"SUM(F35:F38)","v":1291.57}]
[]
[null,null,null,"TOTAL DOS ENCARGOS E BENEFÍCIOS",null,{"$f":"SUM(F41:F43)","v":4066.7700000000004}]
[]
[null,"MÓDULO 3 - PREVISÃO PARA RESCISÃO",null,null,"Percentuais","Valor"]
[null,null,"A",{"$f":"'Encargos Sociais'!D36","v":"Aviso Prévio Indenizado (Art. 7º, inciso XXI, da CF/1988 e arts. 477, 487, §1º, e 491 da CLT)"},{"$f":"'Encargos Sociais'!E36","v":4.1999999999999997E-3},{"$f":"ROUND(E48*($F$16+$F$41+$F$73),2)","v":31.12},null,"* Nota 1 - Base de cálculo - remuneração + ausências + 1/3 férias"]
[null,null,"B",{"$f":"'Encargos Sociais'!D37","v":"Incidência do FGTS sobre o Aviso Prévio Indenizado (Súmula 305 TST)"},{"$f":"'Encargos Sociais'!E37","v":2.9999999999999997E-4},2.2200000000000002]
[null,null,"C",{"$f":"'Encargos Sociais'!D38","v":"Multa do FGTS sobre o Aviso Prévio Indenizado (Art. 18, §1º, da Lei 8.036/1990)"},{"$f":"'Encargos Sociais'!E38","v":1.9E-3},14.08]
[null,null,"D",{"$f":"'Encargos Sociais'!D39","v":"Aviso Prévio Trabalhado (Art. 488, parágrafo único, CLT)"},{"$f":"'Encargos Sociais'!E39","v":7.7999999999999996E-3},57.79]
[null,null,"E",{"$f":"'Encargos Sociais'!D40","v":"Incidência de GPS, FGTS e outras contribuições sobre o Aviso Prévio Trabalhado"},{"$f":"'Encargos Sociais'!E40","v":2.7000000000000001E-3},20.010000000000002]
[null,null,"F",{"$f":"'Encargos Sociais'!D41","v":"Multa do FGTS"},{"$f":"'Encargos Sociais'!E41","v":3.8199999999999998E-2},283.04000000000002]
[]
[null,null,null,"TOTAL DE PREVISÃO PARA RESCISÃO",null,{"$f":"SUM(F48:F53)","v":408.26000000000005}]
[]
[null,"MÓDULO 4 - CUSTO DO PROFISSIONAL AUSENTE",null,null,"Percentuais","Valor"]
[null,"Submódulo 4.1 - Ausências Legais"]
[null,null,"A",{"$f":"'Encargos Sociais'!D25","v":"Férias (Arts. 129 e 130, inc. I, da CLT)"},{"$f":"'Encargos Sociais'!E25","v":9.0899999999999995E-2},{"$f":"ROUND(E59*$F$16,2)","v":590.17999999999995},null,"* Nota 1 - O Módulo 4 refere-se às previsões para custear ausências do próprio profissional (titular do cargo)"]
[null,null,"B",{"$f":"'Encargos Sociais'!D26","v":"Ausências Legais (Arts. 131 e 473 da CLT)"},{"$f":"'Encargos Sociais'!E26","v":7.9000000000000008E-3},51.29,null,"* Nota 2 - As férias foram calculadas dividindo-se por 11, para comportar os 11 meses presentes e ainda o ausente do posto"]
[null,null,"C",{"$f":"'Encargos Sociais'!D27","v":"Licença-Paternidade (Art. 7º, XIX, e art. 10, §1º, do ADCT, CF/1988 e Art. 1º, II, da Lei 11.770/2008)"},{"$f":"'Encargos Sociais'!E27","v":8.0000000000000004E-4},5.19]
[null,null,"D",{"$f":"'Encargos Sociais'!D28","v":"Ausência por Acidente de Trabalho (Art. 131, III, da CLT)"},{"$f":"'Encargos Sociais'!E28","v":8.9999999999999998E-4},5.84]
[null,null,"E",{"$f":"'Encargos Sociais'!D29","v":"Afastamento Maternidade (Art. 71 da Lei nº 8.213/1991)"},{"$f":"'Encargos Sociais'!E29","v":3.3E-3},21.43]
[null,null,"F",{"$f":"'Encargos Sociais'!D30","v":"Auxílio Enfermidade - Doença (Art. 59 da Lei nº 8.213/1991)"},{"$f":"'Encargos Sociais'!E30","v":7.1000000000000004E-3},46.1]
[]
[null,"Submódulo 4.2 - Intrajornada"]
[null,null,"A","Intervalo para repouso ou alimentação",{"$f":"'Encargos Sociais'!E33","v":0},{"$f":"ROUND(E67*$F$16,2)","v":0}]
[]
[null,null,null,"QUADRO-RESUMO DO MÓDULO 4",null,"Valor"]
[null,null,null,"4.1 - Ausências Legais",{"$f":"SUM(E59:E64)","v":0.11089999999999998},{"$f":"ROUND(E70*$F$16,2)","v":720.03}]
[null,null,null,"4.2 - Intrajornada",{"$f":"E67","v":0},{"$f":"ROUND(E71*$F$16,2)","v":0}]
[]
[null,null,null,"TOTAL DE  CUSTO DO PROFISSIONAL AUSENTE E INTERVALO INTRAJORNADA",null,{"$f":"SUM(F70:F71)","v":720.03}]
[]
[null,"MÓDULO 5 - INSUMOS DIVERSOS",null,null,null,"Valor"]
[null,null,"A","Uniformes - aquisição",null,{"$f":"ROUND(HLOOKUP($B$5,Uniformes!K4:DZ6,3)/12,2)","v":0}]
[null,null,"B","Materiais de consumo relacionados ao posto - aquisição",null,{"$f":"ROUND(HLOOKUP(B5,'Mat Cons'!I11:DX13,3)/12,2)","v":0}]
[null,null,"C","Ferramentas relacionadas ao posto - remuneração da depreciação / manutenção",null,{"$f":"HLOOKUP(B5,'Relacion - Ferram'!Q3:EF5,3)","v":5.37}]
[null,null,"D","Equipamentos relacionados ao posto - remuneração da depreciação / manutenção",null,{"$f":"ROUND(HLOOKUP(B5,'Equip Rel'!Q3:EF5,3)/12,2)","v":0}]
[null,null,"E","Equipamentos de Proteção Individual - EPI - aquisição",null,{"$f":"ROUND(HLOOKUP(B5,EPI!K4:AM6,3)/12,2)","v":0}]
[]
[null,null,null,"TOTAL DE INSUMOS DIVERSOS",null,{"$f":"SUM(F76:F81)","v":5.37},null,"* Nota - Valores mensais por empregado"]
[]
[null,"MÓDULO 6 - CUSTOS INDIRETOS, TRIBUTOS E LUCRO - BDI",null,null,"Percentuais","Valor"]
[null,null,"A","Custos Indiretos",{"$f":"'BDI - Geral'!E7","v":2.6000000000000002E-2}]
[null,null,"A.1","Administração Central",{"$f":"'BDI - Geral'!E8","v":2.06E-2}]
[null,null,"A.2","Seguros, Garantias e Riscos",{"$f":"'BDI - Geral'!E9","v":5.4000000000000003E-3}]
[null,null,"B","Lucro",{"$f":"'BDI - Geral'!E11","v":3.3399999999999999E-2}]
[null,null,"C","Tributos",{"$f":"SUM(E90:E91)","v":0.124}]
[null,null,"C.1","Tributos Federais (COFINS, PIS e CPRB)",{"$f":"'BDI - Geral'!E19","v":7.3999999999999996E-2}]
[null,null,"C.2","Tributos Distritais (ISS)",{"$f":"'BDI - Geral'!E24","v":0.05}]
[null,null,"D","Despesas Financeiras",{"$f":"'BDI - Geral'!E14","v":5.0569567433733642E-3}]
[]
[null,null,null,"TOTAL DE BDI",{"$f":"'BDI - Geral'!E27","v":0.2165},{"$f":"E94*E102","v":2531.5496550000003}]
[]
[null,null,null,"QUADRO-RESUMO DO CUSTO MENSAL POR EMPREGADO - SEM O 13º","Valor"]
[null,null,null,"Módulo 1 - Composição da Remuneração",{"$f":"F16","v":6492.64}]
[null,null,null,"Módulo 2 - Encargos e Benefícios Anuais, Mensais e Diários",{"$f":"F45","v":4066.7700000000004}]
[null,null,null,"Módulo 3 - Provisão para Rescisão",{"$f":"F55","v":408.26000000000005}]
[null,null,null,"Módulo 4 - Custo de Reposição do Profissional Ausente",{"$f":"F73","v":720.03}]
[null,null,null,"Módulo 5 - Insumos Diversos",{"$f":"F82","v":5.37}]
[null,null,null,"SUBTOTAL (A+B+C+D+E)",{"$f":"SUM(E97:E101)","v":11693.070000000002}]
[null,null,null,"Módulo 6 - Custos Indiretos, Tributos e Lucro",{"$f":"F94","v":2531.5496550000003}]
[]
[null,null,null,"TOTAL DO POSTO",{"$f":"SUM(E102:E103)","v":14224.619655000002}]
[]
[null,"MÓDULO 7 - DESTAQUE DO MÓDULO 2 - 13º SALÁRIO",null,null,"Percentuais","Valor"]
[null,null,"A","13º Salário",{"$f":"'Encargos Sociais'!E32*12/11","v":9.0872727272727272E-2},{"$f":"ROUND(E108*F$16,2)","v":590},null,"* Nota 1 - Incluindo-se a reincidência das férias do substituto sobre o titular"]
[null,null,"B","Encargos Sociais sobre o 13º Salário - Taxa calculada no MÓDULO 2",{"$f":"SUM($E$24:$E$32)","v":0.34800000000000003},{"$f":"ROUND(E109*$F$108,2)","v":205.32},null,"* Nota 2 - 13º e reflexos calculados à parte a fim de aprovisionamento"]
[null,null,"C","BDI sobre o 13º Salário - Taxa calculada no MÓDULO 6",{"$f":"E94","v":0.2165},{"$f":"ROUND(E110*($F$108+$F$109),2)","v":172.19}]
[]
[null,null,null,"TOTAL DO DESTAQUE DO 13º SALÁRIO",null,{"$f":"SUM(F108:F110)","v":967.51}]
[]
[null,null,null,"QUADRO-RESUMO DO CUSTO MENSAL POR EMPREGADO","Valor"]
[null,null,null,"Custo total - sem o 13º Salário",{"$f":"E105","v":14224.619655000002}]
[null,null,null,"Destaque do 13º Salário (valor mensal)",{"$f":"F112","v":967.51}]
[]
[null,null,null,"TOTAL DO POSTO",{"$f":"E115+E116","v":15192.129655000002}]

{"sheet":"6","index":28,"n_rows":118,"n_cols":8,"rows_kept":118,"cut":false,"hidden":false,"merged":[[17,1,17,3],[1,1,1,5],[2,1,2,5],[4,1,4,2],[5,1,5,2],[7,1,7,3],[106,1,106,3],[39,3,39,5],[46,1,46,3],[56,1,56,3],[68,3,68,5],[74,1,74,3],[83,1,83,3]]}
[]
[null,"PLANILHA DE ESTIMATIVA DE CUSTOS"]
[null,"Padrão IN 05/2017 e IN 07/2018 - MPDG"]
[]
[null,6,null,{"$f":"HLOOKUP($B$5,'Dados Gerais'!$D$6:$BI$22,6)","v":" DIRETOR DE IMAGENS – 18H"},"QUANTIDADE",{"$f":"HLOOKUP($B$5,'Dados Gerais'!$D$6:$BI$22,10)","v":21}]
[null,"CCT",null,{"$f":"HLOOKUP($B$5,'Dados Gerais'!$D$6:$BI$22,16)","v":"SEAC/DF X SINRAD/DF\nCCT 2024/2024\nN.º DF000133/2024"},"DATA-BASE",{"$f":"HLOOKUP($B$5,'Dados Gerais'!$D$6:$BI$22,17)","v":"2024-01-01"}]
[]
[null,"MÓDULO 1 - COMPOSIÇÃO DA REMUNERAÇÃO",null,null,null,"Valor"]
[null,null,"A","Salário-Base",null,{"$f":"HLOOKUP($B$5,'Dados Gerais'!$D$6:$BI$22,8)","v":3895.59}]
[null,null,"B","Adicional de Periculosidade",null,{"$f":"HLOOKUP($B$5,'Dados Gerais'!$D$6:$BI$39,26)","v":0}]
[null,null,"C","Adicional de Insalubridade",null,{"$f":"HLOOKUP($B$5,'Dados Gerais'!$D$6:$BI$39,32)","v":0}]
[null,null,"D","Adicional Noturno",null,{"$f":"HLOOKUP($B$5,'Dados Gerais'!$D$6:$BI$52,47)","v":0},null,"* Nota 1 - O Módulo 1 refere-se ao valor mensal devido ao empregado pela prestação do serviço no período de 12 meses."]
[null,null,"E","Adicional de Hora Extra",null,{"$f":"HLOOKUP($B$5,'Dados Gerais'!$D$6:$BI$69,64)","v":0},null,"* Nota 2 - O adicional de hora extra no feriado trabalhado foi suprimido pela Lei 13.467/17"]
[null,null,"F","Outros (especificar)",null,{"$f":"HLOOKUP($B$5,'Dados Gerais'!$D$6:$BI$69,34)","v":0},null,"* Nota 3 - ART. 7º, § 2º, DA LEI Nº 605/49.Sendo mensalista o obreiro, o adicional noturno pago de forma fixa já é considerado integrado para os efeitos do pagamento do repouso semanal remunerado, nos termos do art. 7º, § 2º, da Lei nº 605/49."]
[]
[null,null,null,"TOTAL DA REMUNERAÇÃO",null,{"$f":"SUM(F9:F14)","v":3895.59}]
[]
[null,"MÓDULO 2 - ENCARGOS E BENEFÍCIOS ANUAIS, MENSAIS E DIÁRIOS",null,null,"Percentuais","Valor"]
[null,"Submódulo 2.1 - 13º Salário, Férias e Adicional de Férias"]
[null,null,"A","13º Salário - Calculado no Módulo 7 - Destacado",0,{"$f":"ROUND(E20*F$16,2)","v":0}]
[null,null,"B","Adicional de Férias",{"$f":"'Encargos Sociais'!E31","v":3.0300000000000001E-2},{"$f":"ROUND(E21*F$16,2)","v":118.04},null,"* Nota 1 - O adicional de férias foi calculado dividindo-se por 11, para comportar os 11 meses presentes e ainda o ausente do posto"]
[]
[null,"Submódulo 2.2 - Encargos Previdenciários (GPS), Fundo de Garantia por Tempo de Serviço (FGTS) e Outras Contribuições"]
[null,null,"A",{"$f":"'Encargos Sociais'!D14","v":"INSS (art. 22, inciso I, Lei nº 8.212/91)"},{"$f":"'Encargos Sociais'!E14","v":0.2},{"$f":"ROUND(E24*($F$16+$F$21+$F$73),2)","v":889.13},null,"* Nota 1 - Os percentuais dos encargos previdenciários, do FGTS e demais contribuições são estabelecidos por legislação vigente."]
[null,null,"B",{"$f":"'Encargos Sociais'!D15","v":"Salário Educação (art. 3º, inciso I, Decreto nº 87.043/82)"},{"$f":"'Encargos Sociais'!E15","v":2.5000000000000001E-2},111.14,null,"* Nota 2 - O SAT, a depender do grau de risco do serviço, irá variar entre 1%, para risco leve, de 2%, para risco médio, e de 3% para risco grave."]
[null,null,"C",{"$f":"'Encargos Sociais'!D16","v":"SAT/RAT (art. 22, II, Lei 8.212/91 e Anexo V, Decreto 6.042/07) - Enquadramento 5911-1/99 "},{"$f":"'Encargos Sociais'!E16","v":0.01},44.46,null,"* Nota 3 - Base de cálculo - remuneração + ausências + terço constitucional (férias)"]
[null,null,"D",{"$f":"'Encargos Sociais'!D17","v":"SESC ou SESI (art. 30, Lei nº 8.036/90 e art. 1º, Lei 8.154/90)"},{"$f":"'Encargos Sociais'!E17","v":1.4999999999999999E-2},66.680000000000007]
[null,null,"E",{"$f":"'Encargos Sociais'!D18","v":"SENAI ou SENAC (Decreto nº 2.318/86)"},{"$f":"'Encargos Sociais'!E18","v":0.01},44.46]
[null,null,"F",{"$f":"'Encargos Sociais'!D19","v":"SEBRAE (§ 3º, art. 8º, Lei 8.029/90, alterada pela Lei nº 8.154/90)"},{"$f":"'Encargos Sociais'!E19","v":6.0000000000000001E-3},26.67]
[null,null,"G",{"$f":"'Encargos Sociais'!D20","v":"INCRA (art. 1º, I, Decreto Lei 1.146/70 e Lei 7.787, de 30/06/89)"},{"$f":"'Encargos Sociais'!E20","v":2E-3},8.89]
[null,null,"H",{"$f":"'Encargos Sociais'!D21","v":"FGTS (Lei Complementar nº 110/01 e art. 30, Lei nº 8.036/90)"},{"$f":"'Encargos Sociais'!E21","v":0.08},355.65]
[null,null,"I",{"$f":"'Encargos Sociais'!D22","v":"SECONCI (Convenções Coletivas de Trabalho da construção)"},{"$f":"'Encargos Sociais'!E22","v":0},0]
[]
[null,"Submódulo 2.3 - Benefícios Mensais e Diários"]
[null,null,"A","Auxílio Transporte",null,{"$f":"HLOOKUP($B$5,'Dados Gerais'!$D$6:$BI$95,83)","v":0},null,"* Nota 1 - O valor informado deverá ser o custo real do benefício (descontado o valor eventualmente pago pelo empregado)."]
[null,null,"B","Auxílio Alimentação",null,{"$f":"HLOOKUP($B$5,'Dados Gerais'!$D$6:$BI$95,90)","v":565.5},null,"* Nota 2 - Observar a previsão dos benefícios contidos em Acordos, Convenções e Dissídios Coletivos de Trabalho e o disposto no art. 6º da IN 5/2017"]
[null,null,"C","Assistência Médica e Familiar",null,{"$f":"HLOOKUP($B$5,'Dados Gerais'!$D$6:$BI$103,98)","v":0}]
[null,null,"D","Outros (Seguro de vida, auxílio funeral, auxílio odontológico e auxílio creche)",null,{"$f":"HLOOKUP($B$5,'Dados Gerais'!$D$6:$BI$132,127)","v":334.57}]
[]
[null,null,null,"QUADRO-RESUMO DO MÓDULO 2"]
[null,null,null,"2.1 - Adicional de Férias",{"$f":"SUM(E20:E21)","v":3.0300000000000001E-2},{"$f":"F20+F21","v":118.04}]
[null,null,null,"2.2 - Encargos Previdenciários (GPS), Fundo de Garantia por Tempo de Serviço (FGTS) e Contribuições",{"$f":"SUM(E24:E32)","v":0.34800000000000003},{"$f":"SUM(F24:F32)","v":1547.0800000000004}]
[null,null,null,"2.3 - Benefícios Mensais e Diários",null,{"$f":"SUM(F35:F38)","v":900.06999999999994}]
[]
[null,null,null,"TOTAL DOS ENCARGOS E BENEFÍCIOS",null,{"$f":"SUM(F41:F43)","v":2565.1900000000005}]
[]
[null,"MÓDULO 3 - PREVISÃO PARA RESCISÃO",null,null,"Percentuais","Valor"]
[null,null,"A",{"$f":"'Encargos Sociais'!D36","v":"Aviso Prévio Indenizado (Art. 7º, inciso XXI, da CF/1988 e arts. 477, 487, §1º, e 491 da CLT)"},{"$f":"'Encargos Sociais'!E36","v":4.1999999999999997E-3},{"$f":"ROUND(E48*($F$16+$F$41+$F$73),2)","v":18.670000000000002},null,"* Nota 1 - Base de cálculo - remuneração + ausências + 1/3 férias"]
[null,null,"B",{"$f":"'Encargos Sociais'!D37","v":"Incidência do FGTS sobre o Aviso Prévio Indenizado (Súmula 305 TST)"},{"$f":"'Encargos Sociais'!E37","v":2.9999999999999997E-4},1.33]
[null,null,"C",{"$f":"'Encargos Sociais'!D38","v":"Multa do FGTS sobre o Aviso Prévio Indenizado (Art. 18, §1º, da Lei 8.036/1990)"},{"$f":"'Encargos Sociais'!E38","v":1.9E-3},8.4499999999999993]
[null,null,"D",{"$f":"'Encargos Sociais'!D39","v":"Aviso Prévio Trabalhado (Art. 488, parágrafo único, CLT)"},{"$f":"'Encargos Sociais'!E39","v":7.7999999999999996E-3},34.68]
[null,null,"E",{"$f":"'Encargos Sociais'!D40","v":"Incidência de GPS, FGTS e outras contribuições sobre o Aviso Prévio Trabalhado"},{"$f":"'Encargos Sociais'!E40","v":2.7000000000000001E-3},12]
[null,null,"F",{"$f":"'Encargos Sociais'!D41","v":"Multa do FGTS"},{"$f":"'Encargos Sociais'!E41","v":3.8199999999999998E-2},169.82]
[]
[null,null,null,"TOTAL DE PREVISÃO PARA RESCISÃO",null,{"$f":"SUM(F48:F53)","v":244.95}]
[]
[null,"MÓDULO 4 - CUSTO DO PROFISSIONAL AUSENTE",null,null,"Percentuais","Valor"]
[null,"Submódulo 4.1 - Ausências Legais"]
[null,null,"A",{"$f":"'Encargos Sociais'!D25","v":"Férias (Arts. 129 e 130, inc. I, da CLT)"},{"$f":"'Encargos Sociais'!E25","v":9.0899999999999995E-2},{"$f":"ROUND(E59*$F$16,2)","v":354.11},null,"* Nota 1 - O Módulo 4 refere-se às previsões para custear ausências do próprio profissional (titular do cargo)"]
[null,null,"B",{"$f":"'Encargos Sociais'!D26","v":"Ausências Legais (Arts. 131 e 473 da CLT)"},{"$f":"'Encargos Sociais'!E26","v":7.9000000000000008E-3},30.78,null,"* Nota 2 - As férias foram calculadas dividindo-se por 11, para comportar os 11 meses presentes e ainda o ausente do posto"]
[null,null,"C",{"$f":"'Encargos Sociais'!D27","v":"Licença-Paternidade (Art. 7º, XIX, e art. 10, §1º, do ADCT, CF/1988 e Art. 1º, II, da Lei 11.770/2008)"},{"$f":"'Encargos Sociais'!E27","v":8.0000000000000004E-4},3.12]
[null,null,"D",{"$f":"'Encargos Sociais'!D28","v":"Ausência por Acidente de Trabalho (Art. 131, III, da CLT)"},{"$f":"'Encargos Sociais'!E28","v":8.9999999999999998E-4},3.51]
[null,null,"E",{"$f":"'Encargos Sociais'!D29","v":"Afastamento Maternidade (Art. 71 da Lei nº 8.213/1991)"},{"$f":"'Encargos Sociais'!E29","v":3.3E-3},12.86]
[null,null,"F",{"$f":"'Encargos Sociais'!D30","v":"Auxílio Enfermidade - Doença (Art. 59 da Lei nº 8.213/1991)"},{"$f":"'Encargos Sociais'!E30","v":7.1000000000000004E-3},27.66]
[]
[null,"Submódulo 4.2 - Intrajornada"]
[null,null,"A","Intervalo para repouso ou alimentação",{"$f":"'Encargos Sociais'!E33","v":0},{"$f":"ROUND(E67*$F$16,2)","v":0}]
[]
[null,null,null,"QUADRO-RESUMO DO MÓDULO 4",null,"Valor"]
[null,null,null,"4.1 - Ausências Legais",{"$f":"SUM(E59:E64)","v":0.11089999999999998},{"$f":"ROUND(E70*$F$16,2)","v":432.02}]
[null,null,null,"4.2 - Intrajornada",{"$f":"E67","v":0},{"$f":"ROUND(E71*$F$16,2)","v":0}]
[]
[null,null,null,"TOTAL DE  CUSTO DO PROFISSIONAL AUSENTE E INTERVALO INTRAJORNADA",null,{"$f":"SUM(F70:F71)","v":432.02}]
[]
[null,"MÓDULO 5 - INSUMOS DIVERSOS",null,null,null,"Valor"]
[null,null,"A","Uniformes - aquisição",null,{"$f":"ROUND(HLOOKUP($B$5,Uniformes!K4:DZ6,3)/12,2)","v":0}]
[null,null,"B","Materiais de consumo relacionados ao posto - aquisição",null,{"$f":"ROUND(HLOOKUP(B5,'Mat Cons'!I11:DX13,3)/12,2)","v":0}]
[null,null,"C","Ferramentas relacionadas ao posto - remuneração da depreciação / manutenção",null,{"$f":"HLOOKUP(B5,'Relacion - Ferram'!Q3:EF5,3)","v":5.37}]
[null,null,"D","Equipamentos relacionados ao posto - remuneração da depreciação / manutenção",null,{"$f":"ROUND(HLOOKUP(B5,'Equip Rel'!Q3:EF5,3)/12,2)","v":0}]
[null,null,"E","Equipamentos de Proteção Individual - EPI - aquisição",null,{"$f":"ROUND(HLOOKUP(B5,EPI!K4:AM6,3)/12,2)","v":0}]
[]
[null,null,null,"TOTAL DE INSUMOS DIVERSOS",null,{"$f":"SUM(F76:F81)","v":5.37},null,"* Nota - Valores mensais por empregado"]
[]
[null,"MÓDULO 6 - CUSTOS INDIRETOS, TRIBUTOS E LUCRO - BDI",null,null,"Percentuais","Valor"]
[null,null,"A","Custos Indiretos",{"$f":"'BDI - Geral'!E7","v":2.6000000000000002E-2}]
[null,null,"A.1","Administração Central",{"$f":"'BDI - Geral'!E8","v":2.06E-2}]
[null,null,"A.2","Seguros, Garantias e Riscos",{"$f":"'BDI - Geral'!E9","v":5.4000000000000003E-3}]
[null,null,"B","Lucro",{"$f":"'BDI - Geral'!E11","v":3.3399999999999999E-2}]
[null,null,"C","Tributos",{"$f":"SUM(E90:E91)","v":0.124}]
[null,null,"C.1","Tributos Federais (COFINS, PIS e CPRB)",{"$f":"'BDI - Geral'!E19","v":7.3999999999999996E-2}]
[null,null,"C.2","Tributos Distritais (ISS)",{"$f":"'BDI - Geral'!E24","v":0.05}]
[null,null,"D","Despesas Financeiras",{"$f":"'BDI - Geral'!E14","v":5.0569567433733642E-3}]
[]
[null,null,null,"TOTAL DE BDI",{"$f":"'BDI - Geral'!E27","v":0.2165},{"$f":"E94*E102","v":1546.4854800000001}]
[]
[null,null,null,"QUADRO-RESUMO DO CUSTO MENSAL POR EMPREGADO - SEM O 13º","Valor"]
[null,null,null,"Módulo 1 - Composição da Remuneração",{"$f":"F16","v":3895.59}]
[null,null,null,"Módulo 2 - Encargos e Benefícios Anuais, Mensais e Diários",{"$f":"F45","v":2565.1900000000005}]
[null,null,null,"Módulo 3 - Provisão para Rescisão",{"$f":"F55","v":244.95}]
[null,null,null,"Módulo 4 - Custo de Reposição do Profissional Ausente",{"$f":"F73","v":432.02}]
[null,null,null,"Módulo 5 - Insumos Diversos",{"$f":"F82","v":5.37}]
[null,null,null,"SUBTOTAL (A+B+C+D+E)",{"$f":"SUM(E97:E101)","v":7143.12}]
[null,null,null,"Módulo 6 - Custos Indiretos, Tributos e Lucro",{"$f":"F94","v":1546.4854800000001}]
[]
[null,null,null,"TOTAL DO POSTO",{"$f":"SUM(E102:E103)","v":8689.6054800000002}]
[]
[null,"MÓDULO 7 - DESTAQUE DO MÓDULO 2 - 13º SALÁRIO",null,null,"Percentuais","Valor"]
[null,null,"A","13º Salário",{"$f":"'Encargos Sociais'!E32*12/11","v":9.0872727272727272E-2},{"$f":"ROUND(E108*F$16,2)","v":354},null,"* Nota 1 - Incluindo-se a reincidência das férias do substituto sobre o titular"]
[null,null,"B","Encargos Sociais sobre o 13º Salário - Taxa calculada no MÓDULO 2",{"$f":"SUM($E$24:$E$32)","v":0.34800000000000003},{"$f":"ROUND(E109*$F$108,2)","v":123.19},null,"* Nota 2 - 13º e reflexos calculados à parte a fim de aprovisionamento"]
[null,null,"C","BDI sobre o 13º Salário - Taxa calculada no MÓDULO 6",{"$f":"E94","v":0.2165},{"$f":"ROUND(E110*($F$108+$F$109),2)","v":103.31}]
[]
[null,null,null,"TOTAL DO DESTAQUE DO 13º SALÁRIO",null,{"$f":"SUM(F108:F110)","v":580.5}]
[]
[null,null,null,"QUADRO-RESUMO DO CUSTO MENSAL POR EMPREGADO","Valor"]
[null,null,null,"Custo total - sem o 13º Salário",{"$f":"E105","v":8689.6054800000002}]
[null,null,null,"Destaque do 13º Salário (valor mensal)",{"$f":"F112","v":580.5}]
[]
[null,null,null,"TOTAL DO POSTO",{"$f":"E115+E116","v":9270.1054800000002}]

{"sheet":"7","index":29,"n_rows":118,"n_cols":8,"rows_kept":118,"cut":false,"hidden":false,"merged":[[17,1,17,3],[1,1,1,5],[2,1,2,5],[4,1,4,2],[5,1,5,2],[7,1,7,3],[106,1,106,3],[39,3,39,5],[46,1,46,3],[56,1,56,3],[68,3,68,5],[74,1,74,3],[83,1,83,3]]}
[]
[null,"PLANILHA DE ESTIMATIVA DE CUSTOS"]
[null,"Padrão IN 05/2017 e IN 07/2018 - MPDG"]
[]
[null,7,null,{"$f":"HLOOKUP($B$5,'Dados Gerais'!$D$6:$BI$22,6)","v":"TÉCNICO DE SISTEMAS AUDIOVISUAIS – especialidade Sistemas e Vídeo \n36H"},"QUANTIDADE",{"$f":"HLOOKUP($B$5,'Dados Gerais'!$D$6:$BI$22,10)","v":4}]
[null,"CCT",null,{"$f":"HLOOKUP($B$5,'Dados Gerais'!$D$6:$BI$22,16)","v":"SEAC/DF X SINRAD/DF\nCCT 2024/2024\nN.º DF000133/2024"},"DATA-BASE",{"$f":"HLOOKUP($B$5,'Dados Gerais'!$D$6:$BI$22,17)","v":"2024-01-01"}]
[]
[null,"MÓDULO 1 - COMPOSIÇÃO DA REMUNERAÇÃO",null,null,null,"Valor"]
[null,null,"A","Salário-Base",null,{"$f":"HLOOKUP($B$5,'Dados Gerais'!$D$6:$BI$22,8)","v":6660.16}]
[null,null,"B","Adicional de Periculosidade",null,{"$f":"HLOOKUP($B$5,'Dados Gerais'!$D$6:$BI$39,26)","v":0}]
[null,null,"C","Adicional de Insalubridade",null,{"$f":"HLOOKUP($B$5,'Dados Gerais'!$D$6:$BI$39,32)","v":0}]
[null,null,"D","Adicional Noturno",null,{"$f":"HLOOKUP($B$5,'Dados Gerais'!$D$6:$BI$52,47)","v":0},null,"* Nota 1 - O Módulo 1 refere-se ao valor mensal devido ao empregado pela prestação do serviço no período de 12 meses."]
[null,null,"E","Adicional de Hora Extra",null,{"$f":"HLOOKUP($B$5,'Dados Gerais'!$D$6:$BI$69,64)","v":0},null,"* Nota 2 - O adicional de hora extra no feriado trabalhado foi suprimido pela Lei 13.467/17"]
[null,null,"F","Outros (especificar)",null,{"$f":"HLOOKUP($B$5,'Dados Gerais'!$D$6:$BI$69,34)","v":0},null,"* Nota 3 - ART. 7º, § 2º, DA LEI Nº 605/49.Sendo mensalista o obreiro, o adicional noturno pago de forma fixa já é considerado integrado para os efeitos do pagamento do repouso semanal remunerado, nos termos do art. 7º, § 2º, da Lei nº 605/49."]
[]
[null,null,null,"TOTAL DA REMUNERAÇÃO",null,{"$f":"SUM(F9:F14)","v":6660.16}]
[]
[null,"MÓDULO 2 - ENCARGOS E BENEFÍCIOS ANUAIS, MENSAIS E DIÁRIOS",null,null,"Percentuais","Valor"]
[null,"Submódulo 2.1 - 13º Salário, Férias e Adicional de Férias"]
[null,null,"A","13º Salário - Calculado no Módulo 7 - Destacado",0,{"$f":"ROUND(E20*F$16,2)","v":0}]
[null,null,"B","Adicional de Férias",{"$f":"'Encargos Sociais'!E31","v":3.0300000000000001E-2},{"$f":"ROUND(E21*F$16,2)","v":201.8},null,"* Nota 1 - O adicional de férias foi calculado dividindo-se por 11, para comportar os 11 meses presentes e ainda o ausente do posto"]
[]
[null,"Submódulo 2.2 - Encargos Previdenciários (GPS), Fundo de Garantia por Tempo de Serviço (FGTS) e Outras Contribuições"]
[null,null,"A",{"$f":"'Encargos Sociais'!D14","v":"INSS (art. 22, inciso I, Lei nº 8.212/91)"},{"$f":"'Encargos Sociais'!E14","v":0.2},{"$f":"ROUND(E24*($F$16+$F$21+$F$73),2)","v":1520.11},null,"* Nota 1 - Os percentuais dos encargos previdenciários, do FGTS e demais contribuições são estabelecidos por legislação vigente."]
[null,null,"B",{"$f":"'Encargos Sociais'!D15","v":"Salário Educação (art. 3º, inciso I, Decreto nº 87.043/82)"},{"$f":"'Encargos Sociais'!E15","v":2.5000000000000001E-2},190.01,null,"* Nota 2 - O SAT, a depender do grau de risco do serviço, irá variar entre 1%, para risco leve, de 2%, para risco médio, e de 3% para risco grave."]
[null,null,"C",{"$f":"'Encargos Sociais'!D16","v":"SAT/RAT (art. 22, II, Lei 8.212/91 e Anexo V, Decreto 6.042/07) - Enquadramento 5911-1/99 "},{"$f":"'Encargos Sociais'!E16","v":0.01},76.010000000000005,null,"* Nota 3 - Base de cálculo - remuneração + ausências + terço constitucional (férias)"]
[null,null,"D",{"$f":"'Encargos Sociais'!D17","v":"SESC ou SESI (art. 30, Lei nº 8.036/90 e art. 1º, Lei 8.154/90)"},{"$f":"'Encargos Sociais'!E17","v":1.4999999999999999E-2},114.01]
[null,null,"E",{"$f":"'Encargos Sociais'!D18","v":"SENAI ou SENAC (Decreto nº 2.318/86)"},{"$f":"'Encargos Sociais'!E18","v":0.01},76.010000000000005]
[null,null,"F",{"$f":"'Encargos Sociais'!D19","v":"SEBRAE (§ 3º, art. 8º, Lei 8.029/90, alterada pela Lei nº 8.154/90)"},{"$f":"'Encargos Sociais'!E19","v":6.0000000000000001E-3},45.6]
[null,null,"G",{"$f":"'Encargos Sociais'!D20","v":"INCRA (art. 1º, I, Decreto Lei 1.146/70 e Lei 7.787, de 30/06/89)"},{"$f":"'Encargos Sociais'!E20","v":2E-3},15.2]
[null,null,"H",{"$f":"'Encargos Sociais'!D21","v":"FGTS (Lei Complementar nº 110/01 e art. 30, Lei nº 8.036/90)"},{"$f":"'Encargos Sociais'!E21","v":0.08},608.04999999999995]
[null,null,"I",{"$f":"'Encargos Sociais'!D22","v":"SECONCI (Convenções Coletivas de Trabalho da construção)"},{"$f":"'Encargos Sociais'!E22","v":0},0]
[]
[null,"Submódulo 2.3 - Benefícios Mensais e Diários"]
[null,null,"A","Auxílio Transporte",null,{"$f":"HLOOKUP($B$5,'Dados Gerais'!$D$6:$BI$95,83)","v":0},null,"* Nota 1 - O valor informado deverá ser o custo real do benefício (descontado o valor eventualmente pago pelo empregado)."]
[null,null,"B","Auxílio Alimentação",null,{"$f":"HLOOKUP($B$5,'Dados Gerais'!$D$6:$BI$95,90)","v":957},null,"* Nota 2 - Observar a previsão dos benefícios contidos em Acordos, Convenções e Dissídios Coletivos de Trabalho e o disposto no art. 6º da IN 5/2017"]
[null,null,"C","Assistência Médica e Familiar",null,{"$f":"HLOOKUP($B$5,'Dados Gerais'!$D$6:$BI$103,98)","v":0}]
[null,null,"D","Outros (Seguro de vida, auxílio funeral, auxílio odontológico e auxílio creche)",null,{"$f":"HLOOKUP($B$5,'Dados Gerais'!$D$6:$BI$132,127)","v":334.57}]
[]
[null,null,null,"QUADRO-RESUMO DO MÓDULO 2"]
[null,null,null,"2.1 - Adicional de Férias",{"$f":"SUM(E20:E21)","v":3.0300000000000001E-2},{"$f":"F20+F21","v":201.8}]
[null,null,null,"2.2 - Encargos Previdenciários (GPS), Fundo de Garantia por Tempo de Serviço (FGTS) e Contribuições",{"$f":"SUM(E24:E32)","v":0.34800000000000003},{"$f":"SUM(F24:F32)","v":2645}]
[null,null,null,"2.3 - Benefícios Mensais e Diários",null,{"$f":"SUM(F35:F38)","v":1291.57}]
[]
[null,null,null,"TOTAL DOS ENCARGOS E BENEFÍCIOS",null,{"$f":"SUM(F41:F43)","v":4138.37}]
[]
[null,"MÓDULO 3 - PREVISÃO PARA RESCISÃO",null,null,"Percentuais","Valor"]
[null,null,"A",{"$f":"'Encargos Sociais'!D36","v":"Aviso Prévio Indenizado (Art. 7º, inciso XXI, da CF/1988 e arts. 477, 487, §1º, e 491 da CLT)"},{"$f":"'Encargos Sociais'!E36","v":4.1999999999999997E-3},{"$f":"ROUND(E48*($F$16+$F$41+$F$73),2)","v":31.92},null,"* Nota 1 - Base de cálculo - remuneração + ausências + 1/3 férias"]
[null,null,"B",{"$f":"'Encargos Sociais'!D37","v":"Incidência do FGTS sobre o Aviso Prévio Indenizado (Súmula 305 TST)"},{"$f":"'Encargos Sociais'!E37","v":2.9999999999999997E-4},2.2799999999999998]
[null,null,"C",{"$f":"'Encargos Sociais'!D38","v":"Multa do FGTS sobre o Aviso Prévio Indenizado (Art. 18, §1º, da Lei 8.036/1990)"},{"$f":"'Encargos Sociais'!E38","v":1.9E-3},14.44]
[null,null,"D",{"$f":"'Encargos Sociais'!D39","v":"Aviso Prévio Trabalhado (Art. 488, parágrafo único, CLT)"},{"$f":"'Encargos Sociais'!E39","v":7.7999999999999996E-3},59.28]
[null,null,"E",{"$f":"'Encargos Sociais'!D40","v":"Incidência de GPS, FGTS e outras contribuições sobre o Aviso Prévio Trabalhado"},{"$f":"'Encargos Sociais'!E40","v":2.7000000000000001E-3},20.52]
[null,null,"F",{"$f":"'Encargos Sociais'!D41","v":"Multa do FGTS"},{"$f":"'Encargos Sociais'!E41","v":3.8199999999999998E-2},290.33999999999997]
[]
[null,null,null,"TOTAL DE PREVISÃO PARA RESCISÃO",null,{"$f":"SUM(F48:F53)","v":418.78}]
[]
[null,"MÓDULO 4 - CUSTO DO PROFISSIONAL AUSENTE",null,null,"Percentuais","Valor"]
[null,"Submódulo 4.1 - Ausências Legais"]
[null,null,"A",{"$f":"'Encargos Sociais'!D25","v":"Férias (Arts. 129 e 130, inc. I, da CLT)"},{"$f":"'Encargos Sociais'!E25","v":9.0899999999999995E-2},{"$f":"ROUND(E59*$F$16,2)","v":605.41},null,"* Nota 1 - O Módulo 4 refere-se às previsões para custear ausências do próprio profissional (titular do cargo)"]
[null,null,"B",{"$f":"'Encargos Sociais'!D26","v":"Ausências Legais (Arts. 131 e 473 da CLT)"},{"$f":"'Encargos Sociais'!E26","v":7.9000000000000008E-3},52.62,null,"* Nota 2 - As férias foram calculadas dividindo-se por 11, para comportar os 11 meses presentes e ainda o ausente do posto"]
[null,null,"C",{"$f":"'Encargos Sociais'!D27","v":"Licença-Paternidade (Art. 7º, XIX, e art. 10, §1º, do ADCT, CF/1988 e Art. 1º, II, da Lei 11.770/2008)"},{"$f":"'Encargos Sociais'!E27","v":8.0000000000000004E-4},5.33]
[null,null,"D",{"$f":"'Encargos Sociais'!D28","v":"Ausência por Acidente de Trabalho (Art. 131, III, da CLT)"},{"$f":"'Encargos Sociais'!E28","v":8.9999999999999998E-4},5.99]
[null,null,"E",{"$f":"'Encargos Sociais'!D29","v":"Afastamento Maternidade (Art. 71 da Lei nº 8.213/1991)"},{"$f":"'Encargos Sociais'!E29","v":3.3E-3},21.98]
[null,null,"F",{"$f":"'Encargos Sociais'!D30","v":"Auxílio Enfermidade - Doença (Art. 59 da Lei nº 8.213/1991)"},{"$f":"'Encargos Sociais'!E30","v":7.1000000000000004E-3},47.29]
[]
[null,"Submódulo 4.2 - Intrajornada"]
[null,null,"A","Intervalo para repouso ou alimentação",{"$f":"'Encargos Sociais'!E33","v":0},{"$f":"ROUND(E67*$F$16,2)","v":0}]
[]
[null,null,null,"QUADRO-RESUMO DO MÓDULO 4",null,"Valor"]
[null,null,null,"4.1 - Ausências Legais",{"$f":"SUM(E59:E64)","v":0.11089999999999998},{"$f":"ROUND(E70*$F$16,2)","v":738.61}]
[null,null,null,"4.2 - Intrajornada",{"$f":"E67","v":0},{"$f":"ROUND(E71*$F$16,2)","v":0}]
[]
[null,null,null,"TOTAL DE  CUSTO DO PROFISSIONAL AUSENTE E INTERVALO INTRAJORNADA",null,{"$f":"SUM(F70:F71)","v":738.61}]
[]
[null,"MÓDULO 5 - INSUMOS DIVERSOS",null,null,null,"Valor"]
[null,null,"A","Uniformes - aquisição",null,{"$f":"ROUND(HLOOKUP($B$5,Uniformes!K4:DZ6,3)/12,2)","v":0}]
[null,null,"B","Materiais de consumo relacionados ao posto - aquisição",null,{"$f":"ROUND(HLOOKUP(B5,'Mat Cons'!I11:DX13,3)/12,2)","v":0}]
[null,null,"C","Ferramentas relacionadas ao posto - remuneração da depreciação / manutenção",null,{"$f":"HLOOKUP(B5,'Relacion - Ferram'!Q3:EF5,3)","v":0}]
[null,null,"D","Equipamentos relacionados ao posto - remuneração da depreciação / manutenção",null,{"$f":"ROUND(HLOOKUP(B5,'Equip Rel'!Q3:EF5,3)/12,2)","v":0}]
[null,null,"E","Equipamentos de Proteção Individual - EPI - aquisição",null,{"$f":"ROUND(HLOOKUP(B5,EPI!K4:AM6,3)/12,2)","v":0}]
[]
[null,null,null,"TOTAL DE INSUMOS DIVERSOS",null,{"$f":"SUM(F76:F81)","v":0},null,"* Nota - Valores mensais por empregado"]
[]
[null,"MÓDULO 6 - CUSTOS INDIRETOS, TRIBUTOS E LUCRO - BDI",null,null,"Percentuais","Valor"]
[null,null,"A","Custos Indiretos",{"$f":"'BDI - Geral'!E7","v":2.6000000000000002E-2}]
[null,null,"A.1","Administração Central",{"$f":"'BDI - Geral'!E8","v":2.06E-2}]
[null,null,"A.2","Seguros, Garantias e Riscos",{"$f":"'BDI - Geral'!E9","v":5.4000000000000003E-3}]
[null,null,"B","Lucro",{"$f":"'BDI - Geral'!E11","v":3.3399999999999999E-2}]
[null,null,"C","Tributos",{"$f":"SUM(E90:E91)","v":0.124}]
[null,null,"C.1","Tributos Federais (COFINS, PIS e CPRB)",{"$f":"'BDI - Geral'!E19","v":7.3999999999999996E-2}]
[null,null,"C.2","Tributos Distritais (ISS)",{"$f":"'BDI - Geral'!E24","v":0.05}]
[null,null,"D","Despesas Financeiras",{"$f":"'BDI - Geral'!E14","v":5.0569567433733642E-3}]
[]
[null,null,null,"TOTAL DE BDI",{"$f":"'BDI - Geral'!E27","v":0.2165},{"$f":"E94*E102","v":2588.4566799999998}]
[]
[null,null,null,"QUADRO-RESUMO DO CUSTO MENSAL POR EMPREGADO - SEM O 13º","Valor"]
[null,null,null,"Módulo 1 - Composição da Remuneração",{"$f":"F16","v":6660.16}]
[null,null,null,"Módulo 2 - Encargos e Benefícios Anuais, Mensais e Diários",{"$f":"F45","v":4138.37}]
[null,null,null,"Módulo 3 - Provisão para Rescisão",{"$f":"F55","v":418.78}]
[null,null,null,"Módulo 4 - Custo de Reposição do Profissional Ausente",{"$f":"F73","v":738.61}]
[null,null,null,"Módulo 5 - Insumos Diversos",{"$f":"F82","v":0}]
[null,null,null,"SUBTOTAL (A+B+C+D+E)",{"$f":"SUM(E97:E101)","v":11955.92}]
[null,null,null,"Módulo 6 - Custos Indiretos, Tributos e Lucro",{"$f":"F94","v":2588.4566799999998}]
[]
[null,null,null,"TOTAL DO POSTO",{"$f":"SUM(E102:E103)","v":14544.376679999999}]
[]
[null,"MÓDULO 7 - DESTAQUE DO MÓDULO 2 - 13º SALÁRIO",null,null,"Percentuais","Valor"]
[null,null,"A","13º Salário",{"$f":"'Encargos Sociais'!E32*12/11","v":9.0872727272727272E-2},{"$f":"ROUND(E108*F$16,2)","v":605.23},null,"* Nota 1 - Incluindo-se a reincidência das férias do substituto sobre o titular"]
[null,null,"B","Encargos Sociais sobre o 13º Salário - Taxa calculada no MÓDULO 2",{"$f":"SUM($E$24:$E$32)","v":0.34800000000000003},{"$f":"ROUND(E109*$F$108,2)","v":210.62},null,"* Nota 2 - 13º e reflexos calculados à parte a fim de aprovisionamento"]
[null,null,"C","BDI sobre o 13º Salário - Taxa calculada no MÓDULO 6",{"$f":"E94","v":0.2165},{"$f":"ROUND(E110*($F$108+$F$109),2)","v":176.63}]
[]
[null,null,null,"TOTAL DO DESTAQUE DO 13º SALÁRIO",null,{"$f":"SUM(F108:F110)","v":992.48}]
[]
[null,null,null,"QUADRO-RESUMO DO CUSTO MENSAL POR EMPREGADO","Valor"]
[null,null,null,"Custo total - sem o 13º Salário",{"$f":"E105","v":14544.376679999999}]
[null,null,null,"Destaque do 13º Salário (valor mensal)",{"$f":"F112","v":992.48}]
[]
[null,null,null,"TOTAL DO POSTO",{"$f":"E115+E116","v":15536.856679999999}]

{"sheet":"8","index":30,"n_rows":118,"n_cols":8,"rows_kept":118,"cut":false,"hidden":false,"merged":[[17,1,17,3],[1,1,1,5],[2,1,2,5],[4,1,4,2],[5,1,5,2],[7,1,7,3],[106,1,106,3],[39,3,39,5],[46,1,46,3],[56,1,56,3],[68,3,68,5],[74,1,74,3],[83,1,83,3]]}
[]
[null,"PLANILHA DE ESTIMATIVA DE CUSTOS"]
[null,"Padrão IN 05/2017 e IN 07/2018 - MPDG"]
[]
[null,8,null,{"$f":"HLOOKUP($B$5,'Dados Gerais'!$D$6:$BI$22,6)","v":"OPERADOR DE MÍDIA AUDIOVISUAL – 30H"},"QUANTIDADE",{"$f":"HLOOKUP($B$5,'Dados Gerais'!$D$6:$BI$22,10)","v":34}]
[null,"CCT",null,{"$f":"HLOOKUP($B$5,'Dados Gerais'!$D$6:$BI$22,16)","v":"SEAC/DF X SINRAD/DF\nCCT 2024/2024\nN.º DF000133/2024"},"DATA-BASE",{"$f":"HLOOKUP($B$5,'Dados Gerais'!$D$6:$BI$22,17)","v":"2024-01-01"}]
[]
[null,"MÓDULO 1 - COMPOSIÇÃO DA REMUNERAÇÃO",null,null,null,"Valor"]
[null,null,"A","Salário-Base",null,{"$f":"HLOOKUP($B$5,'Dados Gerais'!$D$6:$BI$22,8)","v":5394.03}]
[null,null,"B","Adicional de Periculosidade",null,{"$f":"HLOOKUP($B$5,'Dados Gerais'!$D$6:$BI$39,26)","v":0}]
[null,null,"C","Adicional de Insalubridade",null,{"$f":"HLOOKUP($B$5,'Dados Gerais'!$D$6:$BI$39,32)","v":0}]
[null,null,"D","Adicional Noturno",null,{"$f":"HLOOKUP($B$5,'Dados Gerais'!$D$6:$BI$52,47)","v":0},null,"* Nota 1 - O Módulo 1 refere-se ao valor mensal devido ao empregado pela prestação do serviço no período de 12 meses."]
[null,null,"E","Adicional de Hora Extra",null,{"$f":"HLOOKUP($B$5,'Dados Gerais'!$D$6:$BI$69,64)","v":0},null,"* Nota 2 - O adicional de hora extra no feriado trabalhado foi suprimido pela Lei 13.467/17"]
[null,null,"F","Outros (especificar)",null,{"$f":"HLOOKUP($B$5,'Dados Gerais'!$D$6:$BI$69,34)","v":0},null,"* Nota 3 - ART. 7º, § 2º, DA LEI Nº 605/49.Sendo mensalista o obreiro, o adicional noturno pago de forma fixa já é considerado integrado para os efeitos do pagamento do repouso semanal remunerado, nos termos do art. 7º, § 2º, da Lei nº 605/49."]
[]
[null,null,null,"TOTAL DA REMUNERAÇÃO",null,{"$f":"SUM(F9:F14)","v":5394.03}]
[]
[null,"MÓDULO 2 - ENCARGOS E BENEFÍCIOS ANUAIS, MENSAIS E DIÁRIOS",null,null,"Percentuais","Valor"]
[null,"Submódulo 2.1 - 13º Salário, Férias e Adicional de Férias"]
[null,null,"A","13º Salário - Calculado no Módulo 7 - Destacado",0,{"$f":"ROUND(E20*F$16,2)","v":0}]
[null,null,"B","Adicional de Férias",{"$f":"'Encargos Sociais'!E31","v":3.0300000000000001E-2},{"$f":"ROUND(E21*F$16,2)","v":163.44},null,"* Nota 1 - O adicional de férias foi calculado dividindo-se por 11, para comportar os 11 meses presentes e ainda o ausente do posto"]
[]
[null,"Submódulo 2.2 - Encargos Previdenciários (GPS), Fundo de Garantia por Tempo de Serviço (FGTS) e Outras Contribuições"]
[null,null,"A",{"$f":"'Encargos Sociais'!D14","v":"INSS (art. 22, inciso I, Lei nº 8.212/91)"},{"$f":"'Encargos Sociais'!E14","v":0.2},{"$f":"ROUND(E24*($F$16+$F$21+$F$73),2)","v":1231.1300000000001},null,"* Nota 1 - Os percentuais dos encargos previdenciários, do FGTS e demais contribuições são estabelecidos por legislação vigente."]
[null,null,"B",{"$f":"'Encargos Sociais'!D15","v":"Salário Educação (art. 3º, inciso I, Decreto nº 87.043/82)"},{"$f":"'Encargos Sociais'!E15","v":2.5000000000000001E-2},153.88999999999999,null,"* Nota 2 - O SAT, a depender do grau de risco do serviço, irá variar entre 1%, para risco leve, de 2%, para risco médio, e de 3% para risco grave."]
[null,null,"C",{"$f":"'Encargos Sociais'!D16","v":"SAT/RAT (art. 22, II, Lei 8.212/91 e Anexo V, Decreto 6.042/07) - Enquadramento 5911-1/99 "},{"$f":"'Encargos Sociais'!E16","v":0.01},61.56,null,"* Nota 3 - Base de cálculo - remuneração + ausências + terço constitucional (férias)"]
[null,null,"D",{"$f":"'Encargos Sociais'!D17","v":"SESC ou SESI (art. 30, Lei nº 8.036/90 e art. 1º, Lei 8.154/90)"},{"$f":"'Encargos Sociais'!E17","v":1.4999999999999999E-2},92.34]
[null,null,"E",{"$f":"'Encargos Sociais'!D18","v":"SENAI ou SENAC (Decreto nº 2.318/86)"},{"$f":"'Encargos Sociais'!E18","v":0.01},61.56]
[null,null,"F",{"$f":"'Encargos Sociais'!D19","v":"SEBRAE (§ 3º, art. 8º, Lei 8.029/90, alterada pela Lei nº 8.154/90)"},{"$f":"'Encargos Sociais'!E19","v":6.0000000000000001E-3},36.93]
[null,null,"G",{"$f":"'Encargos Sociais'!D20","v":"INCRA (art. 1º, I, Decreto Lei 1.146/70 e Lei 7.787, de 30/06/89)"},{"$f":"'Encargos Sociais'!E20","v":2E-3},12.31]
[null,null,"H",{"$f":"'Encargos Sociais'!D21","v":"FGTS (Lei Complementar nº 110/01 e art. 30, Lei nº 8.036/90)"},{"$f":"'Encargos Sociais'!E21","v":0.08},492.45]
[null,null,"I",{"$f":"'Encargos Sociais'!D22","v":"SECONCI (Convenções Coletivas de Trabalho da construção)"},{"$f":"'Encargos Sociais'!E22","v":0},0]
[]
[null,"Submódulo 2.3 - Benefícios Mensais e Diários"]
[null,null,"A","Auxílio Transporte",null,{"$f":"HLOOKUP($B$5,'Dados Gerais'!$D$6:$BI$95,83)","v":0},null,"* Nota 1 - O valor informado deverá ser o custo real do benefício (descontado o valor eventualmente pago pelo empregado)."]
[null,null,"B","Auxílio Alimentação",null,{"$f":"HLOOKUP($B$5,'Dados Gerais'!$D$6:$BI$95,90)","v":957},null,"* Nota 2 - Observar a previsão dos benefícios contidos em Acordos, Convenções e Dissídios Coletivos de Trabalho e o disposto no art. 6º da IN 5/2017"]
[null,null,"C","Assistência Médica e Familiar",null,{"$f":"HLOOKUP($B$5,'Dados Gerais'!$D$6:$BI$103,98)","v":0}]
[null,null,"D","Outros (Seguro de vida, auxílio funeral, auxílio odontológico e auxílio creche)",null,{"$f":"HLOOKUP($B$5,'Dados Gerais'!$D$6:$BI$132,127)","v":334.57}]
[]
[null,null,null,"QUADRO-RESUMO DO MÓDULO 2"]
[null,null,null,"2.1 - Adicional de Férias",{"$f":"SUM(E20:E21)","v":3.0300000000000001E-2},{"$f":"F20+F21","v":163.44}]
[null,null,null,"2.2 - Encargos Previdenciários (GPS), Fundo de Garantia por Tempo de Serviço (FGTS) e Contribuições",{"$f":"SUM(E24:E32)","v":0.34800000000000003},{"$f":"SUM(F24:F32)","v":2142.1699999999996}]
[null,null,null,"2.3 - Benefícios Mensais e Diários",null,{"$f":"SUM(F35:F38)","v":1291.57}]
[]
[null,null,null,"TOTAL DOS ENCARGOS E BENEFÍCIOS",null,{"$f":"SUM(F41:F43)","v":3597.1799999999994}]
[]
[null,"MÓDULO 3 - PREVISÃO PARA RESCISÃO",null,null,"Percentuais","Valor"]
[null,null,"A",{"$f":"'Encargos Sociais'!D36","v":"Aviso Prévio Indenizado (Art. 7º, inciso XXI, da CF/1988 e arts. 477, 487, §1º, e 491 da CLT)"},{"$f":"'Encargos Sociais'!E36","v":4.1999999999999997E-3},{"$f":"ROUND(E48*($F$16+$F$41+$F$73),2)","v":25.85},null,"* Nota 1 - Base de cálculo - remuneração + ausências + 1/3 férias"]
[null,null,"B",{"$f":"'Encargos Sociais'!D37","v":"Incidência do FGTS sobre o Aviso Prévio Indenizado (Súmula 305 TST)"},{"$f":"'Encargos Sociais'!E37","v":2.9999999999999997E-4},1.85]
[null,null,"C",{"$f":"'Encargos Sociais'!D38","v":"Multa do FGTS sobre o Aviso Prévio Indenizado (Art. 18, §1º, da Lei 8.036/1990)"},{"$f":"'Encargos Sociais'!E38","v":1.9E-3},11.7]
[null,null,"D",{"$f":"'Encargos Sociais'!D39","v":"Aviso Prévio Trabalhado (Art. 488, parágrafo único, CLT)"},{"$f":"'Encargos Sociais'!E39","v":7.7999999999999996E-3},48.01]
[null,null,"E",{"$f":"'Encargos Sociais'!D40","v":"Incidência de GPS, FGTS e outras contribuições sobre o Aviso Prévio Trabalhado"},{"$f":"'Encargos Sociais'!E40","v":2.7000000000000001E-3},16.62]
[null,null,"F",{"$f":"'Encargos Sociais'!D41","v":"Multa do FGTS"},{"$f":"'Encargos Sociais'!E41","v":3.8199999999999998E-2},235.15]
[]
[null,null,null,"TOTAL DE PREVISÃO PARA RESCISÃO",null,{"$f":"SUM(F48:F53)","v":339.18}]
[]
[null,"MÓDULO 4 - CUSTO DO PROFISSIONAL AUSENTE",null,null,"Percentuais","Valor"]
[null,"Submódulo 4.1 - Ausências Legais"]
[null,null,"A",{"$f":"'Encargos Sociais'!D25","v":"Férias (Arts. 129 e 130, inc. I, da CLT)"},{"$f":"'Encargos Sociais'!E25","v":9.0899999999999995E-2},{"$f":"ROUND(E59*$F$16,2)","v":490.32},null,"* Nota 1 - O Módulo 4 refere-se às previsões para custear ausências do próprio profissional (titular do cargo)"]
[null,null,"B",{"$f":"'Encargos Sociais'!D26","v":"Ausências Legais (Arts. 131 e 473 da CLT)"},{"$f":"'Encargos Sociais'!E26","v":7.9000000000000008E-3},42.61,null,"* Nota 2 - As férias foram calculadas dividindo-se por 11, para comportar os 11 meses presentes e ainda o ausente do posto"]
[null,null,"C",{"$f":"'Encargos Sociais'!D27","v":"Licença-Paternidade (Art. 7º, XIX, e art. 10, §1º, do ADCT, CF/1988 e Art. 1º, II, da Lei 11.770/2008)"},{"$f":"'Encargos Sociais'!E27","v":8.0000000000000004E-4},4.32]
[null,null,"D",{"$f":"'Encargos Sociais'!D28","v":"Ausência por Acidente de Trabalho (Art. 131, III, da CLT)"},{"$f":"'Encargos Sociais'!E28","v":8.9999999999999998E-4},4.8499999999999996]
[null,null,"E",{"$f":"'Encargos Sociais'!D29","v":"Afastamento Maternidade (Art. 71 da Lei nº 8.213/1991)"},{"$f":"'Encargos Sociais'!E29","v":3.3E-3},17.8]
[null,null,"F",{"$f":"'Encargos Sociais'!D30","v":"Auxílio Enfermidade - Doença (Art. 59 da Lei nº 8.213/1991)"},{"$f":"'Encargos Sociais'!E30","v":7.1000000000000004E-3},38.299999999999997]
[]
[null,"Submódulo 4.2 - Intrajornada"]
[null,null,"A","Intervalo para repouso ou alimentação",{"$f":"'Encargos Sociais'!E33","v":0},{"$f":"ROUND(E67*$F$16,2)","v":0}]
[]
[null,null,null,"QUADRO-RESUMO DO MÓDULO 4",null,"Valor"]
[null,null,null,"4.1 - Ausências Legais",{"$f":"SUM(E59:E64)","v":0.11089999999999998},{"$f":"ROUND(E70*$F$16,2)","v":598.20000000000005}]
[null,null,null,"4.2 - Intrajornada",{"$f":"E67","v":0},{"$f":"ROUND(E71*$F$16,2)","v":0}]
[]
[null,null,null,"TOTAL DE  CUSTO DO PROFISSIONAL AUSENTE E INTERVALO INTRAJORNADA",null,{"$f":"SUM(F70:F71)","v":598.20000000000005}]
[]
[null,"MÓDULO 5 - INSUMOS DIVERSOS",null,null,null,"Valor"]
[null,null,"A","Uniformes - aquisição",null,{"$f":"ROUND(HLOOKUP($B$5,Uniformes!K4:DZ6,3)/12,2)","v":0}]
[null,null,"B","Materiais de consumo relacionados ao posto - aquisição",null,{"$f":"ROUND(HLOOKUP(B5,'Mat Cons'!I11:DX13,3)/12,2)","v":0}]
[null,null,"C","Ferramentas relacionadas ao posto - remuneração da depreciação / manutenção",null,{"$f":"HLOOKUP(B5,'Relacion - Ferram'!Q3:EF5,3)","v":5.37}]
[null,null,"D","Equipamentos relacionados ao posto - remuneração da depreciação / manutenção",null,{"$f":"ROUND(HLOOKUP(B5,'Equip Rel'!Q3:EF5,3)/12,2)","v":0}]
[null,null,"E","Equipamentos de Proteção Individual - EPI - aquisição",null,{"$f":"ROUND(HLOOKUP(B5,EPI!K4:AM6,3)/12,2)","v":0}]
[]
[null,null,null,"TOTAL DE INSUMOS DIVERSOS",null,{"$f":"SUM(F76:F81)","v":5.37},null,"* Nota - Valores mensais por empregado"]
[]
[null,"MÓDULO 6 - CUSTOS INDIRETOS, TRIBUTOS E LUCRO - BDI",null,null,"Percentuais","Valor"]
[null,null,"A","Custos Indiretos",{"$f":"'BDI - Geral'!E7","v":2.6000000000000002E-2}]
[null,null,"A.1","Administração Central",{"$f":"'BDI - Geral'!E8","v":2.06E-2}]
[null,null,"A.2","Seguros, Garantias e Riscos",{"$f":"'BDI - Geral'!E9","v":5.4000000000000003E-3}]
[null,null,"B","Lucro",{"$f":"'BDI - Geral'!E11","v":3.3399999999999999E-2}]
[null,null,"C","Tributos",{"$f":"SUM(E90:E91)","v":0.124}]
[null,null,"C.1","Tributos Federais (COFINS, PIS e CPRB)",{"$f":"'BDI - Geral'!E19","v":7.3999999999999996E-2}]
[null,null,"C.2","Tributos Distritais (ISS)",{"$f":"'BDI - Geral'!E24","v":0.05}]
[null,null,"D","Despesas Financeiras",{"$f":"'BDI - Geral'!E14","v":5.0569567433733642E-3}]
[]
[null,null,null,"TOTAL DE BDI",{"$f":"'BDI - Geral'!E27","v":0.2165},{"$f":"E94*E102","v":2150.7023400000003}]
[]
[null,null,null,"QUADRO-RESUMO DO CUSTO MENSAL POR EMPREGADO - SEM O 13º","Valor"]
[null,null,null,"Módulo 1 - Composição da Remuneração",{"$f":"F16","v":5394.03}]
[null,null,null,"Módulo 2 - Encargos e Benefícios Anuais, Mensais e Diários",{"$f":"F45","v":3597.1799999999994}]
[null,null,null,"Módulo 3 - Provisão para Rescisão",{"$f":"F55","v":339.18}]
[null,null,null,"Módulo 4 - Custo de Reposição do Profissional Ausente",{"$f":"F73","v":598.20000000000005}]
[null,null,null,"Módulo 5 - Insumos Diversos",{"$f":"F82","v":5.37}]
[null,null,null,"SUBTOTAL (A+B+C+D+E)",{"$f":"SUM(E97:E101)","v":9933.9600000000009}]
[null,null,null,"Módulo 6 - Custos Indiretos, Tributos e Lucro",{"$f":"F94","v":2150.7023400000003}]
[]
[null,null,null,"TOTAL DO POSTO",{"$f":"SUM(E102:E103)","v":12084.662340000001}]
[]
[null,"MÓDULO 7 - DESTAQUE DO MÓDULO 2 - 13º SALÁRIO",null,null,"Percentuais","Valor"]
[null,null,"A","13º Salário",{"$f":"'Encargos Sociais'!E32*12/11","v":9.0872727272727272E-2},{"$f":"ROUND(E108*F$16,2)","v":490.17},null,"* Nota 1 - Incluindo-se a reincidência das férias do substituto sobre o titular"]
[null,null,"B","Encargos Sociais sobre o 13º Salário - Taxa calculada no MÓDULO 2",{"$f":"SUM($E$24:$E$32)","v":0.34800000000000003},{"$f":"ROUND(E109*$F$108,2)","v":170.58},null,"* Nota 2 - 13º e reflexos calculados à parte a fim de aprovisionamento"]
[null,null,"C","BDI sobre o 13º Salário - Taxa calculada no MÓDULO 6",{"$f":"E94","v":0.2165},{"$f":"ROUND(E110*($F$108+$F$109),2)","v":143.05000000000001}]
[]
[null,null,null,"TOTAL DO DESTAQUE DO 13º SALÁRIO",null,{"$f":"SUM(F108:F110)","v":803.8}]
[]
[null,null,null,"QUADRO-RESUMO DO CUSTO MENSAL POR EMPREGADO","Valor"]
[null,null,null,"Custo total - sem o 13º Salário",{"$f":"E105","v":12084.662340000001}]
[null,null,null,"Destaque do 13º Salário (valor mensal)",{"$f":"F112","v":803.8}]
[]
[null,null,null,"TOTAL DO POSTO",{"$f":"E115+E116","v":12888.46234}]

{"sheet":"9","index":31,"n_rows":118,"n_cols":8,"rows_kept":118,"cut":false,"hidden":false,"merged":[[17,1,17,3],[1,1,1,5],[2,1,2,5],[4,1,4,2],[5,1,5,2],[7,1,7,3],[106,1,106,3],[39,3,39,5],[46,1,46,3],[56,1,56,3],[68,3,68,5],[74,1,74,3],[83,1,83,3]]}
[]
[null,"PLANILHA DE ESTIMATIVA DE CUSTOS"]
[null,"Padrão IN 05/2017 e IN 07/2018 - MPDG"]
[]
[null,9,null,{"$f":"HLOOKUP($B$5,'Dados Gerais'!$D$6:$BI$22,6)","v":"OPERADOR DE MÍDIA AUDIOVISUAL – 18H"},"QUANTIDADE",{"$f":"HLOOKUP($B$5,'Dados Gerais'!$D$6:$BI$22,10)","v":26}]
[null,"CCT",null,{"$f":"HLOOKUP($B$5,'Dados Gerais'!$D$6:$BI$22,16)","v":"SEAC/DF X SINRAD/DF\nCCT 2024/2024\nN.º DF000133/2024"},"DATA-BASE",{"$f":"HLOOKUP($B$5,'Dados Gerais'!$D$6:$BI$22,17)","v":"2024-01-01"}]
[]
[null,"MÓDULO 1 - COMPOSIÇÃO DA REMUNERAÇÃO",null,null,null,"Valor"]
[null,null,"A","Salário-Base",null,{"$f":"HLOOKUP($B$5,'Dados Gerais'!$D$6:$BI$22,8)","v":3236.42}]
[null,null,"B","Adicional de Periculosidade",null,{"$f":"HLOOKUP($B$5,'Dados Gerais'!$D$6:$BI$39,26)","v":0}]
[null,null,"C","Adicional de Insalubridade",null,{"$f":"HLOOKUP($B$5,'Dados Gerais'!$D$6:$BI$39,32)","v":0}]
[null,null,"D","Adicional Noturno",null,{"$f":"HLOOKUP($B$5,'Dados Gerais'!$D$6:$BI$52,47)","v":0},null,"* Nota 1 - O Módulo 1 refere-se ao valor mensal devido ao empregado pela prestação do serviço no período de 12 meses."]
[null,null,"E","Adicional de Hora Extra",null,{"$f":"HLOOKUP($B$5,'Dados Gerais'!$D$6:$BI$69,64)","v":0},null,"* Nota 2 - O adicional de hora extra no feriado trabalhado foi suprimido pela Lei 13.467/17"]
[null,null,"F","Outros (especificar)",null,{"$f":"HLOOKUP($B$5,'Dados Gerais'!$D$6:$BI$69,34)","v":0},null,"* Nota 3 - ART. 7º, § 2º, DA LEI Nº 605/49.Sendo mensalista o obreiro, o adicional noturno pago de forma fixa já é considerado integrado para os efeitos do pagamento do repouso semanal remunerado, nos termos do art. 7º, § 2º, da Lei nº 605/49."]
[]
[null,null,null,"TOTAL DA REMUNERAÇÃO",null,{"$f":"SUM(F9:F14)","v":3236.42}]
[]
[null,"MÓDULO 2 - ENCARGOS E BENEFÍCIOS ANUAIS, MENSAIS E DIÁRIOS",null,null,"Percentuais","Valor"]
[null,"Submódulo 2.1 - 13º Salário, Férias e Adicional de Férias"]
[null,null,"A","13º Salário - Calculado no Módulo 7 - Destacado",0,{"$f":"ROUND(E20*F$16,2)","v":0}]
[null,null,"B","Adicional de Férias",{"$f":"'Encargos Sociais'!E31","v":3.0300000000000001E-2},{"$f":"ROUND(E21*F$16,2)","v":98.06},null,"* Nota 1 - O adicional de férias foi calculado dividindo-se por 11, para comportar os 11 meses presentes e ainda o ausente do posto"]
[]
[null,"Submódulo 2.2 - Encargos Previdenciários (GPS), Fundo de Garantia por Tempo de Serviço (FGTS) e Outras Contribuições"]
[null,null,"A",{"$f":"'Encargos Sociais'!D14","v":"INSS (art. 22, inciso I, Lei nº 8.212/91)"},{"$f":"'Encargos Sociais'!E14","v":0.2},{"$f":"ROUND(E24*($F$16+$F$21+$F$73),2)","v":738.68},null,"* Nota 1 - Os percentuais dos encargos previdenciários, do FGTS e demais contribuições são estabelecidos por legislação vigente."]
[null,null,"B",{"$f":"'Encargos Sociais'!D15","v":"Salário Educação (art. 3º, inciso I, Decreto nº 87.043/82)"},{"$f":"'Encargos Sociais'!E15","v":2.5000000000000001E-2},92.34,null,"* Nota 2 - O SAT, a depender do grau de risco do serviço, irá variar entre 1%, para risco leve, de 2%, para risco médio, e de 3% para risco grave."]
[null,null,"C",{"$f":"'Encargos Sociais'!D16","v":"SAT/RAT (art. 22, II, Lei 8.212/91 e Anexo V, Decreto 6.042/07) - Enquadramento 5911-1/99 "},{"$f":"'Encargos Sociais'!E16","v":0.01},36.93,null,"* Nota 3 - Base de cálculo - remuneração + ausências + terço constitucional (férias)"]
[null,null,"D",{"$f":"'Encargos Sociais'!D17","v":"SESC ou SESI (art. 30, Lei nº 8.036/90 e art. 1º, Lei 8.154/90)"},{"$f":"'Encargos Sociais'!E17","v":1.4999999999999999E-2},55.4]
[null,null,"E",{"$f":"'Encargos Sociais'!D18","v":"SENAI ou SENAC (Decreto nº 2.318/86)"},{"$f":"'Encargos Sociais'!E18","v":0.01},36.93]
[null,null,"F",{"$f":"'Encargos Sociais'!D19","v":"SEBRAE (§ 3º, art. 8º, Lei 8.029/90, alterada pela Lei nº 8.154/90)"},{"$f":"'Encargos Sociais'!E19","v":6.0000000000000001E-3},22.16]
[null,null,"G",{"$f":"'Encargos Sociais'!D20","v":"INCRA (art. 1º, I, Decreto Lei 1.146/70 e Lei 7.787, de 30/06/89)"},{"$f":"'Encargos Sociais'!E20","v":2E-3},7.39]
[null,null,"H",{"$f":"'Encargos Sociais'!D21","v":"FGTS (Lei Complementar nº 110/01 e art. 30, Lei nº 8.036/90)"},{"$f":"'Encargos Sociais'!E21","v":0.08},295.47000000000003]
[null,null,"I",{"$f":"'Encargos Sociais'!D22","v":"SECONCI (Convenções Coletivas de Trabalho da construção)"},{"$f":"'Encargos Sociais'!E22","v":0},0]
[]
[null,"Submódulo 2.3 - Benefícios Mensais e Diários"]
[null,null,"A","Auxílio Transporte",null,{"$f":"HLOOKUP($B$5,'Dados Gerais'!$D$6:$BI$95,83)","v":0},null,"* Nota 1 - O valor informado deverá ser o custo real do benefício (descontado o valor eventualmente pago pelo empregado)."]
[null,null,"B","Auxílio Alimentação",null,{"$f":"HLOOKUP($B$5,'Dados Gerais'!$D$6:$BI$95,90)","v":565.5},null,"* Nota 2 - Observar a previsão dos benefícios contidos em Acordos, Convenções e Dissídios Coletivos de Trabalho e o disposto no art. 6º da IN 5/2017"]
[null,null,"C","Assistência Médica e Familiar",null,{"$f":"HLOOKUP($B$5,'Dados Gerais'!$D$6:$BI$103,98)","v":0}]
[null,null,"D","Outros (Seguro de vida, auxílio funeral, auxílio odontológico e auxílio creche)",null,{"$f":"HLOOKUP($B$5,'Dados Gerais'!$D$6:$BI$132,127)","v":334.57}]
[]
[null,null,null,"QUADRO-RESUMO DO MÓDULO 2"]
[null,null,null,"2.1 - Adicional de Férias",{"$f":"SUM(E20:E21)","v":3.0300000000000001E-2},{"$f":"F20+F21","v":98.06}]
[null,null,null,"2.2 - Encargos Previdenciários (GPS), Fundo de Garantia por Tempo de Serviço (FGTS) e Contribuições",{"$f":"SUM(E24:E32)","v":0.34800000000000003},{"$f":"SUM(F24:F32)","v":1285.2999999999997}]
[null,null,null,"2.3 - Benefícios Mensais e Diários",null,{"$f":"SUM(F35:F38)","v":900.06999999999994}]
[]
[null,null,null,"TOTAL DOS ENCARGOS E BENEFÍCIOS",null,{"$f":"SUM(F41:F43)","v":2283.4299999999994}]
[]
[null,"MÓDULO 3 - PREVISÃO PARA RESCISÃO",null,null,"Percentuais","Valor"]
[null,null,"A",{"$f":"'Encargos Sociais'!D36","v":"Aviso Prévio Indenizado (Art. 7º, inciso XXI, da CF/1988 e arts. 477, 487, §1º, e 491 da CLT)"},{"$f":"'Encargos Sociais'!E36","v":4.1999999999999997E-3},{"$f":"ROUND(E48*($F$16+$F$41+$F$73),2)","v":15.51},null,"* Nota 1 - Base de cálculo - remuneração + ausências + 1/3 férias"]
[null,null,"B",{"$f":"'Encargos Sociais'!D37","v":"Incidência do FGTS sobre o Aviso Prévio Indenizado (Súmula 305 TST)"},{"$f":"'Encargos Sociais'!E37","v":2.9999999999999997E-4},1.1100000000000001]
[null,null,"C",{"$f":"'Encargos Sociais'!D38","v":"Multa do FGTS sobre o Aviso Prévio Indenizado (Art. 18, §1º, da Lei 8.036/1990)"},{"$f":"'Encargos Sociais'!E38","v":1.9E-3},7.02]
[null,null,"D",{"$f":"'Encargos Sociais'!D39","v":"Aviso Prévio Trabalhado (Art. 488, parágrafo único, CLT)"},{"$f":"'Encargos Sociais'!E39","v":7.7999999999999996E-3},28.81]
[null,null,"E",{"$f":"'Encargos Sociais'!D40","v":"Incidência de GPS, FGTS e outras contribuições sobre o Aviso Prévio Trabalhado"},{"$f":"'Encargos Sociais'!E40","v":2.7000000000000001E-3},9.9700000000000006]
[null,null,"F",{"$f":"'Encargos Sociais'!D41","v":"Multa do FGTS"},{"$f":"'Encargos Sociais'!E41","v":3.8199999999999998E-2},141.09]
[]
[null,null,null,"TOTAL DE PREVISÃO PARA RESCISÃO",null,{"$f":"SUM(F48:F53)","v":203.51}]
[]
[null,"MÓDULO 4 - CUSTO DO PROFISSIONAL AUSENTE",null,null,"Percentuais","Valor"]
[null,"Submódulo 4.1 - Ausências Legais"]
[null,null,"A",{"$f":"'Encargos Sociais'!D25","v":"Férias (Arts. 129 e 130, inc. I, da CLT)"},{"$f":"'Encargos Sociais'!E25","v":9.0899999999999995E-2},{"$f":"ROUND(E59*$F$16,2)","v":294.19},null,"* Nota 1 - O Módulo 4 refere-se às previsões para custear ausências do próprio profissional (titular do cargo)"]
[null,null,"B",{"$f":"'Encargos Sociais'!D26","v":"Ausências Legais (Arts. 131 e 473 da CLT)"},{"$f":"'Encargos Sociais'!E26","v":7.9000000000000008E-3},25.57,null,"* Nota 2 - As férias foram calculadas dividindo-se por 11, para comportar os 11 meses presentes e ainda o ausente do posto"]
[null,null,"C",{"$f":"'Encargos Sociais'!D27","v":"Licença-Paternidade (Art. 7º, XIX, e art. 10, §1º, do ADCT, CF/1988 e Art. 1º, II, da Lei 11.770/2008)"},{"$f":"'Encargos Sociais'!E27","v":8.0000000000000004E-4},2.59]
[null,null,"D",{"$f":"'Encargos Sociais'!D28","v":"Ausência por Acidente de Trabalho (Art. 131, III, da CLT)"},{"$f":"'Encargos Sociais'!E28","v":8.9999999999999998E-4},2.91]
[null,null,"E",{"$f":"'Encargos Sociais'!D29","v":"Afastamento Maternidade (Art. 71 da Lei nº 8.213/1991)"},{"$f":"'Encargos Sociais'!E29","v":3.3E-3},10.68]
[null,null,"F",{"$f":"'Encargos Sociais'!D30","v":"Auxílio Enfermidade - Doença (Art. 59 da Lei nº 8.213/1991)"},{"$f":"'Encargos Sociais'!E30","v":7.1000000000000004E-3},22.98]
[]
[null,"Submódulo 4.2 - Intrajornada"]
[null,null,"A","Intervalo para repouso ou alimentação",{"$f":"'Encargos Sociais'!E33","v":0},{"$f":"ROUND(E67*$F$16,2)","v":0}]
[]
[null,null,null,"QUADRO-RESUMO DO MÓDULO 4",null,"Valor"]
[null,null,null,"4.1 - Ausências Legais",{"$f":"SUM(E59:E64)","v":0.11089999999999998},{"$f":"ROUND(E70*$F$16,2)","v":358.92}]
[null,null,null,"4.2 - Intrajornada",{"$f":"E67","v":0},{"$f":"ROUND(E71*$F$16,2)","v":0}]
[]
[null,null,null,"TOTAL DE  CUSTO DO PROFISSIONAL AUSENTE E INTERVALO INTRAJORNADA",null,{"$f":"SUM(F70:F71)","v":358.92}]
[]
[null,"MÓDULO 5 - INSUMOS DIVERSOS",null,null,null,"Valor"]
[null,null,"A","Uniformes - aquisição",null,{"$f":"ROUND(HLOOKUP($B$5,Uniformes!K4:DZ6,3)/12,2)","v":0}]
[null,null,"B","Materiais de consumo relacionados ao posto - aquisição",null,{"$f":"ROUND(HLOOKUP(B5,'Mat Cons'!I11:DX13,3)/12,2)","v":0}]
[null,null,"C","Ferramentas relacionadas ao posto - remuneração da depreciação / manutenção",null,{"$f":"HLOOKUP(B5,'Relacion - Ferram'!Q3:EF5,3)","v":5.37}]
[null,null,"D","Equipamentos relacionados ao posto - remuneração da depreciação / manutenção",null,{"$f":"ROUND(HLOOKUP(B5,'Equip Rel'!Q3:EF5,3)/12,2)","v":0}]
[null,null,"E","Equipamentos de Proteção Individual - EPI - aquisição",null,{"$f":"ROUND(HLOOKUP(B5,EPI!K4:AM6,3)/12,2)","v":0}]
[]
[null,null,null,"TOTAL DE INSUMOS DIVERSOS",null,{"$f":"SUM(F76:F81)","v":5.37},null,"* Nota - Valores mensais por empregado"]
[]
[null,"MÓDULO 6 - CUSTOS INDIRETOS, TRIBUTOS E LUCRO - BDI",null,null,"Percentuais","Valor"]
[null,null,"A","Custos Indiretos",{"$f":"'BDI - Geral'!E7","v":2.6000000000000002E-2}]
[null,null,"A.1","Administração Central",{"$f":"'BDI - Geral'!E8","v":2.06E-2}]
[null,null,"A.2","Seguros, Garantias e Riscos",{"$f":"'BDI - Geral'!E9","v":5.4000000000000003E-3}]
[null,null,"B","Lucro",{"$f":"'BDI - Geral'!E11","v":3.3399999999999999E-2}]
[null,null,"C","Tributos",{"$f":"SUM(E90:E91)","v":0.124}]
[null,null,"C.1","Tributos Federais (COFINS, PIS e CPRB)",{"$f":"'BDI - Geral'!E19","v":7.3999999999999996E-2}]
[null,null,"C.2","Tributos Distritais (ISS)",{"$f":"'BDI - Geral'!E24","v":0.05}]
[null,null,"D","Despesas Financeiras",{"$f":"'BDI - Geral'!E14","v":5.0569567433733642E-3}]
[]
[null,null,null,"TOTAL DE BDI",{"$f":"'BDI - Geral'!E27","v":0.2165},{"$f":"E94*E102","v":1317.9762249999999}]
[]
[null,null,null,"QUADRO-RESUMO DO CUSTO MENSAL POR EMPREGADO - SEM O 13º","Valor"]
[null,null,null,"Módulo 1 - Composição da Remuneração",{"$f":"F16","v":3236.42}]
[null,null,null,"Módulo 2 - Encargos e Benefícios Anuais, Mensais e Diários",{"$f":"F45","v":2283.4299999999994}]
[null,null,null,"Módulo 3 - Provisão para Rescisão",{"$f":"F55","v":203.51}]
[null,null,null,"Módulo 4 - Custo de Reposição do Profissional Ausente",{"$f":"F73","v":358.92}]
[null,null,null,"Módulo 5 - Insumos Diversos",{"$f":"F82","v":5.37}]
[null,null,null,"SUBTOTAL (A+B+C+D+E)",{"$f":"SUM(E97:E101)","v":6087.65}]
[null,null,null,"Módulo 6 - Custos Indiretos, Tributos e Lucro",{"$f":"F94","v":1317.9762249999999}]
[]
[null,null,null,"TOTAL DO POSTO",{"$f":"SUM(E102:E103)","v":7405.626225}]
[]
[null,"MÓDULO 7 - DESTAQUE DO MÓDULO 2 - 13º SALÁRIO",null,null,"Percentuais","Valor"]
[null,null,"A","13º Salário",{"$f":"'Encargos Sociais'!E32*12/11","v":9.0872727272727272E-2},{"$f":"ROUND(E108*F$16,2)","v":294.10000000000002},null,"* Nota 1 - Incluindo-se a reincidência das férias do substituto sobre o titular"]
[null,null,"B","Encargos Sociais sobre o 13º Salário - Taxa calculada no MÓDULO 2",{"$f":"SUM($E$24:$E$32)","v":0.34800000000000003},{"$f":"ROUND(E109*$F$108,2)","v":102.35},null,"* Nota 2 - 13º e reflexos calculados à parte a fim de aprovisionamento"]
[null,null,"C","BDI sobre o 13º Salário - Taxa calculada no MÓDULO 6",{"$f":"E94","v":0.2165},{"$f":"ROUND(E110*($F$108+$F$109),2)","v":85.83}]
[]
[null,null,null,"TOTAL DO DESTAQUE DO 13º SALÁRIO",null,{"$f":"SUM(F108:F110)","v":482.28000000000003}]
[]
[null,null,null,"QUADRO-RESUMO DO CUSTO MENSAL POR EMPREGADO","Valor"]
[null,null,null,"Custo total - sem o 13º Salário",{"$f":"E105","v":7405.626225}]
[null,null,null,"Destaque do 13º Salário (valor mensal)",{"$f":"F112","v":482.28000000000003}]
[]
[null,null,null,"TOTAL DO POSTO",{"$f":"E115+E116","v":7887.9062249999997}]

{"sheet":"10","index":32,"n_rows":118,"n_cols":8,"rows_kept":118,"cut":false,"hidden":false,"merged":[[17,1,17,3],[1,1,1,5],[2,1,2,5],[4,1,4,2],[5,1,5,2],[7,1,7,3],[106,1,106,3],[39,3,39,5],[46,1,46,3],[56,1,56,3],[68,3,68,5],[74,1,74,3],[83,1,83,3]]}
[]
[null,"PLANILHA DE ESTIMATIVA DE CUSTOS"]
[null,"Padrão IN 05/2017 e IN 07/2018 - MPDG"]
[]
[null,10,null,{"$f":"HLOOKUP($B$5,'Dados Gerais'!$D$6:$BI$22,6)","v":"OPERADOR DE TRANSMISSOR – Rádio e TV - 24H"},"QUANTIDADE",{"$f":"HLOOKUP($B$5,'Dados Gerais'!$D$6:$BI$22,10)","v":5}]
[null,"CCT",null,{"$f":"HLOOKUP($B$5,'Dados Gerais'!$D$6:$BI$22,16)","v":"SEAC/DF X SINRAD/DF\nCCT 2024/2024\nN.º DF000133/2024"},"DATA-BASE",{"$f":"HLOOKUP($B$5,'Dados Gerais'!$D$6:$BI$22,17)","v":"2024-01-01"}]
[]
[null,"MÓDULO 1 - COMPOSIÇÃO DA REMUNERAÇÃO",null,null,null,"Valor"]
[null,null,"A","Salário-Base",null,{"$f":"HLOOKUP($B$5,'Dados Gerais'!$D$6:$BI$22,8)","v":3837.34}]
[null,null,"B","Adicional de Periculosidade",null,{"$f":"HLOOKUP($B$5,'Dados Gerais'!$D$6:$BI$39,26)","v":0}]
[null,null,"C","Adicional de Insalubridade",null,{"$f":"HLOOKUP($B$5,'Dados Gerais'!$D$6:$BI$39,32)","v":0}]
[null,null,"D","Adicional Noturno",null,{"$f":"HLOOKUP($B$5,'Dados Gerais'!$D$6:$BI$52,47)","v":0},null,"* Nota 1 - O Módulo 1 refere-se ao valor mensal devido ao empregado pela prestação do serviço no período de 12 meses."]
[null,null,"E","Adicional de Hora Extra",null,{"$f":"HLOOKUP($B$5,'Dados Gerais'!$D$6:$BI$69,64)","v":0},null,"* Nota 2 - O adicional de hora extra no feriado trabalhado foi suprimido pela Lei 13.467/17"]
[null,null,"F","Outros (especificar)",null,{"$f":"HLOOKUP($B$5,'Dados Gerais'!$D$6:$BI$69,34)","v":0},null,"* Nota 3 - ART. 7º, § 2º, DA LEI Nº 605/49.Sendo mensalista o obreiro, o adicional noturno pago de forma fixa já é considerado integrado para os efeitos do pagamento do repouso semanal remunerado, nos termos do art. 7º, § 2º, da Lei nº 605/49."]
[]
[null,null,null,"TOTAL DA REMUNERAÇÃO",null,{"$f":"SUM(F9:F14)","v":3837.34}]
[]
[null,"MÓDULO 2 - ENCARGOS E BENEFÍCIOS ANUAIS, MENSAIS E DIÁRIOS",null,null,"Percentuais","Valor"]
[null,"Submódulo 2.1 - 13º Salário, Férias e Adicional de Férias"]
[null,null,"A","13º Salário - Calculado no Módulo 7 - Destacado",0,{"$f":"ROUND(E20*F$16,2)","v":0}]
[null,null,"B","Adicional de Férias",{"$f":"'Encargos Sociais'!E31","v":3.0300000000000001E-2},{"$f":"ROUND(E21*F$16,2)","v":116.27},null,"* Nota 1 - O adicional de férias foi calculado dividindo-se por 11, para comportar os 11 meses presentes e ainda o ausente do posto"]
[]
[null,"Submódulo 2.2 - Encargos Previdenciários (GPS), Fundo de Garantia por Tempo de Serviço (FGTS) e Outras Contribuições"]
[null,null,"A",{"$f":"'Encargos Sociais'!D14","v":"INSS (art. 22, inciso I, Lei nº 8.212/91)"},{"$f":"'Encargos Sociais'!E14","v":0.2},{"$f":"ROUND(E24*($F$16+$F$21+$F$73),2)","v":875.83},null,"* Nota 1 - Os percentuais dos encargos previdenciários, do FGTS e demais contribuições são estabelecidos por legislação vigente."]
[null,null,"B",{"$f":"'Encargos Sociais'!D15","v":"Salário Educação (art. 3º, inciso I, Decreto nº 87.043/82)"},{"$f":"'Encargos Sociais'!E15","v":2.5000000000000001E-2},109.48,null,"* Nota 2 - O SAT, a depender do grau de risco do serviço, irá variar entre 1%, para risco leve, de 2%, para risco médio, e de 3% para risco grave."]
[null,null,"C",{"$f":"'Encargos Sociais'!D16","v":"SAT/RAT (art. 22, II, Lei 8.212/91 e Anexo V, Decreto 6.042/07) - Enquadramento 5911-1/99 "},{"$f":"'Encargos Sociais'!E16","v":0.01},43.79,null,"* Nota 3 - Base de cálculo - remuneração + ausências + terço constitucional (férias)"]
[null,null,"D",{"$f":"'Encargos Sociais'!D17","v":"SESC ou SESI (art. 30, Lei nº 8.036/90 e art. 1º, Lei 8.154/90)"},{"$f":"'Encargos Sociais'!E17","v":1.4999999999999999E-2},65.69]
[null,null,"E",{"$f":"'Encargos Sociais'!D18","v":"SENAI ou SENAC (Decreto nº 2.318/86)"},{"$f":"'Encargos Sociais'!E18","v":0.01},43.79]
[null,null,"F",{"$f":"'Encargos Sociais'!D19","v":"SEBRAE (§ 3º, art. 8º, Lei 8.029/90, alterada pela Lei nº 8.154/90)"},{"$f":"'Encargos Sociais'!E19","v":6.0000000000000001E-3},26.28]
[null,null,"G",{"$f":"'Encargos Sociais'!D20","v":"INCRA (art. 1º, I, Decreto Lei 1.146/70 e Lei 7.787, de 30/06/89)"},{"$f":"'Encargos Sociais'!E20","v":2E-3},8.76]
[null,null,"H",{"$f":"'Encargos Sociais'!D21","v":"FGTS (Lei Complementar nº 110/01 e art. 30, Lei nº 8.036/90)"},{"$f":"'Encargos Sociais'!E21","v":0.08},350.33]
[null,null,"I",{"$f":"'Encargos Sociais'!D22","v":"SECONCI (Convenções Coletivas de Trabalho da construção)"},{"$f":"'Encargos Sociais'!E22","v":0},0]
[]
[null,"Submódulo 2.3 - Benefícios Mensais e Diários"]
[null,null,"A","Auxílio Transporte",null,{"$f":"HLOOKUP($B$5,'Dados Gerais'!$D$6:$BI$95,83)","v":0},null,"* Nota 1 - O valor informado deverá ser o custo real do benefício (descontado o valor eventualmente pago pelo empregado)."]
[null,null,"B","Auxílio Alimentação",null,{"$f":"HLOOKUP($B$5,'Dados Gerais'!$D$6:$BI$95,90)","v":739.5},null,"* Nota 2 - Observar a previsão dos benefícios contidos em Acordos, Convenções e Dissídios Coletivos de Trabalho e o disposto no art. 6º da IN 5/2017"]
[null,null,"C","Assistência Médica e Familiar",null,{"$f":"HLOOKUP($B$5,'Dados Gerais'!$D$6:$BI$103,98)","v":0}]
[null,null,"D","Outros (Seguro de vida, auxílio funeral, auxílio odontológico e auxílio creche)",null,{"$f":"HLOOKUP($B$5,'Dados Gerais'!$D$6:$BI$132,127)","v":115.9}]
[]
[null,null,null,"QUADRO-RESUMO DO MÓDULO 2"]
[null,null,null,"2.1 - Adicional de Férias",{"$f":"SUM(E20:E21)","v":3.0300000000000001E-2},{"$f":"F20+F21","v":116.27}]
[null,null,null,"2.2 - Encargos Previdenciários (GPS), Fundo de Garantia por Tempo de Serviço (FGTS) e Contribuições",{"$f":"SUM(E24:E32)","v":0.34800000000000003},{"$f":"SUM(F24:F32)","v":1523.95}]
[null,null,null,"2.3 - Benefícios Mensais e Diários",null,{"$f":"SUM(F35:F38)","v":855.4}]
[]
[null,null,null,"TOTAL DOS ENCARGOS E BENEFÍCIOS",null,{"$f":"SUM(F41:F43)","v":2495.62}]
[]
[null,"MÓDULO 3 - PREVISÃO PARA RESCISÃO",null,null,"Percentuais","Valor"]
[null,null,"A",{"$f":"'Encargos Sociais'!D36","v":"Aviso Prévio Indenizado (Art. 7º, inciso XXI, da CF/1988 e arts. 477, 487, §1º, e 491 da CLT)"},{"$f":"'Encargos Sociais'!E36","v":4.1999999999999997E-3},{"$f":"ROUND(E48*($F$16+$F$41+$F$73),2)","v":18.39},null,"* Nota 1 - Base de cálculo - remuneração + ausências + 1/3 férias"]
[null,null,"B",{"$f":"'Encargos Sociais'!D37","v":"Incidência do FGTS sobre o Aviso Prévio Indenizado (Súmula 305 TST)"},{"$f":"'Encargos Sociais'!E37","v":2.9999999999999997E-4},1.31]
[null,null,"C",{"$f":"'Encargos Sociais'!D38","v":"Multa do FGTS sobre o Aviso Prévio Indenizado (Art. 18, §1º, da Lei 8.036/1990)"},{"$f":"'Encargos Sociais'!E38","v":1.9E-3},8.32]
[null,null,"D",{"$f":"'Encargos Sociais'!D39","v":"Aviso Prévio Trabalhado (Art. 488, parágrafo único, CLT)"},{"$f":"'Encargos Sociais'!E39","v":7.7999999999999996E-3},34.159999999999997]
[null,null,"E",{"$f":"'Encargos Sociais'!D40","v":"Incidência de GPS, FGTS e outras contribuições sobre o Aviso Prévio Trabalhado"},{"$f":"'Encargos Sociais'!E40","v":2.7000000000000001E-3},11.82]
[null,null,"F",{"$f":"'Encargos Sociais'!D41","v":"Multa do FGTS"},{"$f":"'Encargos Sociais'!E41","v":3.8199999999999998E-2},167.28]
[]
[null,null,null,"TOTAL DE PREVISÃO PARA RESCISÃO",null,{"$f":"SUM(F48:F53)","v":241.28}]
[]
[null,"MÓDULO 4 - CUSTO DO PROFISSIONAL AUSENTE",null,null,"Percentuais","Valor"]
[null,"Submódulo 4.1 - Ausências Legais"]
[null,null,"A",{"$f":"'Encargos Sociais'!D25","v":"Férias (Arts. 129 e 130, inc. I, da CLT)"},{"$f":"'Encargos Sociais'!E25","v":9.0899999999999995E-2},{"$f":"ROUND(E59*$F$16,2)","v":348.81},null,"* Nota 1 - O Módulo 4 refere-se às previsões para custear ausências do próprio profissional (titular do cargo)"]
[null,null,"B",{"$f":"'Encargos Sociais'!D26","v":"Ausências Legais (Arts. 131 e 473 da CLT)"},{"$f":"'Encargos Sociais'!E26","v":7.9000000000000008E-3},30.31,null,"* Nota 2 - As férias foram calculadas dividindo-se por 11, para comportar os 11 meses presentes e ainda o ausente do posto"]
[null,null,"C",{"$f":"'Encargos Sociais'!D27","v":"Licença-Paternidade (Art. 7º, XIX, e art. 10, §1º, do ADCT, CF/1988 e Art. 1º, II, da Lei 11.770/2008)"},{"$f":"'Encargos Sociais'!E27","v":8.0000000000000004E-4},3.07]
[null,null,"D",{"$f":"'Encargos Sociais'!D28","v":"Ausência por Acidente de Trabalho (Art. 131, III, da CLT)"},{"$f":"'Encargos Sociais'!E28","v":8.9999999999999998E-4},3.45]
[null,null,"E",{"$f":"'Encargos Sociais'!D29","v":"Afastamento Maternidade (Art. 71 da Lei nº 8.213/1991)"},{"$f":"'Encargos Sociais'!E29","v":3.3E-3},12.66]
[null,null,"F",{"$f":"'Encargos Sociais'!D30","v":"Auxílio Enfermidade - Doença (Art. 59 da Lei nº 8.213/1991)"},{"$f":"'Encargos Sociais'!E30","v":7.1000000000000004E-3},27.25]
[]
[null,"Submódulo 4.2 - Intrajornada"]
[null,null,"A","Intervalo para repouso ou alimentação",{"$f":"'Encargos Sociais'!E33","v":0},{"$f":"ROUND(E67*$F$16,2)","v":0}]
[]
[null,null,null,"QUADRO-RESUMO DO MÓDULO 4",null,"Valor"]
[null,null,null,"4.1 - Ausências Legais",{"$f":"SUM(E59:E64)","v":0.11089999999999998},{"$f":"ROUND(E70*$F$16,2)","v":425.56}]
[null,null,null,"4.2 - Intrajornada",{"$f":"E67","v":0},{"$f":"ROUND(E71*$F$16,2)","v":0}]
[]
[null,null,null,"TOTAL DE  CUSTO DO PROFISSIONAL AUSENTE E INTERVALO INTRAJORNADA",null,{"$f":"SUM(F70:F71)","v":425.56}]
[]
[null,"MÓDULO 5 - INSUMOS DIVERSOS",null,null,null,"Valor"]
[null,null,"A","Uniformes - aquisição",null,{"$f":"ROUND(HLOOKUP($B$5,Uniformes!K4:DZ6,3)/12,2)","v":119.87}]
[null,null,"B","Materiais de consumo relacionados ao posto - aquisição",null,{"$f":"ROUND(HLOOKUP(B5,'Mat Cons'!I11:DX13,3)/12,2)","v":0}]
[null,null,"C","Ferramentas relacionadas ao posto - remuneração da depreciação / manutenção",null,{"$f":"HLOOKUP(B5,'Relacion - Ferram'!Q3:EF5,3)","v":0}]
[null,null,"D","Equipamentos relacionados ao posto - remuneração da depreciação / manutenção",null,{"$f":"ROUND(HLOOKUP(B5,'Equip Rel'!Q3:EF5,3)/12,2)","v":0}]
[null,null,"E","Equipamentos de Proteção Individual - EPI - aquisição",null,{"$f":"ROUND(HLOOKUP(B5,EPI!K4:AM6,3)/12,2)","v":29.25}]
[]
[null,null,null,"TOTAL DE INSUMOS DIVERSOS",null,{"$f":"SUM(F76:F81)","v":149.12},null,"* Nota - Valores mensais por empregado"]
[]
[null,"MÓDULO 6 - CUSTOS INDIRETOS, TRIBUTOS E LUCRO - BDI",null,null,"Percentuais","Valor"]
[null,null,"A","Custos Indiretos",{"$f":"'BDI - Geral'!E7","v":2.6000000000000002E-2}]
[null,null,"A.1","Administração Central",{"$f":"'BDI - Geral'!E8","v":2.06E-2}]
[null,null,"A.2","Seguros, Garantias e Riscos",{"$f":"'BDI - Geral'!E9","v":5.4000000000000003E-3}]
[null,null,"B","Lucro",{"$f":"'BDI - Geral'!E11","v":3.3399999999999999E-2}]
[null,null,"C","Tributos",{"$f":"SUM(E90:E91)","v":0.124}]
[null,null,"C.1","Tributos Federais (COFINS, PIS e CPRB)",{"$f":"'BDI - Geral'!E19","v":7.3999999999999996E-2}]
[null,null,"C.2","Tributos Distritais (ISS)",{"$f":"'BDI - Geral'!E24","v":0.05}]
[null,null,"D","Despesas Financeiras",{"$f":"'BDI - Geral'!E14","v":5.0569567433733642E-3}]
[]
[null,null,null,"TOTAL DE BDI",{"$f":"'BDI - Geral'!E27","v":0.2165},{"$f":"E94*E102","v":1547.74118}]
[]
[null,null,null,"QUADRO-RESUMO DO CUSTO MENSAL POR EMPREGADO - SEM O 13º","Valor"]
[null,null,null,"Módulo 1 - Composição da Remuneração",{"$f":"F16","v":3837.34}]
[null,null,null,"Módulo 2 - Encargos e Benefícios Anuais, Mensais e Diários",{"$f":"F45","v":2495.62}]
[null,null,null,"Módulo 3 - Provisão para Rescisão",{"$f":"F55","v":241.28}]
[null,null,null,"Módulo 4 - Custo de Reposição do Profissional Ausente",{"$f":"F73","v":425.56}]
[null,null,null,"Módulo 5 - Insumos Diversos",{"$f":"F82","v":149.12}]
[null,null,null,"SUBTOTAL (A+B+C+D+E)",{"$f":"SUM(E97:E101)","v":7148.92}]
[null,null,null,"Módulo 6 - Custos Indiretos, Tributos e Lucro",{"$f":"F94","v":1547.74118}]
[]
[null,null,null,"TOTAL DO POSTO",{"$f":"SUM(E102:E103)","v":8696.6611799999991}]
[]
[null,"MÓDULO 7 - DESTAQUE DO MÓDULO 2 - 13º SALÁRIO",null,null,"Percentuais","Valor"]
[null,null,"A","13º Salário",{"$f":"'Encargos Sociais'!E32*12/11","v":9.0872727272727272E-2},{"$f":"ROUND(E108*F$16,2)","v":348.71},null,"* Nota 1 - Incluindo-se a reincidência das férias do substituto sobre o titular"]
[null,null,"B","Encargos Sociais sobre o 13º Salário - Taxa calculada no MÓDULO 2",{"$f":"SUM($E$24:$E$32)","v":0.34800000000000003},{"$f":"ROUND(E109*$F$108,2)","v":121.35},null,"* Nota 2 - 13º e reflexos calculados à parte a fim de aprovisionamento"]
[null,null,"C","BDI sobre o 13º Salário - Taxa calculada no MÓDULO 6",{"$f":"E94","v":0.2165},{"$f":"ROUND(E110*($F$108+$F$109),2)","v":101.77}]
[]
[null,null,null,"TOTAL DO DESTAQUE DO 13º SALÁRIO",null,{"$f":"SUM(F108:F110)","v":571.82999999999993}]
[]
[null,null,null,"QUADRO-RESUMO DO CUSTO MENSAL POR EMPREGADO","Valor"]
[null,null,null,"Custo total - sem o 13º Salário",{"$f":"E105","v":8696.6611799999991}]
[null,null,null,"Destaque do 13º Salário (valor mensal)",{"$f":"F112","v":571.82999999999993}]
[]
[null,null,null,"TOTAL DO POSTO",{"$f":"E115+E116","v":9268.4911799999991}]

{"sheet":"11","index":33,"n_rows":118,"n_cols":8,"rows_kept":118,"cut":false,"hidden":true,"merged":[[17,1,17,3],[106,1,106,3],[39,3,39,5],[46,1,46,3],[56,1,56,3],[68,3,68,5],[74,1,74,3],[83,1,83,3],[1,1,1,5],[2,1,2,5],[4,1,4,2],[5,1,5,2],[7,1,7,3]]}
[]
[null,"PLANILHA DE ESTIMATIVA DE CUSTOS"]
[null,"Padrão IN 05/2017 e IN 07/2018 - MPDG"]
[]
[null,11,null,{"$f":"HLOOKUP($B$5,'Dados Gerais'!$D$6:$BI$22,6)","v":0},"QUANTIDADE",{"$f":"HLOOKUP($B$5,'Dados Gerais'!$D$6:$BI$22,10)","v":0}]
[null,"CCT",null,{"$f":"HLOOKUP($B$5,'Dados Gerais'!$D$6:$BI$22,16)","v":0},"DATA-BASE",{"$f":"HLOOKUP($B$5,'Dados Gerais'!$D$6:$BI$22,17)","v":"00:00:00"}]
[]
[null,"MÓDULO 1 - COMPOSIÇÃO DA REMUNERAÇÃO",null,null,null,"Valor"]
[null,null,"A","Salário-Base",null,{"$f":"HLOOKUP($B$5,'Dados Gerais'!$D$6:$BI$22,8)","v":0}]
[null,null,"B","Adicional de Periculosidade",null,{"$f":"HLOOKUP($B$5,'Dados Gerais'!$D$6:$BI$39,26)","v":0}]
[null,null,"C","Adicional de Insalubridade",null,{"$f":"HLOOKUP($B$5,'Dados Gerais'!$D$6:$BI$39,32)","v":0}]
[null,null,"D","Adicional Noturno",null,{"$f":"HLOOKUP($B$5,'Dados Gerais'!$D$6:$BI$52,47)","v":0},null,"* Nota 1 - O Módulo 1 refere-se ao valor mensal devido ao empregado pela prestação do serviço no período de 12 meses."]
[null,null,"E","Adicional de Hora Extra",null,{"$f":"HLOOKUP($B$5,'Dados Gerais'!$D$6:$BI$69,64)","v":0},null,"* Nota 2 - O adicional de hora extra no feriado trabalhado foi suprimido pela Lei 13.467/17"]
[null,null,"F","Outros (especificar)",null,0,null,"* Nota 3 - ART. 7º, § 2º, DA LEI Nº 605/49.Sendo mensalista o obreiro, o adicional noturno pago de forma fixa já é considerado integrado para os efeitos do pagamento do repouso semanal remunerado, nos termos do art. 7º, § 2º, da Lei nº 605/49."]
[]
[null,null,null,"TOTAL DA REMUNERAÇÃO",null,{"$f":"SUM(F9:F14)","v":0}]
[]
[null,"MÓDULO 2 - ENCARGOS E BENEFÍCIOS ANUAIS, MENSAIS E DIÁRIOS",null,null,"Percentuais","Valor"]
[null,"Submódulo 2.1 - 13º Salário, Férias e Adicional de Férias"]
[null,null,"A","13º Salário - Calculado no Módulo 7 - Destacado",0,{"$f":"ROUND(E20*F$16,2)","v":0}]
[null,null,"B","Férias e Adicional de Férias",{"$f":"'Encargos Sociais'!E25+'Encargos Sociais'!E31","v":0.1212},{"$f":"ROUND(E21*F$16,2)","v":0},null,"* Nota 1 - Provisiona-se, mensalmente, o proporcional a 1/12 dos valores referentes a gratificação natalina, férias e adicional de férias."]
[null,null,null,null,null,null,null,"* Nota 2 - O adicional de férias contido no Submódulo 2.1 corresponde a 1/3 da remuneração que, por sua vez, é dividida por 12 contome Nota 1."]
[null,"Submódulo 2.2 - Encargos Previdenciários (GPS), Fundo de Garantia por Tempo de Serviço (FGTS) e Outras Contribuições"]
[null,null,"A","INSS (art. 22, inciso I, Lei nº 8.212/91)",{"$f":"'Encargos Sociais'!E14","v":0.2},{"$f":"ROUND(E24*($F$16+$F$41+$F$73),2)","v":0}]
[null,null,"B","Salário Educação (art. 3º, inciso I, Decreto nº 87.043/82)",{"$f":"'Encargos Sociais'!E15","v":2.5000000000000001E-2},{"$f":"ROUND(E25*($F$16+$F$41+$F$73),2)","v":0}]
[null,null,"C","SAT/RAT (art. 22, II, Lei 8.212/91 e Anexo V, Decreto 6.042/07) - Enquadramento 8211-3/00",{"$f":"'Encargos Sociais'!E16","v":0.01},0]
[null,null,"D","SESC ou SESI (art. 30, Lei nº 8.036/90 e art. 1º, Lei 8.154/90)",{"$f":"'Encargos Sociais'!E17","v":1.4999999999999999E-2},0]
[null,null,"E","SENAI ou SENAC (Decreto nº 2.318/86)",{"$f":"'Encargos Sociais'!E18","v":0.01},0]
[null,null,"F","SEBRAE (§ 3º, art. 8º, Lei 8.029/90, alterada pela Lei nº 8.154/90)",{"$f":"'Encargos Sociais'!E19","v":6.0000000000000001E-3},0]
[null,null,"G","INCRA (art. 1º, I, Decreto Lei 1.146/70 e Lei 7.787, de 30/06/89)",{"$f":"'Encargos Sociais'!E20","v":2E-3},0,null,"* Nota 1 - Os percentuais dos encargos previdenciários, do FGTS e demais contribuições são estabelecidos por legislação vigente."]
[null,null,"H","FGTS (Lei Complementar nº 110/01 e art. 30, Lei nº 8.036/90)",{"$f":"'Encargos Sociais'!E21","v":0.08},0,null,"* Nota 2 - O SAT, a depender do grau de risco do serviço, irá variar entre 1%, para risco leve, de 2%, para risco médio, e de 3% para risco grave."]
[null,null,"I","SECONCI (Convenções Coletivas de Trabalho da construção)",{"$f":"'Encargos Sociais'!E22","v":0},0,null,"* Nota 3 - Os percentuais do Submódulo 2.2 incidem sobre o Módulo 1 e o Submódulo 2.1."]
[]
[null,"Submódulo 2.3 - Benefícios Mensais e Diários"]
[null,null,"A","Auxílio Transporte",null,{"$f":"HLOOKUP($B$5,'Dados Gerais'!$D$6:$BI$95,83)","v":0}]
[null,null,"B","Auxílio Alimentação",null,{"$f":"HLOOKUP($B$5,'Dados Gerais'!$D$6:$BI$95,90)","v":0}]
[null,null,"C","Assistência Médica e Familiar",null,{"$f":"HLOOKUP($B$5,'Dados Gerais'!$D$6:$BI$103,98)","v":0}]
[null,null,"D","Outros (Seguro de vida, auxílio funeral, auxílio odontológico e auxílio creche)",null,{"$f":"HLOOKUP($B$5,'Dados Gerais'!$D$6:$BI$132,127)","v":0},null,"* Nota 1 - O valor informado deverá ser o custo real do benefício (descontado o valor eventualmente pago pelo empregado)."]
[null,null,null,null,null,null,null,"* Nota 2 - Observar a previsão dos benefícios contidos em Acordos, Convenções e Dissídios Coletivos de Trabalho e o disposto no art. 6º da IN 5/2017"]
[null,null,null,"QUADRO-RESUMO DO MÓDULO 2"]
[null,null,null,"2.1 - 13º Salário, Férias e Adicional de Férias - 13º Destacado - Calculado no Módulo 7 ",{"$f":"SUM(E20:E21)","v":0.1212},{"$f":"F20+F21","v":0}]
[null,null,null,"2.2 - Encargos Previdenciários (GPS), Fundo de Garantia por Tempo de Serviço (FGTS) e Contribuições",{"$f":"SUM(E24:E32)","v":0.34800000000000003},{"$f":"SUM(F24:F32)","v":0}]
[null,null,null,"2.3 - Benefícios Mensais e Diários",null,{"$f":"SUM(F35:F38)","v":0}]
[]
[null,null,null,"TOTAL DOS ENCARGOS E BENEFÍCIOS",null,{"$f":"SUM(F41:F43)","v":0}]
[]
[null,"MÓDULO 3 - PREVISÃO PARA RESCISÃO",null,null,"Percentuais","Valor"]
[null,null,"A","Aviso Prévio Indenizado (Art. 7º, inciso XXI, da CF/1988 e arts. 477, 487, §1º, e 491 da CLT)",{"$f":"'Encargos Sociais'!E36","v":4.1999999999999997E-3},{"$f":"ROUND(E48*($F$16+$F$21),2)","v":0}]
[null,null,"B","Incidência do FGTS sobre o Aviso Prévio Indenizado (Súmula 305 TST)",{"$f":"'Encargos Sociais'!E37","v":2.9999999999999997E-4},0,null,"* Nota 1 - Adotou-se os parâmetros do estudo do STF (http://www.stf.jus.br/arquivo/cms/sobrestfestudosci/anexo/encargos_sociais_03102007.pdf), onde 5% do pessoal é demitido pelo empregador no decurso do contrato (para estes, considerou-se o aviso prévio indenizado). Desprezou-se as demissões por justa causa e os pedidos de demissão."]
[null,null,"C","Multa do FGTS (Art. 18, §1º, da Lei 8.036/1990)",{"$f":"'Encargos Sociais'!E38","v":1.9E-3},0,null,"* Nota 2 - No cálculo do percentual, considerou-se 36 dias, correspondendo à metade da duração média dos contratos (2 anos)"]
[null,null,"D","Aviso Prévio Trabalhado (Art. 488, parágrafo único, CLT)",{"$f":"'Encargos Sociais'!E39","v":7.7999999999999996E-3},0,null,"* Nota 3 - Incide sobre a Remuneração + 13º salário (1/12) + Férias (1/12) + Adicional de Férias (1/36) x 50% multa (40% para o empregado e 10% de contribuição social) x 8% FGTS"]
[null,null,"E","Incidência de GPS, FGTS e outras contribuições sobre o Aviso Prévio Trabalhado",{"$f":"'Encargos Sociais'!E40","v":2.7000000000000001E-3},0,null,"* Nota 4 - Os 95% restantes do cálculo, a um prazo médio de contrato de 4 anos. Assim, calcula-se 7 dias para o 1º ano de contrato e mais 3 dias para os 3 anos seguintes."]
[null,null,"F","Multa do FGTS",{"$f":"'Encargos Sociais'!E41","v":3.8199999999999998E-2},0]
[]
[null,null,null,"TOTAL DE PREVISÃO PARA RESCISÃO",null,{"$f":"SUM(F48:F53)","v":0}]
[]
[null,"MÓDULO 4 - CUSTO DO PROFISSIONAL AUSENTE",null,null,"Percentuais","Valor"]
[null,"Submódulo 4.1 - Ausências Legais"]
[null,null,"A","Férias (Arts. 129 e 130, inc. I, da CLT) - Calculado no Submódulo 2.1",0,{"$f":"ROUND(E59*$F$16,2)","v":0},null,"* Nota 1 - As alíneas “A” a “F” referem-se somente ao custo que será pago ao repositor pelos dias \ntrabalhados quando da necessidade de substituir a mão de obra alocada na prestação do serviço."]
[null,null,"B","Ausências Legais (Arts. 131 e 473 da CLT)",{"$f":"'Encargos Sociais'!E26","v":7.9000000000000008E-3},0,null,"* Nota 2 - Adotou-se a estimativa do SINAPI de 2 dias por ano."]
[null,null,"C","Licença-Paternidade (Art. 7º, XIX, e art. 10, §1º, do ADCT, CF/1988 e Art. 1º, II, da Lei 11.770/2008)",{"$f":"'Encargos Sociais'!E27","v":8.0000000000000004E-4},0,null,"* Nota 3 - Utilizada a proporção de 50% para homens, 5 dias de afastamento, e a probabilidade de um trabalhador requerer a Licença Paternidade em 5,22%, conforme SINAPI (citando dados da PNAD 2015)"]
[null,null,"D","Ausência por Acidente de Trabalho (Art. 131, III, da CLT)",{"$f":"'Encargos Sociais'!E28","v":8.9999999999999998E-4},0,null,"* Nota 4 - Utilzada a estatística de 1,96% dos contribuintes beneficiados com a emissão do auxílio, conforme Anuário Estatístico da Previdência Social. Afastamento de 15 dias a cargo da empresa."]
[null,null,"E","Afastamento Maternidade (Art. 71 da Lei nº 8.213/1991)",{"$f":"'Encargos Sociais'!E29","v":3.3E-3},0,null,"* Nota 5 - Utilizada a proporção de 50% para mulheres, 180 dias de afastamento, e a probabilidade de uma trabalhadora requerer a Licença Maternidade em 4,91%, conforme SINAPI (citando dados do IBGE 2016)"]
[null,null,"F","Auxílio Enfermidade - Doença (Art. 59 da Lei nº 8.213/1991)",{"$f":"'Encargos Sociais'!E30","v":7.1000000000000004E-3},0,null,"* Nota 6 - Utilizada a estatística de 3,37% dos contribuintes beneficiados com o auxílio, conforme Anuário Estatístico da Previdência Social de 2015 (acrescidos de 2 dias ao ano, para os quais o trabalhador nem requer o benefício da Previdência - conforme SINAPI)"]
[]
[null,"Submódulo 4.2 - Intrajornada"]
[null,null,"A","Intervalo para repouso ou alimentação",{"$f":"'Encargos Sociais'!E33","v":0},{"$f":"ROUND(E67*$F$16,2)","v":0}]
[]
[null,null,null,"QUADRO-RESUMO DO MÓDULO 4",null,"Valor"]
[null,null,null,"4.1 - Ausências Legais",{"$f":"SUM(E59:E64)","v":2.0000000000000004E-2},{"$f":"ROUND(E70*$F$16,2)","v":0}]
[null,null,null,"4.2 - Intrajornada",{"$f":"E67","v":0},{"$f":"ROUND(E71*$F$16,2)","v":0}]
[]
[null,null,null,"TOTAL DE PREVISÃO PARA RESCISÃO E INTERVALO INTRAJORNADA",null,{"$f":"SUM(F70:F71)","v":0}]
[]
[null,"MÓDULO 5 - INSUMOS DIVERSOS",null,null,null,"Valor"]
[null,null,"A","Uniformes - aquisição",null,{"$f":"ROUND(HLOOKUP($B$5,Uniformes!K4:DZ6,3)/12,2)","v":0}]
[null,null,"B","Materiais de consumo relacionados ao posto - aquisição",null,{"$f":"ROUND(HLOOKUP(B5,'Mat Cons'!I11:DX13,3)/12,2)","v":0}]
[null,null,"C","Ferramentas relacionadas ao posto - remuneração da depreciação / manutenção",null,{"$f":"HLOOKUP(B5,'Relacion - Ferram'!Q3:EF5,3)","v":0}]
[null,null,"D","Equipamentos relacionados ao posto - remuneração da depreciação / manutenção",null,{"$f":"ROUND(HLOOKUP(B5,'Equip Rel'!Q3:EF5,3)/12,2)","v":0}]
[null,null,"E","Equipamentos de Proteção Individual - EPI - aquisição",null,{"$f":"ROUND(HLOOKUP(B5,EPI!K4:AM6,3)/12,2)","v":0}]
[]
[null,null,null,"TOTAL DE INSUMOS DIVERSOS",null,{"$f":"SUM(F76:F81)","v":0},null,"* Nota - Valores mensais por empregado"]
[]
[null,"MÓDULO 6 - CUSTOS INDIRETOS, TRIBUTOS E LUCRO - BDI",null,null,"Percentuais","Valor"]
[null,null,"A","Custos Indiretos",{"$f":"'BDI - Geral'!E7","v":2.6000000000000002E-2}]
[null,null,"A.1","Administração Central",{"$f":"'BDI - Geral'!E8","v":2.06E-2}]
[null,null,"A.2","Seguros, Garantias e Riscos",{"$f":"'BDI - Geral'!E9","v":5.4000000000000003E-3}]
[null,null,"B","Lucro",{"$f":"'BDI - Geral'!E11","v":3.3399999999999999E-2}]
[null,null,"C","Tributos",{"$f":"SUM(E90:E91)","v":0.124}]
[null,null,"C.1","Tributos Federais (COFINS, PIS e CPRB)",{"$f":"'BDI - Geral'!E19","v":7.3999999999999996E-2}]
[null,null,"C.2","Tributos Distritais (ISS)",{"$f":"'BDI - Geral'!E24","v":0.05},null,null,"* Nota - Utilizou-se o indicado pelo Sindicato da Arquitetura e da Engenharia (Sinaenco, 2008, p. 22), que adota um percentual redutor de 20% no cálculo dos custos tributários relativos às contribuições PIS e COFINS"]
[null,null,"D","Despesas Financeiras",{"$f":"'BDI - Geral'!E14","v":5.0569567433733642E-3}]
[]
[null,null,null,"TOTAL DE BDI",{"$f":"'BDI - Geral'!E27","v":0.2165},{"$f":"E94*E102","v":0}]
[]
[null,null,null,"QUADRO-RESUMO DO CUSTO MENSAL POR EMPREGADO - SEM O 13º","Valor"]
[null,null,null,"Módulo 1 - Composição da Remuneração",{"$f":"F16","v":0}]
[null,null,null,"Módulo 2 - Encargos e Benefícios Anuais, Mensais e Diários",{"$f":"F45","v":0}]
[null,null,null,"Módulo 3 - Provisão para Rescisão",{"$f":"F55","v":0}]
[null,null,null,"Módulo 4 - Custo de Reposição do Profissional Ausente",{"$f":"F73","v":0}]
[null,null,null,"Módulo 5 - Insumos Diversos",{"$f":"F82","v":0}]
[null,null,null,"SUBTOTAL (A+B+C+D+E)",{"$f":"SUM(E97:E101)","v":0}]
[null,null,null,"Módulo 6 - Custos Indiretos, Tributos e Lucro",{"$f":"F94","v":0}]
[]
[null,null,null,"TOTAL DO POSTO",{"$f":"SUM(E102:E103)","v":0}]
[]
[null,"MÓDULO 7 - DESTAQUE DO MÓDULO 2 - 13º SALÁRIO",null,null,"Percentuais","Valor"]
[null,null,"A","13º Salário",{"$f":"'Encargos Sociais'!E32","v":8.3299999999999999E-2},{"$f":"ROUND(E108*F$16,2)","v":0}]
[null,null,"B","Encargos Sociais sobre o 13º Salário - Taxa calculada no MÓDULO 2",{"$f":"SUM($E$20:$E$32)","v":0.46920000000000012},{"$f":"ROUND(E109*$F$108,2)","v":0},null,"* Nota 1 - Provisiona-se, mensalmente, o proporcional a 1/12 dos valores referentes a gratificação natalina e adicional de férias."]
[null,null,"C","BDI sobre o 13º Salário - Taxa calculada no MÓDULO 6",{"$f":"E94","v":0.2165},{"$f":"ROUND(E110*($F$108+$F$109),2)","v":0}]
[]
[null,null,null,"TOTAL DO DESTAQUE DO 13º SALÁRIO",null,{"$f":"SUM(F108:F110)","v":0}]
[]
[null,null,null,"QUADRO-RESUMO DO CUSTO MENSAL POR EMPREGADO","Valor"]
[null,null,null,"Custo total - sem o 13º Salário",{"$f":"E105","v":0}]
[null,null,null,"Destaque do 13º Salário (valor mensal)",{"$f":"F112","v":0}]
[]
[null,null,null,"TOTAL DO POSTO",{"$f":"E115+E116","v":0}]

{"sheet":"12","index":34,"n_rows":118,"n_cols":8,"rows_kept":118,"cut":false,"hidden":true,"merged":[[17,1,17,3],[106,1,106,3],[39,3,39,5],[46,1,46,3],[56,1,56,3],[68,3,68,5],[74,1,74,3],[83,1,83,3],[1,1,1,5],[2,1,2,5],[4,1,4,2],[5,1,5,2],[7,1,7,3]]}
[]
[null,"PLANILHA DE ESTIMATIVA DE CUSTOS"]
[null,"Padrão IN 05/2017 e IN 07/2018 - MPDG"]
[]
[null,12,null,{"$f":"HLOOKUP($B$5,'Dados Gerais'!$D$6:$BI$22,6)","v":0},"QUANTIDADE",{"$f":"HLOOKUP($B$5,'Dados Gerais'!$D$6:$BI$22,10)","v":0}]
[null,"CCT",null,{"$f":"HLOOKUP($B$5,'Dados Gerais'!$D$6:$BI$22,16)","v":0},"DATA-BASE",{"$f":"HLOOKUP($B$5,'Dados Gerais'!$D$6:$BI$22,17)","v":"00:00:00"}]
[]
[null,"MÓDULO 1 - COMPOSIÇÃO DA REMUNERAÇÃO",null,null,null,"Valor"]
[null,null,"A","Salário-Base",null,{"$f":"HLOOKUP($B$5,'Dados Gerais'!$D$6:$BI$22,8)","v":0}]
[null,null,"B","Adicional de Periculosidade",null,{"$f":"HLOOKUP($B$5,'Dados Gerais'!$D$6:$BI$39,26)","v":0}]
[null,null,"C","Adicional de Insalubridade",null,{"$f":"HLOOKUP($B$5,'Dados Gerais'!$D$6:$BI$39,32)","v":0}]
[null,null,"D","Adicional Noturno",null,{"$f":"HLOOKUP($B$5,'Dados Gerais'!$D$6:$BI$52,47)","v":0},null,"* Nota 1 - O Módulo 1 refere-se ao valor mensal devido ao empregado pela prestação do serviço no período de 12 meses."]
[null,null,"E","Adicional de Hora Extra",null,{"$f":"HLOOKUP($B$5,'Dados Gerais'!$D$6:$BI$69,64)","v":0},null,"* Nota 2 - O adicional de hora extra no feriado trabalhado foi suprimido pela Lei 13.467/17"]
[null,null,"F","Outros (especificar)",null,0,null,"* Nota 3 - ART. 7º, § 2º, DA LEI Nº 605/49.Sendo mensalista o obreiro, o adicional noturno pago de forma fixa já é considerado integrado para os efeitos do pagamento do repouso semanal remunerado, nos termos do art. 7º, § 2º, da Lei nº 605/49."]
[]
[null,null,null,"TOTAL DA REMUNERAÇÃO",null,{"$f":"SUM(F9:F14)","v":0}]
[]
[null,"MÓDULO 2 - ENCARGOS E BENEFÍCIOS ANUAIS, MENSAIS E DIÁRIOS",null,null,"Percentuais","Valor"]
[null,"Submódulo 2.1 - 13º Salário, Férias e Adicional de Férias"]
[null,null,"A","13º Salário - Calculado no Módulo 7 - Destacado",0,{"$f":"ROUND(E20*F$16,2)","v":0}]
[null,null,"B","Férias e Adicional de Férias",{"$f":"'Encargos Sociais'!E25+'Encargos Sociais'!E31","v":0.1212},{"$f":"ROUND(E21*F$16,2)","v":0},null,"* Nota 1 - Provisiona-se, mensalmente, o proporcional a 1/12 dos valores referentes a gratificação natalina, férias e adicional de férias."]
[null,null,null,null,null,null,null,"* Nota 2 - O adicional de férias contido no Submódulo 2.1 corresponde a 1/3 da remuneração que, por sua vez, é dividida por 12 contome Nota 1."]
[null,"Submódulo 2.2 - Encargos Previdenciários (GPS), Fundo de Garantia por Tempo de Serviço (FGTS) e Outras Contribuições"]
[null,null,"A","INSS (art. 22, inciso I, Lei nº 8.212/91)",{"$f":"'Encargos Sociais'!E14","v":0.2},{"$f":"ROUND(E24*($F$16+$F$41+$F$73),2)","v":0}]
[null,null,"B","Salário Educação (art. 3º, inciso I, Decreto nº 87.043/82)",{"$f":"'Encargos Sociais'!E15","v":2.5000000000000001E-2},{"$f":"ROUND(E25*($F$16+$F$41+$F$73),2)","v":0}]
[null,null,"C","SAT/RAT (art. 22, II, Lei 8.212/91 e Anexo V, Decreto 6.042/07) - Enquadramento 8211-3/00",{"$f":"'Encargos Sociais'!E16","v":0.01},0]
[null,null,"D","SESC ou SESI (art. 30, Lei nº 8.036/90 e art. 1º, Lei 8.154/90)",{"$f":"'Encargos Sociais'!E17","v":1.4999999999999999E-2},0]
[null,null,"E","SENAI ou SENAC (Decreto nº 2.318/86)",{"$f":"'Encargos Sociais'!E18","v":0.01},0]
[null,null,"F","SEBRAE (§ 3º, art. 8º, Lei 8.029/90, alterada pela Lei nº 8.154/90)",{"$f":"'Encargos Sociais'!E19","v":6.0000000000000001E-3},0]
[null,null,"G","INCRA (art. 1º, I, Decreto Lei 1.146/70 e Lei 7.787, de 30/06/89)",{"$f":"'Encargos Sociais'!E20","v":2E-3},0,null,"* Nota 1 - Os percentuais dos encargos previdenciários, do FGTS e demais contribuições são estabelecidos por legislação vigente."]
[null,null,"H","FGTS (Lei Complementar nº 110/01 e art. 30, Lei nº 8.036/90)",{"$f":"'Encargos Sociais'!E21","v":0.08},0,null,"* Nota 2 - O SAT, a depender do grau de risco do serviço, irá variar entre 1%, para risco leve, de 2%, para risco médio, e de 3% para risco grave."]
[null,null,"I","SECONCI (Convenções Coletivas de Trabalho da construção)",{"$f":"'Encargos Sociais'!E22","v":0},0,null,"* Nota 3 - Os percentuais do Submódulo 2.2 incidem sobre o Módulo 1 e o Submódulo 2.1."]
[]
[null,"Submódulo 2.3 - Benefícios Mensais e Diários"]
[null,null,"A","Auxílio Transporte",null,{"$f":"HLOOKUP($B$5,'Dados Gerais'!$D$6:$BI$95,83)","v":0}]
[null,null,"B","Auxílio Alimentação",null,{"$f":"HLOOKUP($B$5,'Dados Gerais'!$D$6:$BI$95,90)","v":0}]
[null,null,"C","Assistência Médica e Familiar",null,{"$f":"HLOOKUP($B$5,'Dados Gerais'!$D$6:$BI$103,98)","v":0}]
[null,null,"D","Outros (Seguro de vida, auxílio funeral, auxílio odontológico e auxílio creche)",null,{"$f":"HLOOKUP($B$5,'Dados Gerais'!$D$6:$BI$132,127)","v":0},null,"* Nota 1 - O valor informado deverá ser o custo real do benefício (descontado o valor eventualmente pago pelo empregado)."]
[null,null,null,null,null,null,null,"* Nota 2 - Observar a previsão dos benefícios contidos em Acordos, Convenções e Dissídios Coletivos de Trabalho e o disposto no art. 6º da IN 5/2017"]
[null,null,null,"QUADRO-RESUMO DO MÓDULO 2"]
[null,null,null,"2.1 - 13º Salário, Férias e Adicional de Férias - 13º Destacado - Calculado no Módulo 7 ",{"$f":"SUM(E20:E21)","v":0.1212},{"$f":"F20+F21","v":0}]
[null,null,null,"2.2 - Encargos Previdenciários (GPS), Fundo de Garantia por Tempo de Serviço (FGTS) e Contribuições",{"$f":"SUM(E24:E32)","v":0.34800000000000003},{"$f":"SUM(F24:F32)","v":0}]
[null,null,null,"2.3 - Benefícios Mensais e Diários",null,{"$f":"SUM(F35:F38)","v":0}]
[]
[null,null,null,"TOTAL DOS ENCARGOS E BENEFÍCIOS",null,{"$f":"SUM(F41:F43)","v":0}]
[]
[null,"MÓDULO 3 - PREVISÃO PARA RESCISÃO",null,null,"Percentuais","Valor"]
[null,null,"A","Aviso Prévio Indenizado (Art. 7º, inciso XXI, da CF/1988 e arts. 477, 487, §1º, e 491 da CLT)",{"$f":"'Encargos Sociais'!E36","v":4.1999999999999997E-3},{"$f":"ROUND(E48*($F$16+$F$21),2)","v":0}]
[null,null,"B","Incidência do FGTS sobre o Aviso Prévio Indenizado (Súmula 305 TST)",{"$f":"'Encargos Sociais'!E37","v":2.9999999999999997E-4},0,null,"* Nota 1 - Adotou-se os parâmetros do estudo do STF (http://www.stf.jus.br/arquivo/cms/sobrestfestudosci/anexo/encargos_sociais_03102007.pdf), onde 5% do pessoal é demitido pelo empregador no decurso do contrato (para estes, considerou-se o aviso prévio indenizado). Desprezou-se as demissões por justa causa e os pedidos de demissão."]
[null,null,"C","Multa do FGTS (Art. 18, §1º, da Lei 8.036/1990)",{"$f":"'Encargos Sociais'!E38","v":1.9E-3},0,null,"* Nota 2 - No cálculo do percentual, considerou-se 36 dias, correspondendo à metade da duração média dos contratos (2 anos)"]
[null,null,"D","Aviso Prévio Trabalhado (Art. 488, parágrafo único, CLT)",{"$f":"'Encargos Sociais'!E39","v":7.7999999999999996E-3},0,null,"* Nota 3 - Incide sobre a Remuneração + 13º salário (1/12) + Férias (1/12) + Adicional de Férias (1/36) x 50% multa (40% para o empregado e 10% de contribuição social) x 8% FGTS"]
[null,null,"E","Incidência de GPS, FGTS e outras contribuições sobre o Aviso Prévio Trabalhado",{"$f":"'Encargos Sociais'!E40","v":2.7000000000000001E-3},0,null,"* Nota 4 - Os 95% restantes do cálculo, a um prazo médio de contrato de 4 anos. Assim, calcula-se 7 dias para o 1º ano de contrato e mais 3 dias para os 3 anos seguintes."]
[null,null,"F","Multa do FGTS",{"$f":"'Encargos Sociais'!E41","v":3.8199999999999998E-2},0]
[]
[null,null,null,"TOTAL DE PREVISÃO PARA RESCISÃO",null,{"$f":"SUM(F48:F53)","v":0}]
[]
[null,"MÓDULO 4 - CUSTO DO PROFISSIONAL AUSENTE",null,null,"Percentuais","Valor"]
[null,"Submódulo 4.1 - Ausências Legais"]
[null,null,"A","Férias (Arts. 129 e 130, inc. I, da CLT) - Calculado no Submódulo 2.1",0,{"$f":"ROUND(E59*$F$16,2)","v":0},null,"* Nota 1 - As alíneas “A” a “F” referem-se somente ao custo que será pago ao repositor pelos dias \ntrabalhados quando da necessidade de substituir a mão de obra alocada na prestação do serviço."]
[null,null,"B","Ausências Legais (Arts. 131 e 473 da CLT)",{"$f":"'Encargos Sociais'!E26","v":7.9000000000000008E-3},0,null,"* Nota 2 - Adotou-se a estimativa do SINAPI de 2 dias por ano."]
[null,null,"C","Licença-Paternidade (Art. 7º, XIX, e art. 10, §1º, do ADCT, CF/1988 e Art. 1º, II, da Lei 11.770/2008)",{"$f":"'Encargos Sociais'!E27","v":8.0000000000000004E-4},0,null,"* Nota 3 - Utilizada a proporção de 50% para homens, 5 dias de afastamento, e a probabilidade de um trabalhador requerer a Licença Paternidade em 5,22%, conforme SINAPI (citando dados da PNAD 2015)"]
[null,null,"D","Ausência por Acidente de Trabalho (Art. 131, III, da CLT)",{"$f":"'Encargos Sociais'!E28","v":8.9999999999999998E-4},0,null,"* Nota 4 - Utilzada a estatística de 1,96% dos contribuintes beneficiados com a emissão do auxílio, conforme Anuário Estatístico da Previdência Social. Afastamento de 15 dias a cargo da empresa."]
[null,null,"E","Afastamento Maternidade (Art. 71 da Lei nº 8.213/1991)",{"$f":"'Encargos Sociais'!E29","v":3.3E-3},0,null,"* Nota 5 - Utilizada a proporção de 50% para mulheres, 180 dias de afastamento, e a probabilidade de uma trabalhadora requerer a Licença Maternidade em 4,91%, conforme SINAPI (citando dados do IBGE 2016)"]
[null,null,"F","Auxílio Enfermidade - Doença (Art. 59 da Lei nº 8.213/1991)",{"$f":"'Encargos Sociais'!E30","v":7.1000000000000004E-3},0,null,"* Nota 6 - Utilizada a estatística de 3,37% dos contribuintes beneficiados com o auxílio, conforme Anuário Estatístico da Previdência Social de 2015 (acrescidos de 2 dias ao ano, para os quais o trabalhador nem requer o benefício da Previdência - conforme SINAPI)"]
[]
[null,"Submódulo 4.2 - Intrajornada"]
[null,null,"A","Intervalo para repouso ou alimentação",{"$f":"'Encargos Sociais'!E33","v":0},{"$f":"ROUND(E67*$F$16,2)","v":0}]
[]
[null,null,null,"QUADRO-RESUMO DO MÓDULO 4",null,"Valor"]
[null,null,null,"4.1 - Ausências Legais",{"$f":"SUM(E59:E64)","v":2.0000000000000004E-2},{"$f":"ROUND(E70*$F$16,2)","v":0}]
[null,null,null,"4.2 - Intrajornada",{"$f":"E67","v":0},{"$f":"ROUND(E71*$F$16,2)","v":0}]
[]
[null,null,null,"TOTAL DE PREVISÃO PARA RESCISÃO E INTERVALO INTRAJORNADA",null,{"$f":"SUM(F70:F71)","v":0}]
[]
[null,"MÓDULO 5 - INSUMOS DIVERSOS",null,null,null,"Valor"]
[null,null,"A","Uniformes - aquisição",null,{"$f":"ROUND(HLOOKUP($B$5,Uniformes!K4:DZ6,3)/12,2)","v":0}]
[null,null,"B","Materiais de consumo relacionados ao posto - aquisição",null,{"$f":"ROUND(HLOOKUP(B5,'Mat Cons'!I11:DX13,3)/12,2)","v":0}]
[null,null,"C","Ferramentas relacionadas ao posto - remuneração da depreciação / manutenção",null,{"$f":"HLOOKUP(B5,'Relacion - Ferram'!Q3:EF5,3)","v":0}]
[null,null,"D","Equipamentos relacionados ao posto - remuneração da depreciação / manutenção",null,{"$f":"HLOOKUP(B5,'Equip Rel'!Q3:EF5,3)","v":0}]
[null,null,"E","Equipamentos de Proteção Individual - EPI - aquisição",null,{"$f":"ROUND(HLOOKUP(B5,EPI!K4:AM6,3)/12,2)","v":0}]
[]
[null,null,null,"TOTAL DE INSUMOS DIVERSOS",null,{"$f":"SUM(F76:F81)","v":0},null,"* Nota - Valores mensais por empregado"]
[]
[null,"MÓDULO 6 - CUSTOS INDIRETOS, TRIBUTOS E LUCRO - BDI",null,null,"Percentuais","Valor"]
[null,null,"A","Custos Indiretos",{"$f":"'BDI - Geral'!E7","v":2.6000000000000002E-2}]
[null,null,"A.1","Administração Central",{"$f":"'BDI - Geral'!E8","v":2.06E-2}]
[null,null,"A.2","Seguros, Garantias e Riscos",{"$f":"'BDI - Geral'!E9","v":5.4000000000000003E-3}]
[null,null,"B","Lucro",{"$f":"'BDI - Geral'!E11","v":3.3399999999999999E-2}]
[null,null,"C","Tributos",{"$f":"SUM(E90:E91)","v":0.124}]
[null,null,"C.1","Tributos Federais (COFINS, PIS e CPRB)",{"$f":"'BDI - Geral'!E19","v":7.3999999999999996E-2}]
[null,null,"C.2","Tributos Distritais (ISS)",{"$f":"'BDI - Geral'!E24","v":0.05},null,null,"* Nota - Utilizou-se o indicado pelo Sindicato da Arquitetura e da Engenharia (Sinaenco, 2008, p. 22), que adota um percentual redutor de 20% no cálculo dos custos tributários relativos às contribuições PIS e COFINS"]
[null,null,"D","Despesas Financeiras",{"$f":"'BDI - Geral'!E14","v":5.0569567433733642E-3}]
[]
[null,null,null,"TOTAL DE BDI",{"$f":"'BDI - Geral'!E27","v":0.2165},{"$f":"E94*E102","v":0}]
[]
[null,null,null,"QUADRO-RESUMO DO CUSTO MENSAL POR EMPREGADO - SEM O 13º","Valor"]
[null,null,null,"Módulo 1 - Composição da Remuneração",{"$f":"F16","v":0}]
[null,null,null,"Módulo 2 - Encargos e Benefícios Anuais, Mensais e Diários",{"$f":"F45","v":0}]
[null,null,null,"Módulo 3 - Provisão para Rescisão",{"$f":"F55","v":0}]
[null,null,null,"Módulo 4 - Custo de Reposição do Profissional Ausente",{"$f":"F73","v":0}]
[null,null,null,"Módulo 5 - Insumos Diversos",{"$f":"F82","v":0}]
[null,null,null,"SUBTOTAL (A+B+C+D+E)",{"$f":"SUM(E97:E101)","v":0}]
[null,null,null,"Módulo 6 - Custos Indiretos, Tributos e Lucro",{"$f":"F94","v":0}]
[]
[null,null,null,"TOTAL DO POSTO",{"$f":"SUM(E102:E103)","v":0}]
[]
[null,"MÓDULO 7 - DESTAQUE DO MÓDULO 2 - 13º SALÁRIO",null,null,"Percentuais","Valor"]
[null,null,"A","13º Salário",{"$f":"'Encargos Sociais'!E32","v":8.3299999999999999E-2},{"$f":"ROUND(E108*F$16,2)","v":0}]
[null,null,"B","Encargos Sociais sobre o 13º Salário - Taxa calculada no MÓDULO 2",{"$f":"SUM($E$20:$E$32)","v":0.46920000000000012},{"$f":"ROUND(E109*$F$108,2)","v":0},null,"* Nota 1 - Provisiona-se, mensalmente, o proporcional a 1/12 dos valores referentes a gratificação natalina e adicional de férias."]
[null,null,"C","BDI sobre o 13º Salário - Taxa calculada no MÓDULO 6",{"$f":"E94","v":0.2165},{"$f":"ROUND(E110*($F$108+$F$109),2)","v":0}]
[]
[null,null,null,"TOTAL DO DESTAQUE DO 13º SALÁRIO",null,{"$f":"SUM(F108:F110)","v":0}]
[]
[null,null,null,"QUADRO-RESUMO DO CUSTO MENSAL POR EMPREGADO","Valor"]
[null,null,null,"Custo total - sem o 13º Salário",{"$f":"E105","v":0}]
[null,null,null,"Destaque do 13º Salário (valor mensal)",{"$f":"F112","v":0}]
[]
[null,null,null,"TOTAL DO POSTO",{"$f":"E115+E116","v":0}]

{"sheet":"13","index":35,"n_rows":118,"n_cols":8,"rows_kept":118,"cut":false,"hidden":true,"merged":[[17,1,17,3],[106,1,106,3],[39,3,39,5],[46,1,46,3],[56,1,56,3],[68,3,68,5],[74,1,74,3],[83,1,83,3],[1,1,1,5],[2,1,2,5],[4,1,4,2],[5,1,5,2],[7,1,7,3]]}
[]
[null,"PLANILHA DE ESTIMATIVA DE CUSTOS"]
[null,"Padrão IN 05/2017 e IN 07/2018 - MPDG"]
[]
[null,13,null,{"$f":"HLOOKUP($B$5,'Dados Gerais'!$D$6:$BI$22,6)","v":0},"QUANTIDADE",{"$f":"HLOOKUP($B$5,'Dados Gerais'!$D$6:$BI$22,10)","v":0}]
[null,"CCT",null,{"$f":"HLOOKUP($B$5,'Dados Gerais'!$D$6:$BI$22,16)","v":0},"DATA-BASE",{"$f":"HLOOKUP($B$5,'Dados Gerais'!$D$6:$BI$22,17)","v":"00:00:00"}]
[]
[null,"MÓDULO 1 - COMPOSIÇÃO DA REMUNERAÇÃO",null,null,null,"Valor"]
[null,null,"A","Salário-Base",null,{"$f":"HLOOKUP($B$5,'Dados Gerais'!$D$6:$BI$22,8)","v":0}]
[null,null,"B","Adicional de Periculosidade",null,{"$f":"HLOOKUP($B$5,'Dados Gerais'!$D$6:$BI$39,26)","v":0}]
[null,null,"C","Adicional de Insalubridade",null,{"$f":"HLOOKUP($B$5,'Dados Gerais'!$D$6:$BI$39,32)","v":0}]
[null,null,"D","Adicional Noturno",null,{"$f":"HLOOKUP($B$5,'Dados Gerais'!$D$6:$BI$52,47)","v":0},null,"* Nota 1 - O Módulo 1 refere-se ao valor mensal devido ao empregado pela prestação do serviço no período de 12 meses."]
[null,null,"E","Adicional de Hora Extra",null,{"$f":"HLOOKUP($B$5,'Dados Gerais'!$D$6:$BI$69,64)","v":0},null,"* Nota 2 - O adicional de hora extra no feriado trabalhado foi suprimido pela Lei 13.467/17"]
[null,null,"F","Outros (especificar)",null,0,null,"* Nota 3 - ART. 7º, § 2º, DA LEI Nº 605/49.Sendo mensalista o obreiro, o adicional noturno pago de forma fixa já é considerado integrado para os efeitos do pagamento do repouso semanal remunerado, nos termos do art. 7º, § 2º, da Lei nº 605/49."]
[]
[null,null,null,"TOTAL DA REMUNERAÇÃO",null,{"$f":"SUM(F9:F14)","v":0}]
[]
[null,"MÓDULO 2 - ENCARGOS E BENEFÍCIOS ANUAIS, MENSAIS E DIÁRIOS",null,null,"Percentuais","Valor"]
[null,"Submódulo 2.1 - 13º Salário, Férias e Adicional de Férias"]
[null,null,"A","13º Salário - Calculado no Módulo 7 - Destacado",0,{"$f":"ROUND(E20*F$16,2)","v":0}]
[null,null,"B","Férias e Adicional de Férias",{"$f":"'Encargos Sociais'!E25+'Encargos Sociais'!E31","v":0.1212},{"$f":"ROUND(E21*F$16,2)","v":0},null,"* Nota 1 - Provisiona-se, mensalmente, o proporcional a 1/12 dos valores referentes a gratificação natalina, férias e adicional de férias."]
[null,null,null,null,null,null,null,"* Nota 2 - O adicional de férias contido no Submódulo 2.1 corresponde a 1/3 da remuneração que, por sua vez, é dividida por 12 contome Nota 1."]
[null,"Submódulo 2.2 - Encargos Previdenciários (GPS), Fundo de Garantia por Tempo de Serviço (FGTS) e Outras Contribuições"]
[null,null,"A","INSS (art. 22, inciso I, Lei nº 8.212/91)",{"$f":"'Encargos Sociais'!E14","v":0.2},{"$f":"ROUND(E24*($F$16+$F$41+$F$73),2)","v":0}]
[null,null,"B","Salário Educação (art. 3º, inciso I, Decreto nº 87.043/82)",{"$f":"'Encargos Sociais'!E15","v":2.5000000000000001E-2},{"$f":"ROUND(E25*($F$16+$F$41+$F$73),2)","v":0}]
[null,null,"C","SAT/RAT (art. 22, II, Lei 8.212/91 e Anexo V, Decreto 6.042/07) - Enquadramento 8211-3/00",{"$f":"'Encargos Sociais'!E16","v":0.01},0]
[null,null,"D","SESC ou SESI (art. 30, Lei nº 8.036/90 e art. 1º, Lei 8.154/90)",{"$f":"'Encargos Sociais'!E17","v":1.4999999999999999E-2},0]
[null,null,"E","SENAI ou SENAC (Decreto nº 2.318/86)",{"$f":"'Encargos Sociais'!E18","v":0.01},0]
[null,null,"F","SEBRAE (§ 3º, art. 8º, Lei 8.029/90, alterada pela Lei nº 8.154/90)",{"$f":"'Encargos Sociais'!E19","v":6.0000000000000001E-3},0]
[null,null,"G","INCRA (art. 1º, I, Decreto Lei 1.146/70 e Lei 7.787, de 30/06/89)",{"$f":"'Encargos Sociais'!E20","v":2E-3},0,null,"* Nota 1 - Os percentuais dos encargos previdenciários, do FGTS e demais contribuições são estabelecidos por legislação vigente."]
[null,null,"H","FGTS (Lei Complementar nº 110/01 e art. 30, Lei nº 8.036/90)",{"$f":"'Encargos Sociais'!E21","v":0.08},0,null,"* Nota 2 - O SAT, a depender do grau de risco do serviço, irá variar entre 1%, para risco leve, de 2%, para risco médio, e de 3% para risco grave."]
[null,null,"I","SECONCI (Convenções Coletivas de Trabalho da construção)",{"$f":"'Encargos Sociais'!E22","v":0},0,null,"* Nota 3 - Os percentuais do Submódulo 2.2 incidem sobre o Módulo 1 e o Submódulo 2.1."]
[]
[null,"Submódulo 2.3 - Benefícios Mensais e Diários"]
[null,null,"A","Auxílio Transporte",null,{"$f":"HLOOKUP($B$5,'Dados Gerais'!$D$6:$BI$95,83)","v":0}]
[null,null,"B","Auxílio Alimentação",null,{"$f":"HLOOKUP($B$5,'Dados Gerais'!$D$6:$BI$95,90)","v":0}]
[null,null,"C","Assistência Médica e Familiar",null,{"$f":"HLOOKUP($B$5,'Dados Gerais'!$D$6:$BI$103,98)","v":0}]
[null,null,"D","Outros (Seguro de vida, auxílio funeral, auxílio odontológico e auxílio creche)",null,{"$f":"HLOOKUP($B$5,'Dados Gerais'!$D$6:$BI$121,115)","v":0},null,"* Nota 1 - O valor informado deverá ser o custo real do benefício (descontado o valor eventualmente pago pelo empregado)."]
[null,null,null,null,null,null,null,"* Nota 2 - Observar a previsão dos benefícios contidos em Acordos, Convenções e Dissídios Coletivos de Trabalho e o disposto no art. 6º da IN 5/2017"]
[null,null,null,"QUADRO-RESUMO DO MÓDULO 2"]
[null,null,null,"2.1 - 13º Salário, Férias e Adicional de Férias - 13º Destacado - Calculado no Módulo 7 ",{"$f":"SUM(E20:E21)","v":0.1212},{"$f":"F20+F21","v":0}]
[null,null,null,"2.2 - Encargos Previdenciários (GPS), Fundo de Garantia por Tempo de Serviço (FGTS) e Contribuições",{"$f":"SUM(E24:E32)","v":0.34800000000000003},{"$f":"SUM(F24:F32)","v":0}]
[null,null,null,"2.3 - Benefícios Mensais e Diários",null,{"$f":"SUM(F35:F38)","v":0}]
[]
[null,null,null,"TOTAL DOS ENCARGOS E BENEFÍCIOS",null,{"$f":"SUM(F41:F43)","v":0}]
[]
[null,"MÓDULO 3 - PREVISÃO PARA RESCISÃO",null,null,"Percentuais","Valor"]
[null,null,"A","Aviso Prévio Indenizado (Art. 7º, inciso XXI, da CF/1988 e arts. 477, 487, §1º, e 491 da CLT)",{"$f":"'Encargos Sociais'!E36","v":4.1999999999999997E-3},{"$f":"ROUND(E48*($F$16+$F$21),2)","v":0}]
[null,null,"B","Incidência do FGTS sobre o Aviso Prévio Indenizado (Súmula 305 TST)",{"$f":"'Encargos Sociais'!E37","v":2.9999999999999997E-4},0,null,"* Nota 1 - Adotou-se os parâmetros do estudo do STF (http://www.stf.jus.br/arquivo/cms/sobrestfestudosci/anexo/encargos_sociais_03102007.pdf), onde 5% do pessoal é demitido pelo empregador no decurso do contrato (para estes, considerou-se o aviso prévio indenizado). Desprezou-se as demissões por justa causa e os pedidos de demissão."]
[null,null,"C","Multa do FGTS (Art. 18, §1º, da Lei 8.036/1990)",{"$f":"'Encargos Sociais'!E38","v":1.9E-3},0,null,"* Nota 2 - No cálculo do percentual, considerou-se 36 dias, correspondendo à metade da duração média dos contratos (2 anos)"]
[null,null,"D","Aviso Prévio Trabalhado (Art. 488, parágrafo único, CLT)",{"$f":"'Encargos Sociais'!E39","v":7.7999999999999996E-3},0,null,"* Nota 3 - Incide sobre a Remuneração + 13º salário (1/12) + Férias (1/12) + Adicional de Férias (1/36) x 50% multa (40% para o empregado e 10% de contribuição social) x 8% FGTS"]
[null,null,"E","Incidência de GPS, FGTS e outras contribuições sobre o Aviso Prévio Trabalhado",{"$f":"'Encargos Sociais'!E40","v":2.7000000000000001E-3},0,null,"* Nota 4 - Os 95% restantes do cálculo, a um prazo médio de contrato de 4 anos. Assim, calcula-se 7 dias para o 1º ano de contrato e mais 3 dias para os 3 anos seguintes."]
[null,null,"F","Multa do FGTS",{"$f":"'Encargos Sociais'!E41","v":3.8199999999999998E-2},0]
[]
[null,null,null,"TOTAL DE PREVISÃO PARA RESCISÃO",null,{"$f":"SUM(F48:F53)","v":0}]
[]
[null,"MÓDULO 4 - CUSTO DO PROFISSIONAL AUSENTE",null,null,"Percentuais","Valor"]
[null,"Submódulo 4.1 - Ausências Legais"]
[null,null,"A","Férias (Arts. 129 e 130, inc. I, da CLT) - Calculado no Submódulo 2.1",0,{"$f":"ROUND(E59*$F$16,2)","v":0},null,"* Nota 1 - As alíneas “A” a “F” referem-se somente ao custo que será pago ao repositor pelos dias \ntrabalhados quando da necessidade de substituir a mão de obra alocada na prestação do serviço."]
[null,null,"B","Ausências Legais (Arts. 131 e 473 da CLT)",{"$f":"'Encargos Sociais'!E26","v":7.9000000000000008E-3},0,null,"* Nota 2 - Adotou-se a estimativa do SINAPI de 2 dias por ano."]
[null,null,"C","Licença-Paternidade (Art. 7º, XIX, e art. 10, §1º, do ADCT, CF/1988 e Art. 1º, II, da Lei 11.770/2008)",{"$f":"'Encargos Sociais'!E27","v":8.0000000000000004E-4},0,null,"* Nota 3 - Utilizada a proporção de 50% para homens, 5 dias de afastamento, e a probabilidade de um trabalhador requerer a Licença Paternidade em 5,22%, conforme SINAPI (citando dados da PNAD 2015)"]
[null,null,"D","Ausência por Acidente de Trabalho (Art. 131, III, da CLT)",{"$f":"'Encargos Sociais'!E28","v":8.9999999999999998E-4},0,null,"* Nota 4 - Utilzada a estatística de 1,96% dos contribuintes beneficiados com a emissão do auxílio, conforme Anuário Estatístico da Previdência Social. Afastamento de 15 dias a cargo da empresa."]
[null,null,"E","Afastamento Maternidade (Art. 71 da Lei nº 8.213/1991)",{"$f":"'Encargos Sociais'!E29","v":3.3E-3},0,null,"* Nota 5 - Utilizada a proporção de 50% para mulheres, 180 dias de afastamento, e a probabilidade de uma trabalhadora requerer a Licença Maternidade em 4,91%, conforme SINAPI (citando dados do IBGE 2016)"]
[null,null,"F","Auxílio Enfermidade - Doença (Art. 59 da Lei nº 8.213/1991)",{"$f":"'Encargos Sociais'!E30","v":7.1000000000000004E-3},0,null,"* Nota 6 - Utilizada a estatística de 3,37% dos contribuintes beneficiados com o auxílio, conforme Anuário Estatístico da Previdência Social de 2015 (acrescidos de 2 dias ao ano, para os quais o trabalhador nem requer o benefício da Previdência - conforme SINAPI)"]
[]
[null,"Submódulo 4.2 - Intrajornada"]
[null,null,"A","Intervalo para repouso ou alimentação",{"$f":"'Encargos Sociais'!E33","v":0},{"$f":"ROUND(E67*$F$16,2)","v":0}]
[]
[null,null,null,"QUADRO-RESUMO DO MÓDULO 4",null,"Valor"]
[null,null,null,"4.1 - Ausências Legais",{"$f":"SUM(E59:E64)","v":2.0000000000000004E-2},{"$f":"ROUND(E70*$F$16,2)","v":0}]
[null,null,null,"4.2 - Intrajornada",{"$f":"E67","v":0},{"$f":"ROUND(E71*$F$16,2)","v":0}]
[]
[null,null,null,"TOTAL DE PREVISÃO PARA RESCISÃO E INTERVALO INTRAJORNADA",null,{"$f":"SUM(F70:F71)","v":0}]
[]
[null,"MÓDULO 5 - INSUMOS DIVERSOS",null,null,null,"Valor"]
[null,null,"A","Uniformes - aquisição",null,{"$f":"ROUND(HLOOKUP($B$5,Uniformes!K4:DZ6,3)/12,2)","v":0}]
[null,null,"B","Materiais de consumo relacionados ao posto - aquisição",null,{"$f":"ROUND(HLOOKUP(B5,'Mat Cons'!I11:DX13,3)/12,2)","v":0}]
[null,null,"C","Ferramentas relacionadas ao posto - remuneração da depreciação / manutenção",null,{"$f":"HLOOKUP(B5,'Relacion - Ferram'!Q3:EF5,3)","v":0}]
[null,null,"D","Equipamentos relacionados ao posto - remuneração da depreciação / manutenção",null,{"$f":"HLOOKUP(B5,'Equip Rel'!Q3:EF5,3)","v":0}]
[null,null,"E","Equipamentos de Proteção Individual - EPI - aquisição",null,{"$f":"ROUND(HLOOKUP(B5,EPI!K4:AM6,3)/12,2)","v":0}]
[]
[null,null,null,"TOTAL DE INSUMOS DIVERSOS",null,{"$f":"SUM(F76:F81)","v":0},null,"* Nota - Valores mensais por empregado"]
[]
[null,"MÓDULO 6 - CUSTOS INDIRETOS, TRIBUTOS E LUCRO - BDI",null,null,"Percentuais","Valor"]
[null,null,"A","Custos Indiretos",{"$f":"'BDI - Geral'!E7","v":2.6000000000000002E-2}]
[null,null,"A.1","Administração Central",{"$f":"'BDI - Geral'!E8","v":2.06E-2}]
[null,null,"A.2","Seguros, Garantias e Riscos",{"$f":"'BDI - Geral'!E9","v":5.4000000000000003E-3}]
[null,null,"B","Lucro",{"$f":"'BDI - Geral'!E11","v":3.3399999999999999E-2}]
[null,null,"C","Tributos",{"$f":"SUM(E90:E91)","v":0.124}]
[null,null,"C.1","Tributos Federais (COFINS, PIS e CPRB)",{"$f":"'BDI - Geral'!E19","v":7.3999999999999996E-2}]
[null,null,"C.2","Tributos Distritais (ISS)",{"$f":"'BDI - Geral'!E24","v":0.05},null,null,"* Nota - Utilizou-se o indicado pelo Sindicato da Arquitetura e da Engenharia (Sinaenco, 2008, p. 22), que adota um percentual redutor de 20% no cálculo dos custos tributários relativos às contribuições PIS e COFINS"]
[null,null,"D","Despesas Financeiras",{"$f":"'BDI - Geral'!E14","v":5.0569567433733642E-3}]
[]
[null,null,null,"TOTAL DE BDI",{"$f":"'BDI - Geral'!E27","v":0.2165},{"$f":"E94*E102","v":0}]
[]
[null,null,null,"QUADRO-RESUMO DO CUSTO MENSAL POR EMPREGADO - SEM O 13º","Valor"]
[null,null,null,"Módulo 1 - Composição da Remuneração",{"$f":"F16","v":0}]
[null,null,null,"Módulo 2 - Encargos e Benefícios Anuais, Mensais e Diários",{"$f":"F45","v":0}]
[null,null,null,"Módulo 3 - Provisão para Rescisão",{"$f":"F55","v":0}]
[null,null,null,"Módulo 4 - Custo de Reposição do Profissional Ausente",{"$f":"F73","v":0}]
[null,null,null,"Módulo 5 - Insumos Diversos",{"$f":"F82","v":0}]
[null,null,null,"SUBTOTAL (A+B+C+D+E)",{"$f":"SUM(E97:E101)","v":0}]
[null,null,null,"Módulo 6 - Custos Indiretos, Tributos e Lucro",{"$f":"F94","v":0}]
[]
[null,null,null,"TOTAL DO POSTO",{"$f":"SUM(E102:E103)","v":0}]
[]
[null,"MÓDULO 7 - DESTAQUE DO MÓDULO 2 - 13º SALÁRIO",null,null,"Percentuais","Valor"]
[null,null,"A","13º Salário",{"$f":"'Encargos Sociais'!E32","v":8.3299999999999999E-2},{"$f":"ROUND(E108*F$16,2)","v":0}]
[null,null,"B","Encargos Sociais sobre o 13º Salário - Taxa calculada no MÓDULO 2",{"$f":"SUM($E$20:$E$32)","v":0.46920000000000012},{"$f":"ROUND(E109*$F$108,2)","v":0},null,"* Nota 1 - Provisiona-se, mensalmente, o proporcional a 1/12 dos valores referentes a gratificação natalina e adicional de férias."]
[null,null,"C","BDI sobre o 13º Salário - Taxa calculada no MÓDULO 6",{"$f":"E94","v":0.2165},{"$f":"ROUND(E110*($F$108+$F$109),2)","v":0}]
[]
[null,null,null,"TOTAL DO DESTAQUE DO 13º SALÁRIO",null,{"$f":"SUM(F108:F110)","v":0}]
[]
[null,null,null,"QUADRO-RESUMO DO CUSTO MENSAL POR EMPREGADO","Valor"]
[null,null,null,"Custo total - sem o 13º Salário",{"$f":"E105","v":0}]
[null,null,null,"Destaque do 13º Salário (valor mensal)",{"$f":"F112","v":0}]
[]
[null,null,null,"TOTAL DO POSTO",{"$f":"E115+E116","v":0}]

{"sheet":"14","index":36,"n_rows":118,"n_cols":8,"rows_kept":118,"cut":false,"hidden":true,"merged":[[17,1,17,3],[106,1,106,3],[39,3,39,5],[46,1,46,3],[56,1,56,3],[68,3,68,5],[74,1,74,3],[83,1,83,3],[1,1,1,5],[2,1,2,5],[4,1,4,2],[5,1,5,2],[7,1,7,3]]}
[]
[null,"PLANILHA DE ESTIMATIVA DE CUSTOS"]
[null,"Padrão IN 05/2017 e IN 07/2018 - MPDG"]
[]
[null,14,null,{"$f":"HLOOKUP($B$5,'Dados Gerais'!$D$6:$BI$22,6)","v":0},"QUANTIDADE",{"$f":"HLOOKUP($B$5,'Dados Gerais'!$D$6:$BI$22,10)","v":0}]
[null,"CCT",null,{"$f":"HLOOKUP($B$5,'Dados Gerais'!$D$6:$BI$22,16)","v":0},"DATA-BASE",{"$f":"HLOOKUP($B$5,'Dados Gerais'!$D$6:$BI$22,17)","v":"00:00:00"}]
[]
[null,"MÓDULO 1 - COMPOSIÇÃO DA REMUNERAÇÃO",null,null,null,"Valor"]
[null,null,"A","Salário-Base",null,{"$f":"HLOOKUP($B$5,'Dados Gerais'!$D$6:$BI$22,8)","v":0}]
[null,null,"B","Adicional de Periculosidade",null,{"$f":"HLOOKUP($B$5,'Dados Gerais'!$D$6:$BI$39,26)","v":0}]
[null,null,"C","Adicional de Insalubridade",null,{"$f":"HLOOKUP($B$5,'Dados Gerais'!$D$6:$BI$39,32)","v":0}]
[null,null,"D","Adicional Noturno",null,{"$f":"HLOOKUP($B$5,'Dados Gerais'!$D$6:$BI$52,47)","v":0},null,"* Nota 1 - O Módulo 1 refere-se ao valor mensal devido ao empregado pela prestação do serviço no período de 12 meses."]
[null,null,"E","Adicional de Hora Extra",null,{"$f":"HLOOKUP($B$5,'Dados Gerais'!$D$6:$BI$69,64)","v":0},null,"* Nota 2 - O adicional de hora extra no feriado trabalhado foi suprimido pela Lei 13.467/17"]
[null,null,"F","Outros (especificar)",null,0,null,"* Nota 3 - ART. 7º, § 2º, DA LEI Nº 605/49.Sendo mensalista o obreiro, o adicional noturno pago de forma fixa já é considerado integrado para os efeitos do pagamento do repouso semanal remunerado, nos termos do art. 7º, § 2º, da Lei nº 605/49."]
[]
[null,null,null,"TOTAL DA REMUNERAÇÃO",null,{"$f":"SUM(F9:F14)","v":0}]
[]
[null,"MÓDULO 2 - ENCARGOS E BENEFÍCIOS ANUAIS, MENSAIS E DIÁRIOS",null,null,"Percentuais","Valor"]
[null,"Submódulo 2.1 - 13º Salário, Férias e Adicional de Férias"]
[null,null,"A","13º Salário - Calculado no Módulo 7 - Destacado",0,{"$f":"ROUND(E20*F$16,2)","v":0}]
[null,null,"B","Férias e Adicional de Férias",{"$f":"'Encargos Sociais'!E25+'Encargos Sociais'!E31","v":0.1212},{"$f":"ROUND(E21*F$16,2)","v":0},null,"* Nota 1 - Provisiona-se, mensalmente, o proporcional a 1/12 dos valores referentes a gratificação natalina, férias e adicional de férias."]
[null,null,null,null,null,null,null,"* Nota 2 - O adicional de férias contido no Submódulo 2.1 corresponde a 1/3 da remuneração que, por sua vez, é dividida por 12 contome Nota 1."]
[null,"Submódulo 2.2 - Encargos Previdenciários (GPS), Fundo de Garantia por Tempo de Serviço (FGTS) e Outras Contribuições"]
[null,null,"A","INSS (art. 22, inciso I, Lei nº 8.212/91)",{"$f":"'Encargos Sociais'!E14","v":0.2},{"$f":"ROUND(E24*($F$16+$F$41+$F$73),2)","v":0}]
[null,null,"B","Salário Educação (art. 3º, inciso I, Decreto nº 87.043/82)",{"$f":"'Encargos Sociais'!E15","v":2.5000000000000001E-2},{"$f":"ROUND(E25*($F$16+$F$41+$F$73),2)","v":0}]
[null,null,"C","SAT/RAT (art. 22, II, Lei 8.212/91 e Anexo V, Decreto 6.042/07) - Enquadramento 8211-3/00",{"$f":"'Encargos Sociais'!E16","v":0.01},0]
[null,null,"D","SESC ou SESI (art. 30, Lei nº 8.036/90 e art. 1º, Lei 8.154/90)",{"$f":"'Encargos Sociais'!E17","v":1.4999999999999999E-2},0]
[null,null,"E","SENAI ou SENAC (Decreto nº 2.318/86)",{"$f":"'Encargos Sociais'!E18","v":0.01},0]
[null,null,"F","SEBRAE (§ 3º, art. 8º, Lei 8.029/90, alterada pela Lei nº 8.154/90)",{"$f":"'Encargos Sociais'!E19","v":6.0000000000000001E-3},0]
[null,null,"G","INCRA (art. 1º, I, Decreto Lei 1.146/70 e Lei 7.787, de 30/06/89)",{"$f":"'Encargos Sociais'!E20","v":2E-3},0,null,"* Nota 1 - Os percentuais dos encargos previdenciários, do FGTS e demais contribuições são estabelecidos por legislação vigente."]
[null,null,"H","FGTS (Lei Complementar nº 110/01 e art. 30, Lei nº 8.036/90)",{"$f":"'Encargos Sociais'!E21","v":0.08},0,null,"* Nota 2 - O SAT, a depender do grau de risco do serviço, irá variar entre 1%, para risco leve, de 2%, para risco médio, e de 3% para risco grave."]
[null,null,"I","SECONCI (Convenções Coletivas de Trabalho da construção)",{"$f":"'Encargos Sociais'!E22","v":0},0,null,"* Nota 3 - Os percentuais do Submódulo 2.2 incidem sobre o Módulo 1 e o Submódulo 2.1."]
[]
[null,"Submódulo 2.3 - Benefícios Mensais e Diários"]
[null,null,"A","Auxílio Transporte",null,{"$f":"HLOOKUP($B$5,'Dados Gerais'!$D$6:$BI$95,83)","v":0}]
[null,null,"B","Auxílio Alimentação",null,{"$f":"HLOOKUP($B$5,'Dados Gerais'!$D$6:$BI$95,90)","v":0}]
[null,null,"C","Assistência Médica e Familiar",null,{"$f":"HLOOKUP($B$5,'Dados Gerais'!$D$6:$BI$103,98)","v":0}]
[null,null,"D","Outros (Seguro de vida, auxílio funeral, auxílio odontológico e auxílio creche)",null,{"$f":"HLOOKUP($B$5,'Dados Gerais'!$D$6:$BI$121,115)","v":0},null,"* Nota 1 - O valor informado deverá ser o custo real do benefício (descontado o valor eventualmente pago pelo empregado)."]
[null,null,null,null,null,null,null,"* Nota 2 - Observar a previsão dos benefícios contidos em Acordos, Convenções e Dissídios Coletivos de Trabalho e o disposto no art. 6º da IN 5/2017"]
[null,null,null,"QUADRO-RESUMO DO MÓDULO 2"]
[null,null,null,"2.1 - 13º Salário, Férias e Adicional de Férias - 13º Destacado - Calculado no Módulo 7 ",{"$f":"SUM(E20:E21)","v":0.1212},{"$f":"F20+F21","v":0}]
[null,null,null,"2.2 - Encargos Previdenciários (GPS), Fundo de Garantia por Tempo de Serviço (FGTS) e Contribuições",{"$f":"SUM(E24:E32)","v":0.34800000000000003},{"$f":"SUM(F24:F32)","v":0}]
[null,null,null,"2.3 - Benefícios Mensais e Diários",null,{"$f":"SUM(F35:F38)","v":0}]
[]
[null,null,null,"TOTAL DOS ENCARGOS E BENEFÍCIOS",null,{"$f":"SUM(F41:F43)","v":0}]
[]
[null,"MÓDULO 3 - PREVISÃO PARA RESCISÃO",null,null,"Percentuais","Valor"]
[null,null,"A","Aviso Prévio Indenizado (Art. 7º, inciso XXI, da CF/1988 e arts. 477, 487, §1º, e 491 da CLT)",{"$f":"'Encargos Sociais'!E36","v":4.1999999999999997E-3},{"$f":"ROUND(E48*($F$16+$F$21),2)","v":0}]
[null,null,"B","Incidência do FGTS sobre o Aviso Prévio Indenizado (Súmula 305 TST)",{"$f":"'Encargos Sociais'!E37","v":2.9999999999999997E-4},0,null,"* Nota 1 - Adotou-se os parâmetros do estudo do STF (http://www.stf.jus.br/arquivo/cms/sobrestfestudosci/anexo/encargos_sociais_03102007.pdf), onde 5% do pessoal é demitido pelo empregador no decurso do contrato (para estes, considerou-se o aviso prévio indenizado). Desprezou-se as demissões por justa causa e os pedidos de demissão."]
[null,null,"C","Multa do FGTS (Art. 18, §1º, da Lei 8.036/1990)",{"$f":"'Encargos Sociais'!E38","v":1.9E-3},0,null,"* Nota 2 - No cálculo do percentual, considerou-se 36 dias, correspondendo à metade da duração média dos contratos (2 anos)"]
[null,null,"D","Aviso Prévio Trabalhado (Art. 488, parágrafo único, CLT)",{"$f":"'Encargos Sociais'!E39","v":7.7999999999999996E-3},0,null,"* Nota 3 - Incide sobre a Remuneração + 13º salário (1/12) + Férias (1/12) + Adicional de Férias (1/36) x 50% multa (40% para o empregado e 10% de contribuição social) x 8% FGTS"]
[null,null,"E","Incidência de GPS, FGTS e outras contribuições sobre o Aviso Prévio Trabalhado",{"$f":"'Encargos Sociais'!E40","v":2.7000000000000001E-3},0,null,"* Nota 4 - Os 95% restantes do cálculo, a um prazo médio de contrato de 4 anos. Assim, calcula-se 7 dias para o 1º ano de contrato e mais 3 dias para os 3 anos seguintes."]
[null,null,"F","Multa do FGTS",{"$f":"'Encargos Sociais'!E41","v":3.8199999999999998E-2},0]
[]
[null,null,null,"TOTAL DE PREVISÃO PARA RESCISÃO",null,{"$f":"SUM(F48:F53)","v":0}]
[]
[null,"MÓDULO 4 - CUSTO DO PROFISSIONAL AUSENTE",null,null,"Percentuais","Valor"]
[null,"Submódulo 4.1 - Ausências Legais"]
[null,null,"A","Férias (Arts. 129 e 130, inc. I, da CLT) - Calculado no Submódulo 2.1",0,{"$f":"ROUND(E59*$F$16,2)","v":0},null,"* Nota 1 - As alíneas “A” a “F” referem-se somente ao custo que será pago ao repositor pelos dias \ntrabalhados quando da necessidade de substituir a mão de obra alocada na prestação do serviço."]
[null,null,"B","Ausências Legais (Arts. 131 e 473 da CLT)",{"$f":"'Encargos Sociais'!E26","v":7.9000000000000008E-3},0,null,"* Nota 2 - Adotou-se a estimativa do SINAPI de 2 dias por ano."]
[null,null,"C","Licença-Paternidade (Art. 7º, XIX, e art. 10, §1º, do ADCT, CF/1988 e Art. 1º, II, da Lei 11.770/2008)",{"$f":"'Encargos Sociais'!E27","v":8.0000000000000004E-4},0,null,"* Nota 3 - Utilizada a proporção de 50% para homens, 5 dias de afastamento, e a probabilidade de um trabalhador requerer a Licença Paternidade em 5,22%, conforme SINAPI (citando dados da PNAD 2015)"]
[null,null,"D","Ausência por Acidente de Trabalho (Art. 131, III, da CLT)",{"$f":"'Encargos Sociais'!E28","v":8.9999999999999998E-4},0,null,"* Nota 4 - Utilzada a estatística de 1,96% dos contribuintes beneficiados com a emissão do auxílio, conforme Anuário Estatístico da Previdência Social. Afastamento de 15 dias a cargo da empresa."]
[null,null,"E","Afastamento Maternidade (Art. 71 da Lei nº 8.213/1991)",{"$f":"'Encargos Sociais'!E29","v":3.3E-3},0,null,"* Nota 5 - Utilizada a proporção de 50% para mulheres, 180 dias de afastamento, e a probabilidade de uma trabalhadora requerer a Licença Maternidade em 4,91%, conforme SINAPI (citando dados do IBGE 2016)"]
[null,null,"F","Auxílio Enfermidade - Doença (Art. 59 da Lei nº 8.213/1991)",{"$f":"'Encargos Sociais'!E30","v":7.1000000000000004E-3},0,null,"* Nota 6 - Utilizada a estatística de 3,37% dos contribuintes beneficiados com o auxílio, conforme Anuário Estatístico da Previdência Social de 2015 (acrescidos de 2 dias ao ano, para os quais o trabalhador nem requer o benefício da Previdência - conforme SINAPI)"]
[]
[null,"Submódulo 4.2 - Intrajornada"]
[null,null,"A","Intervalo para repouso ou alimentação",{"$f":"'Encargos Sociais'!E33","v":0},{"$f":"ROUND(E67*$F$16,2)","v":0}]
[]
[null,null,null,"QUADRO-RESUMO DO MÓDULO 4",null,"Valor"]
[null,null,null,"4.1 - Ausências Legais",{"$f":"SUM(E59:E64)","v":2.0000000000000004E-2},{"$f":"ROUND(E70*$F$16,2)","v":0}]
[null,null,null,"4.2 - Intrajornada",{"$f":"E67","v":0},{"$f":"ROUND(E71*$F$16,2)","v":0}]
[]
[null,null,null,"TOTAL DE PREVISÃO PARA RESCISÃO E INTERVALO INTRAJORNADA",null,{"$f":"SUM(F70:F71)","v":0}]
[]
[null,"MÓDULO 5 - INSUMOS DIVERSOS",null,null,null,"Valor"]
[null,null,"A","Uniformes - aquisição",null,{"$f":"ROUND(HLOOKUP($B$5,Uniformes!K4:DZ6,3)/12,2)","v":0}]
[null,null,"B","Materiais de consumo relacionados ao posto - aquisição",null,{"$f":"ROUND(HLOOKUP(B5,'Mat Cons'!I11:DX13,3)/12,2)","v":0}]
[null,null,"C","Ferramentas relacionadas ao posto - remuneração da depreciação / manutenção",null,{"$f":"HLOOKUP(B5,'Relacion - Ferram'!Q3:EF5,3)","v":0}]
[null,null,"D","Equipamentos relacionados ao posto - remuneração da depreciação / manutenção",null,{"$f":"HLOOKUP(B5,'Equip Rel'!Q3:EF5,3)","v":0}]
[null,null,"E","Equipamentos de Proteção Individual - EPI - aquisição",null,{"$f":"ROUND(HLOOKUP(B5,EPI!K4:AM6,3)/12,2)","v":0}]
[]
[null,null,null,"TOTAL DE INSUMOS DIVERSOS",null,{"$f":"SUM(F76:F81)","v":0},null,"* Nota - Valores mensais por empregado"]
[]
[null,"MÓDULO 6 - CUSTOS INDIRETOS, TRIBUTOS E LUCRO - BDI",null,null,"Percentuais","Valor"]
[null,null,"A","Custos Indiretos",{"$f":"'BDI - Geral'!E7","v":2.6000000000000002E-2}]
[null,null,"A.1","Administração Central",{"$f":"'BDI - Geral'!E8","v":2.06E-2}]
[null,null,"A.2","Seguros, Garantias e Riscos",{"$f":"'BDI - Geral'!E9","v":5.4000000000000003E-3}]
[null,null,"B","Lucro",{"$f":"'BDI - Geral'!E11","v":3.3399999999999999E-2}]
[null,null,"C","Tributos",{"$f":"SUM(E90:E91)","v":0.124}]
[null,null,"C.1","Tributos Federais (COFINS, PIS e CPRB)",{"$f":"'BDI - Geral'!E19","v":7.3999999999999996E-2}]
[null,null,"C.2","Tributos Distritais (ISS)",{"$f":"'BDI - Geral'!E24","v":0.05},null,null,"* Nota - Utilizou-se o indicado pelo Sindicato da Arquitetura e da Engenharia (Sinaenco, 2008, p. 22), que adota um percentual redutor de 20% no cálculo dos custos tributários relativos às contribuições PIS e COFINS"]
[null,null,"D","Despesas Financeiras",{"$f":"'BDI - Geral'!E14","v":5.0569567433733642E-3}]
[]
[null,null,null,"TOTAL DE BDI",{"$f":"'BDI - Geral'!E27","v":0.2165},{"$f":"E94*E102","v":0}]
[]
[null,null,null,"QUADRO-RESUMO DO CUSTO MENSAL POR EMPREGADO - SEM O 13º","Valor"]
[null,null,null,"Módulo 1 - Composição da Remuneração",{"$f":"F16","v":0}]
[null,null,null,"Módulo 2 - Encargos e Benefícios Anuais, Mensais e Diários",{"$f":"F45","v":0}]
[null,null,null,"Módulo 3 - Provisão para Rescisão",{"$f":"F55","v":0}]
[null,null,null,"Módulo 4 - Custo de Reposição do Profissional Ausente",{"$f":"F73","v":0}]
[null,null,null,"Módulo 5 - Insumos Diversos",{"$f":"F82","v":0}]
[null,null,null,"SUBTOTAL (A+B+C+D+E)",{"$f":"SUM(E97:E101)","v":0}]
[null,null,null,"Módulo 6 - Custos Indiretos, Tributos e Lucro",{"$f":"F94","v":0}]
[]
[null,null,null,"TOTAL DO POSTO",{"$f":"SUM(E102:E103)","v":0}]
[]
[null,"MÓDULO 7 - DESTAQUE DO MÓDULO 2 - 13º SALÁRIO",null,null,"Percentuais","Valor"]
[null,null,"A","13º Salário",{"$f":"'Encargos Sociais'!E32","v":8.3299999999999999E-2},{"$f":"ROUND(E108*F$16,2)","v":0}]
[null,null,"B","Encargos Sociais sobre o 13º Salário - Taxa calculada no MÓDULO 2",{"$f":"SUM($E$20:$E$32)","v":0.46920000000000012},{"$f":"ROUND(E109*$F$108,2)","v":0},null,"* Nota 1 - Provisiona-se, mensalmente, o proporcional a 1/12 dos valores referentes a gratificação natalina e adicional de férias."]
[null,null,"C","BDI sobre o 13º Salário - Taxa calculada no MÓDULO 6",{"$f":"E94","v":0.2165},{"$f":"ROUND(E110*($F$108+$F$109),2)","v":0}]
[]
[null,null,null,"TOTAL DO DESTAQUE DO 13º SALÁRIO",null,{"$f":"SUM(F108:F110)","v":0}]
[]
[null,null,null,"QUADRO-RESUMO DO CUSTO MENSAL POR EMPREGADO","Valor"]
[null,null,null,"Custo total - sem o 13º Salário",{"$f":"E105","v":0}]
[null,null,null,"Destaque do 13º Salário (valor mensal)",{"$f":"F112","v":0}]
[]
[null,null,null,"TOTAL DO POSTO",{"$f":"E115+E116","v":0}]

{"sheet":"15","index":37,"n_rows":118,"n_cols":8,"rows_kept":118,"cut":false,"hidden":true,"merged":[[17,1,17,3],[106,1,106,3],[39,3,39,5],[46,1,46,3],[56,1,56,3],[68,3,68,5],[74,1,74,3],[83,1,83,3],[1,1,1,5],[2,1,2,5],[4,1,4,2],[5,1,5,2],[7,1,7,3]]}
[]
[null,"PLANILHA DE ESTIMATIVA DE CUSTOS"]
[null,"Padrão IN 05/2017 e IN 07/2018 - MPDG"]
[]
[null,15,null,{"$f":"HLOOKUP($B$5,'Dados Gerais'!$D$6:$BI$22,6)","v":0},"QUANTIDADE",{"$f":"HLOOKUP($B$5,'Dados Gerais'!$D$6:$BI$22,10)","v":0}]
[null,"CCT",null,{"$f":"HLOOKUP($B$5,'Dados Gerais'!$D$6:$BI$22,16)","v":0},"DATA-BASE",{"$f":"HLOOKUP($B$5,'Dados Gerais'!$D$6:$BI$22,17)","v":"00:00:00"}]
[]
[null,"MÓDULO 1 - COMPOSIÇÃO DA REMUNERAÇÃO",null,null,null,"Valor"]
[null,null,"A","Salário-Base",null,{"$f":"HLOOKUP($B$5,'Dados Gerais'!$D$6:$BI$22,8)","v":0}]
[null,null,"B","Adicional de Periculosidade",null,{"$f":"HLOOKUP($B$5,'Dados Gerais'!$D$6:$BI$39,26)","v":0}]
[null,null,"C","Adicional de Insalubridade",null,{"$f":"HLOOKUP($B$5,'Dados Gerais'!$D$6:$BI$39,32)","v":0}]
[null,null,"D","Adicional Noturno",null,{"$f":"HLOOKUP($B$5,'Dados Gerais'!$D$6:$BI$52,47)","v":0},null,"* Nota 1 - O Módulo 1 refere-se ao valor mensal devido ao empregado pela prestação do serviço no período de 12 meses."]
[null,null,"E","Adicional de Hora Extra",null,{"$f":"HLOOKUP($B$5,'Dados Gerais'!$D$6:$BI$69,64)","v":0},null,"* Nota 2 - O adicional de hora extra no feriado trabalhado foi suprimido pela Lei 13.467/17"]
[null,null,"F","Outros (especificar)",null,0,null,"* Nota 3 - ART. 7º, § 2º, DA LEI Nº 605/49.Sendo mensalista o obreiro, o adicional noturno pago de forma fixa já é considerado integrado para os efeitos do pagamento do repouso semanal remunerado, nos termos do art. 7º, § 2º, da Lei nº 605/49."]
[]
[null,null,null,"TOTAL DA REMUNERAÇÃO",null,{"$f":"SUM(F9:F14)","v":0}]
[]
[null,"MÓDULO 2 - ENCARGOS E BENEFÍCIOS ANUAIS, MENSAIS E DIÁRIOS",null,null,"Percentuais","Valor"]
[null,"Submódulo 2.1 - 13º Salário, Férias e Adicional de Férias"]
[null,null,"A","13º Salário - Calculado no Módulo 7 - Destacado",0,{"$f":"ROUND(E20*F$16,2)","v":0}]
[null,null,"B","Férias e Adicional de Férias",{"$f":"'Encargos Sociais'!E25+'Encargos Sociais'!E31","v":0.1212},{"$f":"ROUND(E21*F$16,2)","v":0},null,"* Nota 1 - Provisiona-se, mensalmente, o proporcional a 1/12 dos valores referentes a gratificação natalina, férias e adicional de férias."]
[null,null,null,null,null,null,null,"* Nota 2 - O adicional de férias contido no Submódulo 2.1 corresponde a 1/3 da remuneração que, por sua vez, é dividida por 12 contome Nota 1."]
[null,"Submódulo 2.2 - Encargos Previdenciários (GPS), Fundo de Garantia por Tempo de Serviço (FGTS) e Outras Contribuições"]
[null,null,"A","INSS (art. 22, inciso I, Lei nº 8.212/91)",{"$f":"'Encargos Sociais'!E14","v":0.2},{"$f":"ROUND(E24*($F$16+$F$41+$F$73),2)","v":0}]
[null,null,"B","Salário Educação (art. 3º, inciso I, Decreto nº 87.043/82)",{"$f":"'Encargos Sociais'!E15","v":2.5000000000000001E-2},{"$f":"ROUND(E25*($F$16+$F$41+$F$73),2)","v":0}]
[null,null,"C","SAT/RAT (art. 22, II, Lei 8.212/91 e Anexo V, Decreto 6.042/07) - Enquadramento 8211-3/00",{"$f":"'Encargos Sociais'!E16","v":0.01},0]
[null,null,"D","SESC ou SESI (art. 30, Lei nº 8.036/90 e art. 1º, Lei 8.154/90)",{"$f":"'Encargos Sociais'!E17","v":1.4999999999999999E-2},0]
[null,null,"E","SENAI ou SENAC (Decreto nº 2.318/86)",{"$f":"'Encargos Sociais'!E18","v":0.01},0]
[null,null,"F","SEBRAE (§ 3º, art. 8º, Lei 8.029/90, alterada pela Lei nº 8.154/90)",{"$f":"'Encargos Sociais'!E19","v":6.0000000000000001E-3},0]
[null,null,"G","INCRA (art. 1º, I, Decreto Lei 1.146/70 e Lei 7.787, de 30/06/89)",{"$f":"'Encargos Sociais'!E20","v":2E-3},0,null,"* Nota 1 - Os percentuais dos encargos previdenciários, do FGTS e demais contribuições são estabelecidos por legislação vigente."]
[null,null,"H","FGTS (Lei Complementar nº 110/01 e art. 30, Lei nº 8.036/90)",{"$f":"'Encargos Sociais'!E21","v":0.08},0,null,"* Nota 2 - O SAT, a depender do grau de risco do serviço, irá variar entre 1%, para risco leve, de 2%, para risco médio, e de 3% para risco grave."]
[null,null,"I","SECONCI (Convenções Coletivas de Trabalho da construção)",{"$f":"'Encargos Sociais'!E22","v":0},0,null,"* Nota 3 - Os percentuais do Submódulo 2.2 incidem sobre o Módulo 1 e o Submódulo 2.1."]
[]
[null,"Submódulo 2.3 - Benefícios Mensais e Diários"]
[null,null,"A","Auxílio Transporte",null,{"$f":"HLOOKUP($B$5,'Dados Gerais'!$D$6:$BI$95,83)","v":0}]
[null,null,"B","Auxílio Alimentação",null,{"$f":"HLOOKUP($B$5,'Dados Gerais'!$D$6:$BI$95,90)","v":0}]
[null,null,"C","Assistência Médica e Familiar",null,{"$f":"HLOOKUP($B$5,'Dados Gerais'!$D$6:$BI$103,98)","v":0}]
[null,null,"D","Outros (Seguro de vida, auxílio funeral, auxílio odontológico e auxílio creche)",null,{"$f":"HLOOKUP($B$5,'Dados Gerais'!$D$6:$BI$121,115)","v":0},null,"* Nota 1 - O valor informado deverá ser o custo real do benefício (descontado o valor eventualmente pago pelo empregado)."]
[null,null,null,null,null,null,null,"* Nota 2 - Observar a previsão dos benefícios contidos em Acordos, Convenções e Dissídios Coletivos de Trabalho e o disposto no art. 6º da IN 5/2017"]
[null,null,null,"QUADRO-RESUMO DO MÓDULO 2"]
[null,null,null,"2.1 - 13º Salário, Férias e Adicional de Férias - 13º Destacado - Calculado no Módulo 7 ",{"$f":"SUM(E20:E21)","v":0.1212},{"$f":"F20+F21","v":0}]
[null,null,null,"2.2 - Encargos Previdenciários (GPS), Fundo de Garantia por Tempo de Serviço (FGTS) e Contribuições",{"$f":"SUM(E24:E32)","v":0.34800000000000003},{"$f":"SUM(F24:F32)","v":0}]
[null,null,null,"2.3 - Benefícios Mensais e Diários",null,{"$f":"SUM(F35:F38)","v":0}]
[]
[null,null,null,"TOTAL DOS ENCARGOS E BENEFÍCIOS",null,{"$f":"SUM(F41:F43)","v":0}]
[]
[null,"MÓDULO 3 - PREVISÃO PARA RESCISÃO",null,null,"Percentuais","Valor"]
[null,null,"A","Aviso Prévio Indenizado (Art. 7º, inciso XXI, da CF/1988 e arts. 477, 487, §1º, e 491 da CLT)",{"$f":"'Encargos Sociais'!E36","v":4.1999999999999997E-3},{"$f":"ROUND(E48*($F$16+$F$21),2)","v":0}]
[null,null,"B","Incidência do FGTS sobre o Aviso Prévio Indenizado (Súmula 305 TST)",{"$f":"'Encargos Sociais'!E37","v":2.9999999999999997E-4},0,null,"* Nota 1 - Adotou-se os parâmetros do estudo do STF (http://www.stf.jus.br/arquivo/cms/sobrestfestudosci/anexo/encargos_sociais_03102007.pdf), onde 5% do pessoal é demitido pelo empregador no decurso do contrato (para estes, considerou-se o aviso prévio indenizado). Desprezou-se as demissões por justa causa e os pedidos de demissão."]
[null,null,"C","Multa do FGTS (Art. 18, §1º, da Lei 8.036/1990)",{"$f":"'Encargos Sociais'!E38","v":1.9E-3},0,null,"* Nota 2 - No cálculo do percentual, considerou-se 36 dias, correspondendo à metade da duração média dos contratos (2 anos)"]
[null,null,"D","Aviso Prévio Trabalhado (Art. 488, parágrafo único, CLT)",{"$f":"'Encargos Sociais'!E39","v":7.7999999999999996E-3},0,null,"* Nota 3 - Incide sobre a Remuneração + 13º salário (1/12) + Férias (1/12) + Adicional de Férias (1/36) x 50% multa (40% para o empregado e 10% de contribuição social) x 8% FGTS"]
[null,null,"E","Incidência de GPS, FGTS e outras contribuições sobre o Aviso Prévio Trabalhado",{"$f":"'Encargos Sociais'!E40","v":2.7000000000000001E-3},0,null,"* Nota 4 - Os 95% restantes do cálculo, a um prazo médio de contrato de 4 anos. Assim, calcula-se 7 dias para o 1º ano de contrato e mais 3 dias para os 3 anos seguintes."]
[null,null,"F","Multa do FGTS",{"$f":"'Encargos Sociais'!E41","v":3.8199999999999998E-2},0]
[]
[null,null,null,"TOTAL DE PREVISÃO PARA RESCISÃO",null,{"$f":"SUM(F48:F53)","v":0}]
[]
[null,"MÓDULO 4 - CUSTO DO PROFISSIONAL AUSENTE",null,null,"Percentuais","Valor"]
[null,"Submódulo 4.1 - Ausências Legais"]
[null,null,"A","Férias (Arts. 129 e 130, inc. I, da CLT) - Calculado no Submódulo 2.1",0,{"$f":"ROUND(E59*$F$16,2)","v":0},null,"* Nota 1 - As alíneas “A” a “F” referem-se somente ao custo que será pago ao repositor pelos dias \ntrabalhados quando da necessidade de substituir a mão de obra alocada na prestação do serviço."]
[null,null,"B","Ausências Legais (Arts. 131 e 473 da CLT)",{"$f":"'Encargos Sociais'!E26","v":7.9000000000000008E-3},0,null,"* Nota 2 - Adotou-se a estimativa do SINAPI de 2 dias por ano."]
[null,null,"C","Licença-Paternidade (Art. 7º, XIX, e art. 10, §1º, do ADCT, CF/1988 e Art. 1º, II, da Lei 11.770/2008)",{"$f":"'Encargos Sociais'!E27","v":8.0000000000000004E-4},0,null,"* Nota 3 - Utilizada a proporção de 50% para homens, 5 dias de afastamento, e a probabilidade de um trabalhador requerer a Licença Paternidade em 5,22%, conforme SINAPI (citando dados da PNAD 2015)"]
[null,null,"D","Ausência por Acidente de Trabalho (Art. 131, III, da CLT)",{"$f":"'Encargos Sociais'!E28","v":8.9999999999999998E-4},0,null,"* Nota 4 - Utilzada a estatística de 1,96% dos contribuintes beneficiados com a emissão do auxílio, conforme Anuário Estatístico da Previdência Social. Afastamento de 15 dias a cargo da empresa."]
[null,null,"E","Afastamento Maternidade (Art. 71 da Lei nº 8.213/1991)",{"$f":"'Encargos Sociais'!E29","v":3.3E-3},0,null,"* Nota 5 - Utilizada a proporção de 50% para mulheres, 180 dias de afastamento, e a probabilidade de uma trabalhadora requerer a Licença Maternidade em 4,91%, conforme SINAPI (citando dados do IBGE 2016)"]
[null,null,"F","Auxílio Enfermidade - Doença (Art. 59 da Lei nº 8.213/1991)",{"$f":"'Encargos Sociais'!E30","v":7.1000000000000004E-3},0,null,"* Nota 6 - Utilizada a estatística de 3,37% dos contribuintes beneficiados com o auxílio, conforme Anuário Estatístico da Previdência Social de 2015 (acrescidos de 2 dias ao ano, para os quais o trabalhador nem requer o benefício da Previdência - conforme SINAPI)"]
[]
[null,"Submódulo 4.2 - Intrajornada"]
[null,null,"A","Intervalo para repouso ou alimentação",{"$f":"'Encargos Sociais'!E33","v":0},{"$f":"ROUND(E67*$F$16,2)","v":0}]
[]
[null,null,null,"QUADRO-RESUMO DO MÓDULO 4",null,"Valor"]
[null,null,null,"4.1 - Ausências Legais",{"$f":"SUM(E59:E64)","v":2.0000000000000004E-2},{"$f":"ROUND(E70*$F$16,2)","v":0}]
[null,null,null,"4.2 - Intrajornada",{"$f":"E67","v":0},{"$f":"ROUND(E71*$F$16,2)","v":0}]
[]
[null,null,null,"TOTAL DE PREVISÃO PARA RESCISÃO E INTERVALO INTRAJORNADA",null,{"$f":"SUM(F70:F71)","v":0}]
[]
[null,"MÓDULO 5 - INSUMOS DIVERSOS",null,null,null,"Valor"]
[null,null,"A","Uniformes - aquisição",null,{"$f":"ROUND(HLOOKUP($B$5,Uniformes!K4:DZ6,3)/12,2)","v":0}]
[null,null,"B","Materiais de consumo relacionados ao posto - aquisição",null,{"$f":"ROUND(HLOOKUP(B5,'Mat Cons'!I11:DX13,3)/12,2)","v":0}]
[null,null,"C","Ferramentas relacionadas ao posto - remuneração da depreciação / manutenção",null,{"$f":"HLOOKUP(B5,'Relacion - Ferram'!Q3:EF5,3)","v":0}]
[null,null,"D","Equipamentos relacionados ao posto - remuneração da depreciação / manutenção",null,{"$f":"ROUND(HLOOKUP(B5,'Equip Rel'!Q3:EF5,3)/12,2)","v":0}]
[null,null,"E","Equipamentos de Proteção Individual - EPI - aquisição",null,{"$f":"ROUND(HLOOKUP(B5,EPI!K4:AM6,3)/12,2)","v":0}]
[]
[null,null,null,"TOTAL DE INSUMOS DIVERSOS",null,{"$f":"SUM(F76:F81)","v":0},null,"* Nota - Valores mensais por empregado"]
[]
[null,"MÓDULO 6 - CUSTOS INDIRETOS, TRIBUTOS E LUCRO - BDI",null,null,"Percentuais","Valor"]
[null,null,"A","Custos Indiretos",{"$f":"'BDI - Geral'!E7","v":2.6000000000000002E-2}]
[null,null,"A.1","Administração Central",{"$f":"'BDI - Geral'!E8","v":2.06E-2}]
[null,null,"A.2","Seguros, Garantias e Riscos",{"$f":"'BDI - Geral'!E9","v":5.4000000000000003E-3}]
[null,null,"B","Lucro",{"$f":"'BDI - Geral'!E11","v":3.3399999999999999E-2}]
[null,null,"C","Tributos",{"$f":"SUM(E90:E91)","v":0.124}]
[null,null,"C.1","Tributos Federais (COFINS, PIS e CPRB)",{"$f":"'BDI - Geral'!E19","v":7.3999999999999996E-2}]
[null,null,"C.2","Tributos Distritais (ISS)",{"$f":"'BDI - Geral'!E24","v":0.05},null,null,"* Nota - Utilizou-se o indicado pelo Sindicato da Arquitetura e da Engenharia (Sinaenco, 2008, p. 22), que adota um percentual redutor de 20% no cálculo dos custos tributários relativos às contribuições PIS e COFINS"]
[null,null,"D","Despesas Financeiras",{"$f":"'BDI - Geral'!E14","v":5.0569567433733642E-3}]
[]
[null,null,null,"TOTAL DE BDI",{"$f":"'BDI - Geral'!E27","v":0.2165},{"$f":"E94*E102","v":0}]
[]
[null,null,null,"QUADRO-RESUMO DO CUSTO MENSAL POR EMPREGADO - SEM O 13º","Valor"]
[null,null,null,"Módulo 1 - Composição da Remuneração",{"$f":"F16","v":0}]
[null,null,null,"Módulo 2 - Encargos e Benefícios Anuais, Mensais e Diários",{"$f":"F45","v":0}]
[null,null,null,"Módulo 3 - Provisão para Rescisão",{"$f":"F55","v":0}]
[null,null,null,"Módulo 4 - Custo de Reposição do Profissional Ausente",{"$f":"F73","v":0}]
[null,null,null,"Módulo 5 - Insumos Diversos",{"$f":"F82","v":0}]
[null,null,null,"SUBTOTAL (A+B+C+D+E)",{"$f":"SUM(E97:E101)","v":0}]
[null,null,null,"Módulo 6 - Custos Indiretos, Tributos e Lucro",{"$f":"F94","v":0}]
[]
[null,null,null,"TOTAL DO POSTO",{"$f":"SUM(E102:E103)","v":0}]
[]
[null,"MÓDULO 7 - DESTAQUE DO MÓDULO 2 - 13º SALÁRIO",null,null,"Percentuais","Valor"]
[null,null,"A","13º Salário",{"$f":"'Encargos Sociais'!E32","v":8.3299999999999999E-2},{"$f":"ROUND(E108*F$16,2)","v":0}]
[null,null,"B","Encargos Sociais sobre o 13º Salário - Taxa calculada no MÓDULO 2",{"$f":"SUM($E$20:$E$32)","v":0.46920000000000012},{"$f":"ROUND(E109*$F$108,2)","v":0},null,"* Nota 1 - Provisiona-se, mensalmente, o proporcional a 1/12 dos valores referentes a gratificação natalina e adicional de férias."]
[null,null,"C","BDI sobre o 13º Salário - Taxa calculada no MÓDULO 6",{"$f":"E94","v":0.2165},{"$f":"ROUND(E110*($F$108+$F$109),2)","v":0}]
[]
[null,null,null,"TOTAL DO DESTAQUE DO 13º SALÁRIO",null,{"$f":"SUM(F108:F110)","v":0}]
[]
[null,null,null,"QUADRO-RESUMO DO CUSTO MENSAL POR EMPREGADO","Valor"]
[null,null,null,"Custo total - sem o 13º Salário",{"$f":"E105","v":0}]
[null,null,null,"Destaque do 13º Salário (valor mensal)",{"$f":"F112","v":0}]
[]
[null,null,null,"TOTAL DO POSTO",{"$f":"E115+E116","v":0}]

{"sheet":"Mat Cons","index":38,"n_rows":28,"n_cols":128,"rows_kept":28,"cut":false,"hidden":true,"merged":[[9,1,9,3],[10,1,10,5]]}
[null,null,"CÂMARA DOS DEPUTADOS"]
[null,null,"DEPARTAMENTO TÉCNICO"]
[null,null,"Coordenação de Planejamento e Gestão"]
[]
[null,null,"Data:",{"$f":"'Dados Gerais'!#REF!","v":{"$error":"#REF!"}}]
[null,null,"Processo:",{"$f":"'Dados Gerais'!#REF!","v":{"$error":"#REF!"}}]
[null,null,"Objeto:",{"$f":"'Dados Gerais'!#REF!","v":{"$error":"#REF!"}}]
[]
[]
[]
[null,"MATERIAIS DE CONSUMO RELACIONADOS AO POSTO - AQUISIÇÃO",null,null,null,null,null,null,1,null,{"$f":"I11+1","v":2},null,{"$f":"K11+1","v":3},null,{"$f":"M11+1","v":4},null,{"$f":"O11+1","v":5},null,{"$f":"Q11+1","v":6},null,{"$f":"S11+1","v":7},null,{"$f":"U11+1","v":8},null,{"$f":"W11+1","v":9},null,{"$f":"Y11+1","v":10},null,{"$f":"AA11+1","v":11},null,{"$f":"AC11+1","v":12},null,{"$f":"AE11+1","v":13},null,{"$f":"AG11+1","v":14},null,{"$f":"AI11+1","v":15},null,{"$f":"AK11+1","v":16},null,{"$f":"AM11+1","v":17},null,{"$f":"AO11+1","v":18},null,{"$f":"AQ11+1","v":19},null,{"$f":"AS11+1","v":20},null,{"$f":"AU11+1","v":21},null,{"$f":"AW11+1","v":22},null,{"$f":"AY11+1","v":23},null,{"$f":"BA11+1","v":24},null,{"$f":"BC11+1","v":25},null,{"$f":"BE11+1","v":26},null,{"$f":"BG11+1","v":27},null,{"$f":"BI11+1","v":28},null,{"$f":"BK11+1","v":29},null,{"$f":"BM11+1","v":30},null,{"$f":"BO11+1","v":31},null,{"$f":"BQ11+1","v":32},null,{"$f":"BS11+1","v":33},null,{"$f":"BU11+1","v":34},null,{"$f":"BW11+1","v":35},null,{"$f":"BY11+1","v":36},null,{"$f":"CA11+1","v":37},null,{"$f":"CC11+1","v":38},null,{"$f":"CE11+1","v":39},null,{"$f":"CG11+1","v":40},null,{"$f":"CI11+1","v":41},null,{"$f":"CK11+1","v":42},null,{"$f":"CM11+1","v":43},null,{"$f":"CO11+1","v":44},null,{"$f":"CQ11+1","v":45},null,{"$f":"CS11+1","v":46},null,{"$f":"CU11+1","v":47},null,{"$f":"CW11+1","v":48},null,{"$f":"CY11+1","v":49},null,{"$f":"DA11+1","v":50},null,{"$f":"DC11+1","v":51},null,{"$f":"DE11+1","v":52},null,{"$f":"DG11+1","v":53},null,{"$f":"DI11+1","v":54},null,{"$f":"DK11+1","v":55},null,{"$f":"DM11+1","v":56},null,{"$f":"DO11+1","v":57},null,{"$f":"DQ11+1","v":58},null,{"$f":"DS11+1","v":59},null,{"$f":"DU11+1","v":60}]
[]
[null,null,null,null,null,null,null,null,{"$f":"ROUND(SUM(J12:J65),2)","v":0},null,{"$f":"ROUND(SUM(L12:L65),2)","v":0},null,{"$f":"ROUND(SUM(N12:N65),2)","v":0},null,{"$f":"ROUND(SUM(P12:P65),2)","v":0},null,{"$f":"ROUND(SUM(R12:R65),2)","v":0},null,{"$f":"ROUND(SUM(T12:T65),2)","v":0},null,{"$f":"ROUND(SUM(V12:V65),2)","v":0},null,{"$f":"ROUND(SUM(X12:X65),2)","v":0},null,{"$f":"ROUND(SUM(Z12:Z65),2)","v":0},null,{"$f":"ROUND(SUM(AB12:AB65),2)","v":0},null,{"$f":"ROUND(SUM(AD12:AD65),2)","v":0},null,{"$f":"ROUND(SUM(AF12:AF65),2)","v":0},null,{"$f":"ROUND(SUM(AH12:AH65),2)","v":0},null,{"$f":"ROUND(SUM(AJ12:AJ65),2)","v":0},null,{"$f":"ROUND(SUM(AL12:AL65),2)","v":0},null,{"$f":"ROUND(SUM(AN12:AN65),2)","v":0},null,{"$f":"ROUND(SUM(AP12:AP65),2)","v":0},null,{"$f":"ROUND(SUM(AR12:AR65),2)","v":0},null,{"$f":"ROUND(SUM(AT12:AT65),2)","v":0},null,{"$f":"ROUND(SUM(AV12:AV65),2)","v":0},null,{"$f":"ROUND(SUM(AX12:AX65),2)","v":0},null,{"$f":"ROUND(SUM(AZ12:AZ65),2)","v":0},null,{"$f":"ROUND(SUM(BB12:BB65),2)","v":0},null,{"$f":"ROUND(SUM(BD12:BD65),2)","v":0},null,{"$f":"ROUND(SUM(BF12:BF65),2)","v":0},null,{"$f":"ROUND(SUM(BH12:BH65),2)","v":0},null,{"$f":"ROUND(SUM(BJ12:BJ65),2)","v":0},null,{"$f":"ROUND(SUM(BL12:BL65),2)","v":0},null,{"$f":"ROUND(SUM(BN12:BN65),2)","v":0},null,{"$f":"ROUND(SUM(BP12:BP65),2)","v":0},null,{"$f":"ROUND(SUM(BR12:BR65),2)","v":0},null,{"$f":"ROUND(SUM(BT12:BT65),2)","v":0},null,{"$f":"ROUND(SUM(BV12:BV65),2)","v":0},null,{"$f":"ROUND(SUM(BX12:BX65),2)","v":0},null,{"$f":"ROUND(SUM(BZ12:BZ65),2)","v":0},null,{"$f":"ROUND(SUM(CB12:CB65),2)","v":0},null,{"$f":"ROUND(SUM(CD12:CD65),2)","v":0},null,{"$f":"ROUND(SUM(CF12:CF65),2)","v":0},null,{"$f":"ROUND(SUM(CH12:CH65),2)","v":0},null,{"$f":"ROUND(SUM(CJ12:CJ65),2)","v":0},null,{"$f":"ROUND(SUM(CL12:CL65),2)","v":0},null,{"$f":"ROUND(SUM(CN12:CN65),2)","v":0},null,{"$f":"ROUND(SUM(CP12:CP65),2)","v":0},null,{"$f":"ROUND(SUM(CR12:CR65),2)","v":0},null,{"$f":"ROUND(SUM(CT12:CT65),2)","v":0},null,{"$f":"ROUND(SUM(CV12:CV65),2)","v":0},null,{"$f":"ROUND(SUM(CX12:CX65),2)","v":0},null,{"$f":"ROUND(SUM(CZ12:CZ65),2)","v":0},null,{"$f":"ROUND(SUM(DB12:DB65),2)","v":0},null,{"$f":"ROUND(SUM(DD12:DD65),2)","v":0},null,{"$f":"ROUND(SUM(DF12:DF65),2)","v":0},null,{"$f":"ROUND(SUM(DH12:DH65),2)","v":0},null,{"$f":"ROUND(SUM(DJ12:DJ65),2)","v":0},null,{"$f":"ROUND(SUM(DL12:DL65),2)","v":0},null,{"$f":"ROUND(SUM(DN12:DN65),2)","v":0},null,{"$f":"ROUND(SUM(DP12:DP65),2)","v":0},null,{"$f":"ROUND(SUM(DR12:DR65),2)","v":0},null,{"$f":"ROUND(SUM(DT12:DT65),2)","v":0},null,{"$f":"ROUND(SUM(DV12:DV65),2)","v":0},null,{"$f":"ROUND(SUM(DX12:DX65),2)","v":0}]
[null,null,"CATEGORIAS",null,null,"QUANTIDADE"]
[null,null,null,null,null,null,null,null,{"$f":"IF($C15=I$11,1,0)","v":0}]
[null,null,null,null,null,null,null,null,0,null,{"$f":"IF($C16=K$11,1,0)","v":0},null,{"$f":"IF($C16=M$11,1,0)","v":0},null,{"$f":"IF($C16=O$11,1,0)","v":0},null,{"$f":"IF($C16=Q$11,1,0)","v":0},null,{"$f":"IF($C16=S$11,1,0)","v":0},null,{"$f":"IF($C16=U$11,1,0)","v":0},null,{"$f":"IF($C16=W$11,1,0)","v":0},null,{"$f":"IF($C16=Y$11,1,0)","v":0},null,{"$f":"IF($C16=AA$11,1,0)","v":0},null,{"$f":"IF($C16=AC$11,1,0)","v":0},null,{"$f":"IF($C16=AE$11,1,0)","v":0},null,{"$f":"IF($C16=AG$11,1,0)","v":0},null,{"$f":"IF($C16=AI$11,1,0)","v":0},null,{"$f":"IF($C16=AK$11,1,0)","v":0},null,{"$f":"IF($C16=AM$11,1,0)","v":0},null,{"$f":"IF($C16=AO$11,1,0)","v":0},null,{"$f":"IF($C16=AQ$11,1,0)","v":0},null,{"$f":"IF($C16=AS$11,1,0)","v":0},null,{"$f":"IF($C16=AU$11,1,0)","v":0},null,{"$f":"IF($C16=AW$11,1,0)","v":0},null,{"$f":"IF($C16=AY$11,1,0)","v":0},null,{"$f":"IF($C16=BA$11,1,0)","v":0},null,{"$f":"IF($C16=BC$11,1,0)","v":0},null,{"$f":"IF($C16=BE$11,1,0)","v":0},null,{"$f":"IF($C16=BG$11,1,0)","v":0},null,{"$f":"IF($C16=BI$11,1,0)","v":0},null,{"$f":"IF($C16=BK$11,1,0)","v":0},null,{"$f":"IF($C16=BM$11,1,0)","v":0},null,{"$f":"IF($C16=BO$11,1,0)","v":0},null,{"$f":"IF($C16=BQ$11,1,0)","v":0},null,{"$f":"IF($C16=BS$11,1,0)","v":0},null,{"$f":"IF($C16=BU$11,1,0)","v":0},null,{"$f":"IF($C16=BW$11,1,0)","v":0},null,{"$f":"IF($C16=BY$11,1,0)","v":0},null,{"$f":"IF($C16=CA$11,1,0)","v":0},null,{"$f":"IF($C16=CC$11,1,0)","v":0},null,{"$f":"IF($C16=CE$11,1,0)","v":0},null,{"$f":"IF($C16=CG$11,1,0)","v":0},null,{"$f":"IF($C16=CI$11,1,0)","v":0},null,{"$f":"IF($C16=CK$11,1,0)","v":0},null,{"$f":"IF($C16=CM$11,1,0)","v":0},null,{"$f":"IF($C16=CO$11,1,0)","v":0},null,{"$f":"IF($C16=CQ$11,1,0)","v":0},null,{"$f":"IF($C16=CS$11,1,0)","v":0},null,{"$f":"IF($C16=CU$11,1,0)","v":0},null,{"$f":"IF($C16=CW$11,1,0)","v":0},null,{"$f":"IF($C16=CY$11,1,0)","v":0},null,{"$f":"IF($C16=DA$11,1,0)","v":0},null,{"$f":"IF($C16=DC$11,1,0)","v":0},null,{"$f":"IF($C16=DE$11,1,0)","v":0},null,{"$f":"IF($C16=DG$11,1,0)","v":0},null,{"$f":"IF($C16=DI$11,1,0)","v":0},null,{"$f":"IF($C16=DK$11,1,0)","v":0},null,{"$f":"IF($C16=DM$11,1,0)","v":0},null,{"$f":"IF($C16=DO$11,1,0)","v":0},null,{"$f":"IF($C16=DQ$11,1,0)","v":0},null,{"$f":"IF($C16=DS$11,1,0)","v":0},null,{"$f":"IF($C16=DU$11,1,0)","v":0},null,{"$f":"IF($C16=DW$11,1,0)","v":0}]
[null,null,null,null,null,null,null,null,0,null,0,null,0,null,0,null,0,null,0,null,0,null,0,null,0,null,0,null,0,null,0,null,0,null,0,null,0,null,0,null,0,null,0,null,0,null,0,null,0,null,0,null,0,null,0,null,0,null,0,null,0,null,0,null,0,null,0,null,0,null,0,null,0,null,0,null,0,null,0,null,0,null,0,null,0,null,0,null,0,null,0,null,0,null,0,null,0,null,0,null,0,null,0,null,0,null,0,null,0,null,0,null,0,null,0,null,0,null,0,null,0,null,0,null,0,null,0]
[null,null,null,null,null,null,null,null,0,null,0,null,0,null,0,null,0,null,0,null,0,null,0,null,0,null,0,null,0,null,0,null,0,null,0,null,0,null,0,null,0,null,0,null,0,null,0,null,0,null,0,null,0,null,0,null,0,null,0,null,0,null,0,null,0,null,0,null,0,null,0,null,0,null,0,null,0,null,0,null,0,null,0,null,0,null,0,null,0,null,0,null,0,null,0,null,0,null,0,null,0,null,0,null,0,null,0,null,0,null,0,null,0,null,0,null,0,null,0,null,0,null,0,null,0,null,0]
[null,null,null,null,null,null,null,null,0,null,0,null,0,null,0,null,0,null,0,null,0,null,0,null,0,null,0,null,0,null,0,null,0,null,0,null,0,null,0,null,0,null,0,null,0,null,0,null,0,null,0,null,0,null,0,null,0,null,0,null,0,null,0,null,0,null,0,null,0,null,0,null,0,null,0,null,0,null,0,null,0,null,0,null,0,null,0,null,0,null,0,null,0,null,0,null,0,null,0,null,0,null,0,null,0,null,0,null,0,null,0,null,0,null,0,null,0,null,0,null,0,null,0,null,0,null,0]
[null,null,null,null,null,null,null,null,0,null,0,null,0,null,0,null,0,null,0,null,0,null,0,null,0,null,0,null,0,null,0,null,0,null,0,null,0,null,0,null,0,null,0,null,0,null,0,null,0,null,0,null,0,null,0,null,0,null,0,null,0,null,0,null,0,null,0,null,0,null,0,null,0,null,0,null,0,null,0,null,0,null,0,null,0,null,0,null,0,null,0,null,0,null,0,null,0,null,0,null,0,null,0,null,0,null,0,null,0,null,0,null,0,null,0,null,0,null,0,null,0,null,0,null,0,null,0]
[null,null,null,null,null,null,null,null,0,null,0,null,0,null,0,null,0,null,0,null,0,null,0,null,0,null,0,null,0,null,0,null,0,null,0,null,0,null,0,null,0,null,0,null,0,null,0,null,0,null,0,null,0,null,0,null,0,null,0,null,0,null,0,null,0,null,0,null,0,null,0,null,0,null,0,null,0,null,0,null,0,null,0,null,0,null,0,null,0,null,0,null,0,null,0,null,0,null,0,null,0,null,0,null,0,null,0,null,0,null,0,null,0,null,0,null,0,null,0,null,0,null,0,null,0,null,0]
[null,null,null,null,null,null,null,null,0]
[]
[null,null,"ITEM","DESCRIÇÃO","QUANT ANUAL","VALOR"]
[null,null,null,null,null,null,null,null,null,{"$f":"IF(SUM(I$15:I$22)>0,$E25*$F25,0)","v":0},null,{"$f":"IF(SUM(K$15:K$22)>0,$E25*$F25,0)","v":0},null,{"$f":"IF(SUM(M$15:M$22)>0,$E25*$F25,0)","v":0},null,{"$f":"IF(SUM(O$15:O$22)>0,$E25*$F25,0)","v":0},null,{"$f":"IF(SUM(Q$15:Q$22)>0,$E25*$F25,0)","v":0},null,{"$f":"IF(SUM(S$15:S$22)>0,$E25*$F25,0)","v":0},null,{"$f":"IF(SUM(U$15:U$22)>0,$E25*$F25,0)","v":0},null,{"$f":"IF(SUM(W$15:W$22)>0,$E25*$F25,0)","v":0},null,{"$f":"IF(SUM(Y$15:Y$22)>0,$E25*$F25,0)","v":0},null,{"$f":"IF(SUM(AA$15:AA$22)>0,$E25*$F25,0)","v":0},null,{"$f":"IF(SUM(AC$15:AC$22)>0,$E25*$F25,0)","v":0},null,{"$f":"IF(SUM(AE$15:AE$22)>0,$E25*$F25,0)","v":0},null,{"$f":"IF(SUM(AG$15:AG$22)>0,$E25*$F25,0)","v":0},null,{"$f":"IF(SUM(AI$15:AI$22)>0,$E25*$F25,0)","v":0},null,{"$f":"IF(SUM(AK$15:AK$22)>0,$E25*$F25,0)","v":0},null,{"$f":"IF(SUM(AM$15:AM$22)>0,$E25*$F25,0)","v":0},null,{"$f":"IF(SUM(AO$15:AO$22)>0,$E25*$F25,0)","v":0},null,{"$f":"IF(SUM(AQ$15:AQ$22)>0,$E25*$F25,0)","v":0},null,{"$f":"IF(SUM(AS$15:AS$22)>0,$E25*$F25,0)","v":0},null,{"$f":"IF(SUM(AU$15:AU$22)>0,$E25*$F25,0)","v":0},null,{"$f":"IF(SUM(AW$15:AW$22)>0,$E25*$F25,0)","v":0},null,{"$f":"IF(SUM(AY$15:AY$22)>0,$E25*$F25,0)","v":0},null,{"$f":"IF(SUM(BA$15:BA$22)>0,$E25*$F25,0)","v":0},null,{"$f":"IF(SUM(BC$15:BC$22)>0,$E25*$F25,0)","v":0},null,{"$f":"IF(SUM(BE$15:BE$22)>0,$E25*$F25,0)","v":0},null,{"$f":"IF(SUM(BG$15:BG$22)>0,$E25*$F25,0)","v":0},null,{"$f":"IF(SUM(BI$15:BI$22)>0,$E25*$F25,0)","v":0},null,{"$f":"IF(SUM(BK$15:BK$22)>0,$E25*$F25,0)","v":0},null,{"$f":"IF(SUM(BM$15:BM$22)>0,$E25*$F25,0)","v":0},null,{"$f":"IF(SUM(BO$15:BO$22)>0,$E25*$F25,0)","v":0},null,{"$f":"IF(SUM(BQ$15:BQ$22)>0,$E25*$F25,0)","v":0},null,{"$f":"IF(SUM(BS$15:BS$22)>0,$E25*$F25,0)","v":0},null,{"$f":"IF(SUM(BU$15:BU$22)>0,$E25*$F25,0)","v":0},null,{"$f":"IF(SUM(BW$15:BW$22)>0,$E25*$F25,0)","v":0},null,{"$f":"IF(SUM(BY$15:BY$22)>0,$E25*$F25,0)","v":0},null,{"$f":"IF(SUM(CA$15:CA$22)>0,$E25*$F25,0)","v":0},null,{"$f":"IF(SUM(CC$15:CC$22)>0,$E25*$F25,0)","v":0},null,{"$f":"IF(SUM(CE$15:CE$22)>0,$E25*$F25,0)","v":0},null,{"$f":"IF(SUM(CG$15:CG$22)>0,$E25*$F25,0)","v":0},null,{"$f":"IF(SUM(CI$15:CI$22)>0,$E25*$F25,0)","v":0},null,{"$f":"IF(SUM(CK$15:CK$22)>0,$E25*$F25,0)","v":0},null,{"$f":"IF(SUM(CM$15:CM$22)>0,$E25*$F25,0)","v":0},null,{"$f":"IF(SUM(CO$15:CO$22)>0,$E25*$F25,0)","v":0},null,{"$f":"IF(SUM(CQ$15:CQ$22)>0,$E25*$F25,0)","v":0},null,{"$f":"IF(SUM(CS$15:CS$22)>0,$E25*$F25,0)","v":0},null,{"$f":"IF(SUM(CU$15:CU$22)>0,$E25*$F25,0)","v":0},null,{"$f":"IF(SUM(CW$15:CW$22)>0,$E25*$F25,0)","v":0},null,{"$f":"IF(SUM(CY$15:CY$22)>0,$E25*$F25,0)","v":0},null,{"$f":"IF(SUM(DA$15:DA$22)>0,$E25*$F25,0)","v":0},null,{"$f":"IF(SUM(DC$15:DC$22)>0,$E25*$F25,0)","v":0},null,{"$f":"IF(SUM(DE$15:DE$22)>0,$E25*$F25,0)","v":0},null,{"$f":"IF(SUM(DG$15:DG$22)>0,$E25*$F25,0)","v":0},null,{"$f":"IF(SUM(DI$15:DI$22)>0,$E25*$F25,0)","v":0},null,{"$f":"IF(SUM(DK$15:DK$22)>0,$E25*$F25,0)","v":0},null,{"$f":"IF(SUM(DM$15:DM$22)>0,$E25*$F25,0)","v":0},null,{"$f":"IF(SUM(DO$15:DO$22)>0,$E25*$F25,0)","v":0},null,{"$f":"IF(SUM(DQ$15:DQ$22)>0,$E25*$F25,0)","v":0},null,{"$f":"IF(SUM(DS$15:DS$22)>0,$E25*$F25,0)","v":0},null,{"$f":"IF(SUM(DU$15:DU$22)>0,$E25*$F25,0)","v":0},null,{"$f":"IF(SUM(DW$15:DW$22)>0,$E25*$F25,0)","v":0}]
[null,null,null,null,null,null,null,null,null,{"$f":"IF(SUM(I$15:I$22)>0,$E26*$F26,0)","v":0},null,{"$f":"IF(SUM(K$15:K$22)>0,$E26*$F26,0)","v":0},null,{"$f":"IF(SUM(M$15:M$22)>0,$E26*$F26,0)","v":0},null,{"$f":"IF(SUM(O$15:O$22)>0,$E26*$F26,0)","v":0},null,{"$f":"IF(SUM(Q$15:Q$22)>0,$E26*$F26,0)","v":0},null,{"$f":"IF(SUM(S$15:S$22)>0,$E26*$F26,0)","v":0},null,{"$f":"IF(SUM(U$15:U$22)>0,$E26*$F26,0)","v":0},null,{"$f":"IF(SUM(W$15:W$22)>0,$E26*$F26,0)","v":0},null,{"$f":"IF(SUM(Y$15:Y$22)>0,$E26*$F26,0)","v":0},null,{"$f":"IF(SUM(AA$15:AA$22)>0,$E26*$F26,0)","v":0},null,{"$f":"IF(SUM(AC$15:AC$22)>0,$E26*$F26,0)","v":0},null,{"$f":"IF(SUM(AE$15:AE$22)>0,$E26*$F26,0)","v":0},null,{"$f":"IF(SUM(AG$15:AG$22)>0,$E26*$F26,0)","v":0},null,{"$f":"IF(SUM(AI$15:AI$22)>0,$E26*$F26,0)","v":0},null,{"$f":"IF(SUM(AK$15:AK$22)>0,$E26*$F26,0)","v":0},null,{"$f":"IF(SUM(AM$15:AM$22)>0,$E26*$F26,0)","v":0},null,{"$f":"IF(SUM(AO$15:AO$22)>0,$E26*$F26,0)","v":0},null,{"$f":"IF(SUM(AQ$15:AQ$22)>0,$E26*$F26,0)","v":0},null,{"$f":"IF(SUM(AS$15:AS$22)>0,$E26*$F26,0)","v":0},null,{"$f":"IF(SUM(AU$15:AU$22)>0,$E26*$F26,0)","v":0},null,{"$f":"IF(SUM(AW$15:AW$22)>0,$E26*$F26,0)","v":0},null,{"$f":"IF(SUM(AY$15:AY$22)>0,$E26*$F26,0)","v":0},null,{"$f":"IF(SUM(BA$15:BA$22)>0,$E26*$F26,0)","v":0},null,{"$f":"IF(SUM(BC$15:BC$22)>0,$E26*$F26,0)","v":0},null,{"$f":"IF(SUM(BE$15:BE$22)>0,$E26*$F26,0)","v":0},null,{"$f":"IF(SUM(BG$15:BG$22)>0,$E26*$F26,0)","v":0},null,{"$f":"IF(SUM(BI$15:BI$22)>0,$E26*$F26,0)","v":0},null,{"$f":"IF(SUM(BK$15:BK$22)>0,$E26*$F26,0)","v":0},null,{"$f":"IF(SUM(BM$15:BM$22)>0,$E26*$F26,0)","v":0},null,{"$f":"IF(SUM(BO$15:BO$22)>0,$E26*$F26,0)","v":0},null,{"$f":"IF(SUM(BQ$15:BQ$22)>0,$E26*$F26,0)","v":0},null,{"$f":"IF(SUM(BS$15:BS$22)>0,$E26*$F26,0)","v":0},null,{"$f":"IF(SUM(BU$15:BU$22)>0,$E26*$F26,0)","v":0},null,{"$f":"IF(SUM(BW$15:BW$22)>0,$E26*$F26,0)","v":0},null,{"$f":"IF(SUM(BY$15:BY$22)>0,$E26*$F26,0)","v":0},null,{"$f":"IF(SUM(CA$15:CA$22)>0,$E26*$F26,0)","v":0},null,{"$f":"IF(SUM(CC$15:CC$22)>0,$E26*$F26,0)","v":0},null,{"$f":"IF(SUM(CE$15:CE$22)>0,$E26*$F26,0)","v":0},null,{"$f":"IF(SUM(CG$15:CG$22)>0,$E26*$F26,0)","v":0},null,{"$f":"IF(SUM(CI$15:CI$22)>0,$E26*$F26,0)","v":0},null,{"$f":"IF(SUM(CK$15:CK$22)>0,$E26*$F26,0)","v":0},null,{"$f":"IF(SUM(CM$15:CM$22)>0,$E26*$F26,0)","v":0},null,{"$f":"IF(SUM(CO$15:CO$22)>0,$E26*$F26,0)","v":0},null,{"$f":"IF(SUM(CQ$15:CQ$22)>0,$E26*$F26,0)","v":0},null,{"$f":"IF(SUM(CS$15:CS$22)>0,$E26*$F26,0)","v":0},null,{"$f":"IF(SUM(CU$15:CU$22)>0,$E26*$F26,0)","v":0},null,{"$f":"IF(SUM(CW$15:CW$22)>0,$E26*$F26,0)","v":0},null,{"$f":"IF(SUM(CY$15:CY$22)>0,$E26*$F26,0)","v":0},null,{"$f":"IF(SUM(DA$15:DA$22)>0,$E26*$F26,0)","v":0},null,{"$f":"IF(SUM(DC$15:DC$22)>0,$E26*$F26,0)","v":0},null,{"$f":"IF(SUM(DE$15:DE$22)>0,$E26*$F26,0)","v":0},null,{"$f":"IF(SUM(DG$15:DG$22)>0,$E26*$F26,0)","v":0},null,{"$f":"IF(SUM(DI$15:DI$22)>0,$E26*$F26,0)","v":0},null,{"$f":"IF(SUM(DK$15:DK$22)>0,$E26*$F26,0)","v":0},null,{"$f":"IF(SUM(DM$15:DM$22)>0,$E26*$F26,0)","v":0},null,{"$f":"IF(SUM(DO$15:DO$22)>0,$E26*$F26,0)","v":0},null,{"$f":"IF(SUM(DQ$15:DQ$22)>0,$E26*$F26,0)","v":0},null,{"$f":"IF(SUM(DS$15:DS$22)>0,$E26*$F26,0)","v":0},null,{"$f":"IF(SUM(DU$15:DU$22)>0,$E26*$F26,0)","v":0},null,{"$f":"IF(SUM(DW$15:DW$22)>0,$E26*$F26,0)","v":0}]
[null,null,null,null,null,null,null,null,null,{"$f":"IF(SUM(I$15:I$22)>0,$E27*$F27,0)","v":0},null,{"$f":"IF(SUM(K$15:K$22)>0,$E27*$F27,0)","v":0},null,{"$f":"IF(SUM(M$15:M$22)>0,$E27*$F27,0)","v":0},null,{"$f":"IF(SUM(O$15:O$22)>0,$E27*$F27,0)","v":0},null,{"$f":"IF(SUM(Q$15:Q$22)>0,$E27*$F27,0)","v":0},null,{"$f":"IF(SUM(S$15:S$22)>0,$E27*$F27,0)","v":0},null,{"$f":"IF(SUM(U$15:U$22)>0,$E27*$F27,0)","v":0},null,{"$f":"IF(SUM(W$15:W$22)>0,$E27*$F27,0)","v":0},null,{"$f":"IF(SUM(Y$15:Y$22)>0,$E27*$F27,0)","v":0},null,{"$f":"IF(SUM(AA$15:AA$22)>0,$E27*$F27,0)","v":0},null,{"$f":"IF(SUM(AC$15:AC$22)>0,$E27*$F27,0)","v":0},null,{"$f":"IF(SUM(AE$15:AE$22)>0,$E27*$F27,0)","v":0},null,{"$f":"IF(SUM(AG$15:AG$22)>0,$E27*$F27,0)","v":0},null,{"$f":"IF(SUM(AI$15:AI$22)>0,$E27*$F27,0)","v":0},null,{"$f":"IF(SUM(AK$15:AK$22)>0,$E27*$F27,0)","v":0},null,{"$f":"IF(SUM(AM$15:AM$22)>0,$E27*$F27,0)","v":0},null,{"$f":"IF(SUM(AO$15:AO$22)>0,$E27*$F27,0)","v":0},null,{"$f":"IF(SUM(AQ$15:AQ$22)>0,$E27*$F27,0)","v":0},null,{"$f":"IF(SUM(AS$15:AS$22)>0,$E27*$F27,0)","v":0},null,{"$f":"IF(SUM(AU$15:AU$22)>0,$E27*$F27,0)","v":0},null,{"$f":"IF(SUM(AW$15:AW$22)>0,$E27*$F27,0)","v":0},null,{"$f":"IF(SUM(AY$15:AY$22)>0,$E27*$F27,0)","v":0},null,{"$f":"IF(SUM(BA$15:BA$22)>0,$E27*$F27,0)","v":0},null,{"$f":"IF(SUM(BC$15:BC$22)>0,$E27*$F27,0)","v":0},null,{"$f":"IF(SUM(BE$15:BE$22)>0,$E27*$F27,0)","v":0},null,{"$f":"IF(SUM(BG$15:BG$22)>0,$E27*$F27,0)","v":0},null,{"$f":"IF(SUM(BI$15:BI$22)>0,$E27*$F27,0)","v":0},null,{"$f":"IF(SUM(BK$15:BK$22)>0,$E27*$F27,0)","v":0},null,{"$f":"IF(SUM(BM$15:BM$22)>0,$E27*$F27,0)","v":0},null,{"$f":"IF(SUM(BO$15:BO$22)>0,$E27*$F27,0)","v":0},null,{"$f":"IF(SUM(BQ$15:BQ$22)>0,$E27*$F27,0)","v":0},null,{"$f":"IF(SUM(BS$15:BS$22)>0,$E27*$F27,0)","v":0},null,{"$f":"IF(SUM(BU$15:BU$22)>0,$E27*$F27,0)","v":0},null,{"$f":"IF(SUM(BW$15:BW$22)>0,$E27*$F27,0)","v":0},null,{"$f":"IF(SUM(BY$15:BY$22)>0,$E27*$F27,0)","v":0},null,{"$f":"IF(SUM(CA$15:CA$22)>0,$E27*$F27,0)","v":0},null,{"$f":"IF(SUM(CC$15:CC$22)>0,$E27*$F27,0)","v":0},null,{"$f":"IF(SUM(CE$15:CE$22)>0,$E27*$F27,0)","v":0},null,{"$f":"IF(SUM(CG$15:CG$22)>0,$E27*$F27,0)","v":0},null,{"$f":"IF(SUM(CI$15:CI$22)>0,$E27*$F27,0)","v":0},null,{"$f":"IF(SUM(CK$15:CK$22)>0,$E27*$F27,0)","v":0},null,{"$f":"IF(SUM(CM$15:CM$22)>0,$E27*$F27,0)","v":0},null,{"$f":"IF(SUM(CO$15:CO$22)>0,$E27*$F27,0)","v":0},null,{"$f":"IF(SUM(CQ$15:CQ$22)>0,$E27*$F27,0)","v":0},null,{"$f":"IF(SUM(CS$15:CS$22)>0,$E27*$F27,0)","v":0},null,{"$f":"IF(SUM(CU$15:CU$22)>0,$E27*$F27,0)","v":0},null,{"$f":"IF(SUM(CW$15:CW$22)>0,$E27*$F27,0)","v":0},null,{"$f":"IF(SUM(CY$15:CY$22)>0,$E27*$F27,0)","v":0},null,{"$f":"IF(SUM(DA$15:DA$22)>0,$E27*$F27,0)","v":0},null,{"$f":"IF(SUM(DC$15:DC$22)>0,$E27*$F27,0)","v":0},null,{"$f":"IF(SUM(DE$15:DE$22)>0,$E27*$F27,0)","v":0},null,{"$f":"IF(SUM(DG$15:DG$22)>0,$E27*$F27,0)","v":0},null,{"$f":"IF(SUM(DI$15:DI$22)>0,$E27*$F27,0)","v":0},null,{"$f":"IF(SUM(DK$15:DK$22)>0,$E27*$F27,0)","v":0},null,{"$f":"IF(SUM(DM$15:DM$22)>0,$E27*$F27,0)","v":0},null,{"$f":"IF(SUM(DO$15:DO$22)>0,$E27*$F27,0)","v":0},null,{"$f":"IF(SUM(DQ$15:DQ$22)>0,$E27*$F27,0)","v":0},null,{"$f":"IF(SUM(DS$15:DS$22)>0,$E27*$F27,0)","v":0},null,{"$f":"IF(SUM(DU$15:DU$22)>0,$E27*$F27,0)","v":0},null,{"$f":"IF(SUM(DW$15:DW$22)>0,$E27*$F27,0)","v":0}]
[null,null,null,null,null,null,null,null,null,{"$f":"IF(SUM(I$15:I$22)>0,$E28*$F28,0)","v":0},null,{"$f":"IF(SUM(K$15:K$22)>0,$E28*$F28,0)","v":0},null,{"$f":"IF(SUM(M$15:M$22)>0,$E28*$F28,0)","v":0},null,{"$f":"IF(SUM(O$15:O$22)>0,$E28*$F28,0)","v":0},null,{"$f":"IF(SUM(Q$15:Q$22)>0,$E28*$F28,0)","v":0},null,{"$f":"IF(SUM(S$15:S$22)>0,$E28*$F28,0)","v":0},null,{"$f":"IF(SUM(U$15:U$22)>0,$E28*$F28,0)","v":0},null,{"$f":"IF(SUM(W$15:W$22)>0,$E28*$F28,0)","v":0},null,{"$f":"IF(SUM(Y$15:Y$22)>0,$E28*$F28,0)","v":0},null,{"$f":"IF(SUM(AA$15:AA$22)>0,$E28*$F28,0)","v":0},null,{"$f":"IF(SUM(AC$15:AC$22)>0,$E28*$F28,0)","v":0},null,{"$f":"IF(SUM(AE$15:AE$22)>0,$E28*$F28,0)","v":0},null,{"$f":"IF(SUM(AG$15:AG$22)>0,$E28*$F28,0)","v":0},null,{"$f":"IF(SUM(AI$15:AI$22)>0,$E28*$F28,0)","v":0},null,{"$f":"IF(SUM(AK$15:AK$22)>0,$E28*$F28,0)","v":0},null,{"$f":"IF(SUM(AM$15:AM$22)>0,$E28*$F28,0)","v":0},null,{"$f":"IF(SUM(AO$15:AO$22)>0,$E28*$F28,0)","v":0},null,{"$f":"IF(SUM(AQ$15:AQ$22)>0,$E28*$F28,0)","v":0},null,{"$f":"IF(SUM(AS$15:AS$22)>0,$E28*$F28,0)","v":0},null,{"$f":"IF(SUM(AU$15:AU$22)>0,$E28*$F28,0)","v":0},null,{"$f":"IF(SUM(AW$15:AW$22)>0,$E28*$F28,0)","v":0},null,{"$f":"IF(SUM(AY$15:AY$22)>0,$E28*$F28,0)","v":0},null,{"$f":"IF(SUM(BA$15:BA$22)>0,$E28*$F28,0)","v":0},null,{"$f":"IF(SUM(BC$15:BC$22)>0,$E28*$F28,0)","v":0},null,{"$f":"IF(SUM(BE$15:BE$22)>0,$E28*$F28,0)","v":0},null,{"$f":"IF(SUM(BG$15:BG$22)>0,$E28*$F28,0)","v":0},null,{"$f":"IF(SUM(BI$15:BI$22)>0,$E28*$F28,0)","v":0},null,{"$f":"IF(SUM(BK$15:BK$22)>0,$E28*$F28,0)","v":0},null,{"$f":"IF(SUM(BM$15:BM$22)>0,$E28*$F28,0)","v":0},null,{"$f":"IF(SUM(BO$15:BO$22)>0,$E28*$F28,0)","v":0},null,{"$f":"IF(SUM(BQ$15:BQ$22)>0,$E28*$F28,0)","v":0},null,{"$f":"IF(SUM(BS$15:BS$22)>0,$E28*$F28,0)","v":0},null,{"$f":"IF(SUM(BU$15:BU$22)>0,$E28*$F28,0)","v":0},null,{"$f":"IF(SUM(BW$15:BW$22)>0,$E28*$F28,0)","v":0},null,{"$f":"IF(SUM(BY$15:BY$22)>0,$E28*$F28,0)","v":0},null,{"$f":"IF(SUM(CA$15:CA$22)>0,$E28*$F28,0)","v":0},null,{"$f":"IF(SUM(CC$15:CC$22)>0,$E28*$F28,0)","v":0},null,{"$f":"IF(SUM(CE$15:CE$22)>0,$E28*$F28,0)","v":0},null,{"$f":"IF(SUM(CG$15:CG$22)>0,$E28*$F28,0)","v":0},null,{"$f":"IF(SUM(CI$15:CI$22)>0,$E28*$F28,0)","v":0},null,{"$f":"IF(SUM(CK$15:CK$22)>0,$E28*$F28,0)","v":0},null,{"$f":"IF(SUM(CM$15:CM$22)>0,$E28*$F28,0)","v":0},null,{"$f":"IF(SUM(CO$15:CO$22)>0,$E28*$F28,0)","v":0},null,{"$f":"IF(SUM(CQ$15:CQ$22)>0,$E28*$F28,0)","v":0},null,{"$f":"IF(SUM(CS$15:CS$22)>0,$E28*$F28,0)","v":0},null,{"$f":"IF(SUM(CU$15:CU$22)>0,$E28*$F28,0)","v":0},null,{"$f":"IF(SUM(CW$15:CW$22)>0,$E28*$F28,0)","v":0},null,{"$f":"IF(SUM(CY$15:CY$22)>0,$E28*$F28,0)","v":0},null,{"$f":"IF(SUM(DA$15:DA$22)>0,$E28*$F28,0)","v":0},null,{"$f":"IF(SUM(DC$15:DC$22)>0,$E28*$F28,0)","v":0},null,{"$f":"IF(SUM(DE$15:DE$22)>0,$E28*$F28,0)","v":0},null,{"$f":"IF(SUM(DG$15:DG$22)>0,$E28*$F28,0)","v":0},null,{"$f":"IF(SUM(DI$15:DI$22)>0,$E28*$F28,0)","v":0},null,{"$f":"IF(SUM(DK$15:DK$22)>0,$E28*$F28,0)","v":0},null,{"$f":"IF(SUM(DM$15:DM$22)>0,$E28*$F28,0)","v":0},null,{"$f":"IF(SUM(DO$15:DO$22)>0,$E28*$F28,0)","v":0},null,{"$f":"IF(SUM(DQ$15:DQ$22)>0,$E28*$F28,0)","v":0},null,{"$f":"IF(SUM(DS$15:DS$22)>0,$E28*$F28,0)","v":0},null,{"$f":"IF(SUM(DU$15:DU$22)>0,$E28*$F28,0)","v":0},null,{"$f":"IF(SUM(DW$15:DW$22)>0,$E28*$F28,0)","v":0}]