{"text_format":"1","workbook":"xlsx","n_sheets":35,"sheets":["GUIA PARA PREENCHIMENTO","MODELO PROPOSTA","Remunerações","Resumo","1","2","3","4","5","6","7","8","9","10","11","12","13","14","15","Dados Gerais","Encargos Sociais","BDI","Uniformes","EPI","Equip Rel","Não Rel - EPI","Não Rel - Equip","Transporte","Não Rel - Mat Consumo","SREP","Não Rel - Mat Cons Durável","Não Rel - Serviços","Not. Demanda","Mat Cons","Mat Perm"],"not_rendered":{"charts":0,"images":7,"macros":1,"external_links":0,"defined_names":51,"comments":0,"pivot_tables":0},"unopened":[],"bounds":{"document_bytes":16777216,"sheet_cells":100000,"rows_first":2000,"rows_last":500,"rows_between":2000,"halvings":0,"cell_chars":16384,"cell_head_chars":4096},"cells_cut":0,"cells_raw":0,"read":"whole","date_system":"1900"}

{"sheet":"GUIA PARA PREENCHIMENTO","index":0,"n_rows":5,"n_cols":1,"rows_kept":5,"cut":false,"hidden":false,"merged":[]}
["GUIA PARA PREENCHIMENTO"]
[]
["1 - Preencher apenas as guias azuis:"]
[]
["2 - Recomendamos preencher somente as células com fundo azul claro. As demais possuem fórmulas e sugerimos não alterá-las."]

{"sheet":"MODELO PROPOSTA","index":1,"n_rows":65,"n_cols":2,"rows_kept":65,"cut":false,"hidden":false,"merged":[[9,1,9,9],[1,1,1,9],[4,1,4,9],[6,1,6,9],[7,1,7,9],[8,1,8,9],[25,1,25,4],[25,5,25,9],[10,1,10,9],[11,1,11,9],[12,1,12,9],[14,1,14,9],[15,1,15,9],[16,1,16,2],[17,1,18,9],[19,1,19,9],[21,1,21,9],[22,1,22,9],[23,1,23,9],[26,1,26,4],[26,5,26,9],[27,1,27,4],[27,5,27,9],[28,1,28,4],[28,5,28,9],[29,1,29,4],[29,5,29,9],[30,1,30,4],[30,5,30,9],[31,1,31,4],[31,5,31,9],[48,1,48,9],[33,1,33,9],[34,6,34,10],[35,1,35,9],[36,1,36,9],[37,1,37,9],[38,1,38,9],[40,1,40,9],[42,1,42,9],[43,1,43,9],[44,1,44,9],[45,1,45,9],[46,1,46,9],[47,1,47,9],[55,1,55,4],[55,5,55,9],[50,1,50,9],[52,1,52,9],[53,1,53,4],[53,5,53,9],[54,1,54,4],[54,5,54,9],[56,1,56,9],[59,1,59,9],[60,1,60,9],[61,1,61,9],[64,1,64,9]]}
[]
[null,"MODELO DA PROPOSTA COMPLETA"]
[]
[null,"."]
[null,"I – FORMALIZAÇÃO"]
[]
[null,"PREGÃO ELETRÔNICO N.    90047/2024"]
[null,"OBJETO: Contratação de pessoa jurídica especializada na prestação de serviços de vigilância patrimonial armada e desarmada nas áreas internas e externas da Câmara dos Deputados (Edifícios e estacionamentos do Complexo da Câmara dos Deputados, Complexo Avançado CEFOR/CETEC, blocos de apartamentos residenciais dos Parlamentares, Depósito SAAN, CEAM/SIA e Residência Oficial), a serem executados com regime de dedicação exclusiva de mão de obra, pelo período de 12 (doze) meses"]
[null,"LICITANTE: _____________________________________________________"]
[null,"CNPJ: ________________________________________________________"]
[null,"ENDEREÇO COMPLETO: _________________________________________"]
[null,"TELEFONE:_____________________________________________________"]
[null,"E-MAIL: ________________________________________________________"]
[]
[null,"Apresentamos nossa proposta para o item único da presente licitação, de acordo com as disposições do Edital."]
[null,"Decorre do conteúdo da presente proposta a explicitação do seguinte PREÇO DE JULGAMENTO (GLOBAL ANUAL) PARA O ITEM:"]
[null,{"$f":"Resumo!H99","v":37527947.549999997}]
[null,{"$f":"Extenso_Valor(B17)","v":"trinta e sete milhões, quinhentos e vinte e sete mil, novecentos e quarenta e sete reais e cinquenta e cinco centavos"}]
[]
[null,"(por extenso)"]
[]
[null,"No valor proposto estão incluídos todos os custos e todas as despesas, diretas e indiretas, para a execução dos serviços objeto da licitação, em conformidade com as especificações e demais condições e exigências constantes do Edital."]
[null,"Informamos que eventuais rubricas dispostas em Acordo ou Convenção Coletiva de Trabalho que não se relacionem ao custo direto da venda do serviço, tais como “Participação nos Resultados” e “Abono substitutivo de Participação nos Resultados”, serão consideradas nos custos indiretos da proposta."]
[null,"O prazo de validade da presente proposta é de ______ (por extenso) dias. (observado o disposto no Título 4 do Edital)."]
[]
[null,"Convenção coletiva de trabalho ou a norma coletiva a que estamos obrigados:"]
[null,"Data-Base:"]
[null,"Número do Registro no SRT:"]
[null,"Regime de tributação da empresa:"]
[null,"Empresa é beneficiada pela desoneração da folha de pagamento instituída pela Lei n. 12.546, de 2001, alterada pela Lei n. 13.161, de 2015?"]
[null,"Empresa adere ao PAT (Programa de Alimentação do Trabalhador)?"]
[null,"(Se adere ao PAT): Os valores do auxílio-alimentação apresentados na presente proposta correspondem somente aos efetivamente pagos pela empresa aos empregados?"]
[]
[null,"DECLARAÇÕES"]
[]
[null,"A SEREM PRESTADAS SOMENTE NA HIPÓTESE DE LICITANTE MICROEMPRESA OU EMPRESA DE PEQUENO PORTE, EM CONFORMIDADE COM OS ARTIGOS 17, 18, 30 E 31 DA LEI COMPLEMENTAR N. 123, de 2006, E O ACÓRDÃO TCU 2798/2010-PLENÁRIO"]
[null,"Declaramos que:"]
[null,"a)   em se tratando dos serviços vedados descritos no artigo 17 da Lei Complementar n. 123/2006, notadamente os descritos no inciso XII (cessão ou locação de mão de obra), ressalvados os serviços listados nos § 5º-C, inciso VI, c/c § 5º-H do art. 18 ou no § 1º do art. 17 da referida Lei, a proposta apresentada não contempla qualquer benefício tributário referente ao SIMPLES NACIONAL, conforme os itens 4.20 e 4.21 do Edital;"]
[null,"b)  na hipótese de contratação de Microempresa ou Empresa de Pequeno Porte inscrita no SIMPLES NACIONAL e executora de atividade vedada, que ficaremos sujeitos à exclusão obrigatória no SIMPLES NACIONAL a contar do mês seguinte ao da contratação, em consequência do que dispõem o artigo 17, inciso XII e o artigo 31, inciso II da Lei Complementar n. 123/2006, devendo entregar à Câmara dos Deputados, à título de comprovação, cópia de ofício – com comprovante de entrega e recebimento, que comunique a assinatura do contrato de prestação de serviços mediante cessão de mão de obra e encaminhado pela Contratada à Secretaria Especial da Receita Federal do Brasil até o último dia útil do mês subsequente ao da contratação, consoante artigo 30, § 1º, inciso II da Lei Complementar n. 123/2006."]
[]
[null,"A SEREM PRESTADAS SOMENTE NA HIPÓTESE DE LICITANTE BENEFICIADA PELA DESONERAÇÃO DA FOLHA DE PAGAMENTO INSTITUÍDA PELA LEI N. 12.546, DE 2011, ALTERADA PELA LEI N. 13.161, DE 2015. "]
[]
[null,"Declaramos, sob as penas da Lei, que:"]
[null,"a)   recolhemos a contribuição previdenciária incidente sobre o valor da receita bruta, em substituição às contribuições previdenciárias incidentes sobre a folha de pagamento, previstas nos incisos I e III do caput do artigo 22 da Lei n. 8.212, de 24 de julho de 1991, na forma do caput do artigo 7º (ou 8º) da Lei n. 12.546, de 14 de dezembro de 2011, alterada pela Lei n. 13.161, de 31 de agosto de 2015;"]
[null,"b)   temos ciência que nossa manifestação, conforme alínea “a” anterior, será remetida à Receita Federal do Brasil e que, em caso de constatação de falsidade, estará sujeita às sanções administrativas cabíveis, sem prejuízo do encaminhamento dos documentos ao Ministério Público para apuração de eventual responsabilidade criminal desta declarante."]
[null,"A SEREM PRESTADAS SOMENTE PARA A LICITANTE QUE SEJA A ATUAL TITULAR DO CONTRATO QUE SERÁ SUCEDIDO PELA CONTRATAÇÃO DECORRENTE DO PREGÃO EM EPÍGRAFE, NA HIPÓTESE DE HAVER SALÁRIO(S) PRATICADO(S) NO CONTRATO VIGENTE SUPERIOR(ES) AOS MÍNIMOS FIXADOS NO EDITAL E QUE TENHA OPTADO POR TOMAR COMO BASE EM SEUS LANCES E NA PRESENTE PROPOSTA DE PREÇOS SALÁRIO(S) FIXADO(S) NESTE EDITAL:"]
[null,"Declaramos que:"]
[null,"a) estamos cientes de que deveremos apresentar à Câmara dos Deputados, no prazo improrrogável de 60 (sessenta) dias, contado da data de início da vigência do contrato, a convenção ou o acordo coletivo de trabalho, entabulado com a participação do sindicato dos trabalhadores, em que se autoriza a redução salarial, na forma do art. 7°, VI, da Constituição Federal, considerado, ainda, o disposto no subitem 10.9.2.1 do Título 10 da minuta do Termo de Contrato anexa ao Edital;"]
[null,"b) estamos cientes de que, na hipótese de não cumprirmos o disposto no teor da declaração da alínea anterior (“a”) e não logrado êxito na contratação de remanescente, sendo necessária a realização de nova licitação, caso participemos do certame, deveremos tomar como base em nossos lances e em nossa proposta de preços o(s) salário(s) maior(es), absorvendo ou acrescentando eventual diferença no BDI, sob pena de desclassificação. "]
[]
[null,"É OBRIGATÓRIA A COMPROVAÇÃO A QUE SE REFERE O ITEM 4.3 DO TÍTULO 4 DO TERMO DE REFERÊNCIA \n(referente ao valor do Fator Acidentário de Prevenção (FAP))."]
[]
[null,"DADOS PARA ASSINATURA DO CONTRATO"]
[null,"Nome do signatário"]
[null,"Cargo"]
[null,"Qualificação\n(CPF, naturalidade e domicílio)"]
[null,"OBS.: O signatário deve possuir poderes de administração estabelecidos em contrato social e/ou possuir procuração com poderes para assinar contratos em nome da empresa. \nA documentação comprobatória deverá ser encaminhada quando da assinatura do contrato."]
[]
[]
[null,"Brasília,     de                     de 2020."]
[]
[null,"Assinatura do representante legal da empresa"]
[]
[]
[null,"Nome do representante legal da empresa"]

{"sheet":"Remunerações","index":2,"n_rows":26,"n_cols":11,"rows_kept":26,"cut":false,"hidden":false,"merged":[[0,1,0,10]]}
[null,"QUADRO DE REMUNERAÇÕES"]
[]
[null,null,"ITEM","POSTO DE TRABALHO","QUANTIDADE","SALÁRIO","ADICIONAL DE PERICULOSIDADE","ADICIONAL DE INSALUBRIDADE","ADICIONAL NOTURNO","OUTROS","SALÁRIO COM ADICIONAIS"]
[null,null,null,"POSTO DE TRABALHO - EQUIPE DE TRABALHO"]
[null,null,1,{"$f":"HLOOKUP($C5,'Dados Gerais'!$D$6:$Z$69,6)","v":"VIGILANTE SUPERVISOR II  \nEscala 12 X 36  \n7h às 19h  \n2ª feira a Dom"},{"$f":"HLOOKUP($C5,'Dados Gerais'!$D$6:$Z$69,10)","v":2},{"$f":"HLOOKUP($C5,'Dados Gerais'!$D$6:$Z$69,8)","v":5786.06},{"$f":"HLOOKUP($C5,'Dados Gerais'!$D$6:$Z$69,25)","v":1735.82},{"$f":"HLOOKUP($C5,'Dados Gerais'!$D$6:$Z$69,31)","v":0},{"$f":"HLOOKUP($C5,'Dados Gerais'!$D$6:$Z$69,46)","v":0},{"$f":"HLOOKUP($C5,'Dados Gerais'!$D$6:$Z$69,33)","v":0},{"$f":"SUM(F5:J5)","v":7521.88}]
[null,null,{"$f":"C5+1","v":2},{"$f":"HLOOKUP($C6,'Dados Gerais'!$D$6:$Z$69,6)","v":"VIGILANTE SUPERVISOR I \n INTERNO DIURNO \nEscala 12 x 36  \n7h às 19h  \n2ª feira a Dom"},{"$f":"HLOOKUP($C6,'Dados Gerais'!$D$6:$Z$69,10)","v":2},{"$f":"HLOOKUP($C6,'Dados Gerais'!$D$6:$Z$69,8)","v":4450},{"$f":"HLOOKUP($C6,'Dados Gerais'!$D$6:$Z$69,25)","v":1335},{"$f":"HLOOKUP($C6,'Dados Gerais'!$D$6:$Z$69,31)","v":0},{"$f":"HLOOKUP($C6,'Dados Gerais'!$D$6:$Z$69,46)","v":0},{"$f":"HLOOKUP($C6,'Dados Gerais'!$D$6:$Z$69,33)","v":0},{"$f":"SUM(F6:J6)","v":5785}]
[null,null,{"$f":"C6+1","v":3},{"$f":"HLOOKUP($C7,'Dados Gerais'!$D$6:$Z$69,6)","v":"VIGILANTE SUPERVISOR I \n EXTERNO DIURNO \nEscala 12 x 36  \n7h às 19h  \n2ª feira a Dom"},{"$f":"HLOOKUP($C7,'Dados Gerais'!$D$6:$Z$69,10)","v":2},{"$f":"HLOOKUP($C7,'Dados Gerais'!$D$6:$Z$69,8)","v":4450},{"$f":"HLOOKUP($C7,'Dados Gerais'!$D$6:$Z$69,25)","v":1335},{"$f":"HLOOKUP($C7,'Dados Gerais'!$D$6:$Z$69,31)","v":0},{"$f":"HLOOKUP($C7,'Dados Gerais'!$D$6:$Z$69,46)","v":0},{"$f":"HLOOKUP($C7,'Dados Gerais'!$D$6:$Z$69,33)","v":272.33999999999997},6057.34]
[null,null,4,{"$f":"HLOOKUP($C8,'Dados Gerais'!$D$6:$Z$69,6)","v":"VIGILANTE SUPERVISOR I \n INTERNO NOTURNO  \nEscala 12 x 36  \n19h às 7h  \n2ª feira a Dom"},{"$f":"HLOOKUP($C8,'Dados Gerais'!$D$6:$Z$69,10)","v":2},{"$f":"HLOOKUP($C8,'Dados Gerais'!$D$6:$Z$69,8)","v":4450},{"$f":"HLOOKUP($C8,'Dados Gerais'!$D$6:$Z$69,25)","v":1335},{"$f":"HLOOKUP($C8,'Dados Gerais'!$D$6:$Z$69,31)","v":0},{"$f":"HLOOKUP($C8,'Dados Gerais'!$D$6:$Z$69,46)","v":631.09},{"$f":"HLOOKUP($C8,'Dados Gerais'!$D$6:$Z$69,33)","v":0},6416.09]
[null,null,5,{"$f":"HLOOKUP($C9,'Dados Gerais'!$D$6:$Z$69,6)","v":"VIGILANTE SUPERVISOR I \n EXTERNO NOTURNO  \nEscala 12 x 36  \n19h às 7h  \n2ª feira a Dom"},{"$f":"HLOOKUP($C9,'Dados Gerais'!$D$6:$Z$69,10)","v":2},{"$f":"HLOOKUP($C9,'Dados Gerais'!$D$6:$Z$69,8)","v":4450},{"$f":"HLOOKUP($C9,'Dados Gerais'!$D$6:$Z$69,25)","v":1335},{"$f":"HLOOKUP($C9,'Dados Gerais'!$D$6:$Z$69,31)","v":0},{"$f":"HLOOKUP($C9,'Dados Gerais'!$D$6:$Z$69,46)","v":660.8},{"$f":"HLOOKUP($C9,'Dados Gerais'!$D$6:$Z$69,33)","v":272.33999999999997},6718.14]
[null,null,6,{"$f":"HLOOKUP($C10,'Dados Gerais'!$D$6:$Z$69,6)","v":"VIGILANTE DIURNO  \nPORTARIAS 1 \nEscala 12 x 36  \n7h às 19h  \n2ª feira a Dom"},{"$f":"HLOOKUP($C10,'Dados Gerais'!$D$6:$Z$69,10)","v":36},{"$f":"HLOOKUP($C10,'Dados Gerais'!$D$6:$Z$69,8)","v":3423.03},{"$f":"HLOOKUP($C10,'Dados Gerais'!$D$6:$Z$69,25)","v":1026.9100000000001},{"$f":"HLOOKUP($C10,'Dados Gerais'!$D$6:$Z$69,31)","v":0},{"$f":"HLOOKUP($C10,'Dados Gerais'!$D$6:$Z$69,46)","v":0},{"$f":"HLOOKUP($C10,'Dados Gerais'!$D$6:$Z$69,33)","v":0},4449.9400000000005]
[null,null,7,{"$f":"HLOOKUP($C11,'Dados Gerais'!$D$6:$Z$69,6)","v":"VIGILANTE NOTURNO  \nPORTARIAS 1 \nEscala 12 x 36  \n19h às 7h  \n2ª feira a Dom"},{"$f":"HLOOKUP($C11,'Dados Gerais'!$D$6:$Z$69,10)","v":30},{"$f":"HLOOKUP($C11,'Dados Gerais'!$D$6:$Z$69,8)","v":3423.03},{"$f":"HLOOKUP($C11,'Dados Gerais'!$D$6:$Z$69,25)","v":1026.9100000000001},{"$f":"HLOOKUP($C11,'Dados Gerais'!$D$6:$Z$69,31)","v":0},{"$f":"HLOOKUP($C11,'Dados Gerais'!$D$6:$Z$69,46)","v":485.45},{"$f":"HLOOKUP($C11,'Dados Gerais'!$D$6:$Z$69,33)","v":0},4935.3900000000003]
[null,null,8,{"$f":"HLOOKUP($C12,'Dados Gerais'!$D$6:$Z$69,6)","v":"VIGILANTE MATUTINO \nPORTARIAS 1 \nEscala 40 horas semanais \n7h às 16h  \n2ª à 6ª feira"},{"$f":"HLOOKUP($C12,'Dados Gerais'!$D$6:$Z$69,10)","v":13},{"$f":"HLOOKUP($C12,'Dados Gerais'!$D$6:$Z$69,8)","v":3423.03},{"$f":"HLOOKUP($C12,'Dados Gerais'!$D$6:$Z$69,25)","v":1026.9100000000001},{"$f":"HLOOKUP($C12,'Dados Gerais'!$D$6:$Z$69,31)","v":0},{"$f":"HLOOKUP($C12,'Dados Gerais'!$D$6:$Z$69,46)","v":0},{"$f":"HLOOKUP($C12,'Dados Gerais'!$D$6:$Z$69,33)","v":0},4449.9400000000005]
[null,null,9,{"$f":"HLOOKUP($C13,'Dados Gerais'!$D$6:$Z$69,6)","v":"VIGILANTE VESPERTINO \nPORTARIAS 1 \nEscala 40 horas semanais \n13h às 22h \n2ª à 6ª feira"},{"$f":"HLOOKUP($C13,'Dados Gerais'!$D$6:$Z$69,10)","v":13},{"$f":"HLOOKUP($C13,'Dados Gerais'!$D$6:$Z$69,8)","v":3423.03},{"$f":"HLOOKUP($C13,'Dados Gerais'!$D$6:$Z$69,25)","v":1026.9100000000001},{"$f":"HLOOKUP($C13,'Dados Gerais'!$D$6:$Z$69,31)","v":0},{"$f":"HLOOKUP($C13,'Dados Gerais'!$D$6:$Z$69,46)","v":0},{"$f":"HLOOKUP($C13,'Dados Gerais'!$D$6:$Z$69,33)","v":0},4449.9400000000005]
[null,null,10,{"$f":"HLOOKUP($C14,'Dados Gerais'!$D$6:$Z$69,6)","v":"VIGILANTE MATUTINO \nESTACIONAMENTOS \nEscala 40 horas semanais \n7h às 16h \n2ª à 6ª feira"},{"$f":"HLOOKUP($C14,'Dados Gerais'!$D$6:$Z$69,10)","v":24},{"$f":"HLOOKUP($C14,'Dados Gerais'!$D$6:$Z$69,8)","v":3423.03},{"$f":"HLOOKUP($C14,'Dados Gerais'!$D$6:$Z$69,25)","v":1026.9100000000001},{"$f":"HLOOKUP($C14,'Dados Gerais'!$D$6:$Z$69,31)","v":0},{"$f":"HLOOKUP($C14,'Dados Gerais'!$D$6:$Z$69,46)","v":0},{"$f":"HLOOKUP($C14,'Dados Gerais'!$D$6:$Z$69,33)","v":0},4449.9400000000005]
[null,null,11,{"$f":"HLOOKUP($C15,'Dados Gerais'!$D$6:$Z$69,6)","v":"VIGILANTE VESPERTINO \nESTACIONAMENTOS \nEscala 40 horas semanais \n14h às 23h \n2ª à 6ª feira"},{"$f":"HLOOKUP($C15,'Dados Gerais'!$D$6:$Z$69,10)","v":24},{"$f":"HLOOKUP($C15,'Dados Gerais'!$D$6:$Z$69,8)","v":3423.03},{"$f":"HLOOKUP($C15,'Dados Gerais'!$D$6:$Z$69,25)","v":1026.9100000000001},{"$f":"HLOOKUP($C15,'Dados Gerais'!$D$6:$Z$69,31)","v":0},{"$f":"HLOOKUP($C15,'Dados Gerais'!$D$6:$Z$69,46)","v":101.71},{"$f":"HLOOKUP($C15,'Dados Gerais'!$D$6:$Z$69,33)","v":0},4551.6500000000005]
[null,null,12,{"$f":"HLOOKUP($C16,'Dados Gerais'!$D$6:$Z$69,6)","v":"VIGILANTE DIURNO \nPOSTOS EXTERNOS \nEscala 12 x 36 \n7h às 19h \n2ª feira a Dom"},{"$f":"HLOOKUP($C16,'Dados Gerais'!$D$6:$Z$69,10)","v":60},{"$f":"HLOOKUP($C16,'Dados Gerais'!$D$6:$Z$69,8)","v":3423.03},{"$f":"HLOOKUP($C16,'Dados Gerais'!$D$6:$Z$69,25)","v":1026.9100000000001},{"$f":"HLOOKUP($C16,'Dados Gerais'!$D$6:$Z$69,31)","v":0},{"$f":"HLOOKUP($C16,'Dados Gerais'!$D$6:$Z$69,46)","v":0},{"$f":"HLOOKUP($C16,'Dados Gerais'!$D$6:$Z$69,33)","v":0},4449.9400000000005]
[null,null,13,{"$f":"HLOOKUP($C17,'Dados Gerais'!$D$6:$Z$69,6)","v":"VIGILANTE NOTURNO \nPOSTOS EXTERNOS \nEscala 12 x 36 \n19h às 7h \n2ª feira a Dom"},{"$f":"HLOOKUP($C17,'Dados Gerais'!$D$6:$Z$69,10)","v":64},{"$f":"HLOOKUP($C17,'Dados Gerais'!$D$6:$Z$69,8)","v":3423.03},{"$f":"HLOOKUP($C17,'Dados Gerais'!$D$6:$Z$69,25)","v":1026.9100000000001},{"$f":"HLOOKUP($C17,'Dados Gerais'!$D$6:$Z$69,31)","v":0},{"$f":"HLOOKUP($C17,'Dados Gerais'!$D$6:$Z$69,46)","v":485.45},{"$f":"HLOOKUP($C17,'Dados Gerais'!$D$6:$Z$69,33)","v":0},4935.3900000000003]
[null,null,14,{"$f":"HLOOKUP($C18,'Dados Gerais'!$D$6:$Z$69,6)","v":0},{"$f":"HLOOKUP($C18,'Dados Gerais'!$D$6:$Z$69,10)","v":0},{"$f":"HLOOKUP($C18,'Dados Gerais'!$D$6:$Z$69,8)","v":0},{"$f":"HLOOKUP($C18,'Dados Gerais'!$D$6:$Z$69,25)","v":0},{"$f":"HLOOKUP($C18,'Dados Gerais'!$D$6:$Z$69,31)","v":0},{"$f":"HLOOKUP($C18,'Dados Gerais'!$D$6:$Z$69,46)","v":0},{"$f":"HLOOKUP($C18,'Dados Gerais'!$D$6:$Z$69,33)","v":0},0]
[null,null,15,{"$f":"HLOOKUP($C19,'Dados Gerais'!$D$6:$Z$69,6)","v":0},{"$f":"HLOOKUP($C19,'Dados Gerais'!$D$6:$Z$69,10)","v":0},{"$f":"HLOOKUP($C19,'Dados Gerais'!$D$6:$Z$69,8)","v":0},{"$f":"HLOOKUP($C19,'Dados Gerais'!$D$6:$Z$69,25)","v":0},{"$f":"HLOOKUP($C19,'Dados Gerais'!$D$6:$Z$69,31)","v":0},{"$f":"HLOOKUP($C19,'Dados Gerais'!$D$6:$Z$69,46)","v":0},{"$f":"HLOOKUP($C19,'Dados Gerais'!$D$6:$Z$69,33)","v":0},0]
[]
[]
[]
[]
[]
[]
[null,null,null,"TOTAL DE POSTOS",{"$f":"SUM(E5:E25)","v":274}]

{"sheet":"Resumo","index":3,"n_rows":122,"n_cols":12,"rows_kept":122,"cut":false,"hidden":false,"merged":[[2,1,2,8],[48,1,48,8],[25,1,25,8],[96,3,96,7],[121,10,122,18],[94,10,95,18],[114,3,114,7],[84,3,84,7],[100,3,100,7],[106,3,106,7],[110,3,110,7],[112,10,113,18],[98,10,99,18]]}
[]
[]
[null,"RESUMO - TOTAIS MENSAIS - FATURA ORDINÁRIA (SEM O 13º E SEM OS ITENS SOB DEMANDA)"]
[]
[]
[null,null,"ITEM","POSTO DE TRABALHO","QUANTIDADE","PREÇO UNIT       (SEM O 13º)","DESTAQUE DO 13º","PREÇO POR EMPREGADO","PREÇO TOTAL (MENSAL)"]
[null,null,1,{"$f":"HLOOKUP(C7,'Dados Gerais'!$D$6:$BK$11,6)","v":"VIGILANTE SUPERVISOR II  \nEscala 12 X 36  \n7h às 19h  \n2ª feira a Dom"},{"$f":"HLOOKUP(C7,'Dados Gerais'!$D$6:$BK$15,10)","v":2},{"$f":"'1'!$E$114","v":15610.329560000004},0,{"$f":"G7+F7","v":15610.329560000004},{"$f":"H7*E7","v":31220.659120000008}]
[null,null,2,{"$f":"HLOOKUP(C8,'Dados Gerais'!$D$6:$BK$11,6)","v":"VIGILANTE SUPERVISOR I \n INTERNO DIURNO \nEscala 12 x 36  \n7h às 19h  \n2ª feira a Dom"},{"$f":"HLOOKUP(C8,'Dados Gerais'!$D$6:$BK$15,10)","v":2},{"$f":"'2'!$E$114","v":12255.672519999998},0,12255.672519999998,24511.345039999997]
[null,null,3,{"$f":"HLOOKUP(C9,'Dados Gerais'!$D$6:$BK$11,6)","v":"VIGILANTE SUPERVISOR I \n EXTERNO DIURNO \nEscala 12 x 36  \n7h às 19h  \n2ª feira a Dom"},{"$f":"HLOOKUP(C9,'Dados Gerais'!$D$6:$BK$15,10)","v":2},{"$f":"'3'!$E$114","v":12781.67604},0,12781.67604,25563.352080000001]
[null,null,4,{"$f":"HLOOKUP(C10,'Dados Gerais'!$D$6:$BK$11,6)","v":"VIGILANTE SUPERVISOR I \n INTERNO NOTURNO  \nEscala 12 x 36  \n19h às 7h  \n2ª feira a Dom"},{"$f":"HLOOKUP(C10,'Dados Gerais'!$D$6:$BK$15,10)","v":2},{"$f":"'4'!$E$114","v":13474.553959999999},0,13474.553959999999,26949.107919999999]
[null,null,5,{"$f":"HLOOKUP(C11,'Dados Gerais'!$D$6:$BK$11,6)","v":"VIGILANTE SUPERVISOR I \n EXTERNO NOTURNO  \nEscala 12 x 36  \n19h às 7h  \n2ª feira a Dom"},{"$f":"HLOOKUP(C11,'Dados Gerais'!$D$6:$BK$15,10)","v":2},{"$f":"'5'!$E$114","v":14057.952160000003},0,{"$f":"G11+F11","v":14057.952160000003},{"$f":"H11*E11","v":28115.904320000005}]
[null,null,6,{"$f":"HLOOKUP(C12,'Dados Gerais'!$D$6:$BK$11,6)","v":"VIGILANTE DIURNO  \nPORTARIAS 1 \nEscala 12 x 36  \n7h às 19h  \n2ª feira a Dom"},{"$f":"HLOOKUP(C12,'Dados Gerais'!$D$6:$BK$15,10)","v":36},{"$f":"'6'!$E$114","v":9756.2046399999999},0,9756.2046399999999,351223.36703999998]
[null,null,7,{"$f":"HLOOKUP(C13,'Dados Gerais'!$D$6:$BK$11,6)","v":"VIGILANTE NOTURNO  \nPORTARIAS 1 \nEscala 12 x 36  \n19h às 7h  \n2ª feira a Dom"},{"$f":"HLOOKUP(C13,'Dados Gerais'!$D$6:$BK$15,10)","v":30},{"$f":"'7'!$E$114","v":10693.819640000002},0,10693.819640000002,320814.58920000005]
[null,null,8,{"$f":"HLOOKUP(C14,'Dados Gerais'!$D$6:$BK$11,6)","v":"VIGILANTE MATUTINO \nPORTARIAS 1 \nEscala 40 horas semanais \n7h às 16h  \n2ª à 6ª feira"},{"$f":"HLOOKUP(C14,'Dados Gerais'!$D$6:$BK$15,10)","v":13},{"$f":"'8'!$E$114","v":10283.424200000001},0,10283.424200000001,133684.51460000002]
[null,null,9,{"$f":"HLOOKUP(C15,'Dados Gerais'!$D$6:$BK$11,6)","v":"VIGILANTE VESPERTINO \nPORTARIAS 1 \nEscala 40 horas semanais \n13h às 22h \n2ª à 6ª feira"},{"$f":"HLOOKUP(C15,'Dados Gerais'!$D$6:$BK$15,10)","v":13},{"$f":"'9'!$E$114","v":10283.424200000001},0,{"$f":"G15+F15","v":10283.424200000001},{"$f":"H15*E15","v":133684.51460000002}]
[null,null,10,{"$f":"HLOOKUP(C16,'Dados Gerais'!$D$6:$BK$11,6)","v":"VIGILANTE MATUTINO \nESTACIONAMENTOS \nEscala 40 horas semanais \n7h às 16h \n2ª à 6ª feira"},{"$f":"HLOOKUP(C16,'Dados Gerais'!$D$6:$BK$15,10)","v":24},{"$f":"'10'!$E$114","v":10408.543879999999},0,10408.543879999999,249805.05312]
[null,null,11,{"$f":"HLOOKUP(C17,'Dados Gerais'!$D$6:$BK$11,6)","v":"VIGILANTE VESPERTINO \nESTACIONAMENTOS \nEscala 40 horas semanais \n14h às 23h \n2ª à 6ª feira"},{"$f":"HLOOKUP(C17,'Dados Gerais'!$D$6:$BK$15,10)","v":24},{"$f":"'11'!$E$114","v":10605.036679999999},0,10605.036679999999,254520.88032]
[null,null,12,{"$f":"HLOOKUP(C18,'Dados Gerais'!$D$6:$BK$11,6)","v":"VIGILANTE DIURNO \nPOSTOS EXTERNOS \nEscala 12 x 36 \n7h às 19h \n2ª feira a Dom"},{"$f":"HLOOKUP(C18,'Dados Gerais'!$D$6:$BK$15,10)","v":60},{"$f":"'12'!$E$114","v":10220.84028},0,{"$f":"G18+F18","v":10220.84028},{"$f":"H18*E18","v":613250.41680000001}]
[null,null,13,{"$f":"HLOOKUP(C19,'Dados Gerais'!$D$6:$BK$11,6)","v":"VIGILANTE NOTURNO \nPOSTOS EXTERNOS \nEscala 12 x 36 \n19h às 7h \n2ª feira a Dom"},{"$f":"HLOOKUP(C19,'Dados Gerais'!$D$6:$BK$15,10)","v":64},{"$f":"'13'!$E$114","v":11158.455280000002},0,11158.455280000002,714141.13792000012]
[null,null,14,{"$f":"HLOOKUP(C20,'Dados Gerais'!$D$6:$BK$11,6)","v":0},{"$f":"HLOOKUP(C20,'Dados Gerais'!$D$6:$BK$15,10)","v":0},{"$f":"'14'!$E$114","v":0},0,0,0]
[null,null,15,{"$f":"HLOOKUP(C21,'Dados Gerais'!$D$6:$BK$11,6)","v":0},{"$f":"HLOOKUP(C21,'Dados Gerais'!$D$6:$BK$15,10)","v":0},{"$f":"'15'!$E$114","v":0},0,{"$f":"G21+F21","v":0},{"$f":"H21*E21","v":0}]
[]
[null,null,null,"TOTAL MENSAL - SALÁRIOS",null,null,null,null,{"$f":"SUM(I7:I22)","v":2907484.8420800003}]
[]
[]
[null,"RESUMO - TOTAIS MENSAIS - DESTAQUE DO 13º SALÁRIO"]
[]
[]
[null,null,"ITEM","POSTO DE TRABALHO","QUANTIDADE","PREÇO UNIT       (SEM O 13º)","DESTAQUE DO 13º","PREÇO POR EMPREGADO","PREÇO TOTAL (MENSAL)"]
[null,null,1,{"$f":"HLOOKUP(C30,'Dados Gerais'!$D$6:$BK$11,6)","v":"VIGILANTE SUPERVISOR II  \nEscala 12 X 36  \n7h às 19h  \n2ª feira a Dom"},{"$f":"HLOOKUP(C30,'Dados Gerais'!$D$6:$BK$15,10)","v":2},0,{"$f":"G53","v":1125.82},{"$f":"G30+F30","v":1125.82},{"$f":"H30*E30","v":2251.64}]
[null,null,2,{"$f":"HLOOKUP(C31,'Dados Gerais'!$D$6:$BK$11,6)","v":"VIGILANTE SUPERVISOR I \n INTERNO DIURNO \nEscala 12 x 36  \n7h às 19h  \n2ª feira a Dom"},{"$f":"HLOOKUP(C31,'Dados Gerais'!$D$6:$BK$15,10)","v":2},0,865.87000000000012,{"$f":"G31+F31","v":865.87000000000012},1731.7400000000002]
[null,null,3,{"$f":"HLOOKUP(C32,'Dados Gerais'!$D$6:$BK$11,6)","v":"VIGILANTE SUPERVISOR I \n EXTERNO DIURNO \nEscala 12 x 36  \n7h às 19h  \n2ª feira a Dom"},{"$f":"HLOOKUP(C32,'Dados Gerais'!$D$6:$BK$15,10)","v":2},0,906.64,906.64,1813.28]
[null,null,4,{"$f":"HLOOKUP(C33,'Dados Gerais'!$D$6:$BK$11,6)","v":"VIGILANTE SUPERVISOR I \n INTERNO NOTURNO  \nEscala 12 x 36  \n19h às 7h  \n2ª feira a Dom"},{"$f":"HLOOKUP(C33,'Dados Gerais'!$D$6:$BK$15,10)","v":2},0,960.31999999999994,960.31999999999994,1920.6399999999999]
[null,null,5,{"$f":"HLOOKUP(C34,'Dados Gerais'!$D$6:$BK$11,6)","v":"VIGILANTE SUPERVISOR I \n EXTERNO NOTURNO  \nEscala 12 x 36  \n19h às 7h  \n2ª feira a Dom"},{"$f":"HLOOKUP(C34,'Dados Gerais'!$D$6:$BK$15,10)","v":2},0,1005.53,1005.53,2011.06]
[null,null,6,{"$f":"HLOOKUP(C35,'Dados Gerais'!$D$6:$BK$11,6)","v":"VIGILANTE DIURNO  \nPORTARIAS 1 \nEscala 12 x 36  \n7h às 19h  \n2ª feira a Dom"},{"$f":"HLOOKUP(C35,'Dados Gerais'!$D$6:$BK$15,10)","v":36},0,666.04000000000008,666.04000000000008,23977.440000000002]
[null,null,7,{"$f":"HLOOKUP(C36,'Dados Gerais'!$D$6:$BK$11,6)","v":"VIGILANTE NOTURNO  \nPORTARIAS 1 \nEscala 12 x 36  \n19h às 7h  \n2ª feira a Dom"},{"$f":"HLOOKUP(C36,'Dados Gerais'!$D$6:$BK$15,10)","v":30},0,738.68999999999994,{"$f":"G36+F36","v":738.68999999999994},{"$f":"H36*E36","v":22160.699999999997}]
[null,null,8,{"$f":"HLOOKUP(C37,'Dados Gerais'!$D$6:$BK$11,6)","v":"VIGILANTE MATUTINO \nPORTARIAS 1 \nEscala 40 horas semanais \n7h às 16h  \n2ª à 6ª feira"},{"$f":"HLOOKUP(C37,'Dados Gerais'!$D$6:$BK$15,10)","v":13},0,666.04000000000008,666.04000000000008,8658.52]
[null,null,9,{"$f":"HLOOKUP(C38,'Dados Gerais'!$D$6:$BK$11,6)","v":"VIGILANTE VESPERTINO \nPORTARIAS 1 \nEscala 40 horas semanais \n13h às 22h \n2ª à 6ª feira"},{"$f":"HLOOKUP(C38,'Dados Gerais'!$D$6:$BK$15,10)","v":13},0,666.04000000000008,666.04000000000008,8658.52]
[null,null,10,{"$f":"HLOOKUP(C39,'Dados Gerais'!$D$6:$BK$11,6)","v":"VIGILANTE MATUTINO \nESTACIONAMENTOS \nEscala 40 horas semanais \n7h às 16h \n2ª à 6ª feira"},{"$f":"HLOOKUP(C39,'Dados Gerais'!$D$6:$BK$15,10)","v":24},0,666.04000000000008,{"$f":"G39+F39","v":666.04000000000008},15984.960000000003]
[null,null,11,{"$f":"HLOOKUP(C40,'Dados Gerais'!$D$6:$BK$11,6)","v":"VIGILANTE VESPERTINO \nESTACIONAMENTOS \nEscala 40 horas semanais \n14h às 23h \n2ª à 6ª feira"},{"$f":"HLOOKUP(C40,'Dados Gerais'!$D$6:$BK$15,10)","v":24},0,681.26,681.26,16350.24]
[null,null,12,{"$f":"HLOOKUP(C41,'Dados Gerais'!$D$6:$BK$11,6)","v":"VIGILANTE DIURNO \nPOSTOS EXTERNOS \nEscala 12 x 36 \n7h às 19h \n2ª feira a Dom"},{"$f":"HLOOKUP(C41,'Dados Gerais'!$D$6:$BK$15,10)","v":60},0,666.04000000000008,{"$f":"G41+F41","v":666.04000000000008},{"$f":"H41*E41","v":39962.400000000001}]
[null,null,13,{"$f":"HLOOKUP(C42,'Dados Gerais'!$D$6:$BK$11,6)","v":"VIGILANTE NOTURNO \nPOSTOS EXTERNOS \nEscala 12 x 36 \n19h às 7h \n2ª feira a Dom"},{"$f":"HLOOKUP(C42,'Dados Gerais'!$D$6:$BK$15,10)","v":64},0,738.68999999999994,738.68999999999994,47276.159999999996]
[null,null,14,{"$f":"HLOOKUP(C43,'Dados Gerais'!$D$6:$BK$11,6)","v":0},{"$f":"HLOOKUP(C43,'Dados Gerais'!$D$6:$BK$15,10)","v":0},0,0,0,0]
[null,null,15,{"$f":"HLOOKUP(C44,'Dados Gerais'!$D$6:$BK$11,6)","v":0},{"$f":"HLOOKUP(C44,'Dados Gerais'!$D$6:$BK$15,10)","v":0},0,0,{"$f":"G44+F44","v":0},{"$f":"H44*E44","v":0}]
[]
[null,null,null,"TOTAL MENSAL - DESTAQUE DO 13º",null,null,null,null,{"$f":"SUM(I30:I45)","v":192757.30000000002}]
[]
[]
[null,"RESUMO - TOTAIS MENSAIS - FATURA ORDINÁRIA TOTAL"]
[]
[]
[null,null,"ITEM","POSTO DE TRABALHO","QUANTIDADE","PREÇO UNIT       (SEM O 13º)","DESTAQUE DO 13º","PREÇO POR EMPREGADO","PREÇO TOTAL (MENSAL)"]
[null,null,1,{"$f":"HLOOKUP(C53,'Dados Gerais'!$D$6:$BK$11,6)","v":"VIGILANTE SUPERVISOR II  \nEscala 12 X 36  \n7h às 19h  \n2ª feira a Dom"},{"$f":"HLOOKUP(C53,'Dados Gerais'!$D$6:$BK$15,10)","v":2},{"$f":"F7","v":15610.329560000004},{"$f":"'1'!$E$115","v":1125.82},{"$f":"G53+F53","v":16736.149560000005},{"$f":"H53*E53","v":33472.299120000011},null,{"$f":"I53/$I$69","v":1.0796672513309855E-2},{"$f":"$I$83*K53","v":292.44753396419873}]
[null,null,2,{"$f":"HLOOKUP(C54,'Dados Gerais'!$D$6:$BK$11,6)","v":"VIGILANTE SUPERVISOR I \n INTERNO DIURNO \nEscala 12 x 36  \n7h às 19h  \n2ª feira a Dom"},{"$f":"HLOOKUP(C54,'Dados Gerais'!$D$6:$BK$15,10)","v":2},12255.672519999998,{"$f":"'2'!$E$115","v":865.87000000000012},{"$f":"G54+F54","v":13121.542519999999},{"$f":"H54*E54","v":26243.085039999998},null,{"$f":"I54/$I$69","v":8.4648501108346031E-3},229.2858783331987]
[null,null,3,{"$f":"HLOOKUP(C55,'Dados Gerais'!$D$6:$BK$11,6)","v":"VIGILANTE SUPERVISOR I \n EXTERNO DIURNO \nEscala 12 x 36  \n7h às 19h  \n2ª feira a Dom"},{"$f":"HLOOKUP(C55,'Dados Gerais'!$D$6:$BK$15,10)","v":2},12781.67604,{"$f":"'3'!$E$115","v":906.64},13688.31604,27376.632079999999,null,8.8304818866930795E-3,239.18968073685073]
[null,null,4,{"$f":"HLOOKUP(C56,'Dados Gerais'!$D$6:$BK$11,6)","v":"VIGILANTE SUPERVISOR I \n INTERNO NOTURNO  \nEscala 12 x 36  \n19h às 7h  \n2ª feira a Dom"},{"$f":"HLOOKUP(C56,'Dados Gerais'!$D$6:$BK$15,10)","v":2},13474.553959999999,{"$f":"'4'!$E$115","v":960.31999999999994},14434.873959999999,28869.747919999998,null,9.3120945387287837E-3,252.23503635360836]
[null,null,5,{"$f":"HLOOKUP(C57,'Dados Gerais'!$D$6:$BK$11,6)","v":"VIGILANTE SUPERVISOR I \n EXTERNO NOTURNO  \nEscala 12 x 36  \n19h às 7h  \n2ª feira a Dom"},{"$f":"HLOOKUP(C57,'Dados Gerais'!$D$6:$BK$15,10)","v":2},14057.952160000003,{"$f":"'5'!$E$115","v":1005.53},15063.482160000003,30126.964320000006,null,9.7176165406832899E-3,263.21933816452474]
[null,null,6,{"$f":"HLOOKUP(C58,'Dados Gerais'!$D$6:$BK$11,6)","v":"VIGILANTE DIURNO  \nPORTARIAS 1 \nEscala 12 x 36  \n7h às 19h  \n2ª feira a Dom"},{"$f":"HLOOKUP(C58,'Dados Gerais'!$D$6:$BK$15,10)","v":36},9756.2046399999999,{"$f":"'6'!$E$115","v":666.04000000000008},10422.244640000001,375200.80704000004,null,0.12102306524621073,3278.1300850249199]
[null,null,7,{"$f":"HLOOKUP(C59,'Dados Gerais'!$D$6:$BK$11,6)","v":"VIGILANTE NOTURNO  \nPORTARIAS 1 \nEscala 12 x 36  \n19h às 7h  \n2ª feira a Dom"},{"$f":"HLOOKUP(C59,'Dados Gerais'!$D$6:$BK$15,10)","v":30},10693.819640000002,{"$f":"'7'!$E$115","v":738.68999999999994},11432.509640000002,342975.28920000006,null,0.11062854883002546,2996.5756812105674]
[null,null,8,{"$f":"HLOOKUP(C60,'Dados Gerais'!$D$6:$BK$11,6)","v":"VIGILANTE MATUTINO \nPORTARIAS 1 \nEscala 40 horas semanais \n7h às 16h  \n2ª à 6ª feira"},{"$f":"HLOOKUP(C60,'Dados Gerais'!$D$6:$BK$15,10)","v":13},10283.424200000001,{"$f":"'8'!$E$115","v":666.04000000000008},10949.464200000002,142343.03460000001,null,4.5913521614314896E-2,1243.651333794325]
[null,null,9,{"$f":"HLOOKUP(C61,'Dados Gerais'!$D$6:$BK$11,6)","v":"VIGILANTE VESPERTINO \nPORTARIAS 1 \nEscala 40 horas semanais \n13h às 22h \n2ª à 6ª feira"},{"$f":"HLOOKUP(C61,'Dados Gerais'!$D$6:$BK$15,10)","v":13},10283.424200000001,{"$f":"'9'!$E$115","v":666.04000000000008},10949.464200000002,142343.03460000001,null,4.5913521614314896E-2,1243.651333794325]
[null,null,10,{"$f":"HLOOKUP(C62,'Dados Gerais'!$D$6:$BK$11,6)","v":"VIGILANTE MATUTINO \nESTACIONAMENTOS \nEscala 40 horas semanais \n7h às 16h \n2ª à 6ª feira"},{"$f":"HLOOKUP(C62,'Dados Gerais'!$D$6:$BK$15,10)","v":24},10408.543879999999,{"$f":"'10'!$E$115","v":666.04000000000008},11074.58388,265790.01312000002,null,8.5732017351934114E-2,2322.2077936920637]
[null,null,11,{"$f":"HLOOKUP(C63,'Dados Gerais'!$D$6:$BK$11,6)","v":"VIGILANTE VESPERTINO \nESTACIONAMENTOS \nEscala 40 horas semanais \n14h às 23h \n2ª à 6ª feira"},{"$f":"HLOOKUP(C63,'Dados Gerais'!$D$6:$BK$15,10)","v":24},10605.036679999999,{"$f":"'11'!$E$115","v":681.26},11286.296679999999,270871.12031999999,null,8.737095617256152E-2,2366.6014358831926]
[null,null,12,{"$f":"HLOOKUP(C64,'Dados Gerais'!$D$6:$BK$11,6)","v":"VIGILANTE DIURNO \nPOSTOS EXTERNOS \nEscala 12 x 36 \n7h às 19h \n2ª feira a Dom"},{"$f":"HLOOKUP(C64,'Dados Gerais'!$D$6:$BK$15,10)","v":60},10220.84028,{"$f":"'12'!$E$115","v":666.04000000000008},{"$f":"G64+F64","v":10886.880280000001},{"$f":"H64*E64","v":653212.81680000003},null,{"$f":"I64/$I$69","v":0.21069735422722477},{"$f":"$I$83*K64","v":5707.1214840102048}]
[null,null,13,{"$f":"HLOOKUP(C65,'Dados Gerais'!$D$6:$BK$11,6)","v":"VIGILANTE NOTURNO \nPOSTOS EXTERNOS \nEscala 12 x 36 \n19h às 7h \n2ª feira a Dom"},{"$f":"HLOOKUP(C65,'Dados Gerais'!$D$6:$BK$15,10)","v":64},11158.455280000002,{"$f":"'13'!$E$115","v":738.68999999999994},11897.145280000002,761417.29792000016,null,0.24559929935316391,6652.5042183713495]
[null,null,14,{"$f":"HLOOKUP(C66,'Dados Gerais'!$D$6:$BK$11,6)","v":0},{"$f":"HLOOKUP(C66,'Dados Gerais'!$D$6:$BK$15,10)","v":0},0,{"$f":"'14'!$E$115","v":0},0,0,null,0,0]
[null,null,15,{"$f":"HLOOKUP(C67,'Dados Gerais'!$D$6:$BK$11,6)","v":0},{"$f":"HLOOKUP(C67,'Dados Gerais'!$D$6:$BK$15,10)","v":0},0,{"$f":"'15'!$E$115","v":0},0,0,null,0,0]
[]
[null,null,null,"TOTAL MENSAL - SALÁRIOS",null,null,null,null,{"$f":"SUM(I53:I68)","v":3100242.1420800006}]
[]
[null,null,"ITEM","DESCRIÇÃO",null,null,null,null,"PREÇO TOTAL (MENSAL)"]
[null,null,"EQUIP","EQUIPAMENTOS NÃO RELACIONADOS DIRETAMENTE A UM POSTO DE TRABALHO",null,null,null,null,{"$f":"'Não Rel - Equip'!M69","v":0}]
[null,null,"HEXTRA","HORAS EXTRAS",null,null,null,null,{"$f":"'Não Rel - Equip'!M69","v":0}]
[null,null,"HNOT","ADICIONAL DE HORAS NOTURNAS (SOB DEMANDA)",null,null,null,null,0]
[null,null,"SREP","SISTEMA DE REGISTRO ELETRÔNICO DE PRESENÇA - SREP",null,null,null,null,{"$f":"SREP!$M$46","v":0}]
[null,null,"EPI - N.REL","EQUIPAMENTOS DE PROTEÇÃO INDIVIDUAL NÃO RELACIONADOS DIRETAMENTE A UM POSTO DE TRABALHO",null,null,null,null,{"$f":"'Não Rel - EPI'!K19","v":15310.220833333333}]
[null,null,"EQUIP - N.REL","EQUIPAMENTOS NÃO RELACIONADOS DIRETAMENTE A UM POSTO DE TRABALHO",null,null,null,null,{"$f":"'Não Rel - Equip'!M70","v":8812.0499999999993}]
[null,null,"MAT ","MATERIAIS NÃO RELACIONADOS DIRETAMENTE A UM POSTO DE TRABALHO",null,null,null,null,{"$f":"'Não Rel - Mat Consumo'!L24","v":0}]
[null,null,"MAT CONS DURAVEL","MATERIAIS DE CONSUMO DURÁVEL NÃO RELACIONADOS DIRETAMENTE A UM POSTO DE TRABALHO",null,null,null,null,{"$f":"'Não Rel - Mat Cons Durável'!M37","v":0}]
[null,null,"EQ SOB DEMANDA","SERVIÇOS NÃO RELACIONADOS DIRETAMENTE A UM POSTO DE TRABALHO ",null,null,null,null,{"$f":"'Não Rel - Serviços'!K10","v":0}]
[null,null,"TRANSPORTE","TRANSPORTE PARA RONDAS",null,null,null,null,{"$f":"Transporte!J26","v":2964.55}]
[]
[null,null,null,"TOTAL MENSAL",null,null,null,null,{"$f":"SUM(I72:I82)","v":27086.820833333331},null,{"$f":"(I83+I69)*12","v":37527947.554960005}]
[]
[null,null,null,"TOTAL MENSAL - ITENS ORDINÁRIOS"]
[null,null,null,"DESCRIÇÃO",null,null,null,"VALOR"]
[null,null,null,"Postos de Trabalho - Inclusive 13º Salário",null,null,null,{"$f":"I69","v":3100242.1420800006}]
[null,null,null,"Adicional de Horas Noturnas",null,null,null,{"$f":"I74","v":0}]
[null,null,null,"Sistema de Registro Eletrônico de Presença - SREP",null,null,null,{"$f":"I75","v":0}]
[null,null,null,"Equipamentos de Proteção Individual não relacionados diretamente a um posto de trabalho",null,null,null,{"$f":"I76","v":15310.220833333333}]
[null,null,null,"Equipamentos não relacionadas diretamente a um posto de trabalho",null,null,null,{"$f":"I77","v":8812.0499999999993}]
[null,null,null,"Materiais de consumo não relacionados diretamente a um posto de trabalho",null,null,null,{"$f":"$I$78","v":0}]
[null,null,null,"Transporte para rondas",null,null,null,{"$f":"I81","v":2964.55}]
[]
[null,null,null,null,null,null,"TOTAL MENSAL DA CONTRATAÇÃO",{"$f":"SUM(H87:H94)","v":3127328.9629133334},null,null,{"$f":"Extenso_Valor(H95)","v":"três milhões, cento e vinte e sete mil, trezentos e vinte e oito reais e noventa e seis centavos"}]
[]
[null,null,null,"TOTAL ANUAL - ITENS ORDINÁRIOS"]
[]
[null,null,null,null,null,null,"12 x TOTAL MENSAL",{"$f":"ROUND(H95*12,2)","v":37527947.549999997},null,null,{"$f":"Extenso_Valor(H99)","v":"trinta e sete milhões, quinhentos e vinte e sete mil, novecentos e quarenta e sete reais e cinquenta e cinco centavos"}]
[]
[null,null,null,"TOTAL MENSAL - ITENS SOB DEMANDA"]
[null,null,null,"DESCRIÇÃO",null,null,null,"VALOR"]
[null,null,null,"Serviços não relacionados diretamente a um posto de trabalho - AQUISIÇÃO SOB DEMANDA",null,null,null,{"$f":"I80","v":0}]
[]
[null,null,null,null,null,null,"TOTAL MENSAL DA CONTRATAÇÃO",{"$f":"SUM(H103:H104)","v":0}]
[]
[null,null,null,"TOTAL ANUAL - ITENS SOB DEMANDA"]
[]
[null,null,null,null,null,null,"12 x TOTAL MENSAL",{"$f":"H105*12","v":0}]
[]
[null,null,null,"TOTAL ANUAL DA CONTRATAÇÃO"]
[]
[null,null,null,null,null,null,null,{"$f":"H109+H99","v":37527947.549999997},null,null,{"$f":"Extenso_Valor(H113)","v":"trinta e sete milhões, quinhentos e vinte e sete mil, novecentos e quarenta e sete reais e cinquenta e cinco centavos"}]
[]
[null,null,null,"TOTAL GLOBAL DA CONTRATAÇÃO (30 MESES)"]
[]
[]
[]
[]
[]
[]
[null,null,null,null,null,null,null,{"$f":"H95+H105","v":3127328.9629133334},null,null,{"$f":"Extenso_Valor(H122)","v":"três milhões, cento e vinte e sete mil, trezentos e vinte e oito reais e noventa e seis centavos"}]

{"sheet":"1","index":4,"n_rows":117,"n_cols":8,"rows_kept":117,"cut":false,"hidden":false,"merged":[[105,1,105,3],[1,1,1,5],[2,1,2,5],[7,1,7,3],[17,1,17,3],[4,1,4,2],[46,1,46,3],[55,1,55,3],[73,1,73,3],[82,1,82,3],[5,1,5,2],[39,3,39,5],[67,3,67,5]]}
[]
[null,"PLANILHA DE ESTIMATIVA DE CUSTOS"]
[]
[]
[null,1,null,{"$f":"HLOOKUP($B$5,'Dados Gerais'!$D$6:$BK$21,6)","v":"VIGILANTE SUPERVISOR II  \nEscala 12 X 36  \n7h às 19h  \n2ª feira a Dom"},"QUANTIDADE",{"$f":"HLOOKUP($B$5,'Dados Gerais'!$D$6:$BK$21,10)","v":2}]
[null,"CCT",null,{"$f":"HLOOKUP($B$5,'Dados Gerais'!$D$6:$BK$21,15)","v":"SINDESV/DF X SINDESP/DF 2024/2024 Nº DF000333/2024"},"DATA-BASE",{"$f":"HLOOKUP($B$5,'Dados Gerais'!$D$6:$BK$21,16)","v":"2024-01-01"}]
[]
[null,"MÓDULO 1 - COMPOSIÇÃO DA REMUNERAÇÃO",null,null,null,"Valor"]
[null,null,"A","Salário-Base",null,{"$f":"HLOOKUP($B$5,'Dados Gerais'!$D$6:$BK$21,8)","v":5786.06}]
[null,null,"B","Adicional de Periculosidade",null,{"$f":"HLOOKUP($B$5,'Dados Gerais'!$D$6:$BK$38,25)","v":1735.82}]
[null,null,"C","Adicional de Insalubridade",null,{"$f":"HLOOKUP($B$5,'Dados Gerais'!$D$6:$BK$38,31)","v":0}]
[null,null,"D","Adicional Noturno",null,{"$f":"HLOOKUP($B$5,'Dados Gerais'!$D$6:$BK$51,46)","v":0},null,"* Nota 1 - O Módulo 1 refere-se ao valor mensal devido ao empregado pela prestação do serviço no período de 12 meses."]
[null,null,"E","Adicional de Hora Extra",null,{"$f":"HLOOKUP($B$5,'Dados Gerais'!$D$6:$BK$68,63)","v":0},null,"* Nota 2 - O adicional de hora extra no feriado trabalhado foi suprimido pela Lei 13.467/17"]
[null,null,"F","Outros (especificar)",null,{"$f":"HLOOKUP($B$5,'Dados Gerais'!$D$6:$BK$60,33)","v":0},null,"* Nota 3 - ART. 7º, § 2º, DA LEI Nº 605/49.Sendo mensalista o obreiro, o adicional noturno pago de forma fixa já é considerado integrado para os efeitos do pagamento do repouso semanal remunerado, nos termos do art. 7º, § 2º, da Lei nº 605/49."]
[]
[null,null,null,"TOTAL DA REMUNERAÇÃO",null,{"$f":"SUM(F9:F14)","v":7521.88}]
[]
[null,"MÓDULO 2 - ENCARGOS E BENEFÍCIOS ANUAIS, MENSAIS E DIÁRIOS",null,null,"Percentuais","Valor"]
[null,"Submódulo 2.1 - 13º Salário e Adicional de Férias"]
[null,null,"A","13º Salário - Calculado no Módulo 7 - Destacado",0,{"$f":"ROUND(E20*F$16,2)","v":0},null,"* Nota 1 - Provisiona-se, mensalmente, o proporcional a 1/12 dos valores referentes a gratificação natalina, calculada à parte"]
[null,null,"B","Adicional de Férias",{"$f":"'Encargos Sociais'!E31","v":3.0300000000000001E-2},{"$f":"ROUND(E21*F$16,2)","v":227.91},null,"* Nota 2 - O adicional de férias foi calculado dividindo-se por 11, para comportar os 11 meses presentes e ainda o ausente do posto"]
[]
[null,"Submódulo 2.2 - Encargos Previdenciários (GPS), Fundo de Garantia por Tempo de Serviço (FGTS) e Outras Contribuições"]
[null,null,"A",{"$f":"'Encargos Sociais'!D14","v":"INSS (art. 22, inciso I, Lei nº 8.212/91)"},{"$f":"'Encargos Sociais'!E14","v":0.2},{"$f":"ROUND(E24*($F$16+$F$41+$F$72),2)","v":1716.79}]
[null,null,"B",{"$f":"'Encargos Sociais'!D15","v":"Salário Educação (art. 3º, inciso I, Decreto nº 87.043/82)"},{"$f":"'Encargos Sociais'!E15","v":2.5000000000000001E-2},214.6]
[null,null,"C",{"$f":"'Encargos Sociais'!D16","v":"SAT/RAT (art. 22, II, Lei 8.212/91 e Anexo V, Decreto 6.042/07) - Enquadramento 8011-1/01"},{"$f":"'Encargos Sociais'!E16","v":0.03},257.52]
[null,null,"D",{"$f":"'Encargos Sociais'!D17","v":"SESC ou SESI (art. 30, Lei nº 8.036/90 e art. 1º, Lei 8.154/90)"},{"$f":"'Encargos Sociais'!E17","v":1.4999999999999999E-2},128.76]
[null,null,"E",{"$f":"'Encargos Sociais'!D18","v":"SENAI ou SENAC (Decreto nº 2.318/86)"},{"$f":"'Encargos Sociais'!E18","v":0.01},85.84,null,"* Nota 1 - Os percentuais dos encargos previdenciários, do FGTS e demais contribuições são estabelecidos por legislação vigente."]
[null,null,"F",{"$f":"'Encargos Sociais'!D19","v":"SEBRAE (§ 3º, art. 8º, Lei 8.029/90, alterada pela Lei nº 8.154/90)"},{"$f":"'Encargos Sociais'!E19","v":6.0000000000000001E-3},51.5,null,"* Nota 2 - O SAT, a depender do grau de risco do serviço, irá variar entre 1%, para risco leve, de 2%, para risco médio, e de 3% para risco grave."]
[null,null,"G",{"$f":"'Encargos Sociais'!D20","v":"INCRA (art. 1º, I, Decreto Lei 1.146/70 e Lei 7.787, de 30/06/89)"},{"$f":"'Encargos Sociais'!E20","v":2E-3},17.170000000000002,null,"* Nota 3 - Base de cálculo - remuneração + ausências + terço constitucional (férias)"]
[null,null,"H",{"$f":"'Encargos Sociais'!D21","v":"FGTS (Lei Complementar nº 110/01 e art. 30, Lei nº 8.036/90)"},{"$f":"'Encargos Sociais'!E21","v":0.08},686.72]
[null,null,"I",{"$f":"'Encargos Sociais'!D22","v":"SECONCI (Convenções Coletivas de Trabalho da construção)"},{"$f":"'Encargos Sociais'!E22","v":0},0]
[]
[null,"Submódulo 2.3 - Benefícios Mensais e Diários"]
[null,null,"A","Auxílio Transporte",null,{"$f":"HLOOKUP($B$5,'Dados Gerais'!$D$6:$BK$94,82)","v":0}]
[null,null,"B","Auxílio Alimentação",null,{"$f":"HLOOKUP($B$5,'Dados Gerais'!$D$6:$BK$94,89)","v":710.55},null,"* Nota 1 - O valor informado deverá ser o custo real do benefício (descontado o valor eventualmente pago pelo empregado)."]
[null,null,"C","Assistência Médica e Familiar",null,{"$f":"HLOOKUP($B$5,'Dados Gerais'!$D$6:$BK$102,97)","v":0},null,"* Nota 2 - Observar a previsão dos benefícios contidos em Acordos, Convenções e Dissídios Coletivos de Trabalho e o disposto no art. 6º da IN 5/2017"]
[null,null,"D","Outros (Seguro de vida e auxílio funeral e auxílio odontológico)",null,{"$f":"HLOOKUP($B$5,'Dados Gerais'!$D$6:$BK$119,114)","v":32.159999999999997}]
[]
[null,null,null,"QUADRO-RESUMO DO MÓDULO 2"]
[null,null,null,"2.1 - Adicional de Férias",{"$f":"SUM(E20:E21)","v":3.0300000000000001E-2},{"$f":"F20+F21","v":227.91}]
[null,null,null,"2.2 - Encargos Previdenciários (GPS), Fundo de Garantia por Tempo de Serviço (FGTS) e Contribuições",{"$f":"SUM(E24:E32)","v":0.36800000000000005},{"$f":"SUM(F24:F32)","v":3158.9000000000005}]
[null,null,null,"2.3 - Benefícios Mensais e Diários",null,{"$f":"SUM(F35:F38)","v":742.70999999999992}]
[]
[null,null,null,"TOTAL DOS ENCARGOS E BENEFÍCIOS",null,{"$f":"SUM(F41:F43)","v":4129.5200000000004}]
[]
[null,"MÓDULO 3 - PREVISÃO PARA RESCISÃO",null,null,"Percentuais","Valor"]
[null,null,"A",{"$f":"'Encargos Sociais'!D36","v":"Aviso Prévio Indenizado (Art. 7º, inciso XXI, da CF/1988 e arts. 477, 487, §1º, e 491 da CLT)"},{"$f":"'Encargos Sociais'!E36","v":4.1999999999999997E-3},{"$f":"ROUND(E48*($F$16+$F$72+$F$41),2)","v":36.049999999999997}]
[null,null,"B",{"$f":"'Encargos Sociais'!D37","v":"13º sobre aviso prévio indenizado"},{"$f":"'Encargos Sociais'!E37","v":4.0000000000000002E-4},{"$f":"ROUND(E49*($F$16+$F$72+$F$41),2)","v":3.43},null,"* Nota 1 - Adotou-se os parâmetros do estudo do STF (http://www.stf.jus.br/arquivo/cms/sobrestfestudosci/anexo/encargos_sociais_03102007.pdf), onde 5% do pessoal é demitido pelo empregador no decurso do contrato (para estes, considerou-se o aviso prévio indenizado). Desprezou-se as demissões por justa causa e os pedidos de demissão."]
[null,null,"C",{"$f":"'Encargos Sociais'!D38","v":"Incidência do FGTS sobre o Aviso Prévio Indenizado (Súmula 305 TST)"},{"$f":"'Encargos Sociais'!E38","v":2.9999999999999997E-4},{"$f":"ROUND(E50*($F$16+$F$72+$F$41),2)","v":2.58},null,"* Nota 2 - Base de cálculo - remuneração + ausências + 1/3 férias"]
[null,null,"D",{"$f":"'Encargos Sociais'!D39","v":"Multa do FGTS sobre o Aviso Prévio (Art. 18, §1º, da Lei 8.036/1990)"},{"$f":"'Encargos Sociais'!E39","v":3.2000000000000001E-2},{"$f":"ROUND(E51*($F$16+$F$72+$F$41),2)","v":274.69}]
[null,null,"E",{"$f":"'Encargos Sociais'!D40","v":"Indenização Adicional - data-base (Art. 9º, Lei 7.238/1984)"},{"$f":"'Encargos Sociais'!E40","v":8.0000000000000004E-4},{"$f":"ROUND(E52*($F$16+$F$72+$F$41),2)","v":6.87}]
[]
[null,null,null,"TOTAL DE PREVISÃO PARA RESCISÃO",null,{"$f":"SUM(F48:F52)","v":323.62}]
[]
[null,"MÓDULO 4 - CUSTO DO PROFISSIONAL AUSENTE",null,null,"Percentuais","Valor"]
[null,"Submódulo 4.1 - Ausências Legais"]
[null,null,"A",{"$f":"'Encargos Sociais'!D25","v":"Férias (Arts. 129 e 130, inc. I, da CLT)"},{"$f":"'Encargos Sociais'!E25","v":9.0899999999999995E-2},{"$f":"ROUND(E58*$F$16,2)","v":683.74},null,"* Nota 1 - O Módulo 4 refere-se às previsões para custear ausências do próprio profissional (titular do cargo)"]
[null,null,"B",{"$f":"'Encargos Sociais'!D26","v":"Ausências Legais (Arts. 131 e 473 da CLT)"},{"$f":"'Encargos Sociais'!E26","v":7.9000000000000008E-3},59.42,null,"* Nota 2 - As férias foram calculadas dividindo-se por 11, para comportar os 11 meses presentes e ainda o ausente do posto"]
[null,null,"C",{"$f":"'Encargos Sociais'!D27","v":"Licença-Paternidade (Art. 7º, XIX, e art. 10, §1º, do ADCT, CF/1988 e Art. 1º, II, da Lei 11.770/2008)"},{"$f":"'Encargos Sociais'!E27","v":8.0000000000000004E-4},6.02]
[null,null,"D",{"$f":"'Encargos Sociais'!D28","v":"Ausência por Acidente de Trabalho (Art. 131, III, da CLT)"},{"$f":"'Encargos Sociais'!E28","v":8.9999999999999998E-4},6.77]
[null,null,"E",{"$f":"'Encargos Sociais'!D29","v":"Afastamento Maternidade (Art. 71 da Lei nº 8.213/1991)"},{"$f":"'Encargos Sociais'!E29","v":3.3E-3},24.82]
[null,null,"F",{"$f":"'Encargos Sociais'!D30","v":"Auxílio Enfermidade - Doença (Art. 59 da Lei nº 8.213/1991)"},{"$f":"'Encargos Sociais'!E30","v":7.1000000000000004E-3},53.41]
[]
[null,"Submódulo 4.2 - Intrajornada"]
[null,null,"A","Intervalo para repouso ou alimentação",{"$f":"'Encargos Sociais'!E33","v":0},{"$f":"ROUND(E66*$F$16,2)","v":0}]
[]
[null,null,null,"QUADRO-RESUMO DO MÓDULO 4",null,"Valor"]
[null,null,null,"4.1 - Ausências Legais",{"$f":"SUM(E58:E63)","v":0.11089999999999998},{"$f":"ROUND(E69*$F$16,2)","v":834.18}]
[null,null,null,"4.2 - Intrajornada",{"$f":"E66","v":0},{"$f":"ROUND(E70*$F$16,2)","v":0}]
[]
[null,null,null,"TOTAL DE PREVISÃO PARA CUSTO DO PROFISSIONAL AUSENTE E INTERVALO INTRAJORNADA",null,{"$f":"SUM(F69:F70)","v":834.18}]
[]
[null,"MÓDULO 5 - INSUMOS DIVERSOS",null,null,null,"Valor"]
[null,null,"A","Uniformes - aquisição",null,{"$f":"ROUND(HLOOKUP($B$5,Uniformes!L4:EA90,3)/12,2)","v":156.19}]
[null,null,"B","Materiais de consumo relacionados ao posto - aquisição",null,{"$f":"ROUND(HLOOKUP(B5,'Mat Cons'!I11:DX13,3)/12,2)","v":0}]
[null,null,"C","Materiais permanentes relacionados ao posto - remuneração da sua depreciação / manutenção",null,{"$f":"HLOOKUP(B5,'Mat Perm'!Q11:EF13,3)","v":0}]
[null,null,"D","Equipamentos relacionados ao posto - remuneração da sua depreciação / manutenção",null,{"$f":"HLOOKUP(B5,'Equip Rel'!Q3:EF5,3)","v":0}]
[null,null,"E","Equipamentos de Proteção Individual - EPI - aquisição",null,{"$f":"ROUND(HLOOKUP(B5,EPI!J4:DY6,3)/12,2)","v":0}]
[]
[null,null,null,"TOTAL DE INSUMOS DIVERSOS",null,{"$f":"SUM(F75:F80)","v":156.19},null,"* Nota - Valores mensais por empregado"]
[]
[null,"MÓDULO 6 - CUSTOS INDIRETOS, TRIBUTOS E LUCRO - BDI",null,null,"Percentuais","Valor"]
[null,null,"A","Custos Indiretos",{"$f":"BDI!E6","v":2.2699999999999998E-2}]
[null,null,"A.1","Administração Central",{"$f":"BDI!E7","v":1.7299999999999999E-2}]
[null,null,"A.2","Seguros, Garantias e Riscos",{"$f":"BDI!E8","v":5.4000000000000003E-3}]
[null,null,"B","Lucro",{"$f":"BDI!E10","v":2.6700000000000002E-2}]
[null,null,"C","Tributos",{"$f":"SUM(E89:E90)","v":0.124}]
[null,null,"C.1","Tributos Federais (COFINS, PIS e CPRB)",{"$f":"BDI!E18","v":7.3999999999999996E-2}]
[null,null,"C.2","Tributos Distritais (ISS)",{"$f":"BDI!E23","v":0.05}]
[null,null,"D","Despesas Financeiras",{"$f":"BDI!E13","v":4.4669210982628549E-3}]
[]
[null,null,null,"TOTAL DE BDI",{"$f":"BDI!E26","v":0.20399999999999999},{"$f":"E93*E101","v":2644.9395600000003}]
[]
[null,null,null,"QUADRO-RESUMO DO CUSTO MENSAL POR EMPREGADO - SEM O 13º","Valor"]
[null,null,null,"Módulo 1 - Composição da Remuneração",{"$f":"F16","v":7521.88}]
[null,null,null,"Módulo 2 - Encargos e Benefícios Anuais, Mensais e Diários",{"$f":"F45","v":4129.5200000000004}]
[null,null,null,"Módulo 3 - Provisão para Rescisão",{"$f":"F54","v":323.62}]
[null,null,null,"Módulo 4 - Custo de Reposição do Profissional Ausente",{"$f":"F72","v":834.18}]
[null,null,null,"Módulo 5 - Insumos Diversos",{"$f":"F81","v":156.19}]
[null,null,null,"SUBTOTAL (A+B+C+D+E)",{"$f":"SUM(E96:E100)","v":12965.390000000003}]
[null,null,null,"Módulo 6 - Custos Indiretos, Tributos e Lucro",{"$f":"F93","v":2644.9395600000003}]
[]
[null,null,null,"TOTAL DO POSTO",{"$f":"SUM(E101:E102)","v":15610.329560000004}]
[]
[null,"MÓDULO 7 - DESTAQUE DO MÓDULO 2 - 13º SALÁRIO",null,null,"Percentuais","Valor"]
[null,null,"A","13º Salário",{"$f":"'Encargos Sociais'!E32*12/11","v":9.0872727272727272E-2},{"$f":"ROUND(E107*F$16,2)","v":683.53},null,"* Nota 1 - Incluindo-se a reincidência das férias do substituto sobre o titular"]
[null,null,"B","Encargos Sociais sobre o 13º Salário",{"$f":"SUM($E$24:$E$32)","v":0.36800000000000005},{"$f":"ROUND(E108*$F$107,2)","v":251.54},null,"* Nota 2 - Provisiona-se, mensalmente, o proporcional a 1/12 dos valores referentes a gratificação natalina e adicional de férias."]
[null,null,"C","BDI sobre o 13º Salário - Taxa calculada no MÓDULO 6",{"$f":"E93","v":0.20399999999999999},{"$f":"ROUND(E109*($F$107+$F$108),2)","v":190.75}]
[]
[null,null,null,"TOTAL DO DESTAQUE DO 13º SALÁRIO",null,{"$f":"SUM(F107:F109)","v":1125.82}]
[]
[null,null,null,"QUADRO-RESUMO DO CUSTO MENSAL POR EMPREGADO","Valor"]
[null,null,null,"Custo total - sem o 13º Salário",{"$f":"E104","v":15610.329560000004}]
[null,null,null,"Destaque do 13º Salário (valor mensal)",{"$f":"F111","v":1125.82}]
[]
[null,null,null,"TOTAL DO POSTO",{"$f":"E114+E115","v":16736.149560000005}]

{"sheet":"2","index":5,"n_rows":117,"n_cols":8,"rows_kept":117,"cut":false,"hidden":false,"merged":[[1,1,1,5],[2,1,2,5],[4,1,4,2],[5,1,5,2],[7,1,7,3],[17,1,17,3],[105,1,105,3],[39,3,39,5],[46,1,46,3],[55,1,55,3],[67,3,67,5],[73,1,73,3],[82,1,82,3]]}
[]
[null,"PLANILHA DE ESTIMATIVA DE CUSTOS"]
[]
[]
[null,2,null,{"$f":"HLOOKUP($B$5,'Dados Gerais'!$D$6:$BK$21,6)","v":"VIGILANTE SUPERVISOR I \n INTERNO DIURNO \nEscala 12 x 36  \n7h às 19h  \n2ª feira a Dom"},"QUANTIDADE",{"$f":"HLOOKUP($B$5,'Dados Gerais'!$D$6:$BK$21,10)","v":2}]
[null,"CCT",null,{"$f":"HLOOKUP($B$5,'Dados Gerais'!$D$6:$BK$21,15)","v":"SINDESV/DF X SINDESP/DF 2024/2024 Nº DF000333/2024"},"DATA-BASE",{"$f":"HLOOKUP($B$5,'Dados Gerais'!$D$6:$BK$21,16)","v":"2024-01-01"}]
[]
[null,"MÓDULO 1 - COMPOSIÇÃO DA REMUNERAÇÃO",null,null,null,"Valor"]
[null,null,"A","Salário-Base",null,{"$f":"HLOOKUP($B$5,'Dados Gerais'!$D$6:$BK$21,8)","v":4450}]
[null,null,"B","Adicional de Periculosidade",null,{"$f":"HLOOKUP($B$5,'Dados Gerais'!$D$6:$BK$38,25)","v":1335}]
[null,null,"C","Adicional de Insalubridade",null,{"$f":"HLOOKUP($B$5,'Dados Gerais'!$D$6:$BK$38,31)","v":0}]
[null,null,"D","Adicional Noturno",null,{"$f":"HLOOKUP($B$5,'Dados Gerais'!$D$6:$BK$51,46)","v":0},null,"* Nota 1 - O Módulo 1 refere-se ao valor mensal devido ao empregado pela prestação do serviço no período de 12 meses."]
[null,null,"E","Adicional de Hora Extra",null,{"$f":"HLOOKUP($B$5,'Dados Gerais'!$D$6:$BK$68,63)","v":0},null,"* Nota 2 - O adicional de hora extra no feriado trabalhado foi suprimido pela Lei 13.467/17"]
[null,null,"F","Outros (especificar)",null,{"$f":"HLOOKUP($B$5,'Dados Gerais'!$D$6:$BK$60,33)","v":0},null,"* Nota 3 - ART. 7º, § 2º, DA LEI Nº 605/49.Sendo mensalista o obreiro, o adicional noturno pago de forma fixa já é considerado integrado para os efeitos do pagamento do repouso semanal remunerado, nos termos do art. 7º, § 2º, da Lei nº 605/49."]
[]
[null,null,null,"TOTAL DA REMUNERAÇÃO",null,{"$f":"SUM(F9:F14)","v":5785}]
[]
[null,"MÓDULO 2 - ENCARGOS E BENEFÍCIOS ANUAIS, MENSAIS E DIÁRIOS",null,null,"Percentuais","Valor"]
[null,"Submódulo 2.1 - 13º Salário e Adicional de Férias"]
[null,null,"A","13º Salário - Calculado no Módulo 7 - Destacado",0,{"$f":"ROUND(E20*F$16,2)","v":0},null,"* Nota 1 - Provisiona-se, mensalmente, o proporcional a 1/12 dos valores referentes a gratificação natalina, calculada à parte"]
[null,null,"B","Adicional de Férias",{"$f":"'Encargos Sociais'!E31","v":3.0300000000000001E-2},{"$f":"ROUND(E21*F$16,2)","v":175.29},null,"* Nota 2 - O adicional de férias foi calculado dividindo-se por 11, para comportar os 11 meses presentes e ainda o ausente do posto"]
[]
[null,"Submódulo 2.2 - Encargos Previdenciários (GPS), Fundo de Garantia por Tempo de Serviço (FGTS) e Outras Contribuições"]
[null,null,"A",{"$f":"'Encargos Sociais'!D14","v":"INSS (art. 22, inciso I, Lei nº 8.212/91)"},{"$f":"'Encargos Sociais'!E14","v":0.2},{"$f":"ROUND(E24*($F$16+$F$41+$F$72),2)","v":1320.37}]
[null,null,"B",{"$f":"'Encargos Sociais'!D15","v":"Salário Educação (art. 3º, inciso I, Decreto nº 87.043/82)"},{"$f":"'Encargos Sociais'!E15","v":2.5000000000000001E-2},165.05]
[null,null,"C",{"$f":"'Encargos Sociais'!D16","v":"SAT/RAT (art. 22, II, Lei 8.212/91 e Anexo V, Decreto 6.042/07) - Enquadramento 8011-1/01"},{"$f":"'Encargos Sociais'!E16","v":0.03},198.06]
[null,null,"D",{"$f":"'Encargos Sociais'!D17","v":"SESC ou SESI (art. 30, Lei nº 8.036/90 e art. 1º, Lei 8.154/90)"},{"$f":"'Encargos Sociais'!E17","v":1.4999999999999999E-2},99.03]
[null,null,"E",{"$f":"'Encargos Sociais'!D18","v":"SENAI ou SENAC (Decreto nº 2.318/86)"},{"$f":"'Encargos Sociais'!E18","v":0.01},66.02,null,"* Nota 1 - Os percentuais dos encargos previdenciários, do FGTS e demais contribuições são estabelecidos por legislação vigente."]
[null,null,"F",{"$f":"'Encargos Sociais'!D19","v":"SEBRAE (§ 3º, art. 8º, Lei 8.029/90, alterada pela Lei nº 8.154/90)"},{"$f":"'Encargos Sociais'!E19","v":6.0000000000000001E-3},39.61,null,"* Nota 2 - O SAT, a depender do grau de risco do serviço, irá variar entre 1%, para risco leve, de 2%, para risco médio, e de 3% para risco grave."]
[null,null,"G",{"$f":"'Encargos Sociais'!D20","v":"INCRA (art. 1º, I, Decreto Lei 1.146/70 e Lei 7.787, de 30/06/89)"},{"$f":"'Encargos Sociais'!E20","v":2E-3},13.2,null,"* Nota 3 - Base de cálculo - remuneração + ausências + terço constitucional (férias)"]
[null,null,"H",{"$f":"'Encargos Sociais'!D21","v":"FGTS (Lei Complementar nº 110/01 e art. 30, Lei nº 8.036/90)"},{"$f":"'Encargos Sociais'!E21","v":0.08},528.15]
[null,null,"I",{"$f":"'Encargos Sociais'!D22","v":"SECONCI (Convenções Coletivas de Trabalho da construção)"},{"$f":"'Encargos Sociais'!E22","v":0},0]
[]
[null,"Submódulo 2.3 - Benefícios Mensais e Diários"]
[null,null,"A","Auxílio Transporte",null,{"$f":"HLOOKUP($B$5,'Dados Gerais'!$D$6:$BK$94,82)","v":0}]
[null,null,"B","Auxílio Alimentação",null,{"$f":"HLOOKUP($B$5,'Dados Gerais'!$D$6:$BK$94,89)","v":710.55},null,"* Nota 1 - O valor informado deverá ser o custo real do benefício (descontado o valor eventualmente pago pelo empregado)."]
[null,null,"C","Assistência Médica e Familiar",null,{"$f":"HLOOKUP($B$5,'Dados Gerais'!$D$6:$BK$102,97)","v":0},null,"* Nota 2 - Observar a previsão dos benefícios contidos em Acordos, Convenções e Dissídios Coletivos de Trabalho e o disposto no art. 6º da IN 5/2017"]
[null,null,"D","Outros (Seguro de vida e auxílio funeral e auxílio odontológico)",null,{"$f":"HLOOKUP($B$5,'Dados Gerais'!$D$6:$BK$119,114)","v":32.159999999999997}]
[]
[null,null,null,"QUADRO-RESUMO DO MÓDULO 2"]
[null,null,null,"2.1 - Adicional de Férias",{"$f":"SUM(E20:E21)","v":3.0300000000000001E-2},{"$f":"F20+F21","v":175.29}]
[null,null,null,"2.2 - Encargos Previdenciários (GPS), Fundo de Garantia por Tempo de Serviço (FGTS) e Contribuições",{"$f":"SUM(E24:E32)","v":0.36800000000000005},{"$f":"SUM(F24:F32)","v":2429.4899999999998}]
[null,null,null,"2.3 - Benefícios Mensais e Diários",null,{"$f":"SUM(F35:F38)","v":742.70999999999992}]
[]
[null,null,null,"TOTAL DOS ENCARGOS E BENEFÍCIOS",null,{"$f":"SUM(F41:F43)","v":3347.49}]
[]
[null,"MÓDULO 3 - PREVISÃO PARA RESCISÃO",null,null,"Percentuais","Valor"]
[null,null,"A",{"$f":"'Encargos Sociais'!D36","v":"Aviso Prévio Indenizado (Art. 7º, inciso XXI, da CF/1988 e arts. 477, 487, §1º, e 491 da CLT)"},{"$f":"'Encargos Sociais'!E36","v":4.1999999999999997E-3},{"$f":"ROUND(E48*($F$16+$F$72+$F$41),2)","v":27.73}]
[null,null,"B",{"$f":"'Encargos Sociais'!D37","v":"13º sobre aviso prévio indenizado"},{"$f":"'Encargos Sociais'!E37","v":4.0000000000000002E-4},{"$f":"ROUND(E49*($F$16+$F$72+$F$41),2)","v":2.64},null,"* Nota 1 - Adotou-se os parâmetros do estudo do STF (http://www.stf.jus.br/arquivo/cms/sobrestfestudosci/anexo/encargos_sociais_03102007.pdf), onde 5% do pessoal é demitido pelo empregador no decurso do contrato (para estes, considerou-se o aviso prévio indenizado). Desprezou-se as demissões por justa causa e os pedidos de demissão."]
[null,null,"C",{"$f":"'Encargos Sociais'!D38","v":"Incidência do FGTS sobre o Aviso Prévio Indenizado (Súmula 305 TST)"},{"$f":"'Encargos Sociais'!E38","v":2.9999999999999997E-4},{"$f":"ROUND(E50*($F$16+$F$72+$F$41),2)","v":1.98},null,"* Nota 2 - Base de cálculo - remuneração + ausências + 1/3 férias"]
[null,null,"D",{"$f":"'Encargos Sociais'!D39","v":"Multa do FGTS sobre o Aviso Prévio (Art. 18, §1º, da Lei 8.036/1990)"},{"$f":"'Encargos Sociais'!E39","v":3.2000000000000001E-2},{"$f":"ROUND(E51*($F$16+$F$72+$F$41),2)","v":211.26}]
[null,null,"E",{"$f":"'Encargos Sociais'!D40","v":"Indenização Adicional - data-base (Art. 9º, Lei 7.238/1984)"},{"$f":"'Encargos Sociais'!E40","v":8.0000000000000004E-4},{"$f":"ROUND(E52*($F$16+$F$72+$F$41),2)","v":5.28}]
[]
[null,null,null,"TOTAL DE PREVISÃO PARA RESCISÃO",null,{"$f":"SUM(F48:F52)","v":248.89}]
[]
[null,"MÓDULO 4 - CUSTO DO PROFISSIONAL AUSENTE",null,null,"Percentuais","Valor"]
[null,"Submódulo 4.1 - Ausências Legais"]
[null,null,"A",{"$f":"'Encargos Sociais'!D25","v":"Férias (Arts. 129 e 130, inc. I, da CLT)"},{"$f":"'Encargos Sociais'!E25","v":9.0899999999999995E-2},{"$f":"ROUND(E58*$F$16,2)","v":525.86},null,"* Nota 1 - O Módulo 4 refere-se às previsões para custear ausências do próprio profissional (titular do cargo)"]
[null,null,"B",{"$f":"'Encargos Sociais'!D26","v":"Ausências Legais (Arts. 131 e 473 da CLT)"},{"$f":"'Encargos Sociais'!E26","v":7.9000000000000008E-3},45.7,null,"* Nota 2 - As férias foram calculadas dividindo-se por 11, para comportar os 11 meses presentes e ainda o ausente do posto"]
[null,null,"C",{"$f":"'Encargos Sociais'!D27","v":"Licença-Paternidade (Art. 7º, XIX, e art. 10, §1º, do ADCT, CF/1988 e Art. 1º, II, da Lei 11.770/2008)"},{"$f":"'Encargos Sociais'!E27","v":8.0000000000000004E-4},4.63]
[null,null,"D",{"$f":"'Encargos Sociais'!D28","v":"Ausência por Acidente de Trabalho (Art. 131, III, da CLT)"},{"$f":"'Encargos Sociais'!E28","v":8.9999999999999998E-4},5.21]
[null,null,"E",{"$f":"'Encargos Sociais'!D29","v":"Afastamento Maternidade (Art. 71 da Lei nº 8.213/1991)"},{"$f":"'Encargos Sociais'!E29","v":3.3E-3},19.09]
[null,null,"F",{"$f":"'Encargos Sociais'!D30","v":"Auxílio Enfermidade - Doença (Art. 59 da Lei nº 8.213/1991)"},{"$f":"'Encargos Sociais'!E30","v":7.1000000000000004E-3},41.07]
[]
[null,"Submódulo 4.2 - Intrajornada"]
[null,null,"A","Intervalo para repouso ou alimentação",{"$f":"'Encargos Sociais'!E33","v":0},{"$f":"ROUND(E66*$F$16,2)","v":0}]
[]
[null,null,null,"QUADRO-RESUMO DO MÓDULO 4",null,"Valor"]
[null,null,null,"4.1 - Ausências Legais",{"$f":"SUM(E58:E63)","v":0.11089999999999998},{"$f":"ROUND(E69*$F$16,2)","v":641.55999999999995}]
[null,null,null,"4.2 - Intrajornada",{"$f":"E66","v":0},{"$f":"ROUND(E70*$F$16,2)","v":0}]
[]
[null,null,null,"TOTAL DE PREVISÃO PARA CUSTO DO PROFISSIONAL AUSENTE E INTERVALO INTRAJORNADA",null,{"$f":"SUM(F69:F70)","v":641.55999999999995}]
[]
[null,"MÓDULO 5 - INSUMOS DIVERSOS",null,null,null,"Valor"]
[null,null,"A","Uniformes - aquisição",null,{"$f":"ROUND(HLOOKUP($B$5,Uniformes!L4:EA90,3)/12,2)","v":156.19}]
[null,null,"B","Materiais de consumo relacionados ao posto - aquisição",null,{"$f":"ROUND(HLOOKUP(B5,'Mat Cons'!I11:DX13,3)/12,2)","v":0}]
[null,null,"C","Materiais permanentes relacionados ao posto - remuneração da sua depreciação / manutenção",null,{"$f":"HLOOKUP(B5,'Mat Perm'!Q11:EF13,3)","v":0}]
[null,null,"D","Equipamentos relacionados ao posto - remuneração da sua depreciação / manutenção",null,{"$f":"HLOOKUP(B5,'Equip Rel'!Q3:EF5,3)","v":0}]
[null,null,"E","Equipamentos de Proteção Individual - EPI - aquisição",null,{"$f":"ROUND(HLOOKUP(B5,EPI!J4:DY6,3)/12,2)","v":0}]
[]
[null,null,null,"TOTAL DE INSUMOS DIVERSOS",null,{"$f":"SUM(F75:F80)","v":156.19},null,"* Nota - Valores mensais por empregado"]
[]
[null,"MÓDULO 6 - CUSTOS INDIRETOS, TRIBUTOS E LUCRO - BDI",null,null,"Percentuais","Valor"]
[null,null,"A","Custos Indiretos",{"$f":"BDI!E6","v":2.2699999999999998E-2}]
[null,null,"A.1","Administração Central",{"$f":"BDI!E7","v":1.7299999999999999E-2}]
[null,null,"A.2","Seguros, Garantias e Riscos",{"$f":"BDI!E8","v":5.4000000000000003E-3}]
[null,null,"B","Lucro",{"$f":"BDI!E10","v":2.6700000000000002E-2}]
[null,null,"C","Tributos",{"$f":"SUM(E89:E90)","v":0.124}]
[null,null,"C.1","Tributos Federais (COFINS, PIS e CPRB)",{"$f":"BDI!E18","v":7.3999999999999996E-2}]
[null,null,"C.2","Tributos Distritais (ISS)",{"$f":"BDI!E23","v":0.05}]
[null,null,"D","Despesas Financeiras",{"$f":"BDI!E13","v":4.4669210982628549E-3}]
[]
[null,null,null,"TOTAL DE BDI",{"$f":"BDI!E26","v":0.20399999999999999},{"$f":"E93*E101","v":2076.5425199999995}]
[]
[null,null,null,"QUADRO-RESUMO DO CUSTO MENSAL POR EMPREGADO - SEM O 13º","Valor"]
[null,null,null,"Módulo 1 - Composição da Remuneração",{"$f":"F16","v":5785}]
[null,null,null,"Módulo 2 - Encargos e Benefícios Anuais, Mensais e Diários",{"$f":"F45","v":3347.49}]
[null,null,null,"Módulo 3 - Provisão para Rescisão",{"$f":"F54","v":248.89}]
[null,null,null,"Módulo 4 - Custo de Reposição do Profissional Ausente",{"$f":"F72","v":641.55999999999995}]
[null,null,null,"Módulo 5 - Insumos Diversos",{"$f":"F81","v":156.19}]
[null,null,null,"SUBTOTAL (A+B+C+D+E)",{"$f":"SUM(E96:E100)","v":10179.129999999999}]
[null,null,null,"Módulo 6 - Custos Indiretos, Tributos e Lucro",{"$f":"F93","v":2076.5425199999995}]
[]
[null,null,null,"TOTAL DO POSTO",{"$f":"SUM(E101:E102)","v":12255.672519999998}]
[]
[null,"MÓDULO 7 - DESTAQUE DO MÓDULO 2 - 13º SALÁRIO",null,null,"Percentuais","Valor"]
[null,null,"A","13º Salário",{"$f":"'Encargos Sociais'!E32*12/11","v":9.0872727272727272E-2},{"$f":"ROUND(E107*F$16,2)","v":525.70000000000005},null,"* Nota 1 - Incluindo-se a reincidência das férias do substituto sobre o titular"]
[null,null,"B","Encargos Sociais sobre o 13º Salário",{"$f":"SUM($E$24:$E$32)","v":0.36800000000000005},{"$f":"ROUND(E108*$F$107,2)","v":193.46},null,"* Nota 2 - Provisiona-se, mensalmente, o proporcional a 1/12 dos valores referentes a gratificação natalina e adicional de férias."]
[null,null,"C","BDI sobre o 13º Salário - Taxa calculada no MÓDULO 6",{"$f":"E93","v":0.20399999999999999},{"$f":"ROUND(E109*($F$107+$F$108),2)","v":146.71}]
[]
[null,null,null,"TOTAL DO DESTAQUE DO 13º SALÁRIO",null,{"$f":"SUM(F107:F109)","v":865.87000000000012}]
[]
[null,null,null,"QUADRO-RESUMO DO CUSTO MENSAL POR EMPREGADO","Valor"]
[null,null,null,"Custo total - sem o 13º Salário",{"$f":"E104","v":12255.672519999998}]
[null,null,null,"Destaque do 13º Salário (valor mensal)",{"$f":"F111","v":865.87000000000012}]
[]
[null,null,null,"TOTAL DO POSTO",{"$f":"E114+E115","v":13121.542519999999}]

{"sheet":"3","index":6,"n_rows":117,"n_cols":8,"rows_kept":117,"cut":false,"hidden":false,"merged":[[17,1,17,3],[1,1,1,5],[2,1,2,5],[4,1,4,2],[5,1,5,2],[7,1,7,3],[105,1,105,3],[39,3,39,5],[46,1,46,3],[55,1,55,3],[67,3,67,5],[73,1,73,3],[82,1,82,3]]}
[]
[null,"PLANILHA DE ESTIMATIVA DE CUSTOS"]
[]
[]
[null,3,null,{"$f":"HLOOKUP($B$5,'Dados Gerais'!$D$6:$BK$21,6)","v":"VIGILANTE SUPERVISOR I \n EXTERNO DIURNO \nEscala 12 x 36  \n7h às 19h  \n2ª feira a Dom"},"QUANTIDADE",{"$f":"HLOOKUP($B$5,'Dados Gerais'!$D$6:$BK$21,10)","v":2}]
[null,"CCT",null,{"$f":"HLOOKUP($B$5,'Dados Gerais'!$D$6:$BK$21,15)","v":"SINDESV/DF X SINDESP/DF 2024/2024 Nº DF000333/2024"},"DATA-BASE",{"$f":"HLOOKUP($B$5,'Dados Gerais'!$D$6:$BK$21,16)","v":"2024-01-01"}]
[]
[null,"MÓDULO 1 - COMPOSIÇÃO DA REMUNERAÇÃO",null,null,null,"Valor"]
[null,null,"A","Salário-Base",null,{"$f":"HLOOKUP($B$5,'Dados Gerais'!$D$6:$BK$21,8)","v":4450}]
[null,null,"B","Adicional de Periculosidade",null,{"$f":"HLOOKUP($B$5,'Dados Gerais'!$D$6:$BK$38,25)","v":1335}]
[null,null,"C","Adicional de Insalubridade",null,{"$f":"HLOOKUP($B$5,'Dados Gerais'!$D$6:$BK$38,31)","v":0}]
[null,null,"D","Adicional Noturno",null,{"$f":"HLOOKUP($B$5,'Dados Gerais'!$D$6:$BK$51,46)","v":0},null,"* Nota 1 - O Módulo 1 refere-se ao valor mensal devido ao empregado pela prestação do serviço no período de 12 meses."]
[null,null,"E","Adicional de Hora Extra",null,{"$f":"HLOOKUP($B$5,'Dados Gerais'!$D$6:$BK$68,63)","v":0},null,"* Nota 2 - O adicional de hora extra no feriado trabalhado foi suprimido pela Lei 13.467/17"]
[null,null,"F","Outros (especificar)",null,{"$f":"HLOOKUP($B$5,'Dados Gerais'!$D$6:$BK$60,33)","v":272.33999999999997},null,"* Nota 3 - ART. 7º, § 2º, DA LEI Nº 605/49.Sendo mensalista o obreiro, o adicional noturno pago de forma fixa já é considerado integrado para os efeitos do pagamento do repouso semanal remunerado, nos termos do art. 7º, § 2º, da Lei nº 605/49."]
[]
[null,null,null,"TOTAL DA REMUNERAÇÃO",null,{"$f":"SUM(F9:F14)","v":6057.34}]
[]
[null,"MÓDULO 2 - ENCARGOS E BENEFÍCIOS ANUAIS, MENSAIS E DIÁRIOS",null,null,"Percentuais","Valor"]
[null,"Submódulo 2.1 - 13º Salário e Adicional de Férias"]
[null,null,"A","13º Salário - Calculado no Módulo 7 - Destacado",0,{"$f":"ROUND(E20*F$16,2)","v":0},null,"* Nota 1 - Provisiona-se, mensalmente, o proporcional a 1/12 dos valores referentes a gratificação natalina, calculada à parte"]
[null,null,"B","Adicional de Férias",{"$f":"'Encargos Sociais'!E31","v":3.0300000000000001E-2},{"$f":"ROUND(E21*F$16,2)","v":183.54},null,"* Nota 2 - O adicional de férias foi calculado dividindo-se por 11, para comportar os 11 meses presentes e ainda o ausente do posto"]
[]
[null,"Submódulo 2.2 - Encargos Previdenciários (GPS), Fundo de Garantia por Tempo de Serviço (FGTS) e Outras Contribuições"]
[null,null,"A",{"$f":"'Encargos Sociais'!D14","v":"INSS (art. 22, inciso I, Lei nº 8.212/91)"},{"$f":"'Encargos Sociais'!E14","v":0.2},{"$f":"ROUND(E24*($F$16+$F$41+$F$72),2)","v":1382.53}]
[null,null,"B",{"$f":"'Encargos Sociais'!D15","v":"Salário Educação (art. 3º, inciso I, Decreto nº 87.043/82)"},{"$f":"'Encargos Sociais'!E15","v":2.5000000000000001E-2},172.82]
[null,null,"C",{"$f":"'Encargos Sociais'!D16","v":"SAT/RAT (art. 22, II, Lei 8.212/91 e Anexo V, Decreto 6.042/07) - Enquadramento 8011-1/01"},{"$f":"'Encargos Sociais'!E16","v":0.03},207.38]
[null,null,"D",{"$f":"'Encargos Sociais'!D17","v":"SESC ou SESI (art. 30, Lei nº 8.036/90 e art. 1º, Lei 8.154/90)"},{"$f":"'Encargos Sociais'!E17","v":1.4999999999999999E-2},103.69]
[null,null,"E",{"$f":"'Encargos Sociais'!D18","v":"SENAI ou SENAC (Decreto nº 2.318/86)"},{"$f":"'Encargos Sociais'!E18","v":0.01},69.13,null,"* Nota 1 - Os percentuais dos encargos previdenciários, do FGTS e demais contribuições são estabelecidos por legislação vigente."]
[null,null,"F",{"$f":"'Encargos Sociais'!D19","v":"SEBRAE (§ 3º, art. 8º, Lei 8.029/90, alterada pela Lei nº 8.154/90)"},{"$f":"'Encargos Sociais'!E19","v":6.0000000000000001E-3},41.48,null,"* Nota 2 - O SAT, a depender do grau de risco do serviço, irá variar entre 1%, para risco leve, de 2%, para risco médio, e de 3% para risco grave."]
[null,null,"G",{"$f":"'Encargos Sociais'!D20","v":"INCRA (art. 1º, I, Decreto Lei 1.146/70 e Lei 7.787, de 30/06/89)"},{"$f":"'Encargos Sociais'!E20","v":2E-3},13.83,null,"* Nota 3 - Base de cálculo - remuneração + ausências + terço constitucional (férias)"]
[null,null,"H",{"$f":"'Encargos Sociais'!D21","v":"FGTS (Lei Complementar nº 110/01 e art. 30, Lei nº 8.036/90)"},{"$f":"'Encargos Sociais'!E21","v":0.08},553.01]
[null,null,"I",{"$f":"'Encargos Sociais'!D22","v":"SECONCI (Convenções Coletivas de Trabalho da construção)"},{"$f":"'Encargos Sociais'!E22","v":0},0]
[]
[null,"Submódulo 2.3 - Benefícios Mensais e Diários"]
[null,null,"A","Auxílio Transporte",null,{"$f":"HLOOKUP($B$5,'Dados Gerais'!$D$6:$BK$94,82)","v":0}]
[null,null,"B","Auxílio Alimentação",null,{"$f":"HLOOKUP($B$5,'Dados Gerais'!$D$6:$BK$94,89)","v":710.55},null,"* Nota 1 - O valor informado deverá ser o custo real do benefício (descontado o valor eventualmente pago pelo empregado)."]
[null,null,"C","Assistência Médica e Familiar",null,{"$f":"HLOOKUP($B$5,'Dados Gerais'!$D$6:$BK$102,97)","v":0},null,"* Nota 2 - Observar a previsão dos benefícios contidos em Acordos, Convenções e Dissídios Coletivos de Trabalho e o disposto no art. 6º da IN 5/2017"]
[null,null,"D","Outros (Seguro de vida e auxílio funeral e auxílio odontológico)",null,{"$f":"HLOOKUP($B$5,'Dados Gerais'!$D$6:$BK$119,114)","v":32.159999999999997}]
[]
[null,null,null,"QUADRO-RESUMO DO MÓDULO 2"]
[null,null,null,"2.1 - Adicional de Férias",{"$f":"SUM(E20:E21)","v":3.0300000000000001E-2},{"$f":"F20+F21","v":183.54}]
[null,null,null,"2.2 - Encargos Previdenciários (GPS), Fundo de Garantia por Tempo de Serviço (FGTS) e Contribuições",{"$f":"SUM(E24:E32)","v":0.36800000000000005},{"$f":"SUM(F24:F32)","v":2543.87}]
[null,null,null,"2.3 - Benefícios Mensais e Diários",null,{"$f":"SUM(F35:F38)","v":742.70999999999992}]
[]
[null,null,null,"TOTAL DOS ENCARGOS E BENEFÍCIOS",null,{"$f":"SUM(F41:F43)","v":3470.12}]
[]
[null,"MÓDULO 3 - PREVISÃO PARA RESCISÃO",null,null,"Percentuais","Valor"]
[null,null,"A",{"$f":"'Encargos Sociais'!D36","v":"Aviso Prévio Indenizado (Art. 7º, inciso XXI, da CF/1988 e arts. 477, 487, §1º, e 491 da CLT)"},{"$f":"'Encargos Sociais'!E36","v":4.1999999999999997E-3},{"$f":"ROUND(E48*($F$16+$F$72+$F$41),2)","v":29.03}]
[null,null,"B",{"$f":"'Encargos Sociais'!D37","v":"13º sobre aviso prévio indenizado"},{"$f":"'Encargos Sociais'!E37","v":4.0000000000000002E-4},{"$f":"ROUND(E49*($F$16+$F$72+$F$41),2)","v":2.77},null,"* Nota 1 - Adotou-se os parâmetros do estudo do STF (http://www.stf.jus.br/arquivo/cms/sobrestfestudosci/anexo/encargos_sociais_03102007.pdf), onde 5% do pessoal é demitido pelo empregador no decurso do contrato (para estes, considerou-se o aviso prévio indenizado). Desprezou-se as demissões por justa causa e os pedidos de demissão."]
[null,null,"C",{"$f":"'Encargos Sociais'!D38","v":"Incidência do FGTS sobre o Aviso Prévio Indenizado (Súmula 305 TST)"},{"$f":"'Encargos Sociais'!E38","v":2.9999999999999997E-4},{"$f":"ROUND(E50*($F$16+$F$72+$F$41),2)","v":2.0699999999999998},null,"* Nota 2 - Base de cálculo - remuneração + ausências + 1/3 férias"]
[null,null,"D",{"$f":"'Encargos Sociais'!D39","v":"Multa do FGTS sobre o Aviso Prévio (Art. 18, §1º, da Lei 8.036/1990)"},{"$f":"'Encargos Sociais'!E39","v":3.2000000000000001E-2},{"$f":"ROUND(E51*($F$16+$F$72+$F$41),2)","v":221.2}]
[null,null,"E",{"$f":"'Encargos Sociais'!D40","v":"Indenização Adicional - data-base (Art. 9º, Lei 7.238/1984)"},{"$f":"'Encargos Sociais'!E40","v":8.0000000000000004E-4},{"$f":"ROUND(E52*($F$16+$F$72+$F$41),2)","v":5.53}]
[]
[null,null,null,"TOTAL DE PREVISÃO PARA RESCISÃO",null,{"$f":"SUM(F48:F52)","v":260.59999999999997}]
[]
[null,"MÓDULO 4 - CUSTO DO PROFISSIONAL AUSENTE",null,null,"Percentuais","Valor"]
[null,"Submódulo 4.1 - Ausências Legais"]
[null,null,"A",{"$f":"'Encargos Sociais'!D25","v":"Férias (Arts. 129 e 130, inc. I, da CLT)"},{"$f":"'Encargos Sociais'!E25","v":9.0899999999999995E-2},{"$f":"ROUND(E58*$F$16,2)","v":550.61},null,"* Nota 1 - O Módulo 4 refere-se às previsões para custear ausências do próprio profissional (titular do cargo)"]
[null,null,"B",{"$f":"'Encargos Sociais'!D26","v":"Ausências Legais (Arts. 131 e 473 da CLT)"},{"$f":"'Encargos Sociais'!E26","v":7.9000000000000008E-3},47.85,null,"* Nota 2 - As férias foram calculadas dividindo-se por 11, para comportar os 11 meses presentes e ainda o ausente do posto"]
[null,null,"C",{"$f":"'Encargos Sociais'!D27","v":"Licença-Paternidade (Art. 7º, XIX, e art. 10, §1º, do ADCT, CF/1988 e Art. 1º, II, da Lei 11.770/2008)"},{"$f":"'Encargos Sociais'!E27","v":8.0000000000000004E-4},4.8499999999999996]
[null,null,"D",{"$f":"'Encargos Sociais'!D28","v":"Ausência por Acidente de Trabalho (Art. 131, III, da CLT)"},{"$f":"'Encargos Sociais'!E28","v":8.9999999999999998E-4},5.45]
[null,null,"E",{"$f":"'Encargos Sociais'!D29","v":"Afastamento Maternidade (Art. 71 da Lei nº 8.213/1991)"},{"$f":"'Encargos Sociais'!E29","v":3.3E-3},19.989999999999998]
[null,null,"F",{"$f":"'Encargos Sociais'!D30","v":"Auxílio Enfermidade - Doença (Art. 59 da Lei nº 8.213/1991)"},{"$f":"'Encargos Sociais'!E30","v":7.1000000000000004E-3},43.01]
[]
[null,"Submódulo 4.2 - Intrajornada"]
[null,null,"A","Intervalo para repouso ou alimentação",{"$f":"'Encargos Sociais'!E33","v":0},{"$f":"ROUND(E66*$F$16,2)","v":0}]
[]
[null,null,null,"QUADRO-RESUMO DO MÓDULO 4",null,"Valor"]
[null,null,null,"4.1 - Ausências Legais",{"$f":"SUM(E58:E63)","v":0.11089999999999998},{"$f":"ROUND(E69*$F$16,2)","v":671.76}]
[null,null,null,"4.2 - Intrajornada",{"$f":"E66","v":0},{"$f":"ROUND(E70*$F$16,2)","v":0}]
[]
[null,null,null,"TOTAL DE PREVISÃO PARA CUSTO DO PROFISSIONAL AUSENTE E INTERVALO INTRAJORNADA",null,{"$f":"SUM(F69:F70)","v":671.76}]
[]
[null,"MÓDULO 5 - INSUMOS DIVERSOS",null,null,null,"Valor"]
[null,null,"A","Uniformes - aquisição",null,{"$f":"ROUND(HLOOKUP($B$5,Uniformes!L4:EA90,3)/12,2)","v":156.19}]
[null,null,"B","Materiais de consumo relacionados ao posto - aquisição",null,{"$f":"ROUND(HLOOKUP(B5,'Mat Cons'!I11:DX13,3)/12,2)","v":0}]
[null,null,"C","Materiais permanentes relacionados ao posto - remuneração da sua depreciação / manutenção",null,{"$f":"HLOOKUP(B5,'Mat Perm'!Q11:EF13,3)","v":0}]
[null,null,"D","Equipamentos relacionados ao posto - remuneração da sua depreciação / manutenção",null,{"$f":"HLOOKUP(B5,'Equip Rel'!Q3:EF5,3)","v":0}]
[null,null,"E","Equipamentos de Proteção Individual - EPI - aquisição",null,{"$f":"ROUND(HLOOKUP(B5,EPI!J4:DY6,3)/12,2)","v":0}]
[]
[null,null,null,"TOTAL DE INSUMOS DIVERSOS",null,{"$f":"SUM(F75:F80)","v":156.19},null,"* Nota - Valores mensais por empregado"]
[]
[null,"MÓDULO 6 - CUSTOS INDIRETOS, TRIBUTOS E LUCRO - BDI",null,null,"Percentuais","Valor"]
[null,null,"A","Custos Indiretos",{"$f":"BDI!E6","v":2.2699999999999998E-2}]
[null,null,"A.1","Administração Central",{"$f":"BDI!E7","v":1.7299999999999999E-2}]
[null,null,"A.2","Seguros, Garantias e Riscos",{"$f":"BDI!E8","v":5.4000000000000003E-3}]
[null,null,"B","Lucro",{"$f":"BDI!E10","v":2.6700000000000002E-2}]
[null,null,"C","Tributos",{"$f":"SUM(E89:E90)","v":0.124}]
[null,null,"C.1","Tributos Federais (COFINS, PIS e CPRB)",{"$f":"BDI!E18","v":7.3999999999999996E-2}]
[null,null,"C.2","Tributos Distritais (ISS)",{"$f":"BDI!E23","v":0.05}]
[null,null,"D","Despesas Financeiras",{"$f":"BDI!E13","v":4.4669210982628549E-3}]
[]
[null,null,null,"TOTAL DE BDI",{"$f":"BDI!E26","v":0.20399999999999999},{"$f":"E93*E101","v":2165.6660400000001}]
[]
[null,null,null,"QUADRO-RESUMO DO CUSTO MENSAL POR EMPREGADO - SEM O 13º","Valor"]
[null,null,null,"Módulo 1 - Composição da Remuneração",{"$f":"F16","v":6057.34}]
[null,null,null,"Módulo 2 - Encargos e Benefícios Anuais, Mensais e Diários",{"$f":"F45","v":3470.12}]
[null,null,null,"Módulo 3 - Provisão para Rescisão",{"$f":"F54","v":260.59999999999997}]
[null,null,null,"Módulo 4 - Custo de Reposição do Profissional Ausente",{"$f":"F72","v":671.76}]
[null,null,null,"Módulo 5 - Insumos Diversos",{"$f":"F81","v":156.19}]
[null,null,null,"SUBTOTAL (A+B+C+D+E)",{"$f":"SUM(E96:E100)","v":10616.01}]
[null,null,null,"Módulo 6 - Custos Indiretos, Tributos e Lucro",{"$f":"F93","v":2165.6660400000001}]
[]
[null,null,null,"TOTAL DO POSTO",{"$f":"SUM(E101:E102)","v":12781.67604}]
[]
[null,"MÓDULO 7 - DESTAQUE DO MÓDULO 2 - 13º SALÁRIO",null,null,"Percentuais","Valor"]
[null,null,"A","13º Salário",{"$f":"'Encargos Sociais'!E32*12/11","v":9.0872727272727272E-2},{"$f":"ROUND(E107*F$16,2)","v":550.45000000000005},null,"* Nota 1 - Incluindo-se a reincidência das férias do substituto sobre o titular"]
[null,null,"B","Encargos Sociais sobre o 13º Salário",{"$f":"SUM($E$24:$E$32)","v":0.36800000000000005},{"$f":"ROUND(E108*$F$107,2)","v":202.57},null,"* Nota 2 - Provisiona-se, mensalmente, o proporcional a 1/12 dos valores referentes a gratificação natalina e adicional de férias."]
[null,null,"C","BDI sobre o 13º Salário - Taxa calculada no MÓDULO 6",{"$f":"E93","v":0.20399999999999999},{"$f":"ROUND(E109*($F$107+$F$108),2)","v":153.62}]
[]
[null,null,null,"TOTAL DO DESTAQUE DO 13º SALÁRIO",null,{"$f":"SUM(F107:F109)","v":906.64}]
[]
[null,null,null,"QUADRO-RESUMO DO CUSTO MENSAL POR EMPREGADO","Valor"]
[null,null,null,"Custo total - sem o 13º Salário",{"$f":"E104","v":12781.67604}]
[null,null,null,"Destaque do 13º Salário (valor mensal)",{"$f":"F111","v":906.64}]
[]
[null,null,null,"TOTAL DO POSTO",{"$f":"E114+E115","v":13688.31604}]

{"sheet":"4","index":7,"n_rows":117,"n_cols":8,"rows_kept":117,"cut":false,"hidden":false,"merged":[[17,1,17,3],[1,1,1,5],[2,1,2,5],[4,1,4,2],[5,1,5,2],[7,1,7,3],[105,1,105,3],[39,3,39,5],[46,1,46,3],[55,1,55,3],[67,3,67,5],[73,1,73,3],[82,1,82,3]]}
[]
[null,"PLANILHA DE ESTIMATIVA DE CUSTOS"]
[]
[]
[null,4,null,{"$f":"HLOOKUP($B$5,'Dados Gerais'!$D$6:$BK$21,6)","v":"VIGILANTE SUPERVISOR I \n INTERNO NOTURNO  \nEscala 12 x 36  \n19h às 7h  \n2ª feira a Dom"},"QUANTIDADE",{"$f":"HLOOKUP($B$5,'Dados Gerais'!$D$6:$BK$21,10)","v":2}]
[null,"CCT",null,{"$f":"HLOOKUP($B$5,'Dados Gerais'!$D$6:$BK$21,15)","v":"SINDESV/DF X SINDESP/DF 2024/2024 Nº DF000333/2024"},"DATA-BASE",{"$f":"HLOOKUP($B$5,'Dados Gerais'!$D$6:$BK$21,16)","v":"2024-01-01"}]
[]
[null,"MÓDULO 1 - COMPOSIÇÃO DA REMUNERAÇÃO",null,null,null,"Valor"]
[null,null,"A","Salário-Base",null,{"$f":"HLOOKUP($B$5,'Dados Gerais'!$D$6:$BK$21,8)","v":4450}]
[null,null,"B","Adicional de Periculosidade",null,{"$f":"HLOOKUP($B$5,'Dados Gerais'!$D$6:$BK$38,25)","v":1335}]
[null,null,"C","Adicional de Insalubridade",null,{"$f":"HLOOKUP($B$5,'Dados Gerais'!$D$6:$BK$38,31)","v":0}]
[null,null,"D","Adicional Noturno",null,{"$f":"HLOOKUP($B$5,'Dados Gerais'!$D$6:$BK$51,46)","v":631.09},null,"* Nota 1 - O Módulo 1 refere-se ao valor mensal devido ao empregado pela prestação do serviço no período de 12 meses."]
[null,null,"E","Adicional de Hora Extra",null,{"$f":"HLOOKUP($B$5,'Dados Gerais'!$D$6:$BK$68,63)","v":0},null,"* Nota 2 - O adicional de hora extra no feriado trabalhado foi suprimido pela Lei 13.467/17"]
[null,null,"F","Outros (especificar)",null,{"$f":"HLOOKUP($B$5,'Dados Gerais'!$D$6:$BK$60,33)","v":0},null,"* Nota 3 - ART. 7º, § 2º, DA LEI Nº 605/49.Sendo mensalista o obreiro, o adicional noturno pago de forma fixa já é considerado integrado para os efeitos do pagamento do repouso semanal remunerado, nos termos do art. 7º, § 2º, da Lei nº 605/49."]
[]
[null,null,null,"TOTAL DA REMUNERAÇÃO",null,{"$f":"SUM(F9:F14)","v":6416.09}]
[]
[null,"MÓDULO 2 - ENCARGOS E BENEFÍCIOS ANUAIS, MENSAIS E DIÁRIOS",null,null,"Percentuais","Valor"]
[null,"Submódulo 2.1 - 13º Salário e Adicional de Férias"]
[null,null,"A","13º Salário - Calculado no Módulo 7 - Destacado",0,{"$f":"ROUND(E20*F$16,2)","v":0},null,"* Nota 1 - Provisiona-se, mensalmente, o proporcional a 1/12 dos valores referentes a gratificação natalina, calculada à parte"]
[null,null,"B","Adicional de Férias",{"$f":"'Encargos Sociais'!E31","v":3.0300000000000001E-2},{"$f":"ROUND(E21*F$16,2)","v":194.41},null,"* Nota 2 - O adicional de férias foi calculado dividindo-se por 11, para comportar os 11 meses presentes e ainda o ausente do posto"]
[]
[null,"Submódulo 2.2 - Encargos Previdenciários (GPS), Fundo de Garantia por Tempo de Serviço (FGTS) e Outras Contribuições"]
[null,null,"A",{"$f":"'Encargos Sociais'!D14","v":"INSS (art. 22, inciso I, Lei nº 8.212/91)"},{"$f":"'Encargos Sociais'!E14","v":0.2},{"$f":"ROUND(E24*($F$16+$F$41+$F$72),2)","v":1464.41}]
[null,null,"B",{"$f":"'Encargos Sociais'!D15","v":"Salário Educação (art. 3º, inciso I, Decreto nº 87.043/82)"},{"$f":"'Encargos Sociais'!E15","v":2.5000000000000001E-2},183.05]
[null,null,"C",{"$f":"'Encargos Sociais'!D16","v":"SAT/RAT (art. 22, II, Lei 8.212/91 e Anexo V, Decreto 6.042/07) - Enquadramento 8011-1/01"},{"$f":"'Encargos Sociais'!E16","v":0.03},219.66]
[null,null,"D",{"$f":"'Encargos Sociais'!D17","v":"SESC ou SESI (art. 30, Lei nº 8.036/90 e art. 1º, Lei 8.154/90)"},{"$f":"'Encargos Sociais'!E17","v":1.4999999999999999E-2},109.83]
[null,null,"E",{"$f":"'Encargos Sociais'!D18","v":"SENAI ou SENAC (Decreto nº 2.318/86)"},{"$f":"'Encargos Sociais'!E18","v":0.01},73.22,null,"* Nota 1 - Os percentuais dos encargos previdenciários, do FGTS e demais contribuições são estabelecidos por legislação vigente."]
[null,null,"F",{"$f":"'Encargos Sociais'!D19","v":"SEBRAE (§ 3º, art. 8º, Lei 8.029/90, alterada pela Lei nº 8.154/90)"},{"$f":"'Encargos Sociais'!E19","v":6.0000000000000001E-3},43.93,null,"* Nota 2 - O SAT, a depender do grau de risco do serviço, irá variar entre 1%, para risco leve, de 2%, para risco médio, e de 3% para risco grave."]
[null,null,"G",{"$f":"'Encargos Sociais'!D20","v":"INCRA (art. 1º, I, Decreto Lei 1.146/70 e Lei 7.787, de 30/06/89)"},{"$f":"'Encargos Sociais'!E20","v":2E-3},14.64,null,"* Nota 3 - Base de cálculo - remuneração + ausências + terço constitucional (férias)"]
[null,null,"H",{"$f":"'Encargos Sociais'!D21","v":"FGTS (Lei Complementar nº 110/01 e art. 30, Lei nº 8.036/90)"},{"$f":"'Encargos Sociais'!E21","v":0.08},585.76]
[null,null,"I",{"$f":"'Encargos Sociais'!D22","v":"SECONCI (Convenções Coletivas de Trabalho da construção)"},{"$f":"'Encargos Sociais'!E22","v":0},0]
[]
[null,"Submódulo 2.3 - Benefícios Mensais e Diários"]
[null,null,"A","Auxílio Transporte",null,{"$f":"HLOOKUP($B$5,'Dados Gerais'!$D$6:$BK$94,82)","v":0}]
[null,null,"B","Auxílio Alimentação",null,{"$f":"HLOOKUP($B$5,'Dados Gerais'!$D$6:$BK$94,89)","v":710.55},null,"* Nota 1 - O valor informado deverá ser o custo real do benefício (descontado o valor eventualmente pago pelo empregado)."]
[null,null,"C","Assistência Médica e Familiar",null,{"$f":"HLOOKUP($B$5,'Dados Gerais'!$D$6:$BK$102,97)","v":0},null,"* Nota 2 - Observar a previsão dos benefícios contidos em Acordos, Convenções e Dissídios Coletivos de Trabalho e o disposto no art. 6º da IN 5/2017"]
[null,null,"D","Outros (Seguro de vida e auxílio funeral e auxílio odontológico)",null,{"$f":"HLOOKUP($B$5,'Dados Gerais'!$D$6:$BK$119,114)","v":32.159999999999997}]
[]
[null,null,null,"QUADRO-RESUMO DO MÓDULO 2"]
[null,null,null,"2.1 - Adicional de Férias",{"$f":"SUM(E20:E21)","v":3.0300000000000001E-2},{"$f":"F20+F21","v":194.41}]
[null,null,null,"2.2 - Encargos Previdenciários (GPS), Fundo de Garantia por Tempo de Serviço (FGTS) e Contribuições",{"$f":"SUM(E24:E32)","v":0.36800000000000005},{"$f":"SUM(F24:F32)","v":2694.5}]
[null,null,null,"2.3 - Benefícios Mensais e Diários",null,{"$f":"SUM(F35:F38)","v":742.70999999999992}]
[]
[null,null,null,"TOTAL DOS ENCARGOS E BENEFÍCIOS",null,{"$f":"SUM(F41:F43)","v":3631.62}]
[]
[null,"MÓDULO 3 - PREVISÃO PARA RESCISÃO",null,null,"Percentuais","Valor"]
[null,null,"A",{"$f":"'Encargos Sociais'!D36","v":"Aviso Prévio Indenizado (Art. 7º, inciso XXI, da CF/1988 e arts. 477, 487, §1º, e 491 da CLT)"},{"$f":"'Encargos Sociais'!E36","v":4.1999999999999997E-3},{"$f":"ROUND(E48*($F$16+$F$72+$F$41),2)","v":30.75}]
[null,null,"B",{"$f":"'Encargos Sociais'!D37","v":"13º sobre aviso prévio indenizado"},{"$f":"'Encargos Sociais'!E37","v":4.0000000000000002E-4},{"$f":"ROUND(E49*($F$16+$F$72+$F$41),2)","v":2.93},null,"* Nota 1 - Adotou-se os parâmetros do estudo do STF (http://www.stf.jus.br/arquivo/cms/sobrestfestudosci/anexo/encargos_sociais_03102007.pdf), onde 5% do pessoal é demitido pelo empregador no decurso do contrato (para estes, considerou-se o aviso prévio indenizado). Desprezou-se as demissões por justa causa e os pedidos de demissão."]
[null,null,"C",{"$f":"'Encargos Sociais'!D38","v":"Incidência do FGTS sobre o Aviso Prévio Indenizado (Súmula 305 TST)"},{"$f":"'Encargos Sociais'!E38","v":2.9999999999999997E-4},{"$f":"ROUND(E50*($F$16+$F$72+$F$41),2)","v":2.2000000000000002},null,"* Nota 2 - Base de cálculo - remuneração + ausências + 1/3 férias"]
[null,null,"D",{"$f":"'Encargos Sociais'!D39","v":"Multa do FGTS sobre o Aviso Prévio (Art. 18, §1º, da Lei 8.036/1990)"},{"$f":"'Encargos Sociais'!E39","v":3.2000000000000001E-2},{"$f":"ROUND(E51*($F$16+$F$72+$F$41),2)","v":234.31}]
[null,null,"E",{"$f":"'Encargos Sociais'!D40","v":"Indenização Adicional - data-base (Art. 9º, Lei 7.238/1984)"},{"$f":"'Encargos Sociais'!E40","v":8.0000000000000004E-4},{"$f":"ROUND(E52*($F$16+$F$72+$F$41),2)","v":5.86}]
[]
[null,null,null,"TOTAL DE PREVISÃO PARA RESCISÃO",null,{"$f":"SUM(F48:F52)","v":276.05}]
[]
[null,"MÓDULO 4 - CUSTO DO PROFISSIONAL AUSENTE",null,null,"Percentuais","Valor"]
[null,"Submódulo 4.1 - Ausências Legais"]
[null,null,"A",{"$f":"'Encargos Sociais'!D25","v":"Férias (Arts. 129 e 130, inc. I, da CLT)"},{"$f":"'Encargos Sociais'!E25","v":9.0899999999999995E-2},{"$f":"ROUND(E58*$F$16,2)","v":583.22},null,"* Nota 1 - O Módulo 4 refere-se às previsões para custear ausências do próprio profissional (titular do cargo)"]
[null,null,"B",{"$f":"'Encargos Sociais'!D26","v":"Ausências Legais (Arts. 131 e 473 da CLT)"},{"$f":"'Encargos Sociais'!E26","v":7.9000000000000008E-3},50.69,null,"* Nota 2 - As férias foram calculadas dividindo-se por 11, para comportar os 11 meses presentes e ainda o ausente do posto"]
[null,null,"C",{"$f":"'Encargos Sociais'!D27","v":"Licença-Paternidade (Art. 7º, XIX, e art. 10, §1º, do ADCT, CF/1988 e Art. 1º, II, da Lei 11.770/2008)"},{"$f":"'Encargos Sociais'!E27","v":8.0000000000000004E-4},5.13]
[null,null,"D",{"$f":"'Encargos Sociais'!D28","v":"Ausência por Acidente de Trabalho (Art. 131, III, da CLT)"},{"$f":"'Encargos Sociais'!E28","v":8.9999999999999998E-4},5.77]
[null,null,"E",{"$f":"'Encargos Sociais'!D29","v":"Afastamento Maternidade (Art. 71 da Lei nº 8.213/1991)"},{"$f":"'Encargos Sociais'!E29","v":3.3E-3},21.17]
[null,null,"F",{"$f":"'Encargos Sociais'!D30","v":"Auxílio Enfermidade - Doença (Art. 59 da Lei nº 8.213/1991)"},{"$f":"'Encargos Sociais'!E30","v":7.1000000000000004E-3},45.55]
[]
[null,"Submódulo 4.2 - Intrajornada"]
[null,null,"A","Intervalo para repouso ou alimentação",{"$f":"'Encargos Sociais'!E33","v":0},{"$f":"ROUND(E66*$F$16,2)","v":0}]
[]
[null,null,null,"QUADRO-RESUMO DO MÓDULO 4",null,"Valor"]
[null,null,null,"4.1 - Ausências Legais",{"$f":"SUM(E58:E63)","v":0.11089999999999998},{"$f":"ROUND(E69*$F$16,2)","v":711.54}]
[null,null,null,"4.2 - Intrajornada",{"$f":"E66","v":0},{"$f":"ROUND(E70*$F$16,2)","v":0}]
[]
[null,null,null,"TOTAL DE PREVISÃO PARA CUSTO DO PROFISSIONAL AUSENTE E INTERVALO INTRAJORNADA",null,{"$f":"SUM(F69:F70)","v":711.54}]
[]
[null,"MÓDULO 5 - INSUMOS DIVERSOS",null,null,null,"Valor"]
[null,null,"A","Uniformes - aquisição",null,{"$f":"ROUND(HLOOKUP($B$5,Uniformes!L4:EA90,3)/12,2)","v":156.19}]
[null,null,"B","Materiais de consumo relacionados ao posto - aquisição",null,{"$f":"ROUND(HLOOKUP(B5,'Mat Cons'!I11:DX13,3)/12,2)","v":0}]
[null,null,"C","Materiais permanentes relacionados ao posto - remuneração da sua depreciação / manutenção",null,{"$f":"HLOOKUP(B5,'Mat Perm'!Q11:EF13,3)","v":0}]
[null,null,"D","Equipamentos relacionados ao posto - remuneração da sua depreciação / manutenção",null,{"$f":"HLOOKUP(B5,'Equip Rel'!Q3:EF5,3)","v":0}]
[null,null,"E","Equipamentos de Proteção Individual - EPI - aquisição",null,{"$f":"ROUND(HLOOKUP(B5,EPI!J4:DY6,3)/12,2)","v":0}]
[]
[null,null,null,"TOTAL DE INSUMOS DIVERSOS",null,{"$f":"SUM(F75:F80)","v":156.19},null,"* Nota - Valores mensais por empregado"]
[]
[null,"MÓDULO 6 - CUSTOS INDIRETOS, TRIBUTOS E LUCRO - BDI",null,null,"Percentuais","Valor"]
[null,null,"A","Custos Indiretos",{"$f":"BDI!E6","v":2.2699999999999998E-2}]
[null,null,"A.1","Administração Central",{"$f":"BDI!E7","v":1.7299999999999999E-2}]
[null,null,"A.2","Seguros, Garantias e Riscos",{"$f":"BDI!E8","v":5.4000000000000003E-3}]
[null,null,"B","Lucro",{"$f":"BDI!E10","v":2.6700000000000002E-2}]
[null,null,"C","Tributos",{"$f":"SUM(E89:E90)","v":0.124}]
[null,null,"C.1","Tributos Federais (COFINS, PIS e CPRB)",{"$f":"BDI!E18","v":7.3999999999999996E-2}]
[null,null,"C.2","Tributos Distritais (ISS)",{"$f":"BDI!E23","v":0.05}]
[null,null,"D","Despesas Financeiras",{"$f":"BDI!E13","v":4.4669210982628549E-3}]
[]
[null,null,null,"TOTAL DE BDI",{"$f":"BDI!E26","v":0.20399999999999999},{"$f":"E93*E101","v":2283.06396}]
[]
[null,null,null,"QUADRO-RESUMO DO CUSTO MENSAL POR EMPREGADO - SEM O 13º","Valor"]
[null,null,null,"Módulo 1 - Composição da Remuneração",{"$f":"F16","v":6416.09}]
[null,null,null,"Módulo 2 - Encargos e Benefícios Anuais, Mensais e Diários",{"$f":"F45","v":3631.62}]
[null,null,null,"Módulo 3 - Provisão para Rescisão",{"$f":"F54","v":276.05}]
[null,null,null,"Módulo 4 - Custo de Reposição do Profissional Ausente",{"$f":"F72","v":711.54}]
[null,null,null,"Módulo 5 - Insumos Diversos",{"$f":"F81","v":156.19}]
[null,null,null,"SUBTOTAL (A+B+C+D+E)",{"$f":"SUM(E96:E100)","v":11191.49}]
[null,null,null,"Módulo 6 - Custos Indiretos, Tributos e Lucro",{"$f":"F93","v":2283.06396}]
[]
[null,null,null,"TOTAL DO POSTO",{"$f":"SUM(E101:E102)","v":13474.553959999999}]
[]
[null,"MÓDULO 7 - DESTAQUE DO MÓDULO 2 - 13º SALÁRIO",null,null,"Percentuais","Valor"]
[null,null,"A","13º Salário",{"$f":"'Encargos Sociais'!E32*12/11","v":9.0872727272727272E-2},{"$f":"ROUND(E107*F$16,2)","v":583.04999999999995},null,"* Nota 1 - Incluindo-se a reincidência das férias do substituto sobre o titular"]
[null,null,"B","Encargos Sociais sobre o 13º Salário",{"$f":"SUM($E$24:$E$32)","v":0.36800000000000005},{"$f":"ROUND(E108*$F$107,2)","v":214.56},null,"* Nota 2 - Provisiona-se, mensalmente, o proporcional a 1/12 dos valores referentes a gratificação natalina e adicional de férias."]
[null,null,"C","BDI sobre o 13º Salário - Taxa calculada no MÓDULO 6",{"$f":"E93","v":0.20399999999999999},{"$f":"ROUND(E109*($F$107+$F$108),2)","v":162.71}]
[]
[null,null,null,"TOTAL DO DESTAQUE DO 13º SALÁRIO",null,{"$f":"SUM(F107:F109)","v":960.31999999999994}]
[]
[null,null,null,"QUADRO-RESUMO DO CUSTO MENSAL POR EMPREGADO","Valor"]
[null,null,null,"Custo total - sem o 13º Salário",{"$f":"E104","v":13474.553959999999}]
[null,null,null,"Destaque do 13º Salário (valor mensal)",{"$f":"F111","v":960.31999999999994}]
[]
[null,null,null,"TOTAL DO POSTO",{"$f":"E114+E115","v":14434.873959999999}]

{"sheet":"5","index":8,"n_rows":117,"n_cols":8,"rows_kept":117,"cut":false,"hidden":false,"merged":[[17,1,17,3],[1,1,1,5],[2,1,2,5],[4,1,4,2],[5,1,5,2],[7,1,7,3],[105,1,105,3],[39,3,39,5],[46,1,46,3],[55,1,55,3],[67,3,67,5],[73,1,73,3],[82,1,82,3]]}
[]
[null,"PLANILHA DE ESTIMATIVA DE CUSTOS"]
[]
[]
[null,5,null,{"$f":"HLOOKUP($B$5,'Dados Gerais'!$D$6:$BK$21,6)","v":"VIGILANTE SUPERVISOR I \n EXTERNO NOTURNO  \nEscala 12 x 36  \n19h às 7h  \n2ª feira a Dom"},"QUANTIDADE",{"$f":"HLOOKUP($B$5,'Dados Gerais'!$D$6:$BK$21,10)","v":2}]
[null,"CCT",null,{"$f":"HLOOKUP($B$5,'Dados Gerais'!$D$6:$BK$21,15)","v":"SINDESV/DF X SINDESP/DF 2024/2024 Nº DF000333/2024"},"DATA-BASE",{"$f":"HLOOKUP($B$5,'Dados Gerais'!$D$6:$BK$21,16)","v":"2024-01-01"}]
[]
[null,"MÓDULO 1 - COMPOSIÇÃO DA REMUNERAÇÃO",null,null,null,"Valor"]
[null,null,"A","Salário-Base",null,{"$f":"HLOOKUP($B$5,'Dados Gerais'!$D$6:$BK$21,8)","v":4450}]
[null,null,"B","Adicional de Periculosidade",null,{"$f":"HLOOKUP($B$5,'Dados Gerais'!$D$6:$BK$38,25)","v":1335}]
[null,null,"C","Adicional de Insalubridade",null,{"$f":"HLOOKUP($B$5,'Dados Gerais'!$D$6:$BK$38,31)","v":0}]
[null,null,"D","Adicional Noturno",null,{"$f":"HLOOKUP($B$5,'Dados Gerais'!$D$6:$BK$51,46)","v":660.8},null,"* Nota 1 - O Módulo 1 refere-se ao valor mensal devido ao empregado pela prestação do serviço no período de 12 meses."]
[null,null,"E","Adicional de Hora Extra",null,{"$f":"HLOOKUP($B$5,'Dados Gerais'!$D$6:$BK$68,63)","v":0},null,"* Nota 2 - O adicional de hora extra no feriado trabalhado foi suprimido pela Lei 13.467/17"]
[null,null,"F","Outros (especificar)",null,{"$f":"HLOOKUP($B$5,'Dados Gerais'!$D$6:$BK$60,33)","v":272.33999999999997},null,"* Nota 3 - ART. 7º, § 2º, DA LEI Nº 605/49.Sendo mensalista o obreiro, o adicional noturno pago de forma fixa já é considerado integrado para os efeitos do pagamento do repouso semanal remunerado, nos termos do art. 7º, § 2º, da Lei nº 605/49."]
[]
[null,null,null,"TOTAL DA REMUNERAÇÃO",null,{"$f":"SUM(F9:F14)","v":6718.14}]
[]
[null,"MÓDULO 2 - ENCARGOS E BENEFÍCIOS ANUAIS, MENSAIS E DIÁRIOS",null,null,"Percentuais","Valor"]
[null,"Submódulo 2.1 - 13º Salário e Adicional de Férias"]
[null,null,"A","13º Salário - Calculado no Módulo 7 - Destacado",0,{"$f":"ROUND(E20*F$16,2)","v":0},null,"* Nota 1 - Provisiona-se, mensalmente, o proporcional a 1/12 dos valores referentes a gratificação natalina, calculada à parte"]
[null,null,"B","Adicional de Férias",{"$f":"'Encargos Sociais'!E31","v":3.0300000000000001E-2},{"$f":"ROUND(E21*F$16,2)","v":203.56},null,"* Nota 2 - O adicional de férias foi calculado dividindo-se por 11, para comportar os 11 meses presentes e ainda o ausente do posto"]
[]
[null,"Submódulo 2.2 - Encargos Previdenciários (GPS), Fundo de Garantia por Tempo de Serviço (FGTS) e Outras Contribuições"]
[null,null,"A",{"$f":"'Encargos Sociais'!D14","v":"INSS (art. 22, inciso I, Lei nº 8.212/91)"},{"$f":"'Encargos Sociais'!E14","v":0.2},{"$f":"ROUND(E24*($F$16+$F$41+$F$72),2)","v":1533.35}]
[null,null,"B",{"$f":"'Encargos Sociais'!D15","v":"Salário Educação (art. 3º, inciso I, Decreto nº 87.043/82)"},{"$f":"'Encargos Sociais'!E15","v":2.5000000000000001E-2},191.67]
[null,null,"C",{"$f":"'Encargos Sociais'!D16","v":"SAT/RAT (art. 22, II, Lei 8.212/91 e Anexo V, Decreto 6.042/07) - Enquadramento 8011-1/01"},{"$f":"'Encargos Sociais'!E16","v":0.03},230]
[null,null,"D",{"$f":"'Encargos Sociais'!D17","v":"SESC ou SESI (art. 30, Lei nº 8.036/90 e art. 1º, Lei 8.154/90)"},{"$f":"'Encargos Sociais'!E17","v":1.4999999999999999E-2},115]
[null,null,"E",{"$f":"'Encargos Sociais'!D18","v":"SENAI ou SENAC (Decreto nº 2.318/86)"},{"$f":"'Encargos Sociais'!E18","v":0.01},76.67,null,"* Nota 1 - Os percentuais dos encargos previdenciários, do FGTS e demais contribuições são estabelecidos por legislação vigente."]
[null,null,"F",{"$f":"'Encargos Sociais'!D19","v":"SEBRAE (§ 3º, art. 8º, Lei 8.029/90, alterada pela Lei nº 8.154/90)"},{"$f":"'Encargos Sociais'!E19","v":6.0000000000000001E-3},46,null,"* Nota 2 - O SAT, a depender do grau de risco do serviço, irá variar entre 1%, para risco leve, de 2%, para risco médio, e de 3% para risco grave."]
[null,null,"G",{"$f":"'Encargos Sociais'!D20","v":"INCRA (art. 1º, I, Decreto Lei 1.146/70 e Lei 7.787, de 30/06/89)"},{"$f":"'Encargos Sociais'!E20","v":2E-3},15.33,null,"* Nota 3 - Base de cálculo - remuneração + ausências + terço constitucional (férias)"]
[null,null,"H",{"$f":"'Encargos Sociais'!D21","v":"FGTS (Lei Complementar nº 110/01 e art. 30, Lei nº 8.036/90)"},{"$f":"'Encargos Sociais'!E21","v":0.08},613.34]
[null,null,"I",{"$f":"'Encargos Sociais'!D22","v":"SECONCI (Convenções Coletivas de Trabalho da construção)"},{"$f":"'Encargos Sociais'!E22","v":0},0]
[]
[null,"Submódulo 2.3 - Benefícios Mensais e Diários"]
[null,null,"A","Auxílio Transporte",null,{"$f":"HLOOKUP($B$5,'Dados Gerais'!$D$6:$BK$94,82)","v":0}]
[null,null,"B","Auxílio Alimentação",null,{"$f":"HLOOKUP($B$5,'Dados Gerais'!$D$6:$BK$94,89)","v":710.55},null,"* Nota 1 - O valor informado deverá ser o custo real do benefício (descontado o valor eventualmente pago pelo empregado)."]
[null,null,"C","Assistência Médica e Familiar",null,{"$f":"HLOOKUP($B$5,'Dados Gerais'!$D$6:$BK$102,97)","v":0},null,"* Nota 2 - Observar a previsão dos benefícios contidos em Acordos, Convenções e Dissídios Coletivos de Trabalho e o disposto no art. 6º da IN 5/2017"]
[null,null,"D","Outros (Seguro de vida e auxílio funeral e auxílio odontológico)",null,{"$f":"HLOOKUP($B$5,'Dados Gerais'!$D$6:$BK$119,114)","v":32.159999999999997}]
[]
[null,null,null,"QUADRO-RESUMO DO MÓDULO 2"]
[null,null,null,"2.1 - Adicional de Férias",{"$f":"SUM(E20:E21)","v":3.0300000000000001E-2},{"$f":"F20+F21","v":203.56}]
[null,null,null,"2.2 - Encargos Previdenciários (GPS), Fundo de Garantia por Tempo de Serviço (FGTS) e Contribuições",{"$f":"SUM(E24:E32)","v":0.36800000000000005},{"$f":"SUM(F24:F32)","v":2821.36}]
[null,null,null,"2.3 - Benefícios Mensais e Diários",null,{"$f":"SUM(F35:F38)","v":742.70999999999992}]
[]
[null,null,null,"TOTAL DOS ENCARGOS E BENEFÍCIOS",null,{"$f":"SUM(F41:F43)","v":3767.63}]
[]
[null,"MÓDULO 3 - PREVISÃO PARA RESCISÃO",null,null,"Percentuais","Valor"]
[null,null,"A",{"$f":"'Encargos Sociais'!D36","v":"Aviso Prévio Indenizado (Art. 7º, inciso XXI, da CF/1988 e arts. 477, 487, §1º, e 491 da CLT)"},{"$f":"'Encargos Sociais'!E36","v":4.1999999999999997E-3},{"$f":"ROUND(E48*($F$16+$F$72+$F$41),2)","v":32.200000000000003}]
[null,null,"B",{"$f":"'Encargos Sociais'!D37","v":"13º sobre aviso prévio indenizado"},{"$f":"'Encargos Sociais'!E37","v":4.0000000000000002E-4},{"$f":"ROUND(E49*($F$16+$F$72+$F$41),2)","v":3.07},null,"* Nota 1 - Adotou-se os parâmetros do estudo do STF (http://www.stf.jus.br/arquivo/cms/sobrestfestudosci/anexo/encargos_sociais_03102007.pdf), onde 5% do pessoal é demitido pelo empregador no decurso do contrato (para estes, considerou-se o aviso prévio indenizado). Desprezou-se as demissões por justa causa e os pedidos de demissão."]
[null,null,"C",{"$f":"'Encargos Sociais'!D38","v":"Incidência do FGTS sobre o Aviso Prévio Indenizado (Súmula 305 TST)"},{"$f":"'Encargos Sociais'!E38","v":2.9999999999999997E-4},{"$f":"ROUND(E50*($F$16+$F$72+$F$41),2)","v":2.2999999999999998},null,"* Nota 2 - Base de cálculo - remuneração + ausências + 1/3 férias"]
[null,null,"D",{"$f":"'Encargos Sociais'!D39","v":"Multa do FGTS sobre o Aviso Prévio (Art. 18, §1º, da Lei 8.036/1990)"},{"$f":"'Encargos Sociais'!E39","v":3.2000000000000001E-2},{"$f":"ROUND(E51*($F$16+$F$72+$F$41),2)","v":245.34}]
[null,null,"E",{"$f":"'Encargos Sociais'!D40","v":"Indenização Adicional - data-base (Art. 9º, Lei 7.238/1984)"},{"$f":"'Encargos Sociais'!E40","v":8.0000000000000004E-4},{"$f":"ROUND(E52*($F$16+$F$72+$F$41),2)","v":6.13}]
[]
[null,null,null,"TOTAL DE PREVISÃO PARA RESCISÃO",null,{"$f":"SUM(F48:F52)","v":289.04000000000002}]
[]
[null,"MÓDULO 4 - CUSTO DO PROFISSIONAL AUSENTE",null,null,"Percentuais","Valor"]
[null,"Submódulo 4.1 - Ausências Legais"]
[null,null,"A",{"$f":"'Encargos Sociais'!D25","v":"Férias (Arts. 129 e 130, inc. I, da CLT)"},{"$f":"'Encargos Sociais'!E25","v":9.0899999999999995E-2},{"$f":"ROUND(E58*$F$16,2)","v":610.67999999999995},null,"* Nota 1 - O Módulo 4 refere-se às previsões para custear ausências do próprio profissional (titular do cargo)"]
[null,null,"B",{"$f":"'Encargos Sociais'!D26","v":"Ausências Legais (Arts. 131 e 473 da CLT)"},{"$f":"'Encargos Sociais'!E26","v":7.9000000000000008E-3},53.07,null,"* Nota 2 - As férias foram calculadas dividindo-se por 11, para comportar os 11 meses presentes e ainda o ausente do posto"]
[null,null,"C",{"$f":"'Encargos Sociais'!D27","v":"Licença-Paternidade (Art. 7º, XIX, e art. 10, §1º, do ADCT, CF/1988 e Art. 1º, II, da Lei 11.770/2008)"},{"$f":"'Encargos Sociais'!E27","v":8.0000000000000004E-4},5.37]
[null,null,"D",{"$f":"'Encargos Sociais'!D28","v":"Ausência por Acidente de Trabalho (Art. 131, III, da CLT)"},{"$f":"'Encargos Sociais'!E28","v":8.9999999999999998E-4},6.05]
[null,null,"E",{"$f":"'Encargos Sociais'!D29","v":"Afastamento Maternidade (Art. 71 da Lei nº 8.213/1991)"},{"$f":"'Encargos Sociais'!E29","v":3.3E-3},22.17]
[null,null,"F",{"$f":"'Encargos Sociais'!D30","v":"Auxílio Enfermidade - Doença (Art. 59 da Lei nº 8.213/1991)"},{"$f":"'Encargos Sociais'!E30","v":7.1000000000000004E-3},47.7]
[]
[null,"Submódulo 4.2 - Intrajornada"]
[null,null,"A","Intervalo para repouso ou alimentação",{"$f":"'Encargos Sociais'!E33","v":0},{"$f":"ROUND(E66*$F$16,2)","v":0}]
[]
[null,null,null,"QUADRO-RESUMO DO MÓDULO 4",null,"Valor"]
[null,null,null,"4.1 - Ausências Legais",{"$f":"SUM(E58:E63)","v":0.11089999999999998},{"$f":"ROUND(E69*$F$16,2)","v":745.04}]
[null,null,null,"4.2 - Intrajornada",{"$f":"E66","v":0},{"$f":"ROUND(E70*$F$16,2)","v":0}]
[]
[null,null,null,"TOTAL DE PREVISÃO PARA CUSTO DO PROFISSIONAL AUSENTE E INTERVALO INTRAJORNADA",null,{"$f":"SUM(F69:F70)","v":745.04}]
[]
[null,"MÓDULO 5 - INSUMOS DIVERSOS",null,null,null,"Valor"]
[null,null,"A","Uniformes - aquisição",null,{"$f":"ROUND(HLOOKUP($B$5,Uniformes!L4:EA90,3)/12,2)","v":156.19}]
[null,null,"B","Materiais de consumo relacionados ao posto - aquisição",null,{"$f":"ROUND(HLOOKUP(B5,'Mat Cons'!I11:DX13,3)/12,2)","v":0}]
[null,null,"C","Materiais permanentes relacionados ao posto - remuneração da sua depreciação / manutenção",null,{"$f":"HLOOKUP(B5,'Mat Perm'!Q11:EF13,3)","v":0}]
[null,null,"D","Equipamentos relacionados ao posto - remuneração da sua depreciação / manutenção",null,{"$f":"HLOOKUP(B5,'Equip Rel'!Q3:EF5,3)","v":0}]
[null,null,"E","Equipamentos de Proteção Individual - EPI - aquisição",null,{"$f":"ROUND(HLOOKUP(B5,EPI!J4:DY6,3)/12,2)","v":0}]
[]
[null,null,null,"TOTAL DE INSUMOS DIVERSOS",null,{"$f":"SUM(F75:F80)","v":156.19},null,"* Nota - Valores mensais por empregado"]
[]
[null,"MÓDULO 6 - CUSTOS INDIRETOS, TRIBUTOS E LUCRO - BDI",null,null,"Percentuais","Valor"]
[null,null,"A","Custos Indiretos",{"$f":"BDI!E6","v":2.2699999999999998E-2}]
[null,null,"A.1","Administração Central",{"$f":"BDI!E7","v":1.7299999999999999E-2}]
[null,null,"A.2","Seguros, Garantias e Riscos",{"$f":"BDI!E8","v":5.4000000000000003E-3}]
[null,null,"B","Lucro",{"$f":"BDI!E10","v":2.6700000000000002E-2}]
[null,null,"C","Tributos",{"$f":"SUM(E89:E90)","v":0.124}]
[null,null,"C.1","Tributos Federais (COFINS, PIS e CPRB)",{"$f":"BDI!E18","v":7.3999999999999996E-2}]
[null,null,"C.2","Tributos Distritais (ISS)",{"$f":"BDI!E23","v":0.05}]
[null,null,"D","Despesas Financeiras",{"$f":"BDI!E13","v":4.4669210982628549E-3}]
[]
[null,null,null,"TOTAL DE BDI",{"$f":"BDI!E26","v":0.20399999999999999},{"$f":"E93*E101","v":2381.9121600000003}]
[]
[null,null,null,"QUADRO-RESUMO DO CUSTO MENSAL POR EMPREGADO - SEM O 13º","Valor"]
[null,null,null,"Módulo 1 - Composição da Remuneração",{"$f":"F16","v":6718.14}]
[null,null,null,"Módulo 2 - Encargos e Benefícios Anuais, Mensais e Diários",{"$f":"F45","v":3767.63}]
[null,null,null,"Módulo 3 - Provisão para Rescisão",{"$f":"F54","v":289.04000000000002}]
[null,null,null,"Módulo 4 - Custo de Reposição do Profissional Ausente",{"$f":"F72","v":745.04}]
[null,null,null,"Módulo 5 - Insumos Diversos",{"$f":"F81","v":156.19}]
[null,null,null,"SUBTOTAL (A+B+C+D+E)",{"$f":"SUM(E96:E100)","v":11676.040000000003}]
[null,null,null,"Módulo 6 - Custos Indiretos, Tributos e Lucro",{"$f":"F93","v":2381.9121600000003}]
[]
[null,null,null,"TOTAL DO POSTO",{"$f":"SUM(E101:E102)","v":14057.952160000003}]
[]
[null,"MÓDULO 7 - DESTAQUE DO MÓDULO 2 - 13º SALÁRIO",null,null,"Percentuais","Valor"]
[null,null,"A","13º Salário",{"$f":"'Encargos Sociais'!E32*12/11","v":9.0872727272727272E-2},{"$f":"ROUND(E107*F$16,2)","v":610.5},null,"* Nota 1 - Incluindo-se a reincidência das férias do substituto sobre o titular"]
[null,null,"B","Encargos Sociais sobre o 13º Salário",{"$f":"SUM($E$24:$E$32)","v":0.36800000000000005},{"$f":"ROUND(E108*$F$107,2)","v":224.66},null,"* Nota 2 - Provisiona-se, mensalmente, o proporcional a 1/12 dos valores referentes a gratificação natalina e adicional de férias."]
[null,null,"C","BDI sobre o 13º Salário - Taxa calculada no MÓDULO 6",{"$f":"E93","v":0.20399999999999999},{"$f":"ROUND(E109*($F$107+$F$108),2)","v":170.37}]
[]
[null,null,null,"TOTAL DO DESTAQUE DO 13º SALÁRIO",null,{"$f":"SUM(F107:F109)","v":1005.53}]
[]
[null,null,null,"QUADRO-RESUMO DO CUSTO MENSAL POR EMPREGADO","Valor"]
[null,null,null,"Custo total - sem o 13º Salário",{"$f":"E104","v":14057.952160000003}]
[null,null,null,"Destaque do 13º Salário (valor mensal)",{"$f":"F111","v":1005.53}]
[]
[null,null,null,"TOTAL DO POSTO",{"$f":"E114+E115","v":15063.482160000003}]

{"sheet":"6","index":9,"n_rows":117,"n_cols":8,"rows_kept":117,"cut":false,"hidden":false,"merged":[[17,1,17,3],[1,1,1,5],[2,1,2,5],[4,1,4,2],[5,1,5,2],[7,1,7,3],[105,1,105,3],[39,3,39,5],[46,1,46,3],[55,1,55,3],[67,3,67,5],[73,1,73,3],[82,1,82,3]]}
[]
[null,"PLANILHA DE ESTIMATIVA DE CUSTOS"]
[]
[]
[null,6,null,{"$f":"HLOOKUP($B$5,'Dados Gerais'!$D$6:$BK$21,6)","v":"VIGILANTE DIURNO  \nPORTARIAS 1 \nEscala 12 x 36  \n7h às 19h  \n2ª feira a Dom"},"QUANTIDADE",{"$f":"HLOOKUP($B$5,'Dados Gerais'!$D$6:$BK$21,10)","v":36}]
[null,"CCT",null,{"$f":"HLOOKUP($B$5,'Dados Gerais'!$D$6:$BK$21,15)","v":"SINDESV/DF X SINDESP/DF 2024/2024 Nº DF000333/2024"},"DATA-BASE",{"$f":"HLOOKUP($B$5,'Dados Gerais'!$D$6:$BK$21,16)","v":"2024-01-01"}]
[]
[null,"MÓDULO 1 - COMPOSIÇÃO DA REMUNERAÇÃO",null,null,null,"Valor"]
[null,null,"A","Salário-Base",null,{"$f":"HLOOKUP($B$5,'Dados Gerais'!$D$6:$BK$21,8)","v":3423.03}]
[null,null,"B","Adicional de Periculosidade",null,{"$f":"HLOOKUP($B$5,'Dados Gerais'!$D$6:$BK$38,25)","v":1026.9100000000001}]
[null,null,"C","Adicional de Insalubridade",null,{"$f":"HLOOKUP($B$5,'Dados Gerais'!$D$6:$BK$38,31)","v":0}]
[null,null,"D","Adicional Noturno",null,{"$f":"HLOOKUP($B$5,'Dados Gerais'!$D$6:$BK$51,46)","v":0},null,"* Nota 1 - O Módulo 1 refere-se ao valor mensal devido ao empregado pela prestação do serviço no período de 12 meses."]
[null,null,"E","Adicional de Hora Extra",null,{"$f":"HLOOKUP($B$5,'Dados Gerais'!$D$6:$BK$68,63)","v":0},null,"* Nota 2 - O adicional de hora extra no feriado trabalhado foi suprimido pela Lei 13.467/17"]
[null,null,"F","Outros (especificar)",null,{"$f":"HLOOKUP($B$5,'Dados Gerais'!$D$6:$BK$60,33)","v":0},null,"* Nota 3 - ART. 7º, § 2º, DA LEI Nº 605/49.Sendo mensalista o obreiro, o adicional noturno pago de forma fixa já é considerado integrado para os efeitos do pagamento do repouso semanal remunerado, nos termos do art. 7º, § 2º, da Lei nº 605/49."]
[]
[null,null,null,"TOTAL DA REMUNERAÇÃO",null,{"$f":"SUM(F9:F14)","v":4449.9400000000005}]
[]
[null,"MÓDULO 2 - ENCARGOS E BENEFÍCIOS ANUAIS, MENSAIS E DIÁRIOS",null,null,"Percentuais","Valor"]
[null,"Submódulo 2.1 - 13º Salário e Adicional de Férias"]
[null,null,"A","13º Salário - Calculado no Módulo 7 - Destacado",0,{"$f":"ROUND(E20*F$16,2)","v":0},null,"* Nota 1 - Provisiona-se, mensalmente, o proporcional a 1/12 dos valores referentes a gratificação natalina, calculada à parte"]
[null,null,"B","Adicional de Férias",{"$f":"'Encargos Sociais'!E31","v":3.0300000000000001E-2},{"$f":"ROUND(E21*F$16,2)","v":134.83000000000001},null,"* Nota 2 - O adicional de férias foi calculado dividindo-se por 11, para comportar os 11 meses presentes e ainda o ausente do posto"]
[]
[null,"Submódulo 2.2 - Encargos Previdenciários (GPS), Fundo de Garantia por Tempo de Serviço (FGTS) e Outras Contribuições"]
[null,null,"A",{"$f":"'Encargos Sociais'!D14","v":"INSS (art. 22, inciso I, Lei nº 8.212/91)"},{"$f":"'Encargos Sociais'!E14","v":0.2},{"$f":"ROUND(E24*($F$16+$F$41+$F$72),2)","v":1015.65}]
[null,null,"B",{"$f":"'Encargos Sociais'!D15","v":"Salário Educação (art. 3º, inciso I, Decreto nº 87.043/82)"},{"$f":"'Encargos Sociais'!E15","v":2.5000000000000001E-2},126.96]
[null,null,"C",{"$f":"'Encargos Sociais'!D16","v":"SAT/RAT (art. 22, II, Lei 8.212/91 e Anexo V, Decreto 6.042/07) - Enquadramento 8011-1/01"},{"$f":"'Encargos Sociais'!E16","v":0.03},152.35]
[null,null,"D",{"$f":"'Encargos Sociais'!D17","v":"SESC ou SESI (art. 30, Lei nº 8.036/90 e art. 1º, Lei 8.154/90)"},{"$f":"'Encargos Sociais'!E17","v":1.4999999999999999E-2},76.17]
[null,null,"E",{"$f":"'Encargos Sociais'!D18","v":"SENAI ou SENAC (Decreto nº 2.318/86)"},{"$f":"'Encargos Sociais'!E18","v":0.01},50.78,null,"* Nota 1 - Os percentuais dos encargos previdenciários, do FGTS e demais contribuições são estabelecidos por legislação vigente."]
[null,null,"F",{"$f":"'Encargos Sociais'!D19","v":"SEBRAE (§ 3º, art. 8º, Lei 8.029/90, alterada pela Lei nº 8.154/90)"},{"$f":"'Encargos Sociais'!E19","v":6.0000000000000001E-3},30.47,null,"* Nota 2 - O SAT, a depender do grau de risco do serviço, irá variar entre 1%, para risco leve, de 2%, para risco médio, e de 3% para risco grave."]
[null,null,"G",{"$f":"'Encargos Sociais'!D20","v":"INCRA (art. 1º, I, Decreto Lei 1.146/70 e Lei 7.787, de 30/06/89)"},{"$f":"'Encargos Sociais'!E20","v":2E-3},10.16,null,"* Nota 3 - Base de cálculo - remuneração + ausências + terço constitucional (férias)"]
[null,null,"H",{"$f":"'Encargos Sociais'!D21","v":"FGTS (Lei Complementar nº 110/01 e art. 30, Lei nº 8.036/90)"},{"$f":"'Encargos Sociais'!E21","v":0.08},406.26]
[null,null,"I",{"$f":"'Encargos Sociais'!D22","v":"SECONCI (Convenções Coletivas de Trabalho da construção)"},{"$f":"'Encargos Sociais'!E22","v":0},0]
[]
[null,"Submódulo 2.3 - Benefícios Mensais e Diários"]
[null,null,"A","Auxílio Transporte",null,{"$f":"HLOOKUP($B$5,'Dados Gerais'!$D$6:$BK$94,82)","v":22.400000000000006}]
[null,null,"B","Auxílio Alimentação",null,{"$f":"HLOOKUP($B$5,'Dados Gerais'!$D$6:$BK$94,89)","v":710.55},null,"* Nota 1 - O valor informado deverá ser o custo real do benefício (descontado o valor eventualmente pago pelo empregado)."]
[null,null,"C","Assistência Médica e Familiar",null,{"$f":"HLOOKUP($B$5,'Dados Gerais'!$D$6:$BK$102,97)","v":0},null,"* Nota 2 - Observar a previsão dos benefícios contidos em Acordos, Convenções e Dissídios Coletivos de Trabalho e o disposto no art. 6º da IN 5/2017"]
[null,null,"D","Outros (Seguro de vida e auxílio funeral e auxílio odontológico)",null,{"$f":"HLOOKUP($B$5,'Dados Gerais'!$D$6:$BK$119,114)","v":32.159999999999997}]
[]
[null,null,null,"QUADRO-RESUMO DO MÓDULO 2"]
[null,null,null,"2.1 - Adicional de Férias",{"$f":"SUM(E20:E21)","v":3.0300000000000001E-2},{"$f":"F20+F21","v":134.83000000000001}]
[null,null,null,"2.2 - Encargos Previdenciários (GPS), Fundo de Garantia por Tempo de Serviço (FGTS) e Contribuições",{"$f":"SUM(E24:E32)","v":0.36800000000000005},{"$f":"SUM(F24:F32)","v":1868.8}]
[null,null,null,"2.3 - Benefícios Mensais e Diários",null,{"$f":"SUM(F35:F38)","v":765.1099999999999}]
[]
[null,null,null,"TOTAL DOS ENCARGOS E BENEFÍCIOS",null,{"$f":"SUM(F41:F43)","v":2768.74}]
[]
[null,"MÓDULO 3 - PREVISÃO PARA RESCISÃO",null,null,"Percentuais","Valor"]
[null,null,"A",{"$f":"'Encargos Sociais'!D36","v":"Aviso Prévio Indenizado (Art. 7º, inciso XXI, da CF/1988 e arts. 477, 487, §1º, e 491 da CLT)"},{"$f":"'Encargos Sociais'!E36","v":4.1999999999999997E-3},{"$f":"ROUND(E48*($F$16+$F$72+$F$41),2)","v":21.33}]
[null,null,"B",{"$f":"'Encargos Sociais'!D37","v":"13º sobre aviso prévio indenizado"},{"$f":"'Encargos Sociais'!E37","v":4.0000000000000002E-4},{"$f":"ROUND(E49*($F$16+$F$72+$F$41),2)","v":2.0299999999999998},null,"* Nota 1 - Adotou-se os parâmetros do estudo do STF (http://www.stf.jus.br/arquivo/cms/sobrestfestudosci/anexo/encargos_sociais_03102007.pdf), onde 5% do pessoal é demitido pelo empregador no decurso do contrato (para estes, considerou-se o aviso prévio indenizado). Desprezou-se as demissões por justa causa e os pedidos de demissão."]
[null,null,"C",{"$f":"'Encargos Sociais'!D38","v":"Incidência do FGTS sobre o Aviso Prévio Indenizado (Súmula 305 TST)"},{"$f":"'Encargos Sociais'!E38","v":2.9999999999999997E-4},{"$f":"ROUND(E50*($F$16+$F$72+$F$41),2)","v":1.52},null,"* Nota 2 - Base de cálculo - remuneração + ausências + 1/3 férias"]
[null,null,"D",{"$f":"'Encargos Sociais'!D39","v":"Multa do FGTS sobre o Aviso Prévio (Art. 18, §1º, da Lei 8.036/1990)"},{"$f":"'Encargos Sociais'!E39","v":3.2000000000000001E-2},{"$f":"ROUND(E51*($F$16+$F$72+$F$41),2)","v":162.5}]
[null,null,"E",{"$f":"'Encargos Sociais'!D40","v":"Indenização Adicional - data-base (Art. 9º, Lei 7.238/1984)"},{"$f":"'Encargos Sociais'!E40","v":8.0000000000000004E-4},{"$f":"ROUND(E52*($F$16+$F$72+$F$41),2)","v":4.0599999999999996}]
[]
[null,null,null,"TOTAL DE PREVISÃO PARA RESCISÃO",null,{"$f":"SUM(F48:F52)","v":191.44}]
[]
[null,"MÓDULO 4 - CUSTO DO PROFISSIONAL AUSENTE",null,null,"Percentuais","Valor"]
[null,"Submódulo 4.1 - Ausências Legais"]
[null,null,"A",{"$f":"'Encargos Sociais'!D25","v":"Férias (Arts. 129 e 130, inc. I, da CLT)"},{"$f":"'Encargos Sociais'!E25","v":9.0899999999999995E-2},{"$f":"ROUND(E58*$F$16,2)","v":404.5},null,"* Nota 1 - O Módulo 4 refere-se às previsões para custear ausências do próprio profissional (titular do cargo)"]
[null,null,"B",{"$f":"'Encargos Sociais'!D26","v":"Ausências Legais (Arts. 131 e 473 da CLT)"},{"$f":"'Encargos Sociais'!E26","v":7.9000000000000008E-3},35.15,null,"* Nota 2 - As férias foram calculadas dividindo-se por 11, para comportar os 11 meses presentes e ainda o ausente do posto"]
[null,null,"C",{"$f":"'Encargos Sociais'!D27","v":"Licença-Paternidade (Art. 7º, XIX, e art. 10, §1º, do ADCT, CF/1988 e Art. 1º, II, da Lei 11.770/2008)"},{"$f":"'Encargos Sociais'!E27","v":8.0000000000000004E-4},3.56]
[null,null,"D",{"$f":"'Encargos Sociais'!D28","v":"Ausência por Acidente de Trabalho (Art. 131, III, da CLT)"},{"$f":"'Encargos Sociais'!E28","v":8.9999999999999998E-4},4]
[null,null,"E",{"$f":"'Encargos Sociais'!D29","v":"Afastamento Maternidade (Art. 71 da Lei nº 8.213/1991)"},{"$f":"'Encargos Sociais'!E29","v":3.3E-3},14.68]
[null,null,"F",{"$f":"'Encargos Sociais'!D30","v":"Auxílio Enfermidade - Doença (Art. 59 da Lei nº 8.213/1991)"},{"$f":"'Encargos Sociais'!E30","v":7.1000000000000004E-3},31.59]
[]
[null,"Submódulo 4.2 - Intrajornada"]
[null,null,"A","Intervalo para repouso ou alimentação",{"$f":"'Encargos Sociais'!E33","v":0},{"$f":"ROUND(E66*$F$16,2)","v":0}]
[]
[null,null,null,"QUADRO-RESUMO DO MÓDULO 4",null,"Valor"]
[null,null,null,"4.1 - Ausências Legais",{"$f":"SUM(E58:E63)","v":0.11089999999999998},{"$f":"ROUND(E69*$F$16,2)","v":493.5}]
[null,null,null,"4.2 - Intrajornada",{"$f":"E66","v":0},{"$f":"ROUND(E70*$F$16,2)","v":0}]
[]
[null,null,null,"TOTAL DE PREVISÃO PARA CUSTO DO PROFISSIONAL AUSENTE E INTERVALO INTRAJORNADA",null,{"$f":"SUM(F69:F70)","v":493.5}]
[]
[null,"MÓDULO 5 - INSUMOS DIVERSOS",null,null,null,"Valor"]
[null,null,"A","Uniformes - aquisição",null,{"$f":"ROUND(HLOOKUP($B$5,Uniformes!L4:EA90,3)/12,2)","v":199.54}]
[null,null,"B","Materiais de consumo relacionados ao posto - aquisição",null,{"$f":"ROUND(HLOOKUP(B5,'Mat Cons'!I11:DX13,3)/12,2)","v":0}]
[null,null,"C","Materiais permanentes relacionados ao posto - remuneração da sua depreciação / manutenção",null,{"$f":"HLOOKUP(B5,'Mat Perm'!Q11:EF13,3)","v":0}]
[null,null,"D","Equipamentos relacionados ao posto - remuneração da sua depreciação / manutenção",null,{"$f":"HLOOKUP(B5,'Equip Rel'!Q3:EF5,3)","v":0}]
[null,null,"E","Equipamentos de Proteção Individual - EPI - aquisição",null,{"$f":"ROUND(HLOOKUP(B5,EPI!J4:DY6,3)/12,2)","v":0}]
[]
[null,null,null,"TOTAL DE INSUMOS DIVERSOS",null,{"$f":"SUM(F75:F80)","v":199.54},null,"* Nota - Valores mensais por empregado"]
[]
[null,"MÓDULO 6 - CUSTOS INDIRETOS, TRIBUTOS E LUCRO - BDI",null,null,"Percentuais","Valor"]
[null,null,"A","Custos Indiretos",{"$f":"BDI!E6","v":2.2699999999999998E-2}]
[null,null,"A.1","Administração Central",{"$f":"BDI!E7","v":1.7299999999999999E-2}]
[null,null,"A.2","Seguros, Garantias e Riscos",{"$f":"BDI!E8","v":5.4000000000000003E-3}]
[null,null,"B","Lucro",{"$f":"BDI!E10","v":2.6700000000000002E-2}]
[null,null,"C","Tributos",{"$f":"SUM(E89:E90)","v":0.124}]
[null,null,"C.1","Tributos Federais (COFINS, PIS e CPRB)",{"$f":"BDI!E18","v":7.3999999999999996E-2}]
[null,null,"C.2","Tributos Distritais (ISS)",{"$f":"BDI!E23","v":0.05}]
[null,null,"D","Despesas Financeiras",{"$f":"BDI!E13","v":4.4669210982628549E-3}]
[]
[null,null,null,"TOTAL DE BDI",{"$f":"BDI!E26","v":0.20399999999999999},{"$f":"E93*E101","v":1653.0446399999998}]
[]
[null,null,null,"QUADRO-RESUMO DO CUSTO MENSAL POR EMPREGADO - SEM O 13º","Valor"]
[null,null,null,"Módulo 1 - Composição da Remuneração",{"$f":"F16","v":4449.9400000000005}]
[null,null,null,"Módulo 2 - Encargos e Benefícios Anuais, Mensais e Diários",{"$f":"F45","v":2768.74}]
[null,null,null,"Módulo 3 - Provisão para Rescisão",{"$f":"F54","v":191.44}]
[null,null,null,"Módulo 4 - Custo de Reposição do Profissional Ausente",{"$f":"F72","v":493.5}]
[null,null,null,"Módulo 5 - Insumos Diversos",{"$f":"F81","v":199.54}]
[null,null,null,"SUBTOTAL (A+B+C+D+E)",{"$f":"SUM(E96:E100)","v":8103.16}]
[null,null,null,"Módulo 6 - Custos Indiretos, Tributos e Lucro",{"$f":"F93","v":1653.0446399999998}]
[]
[null,null,null,"TOTAL DO POSTO",{"$f":"SUM(E101:E102)","v":9756.2046399999999}]
[]
[null,"MÓDULO 7 - DESTAQUE DO MÓDULO 2 - 13º SALÁRIO",null,null,"Percentuais","Valor"]
[null,null,"A","13º Salário",{"$f":"'Encargos Sociais'!E32*12/11","v":9.0872727272727272E-2},{"$f":"ROUND(E107*F$16,2)","v":404.38},null,"* Nota 1 - Incluindo-se a reincidência das férias do substituto sobre o titular"]
[null,null,"B","Encargos Sociais sobre o 13º Salário",{"$f":"SUM($E$24:$E$32)","v":0.36800000000000005},{"$f":"ROUND(E108*$F$107,2)","v":148.81},null,"* Nota 2 - Provisiona-se, mensalmente, o proporcional a 1/12 dos valores referentes a gratificação natalina e adicional de férias."]
[null,null,"C","BDI sobre o 13º Salário - Taxa calculada no MÓDULO 6",{"$f":"E93","v":0.20399999999999999},{"$f":"ROUND(E109*($F$107+$F$108),2)","v":112.85}]
[]
[null,null,null,"TOTAL DO DESTAQUE DO 13º SALÁRIO",null,{"$f":"SUM(F107:F109)","v":666.04000000000008}]
[]
[null,null,null,"QUADRO-RESUMO DO CUSTO MENSAL POR EMPREGADO","Valor"]
[null,null,null,"Custo total - sem o 13º Salário",{"$f":"E104","v":9756.2046399999999}]
[null,null,null,"Destaque do 13º Salário (valor mensal)",{"$f":"F111","v":666.04000000000008}]
[]
[null,null,null,"TOTAL DO POSTO",{"$f":"E114+E115","v":10422.244640000001}]

{"sheet":"7","index":10,"n_rows":117,"n_cols":8,"rows_kept":117,"cut":false,"hidden":false,"merged":[[17,1,17,3],[1,1,1,5],[2,1,2,5],[4,1,4,2],[5,1,5,2],[7,1,7,3],[105,1,105,3],[39,3,39,5],[46,1,46,3],[55,1,55,3],[67,3,67,5],[73,1,73,3],[82,1,82,3]]}
[]
[null,"PLANILHA DE ESTIMATIVA DE CUSTOS"]
[]
[]
[null,7,null,{"$f":"HLOOKUP($B$5,'Dados Gerais'!$D$6:$BK$21,6)","v":"VIGILANTE NOTURNO  \nPORTARIAS 1 \nEscala 12 x 36  \n19h às 7h  \n2ª feira a Dom"},"QUANTIDADE",{"$f":"HLOOKUP($B$5,'Dados Gerais'!$D$6:$BK$21,10)","v":30}]
[null,"CCT",null,{"$f":"HLOOKUP($B$5,'Dados Gerais'!$D$6:$BK$21,15)","v":"SINDESV/DF X SINDESP/DF 2024/2024 Nº DF000333/2024"},"DATA-BASE",{"$f":"HLOOKUP($B$5,'Dados Gerais'!$D$6:$BK$21,16)","v":"2024-01-01"}]
[]
[null,"MÓDULO 1 - COMPOSIÇÃO DA REMUNERAÇÃO",null,null,null,"Valor"]
[null,null,"A","Salário-Base",null,{"$f":"HLOOKUP($B$5,'Dados Gerais'!$D$6:$BK$21,8)","v":3423.03}]
[null,null,"B","Adicional de Periculosidade",null,{"$f":"HLOOKUP($B$5,'Dados Gerais'!$D$6:$BK$38,25)","v":1026.9100000000001}]
[null,null,"C","Adicional de Insalubridade",null,{"$f":"HLOOKUP($B$5,'Dados Gerais'!$D$6:$BK$38,31)","v":0}]
[null,null,"D","Adicional Noturno",null,{"$f":"HLOOKUP($B$5,'Dados Gerais'!$D$6:$BK$51,46)","v":485.45},null,"* Nota 1 - O Módulo 1 refere-se ao valor mensal devido ao empregado pela prestação do serviço no período de 12 meses."]
[null,null,"E","Adicional de Hora Extra",null,{"$f":"HLOOKUP($B$5,'Dados Gerais'!$D$6:$BK$68,63)","v":0},null,"* Nota 2 - O adicional de hora extra no feriado trabalhado foi suprimido pela Lei 13.467/17"]
[null,null,"F","Outros (especificar)",null,{"$f":"HLOOKUP($B$5,'Dados Gerais'!$D$6:$BK$60,33)","v":0},null,"* Nota 3 - ART. 7º, § 2º, DA LEI Nº 605/49.Sendo mensalista o obreiro, o adicional noturno pago de forma fixa já é considerado integrado para os efeitos do pagamento do repouso semanal remunerado, nos termos do art. 7º, § 2º, da Lei nº 605/49."]
[]
[null,null,null,"TOTAL DA REMUNERAÇÃO",null,{"$f":"SUM(F9:F14)","v":4935.3900000000003}]
[]
[null,"MÓDULO 2 - ENCARGOS E BENEFÍCIOS ANUAIS, MENSAIS E DIÁRIOS",null,null,"Percentuais","Valor"]
[null,"Submódulo 2.1 - 13º Salário e Adicional de Férias"]
[null,null,"A","13º Salário - Calculado no Módulo 7 - Destacado",0,{"$f":"ROUND(E20*F$16,2)","v":0},null,"* Nota 1 - Provisiona-se, mensalmente, o proporcional a 1/12 dos valores referentes a gratificação natalina, calculada à parte"]
[null,null,"B","Adicional de Férias",{"$f":"'Encargos Sociais'!E31","v":3.0300000000000001E-2},{"$f":"ROUND(E21*F$16,2)","v":149.54},null,"* Nota 2 - O adicional de férias foi calculado dividindo-se por 11, para comportar os 11 meses presentes e ainda o ausente do posto"]
[]
[null,"Submódulo 2.2 - Encargos Previdenciários (GPS), Fundo de Garantia por Tempo de Serviço (FGTS) e Outras Contribuições"]
[null,null,"A",{"$f":"'Encargos Sociais'!D14","v":"INSS (art. 22, inciso I, Lei nº 8.212/91)"},{"$f":"'Encargos Sociais'!E14","v":0.2},{"$f":"ROUND(E24*($F$16+$F$41+$F$72),2)","v":1126.45}]
[null,null,"B",{"$f":"'Encargos Sociais'!D15","v":"Salário Educação (art. 3º, inciso I, Decreto nº 87.043/82)"},{"$f":"'Encargos Sociais'!E15","v":2.5000000000000001E-2},140.81]
[null,null,"C",{"$f":"'Encargos Sociais'!D16","v":"SAT/RAT (art. 22, II, Lei 8.212/91 e Anexo V, Decreto 6.042/07) - Enquadramento 8011-1/01"},{"$f":"'Encargos Sociais'!E16","v":0.03},168.97]
[null,null,"D",{"$f":"'Encargos Sociais'!D17","v":"SESC ou SESI (art. 30, Lei nº 8.036/90 e art. 1º, Lei 8.154/90)"},{"$f":"'Encargos Sociais'!E17","v":1.4999999999999999E-2},84.48]
[null,null,"E",{"$f":"'Encargos Sociais'!D18","v":"SENAI ou SENAC (Decreto nº 2.318/86)"},{"$f":"'Encargos Sociais'!E18","v":0.01},56.32,null,"* Nota 1 - Os percentuais dos encargos previdenciários, do FGTS e demais contribuições são estabelecidos por legislação vigente."]
[null,null,"F",{"$f":"'Encargos Sociais'!D19","v":"SEBRAE (§ 3º, art. 8º, Lei 8.029/90, alterada pela Lei nº 8.154/90)"},{"$f":"'Encargos Sociais'!E19","v":6.0000000000000001E-3},33.79,null,"* Nota 2 - O SAT, a depender do grau de risco do serviço, irá variar entre 1%, para risco leve, de 2%, para risco médio, e de 3% para risco grave."]
[null,null,"G",{"$f":"'Encargos Sociais'!D20","v":"INCRA (art. 1º, I, Decreto Lei 1.146/70 e Lei 7.787, de 30/06/89)"},{"$f":"'Encargos Sociais'!E20","v":2E-3},11.26,null,"* Nota 3 - Base de cálculo - remuneração + ausências + terço constitucional (férias)"]
[null,null,"H",{"$f":"'Encargos Sociais'!D21","v":"FGTS (Lei Complementar nº 110/01 e art. 30, Lei nº 8.036/90)"},{"$f":"'Encargos Sociais'!E21","v":0.08},450.58]
[null,null,"I",{"$f":"'Encargos Sociais'!D22","v":"SECONCI (Convenções Coletivas de Trabalho da construção)"},{"$f":"'Encargos Sociais'!E22","v":0},0]
[]
[null,"Submódulo 2.3 - Benefícios Mensais e Diários"]
[null,null,"A","Auxílio Transporte",null,{"$f":"HLOOKUP($B$5,'Dados Gerais'!$D$6:$BK$94,82)","v":22.400000000000006}]
[null,null,"B","Auxílio Alimentação",null,{"$f":"HLOOKUP($B$5,'Dados Gerais'!$D$6:$BK$94,89)","v":710.55},null,"* Nota 1 - O valor informado deverá ser o custo real do benefício (descontado o valor eventualmente pago pelo empregado)."]
[null,null,"C","Assistência Médica e Familiar",null,{"$f":"HLOOKUP($B$5,'Dados Gerais'!$D$6:$BK$102,97)","v":0},null,"* Nota 2 - Observar a previsão dos benefícios contidos em Acordos, Convenções e Dissídios Coletivos de Trabalho e o disposto no art. 6º da IN 5/2017"]
[null,null,"D","Outros (Seguro de vida e auxílio funeral e auxílio odontológico)",null,{"$f":"HLOOKUP($B$5,'Dados Gerais'!$D$6:$BK$119,114)","v":32.159999999999997}]
[]
[null,null,null,"QUADRO-RESUMO DO MÓDULO 2"]
[null,null,null,"2.1 - Adicional de Férias",{"$f":"SUM(E20:E21)","v":3.0300000000000001E-2},{"$f":"F20+F21","v":149.54}]
[null,null,null,"2.2 - Encargos Previdenciários (GPS), Fundo de Garantia por Tempo de Serviço (FGTS) e Contribuições",{"$f":"SUM(E24:E32)","v":0.36800000000000005},{"$f":"SUM(F24:F32)","v":2072.66}]
[null,null,null,"2.3 - Benefícios Mensais e Diários",null,{"$f":"SUM(F35:F38)","v":765.1099999999999}]
[]
[null,null,null,"TOTAL DOS ENCARGOS E BENEFÍCIOS",null,{"$f":"SUM(F41:F43)","v":2987.3099999999995}]
[]
[null,"MÓDULO 3 - PREVISÃO PARA RESCISÃO",null,null,"Percentuais","Valor"]
[null,null,"A",{"$f":"'Encargos Sociais'!D36","v":"Aviso Prévio Indenizado (Art. 7º, inciso XXI, da CF/1988 e arts. 477, 487, §1º, e 491 da CLT)"},{"$f":"'Encargos Sociais'!E36","v":4.1999999999999997E-3},{"$f":"ROUND(E48*($F$16+$F$72+$F$41),2)","v":23.66}]
[null,null,"B",{"$f":"'Encargos Sociais'!D37","v":"13º sobre aviso prévio indenizado"},{"$f":"'Encargos Sociais'!E37","v":4.0000000000000002E-4},{"$f":"ROUND(E49*($F$16+$F$72+$F$41),2)","v":2.25},null,"* Nota 1 - Adotou-se os parâmetros do estudo do STF (http://www.stf.jus.br/arquivo/cms/sobrestfestudosci/anexo/encargos_sociais_03102007.pdf), onde 5% do pessoal é demitido pelo empregador no decurso do contrato (para estes, considerou-se o aviso prévio indenizado). Desprezou-se as demissões por justa causa e os pedidos de demissão."]
[null,null,"C",{"$f":"'Encargos Sociais'!D38","v":"Incidência do FGTS sobre o Aviso Prévio Indenizado (Súmula 305 TST)"},{"$f":"'Encargos Sociais'!E38","v":2.9999999999999997E-4},{"$f":"ROUND(E50*($F$16+$F$72+$F$41),2)","v":1.69},null,"* Nota 2 - Base de cálculo - remuneração + ausências + 1/3 férias"]
[null,null,"D",{"$f":"'Encargos Sociais'!D39","v":"Multa do FGTS sobre o Aviso Prévio (Art. 18, §1º, da Lei 8.036/1990)"},{"$f":"'Encargos Sociais'!E39","v":3.2000000000000001E-2},{"$f":"ROUND(E51*($F$16+$F$72+$F$41),2)","v":180.23}]
[null,null,"E",{"$f":"'Encargos Sociais'!D40","v":"Indenização Adicional - data-base (Art. 9º, Lei 7.238/1984)"},{"$f":"'Encargos Sociais'!E40","v":8.0000000000000004E-4},{"$f":"ROUND(E52*($F$16+$F$72+$F$41),2)","v":4.51}]
[]
[null,null,null,"TOTAL DE PREVISÃO PARA RESCISÃO",null,{"$f":"SUM(F48:F52)","v":212.33999999999997}]
[]
[null,"MÓDULO 4 - CUSTO DO PROFISSIONAL AUSENTE",null,null,"Percentuais","Valor"]
[null,"Submódulo 4.1 - Ausências Legais"]
[null,null,"A",{"$f":"'Encargos Sociais'!D25","v":"Férias (Arts. 129 e 130, inc. I, da CLT)"},{"$f":"'Encargos Sociais'!E25","v":9.0899999999999995E-2},{"$f":"ROUND(E58*$F$16,2)","v":448.63},null,"* Nota 1 - O Módulo 4 refere-se às previsões para custear ausências do próprio profissional (titular do cargo)"]
[null,null,"B",{"$f":"'Encargos Sociais'!D26","v":"Ausências Legais (Arts. 131 e 473 da CLT)"},{"$f":"'Encargos Sociais'!E26","v":7.9000000000000008E-3},38.99,null,"* Nota 2 - As férias foram calculadas dividindo-se por 11, para comportar os 11 meses presentes e ainda o ausente do posto"]
[null,null,"C",{"$f":"'Encargos Sociais'!D27","v":"Licença-Paternidade (Art. 7º, XIX, e art. 10, §1º, do ADCT, CF/1988 e Art. 1º, II, da Lei 11.770/2008)"},{"$f":"'Encargos Sociais'!E27","v":8.0000000000000004E-4},3.95]
[null,null,"D",{"$f":"'Encargos Sociais'!D28","v":"Ausência por Acidente de Trabalho (Art. 131, III, da CLT)"},{"$f":"'Encargos Sociais'!E28","v":8.9999999999999998E-4},4.4400000000000004]
[null,null,"E",{"$f":"'Encargos Sociais'!D29","v":"Afastamento Maternidade (Art. 71 da Lei nº 8.213/1991)"},{"$f":"'Encargos Sociais'!E29","v":3.3E-3},16.29]
[null,null,"F",{"$f":"'Encargos Sociais'!D30","v":"Auxílio Enfermidade - Doença (Art. 59 da Lei nº 8.213/1991)"},{"$f":"'Encargos Sociais'!E30","v":7.1000000000000004E-3},35.04]
[]
[null,"Submódulo 4.2 - Intrajornada"]
[null,null,"A","Intervalo para repouso ou alimentação",{"$f":"'Encargos Sociais'!E33","v":0},{"$f":"ROUND(E66*$F$16,2)","v":0}]
[]
[null,null,null,"QUADRO-RESUMO DO MÓDULO 4",null,"Valor"]
[null,null,null,"4.1 - Ausências Legais",{"$f":"SUM(E58:E63)","v":0.11089999999999998},{"$f":"ROUND(E69*$F$16,2)","v":547.33000000000004}]
[null,null,null,"4.2 - Intrajornada",{"$f":"E66","v":0},{"$f":"ROUND(E70*$F$16,2)","v":0}]
[]
[null,null,null,"TOTAL DE PREVISÃO PARA CUSTO DO PROFISSIONAL AUSENTE E INTERVALO INTRAJORNADA",null,{"$f":"SUM(F69:F70)","v":547.33000000000004}]
[]
[null,"MÓDULO 5 - INSUMOS DIVERSOS",null,null,null,"Valor"]
[null,null,"A","Uniformes - aquisição",null,{"$f":"ROUND(HLOOKUP($B$5,Uniformes!L4:EA90,3)/12,2)","v":199.54}]
[null,null,"B","Materiais de consumo relacionados ao posto - aquisição",null,{"$f":"ROUND(HLOOKUP(B5,'Mat Cons'!I11:DX13,3)/12,2)","v":0}]
[null,null,"C","Materiais permanentes relacionados ao posto - remuneração da sua depreciação / manutenção",null,{"$f":"HLOOKUP(B5,'Mat Perm'!Q11:EF13,3)","v":0}]
[null,null,"D","Equipamentos relacionados ao posto - remuneração da sua depreciação / manutenção",null,{"$f":"HLOOKUP(B5,'Equip Rel'!Q3:EF5,3)","v":0}]
[null,null,"E","Equipamentos de Proteção Individual - EPI - aquisição",null,{"$f":"ROUND(HLOOKUP(B5,EPI!J4:DY6,3)/12,2)","v":0}]
[]
[null,null,null,"TOTAL DE INSUMOS DIVERSOS",null,{"$f":"SUM(F75:F80)","v":199.54},null,"* Nota - Valores mensais por empregado"]
[]
[null,"MÓDULO 6 - CUSTOS INDIRETOS, TRIBUTOS E LUCRO - BDI",null,null,"Percentuais","Valor"]
[null,null,"A","Custos Indiretos",{"$f":"BDI!E6","v":2.2699999999999998E-2}]
[null,null,"A.1","Administração Central",{"$f":"BDI!E7","v":1.7299999999999999E-2}]
[null,null,"A.2","Seguros, Garantias e Riscos",{"$f":"BDI!E8","v":5.4000000000000003E-3}]
[null,null,"B","Lucro",{"$f":"BDI!E10","v":2.6700000000000002E-2}]
[null,null,"C","Tributos",{"$f":"SUM(E89:E90)","v":0.124}]
[null,null,"C.1","Tributos Federais (COFINS, PIS e CPRB)",{"$f":"BDI!E18","v":7.3999999999999996E-2}]
[null,null,"C.2","Tributos Distritais (ISS)",{"$f":"BDI!E23","v":0.05}]
[null,null,"D","Despesas Financeiras",{"$f":"BDI!E13","v":4.4669210982628549E-3}]
[]
[null,null,null,"TOTAL DE BDI",{"$f":"BDI!E26","v":0.20399999999999999},{"$f":"E93*E101","v":1811.9096400000003}]
[]
[null,null,null,"QUADRO-RESUMO DO CUSTO MENSAL POR EMPREGADO - SEM O 13º","Valor"]
[null,null,null,"Módulo 1 - Composição da Remuneração",{"$f":"F16","v":4935.3900000000003}]
[null,null,null,"Módulo 2 - Encargos e Benefícios Anuais, Mensais e Diários",{"$f":"F45","v":2987.3099999999995}]
[null,null,null,"Módulo 3 - Provisão para Rescisão",{"$f":"F54","v":212.33999999999997}]
[null,null,null,"Módulo 4 - Custo de Reposição do Profissional Ausente",{"$f":"F72","v":547.33000000000004}]
[null,null,null,"Módulo 5 - Insumos Diversos",{"$f":"F81","v":199.54}]
[null,null,null,"SUBTOTAL (A+B+C+D+E)",{"$f":"SUM(E96:E100)","v":8881.9100000000017}]
[null,null,null,"Módulo 6 - Custos Indiretos, Tributos e Lucro",{"$f":"F93","v":1811.9096400000003}]
[]
[null,null,null,"TOTAL DO POSTO",{"$f":"SUM(E101:E102)","v":10693.819640000002}]
[]
[null,"MÓDULO 7 - DESTAQUE DO MÓDULO 2 - 13º SALÁRIO",null,null,"Percentuais","Valor"]
[null,null,"A","13º Salário",{"$f":"'Encargos Sociais'!E32*12/11","v":9.0872727272727272E-2},{"$f":"ROUND(E107*F$16,2)","v":448.49},null,"* Nota 1 - Incluindo-se a reincidência das férias do substituto sobre o titular"]
[null,null,"B","Encargos Sociais sobre o 13º Salário",{"$f":"SUM($E$24:$E$32)","v":0.36800000000000005},{"$f":"ROUND(E108*$F$107,2)","v":165.04},null,"* Nota 2 - Provisiona-se, mensalmente, o proporcional a 1/12 dos valores referentes a gratificação natalina e adicional de férias."]
[null,null,"C","BDI sobre o 13º Salário - Taxa calculada no MÓDULO 6",{"$f":"E93","v":0.20399999999999999},{"$f":"ROUND(E109*($F$107+$F$108),2)","v":125.16}]
[]
[null,null,null,"TOTAL DO DESTAQUE DO 13º SALÁRIO",null,{"$f":"SUM(F107:F109)","v":738.68999999999994}]
[]
[null,null,null,"QUADRO-RESUMO DO CUSTO MENSAL POR EMPREGADO","Valor"]
[null,null,null,"Custo total - sem o 13º Salário",{"$f":"E104","v":10693.819640000002}]
[null,null,null,"Destaque do 13º Salário (valor mensal)",{"$f":"F111","v":738.68999999999994}]
[]
[null,null,null,"TOTAL DO POSTO",{"$f":"E114+E115","v":11432.509640000002}]

{"sheet":"8","index":11,"n_rows":117,"n_cols":8,"rows_kept":117,"cut":false,"hidden":false,"merged":[[17,1,17,3],[1,1,1,5],[2,1,2,5],[4,1,4,2],[5,1,5,2],[7,1,7,3],[105,1,105,3],[39,3,39,5],[46,1,46,3],[55,1,55,3],[67,3,67,5],[73,1,73,3],[82,1,82,3]]}
[]
[null,"PLANILHA DE ESTIMATIVA DE CUSTOS"]
[]
[]
[null,8,null,{"$f":"HLOOKUP($B$5,'Dados Gerais'!$D$6:$BK$21,6)","v":"VIGILANTE MATUTINO \nPORTARIAS 1 \nEscala 40 horas semanais \n7h às 16h  \n2ª à 6ª feira"},"QUANTIDADE",{"$f":"HLOOKUP($B$5,'Dados Gerais'!$D$6:$BK$21,10)","v":13}]
[null,"CCT",null,{"$f":"HLOOKUP($B$5,'Dados Gerais'!$D$6:$BK$21,15)","v":"SINDESV/DF X SINDESP/DF 2024/2024 Nº DF000333/2024"},"DATA-BASE",{"$f":"HLOOKUP($B$5,'Dados Gerais'!$D$6:$BK$21,16)","v":"2024-01-01"}]
[]
[null,"MÓDULO 1 - COMPOSIÇÃO DA REMUNERAÇÃO",null,null,null,"Valor"]
[null,null,"A","Salário-Base",null,{"$f":"HLOOKUP($B$5,'Dados Gerais'!$D$6:$BK$21,8)","v":3423.03}]
[null,null,"B","Adicional de Periculosidade",null,{"$f":"HLOOKUP($B$5,'Dados Gerais'!$D$6:$BK$38,25)","v":1026.9100000000001}]
[null,null,"C","Adicional de Insalubridade",null,{"$f":"HLOOKUP($B$5,'Dados Gerais'!$D$6:$BK$38,31)","v":0}]
[null,null,"D","Adicional Noturno",null,{"$f":"HLOOKUP($B$5,'Dados Gerais'!$D$6:$BK$51,46)","v":0},null,"* Nota 1 - O Módulo 1 refere-se ao valor mensal devido ao empregado pela prestação do serviço no período de 12 meses."]
[null,null,"E","Adicional de Hora Extra",null,{"$f":"HLOOKUP($B$5,'Dados Gerais'!$D$6:$BK$68,63)","v":0},null,"* Nota 2 - O adicional de hora extra no feriado trabalhado foi suprimido pela Lei 13.467/17"]
[null,null,"F","Outros (especificar)",null,{"$f":"HLOOKUP($B$5,'Dados Gerais'!$D$6:$BK$60,33)","v":0},null,"* Nota 3 - ART. 7º, § 2º, DA LEI Nº 605/49.Sendo mensalista o obreiro, o adicional noturno pago de forma fixa já é considerado integrado para os efeitos do pagamento do repouso semanal remunerado, nos termos do art. 7º, § 2º, da Lei nº 605/49."]
[]
[null,null,null,"TOTAL DA REMUNERAÇÃO",null,{"$f":"SUM(F9:F14)","v":4449.9400000000005}]
[]
[null,"MÓDULO 2 - ENCARGOS E BENEFÍCIOS ANUAIS, MENSAIS E DIÁRIOS",null,null,"Percentuais","Valor"]
[null,"Submódulo 2.1 - 13º Salário e Adicional de Férias"]
[null,null,"A","13º Salário - Calculado no Módulo 7 - Destacado",0,{"$f":"ROUND(E20*F$16,2)","v":0},null,"* Nota 1 - Provisiona-se, mensalmente, o proporcional a 1/12 dos valores referentes a gratificação natalina, calculada à parte"]
[null,null,"B","Adicional de Férias",{"$f":"'Encargos Sociais'!E31","v":3.0300000000000001E-2},{"$f":"ROUND(E21*F$16,2)","v":134.83000000000001},null,"* Nota 2 - O adicional de férias foi calculado dividindo-se por 11, para comportar os 11 meses presentes e ainda o ausente do posto"]
[]
[null,"Submódulo 2.2 - Encargos Previdenciários (GPS), Fundo de Garantia por Tempo de Serviço (FGTS) e Outras Contribuições"]
[null,null,"A",{"$f":"'Encargos Sociais'!D14","v":"INSS (art. 22, inciso I, Lei nº 8.212/91)"},{"$f":"'Encargos Sociais'!E14","v":0.2},{"$f":"ROUND(E24*($F$16+$F$41+$F$72),2)","v":1015.65}]
[null,null,"B",{"$f":"'Encargos Sociais'!D15","v":"Salário Educação (art. 3º, inciso I, Decreto nº 87.043/82)"},{"$f":"'Encargos Sociais'!E15","v":2.5000000000000001E-2},126.96]
[null,null,"C",{"$f":"'Encargos Sociais'!D16","v":"SAT/RAT (art. 22, II, Lei 8.212/91 e Anexo V, Decreto 6.042/07) - Enquadramento 8011-1/01"},{"$f":"'Encargos Sociais'!E16","v":0.03},152.35]
[null,null,"D",{"$f":"'Encargos Sociais'!D17","v":"SESC ou SESI (art. 30, Lei nº 8.036/90 e art. 1º, Lei 8.154/90)"},{"$f":"'Encargos Sociais'!E17","v":1.4999999999999999E-2},76.17]
[null,null,"E",{"$f":"'Encargos Sociais'!D18","v":"SENAI ou SENAC (Decreto nº 2.318/86)"},{"$f":"'Encargos Sociais'!E18","v":0.01},50.78,null,"* Nota 1 - Os percentuais dos encargos previdenciários, do FGTS e demais contribuições são estabelecidos por legislação vigente."]
[null,null,"F",{"$f":"'Encargos Sociais'!D19","v":"SEBRAE (§ 3º, art. 8º, Lei 8.029/90, alterada pela Lei nº 8.154/90)"},{"$f":"'Encargos Sociais'!E19","v":6.0000000000000001E-3},30.47,null,"* Nota 2 - O SAT, a depender do grau de risco do serviço, irá variar entre 1%, para risco leve, de 2%, para risco médio, e de 3% para risco grave."]
[null,null,"G",{"$f":"'Encargos Sociais'!D20","v":"INCRA (art. 1º, I, Decreto Lei 1.146/70 e Lei 7.787, de 30/06/89)"},{"$f":"'Encargos Sociais'!E20","v":2E-3},10.16,null,"* Nota 3 - Base de cálculo - remuneração + ausências + terço constitucional (férias)"]
[null,null,"H",{"$f":"'Encargos Sociais'!D21","v":"FGTS (Lei Complementar nº 110/01 e art. 30, Lei nº 8.036/90)"},{"$f":"'Encargos Sociais'!E21","v":0.08},406.26]
[null,null,"I",{"$f":"'Encargos Sociais'!D22","v":"SECONCI (Convenções Coletivas de Trabalho da construção)"},{"$f":"'Encargos Sociais'!E22","v":0},0]
[]
[null,"Submódulo 2.3 - Benefícios Mensais e Diários"]
[null,null,"A","Auxílio Transporte",null,{"$f":"HLOOKUP($B$5,'Dados Gerais'!$D$6:$BK$94,82)","v":128.69999999999999}]
[null,null,"B","Auxílio Alimentação",null,{"$f":"HLOOKUP($B$5,'Dados Gerais'!$D$6:$BK$94,89)","v":1042.1400000000001},null,"* Nota 1 - O valor informado deverá ser o custo real do benefício (descontado o valor eventualmente pago pelo empregado)."]
[null,null,"C","Assistência Médica e Familiar",null,{"$f":"HLOOKUP($B$5,'Dados Gerais'!$D$6:$BK$102,97)","v":0},null,"* Nota 2 - Observar a previsão dos benefícios contidos em Acordos, Convenções e Dissídios Coletivos de Trabalho e o disposto no art. 6º da IN 5/2017"]
[null,null,"D","Outros (Seguro de vida e auxílio funeral e auxílio odontológico)",null,{"$f":"HLOOKUP($B$5,'Dados Gerais'!$D$6:$BK$119,114)","v":32.159999999999997}]
[]
[null,null,null,"QUADRO-RESUMO DO MÓDULO 2"]
[null,null,null,"2.1 - Adicional de Férias",{"$f":"SUM(E20:E21)","v":3.0300000000000001E-2},{"$f":"F20+F21","v":134.83000000000001}]
[null,null,null,"2.2 - Encargos Previdenciários (GPS), Fundo de Garantia por Tempo de Serviço (FGTS) e Contribuições",{"$f":"SUM(E24:E32)","v":0.36800000000000005},{"$f":"SUM(F24:F32)","v":1868.8}]
[null,null,null,"2.3 - Benefícios Mensais e Diários",null,{"$f":"SUM(F35:F38)","v":1203.0000000000002}]
[]
[null,null,null,"TOTAL DOS ENCARGOS E BENEFÍCIOS",null,{"$f":"SUM(F41:F43)","v":3206.63}]
[]
[null,"MÓDULO 3 - PREVISÃO PARA RESCISÃO",null,null,"Percentuais","Valor"]
[null,null,"A",{"$f":"'Encargos Sociais'!D36","v":"Aviso Prévio Indenizado (Art. 7º, inciso XXI, da CF/1988 e arts. 477, 487, §1º, e 491 da CLT)"},{"$f":"'Encargos Sociais'!E36","v":4.1999999999999997E-3},{"$f":"ROUND(E48*($F$16+$F$72+$F$41),2)","v":21.33}]
[null,null,"B",{"$f":"'Encargos Sociais'!D37","v":"13º sobre aviso prévio indenizado"},{"$f":"'Encargos Sociais'!E37","v":4.0000000000000002E-4},{"$f":"ROUND(E49*($F$16+$F$72+$F$41),2)","v":2.0299999999999998},null,"* Nota 1 - Adotou-se os parâmetros do estudo do STF (http://www.stf.jus.br/arquivo/cms/sobrestfestudosci/anexo/encargos_sociais_03102007.pdf), onde 5% do pessoal é demitido pelo empregador no decurso do contrato (para estes, considerou-se o aviso prévio indenizado). Desprezou-se as demissões por justa causa e os pedidos de demissão."]
[null,null,"C",{"$f":"'Encargos Sociais'!D38","v":"Incidência do FGTS sobre o Aviso Prévio Indenizado (Súmula 305 TST)"},{"$f":"'Encargos Sociais'!E38","v":2.9999999999999997E-4},{"$f":"ROUND(E50*($F$16+$F$72+$F$41),2)","v":1.52},null,"* Nota 2 - Base de cálculo - remuneração + ausências + 1/3 férias"]
[null,null,"D",{"$f":"'Encargos Sociais'!D39","v":"Multa do FGTS sobre o Aviso Prévio (Art. 18, §1º, da Lei 8.036/1990)"},{"$f":"'Encargos Sociais'!E39","v":3.2000000000000001E-2},{"$f":"ROUND(E51*($F$16+$F$72+$F$41),2)","v":162.5}]
[null,null,"E",{"$f":"'Encargos Sociais'!D40","v":"Indenização Adicional - data-base (Art. 9º, Lei 7.238/1984)"},{"$f":"'Encargos Sociais'!E40","v":8.0000000000000004E-4},{"$f":"ROUND(E52*($F$16+$F$72+$F$41),2)","v":4.0599999999999996}]
[]
[null,null,null,"TOTAL DE PREVISÃO PARA RESCISÃO",null,{"$f":"SUM(F48:F52)","v":191.44}]
[]
[null,"MÓDULO 4 - CUSTO DO PROFISSIONAL AUSENTE",null,null,"Percentuais","Valor"]
[null,"Submódulo 4.1 - Ausências Legais"]
[null,null,"A",{"$f":"'Encargos Sociais'!D25","v":"Férias (Arts. 129 e 130, inc. I, da CLT)"},{"$f":"'Encargos Sociais'!E25","v":9.0899999999999995E-2},{"$f":"ROUND(E58*$F$16,2)","v":404.5},null,"* Nota 1 - O Módulo 4 refere-se às previsões para custear ausências do próprio profissional (titular do cargo)"]
[null,null,"B",{"$f":"'Encargos Sociais'!D26","v":"Ausências Legais (Arts. 131 e 473 da CLT)"},{"$f":"'Encargos Sociais'!E26","v":7.9000000000000008E-3},35.15,null,"* Nota 2 - As férias foram calculadas dividindo-se por 11, para comportar os 11 meses presentes e ainda o ausente do posto"]
[null,null,"C",{"$f":"'Encargos Sociais'!D27","v":"Licença-Paternidade (Art. 7º, XIX, e art. 10, §1º, do ADCT, CF/1988 e Art. 1º, II, da Lei 11.770/2008)"},{"$f":"'Encargos Sociais'!E27","v":8.0000000000000004E-4},3.56]
[null,null,"D",{"$f":"'Encargos Sociais'!D28","v":"Ausência por Acidente de Trabalho (Art. 131, III, da CLT)"},{"$f":"'Encargos Sociais'!E28","v":8.9999999999999998E-4},4]
[null,null,"E",{"$f":"'Encargos Sociais'!D29","v":"Afastamento Maternidade (Art. 71 da Lei nº 8.213/1991)"},{"$f":"'Encargos Sociais'!E29","v":3.3E-3},14.68]
[null,null,"F",{"$f":"'Encargos Sociais'!D30","v":"Auxílio Enfermidade - Doença (Art. 59 da Lei nº 8.213/1991)"},{"$f":"'Encargos Sociais'!E30","v":7.1000000000000004E-3},31.59]
[]
[null,"Submódulo 4.2 - Intrajornada"]
[null,null,"A","Intervalo para repouso ou alimentação",{"$f":"'Encargos Sociais'!E33","v":0},{"$f":"ROUND(E66*$F$16,2)","v":0}]
[]
[null,null,null,"QUADRO-RESUMO DO MÓDULO 4",null,"Valor"]
[null,null,null,"4.1 - Ausências Legais",{"$f":"SUM(E58:E63)","v":0.11089999999999998},{"$f":"ROUND(E69*$F$16,2)","v":493.5}]
[null,null,null,"4.2 - Intrajornada",{"$f":"E66","v":0},{"$f":"ROUND(E70*$F$16,2)","v":0}]
[]
[null,null,null,"TOTAL DE PREVISÃO PARA CUSTO DO PROFISSIONAL AUSENTE E INTERVALO INTRAJORNADA",null,{"$f":"SUM(F69:F70)","v":493.5}]
[]
[null,"MÓDULO 5 - INSUMOS DIVERSOS",null,null,null,"Valor"]
[null,null,"A","Uniformes - aquisição",null,{"$f":"ROUND(HLOOKUP($B$5,Uniformes!L4:EA90,3)/12,2)","v":199.54}]
[null,null,"B","Materiais de consumo relacionados ao posto - aquisição",null,{"$f":"ROUND(HLOOKUP(B5,'Mat Cons'!I11:DX13,3)/12,2)","v":0}]
[null,null,"C","Materiais permanentes relacionados ao posto - remuneração da sua depreciação / manutenção",null,{"$f":"HLOOKUP(B5,'Mat Perm'!Q11:EF13,3)","v":0}]
[null,null,"D","Equipamentos relacionados ao posto - remuneração da sua depreciação / manutenção",null,{"$f":"HLOOKUP(B5,'Equip Rel'!Q3:EF5,3)","v":0}]
[null,null,"E","Equipamentos de Proteção Individual - EPI - aquisição",null,{"$f":"ROUND(HLOOKUP(B5,EPI!J4:DY6,3)/12,2)","v":0}]
[]
[null,null,null,"TOTAL DE INSUMOS DIVERSOS",null,{"$f":"SUM(F75:F80)","v":199.54},null,"* Nota - Valores mensais por empregado"]
[]
[null,"MÓDULO 6 - CUSTOS INDIRETOS, TRIBUTOS E LUCRO - BDI",null,null,"Percentuais","Valor"]
[null,null,"A","Custos Indiretos",{"$f":"BDI!E6","v":2.2699999999999998E-2}]
[null,null,"A.1","Administração Central",{"$f":"BDI!E7","v":1.7299999999999999E-2}]
[null,null,"A.2","Seguros, Garantias e Riscos",{"$f":"BDI!E8","v":5.4000000000000003E-3}]
[null,null,"B","Lucro",{"$f":"BDI!E10","v":2.6700000000000002E-2}]
[null,null,"C","Tributos",{"$f":"SUM(E89:E90)","v":0.124}]
[null,null,"C.1","Tributos Federais (COFINS, PIS e CPRB)",{"$f":"BDI!E18","v":7.3999999999999996E-2}]
[null,null,"C.2","Tributos Distritais (ISS)",{"$f":"BDI!E23","v":0.05}]
[null,null,"D","Despesas Financeiras",{"$f":"BDI!E13","v":4.4669210982628549E-3}]
[]
[null,null,null,"TOTAL DE BDI",{"$f":"BDI!E26","v":0.20399999999999999},{"$f":"E93*E101","v":1742.3742000000002}]
[]
[null,null,null,"QUADRO-RESUMO DO CUSTO MENSAL POR EMPREGADO - SEM O 13º","Valor"]
[null,null,null,"Módulo 1 - Composição da Remuneração",{"$f":"F16","v":4449.9400000000005}]
[null,null,null,"Módulo 2 - Encargos e Benefícios Anuais, Mensais e Diários",{"$f":"F45","v":3206.63}]
[null,null,null,"Módulo 3 - Provisão para Rescisão",{"$f":"F54","v":191.44}]
[null,null,null,"Módulo 4 - Custo de Reposição do Profissional Ausente",{"$f":"F72","v":493.5}]
[null,null,null,"Módulo 5 - Insumos Diversos",{"$f":"F81","v":199.54}]
[null,null,null,"SUBTOTAL (A+B+C+D+E)",{"$f":"SUM(E96:E100)","v":8541.0500000000011}]
[null,null,null,"Módulo 6 - Custos Indiretos, Tributos e Lucro",{"$f":"F93","v":1742.3742000000002}]
[]
[null,null,null,"TOTAL DO POSTO",{"$f":"SUM(E101:E102)","v":10283.424200000001}]
[]
[null,"MÓDULO 7 - DESTAQUE DO MÓDULO 2 - 13º SALÁRIO",null,null,"Percentuais","Valor"]
[null,null,"A","13º Salário",{"$f":"'Encargos Sociais'!E32*12/11","v":9.0872727272727272E-2},{"$f":"ROUND(E107*F$16,2)","v":404.38},null,"* Nota 1 - Incluindo-se a reincidência das férias do substituto sobre o titular"]
[null,null,"B","Encargos Sociais sobre o 13º Salário",{"$f":"SUM($E$24:$E$32)","v":0.36800000000000005},{"$f":"ROUND(E108*$F$107,2)","v":148.81},null,"* Nota 2 - Provisiona-se, mensalmente, o proporcional a 1/12 dos valores referentes a gratificação natalina e adicional de férias."]
[null,null,"C","BDI sobre o 13º Salário - Taxa calculada no MÓDULO 6",{"$f":"E93","v":0.20399999999999999},{"$f":"ROUND(E109*($F$107+$F$108),2)","v":112.85}]
[]
[null,null,null,"TOTAL DO DESTAQUE DO 13º SALÁRIO",null,{"$f":"SUM(F107:F109)","v":666.04000000000008}]
[]
[null,null,null,"QUADRO-RESUMO DO CUSTO MENSAL POR EMPREGADO","Valor"]
[null,null,null,"Custo total - sem o 13º Salário",{"$f":"E104","v":10283.424200000001}]
[null,null,null,"Destaque do 13º Salário (valor mensal)",{"$f":"F111","v":666.04000000000008}]
[]
[null,null,null,"TOTAL DO POSTO",{"$f":"E114+E115","v":10949.464200000002}]

{"sheet":"9","index":12,"n_rows":117,"n_cols":8,"rows_kept":117,"cut":false,"hidden":false,"merged":[[17,1,17,3],[1,1,1,5],[2,1,2,5],[4,1,4,2],[5,1,5,2],[7,1,7,3],[105,1,105,3],[39,3,39,5],[46,1,46,3],[55,1,55,3],[67,3,67,5],[73,1,73,3],[82,1,82,3]]}
[]
[null,"PLANILHA DE ESTIMATIVA DE CUSTOS"]
[]
[]
[null,9,null,{"$f":"HLOOKUP($B$5,'Dados Gerais'!$D$6:$BK$21,6)","v":"VIGILANTE VESPERTINO \nPORTARIAS 1 \nEscala 40 horas semanais \n13h às 22h \n2ª à 6ª feira"},"QUANTIDADE",{"$f":"HLOOKUP($B$5,'Dados Gerais'!$D$6:$BK$21,10)","v":13}]
[null,"CCT",null,{"$f":"HLOOKUP($B$5,'Dados Gerais'!$D$6:$BK$21,15)","v":"SINDESV/DF X SINDESP/DF 2024/2024 Nº DF000333/2024"},"DATA-BASE",{"$f":"HLOOKUP($B$5,'Dados Gerais'!$D$6:$BK$21,16)","v":"2024-01-01"}]
[]
[null,"MÓDULO 1 - COMPOSIÇÃO DA REMUNERAÇÃO",null,null,null,"Valor"]
[null,null,"A","Salário-Base",null,{"$f":"HLOOKUP($B$5,'Dados Gerais'!$D$6:$BK$21,8)","v":3423.03}]
[null,null,"B","Adicional de Periculosidade",null,{"$f":"HLOOKUP($B$5,'Dados Gerais'!$D$6:$BK$38,25)","v":1026.9100000000001}]
[null,null,"C","Adicional de Insalubridade",null,{"$f":"HLOOKUP($B$5,'Dados Gerais'!$D$6:$BK$38,31)","v":0}]
[null,null,"D","Adicional Noturno",null,{"$f":"HLOOKUP($B$5,'Dados Gerais'!$D$6:$BK$51,46)","v":0},null,"* Nota 1 - O Módulo 1 refere-se ao valor mensal devido ao empregado pela prestação do serviço no período de 12 meses."]
[null,null,"E","Adicional de Hora Extra",null,{"$f":"HLOOKUP($B$5,'Dados Gerais'!$D$6:$BK$68,63)","v":0},null,"* Nota 2 - O adicional de hora extra no feriado trabalhado foi suprimido pela Lei 13.467/17"]
[null,null,"F","Outros (especificar)",null,{"$f":"HLOOKUP($B$5,'Dados Gerais'!$D$6:$BK$60,33)","v":0},null,"* Nota 3 - ART. 7º, § 2º, DA LEI Nº 605/49.Sendo mensalista o obreiro, o adicional noturno pago de forma fixa já é considerado integrado para os efeitos do pagamento do repouso semanal remunerado, nos termos do art. 7º, § 2º, da Lei nº 605/49."]
[]
[null,null,null,"TOTAL DA REMUNERAÇÃO",null,{"$f":"SUM(F9:F14)","v":4449.9400000000005}]
[]
[null,"MÓDULO 2 - ENCARGOS E BENEFÍCIOS ANUAIS, MENSAIS E DIÁRIOS",null,null,"Percentuais","Valor"]
[null,"Submódulo 2.1 - 13º Salário e Adicional de Férias"]
[null,null,"A","13º Salário - Calculado no Módulo 7 - Destacado",0,{"$f":"ROUND(E20*F$16,2)","v":0},null,"* Nota 1 - Provisiona-se, mensalmente, o proporcional a 1/12 dos valores referentes a gratificação natalina, calculada à parte"]
[null,null,"B","Adicional de Férias",{"$f":"'Encargos Sociais'!E31","v":3.0300000000000001E-2},{"$f":"ROUND(E21*F$16,2)","v":134.83000000000001},null,"* Nota 2 - O adicional de férias foi calculado dividindo-se por 11, para comportar os 11 meses presentes e ainda o ausente do posto"]
[]
[null,"Submódulo 2.2 - Encargos Previdenciários (GPS), Fundo de Garantia por Tempo de Serviço (FGTS) e Outras Contribuições"]
[null,null,"A",{"$f":"'Encargos Sociais'!D14","v":"INSS (art. 22, inciso I, Lei nº 8.212/91)"},{"$f":"'Encargos Sociais'!E14","v":0.2},{"$f":"ROUND(E24*($F$16+$F$41+$F$72),2)","v":1015.65}]
[null,null,"B",{"$f":"'Encargos Sociais'!D15","v":"Salário Educação (art. 3º, inciso I, Decreto nº 87.043/82)"},{"$f":"'Encargos Sociais'!E15","v":2.5000000000000001E-2},126.96]
[null,null,"C",{"$f":"'Encargos Sociais'!D16","v":"SAT/RAT (art. 22, II, Lei 8.212/91 e Anexo V, Decreto 6.042/07) - Enquadramento 8011-1/01"},{"$f":"'Encargos Sociais'!E16","v":0.03},152.35]
[null,null,"D",{"$f":"'Encargos Sociais'!D17","v":"SESC ou SESI (art. 30, Lei nº 8.036/90 e art. 1º, Lei 8.154/90)"},{"$f":"'Encargos Sociais'!E17","v":1.4999999999999999E-2},76.17]
[null,null,"E",{"$f":"'Encargos Sociais'!D18","v":"SENAI ou SENAC (Decreto nº 2.318/86)"},{"$f":"'Encargos Sociais'!E18","v":0.01},50.78,null,"* Nota 1 - Os percentuais dos encargos previdenciários, do FGTS e demais contribuições são estabelecidos por legislação vigente."]
[null,null,"F",{"$f":"'Encargos Sociais'!D19","v":"SEBRAE (§ 3º, art. 8º, Lei 8.029/90, alterada pela Lei nº 8.154/90)"},{"$f":"'Encargos Sociais'!E19","v":6.0000000000000001E-3},30.47,null,"* Nota 2 - O SAT, a depender do grau de risco do serviço, irá variar entre 1%, para risco leve, de 2%, para risco médio, e de 3% para risco grave."]
[null,null,"G",{"$f":"'Encargos Sociais'!D20","v":"INCRA (art. 1º, I, Decreto Lei 1.146/70 e Lei 7.787, de 30/06/89)"},{"$f":"'Encargos Sociais'!E20","v":2E-3},10.16,null,"* Nota 3 - Base de cálculo - remuneração + ausências + terço constitucional (férias)"]
[null,null,"H",{"$f":"'Encargos Sociais'!D21","v":"FGTS (Lei Complementar nº 110/01 e art. 30, Lei nº 8.036/90)"},{"$f":"'Encargos Sociais'!E21","v":0.08},406.26]
[null,null,"I",{"$f":"'Encargos Sociais'!D22","v":"SECONCI (Convenções Coletivas de Trabalho da construção)"},{"$f":"'Encargos Sociais'!E22","v":0},0]
[]
[null,"Submódulo 2.3 - Benefícios Mensais e Diários"]
[null,null,"A","Auxílio Transporte",null,{"$f":"HLOOKUP($B$5,'Dados Gerais'!$D$6:$BK$94,82)","v":128.69999999999999}]
[null,null,"B","Auxílio Alimentação",null,{"$f":"HLOOKUP($B$5,'Dados Gerais'!$D$6:$BK$94,89)","v":1042.1400000000001},null,"* Nota 1 - O valor informado deverá ser o custo real do benefício (descontado o valor eventualmente pago pelo empregado)."]
[null,null,"C","Assistência Médica e Familiar",null,{"$f":"HLOOKUP($B$5,'Dados Gerais'!$D$6:$BK$102,97)","v":0},null,"* Nota 2 - Observar a previsão dos benefícios contidos em Acordos, Convenções e Dissídios Coletivos de Trabalho e o disposto no art. 6º da IN 5/2017"]
[null,null,"D","Outros (Seguro de vida e auxílio funeral e auxílio odontológico)",null,{"$f":"HLOOKUP($B$5,'Dados Gerais'!$D$6:$BK$119,114)","v":32.159999999999997}]
[]
[null,null,null,"QUADRO-RESUMO DO MÓDULO 2"]
[null,null,null,"2.1 - Adicional de Férias",{"$f":"SUM(E20:E21)","v":3.0300000000000001E-2},{"$f":"F20+F21","v":134.83000000000001}]
[null,null,null,"2.2 - Encargos Previdenciários (GPS), Fundo de Garantia por Tempo de Serviço (FGTS) e Contribuições",{"$f":"SUM(E24:E32)","v":0.36800000000000005},{"$f":"SUM(F24:F32)","v":1868.8}]
[null,null,null,"2.3 - Benefícios Mensais e Diários",null,{"$f":"SUM(F35:F38)","v":1203.0000000000002}]
[]
[null,null,null,"TOTAL DOS ENCARGOS E BENEFÍCIOS",null,{"$f":"SUM(F41:F43)","v":3206.63}]
[]
[null,"MÓDULO 3 - PREVISÃO PARA RESCISÃO",null,null,"Percentuais","Valor"]
[null,null,"A",{"$f":"'Encargos Sociais'!D36","v":"Aviso Prévio Indenizado (Art. 7º, inciso XXI, da CF/1988 e arts. 477, 487, §1º, e 491 da CLT)"},{"$f":"'Encargos Sociais'!E36","v":4.1999999999999997E-3},{"$f":"ROUND(E48*($F$16+$F$72+$F$41),2)","v":21.33}]
[null,null,"B",{"$f":"'Encargos Sociais'!D37","v":"13º sobre aviso prévio indenizado"},{"$f":"'Encargos Sociais'!E37","v":4.0000000000000002E-4},{"$f":"ROUND(E49*($F$16+$F$72+$F$41),2)","v":2.0299999999999998},null,"* Nota 1 - Adotou-se os parâmetros do estudo do STF (http://www.stf.jus.br/arquivo/cms/sobrestfestudosci/anexo/encargos_sociais_03102007.pdf), onde 5% do pessoal é demitido pelo empregador no decurso do contrato (para estes, considerou-se o aviso prévio indenizado). Desprezou-se as demissões por justa causa e os pedidos de demissão."]
[null,null,"C",{"$f":"'Encargos Sociais'!D38","v":"Incidência do FGTS sobre o Aviso Prévio Indenizado (Súmula 305 TST)"},{"$f":"'Encargos Sociais'!E38","v":2.9999999999999997E-4},{"$f":"ROUND(E50*($F$16+$F$72+$F$41),2)","v":1.52},null,"* Nota 2 - Base de cálculo - remuneração + ausências + 1/3 férias"]
[null,null,"D",{"$f":"'Encargos Sociais'!D39","v":"Multa do FGTS sobre o Aviso Prévio (Art. 18, §1º, da Lei 8.036/1990)"},{"$f":"'Encargos Sociais'!E39","v":3.2000000000000001E-2},{"$f":"ROUND(E51*($F$16+$F$72+$F$41),2)","v":162.5}]
[null,null,"E",{"$f":"'Encargos Sociais'!D40","v":"Indenização Adicional - data-base (Art. 9º, Lei 7.238/1984)"},{"$f":"'Encargos Sociais'!E40","v":8.0000000000000004E-4},{"$f":"ROUND(E52*($F$16+$F$72+$F$41),2)","v":4.0599999999999996}]
[]
[null,null,null,"TOTAL DE PREVISÃO PARA RESCISÃO",null,{"$f":"SUM(F48:F52)","v":191.44}]
[]
[null,"MÓDULO 4 - CUSTO DO PROFISSIONAL AUSENTE",null,null,"Percentuais","Valor"]
[null,"Submódulo 4.1 - Ausências Legais"]
[null,null,"A",{"$f":"'Encargos Sociais'!D25","v":"Férias (Arts. 129 e 130, inc. I, da CLT)"},{"$f":"'Encargos Sociais'!E25","v":9.0899999999999995E-2},{"$f":"ROUND(E58*$F$16,2)","v":404.5},null,"* Nota 1 - O Módulo 4 refere-se às previsões para custear ausências do próprio profissional (titular do cargo)"]
[null,null,"B",{"$f":"'Encargos Sociais'!D26","v":"Ausências Legais (Arts. 131 e 473 da CLT)"},{"$f":"'Encargos Sociais'!E26","v":7.9000000000000008E-3},35.15,null,"* Nota 2 - As férias foram calculadas dividindo-se por 11, para comportar os 11 meses presentes e ainda o ausente do posto"]
[null,null,"C",{"$f":"'Encargos Sociais'!D27","v":"Licença-Paternidade (Art. 7º, XIX, e art. 10, §1º, do ADCT, CF/1988 e Art. 1º, II, da Lei 11.770/2008)"},{"$f":"'Encargos Sociais'!E27","v":8.0000000000000004E-4},3.56]
[null,null,"D",{"$f":"'Encargos Sociais'!D28","v":"Ausência por Acidente de Trabalho (Art. 131, III, da CLT)"},{"$f":"'Encargos Sociais'!E28","v":8.9999999999999998E-4},4]
[null,null,"E",{"$f":"'Encargos Sociais'!D29","v":"Afastamento Maternidade (Art. 71 da Lei nº 8.213/1991)"},{"$f":"'Encargos Sociais'!E29","v":3.3E-3},14.68]
[null,null,"F",{"$f":"'Encargos Sociais'!D30","v":"Auxílio Enfermidade - Doença (Art. 59 da Lei nº 8.213/1991)"},{"$f":"'Encargos Sociais'!E30","v":7.1000000000000004E-3},31.59]
[]
[null,"Submódulo 4.2 - Intrajornada"]
[null,null,"A","Intervalo para repouso ou alimentação",{"$f":"'Encargos Sociais'!E33","v":0},{"$f":"ROUND(E66*$F$16,2)","v":0}]
[]
[null,null,null,"QUADRO-RESUMO DO MÓDULO 4",null,"Valor"]
[null,null,null,"4.1 - Ausências Legais",{"$f":"SUM(E58:E63)","v":0.11089999999999998},{"$f":"ROUND(E69*$F$16,2)","v":493.5}]
[null,null,null,"4.2 - Intrajornada",{"$f":"E66","v":0},{"$f":"ROUND(E70*$F$16,2)","v":0}]
[]
[null,null,null,"TOTAL DE PREVISÃO PARA CUSTO DO PROFISSIONAL AUSENTE E INTERVALO INTRAJORNADA",null,{"$f":"SUM(F69:F70)","v":493.5}]
[]
[null,"MÓDULO 5 - INSUMOS DIVERSOS",null,null,null,"Valor"]
[null,null,"A","Uniformes - aquisição",null,{"$f":"ROUND(HLOOKUP($B$5,Uniformes!L4:EA90,3)/12,2)","v":199.54}]
[null,null,"B","Materiais de consumo relacionados ao posto - aquisição",null,{"$f":"ROUND(HLOOKUP(B5,'Mat Cons'!I11:DX13,3)/12,2)","v":0}]
[null,null,"C","Materiais permanentes relacionados ao posto - remuneração da sua depreciação / manutenção",null,{"$f":"HLOOKUP(B5,'Mat Perm'!Q11:EF13,3)","v":0}]
[null,null,"D","Equipamentos relacionados ao posto - remuneração da sua depreciação / manutenção",null,{"$f":"HLOOKUP(B5,'Equip Rel'!Q3:EF5,3)","v":0}]
[null,null,"E","Equipamentos de Proteção Individual - EPI - aquisição",null,{"$f":"ROUND(HLOOKUP(B5,EPI!J4:DY6,3)/12,2)","v":0}]
[]
[null,null,null,"TOTAL DE INSUMOS DIVERSOS",null,{"$f":"SUM(F75:F80)","v":199.54},null,"* Nota - Valores mensais por empregado"]
[]
[null,"MÓDULO 6 - CUSTOS INDIRETOS, TRIBUTOS E LUCRO - BDI",null,null,"Percentuais","Valor"]
[null,null,"A","Custos Indiretos",{"$f":"BDI!E6","v":2.2699999999999998E-2}]
[null,null,"A.1","Administração Central",{"$f":"BDI!E7","v":1.7299999999999999E-2}]
[null,null,"A.2","Seguros, Garantias e Riscos",{"$f":"BDI!E8","v":5.4000000000000003E-3}]
[null,null,"B","Lucro",{"$f":"BDI!E10","v":2.6700000000000002E-2}]
[null,null,"C","Tributos",{"$f":"SUM(E89:E90)","v":0.124}]
[null,null,"C.1","Tributos Federais (COFINS, PIS e CPRB)",{"$f":"BDI!E18","v":7.3999999999999996E-2}]
[null,null,"C.2","Tributos Distritais (ISS)",{"$f":"BDI!E23","v":0.05}]
[null,null,"D","Despesas Financeiras",{"$f":"BDI!E13","v":4.4669210982628549E-3}]
[]
[null,null,null,"TOTAL DE BDI",{"$f":"BDI!E26","v":0.20399999999999999},{"$f":"E93*E101","v":1742.3742000000002}]
[]
[null,null,null,"QUADRO-RESUMO DO CUSTO MENSAL POR EMPREGADO - SEM O 13º","Valor"]
[null,null,null,"Módulo 1 - Composição da Remuneração",{"$f":"F16","v":4449.9400000000005}]
[null,null,null,"Módulo 2 - Encargos e Benefícios Anuais, Mensais e Diários",{"$f":"F45","v":3206.63}]
[null,null,null,"Módulo 3 - Provisão para Rescisão",{"$f":"F54","v":191.44}]
[null,null,null,"Módulo 4 - Custo de Reposição do Profissional Ausente",{"$f":"F72","v":493.5}]
[null,null,null,"Módulo 5 - Insumos Diversos",{"$f":"F81","v":199.54}]
[null,null,null,"SUBTOTAL (A+B+C+D+E)",{"$f":"SUM(E96:E100)","v":8541.0500000000011}]
[null,null,null,"Módulo 6 - Custos Indiretos, Tributos e Lucro",{"$f":"F93","v":1742.3742000000002}]
[]
[null,null,null,"TOTAL DO POSTO",{"$f":"SUM(E101:E102)","v":10283.424200000001}]
[]
[null,"MÓDULO 7 - DESTAQUE DO MÓDULO 2 - 13º SALÁRIO",null,null,"Percentuais","Valor"]
[null,null,"A","13º Salário",{"$f":"'Encargos Sociais'!E32*12/11","v":9.0872727272727272E-2},{"$f":"ROUND(E107*F$16,2)","v":404.38},null,"* Nota 1 - Incluindo-se a reincidência das férias do substituto sobre o titular"]
[null,null,"B","Encargos Sociais sobre o 13º Salário",{"$f":"SUM($E$24:$E$32)","v":0.36800000000000005},{"$f":"ROUND(E108*$F$107,2)","v":148.81},null,"* Nota 2 - Provisiona-se, mensalmente, o proporcional a 1/12 dos valores referentes a gratificação natalina e adicional de férias."]
[null,null,"C","BDI sobre o 13º Salário - Taxa calculada no MÓDULO 6",{"$f":"E93","v":0.20399999999999999},{"$f":"ROUND(E109*($F$107+$F$108),2)","v":112.85}]
[]
[null,null,null,"TOTAL DO DESTAQUE DO 13º SALÁRIO",null,{"$f":"SUM(F107:F109)","v":666.04000000000008}]
[]
[null,null,null,"QUADRO-RESUMO DO CUSTO MENSAL POR EMPREGADO","Valor"]
[null,null,null,"Custo total - sem o 13º Salário",{"$f":"E104","v":10283.424200000001}]
[null,null,null,"Destaque do 13º Salário (valor mensal)",{"$f":"F111","v":666.04000000000008}]
[]
[null,null,null,"TOTAL DO POSTO",{"$f":"E114+E115","v":10949.464200000002}]

{"sheet":"10","index":13,"n_rows":117,"n_cols":8,"rows_kept":117,"cut":false,"hidden":false,"merged":[[17,1,17,3],[1,1,1,5],[2,1,2,5],[4,1,4,2],[5,1,5,2],[7,1,7,3],[105,1,105,3],[39,3,39,5],[46,1,46,3],[55,1,55,3],[67,3,67,5],[73,1,73,3],[82,1,82,3]]}
[]
[null,"PLANILHA DE ESTIMATIVA DE CUSTOS"]
[]
[]
[null,10,null,{"$f":"HLOOKUP($B$5,'Dados Gerais'!$D$6:$BK$21,6)","v":"VIGILANTE MATUTINO \nESTACIONAMENTOS \nEscala 40 horas semanais \n7h às 16h \n2ª à 6ª feira"},"QUANTIDADE",{"$f":"HLOOKUP($B$5,'Dados Gerais'!$D$6:$BK$21,10)","v":24}]
[null,"CCT",null,{"$f":"HLOOKUP($B$5,'Dados Gerais'!$D$6:$BK$21,15)","v":"SINDESV/DF X SINDESP/DF 2024/2024 Nº DF000333/2024"},"DATA-BASE",{"$f":"HLOOKUP($B$5,'Dados Gerais'!$D$6:$BK$21,16)","v":"2024-01-01"}]
[]
[null,"MÓDULO 1 - COMPOSIÇÃO DA REMUNERAÇÃO",null,null,null,"Valor"]
[null,null,"A","Salário-Base",null,{"$f":"HLOOKUP($B$5,'Dados Gerais'!$D$6:$BK$21,8)","v":3423.03}]
[null,null,"B","Adicional de Periculosidade",null,{"$f":"HLOOKUP($B$5,'Dados Gerais'!$D$6:$BK$38,25)","v":1026.9100000000001}]
[null,null,"C","Adicional de Insalubridade",null,{"$f":"HLOOKUP($B$5,'Dados Gerais'!$D$6:$BK$38,31)","v":0}]
[null,null,"D","Adicional Noturno",null,{"$f":"HLOOKUP($B$5,'Dados Gerais'!$D$6:$BK$51,46)","v":0},null,"* Nota 1 - O Módulo 1 refere-se ao valor mensal devido ao empregado pela prestação do serviço no período de 12 meses."]
[null,null,"E","Adicional de Hora Extra",null,{"$f":"HLOOKUP($B$5,'Dados Gerais'!$D$6:$BK$68,63)","v":0},null,"* Nota 2 - O adicional de hora extra no feriado trabalhado foi suprimido pela Lei 13.467/17"]
[null,null,"F","Outros (especificar)",null,{"$f":"HLOOKUP($B$5,'Dados Gerais'!$D$6:$BK$60,33)","v":0},null,"* Nota 3 - ART. 7º, § 2º, DA LEI Nº 605/49.Sendo mensalista o obreiro, o adicional noturno pago de forma fixa já é considerado integrado para os efeitos do pagamento do repouso semanal remunerado, nos termos do art. 7º, § 2º, da Lei nº 605/49."]
[]
[null,null,null,"TOTAL DA REMUNERAÇÃO",null,{"$f":"SUM(F9:F14)","v":4449.9400000000005}]
[]
[null,"MÓDULO 2 - ENCARGOS E BENEFÍCIOS ANUAIS, MENSAIS E DIÁRIOS",null,null,"Percentuais","Valor"]
[null,"Submódulo 2.1 - 13º Salário e Adicional de Férias"]
[null,null,"A","13º Salário - Calculado no Módulo 7 - Destacado",0,{"$f":"ROUND(E20*F$16,2)","v":0},null,"* Nota 1 - Provisiona-se, mensalmente, o proporcional a 1/12 dos valores referentes a gratificação natalina, calculada à parte"]
[null,null,"B","Adicional de Férias",{"$f":"'Encargos Sociais'!E31","v":3.0300000000000001E-2},{"$f":"ROUND(E21*F$16,2)","v":134.83000000000001},null,"* Nota 2 - O adicional de férias foi calculado dividindo-se por 11, para comportar os 11 meses presentes e ainda o ausente do posto"]
[]
[null,"Submódulo 2.2 - Encargos Previdenciários (GPS), Fundo de Garantia por Tempo de Serviço (FGTS) e Outras Contribuições"]
[null,null,"A",{"$f":"'Encargos Sociais'!D14","v":"INSS (art. 22, inciso I, Lei nº 8.212/91)"},{"$f":"'Encargos Sociais'!E14","v":0.2},{"$f":"ROUND(E24*($F$16+$F$41+$F$72),2)","v":1015.65}]
[null,null,"B",{"$f":"'Encargos Sociais'!D15","v":"Salário Educação (art. 3º, inciso I, Decreto nº 87.043/82)"},{"$f":"'Encargos Sociais'!E15","v":2.5000000000000001E-2},126.96]
[null,null,"C",{"$f":"'Encargos Sociais'!D16","v":"SAT/RAT (art. 22, II, Lei 8.212/91 e Anexo V, Decreto 6.042/07) - Enquadramento 8011-1/01"},{"$f":"'Encargos Sociais'!E16","v":0.03},152.35]
[null,null,"D",{"$f":"'Encargos Sociais'!D17","v":"SESC ou SESI (art. 30, Lei nº 8.036/90 e art. 1º, Lei 8.154/90)"},{"$f":"'Encargos Sociais'!E17","v":1.4999999999999999E-2},76.17]
[null,null,"E",{"$f":"'Encargos Sociais'!D18","v":"SENAI ou SENAC (Decreto nº 2.318/86)"},{"$f":"'Encargos Sociais'!E18","v":0.01},50.78,null,"* Nota 1 - Os percentuais dos encargos previdenciários, do FGTS e demais contribuições são estabelecidos por legislação vigente."]
[null,null,"F",{"$f":"'Encargos Sociais'!D19","v":"SEBRAE (§ 3º, art. 8º, Lei 8.029/90, alterada pela Lei nº 8.154/90)"},{"$f":"'Encargos Sociais'!E19","v":6.0000000000000001E-3},30.47,null,"* Nota 2 - O SAT, a depender do grau de risco do serviço, irá variar entre 1%, para risco leve, de 2%, para risco médio, e de 3% para risco grave."]
[null,null,"G",{"$f":"'Encargos Sociais'!D20","v":"INCRA (art. 1º, I, Decreto Lei 1.146/70 e Lei 7.787, de 30/06/89)"},{"$f":"'Encargos Sociais'!E20","v":2E-3},10.16,null,"* Nota 3 - Base de cálculo - remuneração + ausências + terço constitucional (férias)"]
[null,null,"H",{"$f":"'Encargos Sociais'!D21","v":"FGTS (Lei Complementar nº 110/01 e art. 30, Lei nº 8.036/90)"},{"$f":"'Encargos Sociais'!E21","v":0.08},406.26]
[null,null,"I",{"$f":"'Encargos Sociais'!D22","v":"SECONCI (Convenções Coletivas de Trabalho da construção)"},{"$f":"'Encargos Sociais'!E22","v":0},0]
[]
[null,"Submódulo 2.3 - Benefícios Mensais e Diários"]
[null,null,"A","Auxílio Transporte",null,{"$f":"HLOOKUP($B$5,'Dados Gerais'!$D$6:$BK$94,82)","v":128.69999999999999}]
[null,null,"B","Auxílio Alimentação",null,{"$f":"HLOOKUP($B$5,'Dados Gerais'!$D$6:$BK$94,89)","v":1042.1400000000001},null,"* Nota 1 - O valor informado deverá ser o custo real do benefício (descontado o valor eventualmente pago pelo empregado)."]
[null,null,"C","Assistência Médica e Familiar",null,{"$f":"HLOOKUP($B$5,'Dados Gerais'!$D$6:$BK$102,97)","v":0},null,"* Nota 2 - Observar a previsão dos benefícios contidos em Acordos, Convenções e Dissídios Coletivos de Trabalho e o disposto no art. 6º da IN 5/2017"]
[null,null,"D","Outros (Seguro de vida e auxílio funeral e auxílio odontológico)",null,{"$f":"HLOOKUP($B$5,'Dados Gerais'!$D$6:$BK$119,114)","v":32.159999999999997}]
[]
[null,null,null,"QUADRO-RESUMO DO MÓDULO 2"]
[null,null,null,"2.1 - Adicional de Férias",{"$f":"SUM(E20:E21)","v":3.0300000000000001E-2},{"$f":"F20+F21","v":134.83000000000001}]
[null,null,null,"2.2 - Encargos Previdenciários (GPS), Fundo de Garantia por Tempo de Serviço (FGTS) e Contribuições",{"$f":"SUM(E24:E32)","v":0.36800000000000005},{"$f":"SUM(F24:F32)","v":1868.8}]
[null,null,null,"2.3 - Benefícios Mensais e Diários",null,{"$f":"SUM(F35:F38)","v":1203.0000000000002}]
[]
[null,null,null,"TOTAL DOS ENCARGOS E BENEFÍCIOS",null,{"$f":"SUM(F41:F43)","v":3206.63}]
[]
[null,"MÓDULO 3 - PREVISÃO PARA RESCISÃO",null,null,"Percentuais","Valor"]
[null,null,"A",{"$f":"'Encargos Sociais'!D36","v":"Aviso Prévio Indenizado (Art. 7º, inciso XXI, da CF/1988 e arts. 477, 487, §1º, e 491 da CLT)"},{"$f":"'Encargos Sociais'!E36","v":4.1999999999999997E-3},{"$f":"ROUND(E48*($F$16+$F$72+$F$41),2)","v":21.33}]
[null,null,"B",{"$f":"'Encargos Sociais'!D37","v":"13º sobre aviso prévio indenizado"},{"$f":"'Encargos Sociais'!E37","v":4.0000000000000002E-4},{"$f":"ROUND(E49*($F$16+$F$72+$F$41),2)","v":2.0299999999999998},null,"* Nota 1 - Adotou-se os parâmetros do estudo do STF (http://www.stf.jus.br/arquivo/cms/sobrestfestudosci/anexo/encargos_sociais_03102007.pdf), onde 5% do pessoal é demitido pelo empregador no decurso do contrato (para estes, considerou-se o aviso prévio indenizado). Desprezou-se as demissões por justa causa e os pedidos de demissão."]
[null,null,"C",{"$f":"'Encargos Sociais'!D38","v":"Incidência do FGTS sobre o Aviso Prévio Indenizado (Súmula 305 TST)"},{"$f":"'Encargos Sociais'!E38","v":2.9999999999999997E-4},{"$f":"ROUND(E50*($F$16+$F$72+$F$41),2)","v":1.52},null,"* Nota 2 - Base de cálculo - remuneração + ausências + 1/3 férias"]
[null,null,"D",{"$f":"'Encargos Sociais'!D39","v":"Multa do FGTS sobre o Aviso Prévio (Art. 18, §1º, da Lei 8.036/1990)"},{"$f":"'Encargos Sociais'!E39","v":3.2000000000000001E-2},{"$f":"ROUND(E51*($F$16+$F$72+$F$41),2)","v":162.5}]
[null,null,"E",{"$f":"'Encargos Sociais'!D40","v":"Indenização Adicional - data-base (Art. 9º, Lei 7.238/1984)"},{"$f":"'Encargos Sociais'!E40","v":8.0000000000000004E-4},{"$f":"ROUND(E52*($F$16+$F$72+$F$41),2)","v":4.0599999999999996}]
[]
[null,null,null,"TOTAL DE PREVISÃO PARA RESCISÃO",null,{"$f":"SUM(F48:F52)","v":191.44}]
[]
[null,"MÓDULO 4 - CUSTO DO PROFISSIONAL AUSENTE",null,null,"Percentuais","Valor"]
[null,"Submódulo 4.1 - Ausências Legais"]
[null,null,"A",{"$f":"'Encargos Sociais'!D25","v":"Férias (Arts. 129 e 130, inc. I, da CLT)"},{"$f":"'Encargos Sociais'!E25","v":9.0899999999999995E-2},{"$f":"ROUND(E58*$F$16,2)","v":404.5},null,"* Nota 1 - O Módulo 4 refere-se às previsões para custear ausências do próprio profissional (titular do cargo)"]
[null,null,"B",{"$f":"'Encargos Sociais'!D26","v":"Ausências Legais (Arts. 131 e 473 da CLT)"},{"$f":"'Encargos Sociais'!E26","v":7.9000000000000008E-3},35.15,null,"* Nota 2 - As férias foram calculadas dividindo-se por 11, para comportar os 11 meses presentes e ainda o ausente do posto"]
[null,null,"C",{"$f":"'Encargos Sociais'!D27","v":"Licença-Paternidade (Art. 7º, XIX, e art. 10, §1º, do ADCT, CF/1988 e Art. 1º, II, da Lei 11.770/2008)"},{"$f":"'Encargos Sociais'!E27","v":8.0000000000000004E-4},3.56]
[null,null,"D",{"$f":"'Encargos Sociais'!D28","v":"Ausência por Acidente de Trabalho (Art. 131, III, da CLT)"},{"$f":"'Encargos Sociais'!E28","v":8.9999999999999998E-4},4]
[null,null,"E",{"$f":"'Encargos Sociais'!D29","v":"Afastamento Maternidade (Art. 71 da Lei nº 8.213/1991)"},{"$f":"'Encargos Sociais'!E29","v":3.3E-3},14.68]
[null,null,"F",{"$f":"'Encargos Sociais'!D30","v":"Auxílio Enfermidade - Doença (Art. 59 da Lei nº 8.213/1991)"},{"$f":"'Encargos Sociais'!E30","v":7.1000000000000004E-3},31.59]
[]
[null,"Submódulo 4.2 - Intrajornada"]
[null,null,"A","Intervalo para repouso ou alimentação",{"$f":"'Encargos Sociais'!E33","v":0},{"$f":"ROUND(E66*$F$16,2)","v":0}]
[]
[null,null,null,"QUADRO-RESUMO DO MÓDULO 4",null,"Valor"]
[null,null,null,"4.1 - Ausências Legais",{"$f":"SUM(E58:E63)","v":0.11089999999999998},{"$f":"ROUND(E69*$F$16,2)","v":493.5}]
[null,null,null,"4.2 - Intrajornada",{"$f":"E66","v":0},{"$f":"ROUND(E70*$F$16,2)","v":0}]
[]
[null,null,null,"TOTAL DE PREVISÃO PARA CUSTO DO PROFISSIONAL AUSENTE E INTERVALO INTRAJORNADA",null,{"$f":"SUM(F69:F70)","v":493.5}]
[]
[null,"MÓDULO 5 - INSUMOS DIVERSOS",null,null,null,"Valor"]
[null,null,"A","Uniformes - aquisição",null,{"$f":"ROUND(HLOOKUP($B$5,Uniformes!L4:EA90,3)/12,2)","v":303.45999999999998}]
[null,null,"B","Materiais de consumo relacionados ao posto - aquisição",null,{"$f":"ROUND(HLOOKUP(B5,'Mat Cons'!I11:DX13,3)/12,2)","v":0}]
[null,null,"C","Materiais permanentes relacionados ao posto - remuneração da sua depreciação / manutenção",null,{"$f":"HLOOKUP(B5,'Mat Perm'!Q11:EF13,3)","v":0}]
[null,null,"D","Equipamentos relacionados ao posto - remuneração da sua depreciação / manutenção",null,{"$f":"HLOOKUP(B5,'Equip Rel'!Q3:EF5,3)","v":0}]
[null,null,"E","Equipamentos de Proteção Individual - EPI - aquisição",null,{"$f":"ROUND(HLOOKUP(B5,EPI!J4:DY6,3)/12,2)","v":0}]
[]
[null,null,null,"TOTAL DE INSUMOS DIVERSOS",null,{"$f":"SUM(F75:F80)","v":303.45999999999998},null,"* Nota - Valores mensais por empregado"]
[]
[null,"MÓDULO 6 - CUSTOS INDIRETOS, TRIBUTOS E LUCRO - BDI",null,null,"Percentuais","Valor"]
[null,null,"A","Custos Indiretos",{"$f":"BDI!E6","v":2.2699999999999998E-2}]
[null,null,"A.1","Administração Central",{"$f":"BDI!E7","v":1.7299999999999999E-2}]
[null,null,"A.2","Seguros, Garantias e Riscos",{"$f":"BDI!E8","v":5.4000000000000003E-3}]
[null,null,"B","Lucro",{"$f":"BDI!E10","v":2.6700000000000002E-2}]
[null,null,"C","Tributos",{"$f":"SUM(E89:E90)","v":0.124}]
[null,null,"C.1","Tributos Federais (COFINS, PIS e CPRB)",{"$f":"BDI!E18","v":7.3999999999999996E-2}]
[null,null,"C.2","Tributos Distritais (ISS)",{"$f":"BDI!E23","v":0.05}]
[null,null,"D","Despesas Financeiras",{"$f":"BDI!E13","v":4.4669210982628549E-3}]
[]
[null,null,null,"TOTAL DE BDI",{"$f":"BDI!E26","v":0.20399999999999999},{"$f":"E93*E101","v":1763.5738799999997}]
[]
[null,null,null,"QUADRO-RESUMO DO CUSTO MENSAL POR EMPREGADO - SEM O 13º","Valor"]
[null,null,null,"Módulo 1 - Composição da Remuneração",{"$f":"F16","v":4449.9400000000005}]
[null,null,null,"Módulo 2 - Encargos e Benefícios Anuais, Mensais e Diários",{"$f":"F45","v":3206.63}]
[null,null,null,"Módulo 3 - Provisão para Rescisão",{"$f":"F54","v":191.44}]
[null,null,null,"Módulo 4 - Custo de Reposição do Profissional Ausente",{"$f":"F72","v":493.5}]
[null,null,null,"Módulo 5 - Insumos Diversos",{"$f":"F81","v":303.45999999999998}]
[null,null,null,"SUBTOTAL (A+B+C+D+E)",{"$f":"SUM(E96:E100)","v":8644.9699999999993}]
[null,null,null,"Módulo 6 - Custos Indiretos, Tributos e Lucro",{"$f":"F93","v":1763.5738799999997}]
[]
[null,null,null,"TOTAL DO POSTO",{"$f":"SUM(E101:E102)","v":10408.543879999999}]
[]
[null,"MÓDULO 7 - DESTAQUE DO MÓDULO 2 - 13º SALÁRIO",null,null,"Percentuais","Valor"]
[null,null,"A","13º Salário",{"$f":"'Encargos Sociais'!E32*12/11","v":9.0872727272727272E-2},{"$f":"ROUND(E107*F$16,2)","v":404.38},null,"* Nota 1 - Incluindo-se a reincidência das férias do substituto sobre o titular"]
[null,null,"B","Encargos Sociais sobre o 13º Salário",{"$f":"SUM($E$24:$E$32)","v":0.36800000000000005},{"$f":"ROUND(E108*$F$107,2)","v":148.81},null,"* Nota 2 - Provisiona-se, mensalmente, o proporcional a 1/12 dos valores referentes a gratificação natalina e adicional de férias."]
[null,null,"C","BDI sobre o 13º Salário - Taxa calculada no MÓDULO 6",{"$f":"E93","v":0.20399999999999999},{"$f":"ROUND(E109*($F$107+$F$108),2)","v":112.85}]
[]
[null,null,null,"TOTAL DO DESTAQUE DO 13º SALÁRIO",null,{"$f":"SUM(F107:F109)","v":666.04000000000008}]
[]
[null,null,null,"QUADRO-RESUMO DO CUSTO MENSAL POR EMPREGADO","Valor"]
[null,null,null,"Custo total - sem o 13º Salário",{"$f":"E104","v":10408.543879999999}]
[null,null,null,"Destaque do 13º Salário (valor mensal)",{"$f":"F111","v":666.04000000000008}]
[]
[null,null,null,"TOTAL DO POSTO",{"$f":"E114+E115","v":11074.58388}]

{"sheet":"11","index":14,"n_rows":117,"n_cols":8,"rows_kept":117,"cut":false,"hidden":false,"merged":[[17,1,17,3],[1,1,1,5],[2,1,2,5],[4,1,4,2],[5,1,5,2],[7,1,7,3],[105,1,105,3],[39,3,39,5],[46,1,46,3],[55,1,55,3],[67,3,67,5],[73,1,73,3],[82,1,82,3]]}
[]
[null,"PLANILHA DE ESTIMATIVA DE CUSTOS"]
[]
[]
[null,11,null,{"$f":"HLOOKUP($B$5,'Dados Gerais'!$D$6:$BK$21,6)","v":"VIGILANTE VESPERTINO \nESTACIONAMENTOS \nEscala 40 horas semanais \n14h às 23h \n2ª à 6ª feira"},"QUANTIDADE",{"$f":"HLOOKUP($B$5,'Dados Gerais'!$D$6:$BK$21,10)","v":24}]
[null,"CCT",null,{"$f":"HLOOKUP($B$5,'Dados Gerais'!$D$6:$BK$21,15)","v":"SINDESV/DF X SINDESP/DF 2024/2024 Nº DF000333/2024"},"DATA-BASE",{"$f":"HLOOKUP($B$5,'Dados Gerais'!$D$6:$BK$21,16)","v":"2024-01-01"}]
[]
[null,"MÓDULO 1 - COMPOSIÇÃO DA REMUNERAÇÃO",null,null,null,"Valor"]
[null,null,"A","Salário-Base",null,{"$f":"HLOOKUP($B$5,'Dados Gerais'!$D$6:$BK$21,8)","v":3423.03}]
[null,null,"B","Adicional de Periculosidade",null,{"$f":"HLOOKUP($B$5,'Dados Gerais'!$D$6:$BK$38,25)","v":1026.9100000000001}]
[null,null,"C","Adicional de Insalubridade",null,{"$f":"HLOOKUP($B$5,'Dados Gerais'!$D$6:$BK$38,31)","v":0}]
[null,null,"D","Adicional Noturno",null,{"$f":"HLOOKUP($B$5,'Dados Gerais'!$D$6:$BK$51,46)","v":101.71},null,"* Nota 1 - O Módulo 1 refere-se ao valor mensal devido ao empregado pela prestação do serviço no período de 12 meses."]
[null,null,"E","Adicional de Hora Extra",null,{"$f":"HLOOKUP($B$5,'Dados Gerais'!$D$6:$BK$68,63)","v":0},null,"* Nota 2 - O adicional de hora extra no feriado trabalhado foi suprimido pela Lei 13.467/17"]
[null,null,"F","Outros (especificar)",null,{"$f":"HLOOKUP($B$5,'Dados Gerais'!$D$6:$BK$60,33)","v":0},null,"* Nota 3 - ART. 7º, § 2º, DA LEI Nº 605/49.Sendo mensalista o obreiro, o adicional noturno pago de forma fixa já é considerado integrado para os efeitos do pagamento do repouso semanal remunerado, nos termos do art. 7º, § 2º, da Lei nº 605/49."]
[]
[null,null,null,"TOTAL DA REMUNERAÇÃO",null,{"$f":"SUM(F9:F14)","v":4551.6500000000005}]
[]
[null,"MÓDULO 2 - ENCARGOS E BENEFÍCIOS ANUAIS, MENSAIS E DIÁRIOS",null,null,"Percentuais","Valor"]
[null,"Submódulo 2.1 - 13º Salário e Adicional de Férias"]
[null,null,"A","13º Salário - Calculado no Módulo 7 - Destacado",0,{"$f":"ROUND(E20*F$16,2)","v":0},null,"* Nota 1 - Provisiona-se, mensalmente, o proporcional a 1/12 dos valores referentes a gratificação natalina, calculada à parte"]
[null,null,"B","Adicional de Férias",{"$f":"'Encargos Sociais'!E31","v":3.0300000000000001E-2},{"$f":"ROUND(E21*F$16,2)","v":137.91},null,"* Nota 2 - O adicional de férias foi calculado dividindo-se por 11, para comportar os 11 meses presentes e ainda o ausente do posto"]
[]
[null,"Submódulo 2.2 - Encargos Previdenciários (GPS), Fundo de Garantia por Tempo de Serviço (FGTS) e Outras Contribuições"]
[null,null,"A",{"$f":"'Encargos Sociais'!D14","v":"INSS (art. 22, inciso I, Lei nº 8.212/91)"},{"$f":"'Encargos Sociais'!E14","v":0.2},{"$f":"ROUND(E24*($F$16+$F$41+$F$72),2)","v":1038.8699999999999}]
[null,null,"B",{"$f":"'Encargos Sociais'!D15","v":"Salário Educação (art. 3º, inciso I, Decreto nº 87.043/82)"},{"$f":"'Encargos Sociais'!E15","v":2.5000000000000001E-2},129.86000000000001]
[null,null,"C",{"$f":"'Encargos Sociais'!D16","v":"SAT/RAT (art. 22, II, Lei 8.212/91 e Anexo V, Decreto 6.042/07) - Enquadramento 8011-1/01"},{"$f":"'Encargos Sociais'!E16","v":0.03},155.83000000000001]
[null,null,"D",{"$f":"'Encargos Sociais'!D17","v":"SESC ou SESI (art. 30, Lei nº 8.036/90 e art. 1º, Lei 8.154/90)"},{"$f":"'Encargos Sociais'!E17","v":1.4999999999999999E-2},77.92]
[null,null,"E",{"$f":"'Encargos Sociais'!D18","v":"SENAI ou SENAC (Decreto nº 2.318/86)"},{"$f":"'Encargos Sociais'!E18","v":0.01},51.94,null,"* Nota 1 - Os percentuais dos encargos previdenciários, do FGTS e demais contribuições são estabelecidos por legislação vigente."]
[null,null,"F",{"$f":"'Encargos Sociais'!D19","v":"SEBRAE (§ 3º, art. 8º, Lei 8.029/90, alterada pela Lei nº 8.154/90)"},{"$f":"'Encargos Sociais'!E19","v":6.0000000000000001E-3},31.17,null,"* Nota 2 - O SAT, a depender do grau de risco do serviço, irá variar entre 1%, para risco leve, de 2%, para risco médio, e de 3% para risco grave."]
[null,null,"G",{"$f":"'Encargos Sociais'!D20","v":"INCRA (art. 1º, I, Decreto Lei 1.146/70 e Lei 7.787, de 30/06/89)"},{"$f":"'Encargos Sociais'!E20","v":2E-3},10.39,null,"* Nota 3 - Base de cálculo - remuneração + ausências + terço constitucional (férias)"]
[null,null,"H",{"$f":"'Encargos Sociais'!D21","v":"FGTS (Lei Complementar nº 110/01 e art. 30, Lei nº 8.036/90)"},{"$f":"'Encargos Sociais'!E21","v":0.08},415.55]
[null,null,"I",{"$f":"'Encargos Sociais'!D22","v":"SECONCI (Convenções Coletivas de Trabalho da construção)"},{"$f":"'Encargos Sociais'!E22","v":0},0]
[]
[null,"Submódulo 2.3 - Benefícios Mensais e Diários"]
[null,null,"A","Auxílio Transporte",null,{"$f":"HLOOKUP($B$5,'Dados Gerais'!$D$6:$BK$94,82)","v":128.69999999999999}]
[null,null,"B","Auxílio Alimentação",null,{"$f":"HLOOKUP($B$5,'Dados Gerais'!$D$6:$BK$94,89)","v":1042.1400000000001},null,"* Nota 1 - O valor informado deverá ser o custo real do benefício (descontado o valor eventualmente pago pelo empregado)."]
[null,null,"C","Assistência Médica e Familiar",null,{"$f":"HLOOKUP($B$5,'Dados Gerais'!$D$6:$BK$102,97)","v":0},null,"* Nota 2 - Observar a previsão dos benefícios contidos em Acordos, Convenções e Dissídios Coletivos de Trabalho e o disposto no art. 6º da IN 5/2017"]
[null,null,"D","Outros (Seguro de vida e auxílio funeral e auxílio odontológico)",null,{"$f":"HLOOKUP($B$5,'Dados Gerais'!$D$6:$BK$119,114)","v":32.159999999999997}]
[]
[null,null,null,"QUADRO-RESUMO DO MÓDULO 2"]
[null,null,null,"2.1 - Adicional de Férias",{"$f":"SUM(E20:E21)","v":3.0300000000000001E-2},{"$f":"F20+F21","v":137.91}]
[null,null,null,"2.2 - Encargos Previdenciários (GPS), Fundo de Garantia por Tempo de Serviço (FGTS) e Contribuições",{"$f":"SUM(E24:E32)","v":0.36800000000000005},{"$f":"SUM(F24:F32)","v":1911.5300000000002}]
[null,null,null,"2.3 - Benefícios Mensais e Diários",null,{"$f":"SUM(F35:F38)","v":1203.0000000000002}]
[]
[null,null,null,"TOTAL DOS ENCARGOS E BENEFÍCIOS",null,{"$f":"SUM(F41:F43)","v":3252.4400000000005}]
[]
[null,"MÓDULO 3 - PREVISÃO PARA RESCISÃO",null,null,"Percentuais","Valor"]
[null,null,"A",{"$f":"'Encargos Sociais'!D36","v":"Aviso Prévio Indenizado (Art. 7º, inciso XXI, da CF/1988 e arts. 477, 487, §1º, e 491 da CLT)"},{"$f":"'Encargos Sociais'!E36","v":4.1999999999999997E-3},{"$f":"ROUND(E48*($F$16+$F$72+$F$41),2)","v":21.82}]
[null,null,"B",{"$f":"'Encargos Sociais'!D37","v":"13º sobre aviso prévio indenizado"},{"$f":"'Encargos Sociais'!E37","v":4.0000000000000002E-4},{"$f":"ROUND(E49*($F$16+$F$72+$F$41),2)","v":2.08},null,"* Nota 1 - Adotou-se os parâmetros do estudo do STF (http://www.stf.jus.br/arquivo/cms/sobrestfestudosci/anexo/encargos_sociais_03102007.pdf), onde 5% do pessoal é demitido pelo empregador no decurso do contrato (para estes, considerou-se o aviso prévio indenizado). Desprezou-se as demissões por justa causa e os pedidos de demissão."]
[null,null,"C",{"$f":"'Encargos Sociais'!D38","v":"Incidência do FGTS sobre o Aviso Prévio Indenizado (Súmula 305 TST)"},{"$f":"'Encargos Sociais'!E38","v":2.9999999999999997E-4},{"$f":"ROUND(E50*($F$16+$F$72+$F$41),2)","v":1.56},null,"* Nota 2 - Base de cálculo - remuneração + ausências + 1/3 férias"]
[null,null,"D",{"$f":"'Encargos Sociais'!D39","v":"Multa do FGTS sobre o Aviso Prévio (Art. 18, §1º, da Lei 8.036/1990)"},{"$f":"'Encargos Sociais'!E39","v":3.2000000000000001E-2},{"$f":"ROUND(E51*($F$16+$F$72+$F$41),2)","v":166.22}]
[null,null,"E",{"$f":"'Encargos Sociais'!D40","v":"Indenização Adicional - data-base (Art. 9º, Lei 7.238/1984)"},{"$f":"'Encargos Sociais'!E40","v":8.0000000000000004E-4},{"$f":"ROUND(E52*($F$16+$F$72+$F$41),2)","v":4.16}]
[]
[null,null,null,"TOTAL DE PREVISÃO PARA RESCISÃO",null,{"$f":"SUM(F48:F52)","v":195.84}]
[]
[null,"MÓDULO 4 - CUSTO DO PROFISSIONAL AUSENTE",null,null,"Percentuais","Valor"]
[null,"Submódulo 4.1 - Ausências Legais"]
[null,null,"A",{"$f":"'Encargos Sociais'!D25","v":"Férias (Arts. 129 e 130, inc. I, da CLT)"},{"$f":"'Encargos Sociais'!E25","v":9.0899999999999995E-2},{"$f":"ROUND(E58*$F$16,2)","v":413.74},null,"* Nota 1 - O Módulo 4 refere-se às previsões para custear ausências do próprio profissional (titular do cargo)"]
[null,null,"B",{"$f":"'Encargos Sociais'!D26","v":"Ausências Legais (Arts. 131 e 473 da CLT)"},{"$f":"'Encargos Sociais'!E26","v":7.9000000000000008E-3},35.96,null,"* Nota 2 - As férias foram calculadas dividindo-se por 11, para comportar os 11 meses presentes e ainda o ausente do posto"]
[null,null,"C",{"$f":"'Encargos Sociais'!D27","v":"Licença-Paternidade (Art. 7º, XIX, e art. 10, §1º, do ADCT, CF/1988 e Art. 1º, II, da Lei 11.770/2008)"},{"$f":"'Encargos Sociais'!E27","v":8.0000000000000004E-4},3.64]
[null,null,"D",{"$f":"'Encargos Sociais'!D28","v":"Ausência por Acidente de Trabalho (Art. 131, III, da CLT)"},{"$f":"'Encargos Sociais'!E28","v":8.9999999999999998E-4},4.0999999999999996]
[null,null,"E",{"$f":"'Encargos Sociais'!D29","v":"Afastamento Maternidade (Art. 71 da Lei nº 8.213/1991)"},{"$f":"'Encargos Sociais'!E29","v":3.3E-3},15.02]
[null,null,"F",{"$f":"'Encargos Sociais'!D30","v":"Auxílio Enfermidade - Doença (Art. 59 da Lei nº 8.213/1991)"},{"$f":"'Encargos Sociais'!E30","v":7.1000000000000004E-3},32.32]
[]
[null,"Submódulo 4.2 - Intrajornada"]
[null,null,"A","Intervalo para repouso ou alimentação",{"$f":"'Encargos Sociais'!E33","v":0},{"$f":"ROUND(E66*$F$16,2)","v":0}]
[]
[null,null,null,"QUADRO-RESUMO DO MÓDULO 4",null,"Valor"]
[null,null,null,"4.1 - Ausências Legais",{"$f":"SUM(E58:E63)","v":0.11089999999999998},{"$f":"ROUND(E69*$F$16,2)","v":504.78}]
[null,null,null,"4.2 - Intrajornada",{"$f":"E66","v":0},{"$f":"ROUND(E70*$F$16,2)","v":0}]
[]
[null,null,null,"TOTAL DE PREVISÃO PARA CUSTO DO PROFISSIONAL AUSENTE E INTERVALO INTRAJORNADA",null,{"$f":"SUM(F69:F70)","v":504.78}]
[]
[null,"MÓDULO 5 - INSUMOS DIVERSOS",null,null,null,"Valor"]
[null,null,"A","Uniformes - aquisição",null,{"$f":"ROUND(HLOOKUP($B$5,Uniformes!L4:EA90,3)/12,2)","v":303.45999999999998}]
[null,null,"B","Materiais de consumo relacionados ao posto - aquisição",null,{"$f":"ROUND(HLOOKUP(B5,'Mat Cons'!I11:DX13,3)/12,2)","v":0}]
[null,null,"C","Materiais permanentes relacionados ao posto - remuneração da sua depreciação / manutenção",null,{"$f":"HLOOKUP(B5,'Mat Perm'!Q11:EF13,3)","v":0}]
[null,null,"D","Equipamentos relacionados ao posto - remuneração da sua depreciação / manutenção",null,{"$f":"HLOOKUP(B5,'Equip Rel'!Q3:EF5,3)","v":0}]
[null,null,"E","Equipamentos de Proteção Individual - EPI - aquisição",null,{"$f":"ROUND(HLOOKUP(B5,EPI!J4:DY6,3)/12,2)","v":0}]
[]
[null,null,null,"TOTAL DE INSUMOS DIVERSOS",null,{"$f":"SUM(F75:F80)","v":303.45999999999998},null,"* Nota - Valores mensais por empregado"]
[]
[null,"MÓDULO 6 - CUSTOS INDIRETOS, TRIBUTOS E LUCRO - BDI",null,null,"Percentuais","Valor"]
[null,null,"A","Custos Indiretos",{"$f":"BDI!E6","v":2.2699999999999998E-2}]
[null,null,"A.1","Administração Central",{"$f":"BDI!E7","v":1.7299999999999999E-2}]
[null,null,"A.2","Seguros, Garantias e Riscos",{"$f":"BDI!E8","v":5.4000000000000003E-3}]
[null,null,"B","Lucro",{"$f":"BDI!E10","v":2.6700000000000002E-2}]
[null,null,"C","Tributos",{"$f":"SUM(E89:E90)","v":0.124}]
[null,null,"C.1","Tributos Federais (COFINS, PIS e CPRB)",{"$f":"BDI!E18","v":7.3999999999999996E-2}]
[null,null,"C.2","Tributos Distritais (ISS)",{"$f":"BDI!E23","v":0.05}]
[null,null,"D","Despesas Financeiras",{"$f":"BDI!E13","v":4.4669210982628549E-3}]
[]
[null,null,null,"TOTAL DE BDI",{"$f":"BDI!E26","v":0.20399999999999999},{"$f":"E93*E101","v":1796.8666799999999}]
[]
[null,null,null,"QUADRO-RESUMO DO CUSTO MENSAL POR EMPREGADO - SEM O 13º","Valor"]
[null,null,null,"Módulo 1 - Composição da Remuneração",{"$f":"F16","v":4551.6500000000005}]
[null,null,null,"Módulo 2 - Encargos e Benefícios Anuais, Mensais e Diários",{"$f":"F45","v":3252.4400000000005}]
[null,null,null,"Módulo 3 - Provisão para Rescisão",{"$f":"F54","v":195.84}]
[null,null,null,"Módulo 4 - Custo de Reposição do Profissional Ausente",{"$f":"F72","v":504.78}]
[null,null,null,"Módulo 5 - Insumos Diversos",{"$f":"F81","v":303.45999999999998}]
[null,null,null,"SUBTOTAL (A+B+C+D+E)",{"$f":"SUM(E96:E100)","v":8808.17}]
[null,null,null,"Módulo 6 - Custos Indiretos, Tributos e Lucro",{"$f":"F93","v":1796.8666799999999}]
[]
[null,null,null,"TOTAL DO POSTO",{"$f":"SUM(E101:E102)","v":10605.036679999999}]
[]
[null,"MÓDULO 7 - DESTAQUE DO MÓDULO 2 - 13º SALÁRIO",null,null,"Percentuais","Valor"]
[null,null,"A","13º Salário",{"$f":"'Encargos Sociais'!E32*12/11","v":9.0872727272727272E-2},{"$f":"ROUND(E107*F$16,2)","v":413.62},null,"* Nota 1 - Incluindo-se a reincidência das férias do substituto sobre o titular"]
[null,null,"B","Encargos Sociais sobre o 13º Salário",{"$f":"SUM($E$24:$E$32)","v":0.36800000000000005},{"$f":"ROUND(E108*$F$107,2)","v":152.21},null,"* Nota 2 - Provisiona-se, mensalmente, o proporcional a 1/12 dos valores referentes a gratificação natalina e adicional de férias."]
[null,null,"C","BDI sobre o 13º Salário - Taxa calculada no MÓDULO 6",{"$f":"E93","v":0.20399999999999999},{"$f":"ROUND(E109*($F$107+$F$108),2)","v":115.43}]
[]
[null,null,null,"TOTAL DO DESTAQUE DO 13º SALÁRIO",null,{"$f":"SUM(F107:F109)","v":681.26}]
[]
[null,null,null,"QUADRO-RESUMO DO CUSTO MENSAL POR EMPREGADO","Valor"]
[null,null,null,"Custo total - sem o 13º Salário",{"$f":"E104","v":10605.036679999999}]
[null,null,null,"Destaque do 13º Salário (valor mensal)",{"$f":"F111","v":681.26}]
[]
[null,null,null,"TOTAL DO POSTO",{"$f":"E114+E115","v":11286.296679999999}]

{"sheet":"12","index":15,"n_rows":117,"n_cols":8,"rows_kept":117,"cut":false,"hidden":false,"merged":[[17,1,17,3],[1,1,1,5],[2,1,2,5],[4,1,4,2],[5,1,5,2],[7,1,7,3],[105,1,105,3],[39,3,39,5],[46,1,46,3],[55,1,55,3],[67,3,67,5],[73,1,73,3],[82,1,82,3]]}
[]
[null,"PLANILHA DE ESTIMATIVA DE CUSTOS"]
[]
[]
[null,12,null,{"$f":"HLOOKUP($B$5,'Dados Gerais'!$D$6:$BK$21,6)","v":"VIGILANTE DIURNO \nPOSTOS EXTERNOS \nEscala 12 x 36 \n7h às 19h \n2ª feira a Dom"},"QUANTIDADE",{"$f":"HLOOKUP($B$5,'Dados Gerais'!$D$6:$BK$21,10)","v":60}]
[null,"CCT",null,{"$f":"HLOOKUP($B$5,'Dados Gerais'!$D$6:$BK$21,15)","v":"SINDESV/DF X SINDESP/DF 2024/2024 Nº DF000333/2024"},"DATA-BASE",{"$f":"HLOOKUP($B$5,'Dados Gerais'!$D$6:$BK$21,16)","v":"2024-01-01"}]
[]
[null,"MÓDULO 1 - COMPOSIÇÃO DA REMUNERAÇÃO",null,null,null,"Valor"]
[null,null,"A","Salário-Base",null,{"$f":"HLOOKUP($B$5,'Dados Gerais'!$D$6:$BK$21,8)","v":3423.03}]
[null,null,"B","Adicional de Periculosidade",null,{"$f":"HLOOKUP($B$5,'Dados Gerais'!$D$6:$BK$38,25)","v":1026.9100000000001}]
[null,null,"C","Adicional de Insalubridade",null,{"$f":"HLOOKUP($B$5,'Dados Gerais'!$D$6:$BK$38,31)","v":0}]
[null,null,"D","Adicional Noturno",null,{"$f":"HLOOKUP($B$5,'Dados Gerais'!$D$6:$BK$51,46)","v":0},null,"* Nota 1 - O Módulo 1 refere-se ao valor mensal devido ao empregado pela prestação do serviço no período de 12 meses."]
[null,null,"E","Adicional de Hora Extra",null,{"$f":"HLOOKUP($B$5,'Dados Gerais'!$D$6:$BK$68,63)","v":0},null,"* Nota 2 - O adicional de hora extra no feriado trabalhado foi suprimido pela Lei 13.467/17"]
[null,null,"F","Outros (especificar)",null,{"$f":"HLOOKUP($B$5,'Dados Gerais'!$D$6:$BK$60,33)","v":0},null,"* Nota 3 - ART. 7º, § 2º, DA LEI Nº 605/49.Sendo mensalista o obreiro, o adicional noturno pago de forma fixa já é considerado integrado para os efeitos do pagamento do repouso semanal remunerado, nos termos do art. 7º, § 2º, da Lei nº 605/49."]
[]
[null,null,null,"TOTAL DA REMUNERAÇÃO",null,{"$f":"SUM(F9:F14)","v":4449.9400000000005}]
[]
[null,"MÓDULO 2 - ENCARGOS E BENEFÍCIOS ANUAIS, MENSAIS E DIÁRIOS",null,null,"Percentuais","Valor"]
[null,"Submódulo 2.1 - 13º Salário e Adicional de Férias"]
[null,null,"A","13º Salário - Calculado no Módulo 7 - Destacado",0,{"$f":"ROUND(E20*F$16,2)","v":0},null,"* Nota 1 - Provisiona-se, mensalmente, o proporcional a 1/12 dos valores referentes a gratificação natalina, calculada à parte"]
[null,null,"B","Adicional de Férias",{"$f":"'Encargos Sociais'!E31","v":3.0300000000000001E-2},{"$f":"ROUND(E21*F$16,2)","v":134.83000000000001},null,"* Nota 2 - O adicional de férias foi calculado dividindo-se por 11, para comportar os 11 meses presentes e ainda o ausente do posto"]
[]
[null,"Submódulo 2.2 - Encargos Previdenciários (GPS), Fundo de Garantia por Tempo de Serviço (FGTS) e Outras Contribuições"]
[null,null,"A",{"$f":"'Encargos Sociais'!D14","v":"INSS (art. 22, inciso I, Lei nº 8.212/91)"},{"$f":"'Encargos Sociais'!E14","v":0.2},{"$f":"ROUND(E24*($F$16+$F$41+$F$72),2)","v":1015.65}]
[null,null,"B",{"$f":"'Encargos Sociais'!D15","v":"Salário Educação (art. 3º, inciso I, Decreto nº 87.043/82)"},{"$f":"'Encargos Sociais'!E15","v":2.5000000000000001E-2},126.96]
[null,null,"C",{"$f":"'Encargos Sociais'!D16","v":"SAT/RAT (art. 22, II, Lei 8.212/91 e Anexo V, Decreto 6.042/07) - Enquadramento 8011-1/01"},{"$f":"'Encargos Sociais'!E16","v":0.03},152.35]
[null,null,"D",{"$f":"'Encargos Sociais'!D17","v":"SESC ou SESI (art. 30, Lei nº 8.036/90 e art. 1º, Lei 8.154/90)"},{"$f":"'Encargos Sociais'!E17","v":1.4999999999999999E-2},76.17]
[null,null,"E",{"$f":"'Encargos Sociais'!D18","v":"SENAI ou SENAC (Decreto nº 2.318/86)"},{"$f":"'Encargos Sociais'!E18","v":0.01},50.78,null,"* Nota 1 - Os percentuais dos encargos previdenciários, do FGTS e demais contribuições são estabelecidos por legislação vigente."]
[null,null,"F",{"$f":"'Encargos Sociais'!D19","v":"SEBRAE (§ 3º, art. 8º, Lei 8.029/90, alterada pela Lei nº 8.154/90)"},{"$f":"'Encargos Sociais'!E19","v":6.0000000000000001E-3},30.47,null,"* Nota 2 - O SAT, a depender do grau de risco do serviço, irá variar entre 1%, para risco leve, de 2%, para risco médio, e de 3% para risco grave."]
[null,null,"G",{"$f":"'Encargos Sociais'!D20","v":"INCRA (art. 1º, I, Decreto Lei 1.146/70 e Lei 7.787, de 30/06/89)"},{"$f":"'Encargos Sociais'!E20","v":2E-3},10.16,null,"* Nota 3 - Base de cálculo - remuneração + ausências + terço constitucional (férias)"]
[null,null,"H",{"$f":"'Encargos Sociais'!D21","v":"FGTS (Lei Complementar nº 110/01 e art. 30, Lei nº 8.036/90)"},{"$f":"'Encargos Sociais'!E21","v":0.08},406.26]
[null,null,"I",{"$f":"'Encargos Sociais'!D22","v":"SECONCI (Convenções Coletivas de Trabalho da construção)"},{"$f":"'Encargos Sociais'!E22","v":0},0]
[]
[null,"Submódulo 2.3 - Benefícios Mensais e Diários"]
[null,null,"A","Auxílio Transporte",null,{"$f":"HLOOKUP($B$5,'Dados Gerais'!$D$6:$BK$94,82)","v":22.400000000000006}]
[null,null,"B","Auxílio Alimentação",null,{"$f":"HLOOKUP($B$5,'Dados Gerais'!$D$6:$BK$94,89)","v":710.55},null,"* Nota 1 - O valor informado deverá ser o custo real do benefício (descontado o valor eventualmente pago pelo empregado)."]
[null,null,"C","Assistência Médica e Familiar",null,{"$f":"HLOOKUP($B$5,'Dados Gerais'!$D$6:$BK$102,97)","v":0},null,"* Nota 2 - Observar a previsão dos benefícios contidos em Acordos, Convenções e Dissídios Coletivos de Trabalho e o disposto no art. 6º da IN 5/2017"]
[null,null,"D","Outros (Seguro de vida e auxílio funeral e auxílio odontológico)",null,{"$f":"HLOOKUP($B$5,'Dados Gerais'!$D$6:$BK$119,114)","v":32.159999999999997}]
[]
[null,null,null,"QUADRO-RESUMO DO MÓDULO 2"]
[null,null,null,"2.1 - Adicional de Férias",{"$f":"SUM(E20:E21)","v":3.0300000000000001E-2},{"$f":"F20+F21","v":134.83000000000001}]
[null,null,null,"2.2 - Encargos Previdenciários (GPS), Fundo de Garantia por Tempo de Serviço (FGTS) e Contribuições",{"$f":"SUM(E24:E32)","v":0.36800000000000005},{"$f":"SUM(F24:F32)","v":1868.8}]
[null,null,null,"2.3 - Benefícios Mensais e Diários",null,{"$f":"SUM(F35:F38)","v":765.1099999999999}]
[]
[null,null,null,"TOTAL DOS ENCARGOS E BENEFÍCIOS",null,{"$f":"SUM(F41:F43)","v":2768.74}]
[]
[null,"MÓDULO 3 - PREVISÃO PARA RESCISÃO",null,null,"Percentuais","Valor"]
[null,null,"A",{"$f":"'Encargos Sociais'!D36","v":"Aviso Prévio Indenizado (Art. 7º, inciso XXI, da CF/1988 e arts. 477, 487, §1º, e 491 da CLT)"},{"$f":"'Encargos Sociais'!E36","v":4.1999999999999997E-3},{"$f":"ROUND(E48*($F$16+$F$72+$F$41),2)","v":21.33}]
[null,null,"B",{"$f":"'Encargos Sociais'!D37","v":"13º sobre aviso prévio indenizado"},{"$f":"'Encargos Sociais'!E37","v":4.0000000000000002E-4},{"$f":"ROUND(E49*($F$16+$F$72+$F$41),2)","v":2.0299999999999998},null,"* Nota 1 - Adotou-se os parâmetros do estudo do STF (http://www.stf.jus.br/arquivo/cms/sobrestfestudosci/anexo/encargos_sociais_03102007.pdf), onde 5% do pessoal é demitido pelo empregador no decurso do contrato (para estes, considerou-se o aviso prévio indenizado). Desprezou-se as demissões por justa causa e os pedidos de demissão."]
[null,null,"C",{"$f":"'Encargos Sociais'!D38","v":"Incidência do FGTS sobre o Aviso Prévio Indenizado (Súmula 305 TST)"},{"$f":"'Encargos Sociais'!E38","v":2.9999999999999997E-4},{"$f":"ROUND(E50*($F$16+$F$72+$F$41),2)","v":1.52},null,"* Nota 2 - Base de cálculo - remuneração + ausências + 1/3 férias"]
[null,null,"D",{"$f":"'Encargos Sociais'!D39","v":"Multa do FGTS sobre o Aviso Prévio (Art. 18, §1º, da Lei 8.036/1990)"},{"$f":"'Encargos Sociais'!E39","v":3.2000000000000001E-2},{"$f":"ROUND(E51*($F$16+$F$72+$F$41),2)","v":162.5}]
[null,null,"E",{"$f":"'Encargos Sociais'!D40","v":"Indenização Adicional - data-base (Art. 9º, Lei 7.238/1984)"},{"$f":"'Encargos Sociais'!E40","v":8.0000000000000004E-4},{"$f":"ROUND(E52*($F$16+$F$72+$F$41),2)","v":4.0599999999999996}]
[]
[null,null,null,"TOTAL DE PREVISÃO PARA RESCISÃO",null,{"$f":"SUM(F48:F52)","v":191.44}]
[]
[null,"MÓDULO 4 - CUSTO DO PROFISSIONAL AUSENTE",null,null,"Percentuais","Valor"]
[null,"Submódulo 4.1 - Ausências Legais"]
[null,null,"A",{"$f":"'Encargos Sociais'!D25","v":"Férias (Arts. 129 e 130, inc. I, da CLT)"},{"$f":"'Encargos Sociais'!E25","v":9.0899999999999995E-2},{"$f":"ROUND(E58*$F$16,2)","v":404.5},null,"* Nota 1 - O Módulo 4 refere-se às previsões para custear ausências do próprio profissional (titular do cargo)"]
[null,null,"B",{"$f":"'Encargos Sociais'!D26","v":"Ausências Legais (Arts. 131 e 473 da CLT)"},{"$f":"'Encargos Sociais'!E26","v":7.9000000000000008E-3},35.15,null,"* Nota 2 - As férias foram calculadas dividindo-se por 11, para comportar os 11 meses presentes e ainda o ausente do posto"]
[null,null,"C",{"$f":"'Encargos Sociais'!D27","v":"Licença-Paternidade (Art. 7º, XIX, e art. 10, §1º, do ADCT, CF/1988 e Art. 1º, II, da Lei 11.770/2008)"},{"$f":"'Encargos Sociais'!E27","v":8.0000000000000004E-4},3.56]
[null,null,"D",{"$f":"'Encargos Sociais'!D28","v":"Ausência por Acidente de Trabalho (Art. 131, III, da CLT)"},{"$f":"'Encargos Sociais'!E28","v":8.9999999999999998E-4},4]
[null,null,"E",{"$f":"'Encargos Sociais'!D29","v":"Afastamento Maternidade (Art. 71 da Lei nº 8.213/1991)"},{"$f":"'Encargos Sociais'!E29","v":3.3E-3},14.68]
[null,null,"F",{"$f":"'Encargos Sociais'!D30","v":"Auxílio Enfermidade - Doença (Art. 59 da Lei nº 8.213/1991)"},{"$f":"'Encargos Sociais'!E30","v":7.1000000000000004E-3},31.59]
[]
[null,"Submódulo 4.2 - Intrajornada"]
[null,null,"A","Intervalo para repouso ou alimentação",{"$f":"'Encargos Sociais'!E33","v":0},{"$f":"ROUND(E66*$F$16,2)","v":0}]
[]
[null,null,null,"QUADRO-RESUMO DO MÓDULO 4",null,"Valor"]
[null,null,null,"4.1 - Ausências Legais",{"$f":"SUM(E58:E63)","v":0.11089999999999998},{"$f":"ROUND(E69*$F$16,2)","v":493.5}]
[null,null,null,"4.2 - Intrajornada",{"$f":"E66","v":0},{"$f":"ROUND(E70*$F$16,2)","v":0}]
[]
[null,null,null,"TOTAL DE PREVISÃO PARA CUSTO DO PROFISSIONAL AUSENTE E INTERVALO INTRAJORNADA",null,{"$f":"SUM(F69:F70)","v":493.5}]
[]
[null,"MÓDULO 5 - INSUMOS DIVERSOS",null,null,null,"Valor"]
[null,null,"A","Uniformes - aquisição",null,{"$f":"ROUND(HLOOKUP($B$5,Uniformes!L4:EA113,3)/12,2)","v":585.45000000000005}]
[null,null,"B","Materiais de consumo relacionados ao posto - aquisição",null,{"$f":"ROUND(HLOOKUP(B5,'Mat Cons'!I11:DX13,3)/12,2)","v":0}]
[null,null,"C","Materiais permanentes relacionados ao posto - remuneração da sua depreciação / manutenção",null,{"$f":"HLOOKUP(B5,'Mat Perm'!Q11:EF13,3)","v":0}]
[null,null,"D","Equipamentos relacionados ao posto - remuneração da sua depreciação / manutenção",null,{"$f":"HLOOKUP(B5,'Equip Rel'!Q3:EF5,3)","v":0}]
[null,null,"E","Equipamentos de Proteção Individual - EPI - aquisição",null,{"$f":"ROUND(HLOOKUP(B5,EPI!J4:DY6,3)/12,2)","v":0}]
[]
[null,null,null,"TOTAL DE INSUMOS DIVERSOS",null,{"$f":"SUM(F75:F80)","v":585.45000000000005},null,"* Nota - Valores mensais por empregado"]
[]
[null,"MÓDULO 6 - CUSTOS INDIRETOS, TRIBUTOS E LUCRO - BDI",null,null,"Percentuais","Valor"]
[null,null,"A","Custos Indiretos",{"$f":"BDI!E6","v":2.2699999999999998E-2}]
[null,null,"A.1","Administração Central",{"$f":"BDI!E7","v":1.7299999999999999E-2}]
[null,null,"A.2","Seguros, Garantias e Riscos",{"$f":"BDI!E8","v":5.4000000000000003E-3}]
[null,null,"B","Lucro",{"$f":"BDI!E10","v":2.6700000000000002E-2}]
[null,null,"C","Tributos",{"$f":"SUM(E89:E90)","v":0.124}]
[null,null,"C.1","Tributos Federais (COFINS, PIS e CPRB)",{"$f":"BDI!E18","v":7.3999999999999996E-2}]
[null,null,"C.2","Tributos Distritais (ISS)",{"$f":"BDI!E23","v":0.05}]
[null,null,"D","Despesas Financeiras",{"$f":"BDI!E13","v":4.4669210982628549E-3}]
[]
[null,null,null,"TOTAL DE BDI",{"$f":"BDI!E26","v":0.20399999999999999},{"$f":"E93*E101","v":1731.7702799999997}]
[]
[null,null,null,"QUADRO-RESUMO DO CUSTO MENSAL POR EMPREGADO - SEM O 13º","Valor"]
[null,null,null,"Módulo 1 - Composição da Remuneração",{"$f":"F16","v":4449.9400000000005}]
[null,null,null,"Módulo 2 - Encargos e Benefícios Anuais, Mensais e Diários",{"$f":"F45","v":2768.74}]
[null,null,null,"Módulo 3 - Provisão para Rescisão",{"$f":"F54","v":191.44}]
[null,null,null,"Módulo 4 - Custo de Reposição do Profissional Ausente",{"$f":"F72","v":493.5}]
[null,null,null,"Módulo 5 - Insumos Diversos",{"$f":"F81","v":585.45000000000005}]
[null,null,null,"SUBTOTAL (A+B+C+D+E)",{"$f":"SUM(E96:E100)","v":8489.07}]
[null,null,null,"Módulo 6 - Custos Indiretos, Tributos e Lucro",{"$f":"F93","v":1731.7702799999997}]
[]
[null,null,null,"TOTAL DO POSTO",{"$f":"SUM(E101:E102)","v":10220.84028}]
[]
[null,"MÓDULO 7 - DESTAQUE DO MÓDULO 2 - 13º SALÁRIO",null,null,"Percentuais","Valor"]
[null,null,"A","13º Salário",{"$f":"'Encargos Sociais'!E32*12/11","v":9.0872727272727272E-2},{"$f":"ROUND(E107*F$16,2)","v":404.38},null,"* Nota 1 - Incluindo-se a reincidência das férias do substituto sobre o titular"]
[null,null,"B","Encargos Sociais sobre o 13º Salário",{"$f":"SUM($E$24:$E$32)","v":0.36800000000000005},{"$f":"ROUND(E108*$F$107,2)","v":148.81},null,"* Nota 2 - Provisiona-se, mensalmente, o proporcional a 1/12 dos valores referentes a gratificação natalina e adicional de férias."]
[null,null,"C","BDI sobre o 13º Salário - Taxa calculada no MÓDULO 6",{"$f":"E93","v":0.20399999999999999},{"$f":"ROUND(E109*($F$107+$F$108),2)","v":112.85}]
[]
[null,null,null,"TOTAL DO DESTAQUE DO 13º SALÁRIO",null,{"$f":"SUM(F107:F109)","v":666.04000000000008}]
[]
[null,null,null,"QUADRO-RESUMO DO CUSTO MENSAL POR EMPREGADO","Valor"]
[null,null,null,"Custo total - sem o 13º Salário",{"$f":"E104","v":10220.84028}]
[null,null,null,"Destaque do 13º Salário (valor mensal)",{"$f":"F111","v":666.04000000000008}]
[]
[null,null,null,"TOTAL DO POSTO",{"$f":"E114+E115","v":10886.880280000001}]

{"sheet":"13","index":16,"n_rows":117,"n_cols":8,"rows_kept":117,"cut":false,"hidden":false,"merged":[[17,1,17,3],[1,1,1,5],[2,1,2,5],[4,1,4,2],[5,1,5,2],[7,1,7,3],[105,1,105,3],[39,3,39,5],[46,1,46,3],[55,1,55,3],[67,3,67,5],[73,1,73,3],[82,1,82,3]]}
[]
[null,"PLANILHA DE ESTIMATIVA DE CUSTOS"]
[]
[]
[null,13,null,{"$f":"HLOOKUP($B$5,'Dados Gerais'!$D$6:$BK$21,6)","v":"VIGILANTE NOTURNO \nPOSTOS EXTERNOS \nEscala 12 x 36 \n19h às 7h \n2ª feira a Dom"},"QUANTIDADE",{"$f":"HLOOKUP($B$5,'Dados Gerais'!$D$6:$BK$21,10)","v":64}]
[null,"CCT",null,{"$f":"HLOOKUP($B$5,'Dados Gerais'!$D$6:$BK$21,15)","v":"SINDESV/DF X SINDESP/DF 2024/2024 Nº DF000333/2024"},"DATA-BASE",{"$f":"HLOOKUP($B$5,'Dados Gerais'!$D$6:$BK$21,16)","v":"2024-01-01"}]
[]
[null,"MÓDULO 1 - COMPOSIÇÃO DA REMUNERAÇÃO",null,null,null,"Valor"]
[null,null,"A","Salário-Base",null,{"$f":"HLOOKUP($B$5,'Dados Gerais'!$D$6:$BK$21,8)","v":3423.03}]
[null,null,"B","Adicional de Periculosidade",null,{"$f":"HLOOKUP($B$5,'Dados Gerais'!$D$6:$BK$38,25)","v":1026.9100000000001}]
[null,null,"C","Adicional de Insalubridade",null,{"$f":"HLOOKUP($B$5,'Dados Gerais'!$D$6:$BK$38,31)","v":0}]
[null,null,"D","Adicional Noturno",null,{"$f":"HLOOKUP($B$5,'Dados Gerais'!$D$6:$BK$51,46)","v":485.45},null,"* Nota 1 - O Módulo 1 refere-se ao valor mensal devido ao empregado pela prestação do serviço no período de 12 meses."]
[null,null,"E","Adicional de Hora Extra",null,{"$f":"HLOOKUP($B$5,'Dados Gerais'!$D$6:$BK$68,63)","v":0},null,"* Nota 2 - O adicional de hora extra no feriado trabalhado foi suprimido pela Lei 13.467/17"]
[null,null,"F","Outros (especificar)",null,{"$f":"HLOOKUP($B$5,'Dados Gerais'!$D$6:$BK$60,33)","v":0},null,"* Nota 3 - ART. 7º, § 2º, DA LEI Nº 605/49.Sendo mensalista o obreiro, o adicional noturno pago de forma fixa já é considerado integrado para os efeitos do pagamento do repouso semanal remunerado, nos termos do art. 7º, § 2º, da Lei nº 605/49."]
[]
[null,null,null,"TOTAL DA REMUNERAÇÃO",null,{"$f":"SUM(F9:F14)","v":4935.3900000000003}]
[]
[null,"MÓDULO 2 - ENCARGOS E BENEFÍCIOS ANUAIS, MENSAIS E DIÁRIOS",null,null,"Percentuais","Valor"]
[null,"Submódulo 2.1 - 13º Salário e Adicional de Férias"]
[null,null,"A","13º Salário - Calculado no Módulo 7 - Destacado",0,{"$f":"ROUND(E20*F$16,2)","v":0},null,"* Nota 1 - Provisiona-se, mensalmente, o proporcional a 1/12 dos valores referentes a gratificação natalina, calculada à parte"]
[null,null,"B","Adicional de Férias",{"$f":"'Encargos Sociais'!E31","v":3.0300000000000001E-2},{"$f":"ROUND(E21*F$16,2)","v":149.54},null,"* Nota 2 - O adicional de férias foi calculado dividindo-se por 11, para comportar os 11 meses presentes e ainda o ausente do posto"]
[]
[null,"Submódulo 2.2 - Encargos Previdenciários (GPS), Fundo de Garantia por Tempo de Serviço (FGTS) e Outras Contribuições"]
[null,null,"A",{"$f":"'Encargos Sociais'!D14","v":"INSS (art. 22, inciso I, Lei nº 8.212/91)"},{"$f":"'Encargos Sociais'!E14","v":0.2},{"$f":"ROUND(E24*($F$16+$F$41+$F$72),2)","v":1126.45}]
[null,null,"B",{"$f":"'Encargos Sociais'!D15","v":"Salário Educação (art. 3º, inciso I, Decreto nº 87.043/82)"},{"$f":"'Encargos Sociais'!E15","v":2.5000000000000001E-2},140.81]
[null,null,"C",{"$f":"'Encargos Sociais'!D16","v":"SAT/RAT (art. 22, II, Lei 8.212/91 e Anexo V, Decreto 6.042/07) - Enquadramento 8011-1/01"},{"$f":"'Encargos Sociais'!E16","v":0.03},168.97]
[null,null,"D",{"$f":"'Encargos Sociais'!D17","v":"SESC ou SESI (art. 30, Lei nº 8.036/90 e art. 1º, Lei 8.154/90)"},{"$f":"'Encargos Sociais'!E17","v":1.4999999999999999E-2},84.48]
[null,null,"E",{"$f":"'Encargos Sociais'!D18","v":"SENAI ou SENAC (Decreto nº 2.318/86)"},{"$f":"'Encargos Sociais'!E18","v":0.01},56.32,null,"* Nota 1 - Os percentuais dos encargos previdenciários, do FGTS e demais contribuições são estabelecidos por legislação vigente."]
[null,null,"F",{"$f":"'Encargos Sociais'!D19","v":"SEBRAE (§ 3º, art. 8º, Lei 8.029/90, alterada pela Lei nº 8.154/90)"},{"$f":"'Encargos Sociais'!E19","v":6.0000000000000001E-3},33.79,null,"* Nota 2 - O SAT, a depender do grau de risco do serviço, irá variar entre 1%, para risco leve, de 2%, para risco médio, e de 3% para risco grave."]
[null,null,"G",{"$f":"'Encargos Sociais'!D20","v":"INCRA (art. 1º, I, Decreto Lei 1.146/70 e Lei 7.787, de 30/06/89)"},{"$f":"'Encargos Sociais'!E20","v":2E-3},11.26,null,"* Nota 3 - Base de cálculo - remuneração + ausências + terço constitucional (férias)"]
[null,null,"H",{"$f":"'Encargos Sociais'!D21","v":"FGTS (Lei Complementar nº 110/01 e art. 30, Lei nº 8.036/90)"},{"$f":"'Encargos Sociais'!E21","v":0.08},450.58]
[null,null,"I",{"$f":"'Encargos Sociais'!D22","v":"SECONCI (Convenções Coletivas de Trabalho da construção)"},{"$f":"'Encargos Sociais'!E22","v":0},0]
[]
[null,"Submódulo 2.3 - Benefícios Mensais e Diários"]
[null,null,"A","Auxílio Transporte",null,{"$f":"HLOOKUP($B$5,'Dados Gerais'!$D$6:$BK$94,82)","v":22.400000000000006}]
[null,null,"B","Auxílio Alimentação",null,{"$f":"HLOOKUP($B$5,'Dados Gerais'!$D$6:$BK$94,89)","v":710.55},null,"* Nota 1 - O valor informado deverá ser o custo real do benefício (descontado o valor eventualmente pago pelo empregado)."]
[null,null,"C","Assistência Médica e Familiar",null,{"$f":"HLOOKUP($B$5,'Dados Gerais'!$D$6:$BK$102,97)","v":0},null,"* Nota 2 - Observar a previsão dos benefícios contidos em Acordos, Convenções e Dissídios Coletivos de Trabalho e o disposto no art. 6º da IN 5/2017"]
[null,null,"D","Outros (Seguro de vida e auxílio funeral e auxílio odontológico)",null,{"$f":"HLOOKUP($B$5,'Dados Gerais'!$D$6:$BK$119,114)","v":32.159999999999997}]
[]
[null,null,null,"QUADRO-RESUMO DO MÓDULO 2"]
[null,null,null,"2.1 - Adicional de Férias",{"$f":"SUM(E20:E21)","v":3.0300000000000001E-2},{"$f":"F20+F21","v":149.54}]
[null,null,null,"2.2 - Encargos Previdenciários (GPS), Fundo de Garantia por Tempo de Serviço (FGTS) e Contribuições",{"$f":"SUM(E24:E32)","v":0.36800000000000005},{"$f":"SUM(F24:F32)","v":2072.66}]
[null,null,null,"2.3 - Benefícios Mensais e Diários",null,{"$f":"SUM(F35:F38)","v":765.1099999999999}]
[]
[null,null,null,"TOTAL DOS ENCARGOS E BENEFÍCIOS",null,{"$f":"SUM(F41:F43)","v":2987.3099999999995}]
[]
[null,"MÓDULO 3 - PREVISÃO PARA RESCISÃO",null,null,"Percentuais","Valor"]
[null,null,"A",{"$f":"'Encargos Sociais'!D36","v":"Aviso Prévio Indenizado (Art. 7º, inciso XXI, da CF/1988 e arts. 477, 487, §1º, e 491 da CLT)"},{"$f":"'Encargos Sociais'!E36","v":4.1999999999999997E-3},{"$f":"ROUND(E48*($F$16+$F$72+$F$41),2)","v":23.66}]
[null,null,"B",{"$f":"'Encargos Sociais'!D37","v":"13º sobre aviso prévio indenizado"},{"$f":"'Encargos Sociais'!E37","v":4.0000000000000002E-4},{"$f":"ROUND(E49*($F$16+$F$72+$F$41),2)","v":2.25},null,"* Nota 1 - Adotou-se os parâmetros do estudo do STF (http://www.stf.jus.br/arquivo/cms/sobrestfestudosci/anexo/encargos_sociais_03102007.pdf), onde 5% do pessoal é demitido pelo empregador no decurso do contrato (para estes, considerou-se o aviso prévio indenizado). Desprezou-se as demissões por justa causa e os pedidos de demissão."]
[null,null,"C",{"$f":"'Encargos Sociais'!D38","v":"Incidência do FGTS sobre o Aviso Prévio Indenizado (Súmula 305 TST)"},{"$f":"'Encargos Sociais'!E38","v":2.9999999999999997E-4},{"$f":"ROUND(E50*($F$16+$F$72+$F$41),2)","v":1.69},null,"* Nota 2 - Base de cálculo - remuneração + ausências + 1/3 férias"]
[null,null,"D",{"$f":"'Encargos Sociais'!D39","v":"Multa do FGTS sobre o Aviso Prévio (Art. 18, §1º, da Lei 8.036/1990)"},{"$f":"'Encargos Sociais'!E39","v":3.2000000000000001E-2},{"$f":"ROUND(E51*($F$16+$F$72+$F$41),2)","v":180.23}]
[null,null,"E",{"$f":"'Encargos Sociais'!D40","v":"Indenização Adicional - data-base (Art. 9º, Lei 7.238/1984)"},{"$f":"'Encargos Sociais'!E40","v":8.0000000000000004E-4},{"$f":"ROUND(E52*($F$16+$F$72+$F$41),2)","v":4.51}]
[]
[null,null,null,"TOTAL DE PREVISÃO PARA RESCISÃO",null,{"$f":"SUM(F48:F52)","v":212.33999999999997}]
[]
[null,"MÓDULO 4 - CUSTO DO PROFISSIONAL AUSENTE",null,null,"Percentuais","Valor"]
[null,"Submódulo 4.1 - Ausências Legais"]
[null,null,"A",{"$f":"'Encargos Sociais'!D25","v":"Férias (Arts. 129 e 130, inc. I, da CLT)"},{"$f":"'Encargos Sociais'!E25","v":9.0899999999999995E-2},{"$f":"ROUND(E58*$F$16,2)","v":448.63},null,"* Nota 1 - O Módulo 4 refere-se às previsões para custear ausências do próprio profissional (titular do cargo)"]
[null,null,"B",{"$f":"'Encargos Sociais'!D26","v":"Ausências Legais (Arts. 131 e 473 da CLT)"},{"$f":"'Encargos Sociais'!E26","v":7.9000000000000008E-3},38.99,null,"* Nota 2 - As férias foram calculadas dividindo-se por 11, para comportar os 11 meses presentes e ainda o ausente do posto"]
[null,null,"C",{"$f":"'Encargos Sociais'!D27","v":"Licença-Paternidade (Art. 7º, XIX, e art. 10, §1º, do ADCT, CF/1988 e Art. 1º, II, da Lei 11.770/2008)"},{"$f":"'Encargos Sociais'!E27","v":8.0000000000000004E-4},3.95]
[null,null,"D",{"$f":"'Encargos Sociais'!D28","v":"Ausência por Acidente de Trabalho (Art. 131, III, da CLT)"},{"$f":"'Encargos Sociais'!E28","v":8.9999999999999998E-4},4.4400000000000004]
[null,null,"E",{"$f":"'Encargos Sociais'!D29","v":"Afastamento Maternidade (Art. 71 da Lei nº 8.213/1991)"},{"$f":"'Encargos Sociais'!E29","v":3.3E-3},16.29]
[null,null,"F",{"$f":"'Encargos Sociais'!D30","v":"Auxílio Enfermidade - Doença (Art. 59 da Lei nº 8.213/1991)"},{"$f":"'Encargos Sociais'!E30","v":7.1000000000000004E-3},35.04]
[]
[null,"Submódulo 4.2 - Intrajornada"]
[null,null,"A","Intervalo para repouso ou alimentação",{"$f":"'Encargos Sociais'!E33","v":0},{"$f":"ROUND(E66*$F$16,2)","v":0}]
[]
[null,null,null,"QUADRO-RESUMO DO MÓDULO 4",null,"Valor"]
[null,null,null,"4.1 - Ausências Legais",{"$f":"SUM(E58:E63)","v":0.11089999999999998},{"$f":"ROUND(E69*$F$16,2)","v":547.33000000000004}]
[null,null,null,"4.2 - Intrajornada",{"$f":"E66","v":0},{"$f":"ROUND(E70*$F$16,2)","v":0}]
[]
[null,null,null,"TOTAL DE PREVISÃO PARA CUSTO DO PROFISSIONAL AUSENTE E INTERVALO INTRAJORNADA",null,{"$f":"SUM(F69:F70)","v":547.33000000000004}]
[]
[null,"MÓDULO 5 - INSUMOS DIVERSOS",null,null,null,"Valor"]
[null,null,"A","Uniformes - aquisição",null,{"$f":"ROUND(HLOOKUP($B$5,Uniformes!L4:EA113,3)/12,2)","v":585.45000000000005}]
[null,null,"B","Materiais de consumo relacionados ao posto - aquisição",null,{"$f":"ROUND(HLOOKUP(B5,'Mat Cons'!I11:DX13,3)/12,2)","v":0}]
[null,null,"C","Materiais permanentes relacionados ao posto - remuneração da sua depreciação / manutenção",null,{"$f":"HLOOKUP(B5,'Mat Perm'!Q11:EF13,3)","v":0}]
[null,null,"D","Equipamentos relacionados ao posto - remuneração da sua depreciação / manutenção",null,{"$f":"HLOOKUP(B5,'Equip Rel'!Q3:EF5,3)","v":0}]
[null,null,"E","Equipamentos de Proteção Individual - EPI - aquisição",null,{"$f":"ROUND(HLOOKUP(B5,EPI!J4:DY6,3)/12,2)","v":0}]
[]
[null,null,null,"TOTAL DE INSUMOS DIVERSOS",null,{"$f":"SUM(F75:F80)","v":585.45000000000005},null,"* Nota - Valores mensais por empregado"]
[]
[null,"MÓDULO 6 - CUSTOS INDIRETOS, TRIBUTOS E LUCRO - BDI",null,null,"Percentuais","Valor"]
[null,null,"A","Custos Indiretos",{"$f":"BDI!E6","v":2.2699999999999998E-2}]
[null,null,"A.1","Administração Central",{"$f":"BDI!E7","v":1.7299999999999999E-2}]
[null,null,"A.2","Seguros, Garantias e Riscos",{"$f":"BDI!E8","v":5.4000000000000003E-3}]
[null,null,"B","Lucro",{"$f":"BDI!E10","v":2.6700000000000002E-2}]
[null,null,"C","Tributos",{"$f":"SUM(E89:E90)","v":0.124}]
[null,null,"C.1","Tributos Federais (COFINS, PIS e CPRB)",{"$f":"BDI!E18","v":7.3999999999999996E-2}]
[null,null,"C.2","Tributos Distritais (ISS)",{"$f":"BDI!E23","v":0.05}]
[null,null,"D","Despesas Financeiras",{"$f":"BDI!E13","v":4.4669210982628549E-3}]
[]
[null,null,null,"TOTAL DE BDI",{"$f":"BDI!E26","v":0.20399999999999999},{"$f":"E93*E101","v":1890.6352800000002}]
[]
[null,null,null,"QUADRO-RESUMO DO CUSTO MENSAL POR EMPREGADO - SEM O 13º","Valor"]
[null,null,null,"Módulo 1 - Composição da Remuneração",{"$f":"F16","v":4935.3900000000003}]
[null,null,null,"Módulo 2 - Encargos e Benefícios Anuais, Mensais e Diários",{"$f":"F45","v":2987.3099999999995}]
[null,null,null,"Módulo 3 - Provisão para Rescisão",{"$f":"F54","v":212.33999999999997}]
[null,null,null,"Módulo 4 - Custo de Reposição do Profissional Ausente",{"$f":"F72","v":547.33000000000004}]
[null,null,null,"Módulo 5 - Insumos Diversos",{"$f":"F81","v":585.45000000000005}]
[null,null,null,"SUBTOTAL (A+B+C+D+E)",{"$f":"SUM(E96:E100)","v":9267.8200000000015}]
[null,null,null,"Módulo 6 - Custos Indiretos, Tributos e Lucro",{"$f":"F93","v":1890.6352800000002}]
[]
[null,null,null,"TOTAL DO POSTO",{"$f":"SUM(E101:E102)","v":11158.455280000002}]
[]
[null,"MÓDULO 7 - DESTAQUE DO MÓDULO 2 - 13º SALÁRIO",null,null,"Percentuais","Valor"]
[null,null,"A","13º Salário",{"$f":"'Encargos Sociais'!E32*12/11","v":9.0872727272727272E-2},{"$f":"ROUND(E107*F$16,2)","v":448.49},null,"* Nota 1 - Incluindo-se a reincidência das férias do substituto sobre o titular"]
[null,null,"B","Encargos Sociais sobre o 13º Salário",{"$f":"SUM($E$24:$E$32)","v":0.36800000000000005},{"$f":"ROUND(E108*$F$107,2)","v":165.04},null,"* Nota 2 - Provisiona-se, mensalmente, o proporcional a 1/12 dos valores referentes a gratificação natalina e adicional de férias."]
[null,null,"C","BDI sobre o 13º Salário - Taxa calculada no MÓDULO 6",{"$f":"E93","v":0.20399999999999999},{"$f":"ROUND(E109*($F$107+$F$108),2)","v":125.16}]
[]
[null,null,null,"TOTAL DO DESTAQUE DO 13º SALÁRIO",null,{"$f":"SUM(F107:F109)","v":738.68999999999994}]
[]
[null,null,null,"QUADRO-RESUMO DO CUSTO MENSAL POR EMPREGADO","Valor"]
[null,null,null,"Custo total - sem o 13º Salário",{"$f":"E104","v":11158.455280000002}]
[null,null,null,"Destaque do 13º Salário (valor mensal)",{"$f":"F111","v":738.68999999999994}]
[]
[null,null,null,"TOTAL DO POSTO",{"$f":"E114+E115","v":11897.145280000002}]

{"sheet":"14","index":17,"n_rows":117,"n_cols":8,"rows_kept":117,"cut":false,"hidden":true,"merged":[[17,1,17,3],[1,1,1,5],[2,1,2,5],[4,1,4,2],[5,1,5,2],[7,1,7,3],[105,1,105,3],[39,3,39,5],[46,1,46,3],[55,1,55,3],[67,3,67,5],[73,1,73,3],[82,1,82,3]]}
[]
[null,"PLANILHA DE ESTIMATIVA DE CUSTOS"]
[]
[]
[null,14,null,{"$f":"HLOOKUP($B$5,'Dados Gerais'!$D$6:$BK$21,6)","v":0},"QUANTIDADE",{"$f":"HLOOKUP($B$5,'Dados Gerais'!$D$6:$BK$21,10)","v":0}]
[null,"CCT",null,{"$f":"HLOOKUP($B$5,'Dados Gerais'!$D$6:$BK$21,15)","v":0},"DATA-BASE",{"$f":"HLOOKUP($B$5,'Dados Gerais'!$D$6:$BK$21,16)","v":"00:00:00"}]
[]
[null,"MÓDULO 1 - COMPOSIÇÃO DA REMUNERAÇÃO",null,null,null,"Valor"]
[null,null,"A","Salário-Base",null,{"$f":"HLOOKUP($B$5,'Dados Gerais'!$D$6:$BK$21,8)","v":0}]
[null,null,"B","Adicional de Periculosidade",null,{"$f":"HLOOKUP($B$5,'Dados Gerais'!$D$6:$BK$38,25)","v":0}]
[null,null,"C","Adicional de Insalubridade",null,{"$f":"HLOOKUP($B$5,'Dados Gerais'!$D$6:$BK$38,31)","v":0}]
[null,null,"D","Adicional Noturno",null,{"$f":"HLOOKUP($B$5,'Dados Gerais'!$D$6:$BK$51,46)","v":0},null,"* Nota 1 - O Módulo 1 refere-se ao valor mensal devido ao empregado pela prestação do serviço no período de 12 meses."]
[null,null,"E","Adicional de Hora Extra",null,{"$f":"HLOOKUP($B$5,'Dados Gerais'!$D$6:$BK$68,63)","v":0},null,"* Nota 2 - O adicional de hora extra no feriado trabalhado foi suprimido pela Lei 13.467/17"]
[null,null,"F","Outros (especificar)",null,{"$f":"HLOOKUP($B$5,'Dados Gerais'!$D$6:$BK$60,33)","v":0},null,"* Nota 3 - ART. 7º, § 2º, DA LEI Nº 605/49.Sendo mensalista o obreiro, o adicional noturno pago de forma fixa já é considerado integrado para os efeitos do pagamento do repouso semanal remunerado, nos termos do art. 7º, § 2º, da Lei nº 605/49."]
[]
[null,null,null,"TOTAL DA REMUNERAÇÃO",null,{"$f":"SUM(F9:F14)","v":0}]
[]
[null,"MÓDULO 2 - ENCARGOS E BENEFÍCIOS ANUAIS, MENSAIS E DIÁRIOS",null,null,"Percentuais","Valor"]
[null,"Submódulo 2.1 - 13º Salário e Adicional de Férias"]
[null,null,"A","13º Salário - Calculado no Módulo 7 - Destacado",0,{"$f":"ROUND(E20*F$16,2)","v":0},null,"* Nota 1 - Provisiona-se, mensalmente, o proporcional a 1/12 dos valores referentes a gratificação natalina, calculada à parte"]
[null,null,"B","Adicional de Férias",{"$f":"'Encargos Sociais'!E31","v":3.0300000000000001E-2},{"$f":"ROUND(E21*F$16,2)","v":0},null,"* Nota 2 - O adicional de férias foi calculado dividindo-se por 11, para comportar os 11 meses presentes e ainda o ausente do posto"]
[]
[null,"Submódulo 2.2 - Encargos Previdenciários (GPS), Fundo de Garantia por Tempo de Serviço (FGTS) e Outras Contribuições"]
[null,null,"A",{"$f":"'Encargos Sociais'!D14","v":"INSS (art. 22, inciso I, Lei nº 8.212/91)"},{"$f":"'Encargos Sociais'!E14","v":0.2},{"$f":"ROUND(E24*($F$16+$F$41+$F$72),2)","v":0}]
[null,null,"B",{"$f":"'Encargos Sociais'!D15","v":"Salário Educação (art. 3º, inciso I, Decreto nº 87.043/82)"},{"$f":"'Encargos Sociais'!E15","v":2.5000000000000001E-2},0]
[null,null,"C",{"$f":"'Encargos Sociais'!D16","v":"SAT/RAT (art. 22, II, Lei 8.212/91 e Anexo V, Decreto 6.042/07) - Enquadramento 8011-1/01"},{"$f":"'Encargos Sociais'!E16","v":0.03},0]
[null,null,"D",{"$f":"'Encargos Sociais'!D17","v":"SESC ou SESI (art. 30, Lei nº 8.036/90 e art. 1º, Lei 8.154/90)"},{"$f":"'Encargos Sociais'!E17","v":1.4999999999999999E-2},0]
[null,null,"E",{"$f":"'Encargos Sociais'!D18","v":"SENAI ou SENAC (Decreto nº 2.318/86)"},{"$f":"'Encargos Sociais'!E18","v":0.01},0,null,"* Nota 1 - Os percentuais dos encargos previdenciários, do FGTS e demais contribuições são estabelecidos por legislação vigente."]
[null,null,"F",{"$f":"'Encargos Sociais'!D19","v":"SEBRAE (§ 3º, art. 8º, Lei 8.029/90, alterada pela Lei nº 8.154/90)"},{"$f":"'Encargos Sociais'!E19","v":6.0000000000000001E-3},0,null,"* Nota 2 - O SAT, a depender do grau de risco do serviço, irá variar entre 1%, para risco leve, de 2%, para risco médio, e de 3% para risco grave."]
[null,null,"G",{"$f":"'Encargos Sociais'!D20","v":"INCRA (art. 1º, I, Decreto Lei 1.146/70 e Lei 7.787, de 30/06/89)"},{"$f":"'Encargos Sociais'!E20","v":2E-3},0,null,"* Nota 3 - Base de cálculo - remuneração + ausências + terço constitucional (férias)"]
[null,null,"H",{"$f":"'Encargos Sociais'!D21","v":"FGTS (Lei Complementar nº 110/01 e art. 30, Lei nº 8.036/90)"},{"$f":"'Encargos Sociais'!E21","v":0.08},0]
[null,null,"I",{"$f":"'Encargos Sociais'!D22","v":"SECONCI (Convenções Coletivas de Trabalho da construção)"},{"$f":"'Encargos Sociais'!E22","v":0},0]
[]
[null,"Submódulo 2.3 - Benefícios Mensais e Diários"]
[null,null,"A","Auxílio Transporte",null,{"$f":"HLOOKUP($B$5,'Dados Gerais'!$D$6:$BK$94,82)","v":0}]
[null,null,"B","Auxílio Alimentação",null,{"$f":"HLOOKUP($B$5,'Dados Gerais'!$D$6:$BK$94,89)","v":0},null,"* Nota 1 - O valor informado deverá ser o custo real do benefício (descontado o valor eventualmente pago pelo empregado)."]
[null,null,"C","Assistência Médica e Familiar",null,{"$f":"HLOOKUP($B$5,'Dados Gerais'!$D$6:$BK$102,97)","v":0},null,"* Nota 2 - Observar a previsão dos benefícios contidos em Acordos, Convenções e Dissídios Coletivos de Trabalho e o disposto no art. 6º da IN 5/2017"]
[null,null,"D","Outros (Seguro de vida e auxílio funeral e auxílio odontológico)",null,{"$f":"HLOOKUP($B$5,'Dados Gerais'!$D$6:$BK$119,114)","v":0}]
[]
[null,null,null,"QUADRO-RESUMO DO MÓDULO 2"]
[null,null,null,"2.1 - Adicional de Férias",{"$f":"SUM(E20:E21)","v":3.0300000000000001E-2},{"$f":"F20+F21","v":0}]
[null,null,null,"2.2 - Encargos Previdenciários (GPS), Fundo de Garantia por Tempo de Serviço (FGTS) e Contribuições",{"$f":"SUM(E24:E32)","v":0.36800000000000005},{"$f":"SUM(F24:F32)","v":0}]
[null,null,null,"2.3 - Benefícios Mensais e Diários",null,{"$f":"SUM(F35:F38)","v":0}]
[]
[null,null,null,"TOTAL DOS ENCARGOS E BENEFÍCIOS",null,{"$f":"SUM(F41:F43)","v":0}]
[]
[null,"MÓDULO 3 - PREVISÃO PARA RESCISÃO",null,null,"Percentuais","Valor"]
[null,null,"A",{"$f":"'Encargos Sociais'!D36","v":"Aviso Prévio Indenizado (Art. 7º, inciso XXI, da CF/1988 e arts. 477, 487, §1º, e 491 da CLT)"},{"$f":"'Encargos Sociais'!E36","v":4.1999999999999997E-3},{"$f":"ROUND(E48*($F$16+$F$72+$F$41),2)","v":0}]
[null,null,"B",{"$f":"'Encargos Sociais'!D37","v":"13º sobre aviso prévio indenizado"},{"$f":"'Encargos Sociais'!E37","v":4.0000000000000002E-4},{"$f":"ROUND(E49*($F$16+$F$72+$F$41),2)","v":0},null,"* Nota 1 - Adotou-se os parâmetros do estudo do STF (http://www.stf.jus.br/arquivo/cms/sobrestfestudosci/anexo/encargos_sociais_03102007.pdf), onde 5% do pessoal é demitido pelo empregador no decurso do contrato (para estes, considerou-se o aviso prévio indenizado). Desprezou-se as demissões por justa causa e os pedidos de demissão."]
[null,null,"C",{"$f":"'Encargos Sociais'!D38","v":"Incidência do FGTS sobre o Aviso Prévio Indenizado (Súmula 305 TST)"},{"$f":"'Encargos Sociais'!E38","v":2.9999999999999997E-4},{"$f":"ROUND(E50*($F$16+$F$72+$F$41),2)","v":0},null,"* Nota 2 - Base de cálculo - remuneração + ausências + 1/3 férias"]
[null,null,"D",{"$f":"'Encargos Sociais'!D39","v":"Multa do FGTS sobre o Aviso Prévio (Art. 18, §1º, da Lei 8.036/1990)"},{"$f":"'Encargos Sociais'!E39","v":3.2000000000000001E-2},{"$f":"ROUND(E51*($F$16+$F$72+$F$41),2)","v":0}]
[null,null,"E",{"$f":"'Encargos Sociais'!D40","v":"Indenização Adicional - data-base (Art. 9º, Lei 7.238/1984)"},{"$f":"'Encargos Sociais'!E40","v":8.0000000000000004E-4},{"$f":"ROUND(E52*($F$16+$F$72+$F$41),2)","v":0}]
[]
[null,null,null,"TOTAL DE PREVISÃO PARA RESCISÃO",null,{"$f":"SUM(F48:F52)","v":0}]
[]
[null,"MÓDULO 4 - CUSTO DO PROFISSIONAL AUSENTE",null,null,"Percentuais","Valor"]
[null,"Submódulo 4.1 - Ausências Legais"]
[null,null,"A",{"$f":"'Encargos Sociais'!D25","v":"Férias (Arts. 129 e 130, inc. I, da CLT)"},{"$f":"'Encargos Sociais'!E25","v":9.0899999999999995E-2},{"$f":"ROUND(E58*$F$16,2)","v":0},null,"* Nota 1 - O Módulo 4 refere-se às previsões para custear ausências do próprio profissional (titular do cargo)"]
[null,null,"B",{"$f":"'Encargos Sociais'!D26","v":"Ausências Legais (Arts. 131 e 473 da CLT)"},{"$f":"'Encargos Sociais'!E26","v":7.9000000000000008E-3},0,null,"* Nota 2 - As férias foram calculadas dividindo-se por 11, para comportar os 11 meses presentes e ainda o ausente do posto"]
[null,null,"C",{"$f":"'Encargos Sociais'!D27","v":"Licença-Paternidade (Art. 7º, XIX, e art. 10, §1º, do ADCT, CF/1988 e Art. 1º, II, da Lei 11.770/2008)"},{"$f":"'Encargos Sociais'!E27","v":8.0000000000000004E-4},0]
[null,null,"D",{"$f":"'Encargos Sociais'!D28","v":"Ausência por Acidente de Trabalho (Art. 131, III, da CLT)"},{"$f":"'Encargos Sociais'!E28","v":8.9999999999999998E-4},0]
[null,null,"E",{"$f":"'Encargos Sociais'!D29","v":"Afastamento Maternidade (Art. 71 da Lei nº 8.213/1991)"},{"$f":"'Encargos Sociais'!E29","v":3.3E-3},0]
[null,null,"F",{"$f":"'Encargos Sociais'!D30","v":"Auxílio Enfermidade - Doença (Art. 59 da Lei nº 8.213/1991)"},{"$f":"'Encargos Sociais'!E30","v":7.1000000000000004E-3},0]
[]
[null,"Submódulo 4.2 - Intrajornada"]
[null,null,"A","Intervalo para repouso ou alimentação",{"$f":"'Encargos Sociais'!E33","v":0},{"$f":"ROUND(E66*$F$16,2)","v":0}]
[]
[null,null,null,"QUADRO-RESUMO DO MÓDULO 4",null,"Valor"]
[null,null,null,"4.1 - Ausências Legais",{"$f":"SUM(E58:E63)","v":0.11089999999999998},{"$f":"ROUND(E69*$F$16,2)","v":0}]
[null,null,null,"4.2 - Intrajornada",{"$f":"E66","v":0},{"$f":"ROUND(E70*$F$16,2)","v":0}]
[]
[null,null,null,"TOTAL DE PREVISÃO PARA RESCISÃO E INTERVALO INTRAJORNADA",null,{"$f":"SUM(F69:F70)","v":0}]
[]
[null,"MÓDULO 5 - INSUMOS DIVERSOS",null,null,null,"Valor"]
[null,null,"A","Uniformes - aquisição",null,{"$f":"ROUND(HLOOKUP($B$5,Uniformes!L4:EA90,3)/12,2)","v":0}]
[null,null,"B","Materiais de consumo relacionados ao posto - aquisição",null,{"$f":"ROUND(HLOOKUP(B5,'Mat Cons'!I11:DX13,3)/12,2)","v":0}]
[null,null,"C","Materiais permanentes relacionados ao posto - remuneração da sua depreciação / manutenção",null,{"$f":"HLOOKUP(B5,'Mat Perm'!Q11:EF13,3)","v":0}]
[null,null,"D","Equipamentos relacionados ao posto - remuneração da sua depreciação / manutenção",null,{"$f":"HLOOKUP(B5,'Equip Rel'!Q3:EF5,3)","v":0}]
[null,null,"E","Equipamentos de Proteção Individual - EPI - aquisição",null,{"$f":"ROUND(HLOOKUP(B5,EPI!J4:DY6,3)/12,2)","v":0}]
[]
[null,null,null,"TOTAL DE INSUMOS DIVERSOS",null,{"$f":"SUM(F75:F80)","v":0},null,"* Nota - Valores mensais por empregado"]
[]
[null,"MÓDULO 6 - CUSTOS INDIRETOS, TRIBUTOS E LUCRO - BDI",null,null,"Percentuais","Valor"]
[null,null,"A","Custos Indiretos",{"$f":"BDI!E6","v":2.2699999999999998E-2}]
[null,null,"A.1","Administração Central",{"$f":"BDI!E7","v":1.7299999999999999E-2}]
[null,null,"A.2","Seguros, Garantias e Riscos",{"$f":"BDI!E8","v":5.4000000000000003E-3}]
[null,null,"B","Lucro",{"$f":"BDI!E10","v":2.6700000000000002E-2}]
[null,null,"C","Tributos",{"$f":"SUM(E89:E90)","v":0.124}]
[null,null,"C.1","Tributos Federais (COFINS, PIS e CPRB)",{"$f":"BDI!E18","v":7.3999999999999996E-2}]
[null,null,"C.2","Tributos Distritais (ISS)",{"$f":"BDI!E23","v":0.05}]
[null,null,"D","Despesas Financeiras",{"$f":"BDI!E13","v":4.4669210982628549E-3}]
[]
[null,null,null,"TOTAL DE BDI",{"$f":"BDI!E26","v":0.20399999999999999},{"$f":"E93*E101","v":0}]
[]
[null,null,null,"QUADRO-RESUMO DO CUSTO MENSAL POR EMPREGADO - SEM O 13º","Valor"]
[null,null,null,"Módulo 1 - Composição da Remuneração",{"$f":"F16","v":0}]
[null,null,null,"Módulo 2 - Encargos e Benefícios Anuais, Mensais e Diários",{"$f":"F45","v":0}]
[null,null,null,"Módulo 3 - Provisão para Rescisão",{"$f":"F54","v":0}]
[null,null,null,"Módulo 4 - Custo de Reposição do Profissional Ausente",{"$f":"F72","v":0}]
[null,null,null,"Módulo 5 - Insumos Diversos",{"$f":"F81","v":0}]
[null,null,null,"SUBTOTAL (A+B+C+D+E)",{"$f":"SUM(E96:E100)","v":0}]
[null,null,null,"Módulo 6 - Custos Indiretos, Tributos e Lucro",{"$f":"F93","v":0}]
[]
[null,null,null,"TOTAL DO POSTO",{"$f":"SUM(E101:E102)","v":0}]
[]
[null,"MÓDULO 7 - DESTAQUE DO MÓDULO 2 - 13º SALÁRIO",null,null,"Percentuais","Valor"]
[null,null,"A","13º Salário",{"$f":"'Encargos Sociais'!E32*12/11","v":9.0872727272727272E-2},{"$f":"ROUND(E107*F$16,2)","v":0},null,"* Nota 1 - Incluindo-se a reincidência das férias do substituto sobre o titular"]
[null,null,"B","Encargos Sociais sobre o 13º Salário",{"$f":"SUM($E$24:$E$32)","v":0.36800000000000005},{"$f":"ROUND(E108*$F$107,2)","v":0},null,"* Nota 2 - Provisiona-se, mensalmente, o proporcional a 1/12 dos valores referentes a gratificação natalina e adicional de férias."]
[null,null,"C","BDI sobre o 13º Salário - Taxa calculada no MÓDULO 6",{"$f":"E93","v":0.20399999999999999},{"$f":"ROUND(E109*($F$107+$F$108),2)","v":0}]
[]
[null,null,null,"TOTAL DO DESTAQUE DO 13º SALÁRIO",null,{"$f":"SUM(F107:F109)","v":0}]
[]
[null,null,null,"QUADRO-RESUMO DO CUSTO MENSAL POR EMPREGADO","Valor"]
[null,null,null,"Custo total - sem o 13º Salário",{"$f":"E104","v":0}]
[null,null,null,"Destaque do 13º Salário (valor mensal)",{"$f":"F111","v":0}]
[]
[null,null,null,"TOTAL DO POSTO",{"$f":"E114+E115","v":0}]

{"sheet":"15","index":18,"n_rows":124,"n_cols":12,"rows_kept":124,"cut":false,"hidden":true,"merged":[[17,1,17,3],[1,1,1,5],[2,1,2,5],[4,1,4,2],[5,1,5,2],[7,1,7,3],[105,1,105,3],[39,3,39,5],[46,1,46,3],[55,1,55,3],[67,3,67,5],[73,1,73,3],[82,1,82,3]]}
[]
[null,"PLANILHA DE ESTIMATIVA DE CUSTOS"]
[]
[]
[null,15,null,{"$f":"HLOOKUP($B$5,'Dados Gerais'!$D$6:$BK$21,6)","v":0},"QUANTIDADE",{"$f":"HLOOKUP($B$5,'Dados Gerais'!$D$6:$BK$21,10)","v":0}]
[null,"CCT",null,{"$f":"HLOOKUP($B$5,'Dados Gerais'!$D$6:$BK$21,15)","v":0},"DATA-BASE",{"$f":"HLOOKUP($B$5,'Dados Gerais'!$D$6:$BK$21,16)","v":"00:00:00"}]
[]
[null,"MÓDULO 1 - COMPOSIÇÃO DA REMUNERAÇÃO",null,null,null,"Valor"]
[null,null,"A","Salário-Base",null,{"$f":"HLOOKUP($B$5,'Dados Gerais'!$D$6:$BK$21,8)","v":0}]
[null,null,"B","Adicional de Periculosidade",null,{"$f":"HLOOKUP($B$5,'Dados Gerais'!$D$6:$BK$38,25)","v":0}]
[null,null,"C","Adicional de Insalubridade",null,{"$f":"HLOOKUP($B$5,'Dados Gerais'!$D$6:$BK$38,31)","v":0}]
[null,null,"D","Adicional Noturno",null,{"$f":"HLOOKUP($B$5,'Dados Gerais'!$D$6:$BK$51,46)","v":0},null,"* Nota 1 - O Módulo 1 refere-se ao valor mensal devido ao empregado pela prestação do serviço no período de 12 meses."]
[null,null,"E","Adicional de Hora Extra",null,{"$f":"HLOOKUP($B$5,'Dados Gerais'!$D$6:$BK$68,63)","v":0},null,"* Nota 2 - O adicional de hora extra no feriado trabalhado foi suprimido pela Lei 13.467/17"]
[null,null,"F","Outros (especificar)",null,{"$f":"HLOOKUP($B$5,'Dados Gerais'!$D$6:$BK$60,33)","v":0},null,"* Nota 3 - ART. 7º, § 2º, DA LEI Nº 605/49.Sendo mensalista o obreiro, o adicional noturno pago de forma fixa já é considerado integrado para os efeitos do pagamento do repouso semanal remunerado, nos termos do art. 7º, § 2º, da Lei nº 605/49."]
[]
[null,null,null,"TOTAL DA REMUNERAÇÃO",null,{"$f":"SUM(F9:F14)","v":0}]
[]
[null,"MÓDULO 2 - ENCARGOS E BENEFÍCIOS ANUAIS, MENSAIS E DIÁRIOS",null,null,"Percentuais","Valor"]
[null,"Submódulo 2.1 - 13º Salário e Adicional de Férias"]
[null,null,"A","13º Salário - Calculado no Módulo 7 - Destacado",0,{"$f":"ROUND(E20*F$16,2)","v":0},null,"* Nota 1 - Provisiona-se, mensalmente, o proporcional a 1/12 dos valores referentes a gratificação natalina, calculada à parte"]
[null,null,"B","Adicional de Férias",{"$f":"'Encargos Sociais'!E31","v":3.0300000000000001E-2},{"$f":"ROUND(E21*F$16,2)","v":0},null,"* Nota 2 - O adicional de férias foi calculado dividindo-se por 11, para comportar os 11 meses presentes e ainda o ausente do posto"]
[]
[null,"Submódulo 2.2 - Encargos Previdenciários (GPS), Fundo de Garantia por Tempo de Serviço (FGTS) e Outras Contribuições"]
[null,null,"A",{"$f":"'Encargos Sociais'!D14","v":"INSS (art. 22, inciso I, Lei nº 8.212/91)"},{"$f":"'Encargos Sociais'!E14","v":0.2},{"$f":"ROUND(E24*($F$16+$F$41+$F$72),2)","v":0}]
[null,null,"B",{"$f":"'Encargos Sociais'!D15","v":"Salário Educação (art. 3º, inciso I, Decreto nº 87.043/82)"},{"$f":"'Encargos Sociais'!E15","v":2.5000000000000001E-2},0]
[null,null,"C",{"$f":"'Encargos Sociais'!D16","v":"SAT/RAT (art. 22, II, Lei 8.212/91 e Anexo V, Decreto 6.042/07) - Enquadramento 8011-1/01"},{"$f":"'Encargos Sociais'!E16","v":0.03},0]
[null,null,"D",{"$f":"'Encargos Sociais'!D17","v":"SESC ou SESI (art. 30, Lei nº 8.036/90 e art. 1º, Lei 8.154/90)"},{"$f":"'Encargos Sociais'!E17","v":1.4999999999999999E-2},0]
[null,null,"E",{"$f":"'Encargos Sociais'!D18","v":"SENAI ou SENAC (Decreto nº 2.318/86)"},{"$f":"'Encargos Sociais'!E18","v":0.01},0,null,"* Nota 1 - Os percentuais dos encargos previdenciários, do FGTS e demais contribuições são estabelecidos por legislação vigente."]
[null,null,"F",{"$f":"'Encargos Sociais'!D19","v":"SEBRAE (§ 3º, art. 8º, Lei 8.029/90, alterada pela Lei nº 8.154/90)"},{"$f":"'Encargos Sociais'!E19","v":6.0000000000000001E-3},0,null,"* Nota 2 - O SAT, a depender do grau de risco do serviço, irá variar entre 1%, para risco leve, de 2%, para risco médio, e de 3% para risco grave."]
[null,null,"G",{"$f":"'Encargos Sociais'!D20","v":"INCRA (art. 1º, I, Decreto Lei 1.146/70 e Lei 7.787, de 30/06/89)"},{"$f":"'Encargos Sociais'!E20","v":2E-3},0,null,"* Nota 3 - Base de cálculo - remuneração + ausências + terço constitucional (férias)"]
[null,null,"H",{"$f":"'Encargos Sociais'!D21","v":"FGTS (Lei Complementar nº 110/01 e art. 30, Lei nº 8.036/90)"},{"$f":"'Encargos Sociais'!E21","v":0.08},0]
[null,null,"I",{"$f":"'Encargos Sociais'!D22","v":"SECONCI (Convenções Coletivas de Trabalho da construção)"},{"$f":"'Encargos Sociais'!E22","v":0},0]
[]
[null,"Submódulo 2.3 - Benefícios Mensais e Diários"]
[null,null,"A","Auxílio Transporte",null,{"$f":"HLOOKUP($B$5,'Dados Gerais'!$D$6:$BK$94,82)","v":0}]
[null,null,"B","Auxílio Alimentação",null,{"$f":"HLOOKUP($B$5,'Dados Gerais'!$D$6:$BK$94,89)","v":0},null,"* Nota 1 - O valor informado deverá ser o custo real do benefício (descontado o valor eventualmente pago pelo empregado)."]
[null,null,"C","Assistência Médica e Familiar",null,{"$f":"HLOOKUP($B$5,'Dados Gerais'!$D$6:$BK$102,97)","v":0},null,"* Nota 2 - Observar a previsão dos benefícios contidos em Acordos, Convenções e Dissídios Coletivos de Trabalho e o disposto no art. 6º da IN 5/2017"]
[null,null,"D","Outros (Seguro de vida e auxílio funeral e auxílio odontológico)",null,{"$f":"HLOOKUP($B$5,'Dados Gerais'!$D$6:$BK$119,114)","v":0}]
[]
[null,null,null,"QUADRO-RESUMO DO MÓDULO 2"]
[null,null,null,"2.1 - Adicional de Férias",{"$f":"SUM(E20:E21)","v":3.0300000000000001E-2},{"$f":"F20+F21","v":0}]
[null,null,null,"2.2 - Encargos Previdenciários (GPS), Fundo de Garantia por Tempo de Serviço (FGTS) e Contribuições",{"$f":"SUM(E24:E32)","v":0.36800000000000005},{"$f":"SUM(F24:F32)","v":0}]
[null,null,null,"2.3 - Benefícios Mensais e Diários",null,{"$f":"SUM(F35:F38)","v":0}]
[]
[null,null,null,"TOTAL DOS ENCARGOS E BENEFÍCIOS",null,{"$f":"SUM(F41:F43)","v":0}]
[]
[null,"MÓDULO 3 - PREVISÃO PARA RESCISÃO",null,null,"Percentuais","Valor"]
[null,null,"A",{"$f":"'Encargos Sociais'!D36","v":"Aviso Prévio Indenizado (Art. 7º, inciso XXI, da CF/1988 e arts. 477, 487, §1º, e 491 da CLT)"},{"$f":"'Encargos Sociais'!E36","v":4.1999999999999997E-3},{"$f":"ROUND(E48*($F$16+$F$72+$F$41),2)","v":0}]
[null,null,"B",{"$f":"'Encargos Sociais'!D37","v":"13º sobre aviso prévio indenizado"},{"$f":"'Encargos Sociais'!E37","v":4.0000000000000002E-4},{"$f":"ROUND(E49*($F$16+$F$72+$F$41),2)","v":0},null,"* Nota 1 - Adotou-se os parâmetros do estudo do STF (http://www.stf.jus.br/arquivo/cms/sobrestfestudosci/anexo/encargos_sociais_03102007.pdf), onde 5% do pessoal é demitido pelo empregador no decurso do contrato (para estes, considerou-se o aviso prévio indenizado). Desprezou-se as demissões por justa causa e os pedidos de demissão."]
[null,null,"C",{"$f":"'Encargos Sociais'!D38","v":"Incidência do FGTS sobre o Aviso Prévio Indenizado (Súmula 305 TST)"},{"$f":"'Encargos Sociais'!E38","v":2.9999999999999997E-4},{"$f":"ROUND(E50*($F$16+$F$72+$F$41),2)","v":0},null,"* Nota 2 - Base de cálculo - remuneração + ausências + 1/3 férias"]
[null,null,"D",{"$f":"'Encargos Sociais'!D39","v":"Multa do FGTS sobre o Aviso Prévio (Art. 18, §1º, da Lei 8.036/1990)"},{"$f":"'Encargos Sociais'!E39","v":3.2000000000000001E-2},{"$f":"ROUND(E51*($F$16+$F$72+$F$41),2)","v":0}]
[null,null,"E",{"$f":"'Encargos Sociais'!D40","v":"Indenização Adicional - data-base (Art. 9º, Lei 7.238/1984)"},{"$f":"'Encargos Sociais'!E40","v":8.0000000000000004E-4},{"$f":"ROUND(E52*($F$16+$F$72+$F$41),2)","v":0}]
[]
[null,null,null,"TOTAL DE PREVISÃO PARA RESCISÃO",null,{"$f":"SUM(F48:F52)","v":0}]
[]
[null,"MÓDULO 4 - CUSTO DO PROFISSIONAL AUSENTE",null,null,"Percentuais","Valor"]
[null,"Submódulo 4.1 - Ausências Legais"]
[null,null,"A",{"$f":"'Encargos Sociais'!D25","v":"Férias (Arts. 129 e 130, inc. I, da CLT)"},{"$f":"'Encargos Sociais'!E25","v":9.0899999999999995E-2},{"$f":"ROUND(E58*$F$16,2)","v":0},null,"* Nota 1 - O Módulo 4 refere-se às previsões para custear ausências do próprio profissional (titular do cargo)"]
[null,null,"B",{"$f":"'Encargos Sociais'!D26","v":"Ausências Legais (Arts. 131 e 473 da CLT)"},{"$f":"'Encargos Sociais'!E26","v":7.9000000000000008E-3},0,null,"* Nota 2 - As férias foram calculadas dividindo-se por 11, para comportar os 11 meses presentes e ainda o ausente do posto"]
[null,null,"C",{"$f":"'Encargos Sociais'!D27","v":"Licença-Paternidade (Art. 7º, XIX, e art. 10, §1º, do ADCT, CF/1988 e Art. 1º, II, da Lei 11.770/2008)"},{"$f":"'Encargos Sociais'!E27","v":8.0000000000000004E-4},0]
[null,null,"D",{"$f":"'Encargos Sociais'!D28","v":"Ausência por Acidente de Trabalho (Art. 131, III, da CLT)"},{"$f":"'Encargos Sociais'!E28","v":8.9999999999999998E-4},0]
[null,null,"E",{"$f":"'Encargos Sociais'!D29","v":"Afastamento Maternidade (Art. 71 da Lei nº 8.213/1991)"},{"$f":"'Encargos Sociais'!E29","v":3.3E-3},0]
[null,null,"F",{"$f":"'Encargos Sociais'!D30","v":"Auxílio Enfermidade - Doença (Art. 59 da Lei nº 8.213/1991)"},{"$f":"'Encargos Sociais'!E30","v":7.1000000000000004E-3},0]
[]
[null,"Submódulo 4.2 - Intrajornada"]
[null,null,"A","Intervalo para repouso ou alimentação",{"$f":"'Encargos Sociais'!E33","v":0},{"$f":"ROUND(E66*$F$16,2)","v":0}]
[]
[null,null,null,"QUADRO-RESUMO DO MÓDULO 4",null,"Valor"]
[null,null,null,"4.1 - Ausências Legais",{"$f":"SUM(E58:E63)","v":0.11089999999999998},{"$f":"ROUND(E69*$F$16,2)","v":0}]
[null,null,null,"4.2 - Intrajornada",{"$f":"E66","v":0},{"$f":"ROUND(E70*$F$16,2)","v":0}]
[]
[null,null,null,"TOTAL DE PREVISÃO PARA RESCISÃO E INTERVALO INTRAJORNADA",null,{"$f":"SUM(F69:F70)","v":0}]
[]
[null,"MÓDULO 5 - INSUMOS DIVERSOS",null,null,null,"Valor"]
[null,null,"A","Uniformes - aquisição",null,{"$f":"ROUND(HLOOKUP($B$5,Uniformes!L4:EA90,3)/12,2)","v":0}]
[null,null,"B","Materiais de consumo relacionados ao posto - aquisição",null,{"$f":"ROUND(HLOOKUP(B5,'Mat Cons'!I11:DX13,3)/12,2)","v":0}]
[null,null,"C","Materiais permanentes relacionados ao posto - remuneração da sua depreciação / manutenção",null,{"$f":"HLOOKUP(B5,'Mat Perm'!Q11:EF13,3)","v":0}]
[null,null,"D","Equipamentos relacionados ao posto - remuneração da sua depreciação / manutenção",null,{"$f":"HLOOKUP(B5,'Equip Rel'!Q3:EF5,3)","v":0}]
[null,null,"E","Equipamentos de Proteção Individual - EPI - aquisição",null,{"$f":"ROUND(HLOOKUP(B5,EPI!J4:DY6,3)/12,2)","v":0}]
[]
[null,null,null,"TOTAL DE INSUMOS DIVERSOS",null,{"$f":"SUM(F75:F80)","v":0},null,"* Nota - Valores mensais por empregado"]
[]
[null,"MÓDULO 6 - CUSTOS INDIRETOS, TRIBUTOS E LUCRO - BDI",null,null,"Percentuais","Valor"]
[null,null,"A","Custos Indiretos",{"$f":"BDI!E6","v":2.2699999999999998E-2}]
[null,null,"A.1","Administração Central",{"$f":"BDI!E7","v":1.7299999999999999E-2}]
[null,null,"A.2","Seguros, Garantias e Riscos",{"$f":"BDI!E8","v":5.4000000000000003E-3}]
[null,null,"B","Lucro",{"$f":"BDI!E10","v":2.6700000000000002E-2}]
[null,null,"C","Tributos",{"$f":"SUM(E89:E90)","v":0.124}]
[null,null,"C.1","Tributos Federais (COFINS, PIS e CPRB)",{"$f":"BDI!E18","v":7.3999999999999996E-2}]
[null,null,"C.2","Tributos Distritais (ISS)",{"$f":"BDI!E23","v":0.05}]
[null,null,"D","Despesas Financeiras",{"$f":"BDI!E13","v":4.4669210982628549E-3}]
[]
[null,null,null,"TOTAL DE BDI",{"$f":"BDI!E26","v":0.20399999999999999},{"$f":"E93*E101","v":0}]
[]
[null,null,null,"QUADRO-RESUMO DO CUSTO MENSAL POR EMPREGADO - SEM O 13º","Valor"]
[null,null,null,"Módulo 1 - Composição da Remuneração",{"$f":"F16","v":0}]
[null,null,null,"Módulo 2 - Encargos e Benefícios Anuais, Mensais e Diários",{"$f":"F45","v":0}]
[null,null,null,"Módulo 3 - Provisão para Rescisão",{"$f":"F54","v":0}]
[null,null,null,"Módulo 4 - Custo de Reposição do Profissional Ausente",{"$f":"F72","v":0}]
[null,null,null,"Módulo 5 - Insumos Diversos",{"$f":"F81","v":0}]
[null,null,null,"SUBTOTAL (A+B+C+D+E)",{"$f":"SUM(E96:E100)","v":0}]
[null,null,null,"Módulo 6 - Custos Indiretos, Tributos e Lucro",{"$f":"F93","v":0}]
[]
[null,null,null,"TOTAL DO POSTO",{"$f":"SUM(E101:E102)","v":0}]
[]
[null,"MÓDULO 7 - DESTAQUE DO MÓDULO 2 - 13º SALÁRIO",null,null,"Percentuais","Valor"]
[null,null,"A","13º Salário",{"$f":"'Encargos Sociais'!E32*12/11","v":9.0872727272727272E-2},{"$f":"ROUND(E107*F$16,2)","v":0},null,"* Nota 1 - Incluindo-se a reincidência das férias do substituto sobre o titular"]
[null,null,"B","Encargos Sociais sobre o 13º Salário",{"$f":"SUM($E$24:$E$32)","v":0.36800000000000005},{"$f":"ROUND(E108*$F$107,2)","v":0},null,"* Nota 2 - Provisiona-se, mensalmente, o proporcional a 1/12 dos valores referentes a gratificação natalina e adicional de férias."]
[null,null,"C","BDI sobre o 13º Salário - Taxa calculada no MÓDULO 6",{"$f":"E93","v":0.20399999999999999},{"$f":"ROUND(E109*($F$107+$F$108),2)","v":0}]
[]
[null,null,null,"TOTAL DO DESTAQUE DO 13º SALÁRIO",null,{"$f":"SUM(F107:F109)","v":0}]
[]
[null,null,null,"QUADRO-RESUMO DO CUSTO MENSAL POR EMPREGADO","Valor"]
[null,null,null,"Custo total - sem o 13º Salário",{"$f":"E104","v":0}]
[null,null,null,"Destaque do 13º Salário (valor mensal)",{"$f":"F111","v":0}]
[]
[null,null,null,"TOTAL DO POSTO",{"$f":"E114+E115","v":0}]
[]
[]
[]
[]
[]
[]
[null,null,null,null,null,null,null,null,null,null,null,11896.844721000001]

{"sheet":"Dados Gerais","index":19,"n_rows":123,"n_cols":63,"rows_kept":123,"cut":false,"hidden":false,"merged":[[3,1,3,2]]}
[]
[]
[]
[null,"INFORMAÇÕES DE ENTRADA"]
[]
[null,null,null,1,2,3,4,5,6,7,8,9,10,11,12,13,14,15,16,17,18,19,20,21,22,23,24,25,26,27,28,29,30,31,32,33,34,35,36,37,38,39,40,41,42,43,44,45,46,47,48,49,50,51,52,53,54,55,56,57,58,59,60]
[null,"",null,"CARGO 1","CARGO 2","CARGO 3","CARGO 4","CARGO 5","CARGO 6","CARGO 7","CARGO 8","CARGO 9","CARGO 10","CARGO 11","CARGO 12","CARGO 13","CARGO 14","CARGO 15","CARGO 16","CARGO 17","CARGO 18","CARGO 19","CARGO 20","CARGO 21","CARGO 22","CARGO 23","CARGO 24","CARGO 25","CARGO 26","CARGO 27","CARGO 28","CARGO 29","CARGO 30","CARGO 31","CARGO 32","CARGO 33","CARGO 34","CARGO 35","CARGO 36","CARGO 37","CARGO 38","CARGO 39","CARGO 40","CARGO 41","CARGO 42","CARGO 43","CARGO 44","CARGO 45","CARGO 46","CARGO 47","CARGO 48","CARGO 49","CARGO 50","CARGO 51","CARGO 52","CARGO 53","CARGO 54","CARGO 55","CARGO 56","CARGO 57","CARGO 58","CARGO 59","CARGO 60"]
[null,"INFORMAÇÕES BÁSICAS"]
[]
[null,"DESCRIÇÃO DOS POSTOS DE SERVIÇO"]
[null,null,null,"VIGILANTE SUPERVISOR II  \nEscala 12 X 36  \n7h às 19h  \n2ª feira a Dom","VIGILANTE SUPERVISOR I \n INTERNO DIURNO \nEscala 12 x 36  \n7h às 19h  \n2ª feira a Dom","VIGILANTE SUPERVISOR I \n EXTERNO DIURNO \nEscala 12 x 36  \n7h às 19h  \n2ª feira a Dom","VIGILANTE SUPERVISOR I \n INTERNO NOTURNO  \nEscala 12 x 36  \n19h às 7h  \n2ª feira a Dom","VIGILANTE SUPERVISOR I \n EXTERNO NOTURNO  \nEscala 12 x 36  \n19h às 7h  \n2ª feira a Dom","VIGILANTE DIURNO  \nPORTARIAS 1 \nEscala 12 x 36  \n7h às 19h  \n2ª feira a Dom","VIGILANTE NOTURNO  \nPORTARIAS 1 \nEscala 12 x 36  \n19h às 7h  \n2ª feira a Dom","VIGILANTE MATUTINO \nPORTARIAS 1 \nEscala 40 horas semanais \n7h às 16h  \n2ª à 6ª feira","VIGILANTE VESPERTINO \nPORTARIAS 1 \nEscala 40 horas semanais \n13h às 22h \n2ª à 6ª feira","VIGILANTE MATUTINO \nESTACIONAMENTOS \nEscala 40 horas semanais \n7h às 16h \n2ª à 6ª feira","VIGILANTE VESPERTINO \nESTACIONAMENTOS \nEscala 40 horas semanais \n14h às 23h \n2ª à 6ª feira","VIGILANTE DIURNO \nPOSTOS EXTERNOS \nEscala 12 x 36 \n7h às 19h \n2ª feira a Dom","VIGILANTE NOTURNO \nPOSTOS EXTERNOS \nEscala 12 x 36 \n19h às 7h \n2ª feira a Dom"]
[null,"REMUNERAÇÕES"]
[null,null,null,5786.06,4450,4450,{"$f":"F13","v":4450},4450,3423.03,{"$f":"I13","v":3423.03},{"$f":"J13","v":3423.03},3423.03,{"$f":"L13","v":3423.03},{"$f":"M13","v":3423.03},{"$f":"N13","v":3423.03},{"$f":"O13","v":3423.03}]
[null,"QUANTIDADE DE POSTOS"]
[null,null,null,2,2,2,2,2,36,30,13,13,24,24,60,64]
[null,"JORNADA"]
[null,null,"HORAS",{"$f":"36*5","v":180},180,180,{"$f":"F17","v":180},{"$f":"G17","v":180},{"$f":"H17","v":180},{"$f":"I17","v":180},{"$f":"40*5","v":200},{"$f":"K17","v":200},{"$f":"L17","v":200},{"$f":"M17","v":200},180,{"$f":"O17","v":180}]
[null,null,"DIAS/MÊS",15,15,15,15,15,15,15,22,22,22,22,15,15]
[null,"CCT UTILIZADA"]
[null,null,"SINDICATOS E REFERÊNCIA","SINDESV/DF X SINDESP/DF 2024/2024 Nº DF000333/2024",{"$f":"D20","v":"SINDESV/DF X SINDESP/DF 2024/2024 Nº DF000333/2024"},{"$f":"E20","v":"SINDESV/DF X SINDESP/DF 2024/2024 Nº DF000333/2024"},{"$f":"F20","v":"SINDESV/DF X SINDESP/DF 2024/2024 Nº DF000333/2024"},{"$f":"G20","v":"SINDESV/DF X SINDESP/DF 2024/2024 Nº DF000333/2024"},{"$f":"H20","v":"SINDESV/DF X SINDESP/DF 2024/2024 Nº DF000333/2024"},{"$f":"I20","v":"SINDESV/DF X SINDESP/DF 2024/2024 Nº DF000333/2024"},{"$f":"J20","v":"SINDESV/DF X SINDESP/DF 2024/2024 Nº DF000333/2024"},{"$f":"K20","v":"SINDESV/DF X SINDESP/DF 2024/2024 Nº DF000333/2024"},{"$f":"L20","v":"SINDESV/DF X SINDESP/DF 2024/2024 Nº DF000333/2024"},{"$f":"M20","v":"SINDESV/DF X SINDESP/DF 2024/2024 Nº DF000333/2024"},{"$f":"N20","v":"SINDESV/DF X SINDESP/DF 2024/2024 Nº DF000333/2024"},{"$f":"O20","v":"SINDESV/DF X SINDESP/DF 2024/2024 Nº DF000333/2024"}]
[null,null,"DATA-BASE","2024-01-01",{"$f":"D21","v":"2024-01-01"},{"$f":"E21","v":"2024-01-01"},"2024-01-01","2024-01-01","2024-01-01","2024-01-01","2024-01-01","2024-01-01",{"$f":"L21","v":"2024-01-01"},"2024-01-01","2024-01-01","2024-01-01"]
[]
[null,"ADICIONAIS LEGAIS E GRATIFICAÇÕES"]
[]
[null,"PERICULOSIDADE (PERCENTUAL)"]
[null,null,null,0.3,0.3,0.3,0.3,0.3,0.3,0.3,0.3,0.3,0.3,0.3,0.3,0.3]
[null,"BASE DE CÁLCULO DO ADICIONAL DE PERICULOSIDADE (SALÁRIO BÁSICO)"]
[null,null,null,{"$f":"D13","v":5786.06},{"$f":"E13","v":4450},{"$f":"F13","v":4450},{"$f":"G13","v":4450},4450,{"$f":"I13","v":3423.03},3423.03,3423.03,3423.03,{"$f":"M13","v":3423.03},{"$f":"N13","v":3423.03},{"$f":"O13","v":3423.03},{"$f":"P13","v":3423.03}]
[null,"VALOR MENSAL DO ADICIONAL DE PERICULOSIDADE"]
[null,null,null,{"$f":"ROUND(D26*D13,2)","v":1735.82},1335,{"$f":"ROUND(F26*F13,2)","v":1335},{"$f":"ROUND(G26*G13,2)","v":1335},1335,{"$f":"ROUND(I26*I13,2)","v":1026.9100000000001},1026.9100000000001,1026.9100000000001,1026.9100000000001,{"$f":"ROUND(M26*M13,2)","v":1026.9100000000001},1026.9100000000001,1026.9100000000001,1026.9100000000001]
[null,"INSALUBRIDADE (PERCENTUAL)"]
[null,null,null,0,0,0,0,0,0,0,0,0,0,0,0,0]
[null,"BASE DE CÁLCULO DO ADICIONAL DE INSALUBRIDADE (SALÁRIO MÍNIMO LEGAL)"]
[null,null,null,1412,{"$f":"D34","v":1412},1412,{"$f":"F34","v":1412},{"$f":"G34","v":1412},{"$f":"H34","v":1412},{"$f":"I34","v":1412},{"$f":"J34","v":1412},{"$f":"K34","v":1412},{"$f":"L34","v":1412},{"$f":"M34","v":1412},{"$f":"N34","v":1412},{"$f":"O34","v":1412}]
[null,"VALOR MENSAL DO ADICIONAL DE INSALUBRIDADE"]
[null,null,null,{"$f":"ROUND(D32*D34,2)","v":0},{"$f":"ROUND(E32*E34,2)","v":0},0,0,0,0,0,0,0,{"$f":"ROUND(M32*M34,2)","v":0},{"$f":"ROUND(N32*N34,2)","v":0},{"$f":"ROUND(O32*O34,2)","v":0},{"$f":"ROUND(P32*P34,2)","v":0}]
[null,"GRATIFICAÇÃO - VALOR MENSAL (R$)"]
[null,2723.41,"ADICIONAL DE MOTORIZAÇÃO (10% DO PISO DE R$ 2.723,41 - Cláusula Quarta da CCT)",0,0,{"$f":"ROUND(10%*$B$38,2)","v":272.33999999999997},0,{"$f":"F38","v":272.33999999999997},0,0,0,0,0,0,0,0]
[]
[null,"ADICIONAL NOTURNO"]
[]
[null,"INCIDÊNCIA (PERCENTUAL CONFORME CCT)"]
[null,null,null,0.2,{"$f":"D43","v":0.2},0.2,{"$f":"F43","v":0.2},{"$f":"G43","v":0.2},{"$f":"H43","v":0.2},{"$f":"I43","v":0.2},{"$f":"J43","v":0.2},{"$f":"K43","v":0.2},{"$f":"L43","v":0.2},{"$f":"M43","v":0.2},{"$f":"N43","v":0.2},{"$f":"O43","v":0.2}]
[null,"HORAS REAIS POR DIA"]
[null,null,null,0,0,0,7,7,0,7,0,0,0,1,0,7]
[null,"HORAS FICTAS POR DIA"]
[null,null,null,{"$f":"D45*60/52.5","v":0},{"$f":"E45*60/52.5","v":0},0,8,8,0,8,0,0,{"$f":"M45*60/52.5","v":0},{"$f":"N45*60/52.5","v":1.1428571428571428},{"$f":"O45*60/52.5","v":0},{"$f":"P45*60/52.5","v":8}]
[null,"BASE DE CÁLCULO DO ADICIONAL NOTURNO (INCLUINDO ADICIONAIS E GRATIFICAÇÕES)"]
[null,null,null,{"$f":"D13+D30+D36+D38","v":7521.88},{"$f":"E13+E30+E36+E38","v":5785},6057.34,{"$f":"G13+G30+G36+G38","v":5785},{"$f":"H13+H30+H36+H38","v":6057.34},{"$f":"I13+I30+I36+I38","v":4449.9400000000005},4449.9400000000005,4449.9400000000005,4449.9400000000005,{"$f":"M13+M30+M36+M38","v":4449.9400000000005},4449.9400000000005,4449.9400000000005,4449.9400000000005]
[null,"VALOR MENSAL DO ADICIONAL NOTURNO (HORA NORMAL + HORA REDUZIDA) - POR POSTO"]
[null,null,"Divisor de 220h conforme previsão da cláusula décima da CCT",{"$f":"ROUND(D47*D18*D43*D49/220,2)","v":0},{"$f":"ROUND(E47*E18*E43*E49/220,2)","v":0},{"$f":"ROUND(F47*F18*F43*F49/220,2)","v":0},{"$f":"ROUND(G47*G18*G43*G49/220,2)","v":631.09},660.8,{"$f":"ROUND(I47*I18*I43*I49/220,2)","v":0},485.45,0,0,{"$f":"ROUND(M47*M18*M43*M49/220,2)","v":0},101.71,0,485.45]
[]
[null,"ADICIONAL DE HORA EXTRA"]
[]
[null,"INCIDÊNCIA (PERCENTUAL 1)"]
[null,null,null,0.5,0.5,0.5,0.5,0.5,0.5,0.5,0.5,0.5,0.5,0.5,0.5,0.5]
[null,"HORAS EXTRAS POR MÊS (PERCENTUAL 1)"]
[null,null,null,0,0,0,0,0,0,0,0,0,0,0,0,0]
[null,"VALOR MENSAL DO ADICIONAL DE HORAS EXTRAS (PERCENTUAL 1) - POR POSTO"]
[null,null,null,{"$f":"ROUND(D58*D56*D13/D17,2)","v":0},{"$f":"ROUND(E58*E56*E13/E17,2)","v":0},0,0,0,0,0,0,0,{"$f":"ROUND(M58*M56*M13/M17,2)","v":0},{"$f":"ROUND(N58*N56*N13/N17,2)","v":0},{"$f":"ROUND(O58*O56*O13/O17,2)","v":0},{"$f":"ROUND(P58*P56*P13/P17,2)","v":0}]
[null,"INCIDÊNCIA (PERCENTUAL 2)"]
[null,null,null,1,1,1,1,1,1,1,1,1,1,1,1,1]
[null,"HORAS EXTRAS POR MÊS (PERCENTUAL 2)"]
[null,null,null,0,0,0,0,0,0,0,0,0,0,0,0,0]
[null,"VALOR MENSAL DO ADICIONAL DE HORAS EXTRAS (PERCENTUAL 2) - POR POSTO"]
[null,null,null,{"$f":"ROUND(D64*D62*D13/D17,2)","v":0},{"$f":"ROUND(E64*E62*E13/E17,2)","v":0},0,0,0,0,0,0,0,{"$f":"ROUND(M64*M62*M13/M17,2)","v":0},{"$f":"ROUND(N64*N62*N13/N17,2)","v":0},{"$f":"ROUND(O64*O62*O13/O17,2)","v":0},{"$f":"ROUND(P64*P62*P13/P17,2)","v":0}]
[null,"TOTAL MENSAL DOS ADICIONAIS DE HORAS EXTRAS - POR POSTO"]
[null,null,null,{"$f":"D66+D60","v":0},{"$f":"E66+E60","v":0},0,0,0,0,0,0,0,{"$f":"M66+M60","v":0},{"$f":"N66+N60","v":0},{"$f":"O66+O60","v":0},{"$f":"P66+P60","v":0}]
[]
[null,"BENEFÍCIOS COMUNS - AUXÍLIO TRANSPORTE"]
[]
[null,"DISTRIBUIÇÃO ESTIMADA DE PROCEDÊNCIA"]
[null,null,"Cidade-satélite",0.68,0.68,0.68,0.68,0.68,0.68,0.68,0.68,0.68,0.68,0.68,0.68,0.68]
[null,null,"Região do entorno",0.32,0.32,0.32,0.32,0.32,0.32,0.32,0.32,0.32,0.32,0.32,0.32,0.32]
[null,null,"Esplanada - apenas para os que vêm do entorno",{"$f":"D74","v":0.32},{"$f":"E74","v":0.32},0.32,{"$f":"G74","v":0.32},0.32,{"$f":"I74","v":0.32},0.32,0.32,0.32,{"$f":"M74","v":0.32},{"$f":"N74","v":0.32},{"$f":"O74","v":0.32},{"$f":"P74","v":0.32}]
[null,"VALORES DOS VALES"]
[null,null,"Cidade-satélite",5.5,{"$f":"D77","v":5.5},5.5,{"$f":"F77","v":5.5},{"$f":"G77","v":5.5},{"$f":"H77","v":5.5},{"$f":"I77","v":5.5},{"$f":"J77","v":5.5},{"$f":"K77","v":5.5},{"$f":"L77","v":5.5},{"$f":"M77","v":5.5},{"$f":"N77","v":5.5},{"$f":"O77","v":5.5}]
[null,null,"Região do entorno",9.2899999999999991,9.2899999999999991,9.2899999999999991,9.2899999999999991,9.2899999999999991,9.2899999999999991,9.2899999999999991,9.2899999999999991,9.2899999999999991,{"$f":"L78","v":9.2899999999999991},9.2899999999999991,9.2899999999999991,9.2899999999999991]
[null,null,"Esplanada",2.75,2.75,2.75,2.75,2.75,2.75,2.75,2.75,2.75,2.75,2.75,2.75,2.75]
[null,"VALOR MENSAL BRUTO DE PAGAMENTO - POR POSTO"]
[null,null,null,{"$f":"ROUND((D73*D77+D74*D78+D75*D79)*2*D18,2)","v":227.78},{"$f":"ROUND((E73*E77+E74*E78+E75*E79)*2*E18,2)","v":227.78},227.78,{"$f":"ROUND((G73*G77+G74*G78+G75*G79)*2*G18,2)","v":227.78},227.78,{"$f":"ROUND((I73*I77+I74*I78+I75*I79)*2*I18,2)","v":227.78},227.78,334.08,334.08,{"$f":"ROUND((M73*M77+M74*M78+M75*M79)*2*M18,2)","v":334.08},{"$f":"ROUND((N73*N77+N74*N78+N75*N79)*2*N18,2)","v":334.08},{"$f":"ROUND((O73*O77+O74*O78+O75*O79)*2*O18,2)","v":227.78},{"$f":"ROUND((P73*P77+P74*P78+P75*P79)*2*P18,2)","v":227.78}]
[null,"PERCENTUAL DE DESCONTO"]
[null,null,null,0.06,0.06,0.06,0.06,0.06,0.06,0.06,0.06,0.06,0.06,0.06,0.06,0.06]
[null,"VALOR MENSAL DO DESCONTO - POR POSTO"]
[null,null,null,{"$f":"ROUND(D83*D13,2)","v":347.16},{"$f":"ROUND(E83*E13,2)","v":267},267,{"$f":"ROUND(G83*G13,2)","v":267},267,{"$f":"ROUND(I83*I13,2)","v":205.38},205.38,205.38,205.38,{"$f":"ROUND(M83*M13,2)","v":205.38},{"$f":"ROUND(N83*N13,2)","v":205.38},{"$f":"ROUND(O83*O13,2)","v":205.38},{"$f":"ROUND(P83*P13,2)","v":205.38}]
[null,"VALOR MENSAL LÍQUIDO DO VALE TRANSPORTE - POR POSTO"]
[null,null,null,{"$f":"IF(D81>D85,D81-D85,0)","v":0},0,{"$f":"IF(F81>F85,F81-F85,0)","v":0},{"$f":"IF(G81>G85,G81-G85,0)","v":0},0,{"$f":"IF(I81>I85,I81-I85,0)","v":22.400000000000006},22.400000000000006,128.69999999999999,128.69999999999999,{"$f":"IF(M81>M85,M81-M85,0)","v":128.69999999999999},{"$f":"IF(N81>N85,N81-N85,0)","v":128.69999999999999},{"$f":"IF(O81>O85,O81-O85,0)","v":22.400000000000006},{"$f":"IF(P81>P85,P81-P85,0)","v":22.400000000000006}]
[null,null,null,{"$f":"D87*D15","v":0},2962.54,2962.54,2962.54,2962.54,2962.54,2962.54,2962.54,2962.54,2962.54,2962.54,2962.54,2962.54]
[null,"BENEFÍCIOS COMUNS - AUXÍLIO ALIMENTAÇÃO"]
[]
[null,null,"VALOR CCT",47.37,{"$f":"D91","v":47.37},47.37,{"$f":"F91","v":47.37},{"$f":"G91","v":47.37},{"$f":"H91","v":47.37},{"$f":"I91","v":47.37},{"$f":"J91","v":47.37},{"$f":"K91","v":47.37},{"$f":"L91","v":47.37},{"$f":"M91","v":47.37},{"$f":"N91","v":47.37},{"$f":"O91","v":47.37}]
[null,null,"VALOR CD",35,35,35,35,35,35,35,35,35,35,35,35,35]
[null,"VALOR MENSAL DO AUXÍLIO ALIMENTAÇÃO - POR POSTO"]
[null,null,null,{"$f":"ROUND(LARGE(D91:D92,1)*D18,2)","v":710.55},{"$f":"ROUND(LARGE(E91:E92,1)*E18,2)","v":710.55},710.55,{"$f":"ROUND(LARGE(G91:G92,1)*G18,2)","v":710.55},710.55,{"$f":"ROUND(LARGE(I91:I92,1)*I18,2)","v":710.55},710.55,1042.1400000000001,1042.1400000000001,{"$f":"ROUND(LARGE(M91:M92,1)*M18,2)","v":1042.1400000000001},{"$f":"ROUND(LARGE(N91:N92,1)*N18,2)","v":1042.1400000000001},{"$f":"ROUND(LARGE(O91:O92,1)*O18,2)","v":710.55},{"$f":"ROUND(LARGE(P91:P92,1)*P18,2)","v":710.55}]
[null,null,null,{"$f":"D94*D15","v":1421.1},10339.56,10339.56,10339.56,10339.56,10339.56,10339.56,10339.56,10339.56,10339.56,10339.56,10339.56,10339.56]
[null,"BENEFÍCIOS ESPECIAIS - ASSISTÊNCIA MÉDICA E FAMILIAR"]
[]
[null,null,"OBRIGAÇÃO DE PAGTO","NÃO","NÃO","NÃO","NÃO","NÃO","NÃO","NÃO","NÃO","NÃO","NÃO","NÃO","NÃO","NÃO"]
[null,null,"VALOR CCT",0,0,0,0,0,0,0,0,0,0,0,0,0]
[null,null,"VALOR MERCADO",0,0,0,0,0,0,0,0,0,0,0,0,0]
[null,"VALOR MENSAL DO AUXÍLIO ESPECIAL - ASSISTÊNCIA MÉDICA E FAMILIAR - POR POSTO"]
[null,null,null,{"$f":"IF(D98=\"SIM\",ROUND(SMALL(D99:D100,1),2),0)","v":0},0,{"$f":"IF(F98=\"SIM\",ROUND(SMALL(F99:F100,1),2),0)","v":0},{"$f":"IF(G98=\"SIM\",ROUND(SMALL(G99:G100,1),2),0)","v":0},0,{"$f":"IF(I98=\"SIM\",ROUND(SMALL(I99:I100,1),2),0)","v":0},0,0,0,{"$f":"IF(M98=\"SIM\",ROUND(SMALL(M99:M100,1),2),0)","v":0},{"$f":"IF(N98=\"SIM\",ROUND(SMALL(N99:N100,1),2),0)","v":0},{"$f":"IF(O98=\"SIM\",ROUND(SMALL(O99:O100,1),2),0)","v":0},{"$f":"IF(P98=\"SIM\",ROUND(SMALL(P99:P100,1),2),0)","v":0}]
[]
[null,"BENEFÍCIOS ESPECIAIS - SEGURO DE VIDA E AUXÍLIO-FUNERAL, AUX ODONT, AUX CRECHE"]
[]
[null,"SEGURO DE VIDA E AUXÍLIO FUNERAL"]
[null,null,"OBRIGAÇÃO DE PAGTO","SIM",{"$f":"D107","v":"SIM"},{"$f":"E107","v":"SIM"},{"$f":"F107","v":"SIM"},"SIM",{"$f":"H107","v":"SIM"},{"$f":"I107","v":"SIM"},{"$f":"J107","v":"SIM"},{"$f":"K107","v":"SIM"},{"$f":"L107","v":"SIM"},{"$f":"M107","v":"SIM"},{"$f":"N107","v":"SIM"},{"$f":"O107","v":"SIM"}]
[null,null,"VALOR CCT"]
[null,null,"VALOR MERCADO",32.159999999999997,32.159999999999997,32.159999999999997,32.159999999999997,32.159999999999997,32.159999999999997,32.159999999999997,32.159999999999997,32.159999999999997,32.159999999999997,32.159999999999997,32.159999999999997,32.159999999999997]
[null,"VALOR MENSAL DO AUXÍLIO ESPECIAL - SEGURO DE VIDA E AUXÍLIO FUNERAL - POR POSTO"]
[null,null,null,{"$f":"IF(D107=\"SIM\",ROUND(SMALL(D108:D109,1),2),0)","v":32.159999999999997},32.159999999999997,{"$f":"IF(F107=\"SIM\",ROUND(SMALL(F108:F109,1),2),0)","v":32.159999999999997},{"$f":"IF(G107=\"SIM\",ROUND(SMALL(G108:G109,1),2),0)","v":32.159999999999997},32.159999999999997,{"$f":"IF(I107=\"SIM\",ROUND(SMALL(I108:I109,1),2),0)","v":32.159999999999997},32.159999999999997,32.159999999999997,32.159999999999997,{"$f":"IF(M107=\"SIM\",ROUND(SMALL(M108:M109,1),2),0)","v":32.159999999999997},{"$f":"IF(N107=\"SIM\",ROUND(SMALL(N108:N109,1),2),0)","v":32.159999999999997},{"$f":"IF(O107=\"SIM\",ROUND(SMALL(O108:O109,1),2),0)","v":32.159999999999997},{"$f":"IF(P107=\"SIM\",ROUND(SMALL(P108:P109,1),2),0)","v":32.159999999999997}]
[null,"AUXÍLIO ODONTOLÓGICO"]
[null,null,"OBRIGAÇÃO DE PAGTO","NÃO","NÃO","NÃO","NÃO","NÃO","NÃO","NÃO","NÃO","NÃO","NÃO","NÃO","NÃO","NÃO"]
[null,null,"VALOR CCT",0,0,0,0,0,0,0,0,0,0,0,0,0]
[null,null,"VALOR MERCADO",0,0,0,0,0,0,0,0,0,0,0,0,0]
[null,"VALOR MENSAL DO AUXÍLIO ODONTOLÓGICO - POR POSTO"]
[null,null,null,{"$f":"IF(D113=\"SIM\",ROUND(SMALL(D114:D115,1),2)*D18,0)","v":0},0,0,0,0,0,0,0,0,0,0,0,0]
[null,"TOTAL MENSAL DOS AUXÍLIOS ESPECIAIS - POR POSTO"]
[null,null,null,{"$f":"D117+D111","v":32.159999999999997},32.159999999999997,{"$f":"F117+F111","v":32.159999999999997},{"$f":"G117+G111","v":32.159999999999997},32.159999999999997,{"$f":"I117+I111","v":32.159999999999997},32.159999999999997,32.159999999999997,32.159999999999997,{"$f":"M117+M111","v":32.159999999999997},{"$f":"N117+N111","v":32.159999999999997},{"$f":"O117+O111","v":32.159999999999997},{"$f":"P117+P111","v":32.159999999999997}]
[]
[]
[]
[null,null,null,{"$f":"D119*D15","v":64.319999999999993},{"$f":"E119*E15","v":64.319999999999993},64.319999999999993,64.319999999999993,64.319999999999993,1157.7599999999998,964.8,418.07999999999993,418.07999999999993]

{"sheet":"Encargos Sociais","index":20,"n_rows":45,"n_cols":7,"rows_kept":45,"cut":false,"hidden":false,"merged":[[2,1,2,3],[3,1,3,4]]}
[]
[]
[]
[null,"ENCARGOS SOCIAIS SOBRE A MÃO DE OBRA"]
[null,null,null,null,"Percentuais"]
[]
[null,"Referência:"]
[null,null,"SINAPI/MPU"]
[]
[null,"Categorias:"]
[null,null,"TODAS"]
[]
[null,"GRUPO A: Encargos Sociais Básicos - Previdenciários (GPS), Fundo de Garantia por Tempo de Serviço (FGTS) e Outras Contribuições",null,null,{"$f":"ROUND(SUM(E14:E22),4)","v":0.36799999999999999}]
[null,null,"A","INSS (art. 22, inciso I, Lei nº 8.212/91)",0.2]
[null,null,"B","Salário Educação (art. 3º, inciso I, Decreto nº 87.043/82)",2.5000000000000001E-2,null,"* Nota 1 - Os percentuais dos encargos previdenciários, do FGTS e demais contribuições são estabelecidos por legislação vigente."]
[null,null,"C","SAT/RAT (art. 22, II, Lei 8.212/91 e Anexo V, Decreto 6.042/07) - Enquadramento 8011-1/01",0.03,null,"* Nota 2 - O SAT, a depender do grau de risco do serviço, irá variar entre 1%, para risco leve, de 2%, para risco médio, e de 3% para risco grave."]
[null,null,"D","SESC ou SESI (art. 30, Lei nº 8.036/90 e art. 1º, Lei 8.154/90)",1.4999999999999999E-2,null,"* Nota 3 - Os percentuais do Submódulo 2.2 incidem sobre o Módulo 1, o Submódulo 2.1, o Módulo 3, o Módulo 4 e o Módulo 6."]
[null,null,"E","SENAI ou SENAC (Decreto nº 2.318/86)",0.01]
[null,null,"F","SEBRAE (§ 3º, art. 8º, Lei 8.029/90, alterada pela Lei nº 8.154/90)",6.0000000000000001E-3]
[null,null,"G","INCRA (art. 1º, I, Decreto Lei 1.146/70 e Lei 7.787, de 30/06/89)",2E-3]
[null,null,"H","FGTS (Lei Complementar nº 110/01 e art. 30, Lei nº 8.036/90)",0.08]
[null,null,"I","SECONCI (Convenções Coletivas de Trabalho da construção)",0]
[]
[null,"GRUPO B: Encargos Sociais Relacionados ao Custo do Profissional Ausente - Ausências Legais",null,null,{"$f":"ROUND(SUM(E25:E33),4)","v":0.22450000000000001}]
[null,null,"A","Férias (Arts. 129 e 130, inc. I, da CLT)",{"$f":"ROUND(1/11,4)","v":9.0899999999999995E-2},null,"* Nota 1 - As alíneas “A” a “F” referem-se somente ao custo que será pago ao repositor pelos dias \ntrabalhados quando da necessidade de substituir a mão de obra alocada na prestação do serviço."]
[null,null,"B","Ausências Legais (Arts. 131 e 473 da CLT)",{"$f":"ROUND(2/252,4)","v":7.9000000000000008E-3},null,"* Nota 2 - Adotou-se a estimativa do SINAPI de 2 dias por ano. Em 252 dias úteis por ano."]
[null,null,"C","Licença-Paternidade (Art. 7º, XIX, e art. 10, §1º, do ADCT, CF/1988 e Art. 1º, II, da Lei 11.770/2008)",{"$f":"ROUND((5/(30*12))*0.0596,4)","v":8.0000000000000004E-4},null,"* Nota 3 - Utilizada a proporção de 50% para homens, 5 dias de afastamento, e a probabilidade de um trabalhador requerer a Licença Paternidade em 5,96%, conforme SINAPI (Anuário Estatístico da Previdência Social - 2017)"]
[null,null,"D","Ausência por Acidente de Trabalho (Art. 131, III, da CLT)",{"$f":"ROUND(0.0205*15/360,4)","v":8.9999999999999998E-4},null,"* Nota 4 - Utilzada a estatística de 2,05% dos contribuintes beneficiados com a emissão do auxílio, conforme Anuário Estatístico da Previdência Social. Afastamento de 15 dias a cargo da empresa."]
[null,null,"E","Afastamento Maternidade (Art. 71 da Lei nº 8.213/1991)",{"$f":"ROUND(0.0508*(120/360)*(30+30*4/3)/360,4)","v":3.3E-3},null,"* Nota 5 - Utilizada a estimativa de 120 dias de afastamento, e a probabilidade de uma trabalhadora requerer a Licença Maternidade em 5,08%, conforme SINAPI (citando dados do IBGE 2017) - A própria previdência paga o benefício pelos 120 dias, contudo o empregador arca com o 13º e com as férias"]
[null,null,"F","Auxílio Enfermidade - Doença (Art. 59 da Lei nº 8.213/1991)",{"$f":"ROUND(((0.0376*15)+2)/360,4)","v":7.1000000000000004E-3},null,"* Nota 6 - Utilizada a estatística de 3,76% dos contribuintes beneficiados com o auxílio, conforme Anuário Estatístico da Previdência Social de 2016 (acrescidos de 2 dias ao ano, para os quais o trabalhador nem requer o benefício da Previdência - conforme SINAPI)"]
[null,null,"G","Adicional de Férias (componente do Submódulo 2.1)",{"$f":"ROUND(1/3*1/11,4)","v":3.0300000000000001E-2},null,"* Nota 7 - O adicional de férias contido no Submódulo 2.1 corresponde a 1/3 da remuneração que, por sua vez, é dividida por 12 contome Nota 1."]
[null,null,"H","13º Salário (destacado na planilha de custos)",{"$f":"ROUND(1/12,4)","v":8.3299999999999999E-2},null,"* Nota 8 - Provisiona-se, mensalmente, o proporcional a 1/12 dos valores referentes a gratificação natalina e adicional de férias."]
[null,null,"I","Intervalo para repouso ou alimentação (componente do Submódulo 4.2)",0]
[]
[null,"GRUPO C: Encargos Sociais Relacionados à Previsão para Rescisão Trabalhista",null,null,{"$f":"ROUND(SUM(E36:E40),4)","v":3.7699999999999997E-2}]
[null,null,"A","Aviso Prévio Indenizado (Art. 7º, inciso XXI, da CF/1988 e arts. 477, 487, §1º, e 491 da CLT)",{"$f":"ROUND(0.05*30/360,4)","v":4.1999999999999997E-3},null,"* Nota 1 - Considerou-se 5% de demitidos sem justa causa ao ano e recebendo aviso indenizado"]
[null,null,"B","13º sobre aviso prévio indenizado",{"$f":"ROUND((1/12)*E36,4)","v":4.0000000000000002E-4},null,"* Nota 2 - A reincidência sobre as férias estão tratadas na própria base de cálculo da planilha"]
[null,null,"C","Incidência do FGTS sobre o Aviso Prévio Indenizado (Súmula 305 TST)",{"$f":"ROUND(E21*E36,4)","v":2.9999999999999997E-4}]
[null,null,"D","Multa do FGTS sobre o Aviso Prévio (Art. 18, §1º, da Lei 8.036/1990)",{"$f":"ROUND(E21*(0.4),4)","v":3.2000000000000001E-2},null,"* Nota 3 - Considerando que ao término do contrato 100% dos empregados terão rescisões sem justa causa"]
[null,null,"E","Indenização Adicional - data-base (Art. 9º, Lei 7.238/1984)",{"$f":"ROUND(1/12*1%,4)","v":8.0000000000000004E-4},null,"* Nota 4 - Refere-se à indenização de 1 salário para os profissionais que forem demitidos 1 mês antes da data-base. Estima-se em 1% o percentual ao ano de empregados demitidos nessa situação"]
[]
[null,"GRUPO D: Reincidências",null,null,{"$f":"ROUND(SUM(E43:E43),4)","v":8.2600000000000007E-2}]
[null,null,"A","Reincidência do Grupo A sobre o Grupo B",{"$f":"ROUND(E13*E24,4)","v":8.2600000000000007E-2}]
[]
[null,null,null,"SOMATÓRIO - ENCARGOS SOCIAIS SOBRE A MÃO DE OBRA",{"$f":"E42+E35+E24+E13","v":0.71279999999999999}]

{"sheet":"BDI","index":21,"n_rows":26,"n_cols":7,"rows_kept":26,"cut":false,"hidden":false,"merged":[[1,1,1,3],[2,1,2,4]]}
[]
[]
[null,"COMPOSIÇÃO DA TAXA DE CUSTOS INDIRETOS, TRIBUTOS E LUCRO - BDI"]
[null,"APLICAÇÃO: MÃO DE OBRA, 13º, MATERIAIS, EPC E EQUIPAMENTO DE REGISTRO DE FREQUÊNCIA",null,null,"Percentuais"]
[]
[null,"Custos Indiretos da Contratada",null,null,{"$f":"SUM(E7:E8)","v":2.2699999999999998E-2}]
[null,null,"A","Administração Central",1.7299999999999999E-2,null,"* Nota 1 - O Somatório da Administração Central com o Lucro deve ser inferior a 12%"]
[null,null,"B","Seguros, Garantias e Riscos",{"$f":"0.34%+0.2%","v":5.4000000000000003E-3},null,"* Nota 2 - O risco previsto para o porte do contrato majorado em mais 0,20% devido ao não pagamento dos insumos componentes do custo do posto quando da ausência do mesmo."]
[]
[null,"Lucro",null,null,{"$f":"SUM(E11:E11)","v":2.6700000000000002E-2}]
[null,null,"A","Lucro Real sobre os Custos Administrados",2.6700000000000002E-2]
[]
[null,"Despesas Financeiras",null,null,{"$f":"E14","v":4.4669210982628549E-3}]
[null,null,"A","Cálculo Baseado no Prazo para a Restituição dos Desembolsos Realizados pelo Contratado e na Taxa de Retorno Arbitrada",{"$f":"(1+E16)^(E15/252)-1","v":4.4669210982628549E-3},null,"* Nota 1 - DF = [(1+TR)^(DU/252)]/100"]
[null,null,"A.1","Dias Úteis Considerados",11,null,"* Nota 2 - Diferença de dias entre o desembolso, pelo contratado, e o pagamento, pela Câmara"]
[null,null,"A.2","Taxa de Retorno",0.1075,null,"* Nota 3 - A taxa sugerida é a meta da SELIC"]
[]
[null,"Impostos - Tributos Federais",null,null,{"$f":"SUM(E19:E21)","v":7.3999999999999996E-2}]
[null,null,"A","Contribuição para o Financiamento da Seguridade Social - COFINS",{"$f":"0.8*7.6%","v":6.08E-2},null,"* Nota 1 - Redução de 20% considerando as deduções permitidas em Lei, conforme SENGE, citado pelo TCU - Acórdão 2622/2013"]
[null,null,"B","Programa de Integração Social - PIS",{"$f":"0.8*1.65%","v":1.3200000000000002E-2},null,"* Nota 2 - Redução de 20% considerando as deduções permitidas em Lei, conforme SENGE, citado pelo TCU - Acórdão 2622/2013"]
[null,null,"C","Contribuição Previdenciária sobre a Receita Bruta - CPRB",0,null,"* Nota 3 - Lei 12.546/2011 - Verificar atualizações e setores beneficiados"]
[]
[null,"Impostos - Tributos Distritais",null,null,{"$f":"SUM(E24:E24)","v":0.05}]
[null,null,"A","Imposto sobre Serviço de Qualquer Natureza - ISS",0.05]
[]
[null,null,null,"SOMATÓRIO - ENCARGOS SOCIAIS SOBRE A MÃO DE OBRA",{"$f":"ROUND((((1+E6)*(1+E10)*(1+E13)/(1-E18-E23))-1),4)","v":0.20399999999999999},null,"* Nota 1 - [(1+AC+SGR)*(1+L)*(1+DF)/(1-CONFINS-PIS-CPRB-ISS)]-1"]

{"sheet":"Uniformes","index":22,"n_rows":89,"n_cols":139,"rows_kept":89,"cut":false,"hidden":false,"merged":[[54,2,66,2],[2,1,2,3],[3,1,3,8],[17,2,23,2],[36,2,44,2]]}
[]
[]
[]
[null,"UNIFORMES - AQUISIÇÃO",null,null,null,null,null,null,null,null,null,1,null,{"$f":"L4+1","v":2},null,{"$f":"N4+1","v":3},null,{"$f":"P4+1","v":4},null,{"$f":"R4+1","v":5},null,{"$f":"T4+1","v":6},null,{"$f":"V4+1","v":7},null,{"$f":"X4+1","v":8},null,{"$f":"Z4+1","v":9},null,{"$f":"AB4+1","v":10},null,{"$f":"AD4+1","v":11},null,{"$f":"AF4+1","v":12},null,{"$f":"AH4+1","v":13},null,{"$f":"AJ4+1","v":14},null,{"$f":"AL4+1","v":15},null,{"$f":"AN4+1","v":16},null,{"$f":"AP4+1","v":17},null,{"$f":"AR4+1","v":18},null,{"$f":"AT4+1","v":19},null,{"$f":"AV4+1","v":20},null,{"$f":"AX4+1","v":21},null,{"$f":"AZ4+1","v":22},null,{"$f":"BB4+1","v":23},null,{"$f":"BD4+1","v":24},null,{"$f":"BF4+1","v":25},null,{"$f":"BH4+1","v":26},null,{"$f":"BJ4+1","v":27},null,{"$f":"BL4+1","v":28},null,{"$f":"BN4+1","v":29},null,{"$f":"BP4+1","v":30},null,{"$f":"BR4+1","v":31},null,{"$f":"BT4+1","v":32},null,{"$f":"BV4+1","v":33},null,{"$f":"BX4+1","v":34},null,{"$f":"BZ4+1","v":35},null,{"$f":"CB4+1","v":36},null,{"$f":"CD4+1","v":37},null,{"$f":"CF4+1","v":38},null,{"$f":"CH4+1","v":39},null,{"$f":"CJ4+1","v":40},null,{"$f":"CL4+1","v":41},null,{"$f":"CN4+1","v":42},null,{"$f":"CP4+1","v":43},null,{"$f":"CR4+1","v":44},null,{"$f":"CT4+1","v":45},null,{"$f":"CV4+1","v":46},null,{"$f":"CX4+1","v":47},null,{"$f":"CZ4+1","v":48},null,{"$f":"DB4+1","v":49},null,{"$f":"DD4+1","v":50},null,{"$f":"DF4+1","v":51},null,{"$f":"DH4+1","v":52},null,{"$f":"DJ4+1","v":53},null,{"$f":"DL4+1","v":54},null,{"$f":"DN4+1","v":55},null,{"$f":"DP4+1","v":56},null,{"$f":"DR4+1","v":57},null,{"$f":"DT4+1","v":58},null,{"$f":"DV4+1","v":59},null,{"$f":"DX4+1","v":60}]
[]
[null,null,null,null,null,null,null,null,null,null,null,{"$f":"ROUND(SUM(M5:M89),2)","v":1874.23},null,{"$f":"ROUND(SUM(O5:O109),2)","v":1874.23},null,{"$f":"ROUND(SUM(Q5:Q109),2)","v":1874.23},null,{"$f":"ROUND(SUM(S5:S109),2)","v":1874.23},null,{"$f":"ROUND(SUM(U5:U109),2)","v":1874.23},null,{"$f":"ROUND(SUM(W5:W109),2)","v":2394.5300000000002},null,{"$f":"ROUND(SUM(Y5:Y109),2)","v":2394.5300000000002},null,{"$f":"ROUND(SUM(AA5:AA109),2)","v":2394.5300000000002},null,{"$f":"ROUND(SUM(AC5:AC109),2)","v":2394.5300000000002},null,{"$f":"ROUND(SUM(AE5:AE109),2)","v":3641.52},null,{"$f":"ROUND(SUM(AG5:AG109),2)","v":3641.52},null,{"$f":"ROUND(SUM(AI5:AI109),2)","v":7025.41},null,{"$f":"ROUND(SUM(AK5:AK109),2)","v":7025.41},null,{"$f":"ROUND(SUM(AM5:AM109),2)","v":0},null,{"$f":"ROUND(SUM(AO5:AO109),2)","v":0},null,{"$f":"ROUND(SUM(AQ5:AQ109),2)","v":0},null,{"$f":"ROUND(SUM(AS5:AS109),2)","v":0},null,{"$f":"ROUND(SUM(AU5:AU109),2)","v":0},null,{"$f":"ROUND(SUM(AW5:AW109),2)","v":0},null,{"$f":"ROUND(SUM(AY5:AY109),2)","v":0},null,{"$f":"ROUND(SUM(BA5:BA109),2)","v":0},null,{"$f":"ROUND(SUM(BC5:BC109),2)","v":0},null,{"$f":"ROUND(SUM(BE5:BE109),2)","v":0},null,{"$f":"ROUND(SUM(BG5:BG109),2)","v":0},null,{"$f":"ROUND(SUM(BI5:BI109),2)","v":0},null,{"$f":"ROUND(SUM(BK5:BK109),2)","v":0},null,{"$f":"ROUND(SUM(BM5:BM109),2)","v":0},null,{"$f":"ROUND(SUM(BO5:BO109),2)","v":0},null,{"$f":"ROUND(SUM(BQ5:BQ109),2)","v":0},null,{"$f":"ROUND(SUM(BS5:BS109),2)","v":0},null,{"$f":"ROUND(SUM(BU5:BU109),2)","v":0},null,{"$f":"ROUND(SUM(BW5:BW109),2)","v":0},null,{"$f":"ROUND(SUM(BY5:BY109),2)","v":0},null,{"$f":"ROUND(SUM(CA5:CA109),2)","v":0},null,{"$f":"ROUND(SUM(CC5:CC109),2)","v":0},null,{"$f":"ROUND(SUM(CE5:CE109),2)","v":0},null,{"$f":"ROUND(SUM(CG5:CG109),2)","v":0},null,{"$f":"ROUND(SUM(CI5:CI109),2)","v":0},null,{"$f":"ROUND(SUM(CK5:CK109),2)","v":0},null,{"$f":"ROUND(SUM(CM5:CM109),2)","v":0},null,{"$f":"ROUND(SUM(CO5:CO109),2)","v":0},null,{"$f":"ROUND(SUM(CQ5:CQ109),2)","v":0},null,{"$f":"ROUND(SUM(CS5:CS109),2)","v":0},null,{"$f":"ROUND(SUM(CU5:CU109),2)","v":0},null,{"$f":"ROUND(SUM(CW5:CW109),2)","v":0},null,{"$f":"ROUND(SUM(CY5:CY109),2)","v":0},null,{"$f":"ROUND(SUM(DA5:DA109),2)","v":0},null,{"$f":"ROUND(SUM(DC5:DC109),2)","v":0},null,{"$f":"ROUND(SUM(DE5:DE109),2)","v":0},null,{"$f":"ROUND(SUM(DG5:DG109),2)","v":0},null,{"$f":"ROUND(SUM(DI5:DI109),2)","v":0},null,{"$f":"ROUND(SUM(DK5:DK109),2)","v":0},null,{"$f":"ROUND(SUM(DM5:DM109),2)","v":0},null,{"$f":"ROUND(SUM(DO5:DO109),2)","v":0},null,{"$f":"ROUND(SUM(DQ5:DQ109),2)","v":0},null,{"$f":"ROUND(SUM(DS5:DS109),2)","v":0},null,{"$f":"ROUND(SUM(DU5:DU109),2)","v":0},null,{"$f":"ROUND(SUM(DW5:DW109),2)","v":0},null,{"$f":"ROUND(SUM(DY5:DY109),2)","v":0},null,{"$f":"ROUND(SUM(EA5:EA109),2)","v":0}]
[null,null,"CATEGORIAS",null,null,null,null,null,"QUANTIDADE"]
[null,null,null,null,null,null,null,null,null,null,null,{"$f":"IF($C8=L$4,1,0)","v":0}]
[null,null,1,{"$f":"HLOOKUP($C9,'Dados Gerais'!$D$6:$BK$11,6)","v":"VIGILANTE SUPERVISOR II  \nEscala 12 X 36  \n7h às 19h  \n2ª feira a Dom"},null,null,null,null,{"$f":"HLOOKUP($C9,'Dados Gerais'!$D$6:$BK$15,10)","v":2},null,null,1,null,{"$f":"IF($C9=N$4,1,0)","v":0},null,{"$f":"IF($C9=P$4,1,0)","v":0},null,{"$f":"IF($C9=R$4,1,0)","v":0},null,{"$f":"IF($C9=T$4,1,0)","v":0},null,{"$f":"IF($C9=V$4,1,0)","v":0},null,{"$f":"IF($C9=X$4,1,0)","v":0},null,{"$f":"IF($C9=Z$4,1,0)","v":0},null,{"$f":"IF($C9=AB$4,1,0)","v":0},null,{"$f":"IF($C9=AD$4,1,0)","v":0},null,{"$f":"IF($C9=AF$4,1,0)","v":0},null,{"$f":"IF($C9=AH$4,1,0)","v":0},null,{"$f":"IF($C9=AJ$4,1,0)","v":0},null,{"$f":"IF($C9=AL$4,1,0)","v":0},null,{"$f":"IF($C9=AN$4,1,0)","v":0},null,{"$f":"IF($C9=AP$4,1,0)","v":0},null,{"$f":"IF($C9=AR$4,1,0)","v":0},null,{"$f":"IF($C9=AT$4,1,0)","v":0},null,{"$f":"IF($C9=AV$4,1,0)","v":0},null,{"$f":"IF($C9=AX$4,1,0)","v":0},null,{"$f":"IF($C9=AZ$4,1,0)","v":0},null,{"$f":"IF($C9=BB$4,1,0)","v":0},null,{"$f":"IF($C9=BD$4,1,0)","v":0},null,{"$f":"IF($C9=BF$4,1,0)","v":0},null,{"$f":"IF($C9=BH$4,1,0)","v":0},null,{"$f":"IF($C9=BJ$4,1,0)","v":0},null,{"$f":"IF($C9=BL$4,1,0)","v":0},null,{"$f":"IF($C9=BN$4,1,0)","v":0},null,{"$f":"IF($C9=BP$4,1,0)","v":0},null,{"$f":"IF($C9=BR$4,1,0)","v":0},null,{"$f":"IF($C9=BT$4,1,0)","v":0},null,{"$f":"IF($C9=BV$4,1,0)","v":0},null,{"$f":"IF($C9=BX$4,1,0)","v":0},null,{"$f":"IF($C9=BZ$4,1,0)","v":0},null,{"$f":"IF($C9=CB$4,1,0)","v":0},null,{"$f":"IF($C9=CD$4,1,0)","v":0},null,{"$f":"IF($C9=CF$4,1,0)","v":0},null,{"$f":"IF($C9=CH$4,1,0)","v":0},null,{"$f":"IF($C9=CJ$4,1,0)","v":0},null,{"$f":"IF($C9=CL$4,1,0)","v":0},null,{"$f":"IF($C9=CN$4,1,0)","v":0},null,{"$f":"IF($C9=CP$4,1,0)","v":0},null,{"$f":"IF($C9=CR$4,1,0)","v":0},null,{"$f":"IF($C9=CT$4,1,0)","v":0},null,{"$f":"IF($C9=CV$4,1,0)","v":0},null,{"$f":"IF($C9=CX$4,1,0)","v":0},null,{"$f":"IF($C9=CZ$4,1,0)","v":0},null,{"$f":"IF($C9=DB$4,1,0)","v":0},null,{"$f":"IF($C9=DD$4,1,0)","v":0},null,{"$f":"IF($C9=DF$4,1,0)","v":0},null,{"$f":"IF($C9=DH$4,1,0)","v":0},null,{"$f":"IF($C9=DJ$4,1,0)","v":0},null,{"$f":"IF($C9=DL$4,1,0)","v":0},null,{"$f":"IF($C9=DN$4,1,0)","v":0},null,{"$f":"IF($C9=DP$4,1,0)","v":0},null,{"$f":"IF($C9=DR$4,1,0)","v":0},null,{"$f":"IF($C9=DT$4,1,0)","v":0},null,{"$f":"IF($C9=DV$4,1,0)","v":0},null,{"$f":"IF($C9=DX$4,1,0)","v":0},null,{"$f":"IF($C9=DZ$4,1,0)","v":0}]
[null,null,2,{"$f":"HLOOKUP($C10,'Dados Gerais'!$D$6:$BK$11,6)","v":"VIGILANTE SUPERVISOR I \n INTERNO DIURNO \nEscala 12 x 36  \n7h às 19h  \n2ª feira a Dom"},null,null,null,null,{"$f":"HLOOKUP($C10,'Dados Gerais'!$D$6:$BK$15,10)","v":2},null,null,0,null,1,null,0,null,0,null,0,null,0,null,0,null,0,null,0,null,0,null,0,null,0,null,0,null,0,null,0,null,0,null,0,null,0,null,0,null,0,null,0,null,0,null,0,null,0,null,0,null,0,null,0,null,0,null,0,null,0,null,0,null,0,null,0,null,0,null,0,null,0,null,0,null,0,null,0,null,0,null,0,null,0,null,0,null,0,null,0,null,0,null,0,null,0,null,0,null,0,null,0,null,0,null,0,null,0,null,0,null,0,null,0,null,0,null,0,null,0]
[null,null,3,{"$f":"HLOOKUP($C11,'Dados Gerais'!$D$6:$BK$11,6)","v":"VIGILANTE SUPERVISOR I \n EXTERNO DIURNO \nEscala 12 x 36  \n7h às 19h  \n2ª feira a Dom"},null,null,null,null,{"$f":"HLOOKUP($C11,'Dados Gerais'!$D$6:$BK$15,10)","v":2},null,null,0,null,0,null,1,null,0,null,0,null,0,null,0,null,0,null,0,null,0,null,0,null,0,null,0,null,0,null,0,null,0,null,0,null,0,null,0,null,0,null,0,null,0,null,0,null,0,null,0,null,0,null,0,null,0,null,0,null,0,null,0,null,0,null,0,null,0,null,0,null,0,null,0,null,0,null,0,null,0,null,0,null,0,null,0,null,0,null,0,null,0,null,0,null,0,null,0,null,0,null,0,null,0,null,0,null,0,null,0,null,0,null,0,null,0,null,0,null,0]
[null,null,4,{"$f":"HLOOKUP($C12,'Dados Gerais'!$D$6:$BK$11,6)","v":"VIGILANTE SUPERVISOR I \n INTERNO NOTURNO  \nEscala 12 x 36  \n19h às 7h  \n2ª feira a Dom"},null,null,null,null,{"$f":"HLOOKUP($C12,'Dados Gerais'!$D$6:$BK$15,10)","v":2},null,null,0,null,0,null,0,null,1,null,0,null,0,null,0,null,0,null,0,null,0,null,0,null,0,null,0,null,0,null,0,null,0,null,0,null,0,null,0,null,0,null,0,null,0,null,0,null,0,null,0,null,0,null,0,null,0,null,0,null,0,null,0,null,0,null,0,null,0,null,0,null,0,null,0,null,0,null,0,null,0,null,0,null,0,null,0,null,0,null,0,null,0,null,0,null,0,null,0,null,0,null,0,null,0,null,0,null,0,null,0,null,0,null,0,null,0,null,0,null,0]
[null,null,5,{"$f":"HLOOKUP($C13,'Dados Gerais'!$D$6:$BK$11,6)","v":"VIGILANTE SUPERVISOR I \n EXTERNO NOTURNO  \nEscala 12 x 36  \n19h às 7h  \n2ª feira a Dom"},null,null,null,null,{"$f":"HLOOKUP($C13,'Dados Gerais'!$D$6:$BK$15,10)","v":2},null,null,0,null,0,null,0,null,0,null,1,null,0,null,0,null,0,null,0,null,0,null,0,null,0,null,0,null,0,null,0,null,0,null,0,null,0,null,0,null,0,null,0,null,0,null,0,null,0,null,0,null,0,null,0,null,0,null,0,null,0,null,0,null,0,null,0,null,0,null,0,null,0,null,0,null,0,null,0,null,0,null,0,null,0,null,0,null,0,null,0,null,0,null,0,null,0,null,0,null,0,null,0,null,0,null,0,null,0,null,0,null,0,null,0,null,0,null,0,null,0]
[null,null,null,null,null,null,null,null,null,null,null,0]
[]
[null,null,"ITEM","DESCRIÇÃO","QUANT ANUAL\nPOR POSTO",null,"Nº DE POSTOS","QUANT ANUAL\nTOTAL ESTIMADA","VALOR"]
[]
[null,null,null,"Ternos composto de 1 (um) paletó e 1 (uma) calça, confeccionados em tecido de poliéster (95%) e elastano (5%), na cor preta, tamanho de acordo com o manequim do usuário, com forro 100% poliester  ou Terninho feminino composto de 1 (um) blazer e 1 (uma) calça, confeccionados em tecido poliéster (95%) e elastano(5%) de 1ª qualidade, na cor preta, tamanho de acordo com o manequim do usuário com forro 100% poliester",2,null,{"$f":"SUM(I9:I13)","v":10},{"$f":"G18*E18","v":20},366.57,null,null,null,{"$f":"IF(SUM(L$8:L$15)>0,$H18*$I18,0)/SUM($I$8:$I$15)","v":733.14},null,{"$f":"IF(SUM(N$8:N$15)>0,$H18*$I18,0)/SUM($I$8:$I$15)","v":733.14},null,{"$f":"IF(SUM(P$8:P$15)>0,$H18*$I18,0)/SUM($I$8:$I$15)","v":733.14},null,{"$f":"IF(SUM(R$8:R$15)>0,$H18*$I18,0)/SUM($I$8:$I$15)","v":733.14},null,{"$f":"IF(SUM(T$8:T$15)>0,$H18*$I18,0)/SUM($I$8:$I$15)","v":733.14},null,{"$f":"IF(SUM(V$8:V$15)>0,$H18*$I18,0)/SUM($I$8:$I$15)","v":0},null,{"$f":"IF(SUM(X$8:X$15)>0,$H18*$I18,0)/SUM($I$8:$I$15)","v":0},null,{"$f":"IF(SUM(Z$8:Z$15)>0,$H18*$I18,0)/SUM($I$8:$I$15)","v":0},null,{"$f":"IF(SUM(AB$8:AB$15)>0,$H18*$I18,0)/SUM($I$8:$I$15)","v":0},null,{"$f":"IF(SUM(AD$8:AD$15)>0,$H18*$I18,0)/SUM($I$8:$I$15)","v":0},null,{"$f":"IF(SUM(AF$8:AF$15)>0,$H18*$I18,0)/SUM($I$8:$I$15)","v":0},null,{"$f":"IF(SUM(AH$8:AH$15)>0,$H18*$I18,0)/SUM($I$8:$I$15)","v":0},null,{"$f":"IF(SUM(AJ$8:AJ$15)>0,$H18*$I18,0)/SUM($I$8:$I$15)","v":0},null,{"$f":"IF(SUM(AL$8:AL$15)>0,$H18*$I18,0)/SUM($I$8:$I$15)","v":0},null,{"$f":"IF(SUM(AN$8:AN$15)>0,$H18*$I18,0)/SUM($I$8:$I$15)","v":0},null,{"$f":"IF(SUM(AP$8:AP$15)>0,$H18*$I18,0)/SUM($I$8:$I$15)","v":0},null,{"$f":"IF(SUM(AR$8:AR$15)>0,$H18*$I18,0)/SUM($I$8:$I$15)","v":0},null,{"$f":"IF(SUM(AT$8:AT$15)>0,$H18*$I18,0)/SUM($I$8:$I$15)","v":0},null,{"$f":"IF(SUM(AV$8:AV$15)>0,$H18*$I18,0)/SUM($I$8:$I$15)","v":0},null,{"$f":"IF(SUM(AX$8:AX$15)>0,$H18*$I18,0)/SUM($I$8:$I$15)","v":0},null,{"$f":"IF(SUM(AZ$8:AZ$15)>0,$H18*$I18,0)/SUM($I$8:$I$15)","v":0},null,{"$f":"IF(SUM(BB$8:BB$15)>0,$H18*$I18,0)/SUM($I$8:$I$15)","v":0},null,{"$f":"IF(SUM(BD$8:BD$15)>0,$H18*$I18,0)/SUM($I$8:$I$15)","v":0},null,{"$f":"IF(SUM(BF$8:BF$15)>0,$H18*$I18,0)/SUM($I$8:$I$15)","v":0},null,{"$f":"IF(SUM(BH$8:BH$15)>0,$H18*$I18,0)/SUM($I$8:$I$15)","v":0},null,{"$f":"IF(SUM(BJ$8:BJ$15)>0,$H18*$I18,0)/SUM($I$8:$I$15)","v":0},null,{"$f":"IF(SUM(BL$8:BL$15)>0,$H18*$I18,0)/SUM($I$8:$I$15)","v":0},null,{"$f":"IF(SUM(BN$8:BN$15)>0,$H18*$I18,0)/SUM($I$8:$I$15)","v":0},null,{"$f":"IF(SUM(BP$8:BP$15)>0,$H18*$I18,0)/SUM($I$8:$I$15)","v":0},null,{"$f":"IF(SUM(BR$8:BR$15)>0,$H18*$I18,0)/SUM($I$8:$I$15)","v":0},null,{"$f":"IF(SUM(BT$8:BT$15)>0,$H18*$I18,0)/SUM($I$8:$I$15)","v":0},null,{"$f":"IF(SUM(BV$8:BV$15)>0,$H18*$I18,0)/SUM($I$8:$I$15)","v":0},null,{"$f":"IF(SUM(BX$8:BX$15)>0,$H18*$I18,0)/SUM($I$8:$I$15)","v":0},null,{"$f":"IF(SUM(BZ$8:BZ$15)>0,$H18*$I18,0)/SUM($I$8:$I$15)","v":0},null,{"$f":"IF(SUM(CB$8:CB$15)>0,$H18*$I18,0)/SUM($I$8:$I$15)","v":0},null,{"$f":"IF(SUM(CD$8:CD$15)>0,$H18*$I18,0)/SUM($I$8:$I$15)","v":0},null,{"$f":"IF(SUM(CF$8:CF$15)>0,$H18*$I18,0)/SUM($I$8:$I$15)","v":0},null,{"$f":"IF(SUM(CH$8:CH$15)>0,$H18*$I18,0)/SUM($I$8:$I$15)","v":0},null,{"$f":"IF(SUM(CJ$8:CJ$15)>0,$H18*$I18,0)/SUM($I$8:$I$15)","v":0},null,{"$f":"IF(SUM(CL$8:CL$15)>0,$H18*$I18,0)/SUM($I$8:$I$15)","v":0},null,{"$f":"IF(SUM(CN$8:CN$15)>0,$H18*$I18,0)/SUM($I$8:$I$15)","v":0},null,{"$f":"IF(SUM(CP$8:CP$15)>0,$H18*$I18,0)/SUM($I$8:$I$15)","v":0},null,{"$f":"IF(SUM(CR$8:CR$15)>0,$H18*$I18,0)/SUM($I$8:$I$15)","v":0},null,{"$f":"IF(SUM(CT$8:CT$15)>0,$H18*$I18,0)/SUM($I$8:$I$15)","v":0},null,{"$f":"IF(SUM(CV$8:CV$15)>0,$H18*$I18,0)/SUM($I$8:$I$15)","v":0},null,{"$f":"IF(SUM(CX$8:CX$15)>0,$H18*$I18,0)/SUM($I$8:$I$15)","v":0},null,{"$f":"IF(SUM(CZ$8:CZ$15)>0,$H18*$I18,0)/SUM($I$8:$I$15)","v":0},null,{"$f":"IF(SUM(DB$8:DB$15)>0,$H18*$I18,0)/SUM($I$8:$I$15)","v":0},null,{"$f":"IF(SUM(DD$8:DD$15)>0,$H18*$I18,0)/SUM($I$8:$I$15)","v":0},null,{"$f":"IF(SUM(DF$8:DF$15)>0,$H18*$I18,0)/SUM($I$8:$I$15)","v":0},null,{"$f":"IF(SUM(DH$8:DH$15)>0,$H18*$I18,0)/SUM($I$8:$I$15)","v":0},null,{"$f":"IF(SUM(DJ$8:DJ$15)>0,$H18*$I18,0)/SUM($I$8:$I$15)","v":0},null,{"$f":"IF(SUM(DL$8:DL$15)>0,$H18*$I18,0)/SUM($I$8:$I$15)","v":0},null,{"$f":"IF(SUM(DN$8:DN$15)>0,$H18*$I18,0)/SUM($I$8:$I$15)","v":0},null,{"$f":"IF(SUM(DP$8:DP$15)>0,$H18*$I18,0)/SUM($I$8:$I$15)","v":0},null,{"$f":"IF(SUM(DR$8:DR$15)>0,$H18*$I18,0)/SUM($I$8:$I$15)","v":0},null,{"$f":"IF(SUM(DT$8:DT$15)>0,$H18*$I18,0)/SUM($I$8:$I$15)","v":0},null,{"$f":"IF(SUM(DV$8:DV$15)>0,$H18*$I18,0)/SUM($I$8:$I$15)","v":0},null,{"$f":"IF(SUM(DX$8:DX$15)>0,$H18*$I18,0)/SUM($I$8:$I$15)","v":0},null,{"$f":"IF(SUM(DZ$8:DZ$15)>0,$H18*$I18,0)/SUM($I$8:$I$15)","v":0}]
[null,null,null,"Camisas social na cor branca em tecido 100% algodão",4,null,{"$f":"G18","v":10},{"$f":"G19*E19","v":40},101.78,null,null,null,407.12,null,407.12,null,{"$f":"IF(SUM(P$8:P$15)>0,$H19*$I19,0)/SUM($I$8:$I$15)","v":407.12},null,{"$f":"IF(SUM(R$8:R$15)>0,$H19*$I19,0)/SUM($I$8:$I$15)","v":407.12},null,{"$f":"IF(SUM(T$8:T$15)>0,$H19*$I19,0)/SUM($I$8:$I$15)","v":407.12},null,{"$f":"IF(SUM(V$8:V$15)>0,$H19*$I19,0)/SUM($I$8:$I$15)","v":0},null,{"$f":"IF(SUM(X$8:X$15)>0,$H19*$I19,0)/SUM($I$8:$I$15)","v":0},null,{"$f":"IF(SUM(Z$8:Z$15)>0,$H19*$I19,0)/SUM($I$8:$I$15)","v":0},null,{"$f":"IF(SUM(AB$8:AB$15)>0,$H19*$I19,0)/SUM($I$8:$I$15)","v":0},null,{"$f":"IF(SUM(AD$8:AD$15)>0,$H19*$I19,0)/SUM($I$8:$I$15)","v":0},null,{"$f":"IF(SUM(AF$8:AF$15)>0,$H19*$I19,0)/SUM($I$8:$I$15)","v":0},null,{"$f":"IF(SUM(AH$8:AH$15)>0,$H19*$I19,0)/SUM($I$8:$I$15)","v":0},null,{"$f":"IF(SUM(AJ$8:AJ$15)>0,$H19*$I19,0)/SUM($I$8:$I$15)","v":0},null,{"$f":"IF(SUM(AL$8:AL$15)>0,$H19*$I19,0)/SUM($I$8:$I$15)","v":0},null,{"$f":"IF(SUM(AN$8:AN$15)>0,$H19*$I19,0)/SUM($I$8:$I$15)","v":0},null,{"$f":"IF(SUM(AP$8:AP$15)>0,$H19*$I19,0)/SUM($I$8:$I$15)","v":0},null,{"$f":"IF(SUM(AR$8:AR$15)>0,$H19*$I19,0)/SUM($I$8:$I$15)","v":0},null,{"$f":"IF(SUM(AT$8:AT$15)>0,$H19*$I19,0)/SUM($I$8:$I$15)","v":0},null,{"$f":"IF(SUM(AV$8:AV$15)>0,$H19*$I19,0)/SUM($I$8:$I$15)","v":0},null,{"$f":"IF(SUM(AX$8:AX$15)>0,$H19*$I19,0)/SUM($I$8:$I$15)","v":0},null,{"$f":"IF(SUM(AZ$8:AZ$15)>0,$H19*$I19,0)/SUM($I$8:$I$15)","v":0},null,{"$f":"IF(SUM(BB$8:BB$15)>0,$H19*$I19,0)/SUM($I$8:$I$15)","v":0},null,{"$f":"IF(SUM(BD$8:BD$15)>0,$H19*$I19,0)/SUM($I$8:$I$15)","v":0},null,{"$f":"IF(SUM(BF$8:BF$15)>0,$H19*$I19,0)/SUM($I$8:$I$15)","v":0},null,{"$f":"IF(SUM(BH$8:BH$15)>0,$H19*$I19,0)/SUM($I$8:$I$15)","v":0},null,{"$f":"IF(SUM(BJ$8:BJ$15)>0,$H19*$I19,0)/SUM($I$8:$I$15)","v":0},null,{"$f":"IF(SUM(BL$8:BL$15)>0,$H19*$I19,0)/SUM($I$8:$I$15)","v":0},null,{"$f":"IF(SUM(BN$8:BN$15)>0,$H19*$I19,0)/SUM($I$8:$I$15)","v":0},null,{"$f":"IF(SUM(BP$8:BP$15)>0,$H19*$I19,0)/SUM($I$8:$I$15)","v":0},null,{"$f":"IF(SUM(BR$8:BR$15)>0,$H19*$I19,0)/SUM($I$8:$I$15)","v":0},null,{"$f":"IF(SUM(BT$8:BT$15)>0,$H19*$I19,0)/SUM($I$8:$I$15)","v":0},null,{"$f":"IF(SUM(BV$8:BV$15)>0,$H19*$I19,0)/SUM($I$8:$I$15)","v":0},null,{"$f":"IF(SUM(BX$8:BX$15)>0,$H19*$I19,0)/SUM($I$8:$I$15)","v":0},null,{"$f":"IF(SUM(BZ$8:BZ$15)>0,$H19*$I19,0)/SUM($I$8:$I$15)","v":0},null,{"$f":"IF(SUM(CB$8:CB$15)>0,$H19*$I19,0)/SUM($I$8:$I$15)","v":0},null,{"$f":"IF(SUM(CD$8:CD$15)>0,$H19*$I19,0)/SUM($I$8:$I$15)","v":0},null,{"$f":"IF(SUM(CF$8:CF$15)>0,$H19*$I19,0)/SUM($I$8:$I$15)","v":0},null,{"$f":"IF(SUM(CH$8:CH$15)>0,$H19*$I19,0)/SUM($I$8:$I$15)","v":0},null,{"$f":"IF(SUM(CJ$8:CJ$15)>0,$H19*$I19,0)/SUM($I$8:$I$15)","v":0},null,{"$f":"IF(SUM(CL$8:CL$15)>0,$H19*$I19,0)/SUM($I$8:$I$15)","v":0},null,{"$f":"IF(SUM(CN$8:CN$15)>0,$H19*$I19,0)/SUM($I$8:$I$15)","v":0},null,{"$f":"IF(SUM(CP$8:CP$15)>0,$H19*$I19,0)/SUM($I$8:$I$15)","v":0},null,{"$f":"IF(SUM(CR$8:CR$15)>0,$H19*$I19,0)/SUM($I$8:$I$15)","v":0},null,{"$f":"IF(SUM(CT$8:CT$15)>0,$H19*$I19,0)/SUM($I$8:$I$15)","v":0},null,{"$f":"IF(SUM(CV$8:CV$15)>0,$H19*$I19,0)/SUM($I$8:$I$15)","v":0},null,{"$f":"IF(SUM(CX$8:CX$15)>0,$H19*$I19,0)/SUM($I$8:$I$15)","v":0},null,{"$f":"IF(SUM(CZ$8:CZ$15)>0,$H19*$I19,0)/SUM($I$8:$I$15)","v":0},null,{"$f":"IF(SUM(DB$8:DB$15)>0,$H19*$I19,0)/SUM($I$8:$I$15)","v":0},null,{"$f":"IF(SUM(DD$8:DD$15)>0,$H19*$I19,0)/SUM($I$8:$I$15)","v":0},null,{"$f":"IF(SUM(DF$8:DF$15)>0,$H19*$I19,0)/SUM($I$8:$I$15)","v":0},null,{"$f":"IF(SUM(DH$8:DH$15)>0,$H19*$I19,0)/SUM($I$8:$I$15)","v":0},null,{"$f":"IF(SUM(DJ$8:DJ$15)>0,$H19*$I19,0)/SUM($I$8:$I$15)","v":0},null,{"$f":"IF(SUM(DL$8:DL$15)>0,$H19*$I19,0)/SUM($I$8:$I$15)","v":0},null,{"$f":"IF(SUM(DN$8:DN$15)>0,$H19*$I19,0)/SUM($I$8:$I$15)","v":0},null,{"$f":"IF(SUM(DP$8:DP$15)>0,$H19*$I19,0)/SUM($I$8:$I$15)","v":0},null,{"$f":"IF(SUM(DR$8:DR$15)>0,$H19*$I19,0)/SUM($I$8:$I$15)","v":0},null,{"$f":"IF(SUM(DT$8:DT$15)>0,$H19*$I19,0)/SUM($I$8:$I$15)","v":0},null,{"$f":"IF(SUM(DV$8:DV$15)>0,$H19*$I19,0)/SUM($I$8:$I$15)","v":0},null,{"$f":"IF(SUM(DX$8:DX$15)>0,$H19*$I19,0)/SUM($I$8:$I$15)","v":0},null,0]
[null,null,null,"Sobretudo 100% em lã fria (92% poliéster, 5% viscose, 3% elastano), forro 100% poliester, com botões, na cor preta",1,null,{"$f":"G19","v":10},10,313.52999999999997,null,null,null,313.52999999999997,null,313.52999999999997,null,{"$f":"IF(SUM(P$8:P$15)>0,$H20*$I20,0)/SUM($I$8:$I$15)","v":313.52999999999997},null,{"$f":"IF(SUM(R$8:R$15)>0,$H20*$I20,0)/SUM($I$8:$I$15)","v":313.52999999999997},null,{"$f":"IF(SUM(T$8:T$15)>0,$H20*$I20,0)/SUM($I$8:$I$15)","v":313.52999999999997},null,{"$f":"IF(SUM(V$8:V$15)>0,$H20*$I20,0)/SUM($I$8:$I$15)","v":0},null,{"$f":"IF(SUM(X$8:X$15)>0,$H20*$I20,0)/SUM($I$8:$I$15)","v":0},null,{"$f":"IF(SUM(Z$8:Z$15)>0,$H20*$I20,0)/SUM($I$8:$I$15)","v":0},null,{"$f":"IF(SUM(AB$8:AB$15)>0,$H20*$I20,0)/SUM($I$8:$I$15)","v":0},null,{"$f":"IF(SUM(AD$8:AD$15)>0,$H20*$I20,0)/SUM($I$8:$I$15)","v":0},null,{"$f":"IF(SUM(AF$8:AF$15)>0,$H20*$I20,0)/SUM($I$8:$I$15)","v":0},null,{"$f":"IF(SUM(AH$8:AH$15)>0,$H20*$I20,0)/SUM($I$8:$I$15)","v":0},null,{"$f":"IF(SUM(AJ$8:AJ$15)>0,$H20*$I20,0)/SUM($I$8:$I$15)","v":0},null,{"$f":"IF(SUM(AL$8:AL$15)>0,$H20*$I20,0)/SUM($I$8:$I$15)","v":0},null,{"$f":"IF(SUM(AN$8:AN$15)>0,$H20*$I20,0)/SUM($I$8:$I$15)","v":0},null,{"$f":"IF(SUM(AP$8:AP$15)>0,$H20*$I20,0)/SUM($I$8:$I$15)","v":0},null,{"$f":"IF(SUM(AR$8:AR$15)>0,$H20*$I20,0)/SUM($I$8:$I$15)","v":0},null,{"$f":"IF(SUM(AT$8:AT$15)>0,$H20*$I20,0)/SUM($I$8:$I$15)","v":0},null,{"$f":"IF(SUM(AV$8:AV$15)>0,$H20*$I20,0)/SUM($I$8:$I$15)","v":0},null,{"$f":"IF(SUM(AX$8:AX$15)>0,$H20*$I20,0)/SUM($I$8:$I$15)","v":0},null,{"$f":"IF(SUM(AZ$8:AZ$15)>0,$H20*$I20,0)/SUM($I$8:$I$15)","v":0},null,{"$f":"IF(SUM(BB$8:BB$15)>0,$H20*$I20,0)/SUM($I$8:$I$15)","v":0},null,{"$f":"IF(SUM(BD$8:BD$15)>0,$H20*$I20,0)/SUM($I$8:$I$15)","v":0},null,{"$f":"IF(SUM(BF$8:BF$15)>0,$H20*$I20,0)/SUM($I$8:$I$15)","v":0},null,{"$f":"IF(SUM(BH$8:BH$15)>0,$H20*$I20,0)/SUM($I$8:$I$15)","v":0},null,{"$f":"IF(SUM(BJ$8:BJ$15)>0,$H20*$I20,0)/SUM($I$8:$I$15)","v":0},null,{"$f":"IF(SUM(BL$8:BL$15)>0,$H20*$I20,0)/SUM($I$8:$I$15)","v":0},null,{"$f":"IF(SUM(BN$8:BN$15)>0,$H20*$I20,0)/SUM($I$8:$I$15)","v":0},null,{"$f":"IF(SUM(BP$8:BP$15)>0,$H20*$I20,0)/SUM($I$8:$I$15)","v":0},null,{"$f":"IF(SUM(BR$8:BR$15)>0,$H20*$I20,0)/SUM($I$8:$I$15)","v":0},null,{"$f":"IF(SUM(BT$8:BT$15)>0,$H20*$I20,0)/SUM($I$8:$I$15)","v":0},null,{"$f":"IF(SUM(BV$8:BV$15)>0,$H20*$I20,0)/SUM($I$8:$I$15)","v":0},null,{"$f":"IF(SUM(BX$8:BX$15)>0,$H20*$I20,0)/SUM($I$8:$I$15)","v":0},null,{"$f":"IF(SUM(BZ$8:BZ$15)>0,$H20*$I20,0)/SUM($I$8:$I$15)","v":0},null,{"$f":"IF(SUM(CB$8:CB$15)>0,$H20*$I20,0)/SUM($I$8:$I$15)","v":0},null,{"$f":"IF(SUM(CD$8:CD$15)>0,$H20*$I20,0)/SUM($I$8:$I$15)","v":0},null,{"$f":"IF(SUM(CF$8:CF$15)>0,$H20*$I20,0)/SUM($I$8:$I$15)","v":0},null,{"$f":"IF(SUM(CH$8:CH$15)>0,$H20*$I20,0)/SUM($I$8:$I$15)","v":0},null,{"$f":"IF(SUM(CJ$8:CJ$15)>0,$H20*$I20,0)/SUM($I$8:$I$15)","v":0},null,{"$f":"IF(SUM(CL$8:CL$15)>0,$H20*$I20,0)/SUM($I$8:$I$15)","v":0},null,{"$f":"IF(SUM(CN$8:CN$15)>0,$H20*$I20,0)/SUM($I$8:$I$15)","v":0},null,{"$f":"IF(SUM(CP$8:CP$15)>0,$H20*$I20,0)/SUM($I$8:$I$15)","v":0},null,{"$f":"IF(SUM(CR$8:CR$15)>0,$H20*$I20,0)/SUM($I$8:$I$15)","v":0},null,{"$f":"IF(SUM(CT$8:CT$15)>0,$H20*$I20,0)/SUM($I$8:$I$15)","v":0},null,{"$f":"IF(SUM(CV$8:CV$15)>0,$H20*$I20,0)/SUM($I$8:$I$15)","v":0},null,{"$f":"IF(SUM(CX$8:CX$15)>0,$H20*$I20,0)/SUM($I$8:$I$15)","v":0},null,{"$f":"IF(SUM(CZ$8:CZ$15)>0,$H20*$I20,0)/SUM($I$8:$I$15)","v":0},null,{"$f":"IF(SUM(DB$8:DB$15)>0,$H20*$I20,0)/SUM($I$8:$I$15)","v":0},null,{"$f":"IF(SUM(DD$8:DD$15)>0,$H20*$I20,0)/SUM($I$8:$I$15)","v":0},null,{"$f":"IF(SUM(DF$8:DF$15)>0,$H20*$I20,0)/SUM($I$8:$I$15)","v":0},null,{"$f":"IF(SUM(DH$8:DH$15)>0,$H20*$I20,0)/SUM($I$8:$I$15)","v":0},null,{"$f":"IF(SUM(DJ$8:DJ$15)>0,$H20*$I20,0)/SUM($I$8:$I$15)","v":0},null,{"$f":"IF(SUM(DL$8:DL$15)>0,$H20*$I20,0)/SUM($I$8:$I$15)","v":0},null,{"$f":"IF(SUM(DN$8:DN$15)>0,$H20*$I20,0)/SUM($I$8:$I$15)","v":0},null,{"$f":"IF(SUM(DP$8:DP$15)>0,$H20*$I20,0)/SUM($I$8:$I$15)","v":0},null,{"$f":"IF(SUM(DR$8:DR$15)>0,$H20*$I20,0)/SUM($I$8:$I$15)","v":0},null,{"$f":"IF(SUM(DT$8:DT$15)>0,$H20*$I20,0)/SUM($I$8:$I$15)","v":0},null,{"$f":"IF(SUM(DV$8:DV$15)>0,$H20*$I20,0)/SUM($I$8:$I$15)","v":0},null,{"$f":"IF(SUM(DX$8:DX$15)>0,$H20*$I20,0)/SUM($I$8:$I$15)","v":0},null,0]
[null,null,null,"Meias social na cor preta",4,null,10,40,17.27,null,null,null,69.08,null,69.08,null,{"$f":"IF(SUM(P$8:P$15)>0,$H21*$I21,0)/SUM($I$8:$I$15)","v":69.08},null,{"$f":"IF(SUM(R$8:R$15)>0,$H21*$I21,0)/SUM($I$8:$I$15)","v":69.08},null,{"$f":"IF(SUM(T$8:T$15)>0,$H21*$I21,0)/SUM($I$8:$I$15)","v":69.08},null,{"$f":"IF(SUM(V$8:V$15)>0,$H21*$I21,0)/SUM($I$8:$I$15)","v":0},null,{"$f":"IF(SUM(X$8:X$15)>0,$H21*$I21,0)/SUM($I$8:$I$15)","v":0},null,{"$f":"IF(SUM(Z$8:Z$15)>0,$H21*$I21,0)/SUM($I$8:$I$15)","v":0},null,{"$f":"IF(SUM(AB$8:AB$15)>0,$H21*$I21,0)/SUM($I$8:$I$15)","v":0},null,{"$f":"IF(SUM(AD$8:AD$15)>0,$H21*$I21,0)/SUM($I$8:$I$15)","v":0},null,{"$f":"IF(SUM(AF$8:AF$15)>0,$H21*$I21,0)/SUM($I$8:$I$15)","v":0},null,{"$f":"IF(SUM(AH$8:AH$15)>0,$H21*$I21,0)/SUM($I$8:$I$15)","v":0},null,{"$f":"IF(SUM(AJ$8:AJ$15)>0,$H21*$I21,0)/SUM($I$8:$I$15)","v":0},null,{"$f":"IF(SUM(AL$8:AL$15)>0,$H21*$I21,0)/SUM($I$8:$I$15)","v":0},null,{"$f":"IF(SUM(AN$8:AN$15)>0,$H21*$I21,0)/SUM($I$8:$I$15)","v":0},null,{"$f":"IF(SUM(AP$8:AP$15)>0,$H21*$I21,0)/SUM($I$8:$I$15)","v":0},null,{"$f":"IF(SUM(AR$8:AR$15)>0,$H21*$I21,0)/SUM($I$8:$I$15)","v":0},null,{"$f":"IF(SUM(AT$8:AT$15)>0,$H21*$I21,0)/SUM($I$8:$I$15)","v":0},null,{"$f":"IF(SUM(AV$8:AV$15)>0,$H21*$I21,0)/SUM($I$8:$I$15)","v":0},null,{"$f":"IF(SUM(AX$8:AX$15)>0,$H21*$I21,0)/SUM($I$8:$I$15)","v":0},null,{"$f":"IF(SUM(AZ$8:AZ$15)>0,$H21*$I21,0)/SUM($I$8:$I$15)","v":0},null,{"$f":"IF(SUM(BB$8:BB$15)>0,$H21*$I21,0)/SUM($I$8:$I$15)","v":0},null,{"$f":"IF(SUM(BD$8:BD$15)>0,$H21*$I21,0)/SUM($I$8:$I$15)","v":0},null,{"$f":"IF(SUM(BF$8:BF$15)>0,$H21*$I21,0)/SUM($I$8:$I$15)","v":0},null,{"$f":"IF(SUM(BH$8:BH$15)>0,$H21*$I21,0)/SUM($I$8:$I$15)","v":0},null,{"$f":"IF(SUM(BJ$8:BJ$15)>0,$H21*$I21,0)/SUM($I$8:$I$15)","v":0},null,{"$f":"IF(SUM(BL$8:BL$15)>0,$H21*$I21,0)/SUM($I$8:$I$15)","v":0},null,{"$f":"IF(SUM(BN$8:BN$15)>0,$H21*$I21,0)/SUM($I$8:$I$15)","v":0},null,{"$f":"IF(SUM(BP$8:BP$15)>0,$H21*$I21,0)/SUM($I$8:$I$15)","v":0},null,{"$f":"IF(SUM(BR$8:BR$15)>0,$H21*$I21,0)/SUM($I$8:$I$15)","v":0},null,{"$f":"IF(SUM(BT$8:BT$15)>0,$H21*$I21,0)/SUM($I$8:$I$15)","v":0},null,{"$f":"IF(SUM(BV$8:BV$15)>0,$H21*$I21,0)/SUM($I$8:$I$15)","v":0},null,{"$f":"IF(SUM(BX$8:BX$15)>0,$H21*$I21,0)/SUM($I$8:$I$15)","v":0},null,{"$f":"IF(SUM(BZ$8:BZ$15)>0,$H21*$I21,0)/SUM($I$8:$I$15)","v":0},null,{"$f":"IF(SUM(CB$8:CB$15)>0,$H21*$I21,0)/SUM($I$8:$I$15)","v":0},null,{"$f":"IF(SUM(CD$8:CD$15)>0,$H21*$I21,0)/SUM($I$8:$I$15)","v":0},null,{"$f":"IF(SUM(CF$8:CF$15)>0,$H21*$I21,0)/SUM($I$8:$I$15)","v":0},null,{"$f":"IF(SUM(CH$8:CH$15)>0,$H21*$I21,0)/SUM($I$8:$I$15)","v":0},null,{"$f":"IF(SUM(CJ$8:CJ$15)>0,$H21*$I21,0)/SUM($I$8:$I$15)","v":0},null,{"$f":"IF(SUM(CL$8:CL$15)>0,$H21*$I21,0)/SUM($I$8:$I$15)","v":0},null,{"$f":"IF(SUM(CN$8:CN$15)>0,$H21*$I21,0)/SUM($I$8:$I$15)","v":0},null,{"$f":"IF(SUM(CP$8:CP$15)>0,$H21*$I21,0)/SUM($I$8:$I$15)","v":0},null,{"$f":"IF(SUM(CR$8:CR$15)>0,$H21*$I21,0)/SUM($I$8:$I$15)","v":0},null,{"$f":"IF(SUM(CT$8:CT$15)>0,$H21*$I21,0)/SUM($I$8:$I$15)","v":0},null,{"$f":"IF(SUM(CV$8:CV$15)>0,$H21*$I21,0)/SUM($I$8:$I$15)","v":0},null,{"$f":"IF(SUM(CX$8:CX$15)>0,$H21*$I21,0)/SUM($I$8:$I$15)","v":0},null,{"$f":"IF(SUM(CZ$8:CZ$15)>0,$H21*$I21,0)/SUM($I$8:$I$15)","v":0},null,{"$f":"IF(SUM(DB$8:DB$15)>0,$H21*$I21,0)/SUM($I$8:$I$15)","v":0},null,{"$f":"IF(SUM(DD$8:DD$15)>0,$H21*$I21,0)/SUM($I$8:$I$15)","v":0},null,{"$f":"IF(SUM(DF$8:DF$15)>0,$H21*$I21,0)/SUM($I$8:$I$15)","v":0},null,{"$f":"IF(SUM(DH$8:DH$15)>0,$H21*$I21,0)/SUM($I$8:$I$15)","v":0},null,{"$f":"IF(SUM(DJ$8:DJ$15)>0,$H21*$I21,0)/SUM($I$8:$I$15)","v":0},null,{"$f":"IF(SUM(DL$8:DL$15)>0,$H21*$I21,0)/SUM($I$8:$I$15)","v":0},null,{"$f":"IF(SUM(DN$8:DN$15)>0,$H21*$I21,0)/SUM($I$8:$I$15)","v":0},null,{"$f":"IF(SUM(DP$8:DP$15)>0,$H21*$I21,0)/SUM($I$8:$I$15)","v":0},null,{"$f":"IF(SUM(DR$8:DR$15)>0,$H21*$I21,0)/SUM($I$8:$I$15)","v":0},null,{"$f":"IF(SUM(DT$8:DT$15)>0,$H21*$I21,0)/SUM($I$8:$I$15)","v":0},null,{"$f":"IF(SUM(DV$8:DV$15)>0,$H21*$I21,0)/SUM($I$8:$I$15)","v":0},null,{"$f":"IF(SUM(DX$8:DX$15)>0,$H21*$I21,0)/SUM($I$8:$I$15)","v":0},null,0]
[null,null,null,"Cinto de couro na cor preta",1,null,10,10,57.26,null,null,null,57.260000000000005,null,57.260000000000005,null,{"$f":"IF(SUM(P$8:P$15)>0,$H22*$I22,0)/SUM($I$8:$I$15)","v":57.260000000000005},null,{"$f":"IF(SUM(R$8:R$15)>0,$H22*$I22,0)/SUM($I$8:$I$15)","v":57.260000000000005},null,{"$f":"IF(SUM(T$8:T$15)>0,$H22*$I22,0)/SUM($I$8:$I$15)","v":57.260000000000005},null,{"$f":"IF(SUM(V$8:V$15)>0,$H22*$I22,0)/SUM($I$8:$I$15)","v":0},null,{"$f":"IF(SUM(X$8:X$15)>0,$H22*$I22,0)/SUM($I$8:$I$15)","v":0},null,{"$f":"IF(SUM(Z$8:Z$15)>0,$H22*$I22,0)/SUM($I$8:$I$15)","v":0},null,{"$f":"IF(SUM(AB$8:AB$15)>0,$H22*$I22,0)/SUM($I$8:$I$15)","v":0},null,{"$f":"IF(SUM(AD$8:AD$15)>0,$H22*$I22,0)/SUM($I$8:$I$15)","v":0},null,{"$f":"IF(SUM(AF$8:AF$15)>0,$H22*$I22,0)/SUM($I$8:$I$15)","v":0},null,{"$f":"IF(SUM(AH$8:AH$15)>0,$H22*$I22,0)/SUM($I$8:$I$15)","v":0},null,{"$f":"IF(SUM(AJ$8:AJ$15)>0,$H22*$I22,0)/SUM($I$8:$I$15)","v":0},null,{"$f":"IF(SUM(AL$8:AL$15)>0,$H22*$I22,0)/SUM($I$8:$I$15)","v":0},null,{"$f":"IF(SUM(AN$8:AN$15)>0,$H22*$I22,0)/SUM($I$8:$I$15)","v":0},null,{"$f":"IF(SUM(AP$8:AP$15)>0,$H22*$I22,0)/SUM($I$8:$I$15)","v":0},null,{"$f":"IF(SUM(AR$8:AR$15)>0,$H22*$I22,0)/SUM($I$8:$I$15)","v":0},null,{"$f":"IF(SUM(AT$8:AT$15)>0,$H22*$I22,0)/SUM($I$8:$I$15)","v":0},null,{"$f":"IF(SUM(AV$8:AV$15)>0,$H22*$I22,0)/SUM($I$8:$I$15)","v":0},null,{"$f":"IF(SUM(AX$8:AX$15)>0,$H22*$I22,0)/SUM($I$8:$I$15)","v":0},null,{"$f":"IF(SUM(AZ$8:AZ$15)>0,$H22*$I22,0)/SUM($I$8:$I$15)","v":0},null,{"$f":"IF(SUM(BB$8:BB$15)>0,$H22*$I22,0)/SUM($I$8:$I$15)","v":0},null,{"$f":"IF(SUM(BD$8:BD$15)>0,$H22*$I22,0)/SUM($I$8:$I$15)","v":0},null,{"$f":"IF(SUM(BF$8:BF$15)>0,$H22*$I22,0)/SUM($I$8:$I$15)","v":0},null,{"$f":"IF(SUM(BH$8:BH$15)>0,$H22*$I22,0)/SUM($I$8:$I$15)","v":0},null,{"$f":"IF(SUM(BJ$8:BJ$15)>0,$H22*$I22,0)/SUM($I$8:$I$15)","v":0},null,{"$f":"IF(SUM(BL$8:BL$15)>0,$H22*$I22,0)/SUM($I$8:$I$15)","v":0},null,{"$f":"IF(SUM(BN$8:BN$15)>0,$H22*$I22,0)/SUM($I$8:$I$15)","v":0},null,{"$f":"IF(SUM(BP$8:BP$15)>0,$H22*$I22,0)/SUM($I$8:$I$15)","v":0},null,{"$f":"IF(SUM(BR$8:BR$15)>0,$H22*$I22,0)/SUM($I$8:$I$15)","v":0},null,{"$f":"IF(SUM(BT$8:BT$15)>0,$H22*$I22,0)/SUM($I$8:$I$15)","v":0},null,{"$f":"IF(SUM(BV$8:BV$15)>0,$H22*$I22,0)/SUM($I$8:$I$15)","v":0},null,{"$f":"IF(SUM(BX$8:BX$15)>0,$H22*$I22,0)/SUM($I$8:$I$15)","v":0},null,{"$f":"IF(SUM(BZ$8:BZ$15)>0,$H22*$I22,0)/SUM($I$8:$I$15)","v":0},null,{"$f":"IF(SUM(CB$8:CB$15)>0,$H22*$I22,0)/SUM($I$8:$I$15)","v":0},null,{"$f":"IF(SUM(CD$8:CD$15)>0,$H22*$I22,0)/SUM($I$8:$I$15)","v":0},null,{"$f":"IF(SUM(CF$8:CF$15)>0,$H22*$I22,0)/SUM($I$8:$I$15)","v":0},null,{"$f":"IF(SUM(CH$8:CH$15)>0,$H22*$I22,0)/SUM($I$8:$I$15)","v":0},null,{"$f":"IF(SUM(CJ$8:CJ$15)>0,$H22*$I22,0)/SUM($I$8:$I$15)","v":0},null,{"$f":"IF(SUM(CL$8:CL$15)>0,$H22*$I22,0)/SUM($I$8:$I$15)","v":0},null,{"$f":"IF(SUM(CN$8:CN$15)>0,$H22*$I22,0)/SUM($I$8:$I$15)","v":0},null,{"$f":"IF(SUM(CP$8:CP$15)>0,$H22*$I22,0)/SUM($I$8:$I$15)","v":0},null,{"$f":"IF(SUM(CR$8:CR$15)>0,$H22*$I22,0)/SUM($I$8:$I$15)","v":0},null,{"$f":"IF(SUM(CT$8:CT$15)>0,$H22*$I22,0)/SUM($I$8:$I$15)","v":0},null,{"$f":"IF(SUM(CV$8:CV$15)>0,$H22*$I22,0)/SUM($I$8:$I$15)","v":0},null,{"$f":"IF(SUM(CX$8:CX$15)>0,$H22*$I22,0)/SUM($I$8:$I$15)","v":0},null,{"$f":"IF(SUM(CZ$8:CZ$15)>0,$H22*$I22,0)/SUM($I$8:$I$15)","v":0},null,{"$f":"IF(SUM(DB$8:DB$15)>0,$H22*$I22,0)/SUM($I$8:$I$15)","v":0},null,{"$f":"IF(SUM(DD$8:DD$15)>0,$H22*$I22,0)/SUM($I$8:$I$15)","v":0},null,{"$f":"IF(SUM(DF$8:DF$15)>0,$H22*$I22,0)/SUM($I$8:$I$15)","v":0},null,{"$f":"IF(SUM(DH$8:DH$15)>0,$H22*$I22,0)/SUM($I$8:$I$15)","v":0},null,{"$f":"IF(SUM(DJ$8:DJ$15)>0,$H22*$I22,0)/SUM($I$8:$I$15)","v":0},null,{"$f":"IF(SUM(DL$8:DL$15)>0,$H22*$I22,0)/SUM($I$8:$I$15)","v":0},null,{"$f":"IF(SUM(DN$8:DN$15)>0,$H22*$I22,0)/SUM($I$8:$I$15)","v":0},null,{"$f":"IF(SUM(DP$8:DP$15)>0,$H22*$I22,0)/SUM($I$8:$I$15)","v":0},null,{"$f":"IF(SUM(DR$8:DR$15)>0,$H22*$I22,0)/SUM($I$8:$I$15)","v":0},null,{"$f":"IF(SUM(DT$8:DT$15)>0,$H22*$I22,0)/SUM($I$8:$I$15)","v":0},null,{"$f":"IF(SUM(DV$8:DV$15)>0,$H22*$I22,0)/SUM($I$8:$I$15)","v":0},null,{"$f":"IF(SUM(DX$8:DX$15)>0,$H22*$I22,0)/SUM($I$8:$I$15)","v":0},null,0]
[null,null,null,"Gravata na mesma cor do terno, lisa, com tecido 100% poliéster ou Lenço feminino para usar no pescoço na cor branca",1,null,10,10,34.18,null,null,null,34.18,null,34.18,null,{"$f":"IF(SUM(P$8:P$15)>0,$H23*$I23,0)/SUM($I$8:$I$15)","v":34.18},null,{"$f":"IF(SUM(R$8:R$15)>0,$H23*$I23,0)/SUM($I$8:$I$15)","v":34.18},null,{"$f":"IF(SUM(T$8:T$15)>0,$H23*$I23,0)/SUM($I$8:$I$15)","v":34.18},null,{"$f":"IF(SUM(V$8:V$15)>0,$H23*$I23,0)/SUM($I$8:$I$15)","v":0},null,{"$f":"IF(SUM(X$8:X$15)>0,$H23*$I23,0)/SUM($I$8:$I$15)","v":0},null,{"$f":"IF(SUM(Z$8:Z$15)>0,$H23*$I23,0)/SUM($I$8:$I$15)","v":0},null,{"$f":"IF(SUM(AB$8:AB$15)>0,$H23*$I23,0)/SUM($I$8:$I$15)","v":0},null,{"$f":"IF(SUM(AD$8:AD$15)>0,$H23*$I23,0)/SUM($I$8:$I$15)","v":0},null,{"$f":"IF(SUM(AF$8:AF$15)>0,$H23*$I23,0)/SUM($I$8:$I$15)","v":0},null,{"$f":"IF(SUM(AH$8:AH$15)>0,$H23*$I23,0)/SUM($I$8:$I$15)","v":0},null,{"$f":"IF(SUM(AJ$8:AJ$15)>0,$H23*$I23,0)/SUM($I$8:$I$15)","v":0},null,{"$f":"IF(SUM(AL$8:AL$15)>0,$H23*$I23,0)/SUM($I$8:$I$15)","v":0},null,{"$f":"IF(SUM(AN$8:AN$15)>0,$H23*$I23,0)/SUM($I$8:$I$15)","v":0},null,{"$f":"IF(SUM(AP$8:AP$15)>0,$H23*$I23,0)/SUM($I$8:$I$15)","v":0},null,{"$f":"IF(SUM(AR$8:AR$15)>0,$H23*$I23,0)/SUM($I$8:$I$15)","v":0},null,{"$f":"IF(SUM(AT$8:AT$15)>0,$H23*$I23,0)/SUM($I$8:$I$15)","v":0},null,{"$f":"IF(SUM(AV$8:AV$15)>0,$H23*$I23,0)/SUM($I$8:$I$15)","v":0},null,{"$f":"IF(SUM(AX$8:AX$15)>0,$H23*$I23,0)/SUM($I$8:$I$15)","v":0},null,{"$f":"IF(SUM(AZ$8:AZ$15)>0,$H23*$I23,0)/SUM($I$8:$I$15)","v":0},null,{"$f":"IF(SUM(BB$8:BB$15)>0,$H23*$I23,0)/SUM($I$8:$I$15)","v":0},null,{"$f":"IF(SUM(BD$8:BD$15)>0,$H23*$I23,0)/SUM($I$8:$I$15)","v":0},null,{"$f":"IF(SUM(BF$8:BF$15)>0,$H23*$I23,0)/SUM($I$8:$I$15)","v":0},null,{"$f":"IF(SUM(BH$8:BH$15)>0,$H23*$I23,0)/SUM($I$8:$I$15)","v":0},null,{"$f":"IF(SUM(BJ$8:BJ$15)>0,$H23*$I23,0)/SUM($I$8:$I$15)","v":0},null,{"$f":"IF(SUM(BL$8:BL$15)>0,$H23*$I23,0)/SUM($I$8:$I$15)","v":0},null,{"$f":"IF(SUM(BN$8:BN$15)>0,$H23*$I23,0)/SUM($I$8:$I$15)","v":0},null,{"$f":"IF(SUM(BP$8:BP$15)>0,$H23*$I23,0)/SUM($I$8:$I$15)","v":0},null,{"$f":"IF(SUM(BR$8:BR$15)>0,$H23*$I23,0)/SUM($I$8:$I$15)","v":0},null,{"$f":"IF(SUM(BT$8:BT$15)>0,$H23*$I23,0)/SUM($I$8:$I$15)","v":0},null,{"$f":"IF(SUM(BV$8:BV$15)>0,$H23*$I23,0)/SUM($I$8:$I$15)","v":0},null,{"$f":"IF(SUM(BX$8:BX$15)>0,$H23*$I23,0)/SUM($I$8:$I$15)","v":0},null,{"$f":"IF(SUM(BZ$8:BZ$15)>0,$H23*$I23,0)/SUM($I$8:$I$15)","v":0},null,{"$f":"IF(SUM(CB$8:CB$15)>0,$H23*$I23,0)/SUM($I$8:$I$15)","v":0},null,{"$f":"IF(SUM(CD$8:CD$15)>0,$H23*$I23,0)/SUM($I$8:$I$15)","v":0},null,{"$f":"IF(SUM(CF$8:CF$15)>0,$H23*$I23,0)/SUM($I$8:$I$15)","v":0},null,{"$f":"IF(SUM(CH$8:CH$15)>0,$H23*$I23,0)/SUM($I$8:$I$15)","v":0},null,{"$f":"IF(SUM(CJ$8:CJ$15)>0,$H23*$I23,0)/SUM($I$8:$I$15)","v":0},null,{"$f":"IF(SUM(CL$8:CL$15)>0,$H23*$I23,0)/SUM($I$8:$I$15)","v":0},null,{"$f":"IF(SUM(CN$8:CN$15)>0,$H23*$I23,0)/SUM($I$8:$I$15)","v":0},null,{"$f":"IF(SUM(CP$8:CP$15)>0,$H23*$I23,0)/SUM($I$8:$I$15)","v":0},null,{"$f":"IF(SUM(CR$8:CR$15)>0,$H23*$I23,0)/SUM($I$8:$I$15)","v":0},null,{"$f":"IF(SUM(CT$8:CT$15)>0,$H23*$I23,0)/SUM($I$8:$I$15)","v":0},null,{"$f":"IF(SUM(CV$8:CV$15)>0,$H23*$I23,0)/SUM($I$8:$I$15)","v":0},null,{"$f":"IF(SUM(CX$8:CX$15)>0,$H23*$I23,0)/SUM($I$8:$I$15)","v":0},null,{"$f":"IF(SUM(CZ$8:CZ$15)>0,$H23*$I23,0)/SUM($I$8:$I$15)","v":0},null,{"$f":"IF(SUM(DB$8:DB$15)>0,$H23*$I23,0)/SUM($I$8:$I$15)","v":0},null,{"$f":"IF(SUM(DD$8:DD$15)>0,$H23*$I23,0)/SUM($I$8:$I$15)","v":0},null,{"$f":"IF(SUM(DF$8:DF$15)>0,$H23*$I23,0)/SUM($I$8:$I$15)","v":0},null,{"$f":"IF(SUM(DH$8:DH$15)>0,$H23*$I23,0)/SUM($I$8:$I$15)","v":0},null,{"$f":"IF(SUM(DJ$8:DJ$15)>0,$H23*$I23,0)/SUM($I$8:$I$15)","v":0},null,{"$f":"IF(SUM(DL$8:DL$15)>0,$H23*$I23,0)/SUM($I$8:$I$15)","v":0},null,{"$f":"IF(SUM(DN$8:DN$15)>0,$H23*$I23,0)/SUM($I$8:$I$15)","v":0},null,{"$f":"IF(SUM(DP$8:DP$15)>0,$H23*$I23,0)/SUM($I$8:$I$15)","v":0},null,{"$f":"IF(SUM(DR$8:DR$15)>0,$H23*$I23,0)/SUM($I$8:$I$15)","v":0},null,{"$f":"IF(SUM(DT$8:DT$15)>0,$H23*$I23,0)/SUM($I$8:$I$15)","v":0},null,{"$f":"IF(SUM(DV$8:DV$15)>0,$H23*$I23,0)/SUM($I$8:$I$15)","v":0},null,{"$f":"IF(SUM(DX$8:DX$15)>0,$H23*$I23,0)/SUM($I$8:$I$15)","v":0},null,0]
[null,null,null,"Sapatos social na cor preta, em couro, com cadarço, solado antiderrapante, em borracha, colado e costurado ao cabedal, forração interna em tecido, palmilha GEL anti-stress, amortecedor de impacto; ou Sapato social feminino, em couro, tipo mocassim ortopédico, forro interno em malha espumada, palmilha tipo calcanheira conformada, solado em borracha antiderrapante",2,null,{"$f":"G23","v":10},20,129.96,null,null,null,259.92,null,259.92,null,{"$f":"IF(SUM(P$8:P$15)>0,$H24*$I24,0)/SUM($I$8:$I$15)","v":259.92},null,{"$f":"IF(SUM(R$8:R$15)>0,$H24*$I24,0)/SUM($I$8:$I$15)","v":259.92},null,{"$f":"IF(SUM(T$8:T$15)>0,$H24*$I24,0)/SUM($I$8:$I$15)","v":259.92},null,{"$f":"IF(SUM(V$8:V$15)>0,$H24*$I24,0)/SUM($I$8:$I$15)","v":0},null,{"$f":"IF(SUM(X$8:X$15)>0,$H24*$I24,0)/SUM($I$8:$I$15)","v":0},null,{"$f":"IF(SUM(Z$8:Z$15)>0,$H24*$I24,0)/SUM($I$8:$I$15)","v":0},null,{"$f":"IF(SUM(AB$8:AB$15)>0,$H24*$I24,0)/SUM($I$8:$I$15)","v":0},null,{"$f":"IF(SUM(AD$8:AD$15)>0,$H24*$I24,0)/SUM($I$8:$I$15)","v":0},null,{"$f":"IF(SUM(AF$8:AF$15)>0,$H24*$I24,0)/SUM($I$8:$I$15)","v":0},null,{"$f":"IF(SUM(AH$8:AH$15)>0,$H24*$I24,0)/SUM($I$8:$I$15)","v":0},null,{"$f":"IF(SUM(AJ$8:AJ$15)>0,$H24*$I24,0)/SUM($I$8:$I$15)","v":0},null,{"$f":"IF(SUM(AL$8:AL$15)>0,$H24*$I24,0)/SUM($I$8:$I$15)","v":0},null,{"$f":"IF(SUM(AN$8:AN$15)>0,$H24*$I24,0)/SUM($I$8:$I$15)","v":0},null,{"$f":"IF(SUM(AP$8:AP$15)>0,$H24*$I24,0)/SUM($I$8:$I$15)","v":0},null,{"$f":"IF(SUM(AR$8:AR$15)>0,$H24*$I24,0)/SUM($I$8:$I$15)","v":0},null,{"$f":"IF(SUM(AT$8:AT$15)>0,$H24*$I24,0)/SUM($I$8:$I$15)","v":0},null,{"$f":"IF(SUM(AV$8:AV$15)>0,$H24*$I24,0)/SUM($I$8:$I$15)","v":0},null,{"$f":"IF(SUM(AX$8:AX$15)>0,$H24*$I24,0)/SUM($I$8:$I$15)","v":0},null,{"$f":"IF(SUM(AZ$8:AZ$15)>0,$H24*$I24,0)/SUM($I$8:$I$15)","v":0},null,{"$f":"IF(SUM(BB$8:BB$15)>0,$H24*$I24,0)/SUM($I$8:$I$15)","v":0},null,{"$f":"IF(SUM(BD$8:BD$15)>0,$H24*$I24,0)/SUM($I$8:$I$15)","v":0},null,{"$f":"IF(SUM(BF$8:BF$15)>0,$H24*$I24,0)/SUM($I$8:$I$15)","v":0},null,{"$f":"IF(SUM(BH$8:BH$15)>0,$H24*$I24,0)/SUM($I$8:$I$15)","v":0},null,{"$f":"IF(SUM(BJ$8:BJ$15)>0,$H24*$I24,0)/SUM($I$8:$I$15)","v":0},null,{"$f":"IF(SUM(BL$8:BL$15)>0,$H24*$I24,0)/SUM($I$8:$I$15)","v":0},null,{"$f":"IF(SUM(BN$8:BN$15)>0,$H24*$I24,0)/SUM($I$8:$I$15)","v":0},null,{"$f":"IF(SUM(BP$8:BP$15)>0,$H24*$I24,0)/SUM($I$8:$I$15)","v":0},null,{"$f":"IF(SUM(BR$8:BR$15)>0,$H24*$I24,0)/SUM($I$8:$I$15)","v":0},null,{"$f":"IF(SUM(BT$8:BT$15)>0,$H24*$I24,0)/SUM($I$8:$I$15)","v":0},null,{"$f":"IF(SUM(BV$8:BV$15)>0,$H24*$I24,0)/SUM($I$8:$I$15)","v":0},null,{"$f":"IF(SUM(BX$8:BX$15)>0,$H24*$I24,0)/SUM($I$8:$I$15)","v":0},null,{"$f":"IF(SUM(BZ$8:BZ$15)>0,$H24*$I24,0)/SUM($I$8:$I$15)","v":0},null,{"$f":"IF(SUM(CB$8:CB$15)>0,$H24*$I24,0)/SUM($I$8:$I$15)","v":0},null,{"$f":"IF(SUM(CD$8:CD$15)>0,$H24*$I24,0)/SUM($I$8:$I$15)","v":0},null,{"$f":"IF(SUM(CF$8:CF$15)>0,$H24*$I24,0)/SUM($I$8:$I$15)","v":0},null,{"$f":"IF(SUM(CH$8:CH$15)>0,$H24*$I24,0)/SUM($I$8:$I$15)","v":0},null,{"$f":"IF(SUM(CJ$8:CJ$15)>0,$H24*$I24,0)/SUM($I$8:$I$15)","v":0},null,{"$f":"IF(SUM(CL$8:CL$15)>0,$H24*$I24,0)/SUM($I$8:$I$15)","v":0},null,{"$f":"IF(SUM(CN$8:CN$15)>0,$H24*$I24,0)/SUM($I$8:$I$15)","v":0},null,{"$f":"IF(SUM(CP$8:CP$15)>0,$H24*$I24,0)/SUM($I$8:$I$15)","v":0},null,{"$f":"IF(SUM(CR$8:CR$15)>0,$H24*$I24,0)/SUM($I$8:$I$15)","v":0},null,{"$f":"IF(SUM(CT$8:CT$15)>0,$H24*$I24,0)/SUM($I$8:$I$15)","v":0},null,{"$f":"IF(SUM(CV$8:CV$15)>0,$H24*$I24,0)/SUM($I$8:$I$15)","v":0},null,{"$f":"IF(SUM(CX$8:CX$15)>0,$H24*$I24,0)/SUM($I$8:$I$15)","v":0},null,{"$f":"IF(SUM(CZ$8:CZ$15)>0,$H24*$I24,0)/SUM($I$8:$I$15)","v":0},null,{"$f":"IF(SUM(DB$8:DB$15)>0,$H24*$I24,0)/SUM($I$8:$I$15)","v":0},null,{"$f":"IF(SUM(DD$8:DD$15)>0,$H24*$I24,0)/SUM($I$8:$I$15)","v":0},null,{"$f":"IF(SUM(DF$8:DF$15)>0,$H24*$I24,0)/SUM($I$8:$I$15)","v":0},null,{"$f":"IF(SUM(DH$8:DH$15)>0,$H24*$I24,0)/SUM($I$8:$I$15)","v":0},null,{"$f":"IF(SUM(DJ$8:DJ$15)>0,$H24*$I24,0)/SUM($I$8:$I$15)","v":0},null,{"$f":"IF(SUM(DL$8:DL$15)>0,$H24*$I24,0)/SUM($I$8:$I$15)","v":0},null,{"$f":"IF(SUM(DN$8:DN$15)>0,$H24*$I24,0)/SUM($I$8:$I$15)","v":0},null,{"$f":"IF(SUM(DP$8:DP$15)>0,$H24*$I24,0)/SUM($I$8:$I$15)","v":0},null,{"$f":"IF(SUM(DR$8:DR$15)>0,$H24*$I24,0)/SUM($I$8:$I$15)","v":0},null,{"$f":"IF(SUM(DT$8:DT$15)>0,$H24*$I24,0)/SUM($I$8:$I$15)","v":0},null,{"$f":"IF(SUM(DV$8:DV$15)>0,$H24*$I24,0)/SUM($I$8:$I$15)","v":0},null,{"$f":"IF(SUM(DX$8:DX$15)>0,$H24*$I24,0)/SUM($I$8:$I$15)","v":0},null,0]
[]
[]
[null,null,"CATEGORIAS",null,null,null,null,null,"QUANTIDADE"]
[null,null,null,null,null,null,null,null,null,null,null,{"$f":"IF($C28=L$4,1,0)","v":0}]
[null,null,6,{"$f":"HLOOKUP($C29,'Dados Gerais'!$D$6:$BK$11,6)","v":"VIGILANTE DIURNO  \nPORTARIAS 1 \nEscala 12 x 36  \n7h às 19h  \n2ª feira a Dom"},null,null,null,null,{"$f":"HLOOKUP($C29,'Dados Gerais'!$D$6:$BK$15,10)","v":36},null,null,{"$f":"IF($C29=L$4,1,0)","v":0},null,{"$f":"IF($C29=N$4,1,0)","v":0},null,{"$f":"IF($C29=P$4,1,0)","v":0},null,{"$f":"IF($C29=R$4,1,0)","v":0},null,{"$f":"IF($C29=T$4,1,0)","v":0},null,{"$f":"IF($C29=V$4,1,0)","v":1},null,{"$f":"IF($C29=X$4,1,0)","v":0},null,{"$f":"IF($C29=Z$4,1,0)","v":0},null,{"$f":"IF($C29=AB$4,1,0)","v":0},null,{"$f":"IF($C29=AD$4,1,0)","v":0},null,{"$f":"IF($C29=AF$4,1,0)","v":0},null,{"$f":"IF($C29=AH$4,1,0)","v":0},null,{"$f":"IF($C29=AJ$4,1,0)","v":0},null,{"$f":"IF($C29=AL$4,1,0)","v":0},null,{"$f":"IF($C29=AN$4,1,0)","v":0},null,{"$f":"IF($C29=AP$4,1,0)","v":0},null,{"$f":"IF($C29=AR$4,1,0)","v":0},null,{"$f":"IF($C29=AT$4,1,0)","v":0},null,{"$f":"IF($C29=AV$4,1,0)","v":0},null,{"$f":"IF($C29=AX$4,1,0)","v":0},null,{"$f":"IF($C29=AZ$4,1,0)","v":0},null,{"$f":"IF($C29=BB$4,1,0)","v":0},null,{"$f":"IF($C29=BD$4,1,0)","v":0},null,{"$f":"IF($C29=BF$4,1,0)","v":0},null,{"$f":"IF($C29=BH$4,1,0)","v":0},null,{"$f":"IF($C29=BJ$4,1,0)","v":0},null,{"$f":"IF($C29=BL$4,1,0)","v":0},null,{"$f":"IF($C29=BN$4,1,0)","v":0},null,{"$f":"IF($C29=BP$4,1,0)","v":0},null,{"$f":"IF($C29=BR$4,1,0)","v":0},null,{"$f":"IF($C29=BT$4,1,0)","v":0},null,{"$f":"IF($C29=BV$4,1,0)","v":0},null,{"$f":"IF($C29=BX$4,1,0)","v":0},null,{"$f":"IF($C29=BZ$4,1,0)","v":0},null,{"$f":"IF($C29=CB$4,1,0)","v":0},null,{"$f":"IF($C29=CD$4,1,0)","v":0},null,{"$f":"IF($C29=CF$4,1,0)","v":0},null,{"$f":"IF($C29=CH$4,1,0)","v":0},null,{"$f":"IF($C29=CJ$4,1,0)","v":0},null,{"$f":"IF($C29=CL$4,1,0)","v":0},null,{"$f":"IF($C29=CN$4,1,0)","v":0},null,{"$f":"IF($C29=CP$4,1,0)","v":0},null,{"$f":"IF($C29=CR$4,1,0)","v":0},null,{"$f":"IF($C29=CT$4,1,0)","v":0},null,{"$f":"IF($C29=CV$4,1,0)","v":0},null,{"$f":"IF($C29=CX$4,1,0)","v":0},null,{"$f":"IF($C29=CZ$4,1,0)","v":0},null,{"$f":"IF($C29=DB$4,1,0)","v":0},null,{"$f":"IF($C29=DD$4,1,0)","v":0},null,{"$f":"IF($C29=DF$4,1,0)","v":0},null,{"$f":"IF($C29=DH$4,1,0)","v":0},null,{"$f":"IF($C29=DJ$4,1,0)","v":0},null,{"$f":"IF($C29=DL$4,1,0)","v":0},null,{"$f":"IF($C29=DN$4,1,0)","v":0},null,{"$f":"IF($C29=DP$4,1,0)","v":0},null,{"$f":"IF($C29=DR$4,1,0)","v":0},null,{"$f":"IF($C29=DT$4,1,0)","v":0},null,{"$f":"IF($C29=DV$4,1,0)","v":0},null,{"$f":"IF($C29=DX$4,1,0)","v":0},null,{"$f":"IF($C29=DZ$4,1,0)","v":0}]
[null,null,7,{"$f":"HLOOKUP($C30,'Dados Gerais'!$D$6:$BK$11,6)","v":"VIGILANTE NOTURNO  \nPORTARIAS 1 \nEscala 12 x 36  \n19h às 7h  \n2ª feira a Dom"},null,null,null,null,{"$f":"HLOOKUP($C30,'Dados Gerais'!$D$6:$BK$15,10)","v":30},null,null,0,null,{"$f":"IF($C30=N$4,1,0)","v":0},null,0,null,0,null,0,null,0,null,1,null,0,null,0,null,0,null,0,null,0,null,0,null,0,null,0,null,0,null,0,null,0,null,0,null,0,null,0,null,0,null,0,null,0,null,0,null,0,null,0,null,0,null,0,null,0,null,0,null,0,null,0,null,0,null,0,null,0,null,0,null,0,null,0,null,0,null,0,null,0,null,0,null,0,null,0,null,0,null,0,null,0,null,0,null,0,null,0,null,0,null,0,null,0,null,0,null,0,null,0,null,0,null,0,null,0]
[null,null,8,{"$f":"HLOOKUP($C31,'Dados Gerais'!$D$6:$BK$11,6)","v":"VIGILANTE MATUTINO \nPORTARIAS 1 \nEscala 40 horas semanais \n7h às 16h  \n2ª à 6ª feira"},null,null,null,null,{"$f":"HLOOKUP($C31,'Dados Gerais'!$D$6:$BK$15,10)","v":13},null,null,0,null,{"$f":"IF($C31=N$4,1,0)","v":0},null,0,null,0,null,0,null,0,null,0,null,1,null,0,null,0,null,0,null,0,null,0,null,0,null,0,null,0,null,0,null,0,null,0,null,0,null,0,null,0,null,0,null,0,null,0,null,0,null,0,null,0,null,0,null,0,null,0,null,0,null,0,null,0,null,0,null,0,null,0,null,0,null,0,null,0,null,0,null,0,null,0,null,0,null,0,null,0,null,0,null,0,null,0,null,0,null,0,null,0,null,0,null,0,null,0,null,0,null,0,null,0,null,0,null,0]
[null,null,9,{"$f":"HLOOKUP($C32,'Dados Gerais'!$D$6:$BK$11,6)","v":"VIGILANTE VESPERTINO \nPORTARIAS 1 \nEscala 40 horas semanais \n13h às 22h \n2ª à 6ª feira"},null,null,null,null,{"$f":"HLOOKUP($C32,'Dados Gerais'!$D$6:$BK$15,10)","v":13},null,null,0,null,{"$f":"IF($C32=N$4,1,0)","v":0},null,0,null,0,null,0,null,0,null,0,null,0,null,1,null,0,null,0,null,0,null,0,null,0,null,0,null,0,null,0,null,0,null,0,null,0,null,0,null,0,null,0,null,0,null,0,null,0,null,0,null,0,null,0,null,0,null,0,null,0,null,0,null,0,null,0,null,0,null,0,null,0,null,0,null,0,null,0,null,0,null,0,null,0,null,0,null,0,null,0,null,0,null,0,null,0,null,0,null,0,null,0,null,0,null,0,null,0,null,0,null,0,null,0,null,0]
[null,null,null,null,null,null,null,null,null,null,null,0,null,0,null,0,null,0,null,0,null,0,null,0,null,0,null,0,null,0,null,0,null,0,null,0,null,0,null,0,null,0,null,0,null,0,null,0,null,0,null,0,null,0,null,0,null,0,null,0,null,0,null,0,null,0,null,0,null,0,null,0,null,0,null,0,null,0,null,0,null,0,null,0,null,0,null,0,null,0,null,0,null,0,null,0,null,0,null,0,null,0,null,0,null,0,null,0,null,0,null,0,null,0,null,0,null,0,null,0,null,0,null,0,null,0,null,0,null,0]
[null,null,null,null,null,null,null,null,null,null,null,null,null,null,null,0,null,0,null,0,null,0,null,0,null,0,null,0,null,0,null,0,null,0,null,0,null,0,null,0,null,0,null,0,null,0,null,0,null,0,null,0,null,0,null,0,null,0,null,0,null,0,null,0,null,0,null,0,null,0,null,0,null,0,null,0,null,0,null,0,null,0,null,0,null,0,null,0,null,0,null,0,null,0,null,0,null,0,null,0,null,0,null,0,null,0,null,0,null,0,null,0,null,0,null,0,null,0,null,0,null,0,null,0,null,0,null,0,null,0]
[null,null,"ITEM","DESCRIÇÃO","QUANT ANUAL\nPOR POSTO",null,"Nº DE POSTOS","QUANT ANUAL\nTOTAL ESTIMADA","VALOR",null,null,null,null,null,null,0,null,0,null,0,null,0,null,0,null,0,null,0,null,0,null,0,null,0,null,0,null,0,null,0,null,0,null,0,null,0,null,0,null,0,null,0,null,0,null,0,null,0,null,0,null,0,null,0,null,0,null,0,null,0,null,0,null,0,null,0,null,0,null,0,null,0,null,0,null,0,null,0,null,0,null,0,null,0,null,0,null,0,null,0,null,0,null,0,null,0,null,0,null,0,null,0,null,0,null,0,null,0,null,0,null,0,null,0,null,0,null,0,null,0]
[]
[null,null,null,"Ternos composto de 1 (um) paletó e 1 (uma) calça, confeccionados em tecido de poliéster (95%) e elastano (5%), na cor preta, tamanho de acordo com o manequim do usuário, com forro 100% poliester  ou Terninho feminino composto de 1 (um) blazer e 1 (uma) calça, confeccionados em tecido poliéster (95%) e elastano(5%) de 1ª qualidade, na cor preta, tamanho de acordo com o manequim do usuário com forro 100% poliester",2,null,{"$f":"SUM($I$29:$I$32)","v":92},{"$f":"ROUNDUP(E37*G37,0)","v":184},{"$f":"I18","v":366.57},null,null,null,{"$f":"IF(SUM(L$28:L$33)>0,$H37*$I37,0)/SUM($I$29:$I$33)","v":0},null,{"$f":"IF(SUM(N$28:N$33)>0,$H37*$I37,0)/SUM($I$29:$I$33)","v":0},null,{"$f":"IF(SUM(P$28:P$33)>0,$H37*$I37,0)/SUM($I$29:$I$33)","v":0},null,{"$f":"IF(SUM(R$28:R$33)>0,$H37*$I37,0)/SUM($I$29:$I$33)","v":0},null,{"$f":"IF(SUM(T$28:T$33)>0,$H37*$I37,0)/SUM($I$29:$I$33)","v":0},null,{"$f":"IF(SUM(V$28:V$33)>0,$H37*$I37,0)/SUM($I$29:$I$33)","v":733.1400000000001},null,{"$f":"IF(SUM(X$28:X$33)>0,$H37*$I37,0)/SUM($I$29:$I$33)","v":733.1400000000001},null,{"$f":"IF(SUM(Z$28:Z$33)>0,$H37*$I37,0)/SUM($I$29:$I$33)","v":733.1400000000001},null,{"$f":"IF(SUM(AB$28:AB$33)>0,$H37*$I37,0)/SUM($I$29:$I$33)","v":733.1400000000001},null,{"$f":"IF(SUM(AD$28:AD$33)>0,$H37*$I37,0)/SUM($I$29:$I$33)","v":0},null,{"$f":"IF(SUM(AF$28:AF$33)>0,$H37*$I37,0)/SUM($I$29:$I$33)","v":0},null,{"$f":"IF(SUM(AH$28:AH$33)>0,$H37*$I37,0)/SUM($I$29:$I$33)","v":0},null,{"$f":"IF(SUM(AJ$28:AJ$33)>0,$H37*$I37,0)/SUM($I$29:$I$33)","v":0},null,{"$f":"IF(SUM(AL$28:AL$33)>0,$H37*$I37,0)/SUM($I$29:$I$33)","v":0},null,{"$f":"IF(SUM(AN$28:AN$33)>0,$H37*$I37,0)/SUM($I$29:$I$33)","v":0},null,{"$f":"IF(SUM(AP$28:AP$33)>0,$H37*$I37,0)/SUM($I$29:$I$33)","v":0},null,{"$f":"IF(SUM(AR$28:AR$33)>0,$H37*$I37,0)/SUM($I$29:$I$33)","v":0},null,{"$f":"IF(SUM(AT$28:AT$33)>0,$H37*$I37,0)/SUM($I$29:$I$33)","v":0},null,{"$f":"IF(SUM(AV$28:AV$33)>0,$H37*$I37,0)/SUM($I$29:$I$33)","v":0},null,{"$f":"IF(SUM(AX$28:AX$33)>0,$H37*$I37,0)/SUM($I$29:$I$33)","v":0},null,{"$f":"IF(SUM(AZ$28:AZ$33)>0,$H37*$I37,0)/SUM($I$29:$I$33)","v":0},null,{"$f":"IF(SUM(BB$28:BB$33)>0,$H37*$I37,0)/SUM($I$29:$I$33)","v":0},null,{"$f":"IF(SUM(BD$28:BD$33)>0,$H37*$I37,0)/SUM($I$29:$I$33)","v":0},null,{"$f":"IF(SUM(BF$28:BF$33)>0,$H37*$I37,0)/SUM($I$29:$I$33)","v":0},null,{"$f":"IF(SUM(BH$28:BH$33)>0,$H37*$I37,0)/SUM($I$29:$I$33)","v":0},null,{"$f":"IF(SUM(BJ$28:BJ$33)>0,$H37*$I37,0)/SUM($I$29:$I$33)","v":0},null,{"$f":"IF(SUM(BL$28:BL$33)>0,$H37*$I37,0)/SUM($I$29:$I$33)","v":0},null,{"$f":"IF(SUM(BN$28:BN$33)>0,$H37*$I37,0)/SUM($I$29:$I$33)","v":0},null,{"$f":"IF(SUM(BP$28:BP$33)>0,$H37*$I37,0)/SUM($I$29:$I$33)","v":0},null,{"$f":"IF(SUM(BR$28:BR$33)>0,$H37*$I37,0)/SUM($I$29:$I$33)","v":0},null,{"$f":"IF(SUM(BT$28:BT$33)>0,$H37*$I37,0)/SUM($I$29:$I$33)","v":0},null,{"$f":"IF(SUM(BV$28:BV$33)>0,$H37*$I37,0)/SUM($I$29:$I$33)","v":0},null,{"$f":"IF(SUM(BX$28:BX$33)>0,$H37*$I37,0)/SUM($I$29:$I$33)","v":0},null,{"$f":"IF(SUM(BZ$28:BZ$33)>0,$H37*$I37,0)/SUM($I$29:$I$33)","v":0},null,{"$f":"IF(SUM(CB$28:CB$33)>0,$H37*$I37,0)/SUM($I$29:$I$33)","v":0},null,{"$f":"IF(SUM(CD$28:CD$33)>0,$H37*$I37,0)/SUM($I$29:$I$33)","v":0},null,{"$f":"IF(SUM(CF$28:CF$33)>0,$H37*$I37,0)/SUM($I$29:$I$33)","v":0},null,{"$f":"IF(SUM(CH$28:CH$33)>0,$H37*$I37,0)/SUM($I$29:$I$33)","v":0},null,{"$f":"IF(SUM(CJ$28:CJ$33)>0,$H37*$I37,0)/SUM($I$29:$I$33)","v":0},null,{"$f":"IF(SUM(CL$28:CL$33)>0,$H37*$I37,0)/SUM($I$29:$I$33)","v":0},null,{"$f":"IF(SUM(CN$28:CN$33)>0,$H37*$I37,0)/SUM($I$29:$I$33)","v":0},null,{"$f":"IF(SUM(CP$28:CP$33)>0,$H37*$I37,0)/SUM($I$29:$I$33)","v":0},null,{"$f":"IF(SUM(CR$28:CR$33)>0,$H37*$I37,0)/SUM($I$29:$I$33)","v":0},null,{"$f":"IF(SUM(CT$28:CT$33)>0,$H37*$I37,0)/SUM($I$29:$I$33)","v":0},null,{"$f":"IF(SUM(CV$28:CV$33)>0,$H37*$I37,0)/SUM($I$29:$I$33)","v":0},null,{"$f":"IF(SUM(CX$28:CX$33)>0,$H37*$I37,0)/SUM($I$29:$I$33)","v":0},null,{"$f":"IF(SUM(CZ$28:CZ$33)>0,$H37*$I37,0)/SUM($I$29:$I$33)","v":0},null,{"$f":"IF(SUM(DB$28:DB$33)>0,$H37*$I37,0)/SUM($I$29:$I$33)","v":0},null,{"$f":"IF(SUM(DD$28:DD$33)>0,$H37*$I37,0)/SUM($I$29:$I$33)","v":0},null,{"$f":"IF(SUM(DF$28:DF$33)>0,$H37*$I37,0)/SUM($I$29:$I$33)","v":0},null,{"$f":"IF(SUM(DH$28:DH$33)>0,$H37*$I37,0)/SUM($I$29:$I$33)","v":0},null,{"$f":"IF(SUM(DJ$28:DJ$33)>0,$H37*$I37,0)/SUM($I$29:$I$33)","v":0},null,{"$f":"IF(SUM(DL$28:DL$33)>0,$H37*$I37,0)/SUM($I$29:$I$33)","v":0},null,{"$f":"IF(SUM(DN$28:DN$33)>0,$H37*$I37,0)/SUM($I$29:$I$33)","v":0},null,{"$f":"IF(SUM(DP$28:DP$33)>0,$H37*$I37,0)/SUM($I$29:$I$33)","v":0},null,{"$f":"IF(SUM(DR$28:DR$33)>0,$H37*$I37,0)/SUM($I$29:$I$33)","v":0},null,{"$f":"IF(SUM(DT$28:DT$33)>0,$H37*$I37,0)/SUM($I$29:$I$33)","v":0},null,{"$f":"IF(SUM(DV$28:DV$33)>0,$H37*$I37,0)/SUM($I$29:$I$33)","v":0},null,{"$f":"IF(SUM(DX$28:DX$33)>0,$H37*$I37,0)/SUM($I$29:$I$33)","v":0},null,{"$f":"IF(SUM(DZ$28:DZ$33)>0,$H37*$I37,0)/SUM($I$29:$I$33)","v":0},null,{"$f":"IF(SUM(EB$28:EB$33)>0,$H37*$I37,0)/SUM($I$29:$I$33)","v":0},null,{"$f":"IF(SUM(ED$28:ED$33)>0,$H37*$I37,0)/SUM($I$29:$I$33)","v":0},null,{"$f":"IF(SUM(EF$28:EF$33)>0,$H37*$I37,0)/SUM($I$29:$I$33)","v":0},null,{"$f":"IF(SUM(EH$28:EH$33)>0,$H37*$I37,0)/SUM($I$29:$I$33)","v":0}]
[null,null,null,"Camisas social na cor branca em tecido 100% algodão",4,null,{"$f":"G37","v":92},{"$f":"ROUNDUP(E38*G38,0)","v":368},101.78,null,null,null,0,null,0,null,0,null,0,null,0,null,407.12,null,407.12,null,407.12,null,407.12,null,0,null,0,null,0,null,0,null,0,null,0,null,0,null,0,null,0,null,0,null,0,null,0,null,0,null,0,null,0,null,0,null,0,null,0,null,0,null,0,null,0,null,0,null,0,null,0,null,0,null,0,null,0,null,0,null,0,null,0,null,0,null,0,null,0,null,0,null,0,null,0,null,0,null,0,null,0,null,0,null,0,null,0,null,0,null,0,null,0,null,0,null,0,null,0,null,0,null,0,null,0,null,0,null,0,null,0,null,0]
[null,null,null,"Sobretudo 100% em lã fria (92% poliéster, 5% viscose, 3% elastano), forro 100% poliester, com botões, na cor preta",1,null,{"$f":"G38","v":92},92,313.52999999999997,null,null,null,0,null,0,null,0,null,0,null,0,null,313.52999999999997,null,313.52999999999997,null,313.52999999999997,null,313.52999999999997,null,0,null,0,null,0,null,0,null,0,null,0,null,0,null,0,null,0,null,0,null,0,null,0,null,0,null,0,null,0,null,0,null,0,null,0,null,0,null,0,null,0,null,0,null,0,null,0,null,0,null,0,null,0,null,0,null,0,null,0,null,0,null,0,null,0,null,0,null,0,null,0,null,0,null,0,null,0,null,0,null,0,null,0,null,0,null,0,null,0,null,0,null,0,null,0,null,0,null,0,null,0,null,0,null,0,null,0,null,0]
[null,null,null,"Meias social na cor preta",4,null,92,368,17.27,null,null,null,0,null,0,null,0,null,0,null,0,null,69.08,null,69.08,null,69.08,null,69.08,null,0,null,0,null,0,null,0,null,0,null,0,null,0,null,0,null,0,null,0,null,0,null,0,null,0,null,0,null,0,null,0,null,0,null,0,null,0,null,0,null,0,null,0,null,0,null,0,null,0,null,0,null,0,null,0,null,0,null,0,null,0,null,0,null,0,null,0,null,0,null,0,null,0,null,0,null,0,null,0,null,0,null,0,null,0,null,0,null,0,null,0,null,0,null,0,null,0,null,0,null,0,null,0,null,0,null,0,null,0]
[null,null,null,"Cinto de couro na cor preta",1,null,92,92,57.26,null,null,null,0,null,0,null,0,null,0,null,0,null,57.26,null,57.26,null,57.26,null,57.26,null,0,null,0,null,0,null,0,null,0,null,0,null,0,null,0,null,0,null,0,null,0,null,0,null,0,null,0,null,0,null,0,null,0,null,0,null,0,null,0,null,0,null,0,null,0,null,0,null,0,null,0,null,0,null,0,null,0,null,0,null,0,null,0,null,0,null,0,null,0,null,0,null,0,null,0,null,0,null,0,null,0,null,0,null,0,null,0,null,0,null,0,null,0,null,0,null,0,null,0,null,0,null,0,null,0,null,0,null,0]
[null,null,null,"Gravata na mesma cor do terno, lisa, com tecido 100% poliéster ou Lenço feminino para usar no pescoço na cor branca",1,null,92,92,34.18,null,null,null,0,null,0,null,0,null,0,null,0,null,34.18,null,34.18,null,34.18,null,34.18,null,0,null,0,null,0,null,0,null,0,null,0,null,0,null,0,null,0,null,0,null,0,null,0,null,0,null,0,null,0,null,0,null,0,null,0,null,0,null,0,null,0,null,0,null,0,null,0,null,0,null,0,null,0,null,0,null,0,null,0,null,0,null,0,null,0,null,0,null,0,null,0,null,0,null,0,null,0,null,0,null,0,null,0,null,0,null,0,null,0,null,0,null,0,null,0,null,0,null,0,null,0,null,0,null,0,null,0,null,0]
[null,null,null,"Sapatos social na cor preta, em couro, com cadarço, solado antiderrapante, em borracha, colado e costurado ao cabedal, forração interna em tecido, palmilha GEL anti-stress, amortecedor de impacto; ou Sapato social feminino, em couro, tipo mocassim ortopédico, forro interno em malha espumada, palmilha tipo calcanheira conformada, solado em borracha antiderrapante",2,null,92,184,129.96,null,null,null,0,null,0,null,0,null,0,null,0,null,259.92,null,259.92,null,259.92,null,259.92,null,0,null,0,null,0,null,0,null,0,null,0,null,0,null,0,null,0,null,0,null,0,null,0,null,0,null,0,null,0,null,0,null,0,null,0,null,0,null,0,null,0,null,0,null,0,null,0,null,0,null,0,null,0,null,0,null,0,null,0,null,0,null,0,null,0,null,0,null,0,null,0,null,0,null,0,null,0,null,0,null,0,null,0,null,0,null,0,null,0,null,0,null,0,null,0,null,0,null,0,null,0,null,0,null,0,null,0,null,0]
[null,null,null,"Capa de colete balístico com ajuste de altura e lagura através de presilhas na cor preta",1,null,92,92,285.33,null,null,null,0,null,0,null,0,null,0,null,0,null,285.33,null,285.33,null,285.33,null,285.33,null,0,null,0,null,0,null,0,null,0,null,0,null,0,null,0,null,0,null,0,null,0,null,0,null,0,null,0,null,0,null,0,null,0,null,0,null,0,null,0,null,0,null,0,null,0,null,0,null,0,null,0,null,0,null,0,null,0,null,0,null,0,null,0,null,0,null,0,null,0,null,0,null,0,null,0,null,0,null,0,null,0,null,0,null,0,null,0,null,0,null,0,null,0,null,0,null,0,null,0,null,0,null,0,null,0,null,0,null,0]
[null,null,null,"Cinto tático de nylon na cor preta, pai e filho, com coldre, porta cassetete, porta munição, porta algema e porta tonfa",1,null,92,92,234.97,null,null,null,0,null,0,null,0,null,0,null,0,null,234.97000000000003,null,234.97000000000003,null,234.97000000000003,null,234.97000000000003,null,0,null,0,null,0,null,0,null,0,null,0,null,0,null,0,null,0,null,0,null,0,null,0,null,0,null,0,null,0,null,0,null,0,null,0,null,0,null,0,null,0,null,0,null,0,null,0,null,0,null,0,null,0,null,0,null,0,null,0,null,0,null,0,null,0,null,0,null,0,null,0,null,0,null,0,null,0,null,0,null,0,null,0,null,0,null,0,null,0,null,0,null,0,null,0,null,0,null,0,null,0,null,0,null,0,null,0,null,0]
[]
[null,null,"CATEGORIAS",null,null,null,null,null,"QUANTIDADE"]
[]
[null,null,10,{"$f":"HLOOKUP($C49,'Dados Gerais'!$D$6:$BK$11,6)","v":"VIGILANTE MATUTINO \nESTACIONAMENTOS \nEscala 40 horas semanais \n7h às 16h \n2ª à 6ª feira"},null,null,null,null,{"$f":"HLOOKUP($C49,'Dados Gerais'!$D$6:$BK$15,10)","v":24},null,null,{"$f":"IF($C49=L$4,1,0)","v":0},null,0,null,0,null,0,null,0,null,0,null,0,null,0,null,0,null,1,null,0,null,0,null,0,null,0,null,0,null,0,null,0,null,0,null,0,null,0,null,0,null,0,null,0,null,0,null,0,null,0,null,0,null,0,null,0,null,0,null,0,null,0,null,0,null,0,null,0,null,0,null,0,null,0,null,0,null,0,null,0,null,0,null,0,null,0,null,0,null,0,null,0,null,0,null,0,null,0,null,0,null,0,null,0,null,0,null,0,null,0,null,0,null,0,null,0,null,0,null,0]
[null,null,11,{"$f":"HLOOKUP($C50,'Dados Gerais'!$D$6:$BK$11,6)","v":"VIGILANTE VESPERTINO \nESTACIONAMENTOS \nEscala 40 horas semanais \n14h às 23h \n2ª à 6ª feira"},null,null,null,null,{"$f":"HLOOKUP($C50,'Dados Gerais'!$D$6:$BK$15,10)","v":24},null,null,0,null,0,null,0,null,0,null,0,null,0,null,0,null,0,null,0,null,0,null,1,null,0,null,0,null,0,null,0,null,0,null,0,null,0,null,0,null,0,null,0,null,0,null,0,null,0,null,0,null,0,null,0,null,0,null,0,null,0,null,0,null,0,null,0,null,0,null,0,null,0,null,0,null,0,null,0,null,0,null,0,null,0,null,0,null,0,null,0,null,0,null,0,null,0,null,0,null,0,null,0,null,0,null,0,null,0,null,0,null,0,null,0,null,0,null,0,null,0,null,0]
[]
[]
[null,null,"ITEM","DESCRIÇÃO","QUANT ANUAL\nPOR POSTO",null,"Nº DE POSTOS","QUANT ANUAL\nTOTAL ESTIMADA","VALOR"]
[]
[null,null,null,"Calças tática na cor preta, em tecido ripstop (algodão 35% e poliester 65%), com 06 bolsos",4,null,{"$f":"SUM($I$50:$I$51)","v":24},{"$f":"ROUNDUP(E55*G55,0)","v":96},303.67,null,null,null,{"$f":"IF(SUM(L$48:L$52)>0,$H55*$I55,0)/SUM($I$50:$I$51)","v":0},null,{"$f":"IF(SUM(N$48:N$52)>0,$H55*$I55,0)/SUM($I$50:$I$51)","v":0},null,{"$f":"IF(SUM(P$48:P$52)>0,$H55*$I55,0)/SUM($I$50:$I$51)","v":0},null,{"$f":"IF(SUM(R$48:R$52)>0,$H55*$I55,0)/SUM($I$50:$I$51)","v":0},null,{"$f":"IF(SUM(T$48:T$52)>0,$H55*$I55,0)/SUM($I$50:$I$51)","v":0},null,{"$f":"IF(SUM(V$48:V$52)>0,$H55*$I55,0)/SUM($I$50:$I$51)","v":0},null,{"$f":"IF(SUM(X$48:X$52)>0,$H55*$I55,0)/SUM($I$50:$I$51)","v":0},null,{"$f":"IF(SUM(Z$48:Z$52)>0,$H55*$I55,0)/SUM($I$50:$I$51)","v":0},null,{"$f":"IF(SUM(AB$48:AB$52)>0,$H55*$I55,0)/SUM($I$50:$I$51)","v":0},null,{"$f":"IF(SUM(AD$48:AD$52)>0,$H55*$I55,0)/SUM($I$50:$I$51)","v":1214.68},null,{"$f":"IF(SUM(AF$48:AF$52)>0,$H55*$I55,0)/SUM($I$50:$I$51)","v":1214.68},null,{"$f":"IF(SUM(AH$48:AH$52)>0,$H55*$I55,0)/SUM($I$50:$I$51)","v":0},null,{"$f":"IF(SUM(AJ$48:AJ$52)>0,$H55*$I55,0)/SUM($I$50:$I$51)","v":0},null,{"$f":"IF(SUM(AL$48:AL$52)>0,$H55*$I55,0)/SUM($I$50:$I$51)","v":0},null,{"$f":"IF(SUM(AN$48:AN$52)>0,$H55*$I55,0)/SUM($I$50:$I$51)","v":0},null,{"$f":"IF(SUM(AP$48:AP$52)>0,$H55*$I55,0)/SUM($I$50:$I$51)","v":0},null,{"$f":"IF(SUM(AR$48:AR$52)>0,$H55*$I55,0)/SUM($I$50:$I$51)","v":0},null,{"$f":"IF(SUM(AT$48:AT$52)>0,$H55*$I55,0)/SUM($I$50:$I$51)","v":0},null,{"$f":"IF(SUM(AV$48:AV$52)>0,$H55*$I55,0)/SUM($I$50:$I$51)","v":0},null,{"$f":"IF(SUM(AX$48:AX$52)>0,$H55*$I55,0)/SUM($I$50:$I$51)","v":0},null,{"$f":"IF(SUM(AZ$48:AZ$52)>0,$H55*$I55,0)/SUM($I$50:$I$51)","v":0},null,{"$f":"IF(SUM(BB$48:BB$52)>0,$H55*$I55,0)/SUM($I$50:$I$51)","v":0},null,{"$f":"IF(SUM(BD$48:BD$52)>0,$H55*$I55,0)/SUM($I$50:$I$51)","v":0},null,{"$f":"IF(SUM(BF$48:BF$52)>0,$H55*$I55,0)/SUM($I$50:$I$51)","v":0},null,{"$f":"IF(SUM(BH$48:BH$52)>0,$H55*$I55,0)/SUM($I$50:$I$51)","v":0},null,{"$f":"IF(SUM(BJ$48:BJ$52)>0,$H55*$I55,0)/SUM($I$50:$I$51)","v":0},null,{"$f":"IF(SUM(BL$48:BL$52)>0,$H55*$I55,0)/SUM($I$50:$I$51)","v":0},null,{"$f":"IF(SUM(BN$48:BN$52)>0,$H55*$I55,0)/SUM($I$50:$I$51)","v":0},null,{"$f":"IF(SUM(BP$48:BP$52)>0,$H55*$I55,0)/SUM($I$50:$I$51)","v":0},null,{"$f":"IF(SUM(BR$48:BR$52)>0,$H55*$I55,0)/SUM($I$50:$I$51)","v":0},null,{"$f":"IF(SUM(BT$48:BT$52)>0,$H55*$I55,0)/SUM($I$50:$I$51)","v":0},null,{"$f":"IF(SUM(BV$48:BV$52)>0,$H55*$I55,0)/SUM($I$50:$I$51)","v":0},null,{"$f":"IF(SUM(BX$48:BX$52)>0,$H55*$I55,0)/SUM($I$50:$I$51)","v":0},null,{"$f":"IF(SUM(BZ$48:BZ$52)>0,$H55*$I55,0)/SUM($I$50:$I$51)","v":0},null,{"$f":"IF(SUM(CB$48:CB$52)>0,$H55*$I55,0)/SUM($I$50:$I$51)","v":0},null,{"$f":"IF(SUM(CD$48:CD$52)>0,$H55*$I55,0)/SUM($I$50:$I$51)","v":0},null,{"$f":"IF(SUM(CF$48:CF$52)>0,$H55*$I55,0)/SUM($I$50:$I$51)","v":0},null,{"$f":"IF(SUM(CH$48:CH$52)>0,$H55*$I55,0)/SUM($I$50:$I$51)","v":0},null,{"$f":"IF(SUM(CJ$48:CJ$52)>0,$H55*$I55,0)/SUM($I$50:$I$51)","v":0},null,{"$f":"IF(SUM(CL$48:CL$52)>0,$H55*$I55,0)/SUM($I$50:$I$51)","v":0},null,{"$f":"IF(SUM(CN$48:CN$52)>0,$H55*$I55,0)/SUM($I$50:$I$51)","v":0},null,{"$f":"IF(SUM(CP$48:CP$52)>0,$H55*$I55,0)/SUM($I$50:$I$51)","v":0},null,{"$f":"IF(SUM(CR$48:CR$52)>0,$H55*$I55,0)/SUM($I$50:$I$51)","v":0},null,{"$f":"IF(SUM(CT$48:CT$52)>0,$H55*$I55,0)/SUM($I$50:$I$51)","v":0},null,{"$f":"IF(SUM(CV$48:CV$52)>0,$H55*$I55,0)/SUM($I$50:$I$51)","v":0},null,{"$f":"IF(SUM(CX$48:CX$52)>0,$H55*$I55,0)/SUM($I$50:$I$51)","v":0},null,{"$f":"IF(SUM(CZ$48:CZ$52)>0,$H55*$I55,0)/SUM($I$50:$I$51)","v":0},null,{"$f":"IF(SUM(DB$48:DB$52)>0,$H55*$I55,0)/SUM($I$50:$I$51)","v":0},null,{"$f":"IF(SUM(DD$48:DD$52)>0,$H55*$I55,0)/SUM($I$50:$I$51)","v":0},null,{"$f":"IF(SUM(DF$48:DF$52)>0,$H55*$I55,0)/SUM($I$50:$I$51)","v":0},null,{"$f":"IF(SUM(DH$48:DH$52)>0,$H55*$I55,0)/SUM($I$50:$I$51)","v":0},null,{"$f":"IF(SUM(DJ$48:DJ$52)>0,$H55*$I55,0)/SUM($I$50:$I$51)","v":0},null,{"$f":"IF(SUM(DL$48:DL$52)>0,$H55*$I55,0)/SUM($I$50:$I$51)","v":0},null,{"$f":"IF(SUM(DN$48:DN$52)>0,$H55*$I55,0)/SUM($I$50:$I$51)","v":0},null,{"$f":"IF(SUM(DP$48:DP$52)>0,$H55*$I55,0)/SUM($I$50:$I$51)","v":0},null,{"$f":"IF(SUM(DR$48:DR$52)>0,$H55*$I55,0)/SUM($I$50:$I$51)","v":0},null,{"$f":"IF(SUM(DT$48:DT$52)>0,$H55*$I55,0)/SUM($I$50:$I$51)","v":0},null,{"$f":"IF(SUM(DV$48:DV$52)>0,$H55*$I55,0)/SUM($I$50:$I$51)","v":0},null,{"$f":"IF(SUM(DX$48:DX$52)>0,$H55*$I55,0)/SUM($I$50:$I$51)","v":0},null,{"$f":"IF(SUM(DZ$48:DZ$52)>0,$H55*$I55,0)/SUM($I$50:$I$51)","v":0},null,{"$f":"IF(SUM(EB$48:EB$52)>0,$H55*$I55,0)/SUM($I$50:$I$51)","v":0}]
[null,null,null,"Coturnos tático na cor preta, todo em nobuk animal com espessura de 18/20 linhas, solado de borracha anti-derrapante com blaqueação lateral, forrado com pluma e dublado com espuma de 10 mm na língua e de 12 mm na parte traseira superior, passadores de nylon, palmilha de EVA de 6 mm, dublada com tecido antimicrobiano  entressola de EVA moldado e comprimido, tornozelo moldado e reforçado, marca de ref. Kallucci ",2,null,{"$f":"G55","v":24},{"$f":"ROUNDUP(E56*G56,0)","v":48},416.3,null,null,null,0,null,{"$f":"IF(SUM(N$48:N$52)>0,$H56*$I56,0)/SUM($I$50:$I$51)","v":0},null,{"$f":"IF(SUM(P$48:P$52)>0,$H56*$I56,0)/SUM($I$50:$I$51)","v":0},null,{"$f":"IF(SUM(R$48:R$52)>0,$H56*$I56,0)/SUM($I$50:$I$51)","v":0},null,{"$f":"IF(SUM(T$48:T$52)>0,$H56*$I56,0)/SUM($I$50:$I$51)","v":0},null,{"$f":"IF(SUM(V$48:V$52)>0,$H56*$I56,0)/SUM($I$50:$I$51)","v":0},null,{"$f":"IF(SUM(X$48:X$52)>0,$H56*$I56,0)/SUM($I$50:$I$51)","v":0},null,{"$f":"IF(SUM(Z$48:Z$52)>0,$H56*$I56,0)/SUM($I$50:$I$51)","v":0},null,{"$f":"IF(SUM(AB$48:AB$52)>0,$H56*$I56,0)/SUM($I$50:$I$51)","v":0},null,{"$f":"IF(SUM(AD$48:AD$52)>0,$H56*$I56,0)/SUM($I$50:$I$51)","v":832.6},null,{"$f":"IF(SUM(AF$48:AF$52)>0,$H56*$I56,0)/SUM($I$50:$I$51)","v":832.6},null,{"$f":"IF(SUM(AH$48:AH$52)>0,$H56*$I56,0)/SUM($I$50:$I$51)","v":0},null,{"$f":"IF(SUM(AJ$48:AJ$52)>0,$H56*$I56,0)/SUM($I$50:$I$51)","v":0},null,{"$f":"IF(SUM(AL$48:AL$52)>0,$H56*$I56,0)/SUM($I$50:$I$51)","v":0},null,{"$f":"IF(SUM(AN$48:AN$52)>0,$H56*$I56,0)/SUM($I$50:$I$51)","v":0},null,{"$f":"IF(SUM(AP$48:AP$52)>0,$H56*$I56,0)/SUM($I$50:$I$51)","v":0},null,{"$f":"IF(SUM(AR$48:AR$52)>0,$H56*$I56,0)/SUM($I$50:$I$51)","v":0},null,{"$f":"IF(SUM(AT$48:AT$52)>0,$H56*$I56,0)/SUM($I$50:$I$51)","v":0},null,{"$f":"IF(SUM(AV$48:AV$52)>0,$H56*$I56,0)/SUM($I$50:$I$51)","v":0},null,{"$f":"IF(SUM(AX$48:AX$52)>0,$H56*$I56,0)/SUM($I$50:$I$51)","v":0},null,{"$f":"IF(SUM(AZ$48:AZ$52)>0,$H56*$I56,0)/SUM($I$50:$I$51)","v":0},null,{"$f":"IF(SUM(BB$48:BB$52)>0,$H56*$I56,0)/SUM($I$50:$I$51)","v":0},null,{"$f":"IF(SUM(BD$48:BD$52)>0,$H56*$I56,0)/SUM($I$50:$I$51)","v":0},null,{"$f":"IF(SUM(BF$48:BF$52)>0,$H56*$I56,0)/SUM($I$50:$I$51)","v":0},null,{"$f":"IF(SUM(BH$48:BH$52)>0,$H56*$I56,0)/SUM($I$50:$I$51)","v":0},null,{"$f":"IF(SUM(BJ$48:BJ$52)>0,$H56*$I56,0)/SUM($I$50:$I$51)","v":0},null,{"$f":"IF(SUM(BL$48:BL$52)>0,$H56*$I56,0)/SUM($I$50:$I$51)","v":0},null,{"$f":"IF(SUM(BN$48:BN$52)>0,$H56*$I56,0)/SUM($I$50:$I$51)","v":0},null,{"$f":"IF(SUM(BP$48:BP$52)>0,$H56*$I56,0)/SUM($I$50:$I$51)","v":0},null,{"$f":"IF(SUM(BR$48:BR$52)>0,$H56*$I56,0)/SUM($I$50:$I$51)","v":0},null,{"$f":"IF(SUM(BT$48:BT$52)>0,$H56*$I56,0)/SUM($I$50:$I$51)","v":0},null,{"$f":"IF(SUM(BV$48:BV$52)>0,$H56*$I56,0)/SUM($I$50:$I$51)","v":0},null,{"$f":"IF(SUM(BX$48:BX$52)>0,$H56*$I56,0)/SUM($I$50:$I$51)","v":0},null,{"$f":"IF(SUM(BZ$48:BZ$52)>0,$H56*$I56,0)/SUM($I$50:$I$51)","v":0},null,{"$f":"IF(SUM(CB$48:CB$52)>0,$H56*$I56,0)/SUM($I$50:$I$51)","v":0},null,{"$f":"IF(SUM(CD$48:CD$52)>0,$H56*$I56,0)/SUM($I$50:$I$51)","v":0},null,{"$f":"IF(SUM(CF$48:CF$52)>0,$H56*$I56,0)/SUM($I$50:$I$51)","v":0},null,{"$f":"IF(SUM(CH$48:CH$52)>0,$H56*$I56,0)/SUM($I$50:$I$51)","v":0},null,{"$f":"IF(SUM(CJ$48:CJ$52)>0,$H56*$I56,0)/SUM($I$50:$I$51)","v":0},null,{"$f":"IF(SUM(CL$48:CL$52)>0,$H56*$I56,0)/SUM($I$50:$I$51)","v":0},null,{"$f":"IF(SUM(CN$48:CN$52)>0,$H56*$I56,0)/SUM($I$50:$I$51)","v":0},null,{"$f":"IF(SUM(CP$48:CP$52)>0,$H56*$I56,0)/SUM($I$50:$I$51)","v":0},null,{"$f":"IF(SUM(CR$48:CR$52)>0,$H56*$I56,0)/SUM($I$50:$I$51)","v":0},null,{"$f":"IF(SUM(CT$48:CT$52)>0,$H56*$I56,0)/SUM($I$50:$I$51)","v":0},null,{"$f":"IF(SUM(CV$48:CV$52)>0,$H56*$I56,0)/SUM($I$50:$I$51)","v":0},null,{"$f":"IF(SUM(CX$48:CX$52)>0,$H56*$I56,0)/SUM($I$50:$I$51)","v":0},null,{"$f":"IF(SUM(CZ$48:CZ$52)>0,$H56*$I56,0)/SUM($I$50:$I$51)","v":0},null,{"$f":"IF(SUM(DB$48:DB$52)>0,$H56*$I56,0)/SUM($I$50:$I$51)","v":0},null,{"$f":"IF(SUM(DD$48:DD$52)>0,$H56*$I56,0)/SUM($I$50:$I$51)","v":0},null,{"$f":"IF(SUM(DF$48:DF$52)>0,$H56*$I56,0)/SUM($I$50:$I$51)","v":0},null,{"$f":"IF(SUM(DH$48:DH$52)>0,$H56*$I56,0)/SUM($I$50:$I$51)","v":0},null,{"$f":"IF(SUM(DJ$48:DJ$52)>0,$H56*$I56,0)/SUM($I$50:$I$51)","v":0},null,{"$f":"IF(SUM(DL$48:DL$52)>0,$H56*$I56,0)/SUM($I$50:$I$51)","v":0},null,{"$f":"IF(SUM(DN$48:DN$52)>0,$H56*$I56,0)/SUM($I$50:$I$51)","v":0},null,{"$f":"IF(SUM(DP$48:DP$52)>0,$H56*$I56,0)/SUM($I$50:$I$51)","v":0},null,{"$f":"IF(SUM(DR$48:DR$52)>0,$H56*$I56,0)/SUM($I$50:$I$51)","v":0},null,{"$f":"IF(SUM(DT$48:DT$52)>0,$H56*$I56,0)/SUM($I$50:$I$51)","v":0},null,{"$f":"IF(SUM(DV$48:DV$52)>0,$H56*$I56,0)/SUM($I$50:$I$51)","v":0},null,{"$f":"IF(SUM(DX$48:DX$52)>0,$H56*$I56,0)/SUM($I$50:$I$51)","v":0},null,{"$f":"IF(SUM(DZ$48:DZ$52)>0,$H56*$I56,0)/SUM($I$50:$I$51)","v":0},null,{"$f":"IF(SUM(EB$48:EB$52)>0,$H56*$I56,0)/SUM($I$50:$I$51)","v":0}]
[null,null,null,"Cinto tático, tipo cadarço, na cor preta, com fivela preta",1,null,{"$f":"G56","v":24},24,35.369999999999997,null,null,null,0,null,{"$f":"IF(SUM(N$48:N$52)>0,$H57*$I57,0)/SUM($I$50:$I$51)","v":0},null,{"$f":"IF(SUM(P$48:P$52)>0,$H57*$I57,0)/SUM($I$50:$I$51)","v":0},null,{"$f":"IF(SUM(R$48:R$52)>0,$H57*$I57,0)/SUM($I$50:$I$51)","v":0},null,{"$f":"IF(SUM(T$48:T$52)>0,$H57*$I57,0)/SUM($I$50:$I$51)","v":0},null,{"$f":"IF(SUM(V$48:V$52)>0,$H57*$I57,0)/SUM($I$50:$I$51)","v":0},null,{"$f":"IF(SUM(X$48:X$52)>0,$H57*$I57,0)/SUM($I$50:$I$51)","v":0},null,{"$f":"IF(SUM(Z$48:Z$52)>0,$H57*$I57,0)/SUM($I$50:$I$51)","v":0},null,{"$f":"IF(SUM(AB$48:AB$52)>0,$H57*$I57,0)/SUM($I$50:$I$51)","v":0},null,{"$f":"IF(SUM(AD$48:AD$52)>0,$H57*$I57,0)/SUM($I$50:$I$51)","v":35.369999999999997},null,{"$f":"IF(SUM(AF$48:AF$52)>0,$H57*$I57,0)/SUM($I$50:$I$51)","v":35.369999999999997},null,{"$f":"IF(SUM(AH$48:AH$52)>0,$H57*$I57,0)/SUM($I$50:$I$51)","v":0},null,{"$f":"IF(SUM(AJ$48:AJ$52)>0,$H57*$I57,0)/SUM($I$50:$I$51)","v":0},null,{"$f":"IF(SUM(AL$48:AL$52)>0,$H57*$I57,0)/SUM($I$50:$I$51)","v":0},null,{"$f":"IF(SUM(AN$48:AN$52)>0,$H57*$I57,0)/SUM($I$50:$I$51)","v":0},null,{"$f":"IF(SUM(AP$48:AP$52)>0,$H57*$I57,0)/SUM($I$50:$I$51)","v":0},null,{"$f":"IF(SUM(AR$48:AR$52)>0,$H57*$I57,0)/SUM($I$50:$I$51)","v":0},null,{"$f":"IF(SUM(AT$48:AT$52)>0,$H57*$I57,0)/SUM($I$50:$I$51)","v":0},null,{"$f":"IF(SUM(AV$48:AV$52)>0,$H57*$I57,0)/SUM($I$50:$I$51)","v":0},null,{"$f":"IF(SUM(AX$48:AX$52)>0,$H57*$I57,0)/SUM($I$50:$I$51)","v":0},null,{"$f":"IF(SUM(AZ$48:AZ$52)>0,$H57*$I57,0)/SUM($I$50:$I$51)","v":0},null,{"$f":"IF(SUM(BB$48:BB$52)>0,$H57*$I57,0)/SUM($I$50:$I$51)","v":0},null,{"$f":"IF(SUM(BD$48:BD$52)>0,$H57*$I57,0)/SUM($I$50:$I$51)","v":0},null,{"$f":"IF(SUM(BF$48:BF$52)>0,$H57*$I57,0)/SUM($I$50:$I$51)","v":0},null,{"$f":"IF(SUM(BH$48:BH$52)>0,$H57*$I57,0)/SUM($I$50:$I$51)","v":0},null,{"$f":"IF(SUM(BJ$48:BJ$52)>0,$H57*$I57,0)/SUM($I$50:$I$51)","v":0},null,{"$f":"IF(SUM(BL$48:BL$52)>0,$H57*$I57,0)/SUM($I$50:$I$51)","v":0},null,{"$f":"IF(SUM(BN$48:BN$52)>0,$H57*$I57,0)/SUM($I$50:$I$51)","v":0},null,{"$f":"IF(SUM(BP$48:BP$52)>0,$H57*$I57,0)/SUM($I$50:$I$51)","v":0},null,{"$f":"IF(SUM(BR$48:BR$52)>0,$H57*$I57,0)/SUM($I$50:$I$51)","v":0},null,{"$f":"IF(SUM(BT$48:BT$52)>0,$H57*$I57,0)/SUM($I$50:$I$51)","v":0},null,{"$f":"IF(SUM(BV$48:BV$52)>0,$H57*$I57,0)/SUM($I$50:$I$51)","v":0},null,{"$f":"IF(SUM(BX$48:BX$52)>0,$H57*$I57,0)/SUM($I$50:$I$51)","v":0},null,{"$f":"IF(SUM(BZ$48:BZ$52)>0,$H57*$I57,0)/SUM($I$50:$I$51)","v":0},null,{"$f":"IF(SUM(CB$48:CB$52)>0,$H57*$I57,0)/SUM($I$50:$I$51)","v":0},null,{"$f":"IF(SUM(CD$48:CD$52)>0,$H57*$I57,0)/SUM($I$50:$I$51)","v":0},null,{"$f":"IF(SUM(CF$48:CF$52)>0,$H57*$I57,0)/SUM($I$50:$I$51)","v":0},null,{"$f":"IF(SUM(CH$48:CH$52)>0,$H57*$I57,0)/SUM($I$50:$I$51)","v":0},null,{"$f":"IF(SUM(CJ$48:CJ$52)>0,$H57*$I57,0)/SUM($I$50:$I$51)","v":0},null,{"$f":"IF(SUM(CL$48:CL$52)>0,$H57*$I57,0)/SUM($I$50:$I$51)","v":0},null,{"$f":"IF(SUM(CN$48:CN$52)>0,$H57*$I57,0)/SUM($I$50:$I$51)","v":0},null,{"$f":"IF(SUM(CP$48:CP$52)>0,$H57*$I57,0)/SUM($I$50:$I$51)","v":0},null,{"$f":"IF(SUM(CR$48:CR$52)>0,$H57*$I57,0)/SUM($I$50:$I$51)","v":0},null,{"$f":"IF(SUM(CT$48:CT$52)>0,$H57*$I57,0)/SUM($I$50:$I$51)","v":0},null,{"$f":"IF(SUM(CV$48:CV$52)>0,$H57*$I57,0)/SUM($I$50:$I$51)","v":0},null,{"$f":"IF(SUM(CX$48:CX$52)>0,$H57*$I57,0)/SUM($I$50:$I$51)","v":0},null,{"$f":"IF(SUM(CZ$48:CZ$52)>0,$H57*$I57,0)/SUM($I$50:$I$51)","v":0},null,{"$f":"IF(SUM(DB$48:DB$52)>0,$H57*$I57,0)/SUM($I$50:$I$51)","v":0},null,{"$f":"IF(SUM(DD$48:DD$52)>0,$H57*$I57,0)/SUM($I$50:$I$51)","v":0},null,{"$f":"IF(SUM(DF$48:DF$52)>0,$H57*$I57,0)/SUM($I$50:$I$51)","v":0},null,{"$f":"IF(SUM(DH$48:DH$52)>0,$H57*$I57,0)/SUM($I$50:$I$51)","v":0},null,{"$f":"IF(SUM(DJ$48:DJ$52)>0,$H57*$I57,0)/SUM($I$50:$I$51)","v":0},null,{"$f":"IF(SUM(DL$48:DL$52)>0,$H57*$I57,0)/SUM($I$50:$I$51)","v":0},null,{"$f":"IF(SUM(DN$48:DN$52)>0,$H57*$I57,0)/SUM($I$50:$I$51)","v":0},null,{"$f":"IF(SUM(DP$48:DP$52)>0,$H57*$I57,0)/SUM($I$50:$I$51)","v":0},null,{"$f":"IF(SUM(DR$48:DR$52)>0,$H57*$I57,0)/SUM($I$50:$I$51)","v":0},null,{"$f":"IF(SUM(DT$48:DT$52)>0,$H57*$I57,0)/SUM($I$50:$I$51)","v":0},null,{"$f":"IF(SUM(DV$48:DV$52)>0,$H57*$I57,0)/SUM($I$50:$I$51)","v":0},null,{"$f":"IF(SUM(DX$48:DX$52)>0,$H57*$I57,0)/SUM($I$50:$I$51)","v":0},null,{"$f":"IF(SUM(DZ$48:DZ$52)>0,$H57*$I57,0)/SUM($I$50:$I$51)","v":0},null,{"$f":"IF(SUM(EB$48:EB$52)>0,$H57*$I57,0)/SUM($I$50:$I$51)","v":0}]
[null,null,null,"Camisas mangas curtas com lapelas nos ombros, na cor branca, 100% algodão (estilo PM), com aplique da bandeira nacional no ombro esquerdo",4,null,24,96,125.36,null,null,null,0,null,{"$f":"IF(SUM(N$48:N$52)>0,$H58*$I58,0)/SUM($I$50:$I$51)","v":0},null,{"$f":"IF(SUM(P$48:P$52)>0,$H58*$I58,0)/SUM($I$50:$I$51)","v":0},null,{"$f":"IF(SUM(R$48:R$52)>0,$H58*$I58,0)/SUM($I$50:$I$51)","v":0},null,{"$f":"IF(SUM(T$48:T$52)>0,$H58*$I58,0)/SUM($I$50:$I$51)","v":0},null,{"$f":"IF(SUM(V$48:V$52)>0,$H58*$I58,0)/SUM($I$50:$I$51)","v":0},null,{"$f":"IF(SUM(X$48:X$52)>0,$H58*$I58,0)/SUM($I$50:$I$51)","v":0},null,{"$f":"IF(SUM(Z$48:Z$52)>0,$H58*$I58,0)/SUM($I$50:$I$51)","v":0},null,{"$f":"IF(SUM(AB$48:AB$52)>0,$H58*$I58,0)/SUM($I$50:$I$51)","v":0},null,{"$f":"IF(SUM(AD$48:AD$52)>0,$H58*$I58,0)/SUM($I$50:$I$51)","v":501.44},null,{"$f":"IF(SUM(AF$48:AF$52)>0,$H58*$I58,0)/SUM($I$50:$I$51)","v":501.44},null,{"$f":"IF(SUM(AH$48:AH$52)>0,$H58*$I58,0)/SUM($I$50:$I$51)","v":0},null,{"$f":"IF(SUM(AJ$48:AJ$52)>0,$H58*$I58,0)/SUM($I$50:$I$51)","v":0},null,{"$f":"IF(SUM(AL$48:AL$52)>0,$H58*$I58,0)/SUM($I$50:$I$51)","v":0},null,{"$f":"IF(SUM(AN$48:AN$52)>0,$H58*$I58,0)/SUM($I$50:$I$51)","v":0},null,{"$f":"IF(SUM(AP$48:AP$52)>0,$H58*$I58,0)/SUM($I$50:$I$51)","v":0},null,{"$f":"IF(SUM(AR$48:AR$52)>0,$H58*$I58,0)/SUM($I$50:$I$51)","v":0},null,{"$f":"IF(SUM(AT$48:AT$52)>0,$H58*$I58,0)/SUM($I$50:$I$51)","v":0},null,{"$f":"IF(SUM(AV$48:AV$52)>0,$H58*$I58,0)/SUM($I$50:$I$51)","v":0},null,{"$f":"IF(SUM(AX$48:AX$52)>0,$H58*$I58,0)/SUM($I$50:$I$51)","v":0},null,{"$f":"IF(SUM(AZ$48:AZ$52)>0,$H58*$I58,0)/SUM($I$50:$I$51)","v":0},null,{"$f":"IF(SUM(BB$48:BB$52)>0,$H58*$I58,0)/SUM($I$50:$I$51)","v":0},null,{"$f":"IF(SUM(BD$48:BD$52)>0,$H58*$I58,0)/SUM($I$50:$I$51)","v":0},null,{"$f":"IF(SUM(BF$48:BF$52)>0,$H58*$I58,0)/SUM($I$50:$I$51)","v":0},null,{"$f":"IF(SUM(BH$48:BH$52)>0,$H58*$I58,0)/SUM($I$50:$I$51)","v":0},null,{"$f":"IF(SUM(BJ$48:BJ$52)>0,$H58*$I58,0)/SUM($I$50:$I$51)","v":0},null,{"$f":"IF(SUM(BL$48:BL$52)>0,$H58*$I58,0)/SUM($I$50:$I$51)","v":0},null,{"$f":"IF(SUM(BN$48:BN$52)>0,$H58*$I58,0)/SUM($I$50:$I$51)","v":0},null,{"$f":"IF(SUM(BP$48:BP$52)>0,$H58*$I58,0)/SUM($I$50:$I$51)","v":0},null,{"$f":"IF(SUM(BR$48:BR$52)>0,$H58*$I58,0)/SUM($I$50:$I$51)","v":0},null,{"$f":"IF(SUM(BT$48:BT$52)>0,$H58*$I58,0)/SUM($I$50:$I$51)","v":0},null,{"$f":"IF(SUM(BV$48:BV$52)>0,$H58*$I58,0)/SUM($I$50:$I$51)","v":0},null,{"$f":"IF(SUM(BX$48:BX$52)>0,$H58*$I58,0)/SUM($I$50:$I$51)","v":0},null,{"$f":"IF(SUM(BZ$48:BZ$52)>0,$H58*$I58,0)/SUM($I$50:$I$51)","v":0},null,{"$f":"IF(SUM(CB$48:CB$52)>0,$H58*$I58,0)/SUM($I$50:$I$51)","v":0},null,{"$f":"IF(SUM(CD$48:CD$52)>0,$H58*$I58,0)/SUM($I$50:$I$51)","v":0},null,{"$f":"IF(SUM(CF$48:CF$52)>0,$H58*$I58,0)/SUM($I$50:$I$51)","v":0},null,{"$f":"IF(SUM(CH$48:CH$52)>0,$H58*$I58,0)/SUM($I$50:$I$51)","v":0},null,{"$f":"IF(SUM(CJ$48:CJ$52)>0,$H58*$I58,0)/SUM($I$50:$I$51)","v":0},null,{"$f":"IF(SUM(CL$48:CL$52)>0,$H58*$I58,0)/SUM($I$50:$I$51)","v":0},null,{"$f":"IF(SUM(CN$48:CN$52)>0,$H58*$I58,0)/SUM($I$50:$I$51)","v":0},null,{"$f":"IF(SUM(CP$48:CP$52)>0,$H58*$I58,0)/SUM($I$50:$I$51)","v":0},null,{"$f":"IF(SUM(CR$48:CR$52)>0,$H58*$I58,0)/SUM($I$50:$I$51)","v":0},null,{"$f":"IF(SUM(CT$48:CT$52)>0,$H58*$I58,0)/SUM($I$50:$I$51)","v":0},null,{"$f":"IF(SUM(CV$48:CV$52)>0,$H58*$I58,0)/SUM($I$50:$I$51)","v":0},null,{"$f":"IF(SUM(CX$48:CX$52)>0,$H58*$I58,0)/SUM($I$50:$I$51)","v":0},null,{"$f":"IF(SUM(CZ$48:CZ$52)>0,$H58*$I58,0)/SUM($I$50:$I$51)","v":0},null,{"$f":"IF(SUM(DB$48:DB$52)>0,$H58*$I58,0)/SUM($I$50:$I$51)","v":0},null,{"$f":"IF(SUM(DD$48:DD$52)>0,$H58*$I58,0)/SUM($I$50:$I$51)","v":0},null,{"$f":"IF(SUM(DF$48:DF$52)>0,$H58*$I58,0)/SUM($I$50:$I$51)","v":0},null,{"$f":"IF(SUM(DH$48:DH$52)>0,$H58*$I58,0)/SUM($I$50:$I$51)","v":0},null,{"$f":"IF(SUM(DJ$48:DJ$52)>0,$H58*$I58,0)/SUM($I$50:$I$51)","v":0},null,{"$f":"IF(SUM(DL$48:DL$52)>0,$H58*$I58,0)/SUM($I$50:$I$51)","v":0},null,{"$f":"IF(SUM(DN$48:DN$52)>0,$H58*$I58,0)/SUM($I$50:$I$51)","v":0},null,{"$f":"IF(SUM(DP$48:DP$52)>0,$H58*$I58,0)/SUM($I$50:$I$51)","v":0},null,{"$f":"IF(SUM(DR$48:DR$52)>0,$H58*$I58,0)/SUM($I$50:$I$51)","v":0},null,{"$f":"IF(SUM(DT$48:DT$52)>0,$H58*$I58,0)/SUM($I$50:$I$51)","v":0},null,{"$f":"IF(SUM(DV$48:DV$52)>0,$H58*$I58,0)/SUM($I$50:$I$51)","v":0},null,{"$f":"IF(SUM(DX$48:DX$52)>0,$H58*$I58,0)/SUM($I$50:$I$51)","v":0},null,{"$f":"IF(SUM(DZ$48:DZ$52)>0,$H58*$I58,0)/SUM($I$50:$I$51)","v":0},null,{"$f":"IF(SUM(EB$48:EB$52)>0,$H58*$I58,0)/SUM($I$50:$I$51)","v":0}]
[null,null,null,"Apito profissional em plástico com bolinha que não trava em contato com a saliva ou água",1,null,24,24,6.57,null,null,null,0,null,{"$f":"IF(SUM(N$48:N$52)>0,$H59*$I59,0)/SUM($I$50:$I$51)","v":0},null,{"$f":"IF(SUM(P$48:P$52)>0,$H59*$I59,0)/SUM($I$50:$I$51)","v":0},null,{"$f":"IF(SUM(R$48:R$52)>0,$H59*$I59,0)/SUM($I$50:$I$51)","v":0},null,{"$f":"IF(SUM(T$48:T$52)>0,$H59*$I59,0)/SUM($I$50:$I$51)","v":0},null,{"$f":"IF(SUM(V$48:V$52)>0,$H59*$I59,0)/SUM($I$50:$I$51)","v":0},null,{"$f":"IF(SUM(X$48:X$52)>0,$H59*$I59,0)/SUM($I$50:$I$51)","v":0},null,{"$f":"IF(SUM(Z$48:Z$52)>0,$H59*$I59,0)/SUM($I$50:$I$51)","v":0},null,{"$f":"IF(SUM(AB$48:AB$52)>0,$H59*$I59,0)/SUM($I$50:$I$51)","v":0},null,{"$f":"IF(SUM(AD$48:AD$52)>0,$H59*$I59,0)/SUM($I$50:$I$51)","v":6.57},null,{"$f":"IF(SUM(AF$48:AF$52)>0,$H59*$I59,0)/SUM($I$50:$I$51)","v":6.57},null,{"$f":"IF(SUM(AH$48:AH$52)>0,$H59*$I59,0)/SUM($I$50:$I$51)","v":0},null,{"$f":"IF(SUM(AJ$48:AJ$52)>0,$H59*$I59,0)/SUM($I$50:$I$51)","v":0},null,{"$f":"IF(SUM(AL$48:AL$52)>0,$H59*$I59,0)/SUM($I$50:$I$51)","v":0},null,{"$f":"IF(SUM(AN$48:AN$52)>0,$H59*$I59,0)/SUM($I$50:$I$51)","v":0},null,{"$f":"IF(SUM(AP$48:AP$52)>0,$H59*$I59,0)/SUM($I$50:$I$51)","v":0},null,{"$f":"IF(SUM(AR$48:AR$52)>0,$H59*$I59,0)/SUM($I$50:$I$51)","v":0},null,{"$f":"IF(SUM(AT$48:AT$52)>0,$H59*$I59,0)/SUM($I$50:$I$51)","v":0},null,{"$f":"IF(SUM(AV$48:AV$52)>0,$H59*$I59,0)/SUM($I$50:$I$51)","v":0},null,{"$f":"IF(SUM(AX$48:AX$52)>0,$H59*$I59,0)/SUM($I$50:$I$51)","v":0},null,{"$f":"IF(SUM(AZ$48:AZ$52)>0,$H59*$I59,0)/SUM($I$50:$I$51)","v":0},null,{"$f":"IF(SUM(BB$48:BB$52)>0,$H59*$I59,0)/SUM($I$50:$I$51)","v":0},null,{"$f":"IF(SUM(BD$48:BD$52)>0,$H59*$I59,0)/SUM($I$50:$I$51)","v":0},null,{"$f":"IF(SUM(BF$48:BF$52)>0,$H59*$I59,0)/SUM($I$50:$I$51)","v":0},null,{"$f":"IF(SUM(BH$48:BH$52)>0,$H59*$I59,0)/SUM($I$50:$I$51)","v":0},null,{"$f":"IF(SUM(BJ$48:BJ$52)>0,$H59*$I59,0)/SUM($I$50:$I$51)","v":0},null,{"$f":"IF(SUM(BL$48:BL$52)>0,$H59*$I59,0)/SUM($I$50:$I$51)","v":0},null,{"$f":"IF(SUM(BN$48:BN$52)>0,$H59*$I59,0)/SUM($I$50:$I$51)","v":0},null,{"$f":"IF(SUM(BP$48:BP$52)>0,$H59*$I59,0)/SUM($I$50:$I$51)","v":0},null,{"$f":"IF(SUM(BR$48:BR$52)>0,$H59*$I59,0)/SUM($I$50:$I$51)","v":0},null,{"$f":"IF(SUM(BT$48:BT$52)>0,$H59*$I59,0)/SUM($I$50:$I$51)","v":0},null,{"$f":"IF(SUM(BV$48:BV$52)>0,$H59*$I59,0)/SUM($I$50:$I$51)","v":0},null,{"$f":"IF(SUM(BX$48:BX$52)>0,$H59*$I59,0)/SUM($I$50:$I$51)","v":0},null,{"$f":"IF(SUM(BZ$48:BZ$52)>0,$H59*$I59,0)/SUM($I$50:$I$51)","v":0},null,{"$f":"IF(SUM(CB$48:CB$52)>0,$H59*$I59,0)/SUM($I$50:$I$51)","v":0},null,{"$f":"IF(SUM(CD$48:CD$52)>0,$H59*$I59,0)/SUM($I$50:$I$51)","v":0},null,{"$f":"IF(SUM(CF$48:CF$52)>0,$H59*$I59,0)/SUM($I$50:$I$51)","v":0},null,{"$f":"IF(SUM(CH$48:CH$52)>0,$H59*$I59,0)/SUM($I$50:$I$51)","v":0},null,{"$f":"IF(SUM(CJ$48:CJ$52)>0,$H59*$I59,0)/SUM($I$50:$I$51)","v":0},null,{"$f":"IF(SUM(CL$48:CL$52)>0,$H59*$I59,0)/SUM($I$50:$I$51)","v":0},null,{"$f":"IF(SUM(CN$48:CN$52)>0,$H59*$I59,0)/SUM($I$50:$I$51)","v":0},null,{"$f":"IF(SUM(CP$48:CP$52)>0,$H59*$I59,0)/SUM($I$50:$I$51)","v":0},null,{"$f":"IF(SUM(CR$48:CR$52)>0,$H59*$I59,0)/SUM($I$50:$I$51)","v":0},null,{"$f":"IF(SUM(CT$48:CT$52)>0,$H59*$I59,0)/SUM($I$50:$I$51)","v":0},null,{"$f":"IF(SUM(CV$48:CV$52)>0,$H59*$I59,0)/SUM($I$50:$I$51)","v":0},null,{"$f":"IF(SUM(CX$48:CX$52)>0,$H59*$I59,0)/SUM($I$50:$I$51)","v":0},null,{"$f":"IF(SUM(CZ$48:CZ$52)>0,$H59*$I59,0)/SUM($I$50:$I$51)","v":0},null,{"$f":"IF(SUM(DB$48:DB$52)>0,$H59*$I59,0)/SUM($I$50:$I$51)","v":0},null,{"$f":"IF(SUM(DD$48:DD$52)>0,$H59*$I59,0)/SUM($I$50:$I$51)","v":0},null,{"$f":"IF(SUM(DF$48:DF$52)>0,$H59*$I59,0)/SUM($I$50:$I$51)","v":0},null,{"$f":"IF(SUM(DH$48:DH$52)>0,$H59*$I59,0)/SUM($I$50:$I$51)","v":0},null,{"$f":"IF(SUM(DJ$48:DJ$52)>0,$H59*$I59,0)/SUM($I$50:$I$51)","v":0},null,{"$f":"IF(SUM(DL$48:DL$52)>0,$H59*$I59,0)/SUM($I$50:$I$51)","v":0},null,{"$f":"IF(SUM(DN$48:DN$52)>0,$H59*$I59,0)/SUM($I$50:$I$51)","v":0},null,{"$f":"IF(SUM(DP$48:DP$52)>0,$H59*$I59,0)/SUM($I$50:$I$51)","v":0},null,{"$f":"IF(SUM(DR$48:DR$52)>0,$H59*$I59,0)/SUM($I$50:$I$51)","v":0},null,{"$f":"IF(SUM(DT$48:DT$52)>0,$H59*$I59,0)/SUM($I$50:$I$51)","v":0},null,{"$f":"IF(SUM(DV$48:DV$52)>0,$H59*$I59,0)/SUM($I$50:$I$51)","v":0},null,{"$f":"IF(SUM(DX$48:DX$52)>0,$H59*$I59,0)/SUM($I$50:$I$51)","v":0},null,{"$f":"IF(SUM(DZ$48:DZ$52)>0,$H59*$I59,0)/SUM($I$50:$I$51)","v":0},null,{"$f":"IF(SUM(EB$48:EB$52)>0,$H59*$I59,0)/SUM($I$50:$I$51)","v":0}]
[null,null,null,"Fiel em nylon na cor preta, medindo aproximadamente 1 metro de comprimento em sua extremidade maior e 70cm em sua extremidade menor, sendo todo trançado em sua parte superior",1,null,24,24,16.63,null,null,null,0,null,{"$f":"IF(SUM(N$48:N$52)>0,$H60*$I60,0)/SUM($I$50:$I$51)","v":0},null,{"$f":"IF(SUM(P$48:P$52)>0,$H60*$I60,0)/SUM($I$50:$I$51)","v":0},null,{"$f":"IF(SUM(R$48:R$52)>0,$H60*$I60,0)/SUM($I$50:$I$51)","v":0},null,{"$f":"IF(SUM(T$48:T$52)>0,$H60*$I60,0)/SUM($I$50:$I$51)","v":0},null,{"$f":"IF(SUM(V$48:V$52)>0,$H60*$I60,0)/SUM($I$50:$I$51)","v":0},null,{"$f":"IF(SUM(X$48:X$52)>0,$H60*$I60,0)/SUM($I$50:$I$51)","v":0},null,{"$f":"IF(SUM(Z$48:Z$52)>0,$H60*$I60,0)/SUM($I$50:$I$51)","v":0},null,{"$f":"IF(SUM(AB$48:AB$52)>0,$H60*$I60,0)/SUM($I$50:$I$51)","v":0},null,{"$f":"IF(SUM(AD$48:AD$52)>0,$H60*$I60,0)/SUM($I$50:$I$51)","v":16.63},null,{"$f":"IF(SUM(AF$48:AF$52)>0,$H60*$I60,0)/SUM($I$50:$I$51)","v":16.63},null,{"$f":"IF(SUM(AH$48:AH$52)>0,$H60*$I60,0)/SUM($I$50:$I$51)","v":0},null,{"$f":"IF(SUM(AJ$48:AJ$52)>0,$H60*$I60,0)/SUM($I$50:$I$51)","v":0},null,{"$f":"IF(SUM(AL$48:AL$52)>0,$H60*$I60,0)/SUM($I$50:$I$51)","v":0},null,{"$f":"IF(SUM(AN$48:AN$52)>0,$H60*$I60,0)/SUM($I$50:$I$51)","v":0},null,{"$f":"IF(SUM(AP$48:AP$52)>0,$H60*$I60,0)/SUM($I$50:$I$51)","v":0},null,{"$f":"IF(SUM(AR$48:AR$52)>0,$H60*$I60,0)/SUM($I$50:$I$51)","v":0},null,{"$f":"IF(SUM(AT$48:AT$52)>0,$H60*$I60,0)/SUM($I$50:$I$51)","v":0},null,{"$f":"IF(SUM(AV$48:AV$52)>0,$H60*$I60,0)/SUM($I$50:$I$51)","v":0},null,{"$f":"IF(SUM(AX$48:AX$52)>0,$H60*$I60,0)/SUM($I$50:$I$51)","v":0},null,{"$f":"IF(SUM(AZ$48:AZ$52)>0,$H60*$I60,0)/SUM($I$50:$I$51)","v":0},null,{"$f":"IF(SUM(BB$48:BB$52)>0,$H60*$I60,0)/SUM($I$50:$I$51)","v":0},null,{"$f":"IF(SUM(BD$48:BD$52)>0,$H60*$I60,0)/SUM($I$50:$I$51)","v":0},null,{"$f":"IF(SUM(BF$48:BF$52)>0,$H60*$I60,0)/SUM($I$50:$I$51)","v":0},null,{"$f":"IF(SUM(BH$48:BH$52)>0,$H60*$I60,0)/SUM($I$50:$I$51)","v":0},null,{"$f":"IF(SUM(BJ$48:BJ$52)>0,$H60*$I60,0)/SUM($I$50:$I$51)","v":0},null,{"$f":"IF(SUM(BL$48:BL$52)>0,$H60*$I60,0)/SUM($I$50:$I$51)","v":0},null,{"$f":"IF(SUM(BN$48:BN$52)>0,$H60*$I60,0)/SUM($I$50:$I$51)","v":0},null,{"$f":"IF(SUM(BP$48:BP$52)>0,$H60*$I60,0)/SUM($I$50:$I$51)","v":0},null,{"$f":"IF(SUM(BR$48:BR$52)>0,$H60*$I60,0)/SUM($I$50:$I$51)","v":0},null,{"$f":"IF(SUM(BT$48:BT$52)>0,$H60*$I60,0)/SUM($I$50:$I$51)","v":0},null,{"$f":"IF(SUM(BV$48:BV$52)>0,$H60*$I60,0)/SUM($I$50:$I$51)","v":0},null,{"$f":"IF(SUM(BX$48:BX$52)>0,$H60*$I60,0)/SUM($I$50:$I$51)","v":0},null,{"$f":"IF(SUM(BZ$48:BZ$52)>0,$H60*$I60,0)/SUM($I$50:$I$51)","v":0},null,{"$f":"IF(SUM(CB$48:CB$52)>0,$H60*$I60,0)/SUM($I$50:$I$51)","v":0},null,{"$f":"IF(SUM(CD$48:CD$52)>0,$H60*$I60,0)/SUM($I$50:$I$51)","v":0},null,{"$f":"IF(SUM(CF$48:CF$52)>0,$H60*$I60,0)/SUM($I$50:$I$51)","v":0},null,{"$f":"IF(SUM(CH$48:CH$52)>0,$H60*$I60,0)/SUM($I$50:$I$51)","v":0},null,{"$f":"IF(SUM(CJ$48:CJ$52)>0,$H60*$I60,0)/SUM($I$50:$I$51)","v":0},null,{"$f":"IF(SUM(CL$48:CL$52)>0,$H60*$I60,0)/SUM($I$50:$I$51)","v":0},null,{"$f":"IF(SUM(CN$48:CN$52)>0,$H60*$I60,0)/SUM($I$50:$I$51)","v":0},null,{"$f":"IF(SUM(CP$48:CP$52)>0,$H60*$I60,0)/SUM($I$50:$I$51)","v":0},null,{"$f":"IF(SUM(CR$48:CR$52)>0,$H60*$I60,0)/SUM($I$50:$I$51)","v":0},null,{"$f":"IF(SUM(CT$48:CT$52)>0,$H60*$I60,0)/SUM($I$50:$I$51)","v":0},null,{"$f":"IF(SUM(CV$48:CV$52)>0,$H60*$I60,0)/SUM($I$50:$I$51)","v":0},null,{"$f":"IF(SUM(CX$48:CX$52)>0,$H60*$I60,0)/SUM($I$50:$I$51)","v":0},null,{"$f":"IF(SUM(CZ$48:CZ$52)>0,$H60*$I60,0)/SUM($I$50:$I$51)","v":0},null,{"$f":"IF(SUM(DB$48:DB$52)>0,$H60*$I60,0)/SUM($I$50:$I$51)","v":0},null,{"$f":"IF(SUM(DD$48:DD$52)>0,$H60*$I60,0)/SUM($I$50:$I$51)","v":0},null,{"$f":"IF(SUM(DF$48:DF$52)>0,$H60*$I60,0)/SUM($I$50:$I$51)","v":0},null,{"$f":"IF(SUM(DH$48:DH$52)>0,$H60*$I60,0)/SUM($I$50:$I$51)","v":0},null,{"$f":"IF(SUM(DJ$48:DJ$52)>0,$H60*$I60,0)/SUM($I$50:$I$51)","v":0},null,{"$f":"IF(SUM(DL$48:DL$52)>0,$H60*$I60,0)/SUM($I$50:$I$51)","v":0},null,{"$f":"IF(SUM(DN$48:DN$52)>0,$H60*$I60,0)/SUM($I$50:$I$51)","v":0},null,{"$f":"IF(SUM(DP$48:DP$52)>0,$H60*$I60,0)/SUM($I$50:$I$51)","v":0},null,{"$f":"IF(SUM(DR$48:DR$52)>0,$H60*$I60,0)/SUM($I$50:$I$51)","v":0},null,{"$f":"IF(SUM(DT$48:DT$52)>0,$H60*$I60,0)/SUM($I$50:$I$51)","v":0},null,{"$f":"IF(SUM(DV$48:DV$52)>0,$H60*$I60,0)/SUM($I$50:$I$51)","v":0},null,{"$f":"IF(SUM(DX$48:DX$52)>0,$H60*$I60,0)/SUM($I$50:$I$51)","v":0},null,{"$f":"IF(SUM(DZ$48:DZ$52)>0,$H60*$I60,0)/SUM($I$50:$I$51)","v":0},null,{"$f":"IF(SUM(EB$48:EB$52)>0,$H60*$I60,0)/SUM($I$50:$I$51)","v":0}]
[null,null,null,"Bonés em tecido ripstop, na cor preta, com logomarca da empresa na parte frontal e bandeira nacional na parte posterior",4,null,24,96,27.23,null,null,null,0,null,{"$f":"IF(SUM(N$48:N$52)>0,$H61*$I61,0)/SUM($I$50:$I$51)","v":0},null,{"$f":"IF(SUM(P$48:P$52)>0,$H61*$I61,0)/SUM($I$50:$I$51)","v":0},null,{"$f":"IF(SUM(R$48:R$52)>0,$H61*$I61,0)/SUM($I$50:$I$51)","v":0},null,{"$f":"IF(SUM(T$48:T$52)>0,$H61*$I61,0)/SUM($I$50:$I$51)","v":0},null,{"$f":"IF(SUM(V$48:V$52)>0,$H61*$I61,0)/SUM($I$50:$I$51)","v":0},null,{"$f":"IF(SUM(X$48:X$52)>0,$H61*$I61,0)/SUM($I$50:$I$51)","v":0},null,{"$f":"IF(SUM(Z$48:Z$52)>0,$H61*$I61,0)/SUM($I$50:$I$51)","v":0},null,{"$f":"IF(SUM(AB$48:AB$52)>0,$H61*$I61,0)/SUM($I$50:$I$51)","v":0},null,{"$f":"IF(SUM(AD$48:AD$52)>0,$H61*$I61,0)/SUM($I$50:$I$51)","v":108.92},null,{"$f":"IF(SUM(AF$48:AF$52)>0,$H61*$I61,0)/SUM($I$50:$I$51)","v":108.92},null,{"$f":"IF(SUM(AH$48:AH$52)>0,$H61*$I61,0)/SUM($I$50:$I$51)","v":0},null,{"$f":"IF(SUM(AJ$48:AJ$52)>0,$H61*$I61,0)/SUM($I$50:$I$51)","v":0},null,{"$f":"IF(SUM(AL$48:AL$52)>0,$H61*$I61,0)/SUM($I$50:$I$51)","v":0},null,{"$f":"IF(SUM(AN$48:AN$52)>0,$H61*$I61,0)/SUM($I$50:$I$51)","v":0},null,{"$f":"IF(SUM(AP$48:AP$52)>0,$H61*$I61,0)/SUM($I$50:$I$51)","v":0},null,{"$f":"IF(SUM(AR$48:AR$52)>0,$H61*$I61,0)/SUM($I$50:$I$51)","v":0},null,{"$f":"IF(SUM(AT$48:AT$52)>0,$H61*$I61,0)/SUM($I$50:$I$51)","v":0},null,{"$f":"IF(SUM(AV$48:AV$52)>0,$H61*$I61,0)/SUM($I$50:$I$51)","v":0},null,{"$f":"IF(SUM(AX$48:AX$52)>0,$H61*$I61,0)/SUM($I$50:$I$51)","v":0},null,{"$f":"IF(SUM(AZ$48:AZ$52)>0,$H61*$I61,0)/SUM($I$50:$I$51)","v":0},null,{"$f":"IF(SUM(BB$48:BB$52)>0,$H61*$I61,0)/SUM($I$50:$I$51)","v":0},null,{"$f":"IF(SUM(BD$48:BD$52)>0,$H61*$I61,0)/SUM($I$50:$I$51)","v":0},null,{"$f":"IF(SUM(BF$48:BF$52)>0,$H61*$I61,0)/SUM($I$50:$I$51)","v":0},null,{"$f":"IF(SUM(BH$48:BH$52)>0,$H61*$I61,0)/SUM($I$50:$I$51)","v":0},null,{"$f":"IF(SUM(BJ$48:BJ$52)>0,$H61*$I61,0)/SUM($I$50:$I$51)","v":0},null,{"$f":"IF(SUM(BL$48:BL$52)>0,$H61*$I61,0)/SUM($I$50:$I$51)","v":0},null,{"$f":"IF(SUM(BN$48:BN$52)>0,$H61*$I61,0)/SUM($I$50:$I$51)","v":0},null,{"$f":"IF(SUM(BP$48:BP$52)>0,$H61*$I61,0)/SUM($I$50:$I$51)","v":0},null,{"$f":"IF(SUM(BR$48:BR$52)>0,$H61*$I61,0)/SUM($I$50:$I$51)","v":0},null,{"$f":"IF(SUM(BT$48:BT$52)>0,$H61*$I61,0)/SUM($I$50:$I$51)","v":0},null,{"$f":"IF(SUM(BV$48:BV$52)>0,$H61*$I61,0)/SUM($I$50:$I$51)","v":0},null,{"$f":"IF(SUM(BX$48:BX$52)>0,$H61*$I61,0)/SUM($I$50:$I$51)","v":0},null,{"$f":"IF(SUM(BZ$48:BZ$52)>0,$H61*$I61,0)/SUM($I$50:$I$51)","v":0},null,{"$f":"IF(SUM(CB$48:CB$52)>0,$H61*$I61,0)/SUM($I$50:$I$51)","v":0},null,{"$f":"IF(SUM(CD$48:CD$52)>0,$H61*$I61,0)/SUM($I$50:$I$51)","v":0},null,{"$f":"IF(SUM(CF$48:CF$52)>0,$H61*$I61,0)/SUM($I$50:$I$51)","v":0},null,{"$f":"IF(SUM(CH$48:CH$52)>0,$H61*$I61,0)/SUM($I$50:$I$51)","v":0},null,{"$f":"IF(SUM(CJ$48:CJ$52)>0,$H61*$I61,0)/SUM($I$50:$I$51)","v":0},null,{"$f":"IF(SUM(CL$48:CL$52)>0,$H61*$I61,0)/SUM($I$50:$I$51)","v":0},null,{"$f":"IF(SUM(CN$48:CN$52)>0,$H61*$I61,0)/SUM($I$50:$I$51)","v":0},null,{"$f":"IF(SUM(CP$48:CP$52)>0,$H61*$I61,0)/SUM($I$50:$I$51)","v":0},null,{"$f":"IF(SUM(CR$48:CR$52)>0,$H61*$I61,0)/SUM($I$50:$I$51)","v":0},null,{"$f":"IF(SUM(CT$48:CT$52)>0,$H61*$I61,0)/SUM($I$50:$I$51)","v":0},null,{"$f":"IF(SUM(CV$48:CV$52)>0,$H61*$I61,0)/SUM($I$50:$I$51)","v":0},null,{"$f":"IF(SUM(CX$48:CX$52)>0,$H61*$I61,0)/SUM($I$50:$I$51)","v":0},null,{"$f":"IF(SUM(CZ$48:CZ$52)>0,$H61*$I61,0)/SUM($I$50:$I$51)","v":0},null,{"$f":"IF(SUM(DB$48:DB$52)>0,$H61*$I61,0)/SUM($I$50:$I$51)","v":0},null,{"$f":"IF(SUM(DD$48:DD$52)>0,$H61*$I61,0)/SUM($I$50:$I$51)","v":0},null,{"$f":"IF(SUM(DF$48:DF$52)>0,$H61*$I61,0)/SUM($I$50:$I$51)","v":0},null,{"$f":"IF(SUM(DH$48:DH$52)>0,$H61*$I61,0)/SUM($I$50:$I$51)","v":0},null,{"$f":"IF(SUM(DJ$48:DJ$52)>0,$H61*$I61,0)/SUM($I$50:$I$51)","v":0},null,{"$f":"IF(SUM(DL$48:DL$52)>0,$H61*$I61,0)/SUM($I$50:$I$51)","v":0},null,{"$f":"IF(SUM(DN$48:DN$52)>0,$H61*$I61,0)/SUM($I$50:$I$51)","v":0},null,{"$f":"IF(SUM(DP$48:DP$52)>0,$H61*$I61,0)/SUM($I$50:$I$51)","v":0},null,{"$f":"IF(SUM(DR$48:DR$52)>0,$H61*$I61,0)/SUM($I$50:$I$51)","v":0},null,{"$f":"IF(SUM(DT$48:DT$52)>0,$H61*$I61,0)/SUM($I$50:$I$51)","v":0},null,{"$f":"IF(SUM(DV$48:DV$52)>0,$H61*$I61,0)/SUM($I$50:$I$51)","v":0},null,{"$f":"IF(SUM(DX$48:DX$52)>0,$H61*$I61,0)/SUM($I$50:$I$51)","v":0},null,{"$f":"IF(SUM(DZ$48:DZ$52)>0,$H61*$I61,0)/SUM($I$50:$I$51)","v":0},null,{"$f":"IF(SUM(EB$48:EB$52)>0,$H61*$I61,0)/SUM($I$50:$I$51)","v":0}]
[null,null,null,"Meias em algodão, cano alto, para coturno, na cor preta",4,null,24,96,7.88,null,null,null,0,null,{"$f":"IF(SUM(N$48:N$52)>0,$H62*$I62,0)/SUM($I$50:$I$51)","v":0},null,{"$f":"IF(SUM(P$48:P$52)>0,$H62*$I62,0)/SUM($I$50:$I$51)","v":0},null,{"$f":"IF(SUM(R$48:R$52)>0,$H62*$I62,0)/SUM($I$50:$I$51)","v":0},null,{"$f":"IF(SUM(T$48:T$52)>0,$H62*$I62,0)/SUM($I$50:$I$51)","v":0},null,{"$f":"IF(SUM(V$48:V$52)>0,$H62*$I62,0)/SUM($I$50:$I$51)","v":0},null,{"$f":"IF(SUM(X$48:X$52)>0,$H62*$I62,0)/SUM($I$50:$I$51)","v":0},null,{"$f":"IF(SUM(Z$48:Z$52)>0,$H62*$I62,0)/SUM($I$50:$I$51)","v":0},null,{"$f":"IF(SUM(AB$48:AB$52)>0,$H62*$I62,0)/SUM($I$50:$I$51)","v":0},null,{"$f":"IF(SUM(AD$48:AD$52)>0,$H62*$I62,0)/SUM($I$50:$I$51)","v":31.52},null,{"$f":"IF(SUM(AF$48:AF$52)>0,$H62*$I62,0)/SUM($I$50:$I$51)","v":31.52},null,{"$f":"IF(SUM(AH$48:AH$52)>0,$H62*$I62,0)/SUM($I$50:$I$51)","v":0},null,{"$f":"IF(SUM(AJ$48:AJ$52)>0,$H62*$I62,0)/SUM($I$50:$I$51)","v":0},null,{"$f":"IF(SUM(AL$48:AL$52)>0,$H62*$I62,0)/SUM($I$50:$I$51)","v":0},null,{"$f":"IF(SUM(AN$48:AN$52)>0,$H62*$I62,0)/SUM($I$50:$I$51)","v":0},null,{"$f":"IF(SUM(AP$48:AP$52)>0,$H62*$I62,0)/SUM($I$50:$I$51)","v":0},null,{"$f":"IF(SUM(AR$48:AR$52)>0,$H62*$I62,0)/SUM($I$50:$I$51)","v":0},null,{"$f":"IF(SUM(AT$48:AT$52)>0,$H62*$I62,0)/SUM($I$50:$I$51)","v":0},null,{"$f":"IF(SUM(AV$48:AV$52)>0,$H62*$I62,0)/SUM($I$50:$I$51)","v":0},null,{"$f":"IF(SUM(AX$48:AX$52)>0,$H62*$I62,0)/SUM($I$50:$I$51)","v":0},null,{"$f":"IF(SUM(AZ$48:AZ$52)>0,$H62*$I62,0)/SUM($I$50:$I$51)","v":0},null,{"$f":"IF(SUM(BB$48:BB$52)>0,$H62*$I62,0)/SUM($I$50:$I$51)","v":0},null,{"$f":"IF(SUM(BD$48:BD$52)>0,$H62*$I62,0)/SUM($I$50:$I$51)","v":0},null,{"$f":"IF(SUM(BF$48:BF$52)>0,$H62*$I62,0)/SUM($I$50:$I$51)","v":0},null,{"$f":"IF(SUM(BH$48:BH$52)>0,$H62*$I62,0)/SUM($I$50:$I$51)","v":0},null,{"$f":"IF(SUM(BJ$48:BJ$52)>0,$H62*$I62,0)/SUM($I$50:$I$51)","v":0},null,{"$f":"IF(SUM(BL$48:BL$52)>0,$H62*$I62,0)/SUM($I$50:$I$51)","v":0},null,{"$f":"IF(SUM(BN$48:BN$52)>0,$H62*$I62,0)/SUM($I$50:$I$51)","v":0},null,{"$f":"IF(SUM(BP$48:BP$52)>0,$H62*$I62,0)/SUM($I$50:$I$51)","v":0},null,{"$f":"IF(SUM(BR$48:BR$52)>0,$H62*$I62,0)/SUM($I$50:$I$51)","v":0},null,{"$f":"IF(SUM(BT$48:BT$52)>0,$H62*$I62,0)/SUM($I$50:$I$51)","v":0},null,{"$f":"IF(SUM(BV$48:BV$52)>0,$H62*$I62,0)/SUM($I$50:$I$51)","v":0},null,{"$f":"IF(SUM(BX$48:BX$52)>0,$H62*$I62,0)/SUM($I$50:$I$51)","v":0},null,{"$f":"IF(SUM(BZ$48:BZ$52)>0,$H62*$I62,0)/SUM($I$50:$I$51)","v":0},null,{"$f":"IF(SUM(CB$48:CB$52)>0,$H62*$I62,0)/SUM($I$50:$I$51)","v":0},null,{"$f":"IF(SUM(CD$48:CD$52)>0,$H62*$I62,0)/SUM($I$50:$I$51)","v":0},null,{"$f":"IF(SUM(CF$48:CF$52)>0,$H62*$I62,0)/SUM($I$50:$I$51)","v":0},null,{"$f":"IF(SUM(CH$48:CH$52)>0,$H62*$I62,0)/SUM($I$50:$I$51)","v":0},null,{"$f":"IF(SUM(CJ$48:CJ$52)>0,$H62*$I62,0)/SUM($I$50:$I$51)","v":0},null,{"$f":"IF(SUM(CL$48:CL$52)>0,$H62*$I62,0)/SUM($I$50:$I$51)","v":0},null,{"$f":"IF(SUM(CN$48:CN$52)>0,$H62*$I62,0)/SUM($I$50:$I$51)","v":0},null,{"$f":"IF(SUM(CP$48:CP$52)>0,$H62*$I62,0)/SUM($I$50:$I$51)","v":0},null,{"$f":"IF(SUM(CR$48:CR$52)>0,$H62*$I62,0)/SUM($I$50:$I$51)","v":0},null,{"$f":"IF(SUM(CT$48:CT$52)>0,$H62*$I62,0)/SUM($I$50:$I$51)","v":0},null,{"$f":"IF(SUM(CV$48:CV$52)>0,$H62*$I62,0)/SUM($I$50:$I$51)","v":0},null,{"$f":"IF(SUM(CX$48:CX$52)>0,$H62*$I62,0)/SUM($I$50:$I$51)","v":0},null,{"$f":"IF(SUM(CZ$48:CZ$52)>0,$H62*$I62,0)/SUM($I$50:$I$51)","v":0},null,{"$f":"IF(SUM(DB$48:DB$52)>0,$H62*$I62,0)/SUM($I$50:$I$51)","v":0},null,{"$f":"IF(SUM(DD$48:DD$52)>0,$H62*$I62,0)/SUM($I$50:$I$51)","v":0},null,{"$f":"IF(SUM(DF$48:DF$52)>0,$H62*$I62,0)/SUM($I$50:$I$51)","v":0},null,{"$f":"IF(SUM(DH$48:DH$52)>0,$H62*$I62,0)/SUM($I$50:$I$51)","v":0},null,{"$f":"IF(SUM(DJ$48:DJ$52)>0,$H62*$I62,0)/SUM($I$50:$I$51)","v":0},null,{"$f":"IF(SUM(DL$48:DL$52)>0,$H62*$I62,0)/SUM($I$50:$I$51)","v":0},null,{"$f":"IF(SUM(DN$48:DN$52)>0,$H62*$I62,0)/SUM($I$50:$I$51)","v":0},null,{"$f":"IF(SUM(DP$48:DP$52)>0,$H62*$I62,0)/SUM($I$50:$I$51)","v":0},null,{"$f":"IF(SUM(DR$48:DR$52)>0,$H62*$I62,0)/SUM($I$50:$I$51)","v":0},null,{"$f":"IF(SUM(DT$48:DT$52)>0,$H62*$I62,0)/SUM($I$50:$I$51)","v":0},null,{"$f":"IF(SUM(DV$48:DV$52)>0,$H62*$I62,0)/SUM($I$50:$I$51)","v":0},null,{"$f":"IF(SUM(DX$48:DX$52)>0,$H62*$I62,0)/SUM($I$50:$I$51)","v":0},null,{"$f":"IF(SUM(DZ$48:DZ$52)>0,$H62*$I62,0)/SUM($I$50:$I$51)","v":0},null,{"$f":"IF(SUM(EB$48:EB$52)>0,$H62*$I62,0)/SUM($I$50:$I$51)","v":0}]
[null,null,null,"Japona na cor preta, feita em ripstop (algodão 35% e poliéster 65%) e forro em tecido popeline com bolsos",1,null,24,24,321.63,null,null,null,0,null,{"$f":"IF(SUM(N$48:N$52)>0,$H63*$I63,0)/SUM($I$50:$I$51)","v":0},null,{"$f":"IF(SUM(P$48:P$52)>0,$H63*$I63,0)/SUM($I$50:$I$51)","v":0},null,{"$f":"IF(SUM(R$48:R$52)>0,$H63*$I63,0)/SUM($I$50:$I$51)","v":0},null,{"$f":"IF(SUM(T$48:T$52)>0,$H63*$I63,0)/SUM($I$50:$I$51)","v":0},null,{"$f":"IF(SUM(V$48:V$52)>0,$H63*$I63,0)/SUM($I$50:$I$51)","v":0},null,{"$f":"IF(SUM(X$48:X$52)>0,$H63*$I63,0)/SUM($I$50:$I$51)","v":0},null,{"$f":"IF(SUM(Z$48:Z$52)>0,$H63*$I63,0)/SUM($I$50:$I$51)","v":0},null,{"$f":"IF(SUM(AB$48:AB$52)>0,$H63*$I63,0)/SUM($I$50:$I$51)","v":0},null,{"$f":"IF(SUM(AD$48:AD$52)>0,$H63*$I63,0)/SUM($I$50:$I$51)","v":321.63},null,{"$f":"IF(SUM(AF$48:AF$52)>0,$H63*$I63,0)/SUM($I$50:$I$51)","v":321.63},null,{"$f":"IF(SUM(AH$48:AH$52)>0,$H63*$I63,0)/SUM($I$50:$I$51)","v":0},null,{"$f":"IF(SUM(AJ$48:AJ$52)>0,$H63*$I63,0)/SUM($I$50:$I$51)","v":0},null,{"$f":"IF(SUM(AL$48:AL$52)>0,$H63*$I63,0)/SUM($I$50:$I$51)","v":0},null,{"$f":"IF(SUM(AN$48:AN$52)>0,$H63*$I63,0)/SUM($I$50:$I$51)","v":0},null,{"$f":"IF(SUM(AP$48:AP$52)>0,$H63*$I63,0)/SUM($I$50:$I$51)","v":0},null,{"$f":"IF(SUM(AR$48:AR$52)>0,$H63*$I63,0)/SUM($I$50:$I$51)","v":0},null,{"$f":"IF(SUM(AT$48:AT$52)>0,$H63*$I63,0)/SUM($I$50:$I$51)","v":0},null,{"$f":"IF(SUM(AV$48:AV$52)>0,$H63*$I63,0)/SUM($I$50:$I$51)","v":0},null,{"$f":"IF(SUM(AX$48:AX$52)>0,$H63*$I63,0)/SUM($I$50:$I$51)","v":0},null,{"$f":"IF(SUM(AZ$48:AZ$52)>0,$H63*$I63,0)/SUM($I$50:$I$51)","v":0},null,{"$f":"IF(SUM(BB$48:BB$52)>0,$H63*$I63,0)/SUM($I$50:$I$51)","v":0},null,{"$f":"IF(SUM(BD$48:BD$52)>0,$H63*$I63,0)/SUM($I$50:$I$51)","v":0},null,{"$f":"IF(SUM(BF$48:BF$52)>0,$H63*$I63,0)/SUM($I$50:$I$51)","v":0},null,{"$f":"IF(SUM(BH$48:BH$52)>0,$H63*$I63,0)/SUM($I$50:$I$51)","v":0},null,{"$f":"IF(SUM(BJ$48:BJ$52)>0,$H63*$I63,0)/SUM($I$50:$I$51)","v":0},null,{"$f":"IF(SUM(BL$48:BL$52)>0,$H63*$I63,0)/SUM($I$50:$I$51)","v":0},null,{"$f":"IF(SUM(BN$48:BN$52)>0,$H63*$I63,0)/SUM($I$50:$I$51)","v":0},null,{"$f":"IF(SUM(BP$48:BP$52)>0,$H63*$I63,0)/SUM($I$50:$I$51)","v":0},null,{"$f":"IF(SUM(BR$48:BR$52)>0,$H63*$I63,0)/SUM($I$50:$I$51)","v":0},null,{"$f":"IF(SUM(BT$48:BT$52)>0,$H63*$I63,0)/SUM($I$50:$I$51)","v":0},null,{"$f":"IF(SUM(BV$48:BV$52)>0,$H63*$I63,0)/SUM($I$50:$I$51)","v":0},null,{"$f":"IF(SUM(BX$48:BX$52)>0,$H63*$I63,0)/SUM($I$50:$I$51)","v":0},null,{"$f":"IF(SUM(BZ$48:BZ$52)>0,$H63*$I63,0)/SUM($I$50:$I$51)","v":0},null,{"$f":"IF(SUM(CB$48:CB$52)>0,$H63*$I63,0)/SUM($I$50:$I$51)","v":0},null,{"$f":"IF(SUM(CD$48:CD$52)>0,$H63*$I63,0)/SUM($I$50:$I$51)","v":0},null,{"$f":"IF(SUM(CF$48:CF$52)>0,$H63*$I63,0)/SUM($I$50:$I$51)","v":0},null,{"$f":"IF(SUM(CH$48:CH$52)>0,$H63*$I63,0)/SUM($I$50:$I$51)","v":0},null,{"$f":"IF(SUM(CJ$48:CJ$52)>0,$H63*$I63,0)/SUM($I$50:$I$51)","v":0},null,{"$f":"IF(SUM(CL$48:CL$52)>0,$H63*$I63,0)/SUM($I$50:$I$51)","v":0},null,{"$f":"IF(SUM(CN$48:CN$52)>0,$H63*$I63,0)/SUM($I$50:$I$51)","v":0},null,{"$f":"IF(SUM(CP$48:CP$52)>0,$H63*$I63,0)/SUM($I$50:$I$51)","v":0},null,{"$f":"IF(SUM(CR$48:CR$52)>0,$H63*$I63,0)/SUM($I$50:$I$51)","v":0},null,{"$f":"IF(SUM(CT$48:CT$52)>0,$H63*$I63,0)/SUM($I$50:$I$51)","v":0},null,{"$f":"IF(SUM(CV$48:CV$52)>0,$H63*$I63,0)/SUM($I$50:$I$51)","v":0},null,{"$f":"IF(SUM(CX$48:CX$52)>0,$H63*$I63,0)/SUM($I$50:$I$51)","v":0},null,{"$f":"IF(SUM(CZ$48:CZ$52)>0,$H63*$I63,0)/SUM($I$50:$I$51)","v":0},null,{"$f":"IF(SUM(DB$48:DB$52)>0,$H63*$I63,0)/SUM($I$50:$I$51)","v":0},null,{"$f":"IF(SUM(DD$48:DD$52)>0,$H63*$I63,0)/SUM($I$50:$I$51)","v":0},null,{"$f":"IF(SUM(DF$48:DF$52)>0,$H63*$I63,0)/SUM($I$50:$I$51)","v":0},null,{"$f":"IF(SUM(DH$48:DH$52)>0,$H63*$I63,0)/SUM($I$50:$I$51)","v":0},null,{"$f":"IF(SUM(DJ$48:DJ$52)>0,$H63*$I63,0)/SUM($I$50:$I$51)","v":0},null,{"$f":"IF(SUM(DL$48:DL$52)>0,$H63*$I63,0)/SUM($I$50:$I$51)","v":0},null,{"$f":"IF(SUM(DN$48:DN$52)>0,$H63*$I63,0)/SUM($I$50:$I$51)","v":0},null,{"$f":"IF(SUM(DP$48:DP$52)>0,$H63*$I63,0)/SUM($I$50:$I$51)","v":0},null,{"$f":"IF(SUM(DR$48:DR$52)>0,$H63*$I63,0)/SUM($I$50:$I$51)","v":0},null,{"$f":"IF(SUM(DT$48:DT$52)>0,$H63*$I63,0)/SUM($I$50:$I$51)","v":0},null,{"$f":"IF(SUM(DV$48:DV$52)>0,$H63*$I63,0)/SUM($I$50:$I$51)","v":0},null,{"$f":"IF(SUM(DX$48:DX$52)>0,$H63*$I63,0)/SUM($I$50:$I$51)","v":0},null,{"$f":"IF(SUM(DZ$48:DZ$52)>0,$H63*$I63,0)/SUM($I$50:$I$51)","v":0},null,{"$f":"IF(SUM(EB$48:EB$52)>0,$H63*$I63,0)/SUM($I$50:$I$51)","v":0}]
[null,null,null,"capa de colete balístico com ajuste de altura e lagura através de presilhas na cor preta",1,null,24,24,285.33,null,null,null,0,null,{"$f":"IF(SUM(N$48:N$52)>0,$H64*$I64,0)/SUM($I$50:$I$51)","v":0},null,{"$f":"IF(SUM(P$48:P$52)>0,$H64*$I64,0)/SUM($I$50:$I$51)","v":0},null,{"$f":"IF(SUM(R$48:R$52)>0,$H64*$I64,0)/SUM($I$50:$I$51)","v":0},null,{"$f":"IF(SUM(T$48:T$52)>0,$H64*$I64,0)/SUM($I$50:$I$51)","v":0},null,{"$f":"IF(SUM(V$48:V$52)>0,$H64*$I64,0)/SUM($I$50:$I$51)","v":0},null,{"$f":"IF(SUM(X$48:X$52)>0,$H64*$I64,0)/SUM($I$50:$I$51)","v":0},null,{"$f":"IF(SUM(Z$48:Z$52)>0,$H64*$I64,0)/SUM($I$50:$I$51)","v":0},null,{"$f":"IF(SUM(AB$48:AB$52)>0,$H64*$I64,0)/SUM($I$50:$I$51)","v":0},null,{"$f":"IF(SUM(AD$48:AD$52)>0,$H64*$I64,0)/SUM($I$50:$I$51)","v":285.33},null,{"$f":"IF(SUM(AF$48:AF$52)>0,$H64*$I64,0)/SUM($I$50:$I$51)","v":285.33},null,{"$f":"IF(SUM(AH$48:AH$52)>0,$H64*$I64,0)/SUM($I$50:$I$51)","v":0},null,{"$f":"IF(SUM(AJ$48:AJ$52)>0,$H64*$I64,0)/SUM($I$50:$I$51)","v":0},null,{"$f":"IF(SUM(AL$48:AL$52)>0,$H64*$I64,0)/SUM($I$50:$I$51)","v":0},null,{"$f":"IF(SUM(AN$48:AN$52)>0,$H64*$I64,0)/SUM($I$50:$I$51)","v":0},null,{"$f":"IF(SUM(AP$48:AP$52)>0,$H64*$I64,0)/SUM($I$50:$I$51)","v":0},null,{"$f":"IF(SUM(AR$48:AR$52)>0,$H64*$I64,0)/SUM($I$50:$I$51)","v":0},null,{"$f":"IF(SUM(AT$48:AT$52)>0,$H64*$I64,0)/SUM($I$50:$I$51)","v":0},null,{"$f":"IF(SUM(AV$48:AV$52)>0,$H64*$I64,0)/SUM($I$50:$I$51)","v":0},null,{"$f":"IF(SUM(AX$48:AX$52)>0,$H64*$I64,0)/SUM($I$50:$I$51)","v":0},null,{"$f":"IF(SUM(AZ$48:AZ$52)>0,$H64*$I64,0)/SUM($I$50:$I$51)","v":0},null,{"$f":"IF(SUM(BB$48:BB$52)>0,$H64*$I64,0)/SUM($I$50:$I$51)","v":0},null,{"$f":"IF(SUM(BD$48:BD$52)>0,$H64*$I64,0)/SUM($I$50:$I$51)","v":0},null,{"$f":"IF(SUM(BF$48:BF$52)>0,$H64*$I64,0)/SUM($I$50:$I$51)","v":0},null,{"$f":"IF(SUM(BH$48:BH$52)>0,$H64*$I64,0)/SUM($I$50:$I$51)","v":0},null,{"$f":"IF(SUM(BJ$48:BJ$52)>0,$H64*$I64,0)/SUM($I$50:$I$51)","v":0},null,{"$f":"IF(SUM(BL$48:BL$52)>0,$H64*$I64,0)/SUM($I$50:$I$51)","v":0},null,{"$f":"IF(SUM(BN$48:BN$52)>0,$H64*$I64,0)/SUM($I$50:$I$51)","v":0},null,{"$f":"IF(SUM(BP$48:BP$52)>0,$H64*$I64,0)/SUM($I$50:$I$51)","v":0},null,{"$f":"IF(SUM(BR$48:BR$52)>0,$H64*$I64,0)/SUM($I$50:$I$51)","v":0},null,{"$f":"IF(SUM(BT$48:BT$52)>0,$H64*$I64,0)/SUM($I$50:$I$51)","v":0},null,{"$f":"IF(SUM(BV$48:BV$52)>0,$H64*$I64,0)/SUM($I$50:$I$51)","v":0},null,{"$f":"IF(SUM(BX$48:BX$52)>0,$H64*$I64,0)/SUM($I$50:$I$51)","v":0},null,{"$f":"IF(SUM(BZ$48:BZ$52)>0,$H64*$I64,0)/SUM($I$50:$I$51)","v":0},null,{"$f":"IF(SUM(CB$48:CB$52)>0,$H64*$I64,0)/SUM($I$50:$I$51)","v":0},null,{"$f":"IF(SUM(CD$48:CD$52)>0,$H64*$I64,0)/SUM($I$50:$I$51)","v":0},null,{"$f":"IF(SUM(CF$48:CF$52)>0,$H64*$I64,0)/SUM($I$50:$I$51)","v":0},null,{"$f":"IF(SUM(CH$48:CH$52)>0,$H64*$I64,0)/SUM($I$50:$I$51)","v":0},null,{"$f":"IF(SUM(CJ$48:CJ$52)>0,$H64*$I64,0)/SUM($I$50:$I$51)","v":0},null,{"$f":"IF(SUM(CL$48:CL$52)>0,$H64*$I64,0)/SUM($I$50:$I$51)","v":0},null,{"$f":"IF(SUM(CN$48:CN$52)>0,$H64*$I64,0)/SUM($I$50:$I$51)","v":0},null,{"$f":"IF(SUM(CP$48:CP$52)>0,$H64*$I64,0)/SUM($I$50:$I$51)","v":0},null,{"$f":"IF(SUM(CR$48:CR$52)>0,$H64*$I64,0)/SUM($I$50:$I$51)","v":0},null,{"$f":"IF(SUM(CT$48:CT$52)>0,$H64*$I64,0)/SUM($I$50:$I$51)","v":0},null,{"$f":"IF(SUM(CV$48:CV$52)>0,$H64*$I64,0)/SUM($I$50:$I$51)","v":0},null,{"$f":"IF(SUM(CX$48:CX$52)>0,$H64*$I64,0)/SUM($I$50:$I$51)","v":0},null,{"$f":"IF(SUM(CZ$48:CZ$52)>0,$H64*$I64,0)/SUM($I$50:$I$51)","v":0},null,{"$f":"IF(SUM(DB$48:DB$52)>0,$H64*$I64,0)/SUM($I$50:$I$51)","v":0},null,{"$f":"IF(SUM(DD$48:DD$52)>0,$H64*$I64,0)/SUM($I$50:$I$51)","v":0},null,{"$f":"IF(SUM(DF$48:DF$52)>0,$H64*$I64,0)/SUM($I$50:$I$51)","v":0},null,{"$f":"IF(SUM(DH$48:DH$52)>0,$H64*$I64,0)/SUM($I$50:$I$51)","v":0},null,{"$f":"IF(SUM(DJ$48:DJ$52)>0,$H64*$I64,0)/SUM($I$50:$I$51)","v":0},null,{"$f":"IF(SUM(DL$48:DL$52)>0,$H64*$I64,0)/SUM($I$50:$I$51)","v":0},null,{"$f":"IF(SUM(DN$48:DN$52)>0,$H64*$I64,0)/SUM($I$50:$I$51)","v":0},null,{"$f":"IF(SUM(DP$48:DP$52)>0,$H64*$I64,0)/SUM($I$50:$I$51)","v":0},null,{"$f":"IF(SUM(DR$48:DR$52)>0,$H64*$I64,0)/SUM($I$50:$I$51)","v":0},null,{"$f":"IF(SUM(DT$48:DT$52)>0,$H64*$I64,0)/SUM($I$50:$I$51)","v":0},null,{"$f":"IF(SUM(DV$48:DV$52)>0,$H64*$I64,0)/SUM($I$50:$I$51)","v":0},null,{"$f":"IF(SUM(DX$48:DX$52)>0,$H64*$I64,0)/SUM($I$50:$I$51)","v":0},null,{"$f":"IF(SUM(DZ$48:DZ$52)>0,$H64*$I64,0)/SUM($I$50:$I$51)","v":0},null,{"$f":"IF(SUM(EB$48:EB$52)>0,$H64*$I64,0)/SUM($I$50:$I$51)","v":0}]
[null,null,null,"cinto tático de nylon na cor preta, pai e filho, com coldre, porta cassetete, porta munição, porta algema e porta tonfa",1,null,24,24,234.97,null,null,null,0,null,{"$f":"IF(SUM(N$48:N$52)>0,$H65*$I65,0)/SUM($I$50:$I$51)","v":0},null,{"$f":"IF(SUM(P$48:P$52)>0,$H65*$I65,0)/SUM($I$50:$I$51)","v":0},null,{"$f":"IF(SUM(R$48:R$52)>0,$H65*$I65,0)/SUM($I$50:$I$51)","v":0},null,{"$f":"IF(SUM(T$48:T$52)>0,$H65*$I65,0)/SUM($I$50:$I$51)","v":0},null,{"$f":"IF(SUM(V$48:V$52)>0,$H65*$I65,0)/SUM($I$50:$I$51)","v":0},null,{"$f":"IF(SUM(X$48:X$52)>0,$H65*$I65,0)/SUM($I$50:$I$51)","v":0},null,{"$f":"IF(SUM(Z$48:Z$52)>0,$H65*$I65,0)/SUM($I$50:$I$51)","v":0},null,{"$f":"IF(SUM(AB$48:AB$52)>0,$H65*$I65,0)/SUM($I$50:$I$51)","v":0},null,{"$f":"IF(SUM(AD$48:AD$52)>0,$H65*$I65,0)/SUM($I$50:$I$51)","v":234.97},null,{"$f":"IF(SUM(AF$48:AF$52)>0,$H65*$I65,0)/SUM($I$50:$I$51)","v":234.97},null,{"$f":"IF(SUM(AH$48:AH$52)>0,$H65*$I65,0)/SUM($I$50:$I$51)","v":0},null,{"$f":"IF(SUM(AJ$48:AJ$52)>0,$H65*$I65,0)/SUM($I$50:$I$51)","v":0},null,{"$f":"IF(SUM(AL$48:AL$52)>0,$H65*$I65,0)/SUM($I$50:$I$51)","v":0},null,{"$f":"IF(SUM(AN$48:AN$52)>0,$H65*$I65,0)/SUM($I$50:$I$51)","v":0},null,{"$f":"IF(SUM(AP$48:AP$52)>0,$H65*$I65,0)/SUM($I$50:$I$51)","v":0},null,{"$f":"IF(SUM(AR$48:AR$52)>0,$H65*$I65,0)/SUM($I$50:$I$51)","v":0},null,{"$f":"IF(SUM(AT$48:AT$52)>0,$H65*$I65,0)/SUM($I$50:$I$51)","v":0},null,{"$f":"IF(SUM(AV$48:AV$52)>0,$H65*$I65,0)/SUM($I$50:$I$51)","v":0},null,{"$f":"IF(SUM(AX$48:AX$52)>0,$H65*$I65,0)/SUM($I$50:$I$51)","v":0},null,{"$f":"IF(SUM(AZ$48:AZ$52)>0,$H65*$I65,0)/SUM($I$50:$I$51)","v":0},null,{"$f":"IF(SUM(BB$48:BB$52)>0,$H65*$I65,0)/SUM($I$50:$I$51)","v":0},null,{"$f":"IF(SUM(BD$48:BD$52)>0,$H65*$I65,0)/SUM($I$50:$I$51)","v":0},null,{"$f":"IF(SUM(BF$48:BF$52)>0,$H65*$I65,0)/SUM($I$50:$I$51)","v":0},null,{"$f":"IF(SUM(BH$48:BH$52)>0,$H65*$I65,0)/SUM($I$50:$I$51)","v":0},null,{"$f":"IF(SUM(BJ$48:BJ$52)>0,$H65*$I65,0)/SUM($I$50:$I$51)","v":0},null,{"$f":"IF(SUM(BL$48:BL$52)>0,$H65*$I65,0)/SUM($I$50:$I$51)","v":0},null,{"$f":"IF(SUM(BN$48:BN$52)>0,$H65*$I65,0)/SUM($I$50:$I$51)","v":0},null,{"$f":"IF(SUM(BP$48:BP$52)>0,$H65*$I65,0)/SUM($I$50:$I$51)","v":0},null,{"$f":"IF(SUM(BR$48:BR$52)>0,$H65*$I65,0)/SUM($I$50:$I$51)","v":0},null,{"$f":"IF(SUM(BT$48:BT$52)>0,$H65*$I65,0)/SUM($I$50:$I$51)","v":0},null,{"$f":"IF(SUM(BV$48:BV$52)>0,$H65*$I65,0)/SUM($I$50:$I$51)","v":0},null,{"$f":"IF(SUM(BX$48:BX$52)>0,$H65*$I65,0)/SUM($I$50:$I$51)","v":0},null,{"$f":"IF(SUM(BZ$48:BZ$52)>0,$H65*$I65,0)/SUM($I$50:$I$51)","v":0},null,{"$f":"IF(SUM(CB$48:CB$52)>0,$H65*$I65,0)/SUM($I$50:$I$51)","v":0},null,{"$f":"IF(SUM(CD$48:CD$52)>0,$H65*$I65,0)/SUM($I$50:$I$51)","v":0},null,{"$f":"IF(SUM(CF$48:CF$52)>0,$H65*$I65,0)/SUM($I$50:$I$51)","v":0},null,{"$f":"IF(SUM(CH$48:CH$52)>0,$H65*$I65,0)/SUM($I$50:$I$51)","v":0},null,{"$f":"IF(SUM(CJ$48:CJ$52)>0,$H65*$I65,0)/SUM($I$50:$I$51)","v":0},null,{"$f":"IF(SUM(CL$48:CL$52)>0,$H65*$I65,0)/SUM($I$50:$I$51)","v":0},null,{"$f":"IF(SUM(CN$48:CN$52)>0,$H65*$I65,0)/SUM($I$50:$I$51)","v":0},null,{"$f":"IF(SUM(CP$48:CP$52)>0,$H65*$I65,0)/SUM($I$50:$I$51)","v":0},null,{"$f":"IF(SUM(CR$48:CR$52)>0,$H65*$I65,0)/SUM($I$50:$I$51)","v":0},null,{"$f":"IF(SUM(CT$48:CT$52)>0,$H65*$I65,0)/SUM($I$50:$I$51)","v":0},null,{"$f":"IF(SUM(CV$48:CV$52)>0,$H65*$I65,0)/SUM($I$50:$I$51)","v":0},null,{"$f":"IF(SUM(CX$48:CX$52)>0,$H65*$I65,0)/SUM($I$50:$I$51)","v":0},null,{"$f":"IF(SUM(CZ$48:CZ$52)>0,$H65*$I65,0)/SUM($I$50:$I$51)","v":0},null,{"$f":"IF(SUM(DB$48:DB$52)>0,$H65*$I65,0)/SUM($I$50:$I$51)","v":0},null,{"$f":"IF(SUM(DD$48:DD$52)>0,$H65*$I65,0)/SUM($I$50:$I$51)","v":0},null,{"$f":"IF(SUM(DF$48:DF$52)>0,$H65*$I65,0)/SUM($I$50:$I$51)","v":0},null,{"$f":"IF(SUM(DH$48:DH$52)>0,$H65*$I65,0)/SUM($I$50:$I$51)","v":0},null,{"$f":"IF(SUM(DJ$48:DJ$52)>0,$H65*$I65,0)/SUM($I$50:$I$51)","v":0},null,{"$f":"IF(SUM(DL$48:DL$52)>0,$H65*$I65,0)/SUM($I$50:$I$51)","v":0},null,{"$f":"IF(SUM(DN$48:DN$52)>0,$H65*$I65,0)/SUM($I$50:$I$51)","v":0},null,{"$f":"IF(SUM(DP$48:DP$52)>0,$H65*$I65,0)/SUM($I$50:$I$51)","v":0},null,{"$f":"IF(SUM(DR$48:DR$52)>0,$H65*$I65,0)/SUM($I$50:$I$51)","v":0},null,{"$f":"IF(SUM(DT$48:DT$52)>0,$H65*$I65,0)/SUM($I$50:$I$51)","v":0},null,{"$f":"IF(SUM(DV$48:DV$52)>0,$H65*$I65,0)/SUM($I$50:$I$51)","v":0},null,{"$f":"IF(SUM(DX$48:DX$52)>0,$H65*$I65,0)/SUM($I$50:$I$51)","v":0},null,{"$f":"IF(SUM(DZ$48:DZ$52)>0,$H65*$I65,0)/SUM($I$50:$I$51)","v":0},null,{"$f":"IF(SUM(EB$48:EB$52)>0,$H65*$I65,0)/SUM($I$50:$I$51)","v":0}]
[null,null,null,"capa de chuva longa com capuz, ½ canela, em pvc, costuras seladas, impermeável, com listras reflexivas",1,null,24,24,36.36,null,null,null,0,null,{"$f":"IF(SUM(N$48:N$52)>0,$H66*$I66,0)/SUM($I$50:$I$51)","v":0},null,{"$f":"IF(SUM(P$48:P$52)>0,$H66*$I66,0)/SUM($I$50:$I$51)","v":0},null,{"$f":"IF(SUM(R$48:R$52)>0,$H66*$I66,0)/SUM($I$50:$I$51)","v":0},null,{"$f":"IF(SUM(T$48:T$52)>0,$H66*$I66,0)/SUM($I$50:$I$51)","v":0},null,{"$f":"IF(SUM(V$48:V$52)>0,$H66*$I66,0)/SUM($I$50:$I$51)","v":0},null,{"$f":"IF(SUM(X$48:X$52)>0,$H66*$I66,0)/SUM($I$50:$I$51)","v":0},null,{"$f":"IF(SUM(Z$48:Z$52)>0,$H66*$I66,0)/SUM($I$50:$I$51)","v":0},null,{"$f":"IF(SUM(AB$48:AB$52)>0,$H66*$I66,0)/SUM($I$50:$I$51)","v":0},null,{"$f":"IF(SUM(AD$48:AD$52)>0,$H66*$I66,0)/SUM($I$50:$I$51)","v":36.36},null,{"$f":"IF(SUM(AF$48:AF$52)>0,$H66*$I66,0)/SUM($I$50:$I$51)","v":36.36},null,{"$f":"IF(SUM(AH$48:AH$52)>0,$H66*$I66,0)/SUM($I$50:$I$51)","v":0},null,{"$f":"IF(SUM(AJ$48:AJ$52)>0,$H66*$I66,0)/SUM($I$50:$I$51)","v":0},null,{"$f":"IF(SUM(AL$48:AL$52)>0,$H66*$I66,0)/SUM($I$50:$I$51)","v":0},null,{"$f":"IF(SUM(AN$48:AN$52)>0,$H66*$I66,0)/SUM($I$50:$I$51)","v":0},null,{"$f":"IF(SUM(AP$48:AP$52)>0,$H66*$I66,0)/SUM($I$50:$I$51)","v":0},null,{"$f":"IF(SUM(AR$48:AR$52)>0,$H66*$I66,0)/SUM($I$50:$I$51)","v":0},null,{"$f":"IF(SUM(AT$48:AT$52)>0,$H66*$I66,0)/SUM($I$50:$I$51)","v":0},null,{"$f":"IF(SUM(AV$48:AV$52)>0,$H66*$I66,0)/SUM($I$50:$I$51)","v":0},null,{"$f":"IF(SUM(AX$48:AX$52)>0,$H66*$I66,0)/SUM($I$50:$I$51)","v":0},null,{"$f":"IF(SUM(AZ$48:AZ$52)>0,$H66*$I66,0)/SUM($I$50:$I$51)","v":0},null,{"$f":"IF(SUM(BB$48:BB$52)>0,$H66*$I66,0)/SUM($I$50:$I$51)","v":0},null,{"$f":"IF(SUM(BD$48:BD$52)>0,$H66*$I66,0)/SUM($I$50:$I$51)","v":0},null,{"$f":"IF(SUM(BF$48:BF$52)>0,$H66*$I66,0)/SUM($I$50:$I$51)","v":0},null,{"$f":"IF(SUM(BH$48:BH$52)>0,$H66*$I66,0)/SUM($I$50:$I$51)","v":0},null,{"$f":"IF(SUM(BJ$48:BJ$52)>0,$H66*$I66,0)/SUM($I$50:$I$51)","v":0},null,{"$f":"IF(SUM(BL$48:BL$52)>0,$H66*$I66,0)/SUM($I$50:$I$51)","v":0},null,{"$f":"IF(SUM(BN$48:BN$52)>0,$H66*$I66,0)/SUM($I$50:$I$51)","v":0},null,{"$f":"IF(SUM(BP$48:BP$52)>0,$H66*$I66,0)/SUM($I$50:$I$51)","v":0},null,{"$f":"IF(SUM(BR$48:BR$52)>0,$H66*$I66,0)/SUM($I$50:$I$51)","v":0},null,{"$f":"IF(SUM(BT$48:BT$52)>0,$H66*$I66,0)/SUM($I$50:$I$51)","v":0},null,{"$f":"IF(SUM(BV$48:BV$52)>0,$H66*$I66,0)/SUM($I$50:$I$51)","v":0},null,{"$f":"IF(SUM(BX$48:BX$52)>0,$H66*$I66,0)/SUM($I$50:$I$51)","v":0},null,{"$f":"IF(SUM(BZ$48:BZ$52)>0,$H66*$I66,0)/SUM($I$50:$I$51)","v":0},null,{"$f":"IF(SUM(CB$48:CB$52)>0,$H66*$I66,0)/SUM($I$50:$I$51)","v":0},null,{"$f":"IF(SUM(CD$48:CD$52)>0,$H66*$I66,0)/SUM($I$50:$I$51)","v":0},null,{"$f":"IF(SUM(CF$48:CF$52)>0,$H66*$I66,0)/SUM($I$50:$I$51)","v":0},null,{"$f":"IF(SUM(CH$48:CH$52)>0,$H66*$I66,0)/SUM($I$50:$I$51)","v":0},null,{"$f":"IF(SUM(CJ$48:CJ$52)>0,$H66*$I66,0)/SUM($I$50:$I$51)","v":0},null,{"$f":"IF(SUM(CL$48:CL$52)>0,$H66*$I66,0)/SUM($I$50:$I$51)","v":0},null,{"$f":"IF(SUM(CN$48:CN$52)>0,$H66*$I66,0)/SUM($I$50:$I$51)","v":0},null,{"$f":"IF(SUM(CP$48:CP$52)>0,$H66*$I66,0)/SUM($I$50:$I$51)","v":0},null,{"$f":"IF(SUM(CR$48:CR$52)>0,$H66*$I66,0)/SUM($I$50:$I$51)","v":0},null,{"$f":"IF(SUM(CT$48:CT$52)>0,$H66*$I66,0)/SUM($I$50:$I$51)","v":0},null,{"$f":"IF(SUM(CV$48:CV$52)>0,$H66*$I66,0)/SUM($I$50:$I$51)","v":0},null,{"$f":"IF(SUM(CX$48:CX$52)>0,$H66*$I66,0)/SUM($I$50:$I$51)","v":0},null,{"$f":"IF(SUM(CZ$48:CZ$52)>0,$H66*$I66,0)/SUM($I$50:$I$51)","v":0},null,{"$f":"IF(SUM(DB$48:DB$52)>0,$H66*$I66,0)/SUM($I$50:$I$51)","v":0},null,{"$f":"IF(SUM(DD$48:DD$52)>0,$H66*$I66,0)/SUM($I$50:$I$51)","v":0},null,{"$f":"IF(SUM(DF$48:DF$52)>0,$H66*$I66,0)/SUM($I$50:$I$51)","v":0},null,{"$f":"IF(SUM(DH$48:DH$52)>0,$H66*$I66,0)/SUM($I$50:$I$51)","v":0},null,{"$f":"IF(SUM(DJ$48:DJ$52)>0,$H66*$I66,0)/SUM($I$50:$I$51)","v":0},null,{"$f":"IF(SUM(DL$48:DL$52)>0,$H66*$I66,0)/SUM($I$50:$I$51)","v":0},null,{"$f":"IF(SUM(DN$48:DN$52)>0,$H66*$I66,0)/SUM($I$50:$I$51)","v":0},null,{"$f":"IF(SUM(DP$48:DP$52)>0,$H66*$I66,0)/SUM($I$50:$I$51)","v":0},null,{"$f":"IF(SUM(DR$48:DR$52)>0,$H66*$I66,0)/SUM($I$50:$I$51)","v":0},null,{"$f":"IF(SUM(DT$48:DT$52)>0,$H66*$I66,0)/SUM($I$50:$I$51)","v":0},null,{"$f":"IF(SUM(DV$48:DV$52)>0,$H66*$I66,0)/SUM($I$50:$I$51)","v":0},null,{"$f":"IF(SUM(DX$48:DX$52)>0,$H66*$I66,0)/SUM($I$50:$I$51)","v":0},null,{"$f":"IF(SUM(DZ$48:DZ$52)>0,$H66*$I66,0)/SUM($I$50:$I$51)","v":0},null,{"$f":"IF(SUM(EB$48:EB$52)>0,$H66*$I66,0)/SUM($I$50:$I$51)","v":0}]
[null,null,null,"Óculos de segurança, com armação e visor curvo, modelo Cayman, confeccionados em uma única peça de policarbonato, com proteção anti-embaçante, visor cor cinza. Marca de ref. Carbografite",1,null,24,24,15.5,null,null,null,0,null,{"$f":"IF(SUM(N$48:N$52)>0,$H67*$I67,0)/SUM($I$50:$I$51)","v":0},null,{"$f":"IF(SUM(P$48:P$52)>0,$H67*$I67,0)/SUM($I$50:$I$51)","v":0},null,{"$f":"IF(SUM(R$48:R$52)>0,$H67*$I67,0)/SUM($I$50:$I$51)","v":0},null,{"$f":"IF(SUM(T$48:T$52)>0,$H67*$I67,0)/SUM($I$50:$I$51)","v":0},null,{"$f":"IF(SUM(V$48:V$52)>0,$H67*$I67,0)/SUM($I$50:$I$51)","v":0},null,{"$f":"IF(SUM(X$48:X$52)>0,$H67*$I67,0)/SUM($I$50:$I$51)","v":0},null,{"$f":"IF(SUM(Z$48:Z$52)>0,$H67*$I67,0)/SUM($I$50:$I$51)","v":0},null,{"$f":"IF(SUM(AB$48:AB$52)>0,$H67*$I67,0)/SUM($I$50:$I$51)","v":0},null,{"$f":"IF(SUM(AD$48:AD$52)>0,$H67*$I67,0)/SUM($I$50:$I$51)","v":15.5},null,{"$f":"IF(SUM(AF$48:AF$52)>0,$H67*$I67,0)/SUM($I$50:$I$51)","v":15.5},null,{"$f":"IF(SUM(AH$48:AH$52)>0,$H67*$I67,0)/SUM($I$50:$I$51)","v":0},null,{"$f":"IF(SUM(AJ$48:AJ$52)>0,$H67*$I67,0)/SUM($I$50:$I$51)","v":0},null,{"$f":"IF(SUM(AL$48:AL$52)>0,$H67*$I67,0)/SUM($I$50:$I$51)","v":0},null,{"$f":"IF(SUM(AN$48:AN$52)>0,$H67*$I67,0)/SUM($I$50:$I$51)","v":0},null,{"$f":"IF(SUM(AP$48:AP$52)>0,$H67*$I67,0)/SUM($I$50:$I$51)","v":0},null,{"$f":"IF(SUM(AR$48:AR$52)>0,$H67*$I67,0)/SUM($I$50:$I$51)","v":0},null,{"$f":"IF(SUM(AT$48:AT$52)>0,$H67*$I67,0)/SUM($I$50:$I$51)","v":0},null,{"$f":"IF(SUM(AV$48:AV$52)>0,$H67*$I67,0)/SUM($I$50:$I$51)","v":0},null,{"$f":"IF(SUM(AX$48:AX$52)>0,$H67*$I67,0)/SUM($I$50:$I$51)","v":0},null,{"$f":"IF(SUM(AZ$48:AZ$52)>0,$H67*$I67,0)/SUM($I$50:$I$51)","v":0},null,{"$f":"IF(SUM(BB$48:BB$52)>0,$H67*$I67,0)/SUM($I$50:$I$51)","v":0},null,{"$f":"IF(SUM(BD$48:BD$52)>0,$H67*$I67,0)/SUM($I$50:$I$51)","v":0},null,{"$f":"IF(SUM(BF$48:BF$52)>0,$H67*$I67,0)/SUM($I$50:$I$51)","v":0},null,{"$f":"IF(SUM(BH$48:BH$52)>0,$H67*$I67,0)/SUM($I$50:$I$51)","v":0},null,{"$f":"IF(SUM(BJ$48:BJ$52)>0,$H67*$I67,0)/SUM($I$50:$I$51)","v":0},null,{"$f":"IF(SUM(BL$48:BL$52)>0,$H67*$I67,0)/SUM($I$50:$I$51)","v":0},null,{"$f":"IF(SUM(BN$48:BN$52)>0,$H67*$I67,0)/SUM($I$50:$I$51)","v":0},null,{"$f":"IF(SUM(BP$48:BP$52)>0,$H67*$I67,0)/SUM($I$50:$I$51)","v":0},null,{"$f":"IF(SUM(BR$48:BR$52)>0,$H67*$I67,0)/SUM($I$50:$I$51)","v":0},null,{"$f":"IF(SUM(BT$48:BT$52)>0,$H67*$I67,0)/SUM($I$50:$I$51)","v":0},null,{"$f":"IF(SUM(BV$48:BV$52)>0,$H67*$I67,0)/SUM($I$50:$I$51)","v":0},null,{"$f":"IF(SUM(BX$48:BX$52)>0,$H67*$I67,0)/SUM($I$50:$I$51)","v":0},null,{"$f":"IF(SUM(BZ$48:BZ$52)>0,$H67*$I67,0)/SUM($I$50:$I$51)","v":0},null,{"$f":"IF(SUM(CB$48:CB$52)>0,$H67*$I67,0)/SUM($I$50:$I$51)","v":0},null,{"$f":"IF(SUM(CD$48:CD$52)>0,$H67*$I67,0)/SUM($I$50:$I$51)","v":0},null,{"$f":"IF(SUM(CF$48:CF$52)>0,$H67*$I67,0)/SUM($I$50:$I$51)","v":0},null,{"$f":"IF(SUM(CH$48:CH$52)>0,$H67*$I67,0)/SUM($I$50:$I$51)","v":0},null,{"$f":"IF(SUM(CJ$48:CJ$52)>0,$H67*$I67,0)/SUM($I$50:$I$51)","v":0},null,{"$f":"IF(SUM(CL$48:CL$52)>0,$H67*$I67,0)/SUM($I$50:$I$51)","v":0},null,{"$f":"IF(SUM(CN$48:CN$52)>0,$H67*$I67,0)/SUM($I$50:$I$51)","v":0},null,{"$f":"IF(SUM(CP$48:CP$52)>0,$H67*$I67,0)/SUM($I$50:$I$51)","v":0},null,{"$f":"IF(SUM(CR$48:CR$52)>0,$H67*$I67,0)/SUM($I$50:$I$51)","v":0},null,{"$f":"IF(SUM(CT$48:CT$52)>0,$H67*$I67,0)/SUM($I$50:$I$51)","v":0},null,{"$f":"IF(SUM(CV$48:CV$52)>0,$H67*$I67,0)/SUM($I$50:$I$51)","v":0},null,{"$f":"IF(SUM(CX$48:CX$52)>0,$H67*$I67,0)/SUM($I$50:$I$51)","v":0},null,{"$f":"IF(SUM(CZ$48:CZ$52)>0,$H67*$I67,0)/SUM($I$50:$I$51)","v":0},null,{"$f":"IF(SUM(DB$48:DB$52)>0,$H67*$I67,0)/SUM($I$50:$I$51)","v":0},null,{"$f":"IF(SUM(DD$48:DD$52)>0,$H67*$I67,0)/SUM($I$50:$I$51)","v":0},null,{"$f":"IF(SUM(DF$48:DF$52)>0,$H67*$I67,0)/SUM($I$50:$I$51)","v":0},null,{"$f":"IF(SUM(DH$48:DH$52)>0,$H67*$I67,0)/SUM($I$50:$I$51)","v":0},null,{"$f":"IF(SUM(DJ$48:DJ$52)>0,$H67*$I67,0)/SUM($I$50:$I$51)","v":0},null,{"$f":"IF(SUM(DL$48:DL$52)>0,$H67*$I67,0)/SUM($I$50:$I$51)","v":0},null,{"$f":"IF(SUM(DN$48:DN$52)>0,$H67*$I67,0)/SUM($I$50:$I$51)","v":0},null,{"$f":"IF(SUM(DP$48:DP$52)>0,$H67*$I67,0)/SUM($I$50:$I$51)","v":0},null,{"$f":"IF(SUM(DR$48:DR$52)>0,$H67*$I67,0)/SUM($I$50:$I$51)","v":0},null,{"$f":"IF(SUM(DT$48:DT$52)>0,$H67*$I67,0)/SUM($I$50:$I$51)","v":0},null,{"$f":"IF(SUM(DV$48:DV$52)>0,$H67*$I67,0)/SUM($I$50:$I$51)","v":0},null,{"$f":"IF(SUM(DX$48:DX$52)>0,$H67*$I67,0)/SUM($I$50:$I$51)","v":0},null,{"$f":"IF(SUM(DZ$48:DZ$52)>0,$H67*$I67,0)/SUM($I$50:$I$51)","v":0},null,{"$f":"IF(SUM(EB$48:EB$52)>0,$H67*$I67,0)/SUM($I$50:$I$51)","v":0}]
[null,null,null,null,null,null,null,null,null,null,null,null,0,null,{"$f":"IF(SUM(N$48:N$52)>0,$H68*$I68,0)/SUM($I$50:$I$51)","v":0},null,{"$f":"IF(SUM(P$48:P$52)>0,$H68*$I68,0)/SUM($I$50:$I$51)","v":0},null,{"$f":"IF(SUM(R$48:R$52)>0,$H68*$I68,0)/SUM($I$50:$I$51)","v":0},null,{"$f":"IF(SUM(T$48:T$52)>0,$H68*$I68,0)/SUM($I$50:$I$51)","v":0},null,{"$f":"IF(SUM(V$48:V$52)>0,$H68*$I68,0)/SUM($I$50:$I$51)","v":0},null,{"$f":"IF(SUM(X$48:X$52)>0,$H68*$I68,0)/SUM($I$50:$I$51)","v":0},null,{"$f":"IF(SUM(Z$48:Z$52)>0,$H68*$I68,0)/SUM($I$50:$I$51)","v":0},null,{"$f":"IF(SUM(AB$48:AB$52)>0,$H68*$I68,0)/SUM($I$50:$I$51)","v":0},null,{"$f":"IF(SUM(AD$48:AD$52)>0,$H68*$I68,0)/SUM($I$50:$I$51)","v":0},null,{"$f":"IF(SUM(AF$48:AF$52)>0,$H68*$I68,0)/SUM($I$50:$I$51)","v":0},null,{"$f":"IF(SUM(AH$48:AH$52)>0,$H68*$I68,0)/SUM($I$50:$I$51)","v":0},null,{"$f":"IF(SUM(AJ$48:AJ$52)>0,$H68*$I68,0)/SUM($I$50:$I$51)","v":0},null,{"$f":"IF(SUM(AL$48:AL$52)>0,$H68*$I68,0)/SUM($I$50:$I$51)","v":0},null,{"$f":"IF(SUM(AN$48:AN$52)>0,$H68*$I68,0)/SUM($I$50:$I$51)","v":0},null,{"$f":"IF(SUM(AP$48:AP$52)>0,$H68*$I68,0)/SUM($I$50:$I$51)","v":0},null,{"$f":"IF(SUM(AR$48:AR$52)>0,$H68*$I68,0)/SUM($I$50:$I$51)","v":0},null,{"$f":"IF(SUM(AT$48:AT$52)>0,$H68*$I68,0)/SUM($I$50:$I$51)","v":0},null,{"$f":"IF(SUM(AV$48:AV$52)>0,$H68*$I68,0)/SUM($I$50:$I$51)","v":0},null,{"$f":"IF(SUM(AX$48:AX$52)>0,$H68*$I68,0)/SUM($I$50:$I$51)","v":0},null,{"$f":"IF(SUM(AZ$48:AZ$52)>0,$H68*$I68,0)/SUM($I$50:$I$51)","v":0},null,{"$f":"IF(SUM(BB$48:BB$52)>0,$H68*$I68,0)/SUM($I$50:$I$51)","v":0},null,{"$f":"IF(SUM(BD$48:BD$52)>0,$H68*$I68,0)/SUM($I$50:$I$51)","v":0},null,{"$f":"IF(SUM(BF$48:BF$52)>0,$H68*$I68,0)/SUM($I$50:$I$51)","v":0},null,{"$f":"IF(SUM(BH$48:BH$52)>0,$H68*$I68,0)/SUM($I$50:$I$51)","v":0},null,{"$f":"IF(SUM(BJ$48:BJ$52)>0,$H68*$I68,0)/SUM($I$50:$I$51)","v":0},null,{"$f":"IF(SUM(BL$48:BL$52)>0,$H68*$I68,0)/SUM($I$50:$I$51)","v":0},null,{"$f":"IF(SUM(BN$48:BN$52)>0,$H68*$I68,0)/SUM($I$50:$I$51)","v":0},null,{"$f":"IF(SUM(BP$48:BP$52)>0,$H68*$I68,0)/SUM($I$50:$I$51)","v":0},null,{"$f":"IF(SUM(BR$48:BR$52)>0,$H68*$I68,0)/SUM($I$50:$I$51)","v":0},null,{"$f":"IF(SUM(BT$48:BT$52)>0,$H68*$I68,0)/SUM($I$50:$I$51)","v":0},null,{"$f":"IF(SUM(BV$48:BV$52)>0,$H68*$I68,0)/SUM($I$50:$I$51)","v":0},null,{"$f":"IF(SUM(BX$48:BX$52)>0,$H68*$I68,0)/SUM($I$50:$I$51)","v":0},null,{"$f":"IF(SUM(BZ$48:BZ$52)>0,$H68*$I68,0)/SUM($I$50:$I$51)","v":0},null,{"$f":"IF(SUM(CB$48:CB$52)>0,$H68*$I68,0)/SUM($I$50:$I$51)","v":0},null,{"$f":"IF(SUM(CD$48:CD$52)>0,$H68*$I68,0)/SUM($I$50:$I$51)","v":0},null,{"$f":"IF(SUM(CF$48:CF$52)>0,$H68*$I68,0)/SUM($I$50:$I$51)","v":0},null,{"$f":"IF(SUM(CH$48:CH$52)>0,$H68*$I68,0)/SUM($I$50:$I$51)","v":0},null,{"$f":"IF(SUM(CJ$48:CJ$52)>0,$H68*$I68,0)/SUM($I$50:$I$51)","v":0},null,{"$f":"IF(SUM(CL$48:CL$52)>0,$H68*$I68,0)/SUM($I$50:$I$51)","v":0},null,{"$f":"IF(SUM(CN$48:CN$52)>0,$H68*$I68,0)/SUM($I$50:$I$51)","v":0},null,{"$f":"IF(SUM(CP$48:CP$52)>0,$H68*$I68,0)/SUM($I$50:$I$51)","v":0},null,{"$f":"IF(SUM(CR$48:CR$52)>0,$H68*$I68,0)/SUM($I$50:$I$51)","v":0},null,{"$f":"IF(SUM(CT$48:CT$52)>0,$H68*$I68,0)/SUM($I$50:$I$51)","v":0},null,{"$f":"IF(SUM(CV$48:CV$52)>0,$H68*$I68,0)/SUM($I$50:$I$51)","v":0},null,{"$f":"IF(SUM(CX$48:CX$52)>0,$H68*$I68,0)/SUM($I$50:$I$51)","v":0},null,{"$f":"IF(SUM(CZ$48:CZ$52)>0,$H68*$I68,0)/SUM($I$50:$I$51)","v":0},null,{"$f":"IF(SUM(DB$48:DB$52)>0,$H68*$I68,0)/SUM($I$50:$I$51)","v":0},null,{"$f":"IF(SUM(DD$48:DD$52)>0,$H68*$I68,0)/SUM($I$50:$I$51)","v":0},null,{"$f":"IF(SUM(DF$48:DF$52)>0,$H68*$I68,0)/SUM($I$50:$I$51)","v":0},null,{"$f":"IF(SUM(DH$48:DH$52)>0,$H68*$I68,0)/SUM($I$50:$I$51)","v":0},null,{"$f":"IF(SUM(DJ$48:DJ$52)>0,$H68*$I68,0)/SUM($I$50:$I$51)","v":0},null,{"$f":"IF(SUM(DL$48:DL$52)>0,$H68*$I68,0)/SUM($I$50:$I$51)","v":0},null,{"$f":"IF(SUM(DN$48:DN$52)>0,$H68*$I68,0)/SUM($I$50:$I$51)","v":0},null,{"$f":"IF(SUM(DP$48:DP$52)>0,$H68*$I68,0)/SUM($I$50:$I$51)","v":0},null,{"$f":"IF(SUM(DR$48:DR$52)>0,$H68*$I68,0)/SUM($I$50:$I$51)","v":0},null,{"$f":"IF(SUM(DT$48:DT$52)>0,$H68*$I68,0)/SUM($I$50:$I$51)","v":0},null,{"$f":"IF(SUM(DV$48:DV$52)>0,$H68*$I68,0)/SUM($I$50:$I$51)","v":0},null,{"$f":"IF(SUM(DX$48:DX$52)>0,$H68*$I68,0)/SUM($I$50:$I$51)","v":0},null,{"$f":"IF(SUM(DZ$48:DZ$52)>0,$H68*$I68,0)/SUM($I$50:$I$51)","v":0},null,{"$f":"IF(SUM(EB$48:EB$52)>0,$H68*$I68,0)/SUM($I$50:$I$51)","v":0}]
[]
[null,null,"CATEGORIAS",null,null,null,null,null,"QUANTIDADE"]
[]
[null,null,12,{"$f":"HLOOKUP($C72,'Dados Gerais'!$D$6:$BK$11,6)","v":"VIGILANTE DIURNO \nPOSTOS EXTERNOS \nEscala 12 x 36 \n7h às 19h \n2ª feira a Dom"},null,null,null,null,{"$f":"HLOOKUP($C72,'Dados Gerais'!$D$6:$BK$15,10)","v":60},null,null,{"$f":"IF($C72=L$4,1,0)","v":0},null,{"$f":"IF($C72=N$4,1,0)","v":0},null,{"$f":"IF($C72=P$4,1,0)","v":0},null,{"$f":"IF($C72=R$4,1,0)","v":0},null,{"$f":"IF($C72=T$4,1,0)","v":0},null,{"$f":"IF($C72=V$4,1,0)","v":0},null,{"$f":"IF($C72=X$4,1,0)","v":0},null,{"$f":"IF($C72=Z$4,1,0)","v":0},null,{"$f":"IF($C72=AB$4,1,0)","v":0},null,{"$f":"IF($C72=AD$4,1,0)","v":0},null,{"$f":"IF($C72=AF$4,1,0)","v":0},null,{"$f":"IF($C72=AH$4,1,0)","v":1},null,{"$f":"IF($C72=AJ$4,1,0)","v":0},null,{"$f":"IF($C72=AL$4,1,0)","v":0},null,{"$f":"IF($C72=AN$4,1,0)","v":0},null,{"$f":"IF($C72=AP$4,1,0)","v":0},null,{"$f":"IF($C72=AR$4,1,0)","v":0},null,{"$f":"IF($C72=AT$4,1,0)","v":0},null,{"$f":"IF($C72=AV$4,1,0)","v":0},null,{"$f":"IF($C72=AX$4,1,0)","v":0},null,{"$f":"IF($C72=AZ$4,1,0)","v":0},null,{"$f":"IF($C72=BB$4,1,0)","v":0},null,{"$f":"IF($C72=BD$4,1,0)","v":0},null,{"$f":"IF($C72=BF$4,1,0)","v":0},null,{"$f":"IF($C72=BH$4,1,0)","v":0},null,{"$f":"IF($C72=BJ$4,1,0)","v":0},null,{"$f":"IF($C72=BL$4,1,0)","v":0},null,{"$f":"IF($C72=BN$4,1,0)","v":0},null,{"$f":"IF($C72=BP$4,1,0)","v":0},null,{"$f":"IF($C72=BR$4,1,0)","v":0},null,{"$f":"IF($C72=BT$4,1,0)","v":0},null,{"$f":"IF($C72=BV$4,1,0)","v":0},null,{"$f":"IF($C72=BX$4,1,0)","v":0},null,{"$f":"IF($C72=BZ$4,1,0)","v":0},null,{"$f":"IF($C72=CB$4,1,0)","v":0},null,{"$f":"IF($C72=CD$4,1,0)","v":0},null,{"$f":"IF($C72=CF$4,1,0)","v":0},null,{"$f":"IF($C72=CH$4,1,0)","v":0},null,{"$f":"IF($C72=CJ$4,1,0)","v":0},null,{"$f":"IF($C72=CL$4,1,0)","v":0},null,{"$f":"IF($C72=CN$4,1,0)","v":0},null,{"$f":"IF($C72=CP$4,1,0)","v":0},null,{"$f":"IF($C72=CR$4,1,0)","v":0},null,{"$f":"IF($C72=CT$4,1,0)","v":0},null,{"$f":"IF($C72=CV$4,1,0)","v":0},null,{"$f":"IF($C72=CX$4,1,0)","v":0},null,{"$f":"IF($C72=CZ$4,1,0)","v":0},null,{"$f":"IF($C72=DB$4,1,0)","v":0},null,{"$f":"IF($C72=DD$4,1,0)","v":0},null,{"$f":"IF($C72=DF$4,1,0)","v":0},null,{"$f":"IF($C72=DH$4,1,0)","v":0},null,{"$f":"IF($C72=DJ$4,1,0)","v":0},null,{"$f":"IF($C72=DL$4,1,0)","v":0},null,{"$f":"IF($C72=DN$4,1,0)","v":0},null,{"$f":"IF($C72=DP$4,1,0)","v":0},null,{"$f":"IF($C72=DR$4,1,0)","v":0},null,{"$f":"IF($C72=DT$4,1,0)","v":0},null,{"$f":"IF($C72=DV$4,1,0)","v":0},null,{"$f":"IF($C72=DX$4,1,0)","v":0},null,{"$f":"IF($C72=DZ$4,1,0)","v":0},null,{"$f":"IF($C72=EB$4,1,0)","v":0}]
[null,null,13,{"$f":"HLOOKUP($C73,'Dados Gerais'!$D$6:$BK$11,6)","v":"VIGILANTE NOTURNO \nPOSTOS EXTERNOS \nEscala 12 x 36 \n19h às 7h \n2ª feira a Dom"},null,null,null,null,{"$f":"HLOOKUP($C73,'Dados Gerais'!$D$6:$BK$15,10)","v":64},null,null,{"$f":"IF($C73=L$4,1,0)","v":0},null,{"$f":"IF($C73=N$4,1,0)","v":0},null,{"$f":"IF($C73=P$4,1,0)","v":0},null,{"$f":"IF($C73=R$4,1,0)","v":0},null,{"$f":"IF($C73=T$4,1,0)","v":0},null,{"$f":"IF($C73=V$4,1,0)","v":0},null,{"$f":"IF($C73=X$4,1,0)","v":0},null,{"$f":"IF($C73=Z$4,1,0)","v":0},null,{"$f":"IF($C73=AB$4,1,0)","v":0},null,{"$f":"IF($C73=AD$4,1,0)","v":0},null,{"$f":"IF($C73=AF$4,1,0)","v":0},null,{"$f":"IF($C73=AH$4,1,0)","v":0},null,{"$f":"IF($C73=AJ$4,1,0)","v":1},null,{"$f":"IF($C73=AL$4,1,0)","v":0},null,{"$f":"IF($C73=AN$4,1,0)","v":0},null,{"$f":"IF($C73=AP$4,1,0)","v":0},null,{"$f":"IF($C73=AR$4,1,0)","v":0},null,{"$f":"IF($C73=AT$4,1,0)","v":0},null,{"$f":"IF($C73=AV$4,1,0)","v":0},null,{"$f":"IF($C73=AX$4,1,0)","v":0},null,{"$f":"IF($C73=AZ$4,1,0)","v":0},null,{"$f":"IF($C73=BB$4,1,0)","v":0},null,{"$f":"IF($C73=BD$4,1,0)","v":0},null,{"$f":"IF($C73=BF$4,1,0)","v":0},null,{"$f":"IF($C73=BH$4,1,0)","v":0},null,{"$f":"IF($C73=BJ$4,1,0)","v":0},null,{"$f":"IF($C73=BL$4,1,0)","v":0},null,{"$f":"IF($C73=BN$4,1,0)","v":0},null,{"$f":"IF($C73=BP$4,1,0)","v":0},null,{"$f":"IF($C73=BR$4,1,0)","v":0},null,{"$f":"IF($C73=BT$4,1,0)","v":0},null,{"$f":"IF($C73=BV$4,1,0)","v":0},null,{"$f":"IF($C73=BX$4,1,0)","v":0},null,{"$f":"IF($C73=BZ$4,1,0)","v":0},null,{"$f":"IF($C73=CB$4,1,0)","v":0},null,{"$f":"IF($C73=CD$4,1,0)","v":0},null,{"$f":"IF($C73=CF$4,1,0)","v":0},null,{"$f":"IF($C73=CH$4,1,0)","v":0},null,{"$f":"IF($C73=CJ$4,1,0)","v":0},null,{"$f":"IF($C73=CL$4,1,0)","v":0},null,{"$f":"IF($C73=CN$4,1,0)","v":0},null,{"$f":"IF($C73=CP$4,1,0)","v":0},null,{"$f":"IF($C73=CR$4,1,0)","v":0},null,{"$f":"IF($C73=CT$4,1,0)","v":0},null,{"$f":"IF($C73=CV$4,1,0)","v":0},null,{"$f":"IF($C73=CX$4,1,0)","v":0},null,{"$f":"IF($C73=CZ$4,1,0)","v":0},null,{"$f":"IF($C73=DB$4,1,0)","v":0},null,{"$f":"IF($C73=DD$4,1,0)","v":0},null,{"$f":"IF($C73=DF$4,1,0)","v":0},null,{"$f":"IF($C73=DH$4,1,0)","v":0},null,{"$f":"IF($C73=DJ$4,1,0)","v":0},null,{"$f":"IF($C73=DL$4,1,0)","v":0},null,{"$f":"IF($C73=DN$4,1,0)","v":0},null,{"$f":"IF($C73=DP$4,1,0)","v":0},null,{"$f":"IF($C73=DR$4,1,0)","v":0},null,{"$f":"IF($C73=DT$4,1,0)","v":0},null,{"$f":"IF($C73=DV$4,1,0)","v":0},null,{"$f":"IF($C73=DX$4,1,0)","v":0},null,{"$f":"IF($C73=DZ$4,1,0)","v":0},null,{"$f":"IF($C73=EB$4,1,0)","v":0}]
[]
[]
[null,null,"ITEM","DESCRIÇÃO","QUANT ANUAL\nPOR POSTO",null,"Nº DE POSTOS","QUANT ANUAL\nTOTAL ESTIMADA","VALOR"]
[]
[null,null,null,"Calças tática na cor preta, em tecido ripstop (algodão 35% e poliester 65%), com 06 bolsos",4,null,{"$f":"SUM($I$71:$I$73)","v":124},{"$f":"ROUNDUP(E78*G78,0)","v":496},{"$f":"I55","v":303.67},null,null,null,{"$f":"IF(SUM(L$71:L$75)>0,$H78*$I78,0)/SUM($I$73:$I$74)","v":0},null,{"$f":"IF(SUM(N$71:N$75)>0,$H78*$I78,0)/SUM($I$73:$I$74)","v":0},null,{"$f":"IF(SUM(P$71:P$75)>0,$H78*$I78,0)/SUM($I$73:$I$74)","v":0},null,{"$f":"IF(SUM(R$71:R$75)>0,$H78*$I78,0)/SUM($I$73:$I$74)","v":0},null,{"$f":"IF(SUM(T$71:T$75)>0,$H78*$I78,0)/SUM($I$73:$I$74)","v":0},null,{"$f":"IF(SUM(V$71:V$75)>0,$H78*$I78,0)/SUM($I$73:$I$74)","v":0},null,{"$f":"IF(SUM(X$71:X$75)>0,$H78*$I78,0)/SUM($I$73:$I$74)","v":0},null,{"$f":"IF(SUM(Z$71:Z$75)>0,$H78*$I78,0)/SUM($I$73:$I$74)","v":0},null,{"$f":"IF(SUM(AB$71:AB$75)>0,$H78*$I78,0)/SUM($I$73:$I$74)","v":0},null,{"$f":"IF(SUM(AD$71:AD$75)>0,$H78*$I78,0)/SUM($I$73:$I$74)","v":0},null,{"$f":"IF(SUM(AF$71:AF$75)>0,$H78*$I78,0)/SUM($I$73:$I$74)","v":0},null,{"$f":"IF(SUM(AH$71:AH$75)>0,$H78*$I78,0)/SUM($I$73:$I$74)","v":2353.4425000000001},null,{"$f":"IF(SUM(AJ$71:AJ$75)>0,$H78*$I78,0)/SUM($I$73:$I$74)","v":2353.4425000000001},null,{"$f":"IF(SUM(AL$71:AL$75)>0,$H78*$I78,0)/SUM($I$73:$I$74)","v":0},null,{"$f":"IF(SUM(AN$71:AN$75)>0,$H78*$I78,0)/SUM($I$73:$I$74)","v":0},null,{"$f":"IF(SUM(AP$71:AP$75)>0,$H78*$I78,0)/SUM($I$73:$I$74)","v":0},null,{"$f":"IF(SUM(AR$71:AR$75)>0,$H78*$I78,0)/SUM($I$73:$I$74)","v":0},null,{"$f":"IF(SUM(AT$71:AT$75)>0,$H78*$I78,0)/SUM($I$73:$I$74)","v":0},null,{"$f":"IF(SUM(AV$71:AV$75)>0,$H78*$I78,0)/SUM($I$73:$I$74)","v":0},null,{"$f":"IF(SUM(AX$71:AX$75)>0,$H78*$I78,0)/SUM($I$73:$I$74)","v":0},null,{"$f":"IF(SUM(AZ$71:AZ$75)>0,$H78*$I78,0)/SUM($I$73:$I$74)","v":0},null,{"$f":"IF(SUM(BB$71:BB$75)>0,$H78*$I78,0)/SUM($I$73:$I$74)","v":0},null,{"$f":"IF(SUM(BD$71:BD$75)>0,$H78*$I78,0)/SUM($I$73:$I$74)","v":0},null,{"$f":"IF(SUM(BF$71:BF$75)>0,$H78*$I78,0)/SUM($I$73:$I$74)","v":0},null,{"$f":"IF(SUM(BH$71:BH$75)>0,$H78*$I78,0)/SUM($I$73:$I$74)","v":0},null,{"$f":"IF(SUM(BJ$71:BJ$75)>0,$H78*$I78,0)/SUM($I$73:$I$74)","v":0},null,{"$f":"IF(SUM(BL$71:BL$75)>0,$H78*$I78,0)/SUM($I$73:$I$74)","v":0},null,{"$f":"IF(SUM(BN$71:BN$75)>0,$H78*$I78,0)/SUM($I$73:$I$74)","v":0},null,{"$f":"IF(SUM(BP$71:BP$75)>0,$H78*$I78,0)/SUM($I$73:$I$74)","v":0},null,{"$f":"IF(SUM(BR$71:BR$75)>0,$H78*$I78,0)/SUM($I$73:$I$74)","v":0},null,{"$f":"IF(SUM(BT$71:BT$75)>0,$H78*$I78,0)/SUM($I$73:$I$74)","v":0},null,{"$f":"IF(SUM(BV$71:BV$75)>0,$H78*$I78,0)/SUM($I$73:$I$74)","v":0},null,{"$f":"IF(SUM(BX$71:BX$75)>0,$H78*$I78,0)/SUM($I$73:$I$74)","v":0},null,{"$f":"IF(SUM(BZ$71:BZ$75)>0,$H78*$I78,0)/SUM($I$73:$I$74)","v":0},null,{"$f":"IF(SUM(CB$71:CB$75)>0,$H78*$I78,0)/SUM($I$73:$I$74)","v":0},null,{"$f":"IF(SUM(CD$71:CD$75)>0,$H78*$I78,0)/SUM($I$73:$I$74)","v":0},null,{"$f":"IF(SUM(CF$71:CF$75)>0,$H78*$I78,0)/SUM($I$73:$I$74)","v":0},null,{"$f":"IF(SUM(CH$71:CH$75)>0,$H78*$I78,0)/SUM($I$73:$I$74)","v":0},null,{"$f":"IF(SUM(CJ$71:CJ$75)>0,$H78*$I78,0)/SUM($I$73:$I$74)","v":0},null,{"$f":"IF(SUM(CL$71:CL$75)>0,$H78*$I78,0)/SUM($I$73:$I$74)","v":0},null,{"$f":"IF(SUM(CN$71:CN$75)>0,$H78*$I78,0)/SUM($I$73:$I$74)","v":0},null,{"$f":"IF(SUM(CP$71:CP$75)>0,$H78*$I78,0)/SUM($I$73:$I$74)","v":0},null,{"$f":"IF(SUM(CR$71:CR$75)>0,$H78*$I78,0)/SUM($I$73:$I$74)","v":0},null,{"$f":"IF(SUM(CT$71:CT$75)>0,$H78*$I78,0)/SUM($I$73:$I$74)","v":0},null,{"$f":"IF(SUM(CV$71:CV$75)>0,$H78*$I78,0)/SUM($I$73:$I$74)","v":0},null,{"$f":"IF(SUM(CX$71:CX$75)>0,$H78*$I78,0)/SUM($I$73:$I$74)","v":0},null,{"$f":"IF(SUM(CZ$71:CZ$75)>0,$H78*$I78,0)/SUM($I$73:$I$74)","v":0},null,{"$f":"IF(SUM(DB$71:DB$75)>0,$H78*$I78,0)/SUM($I$73:$I$74)","v":0},null,{"$f":"IF(SUM(DD$71:DD$75)>0,$H78*$I78,0)/SUM($I$73:$I$74)","v":0},null,{"$f":"IF(SUM(DF$71:DF$75)>0,$H78*$I78,0)/SUM($I$73:$I$74)","v":0},null,{"$f":"IF(SUM(DH$71:DH$75)>0,$H78*$I78,0)/SUM($I$73:$I$74)","v":0},null,{"$f":"IF(SUM(DJ$71:DJ$75)>0,$H78*$I78,0)/SUM($I$73:$I$74)","v":0},null,{"$f":"IF(SUM(DL$71:DL$75)>0,$H78*$I78,0)/SUM($I$73:$I$74)","v":0},null,{"$f":"IF(SUM(DN$71:DN$75)>0,$H78*$I78,0)/SUM($I$73:$I$74)","v":0},null,{"$f":"IF(SUM(DP$71:DP$75)>0,$H78*$I78,0)/SUM($I$73:$I$74)","v":0},null,{"$f":"IF(SUM(DR$71:DR$75)>0,$H78*$I78,0)/SUM($I$73:$I$74)","v":0},null,{"$f":"IF(SUM(DT$71:DT$75)>0,$H78*$I78,0)/SUM($I$73:$I$74)","v":0},null,{"$f":"IF(SUM(DV$71:DV$75)>0,$H78*$I78,0)/SUM($I$73:$I$74)","v":0},null,{"$f":"IF(SUM(DX$71:DX$75)>0,$H78*$I78,0)/SUM($I$73:$I$74)","v":0},null,{"$f":"IF(SUM(DZ$71:DZ$75)>0,$H78*$I78,0)/SUM($I$73:$I$74)","v":0},null,{"$f":"IF(SUM(EB$71:EB$75)>0,$H78*$I78,0)/SUM($I$73:$I$74)","v":0}]
[null,null,null,"Coturnos tático na cor preta, todo em nobuk animal com espessura de 18/20 linhas, solado de borracha anti-derrapante com blaqueação lateral, forrado com pluma e dublado com espuma de 10 mm na língua e de 12 mm na parte traseira superior, passadores de nylon, palmilha de EVA de 6 mm, dublada com tecido antimicrobiano  entressola de EVA moldado e comprimido, tornozelo moldado e reforçado, marca de ref. Kallucci ",2,null,{"$f":"G78","v":124},{"$f":"ROUNDUP(E79*G79,0)","v":248},416.3,null,null,null,0,null,{"$f":"IF(SUM(N$71:N$75)>0,$H79*$I79,0)/SUM($I$73:$I$74)","v":0},null,{"$f":"IF(SUM(P$71:P$75)>0,$H79*$I79,0)/SUM($I$73:$I$74)","v":0},null,{"$f":"IF(SUM(R$71:R$75)>0,$H79*$I79,0)/SUM($I$73:$I$74)","v":0},null,{"$f":"IF(SUM(T$71:T$75)>0,$H79*$I79,0)/SUM($I$73:$I$74)","v":0},null,{"$f":"IF(SUM(V$71:V$75)>0,$H79*$I79,0)/SUM($I$73:$I$74)","v":0},null,{"$f":"IF(SUM(X$71:X$75)>0,$H79*$I79,0)/SUM($I$73:$I$74)","v":0},null,{"$f":"IF(SUM(Z$71:Z$75)>0,$H79*$I79,0)/SUM($I$73:$I$74)","v":0},null,{"$f":"IF(SUM(AB$71:AB$75)>0,$H79*$I79,0)/SUM($I$73:$I$74)","v":0},null,{"$f":"IF(SUM(AD$71:AD$75)>0,$H79*$I79,0)/SUM($I$73:$I$74)","v":0},null,{"$f":"IF(SUM(AF$71:AF$75)>0,$H79*$I79,0)/SUM($I$73:$I$74)","v":0},null,{"$f":"IF(SUM(AH$71:AH$75)>0,$H79*$I79,0)/SUM($I$73:$I$74)","v":1613.1625000000001},null,{"$f":"IF(SUM(AJ$71:AJ$75)>0,$H79*$I79,0)/SUM($I$73:$I$74)","v":1613.1625000000001},null,{"$f":"IF(SUM(AL$71:AL$75)>0,$H79*$I79,0)/SUM($I$73:$I$74)","v":0},null,{"$f":"IF(SUM(AN$71:AN$75)>0,$H79*$I79,0)/SUM($I$73:$I$74)","v":0},null,{"$f":"IF(SUM(AP$71:AP$75)>0,$H79*$I79,0)/SUM($I$73:$I$74)","v":0},null,{"$f":"IF(SUM(AR$71:AR$75)>0,$H79*$I79,0)/SUM($I$73:$I$74)","v":0},null,{"$f":"IF(SUM(AT$71:AT$75)>0,$H79*$I79,0)/SUM($I$73:$I$74)","v":0},null,{"$f":"IF(SUM(AV$71:AV$75)>0,$H79*$I79,0)/SUM($I$73:$I$74)","v":0},null,{"$f":"IF(SUM(AX$71:AX$75)>0,$H79*$I79,0)/SUM($I$73:$I$74)","v":0},null,{"$f":"IF(SUM(AZ$71:AZ$75)>0,$H79*$I79,0)/SUM($I$73:$I$74)","v":0},null,{"$f":"IF(SUM(BB$71:BB$75)>0,$H79*$I79,0)/SUM($I$73:$I$74)","v":0},null,{"$f":"IF(SUM(BD$71:BD$75)>0,$H79*$I79,0)/SUM($I$73:$I$74)","v":0},null,{"$f":"IF(SUM(BF$71:BF$75)>0,$H79*$I79,0)/SUM($I$73:$I$74)","v":0},null,{"$f":"IF(SUM(BH$71:BH$75)>0,$H79*$I79,0)/SUM($I$73:$I$74)","v":0},null,{"$f":"IF(SUM(BJ$71:BJ$75)>0,$H79*$I79,0)/SUM($I$73:$I$74)","v":0},null,{"$f":"IF(SUM(BL$71:BL$75)>0,$H79*$I79,0)/SUM($I$73:$I$74)","v":0},null,{"$f":"IF(SUM(BN$71:BN$75)>0,$H79*$I79,0)/SUM($I$73:$I$74)","v":0},null,{"$f":"IF(SUM(BP$71:BP$75)>0,$H79*$I79,0)/SUM($I$73:$I$74)","v":0},null,{"$f":"IF(SUM(BR$71:BR$75)>0,$H79*$I79,0)/SUM($I$73:$I$74)","v":0},null,{"$f":"IF(SUM(BT$71:BT$75)>0,$H79*$I79,0)/SUM($I$73:$I$74)","v":0},null,{"$f":"IF(SUM(BV$71:BV$75)>0,$H79*$I79,0)/SUM($I$73:$I$74)","v":0},null,{"$f":"IF(SUM(BX$71:BX$75)>0,$H79*$I79,0)/SUM($I$73:$I$74)","v":0},null,{"$f":"IF(SUM(BZ$71:BZ$75)>0,$H79*$I79,0)/SUM($I$73:$I$74)","v":0},null,{"$f":"IF(SUM(CB$71:CB$75)>0,$H79*$I79,0)/SUM($I$73:$I$74)","v":0},null,{"$f":"IF(SUM(CD$71:CD$75)>0,$H79*$I79,0)/SUM($I$73:$I$74)","v":0},null,{"$f":"IF(SUM(CF$71:CF$75)>0,$H79*$I79,0)/SUM($I$73:$I$74)","v":0},null,{"$f":"IF(SUM(CH$71:CH$75)>0,$H79*$I79,0)/SUM($I$73:$I$74)","v":0},null,{"$f":"IF(SUM(CJ$71:CJ$75)>0,$H79*$I79,0)/SUM($I$73:$I$74)","v":0},null,{"$f":"IF(SUM(CL$71:CL$75)>0,$H79*$I79,0)/SUM($I$73:$I$74)","v":0},null,{"$f":"IF(SUM(CN$71:CN$75)>0,$H79*$I79,0)/SUM($I$73:$I$74)","v":0},null,{"$f":"IF(SUM(CP$71:CP$75)>0,$H79*$I79,0)/SUM($I$73:$I$74)","v":0},null,{"$f":"IF(SUM(CR$71:CR$75)>0,$H79*$I79,0)/SUM($I$73:$I$74)","v":0},null,{"$f":"IF(SUM(CT$71:CT$75)>0,$H79*$I79,0)/SUM($I$73:$I$74)","v":0},null,{"$f":"IF(SUM(CV$71:CV$75)>0,$H79*$I79,0)/SUM($I$73:$I$74)","v":0},null,{"$f":"IF(SUM(CX$71:CX$75)>0,$H79*$I79,0)/SUM($I$73:$I$74)","v":0},null,{"$f":"IF(SUM(CZ$71:CZ$75)>0,$H79*$I79,0)/SUM($I$73:$I$74)","v":0},null,{"$f":"IF(SUM(DB$71:DB$75)>0,$H79*$I79,0)/SUM($I$73:$I$74)","v":0},null,{"$f":"IF(SUM(DD$71:DD$75)>0,$H79*$I79,0)/SUM($I$73:$I$74)","v":0},null,{"$f":"IF(SUM(DF$71:DF$75)>0,$H79*$I79,0)/SUM($I$73:$I$74)","v":0},null,{"$f":"IF(SUM(DH$71:DH$75)>0,$H79*$I79,0)/SUM($I$73:$I$74)","v":0},null,{"$f":"IF(SUM(DJ$71:DJ$75)>0,$H79*$I79,0)/SUM($I$73:$I$74)","v":0},null,{"$f":"IF(SUM(DL$71:DL$75)>0,$H79*$I79,0)/SUM($I$73:$I$74)","v":0},null,{"$f":"IF(SUM(DN$71:DN$75)>0,$H79*$I79,0)/SUM($I$73:$I$74)","v":0},null,{"$f":"IF(SUM(DP$71:DP$75)>0,$H79*$I79,0)/SUM($I$73:$I$74)","v":0},null,{"$f":"IF(SUM(DR$71:DR$75)>0,$H79*$I79,0)/SUM($I$73:$I$74)","v":0},null,{"$f":"IF(SUM(DT$71:DT$75)>0,$H79*$I79,0)/SUM($I$73:$I$74)","v":0},null,{"$f":"IF(SUM(DV$71:DV$75)>0,$H79*$I79,0)/SUM($I$73:$I$74)","v":0},null,{"$f":"IF(SUM(DX$71:DX$75)>0,$H79*$I79,0)/SUM($I$73:$I$74)","v":0},null,{"$f":"IF(SUM(DZ$71:DZ$75)>0,$H79*$I79,0)/SUM($I$73:$I$74)","v":0},null,{"$f":"IF(SUM(EB$71:EB$75)>0,$H79*$I79,0)/SUM($I$73:$I$74)","v":0}]
[null,null,null,"Cinto tático, tipo cadarço, na cor preta, com fivela preta",1,null,{"$f":"G79","v":124},124,35.369999999999997,null,null,null,0,null,{"$f":"IF(SUM(N$71:N$75)>0,$H80*$I80,0)/SUM($I$73:$I$74)","v":0},null,{"$f":"IF(SUM(P$71:P$75)>0,$H80*$I80,0)/SUM($I$73:$I$74)","v":0},null,{"$f":"IF(SUM(R$71:R$75)>0,$H80*$I80,0)/SUM($I$73:$I$74)","v":0},null,{"$f":"IF(SUM(T$71:T$75)>0,$H80*$I80,0)/SUM($I$73:$I$74)","v":0},null,{"$f":"IF(SUM(V$71:V$75)>0,$H80*$I80,0)/SUM($I$73:$I$74)","v":0},null,{"$f":"IF(SUM(X$71:X$75)>0,$H80*$I80,0)/SUM($I$73:$I$74)","v":0},null,{"$f":"IF(SUM(Z$71:Z$75)>0,$H80*$I80,0)/SUM($I$73:$I$74)","v":0},null,{"$f":"IF(SUM(AB$71:AB$75)>0,$H80*$I80,0)/SUM($I$73:$I$74)","v":0},null,{"$f":"IF(SUM(AD$71:AD$75)>0,$H80*$I80,0)/SUM($I$73:$I$74)","v":0},null,{"$f":"IF(SUM(AF$71:AF$75)>0,$H80*$I80,0)/SUM($I$73:$I$74)","v":0},null,{"$f":"IF(SUM(AH$71:AH$75)>0,$H80*$I80,0)/SUM($I$73:$I$74)","v":68.529375000000002},null,{"$f":"IF(SUM(AJ$71:AJ$75)>0,$H80*$I80,0)/SUM($I$73:$I$74)","v":68.529375000000002},null,{"$f":"IF(SUM(AL$71:AL$75)>0,$H80*$I80,0)/SUM($I$73:$I$74)","v":0},null,{"$f":"IF(SUM(AN$71:AN$75)>0,$H80*$I80,0)/SUM($I$73:$I$74)","v":0},null,{"$f":"IF(SUM(AP$71:AP$75)>0,$H80*$I80,0)/SUM($I$73:$I$74)","v":0},null,{"$f":"IF(SUM(AR$71:AR$75)>0,$H80*$I80,0)/SUM($I$73:$I$74)","v":0},null,{"$f":"IF(SUM(AT$71:AT$75)>0,$H80*$I80,0)/SUM($I$73:$I$74)","v":0},null,{"$f":"IF(SUM(AV$71:AV$75)>0,$H80*$I80,0)/SUM($I$73:$I$74)","v":0},null,{"$f":"IF(SUM(AX$71:AX$75)>0,$H80*$I80,0)/SUM($I$73:$I$74)","v":0},null,{"$f":"IF(SUM(AZ$71:AZ$75)>0,$H80*$I80,0)/SUM($I$73:$I$74)","v":0},null,{"$f":"IF(SUM(BB$71:BB$75)>0,$H80*$I80,0)/SUM($I$73:$I$74)","v":0},null,{"$f":"IF(SUM(BD$71:BD$75)>0,$H80*$I80,0)/SUM($I$73:$I$74)","v":0},null,{"$f":"IF(SUM(BF$71:BF$75)>0,$H80*$I80,0)/SUM($I$73:$I$74)","v":0},null,{"$f":"IF(SUM(BH$71:BH$75)>0,$H80*$I80,0)/SUM($I$73:$I$74)","v":0},null,{"$f":"IF(SUM(BJ$71:BJ$75)>0,$H80*$I80,0)/SUM($I$73:$I$74)","v":0},null,{"$f":"IF(SUM(BL$71:BL$75)>0,$H80*$I80,0)/SUM($I$73:$I$74)","v":0},null,{"$f":"IF(SUM(BN$71:BN$75)>0,$H80*$I80,0)/SUM($I$73:$I$74)","v":0},null,{"$f":"IF(SUM(BP$71:BP$75)>0,$H80*$I80,0)/SUM($I$73:$I$74)","v":0},null,{"$f":"IF(SUM(BR$71:BR$75)>0,$H80*$I80,0)/SUM($I$73:$I$74)","v":0},null,{"$f":"IF(SUM(BT$71:BT$75)>0,$H80*$I80,0)/SUM($I$73:$I$74)","v":0},null,{"$f":"IF(SUM(BV$71:BV$75)>0,$H80*$I80,0)/SUM($I$73:$I$74)","v":0},null,{"$f":"IF(SUM(BX$71:BX$75)>0,$H80*$I80,0)/SUM($I$73:$I$74)","v":0},null,{"$f":"IF(SUM(BZ$71:BZ$75)>0,$H80*$I80,0)/SUM($I$73:$I$74)","v":0},null,{"$f":"IF(SUM(CB$71:CB$75)>0,$H80*$I80,0)/SUM($I$73:$I$74)","v":0},null,{"$f":"IF(SUM(CD$71:CD$75)>0,$H80*$I80,0)/SUM($I$73:$I$74)","v":0},null,{"$f":"IF(SUM(CF$71:CF$75)>0,$H80*$I80,0)/SUM($I$73:$I$74)","v":0},null,{"$f":"IF(SUM(CH$71:CH$75)>0,$H80*$I80,0)/SUM($I$73:$I$74)","v":0},null,{"$f":"IF(SUM(CJ$71:CJ$75)>0,$H80*$I80,0)/SUM($I$73:$I$74)","v":0},null,{"$f":"IF(SUM(CL$71:CL$75)>0,$H80*$I80,0)/SUM($I$73:$I$74)","v":0},null,{"$f":"IF(SUM(CN$71:CN$75)>0,$H80*$I80,0)/SUM($I$73:$I$74)","v":0},null,{"$f":"IF(SUM(CP$71:CP$75)>0,$H80*$I80,0)/SUM($I$73:$I$74)","v":0},null,{"$f":"IF(SUM(CR$71:CR$75)>0,$H80*$I80,0)/SUM($I$73:$I$74)","v":0},null,{"$f":"IF(SUM(CT$71:CT$75)>0,$H80*$I80,0)/SUM($I$73:$I$74)","v":0},null,{"$f":"IF(SUM(CV$71:CV$75)>0,$H80*$I80,0)/SUM($I$73:$I$74)","v":0},null,{"$f":"IF(SUM(CX$71:CX$75)>0,$H80*$I80,0)/SUM($I$73:$I$74)","v":0},null,{"$f":"IF(SUM(CZ$71:CZ$75)>0,$H80*$I80,0)/SUM($I$73:$I$74)","v":0},null,{"$f":"IF(SUM(DB$71:DB$75)>0,$H80*$I80,0)/SUM($I$73:$I$74)","v":0},null,{"$f":"IF(SUM(DD$71:DD$75)>0,$H80*$I80,0)/SUM($I$73:$I$74)","v":0},null,{"$f":"IF(SUM(DF$71:DF$75)>0,$H80*$I80,0)/SUM($I$73:$I$74)","v":0},null,{"$f":"IF(SUM(DH$71:DH$75)>0,$H80*$I80,0)/SUM($I$73:$I$74)","v":0},null,{"$f":"IF(SUM(DJ$71:DJ$75)>0,$H80*$I80,0)/SUM($I$73:$I$74)","v":0},null,{"$f":"IF(SUM(DL$71:DL$75)>0,$H80*$I80,0)/SUM($I$73:$I$74)","v":0},null,{"$f":"IF(SUM(DN$71:DN$75)>0,$H80*$I80,0)/SUM($I$73:$I$74)","v":0},null,{"$f":"IF(SUM(DP$71:DP$75)>0,$H80*$I80,0)/SUM($I$73:$I$74)","v":0},null,{"$f":"IF(SUM(DR$71:DR$75)>0,$H80*$I80,0)/SUM($I$73:$I$74)","v":0},null,{"$f":"IF(SUM(DT$71:DT$75)>0,$H80*$I80,0)/SUM($I$73:$I$74)","v":0},null,{"$f":"IF(SUM(DV$71:DV$75)>0,$H80*$I80,0)/SUM($I$73:$I$74)","v":0},null,{"$f":"IF(SUM(DX$71:DX$75)>0,$H80*$I80,0)/SUM($I$73:$I$74)","v":0},null,{"$f":"IF(SUM(DZ$71:DZ$75)>0,$H80*$I80,0)/SUM($I$73:$I$74)","v":0},null,{"$f":"IF(SUM(EB$71:EB$75)>0,$H80*$I80,0)/SUM($I$73:$I$74)","v":0}]
[null,null,null,"Camisas mangas curtas com lapelas nos ombros, na cor branca, 100% algodão (estilo PM), com aplique da bandeira nacional no ombro esquerdo",4,null,124,496,125.36,null,null,null,0,null,{"$f":"IF(SUM(N$71:N$75)>0,$H81*$I81,0)/SUM($I$73:$I$74)","v":0},null,{"$f":"IF(SUM(P$71:P$75)>0,$H81*$I81,0)/SUM($I$73:$I$74)","v":0},null,{"$f":"IF(SUM(R$71:R$75)>0,$H81*$I81,0)/SUM($I$73:$I$74)","v":0},null,{"$f":"IF(SUM(T$71:T$75)>0,$H81*$I81,0)/SUM($I$73:$I$74)","v":0},null,{"$f":"IF(SUM(V$71:V$75)>0,$H81*$I81,0)/SUM($I$73:$I$74)","v":0},null,{"$f":"IF(SUM(X$71:X$75)>0,$H81*$I81,0)/SUM($I$73:$I$74)","v":0},null,{"$f":"IF(SUM(Z$71:Z$75)>0,$H81*$I81,0)/SUM($I$73:$I$74)","v":0},null,{"$f":"IF(SUM(AB$71:AB$75)>0,$H81*$I81,0)/SUM($I$73:$I$74)","v":0},null,{"$f":"IF(SUM(AD$71:AD$75)>0,$H81*$I81,0)/SUM($I$73:$I$74)","v":0},null,{"$f":"IF(SUM(AF$71:AF$75)>0,$H81*$I81,0)/SUM($I$73:$I$74)","v":0},null,{"$f":"IF(SUM(AH$71:AH$75)>0,$H81*$I81,0)/SUM($I$73:$I$74)","v":971.54},null,{"$f":"IF(SUM(AJ$71:AJ$75)>0,$H81*$I81,0)/SUM($I$73:$I$74)","v":971.54},null,{"$f":"IF(SUM(AL$71:AL$75)>0,$H81*$I81,0)/SUM($I$73:$I$74)","v":0},null,{"$f":"IF(SUM(AN$71:AN$75)>0,$H81*$I81,0)/SUM($I$73:$I$74)","v":0},null,{"$f":"IF(SUM(AP$71:AP$75)>0,$H81*$I81,0)/SUM($I$73:$I$74)","v":0},null,{"$f":"IF(SUM(AR$71:AR$75)>0,$H81*$I81,0)/SUM($I$73:$I$74)","v":0},null,{"$f":"IF(SUM(AT$71:AT$75)>0,$H81*$I81,0)/SUM($I$73:$I$74)","v":0},null,{"$f":"IF(SUM(AV$71:AV$75)>0,$H81*$I81,0)/SUM($I$73:$I$74)","v":0},null,{"$f":"IF(SUM(AX$71:AX$75)>0,$H81*$I81,0)/SUM($I$73:$I$74)","v":0},null,{"$f":"IF(SUM(AZ$71:AZ$75)>0,$H81*$I81,0)/SUM($I$73:$I$74)","v":0},null,{"$f":"IF(SUM(BB$71:BB$75)>0,$H81*$I81,0)/SUM($I$73:$I$74)","v":0},null,{"$f":"IF(SUM(BD$71:BD$75)>0,$H81*$I81,0)/SUM($I$73:$I$74)","v":0},null,{"$f":"IF(SUM(BF$71:BF$75)>0,$H81*$I81,0)/SUM($I$73:$I$74)","v":0},null,{"$f":"IF(SUM(BH$71:BH$75)>0,$H81*$I81,0)/SUM($I$73:$I$74)","v":0},null,{"$f":"IF(SUM(BJ$71:BJ$75)>0,$H81*$I81,0)/SUM($I$73:$I$74)","v":0},null,{"$f":"IF(SUM(BL$71:BL$75)>0,$H81*$I81,0)/SUM($I$73:$I$74)","v":0},null,{"$f":"IF(SUM(BN$71:BN$75)>0,$H81*$I81,0)/SUM($I$73:$I$74)","v":0},null,{"$f":"IF(SUM(BP$71:BP$75)>0,$H81*$I81,0)/SUM($I$73:$I$74)","v":0},null,{"$f":"IF(SUM(BR$71:BR$75)>0,$H81*$I81,0)/SUM($I$73:$I$74)","v":0},null,{"$f":"IF(SUM(BT$71:BT$75)>0,$H81*$I81,0)/SUM($I$73:$I$74)","v":0},null,{"$f":"IF(SUM(BV$71:BV$75)>0,$H81*$I81,0)/SUM($I$73:$I$74)","v":0},null,{"$f":"IF(SUM(BX$71:BX$75)>0,$H81*$I81,0)/SUM($I$73:$I$74)","v":0},null,{"$f":"IF(SUM(BZ$71:BZ$75)>0,$H81*$I81,0)/SUM($I$73:$I$74)","v":0},null,{"$f":"IF(SUM(CB$71:CB$75)>0,$H81*$I81,0)/SUM($I$73:$I$74)","v":0},null,{"$f":"IF(SUM(CD$71:CD$75)>0,$H81*$I81,0)/SUM($I$73:$I$74)","v":0},null,{"$f":"IF(SUM(CF$71:CF$75)>0,$H81*$I81,0)/SUM($I$73:$I$74)","v":0},null,{"$f":"IF(SUM(CH$71:CH$75)>0,$H81*$I81,0)/SUM($I$73:$I$74)","v":0},null,{"$f":"IF(SUM(CJ$71:CJ$75)>0,$H81*$I81,0)/SUM($I$73:$I$74)","v":0},null,{"$f":"IF(SUM(CL$71:CL$75)>0,$H81*$I81,0)/SUM($I$73:$I$74)","v":0},null,{"$f":"IF(SUM(CN$71:CN$75)>0,$H81*$I81,0)/SUM($I$73:$I$74)","v":0},null,{"$f":"IF(SUM(CP$71:CP$75)>0,$H81*$I81,0)/SUM($I$73:$I$74)","v":0},null,{"$f":"IF(SUM(CR$71:CR$75)>0,$H81*$I81,0)/SUM($I$73:$I$74)","v":0},null,{"$f":"IF(SUM(CT$71:CT$75)>0,$H81*$I81,0)/SUM($I$73:$I$74)","v":0},null,{"$f":"IF(SUM(CV$71:CV$75)>0,$H81*$I81,0)/SUM($I$73:$I$74)","v":0},null,{"$f":"IF(SUM(CX$71:CX$75)>0,$H81*$I81,0)/SUM($I$73:$I$74)","v":0},null,{"$f":"IF(SUM(CZ$71:CZ$75)>0,$H81*$I81,0)/SUM($I$73:$I$74)","v":0},null,{"$f":"IF(SUM(DB$71:DB$75)>0,$H81*$I81,0)/SUM($I$73:$I$74)","v":0},null,{"$f":"IF(SUM(DD$71:DD$75)>0,$H81*$I81,0)/SUM($I$73:$I$74)","v":0},null,{"$f":"IF(SUM(DF$71:DF$75)>0,$H81*$I81,0)/SUM($I$73:$I$74)","v":0},null,{"$f":"IF(SUM(DH$71:DH$75)>0,$H81*$I81,0)/SUM($I$73:$I$74)","v":0},null,{"$f":"IF(SUM(DJ$71:DJ$75)>0,$H81*$I81,0)/SUM($I$73:$I$74)","v":0},null,{"$f":"IF(SUM(DL$71:DL$75)>0,$H81*$I81,0)/SUM($I$73:$I$74)","v":0},null,{"$f":"IF(SUM(DN$71:DN$75)>0,$H81*$I81,0)/SUM($I$73:$I$74)","v":0},null,{"$f":"IF(SUM(DP$71:DP$75)>0,$H81*$I81,0)/SUM($I$73:$I$74)","v":0},null,{"$f":"IF(SUM(DR$71:DR$75)>0,$H81*$I81,0)/SUM($I$73:$I$74)","v":0},null,{"$f":"IF(SUM(DT$71:DT$75)>0,$H81*$I81,0)/SUM($I$73:$I$74)","v":0},null,{"$f":"IF(SUM(DV$71:DV$75)>0,$H81*$I81,0)/SUM($I$73:$I$74)","v":0},null,{"$f":"IF(SUM(DX$71:DX$75)>0,$H81*$I81,0)/SUM($I$73:$I$74)","v":0},null,{"$f":"IF(SUM(DZ$71:DZ$75)>0,$H81*$I81,0)/SUM($I$73:$I$74)","v":0},null,{"$f":"IF(SUM(EB$71:EB$75)>0,$H81*$I81,0)/SUM($I$73:$I$74)","v":0}]
[null,null,null,"Apito profissional em plástico com bolinha que não trava em contato com a saliva ou água",1,null,124,124,6.57,null,null,null,0,null,{"$f":"IF(SUM(N$71:N$75)>0,$H82*$I82,0)/SUM($I$73:$I$74)","v":0},null,{"$f":"IF(SUM(P$71:P$75)>0,$H82*$I82,0)/SUM($I$73:$I$74)","v":0},null,{"$f":"IF(SUM(R$71:R$75)>0,$H82*$I82,0)/SUM($I$73:$I$74)","v":0},null,{"$f":"IF(SUM(T$71:T$75)>0,$H82*$I82,0)/SUM($I$73:$I$74)","v":0},null,{"$f":"IF(SUM(V$71:V$75)>0,$H82*$I82,0)/SUM($I$73:$I$74)","v":0},null,{"$f":"IF(SUM(X$71:X$75)>0,$H82*$I82,0)/SUM($I$73:$I$74)","v":0},null,{"$f":"IF(SUM(Z$71:Z$75)>0,$H82*$I82,0)/SUM($I$73:$I$74)","v":0},null,{"$f":"IF(SUM(AB$71:AB$75)>0,$H82*$I82,0)/SUM($I$73:$I$74)","v":0},null,{"$f":"IF(SUM(AD$71:AD$75)>0,$H82*$I82,0)/SUM($I$73:$I$74)","v":0},null,{"$f":"IF(SUM(AF$71:AF$75)>0,$H82*$I82,0)/SUM($I$73:$I$74)","v":0},null,{"$f":"IF(SUM(AH$71:AH$75)>0,$H82*$I82,0)/SUM($I$73:$I$74)","v":12.729375000000001},null,{"$f":"IF(SUM(AJ$71:AJ$75)>0,$H82*$I82,0)/SUM($I$73:$I$74)","v":12.729375000000001},null,{"$f":"IF(SUM(AL$71:AL$75)>0,$H82*$I82,0)/SUM($I$73:$I$74)","v":0},null,{"$f":"IF(SUM(AN$71:AN$75)>0,$H82*$I82,0)/SUM($I$73:$I$74)","v":0},null,{"$f":"IF(SUM(AP$71:AP$75)>0,$H82*$I82,0)/SUM($I$73:$I$74)","v":0},null,{"$f":"IF(SUM(AR$71:AR$75)>0,$H82*$I82,0)/SUM($I$73:$I$74)","v":0},null,{"$f":"IF(SUM(AT$71:AT$75)>0,$H82*$I82,0)/SUM($I$73:$I$74)","v":0},null,{"$f":"IF(SUM(AV$71:AV$75)>0,$H82*$I82,0)/SUM($I$73:$I$74)","v":0},null,{"$f":"IF(SUM(AX$71:AX$75)>0,$H82*$I82,0)/SUM($I$73:$I$74)","v":0},null,{"$f":"IF(SUM(AZ$71:AZ$75)>0,$H82*$I82,0)/SUM($I$73:$I$74)","v":0},null,{"$f":"IF(SUM(BB$71:BB$75)>0,$H82*$I82,0)/SUM($I$73:$I$74)","v":0},null,{"$f":"IF(SUM(BD$71:BD$75)>0,$H82*$I82,0)/SUM($I$73:$I$74)","v":0},null,{"$f":"IF(SUM(BF$71:BF$75)>0,$H82*$I82,0)/SUM($I$73:$I$74)","v":0},null,{"$f":"IF(SUM(BH$71:BH$75)>0,$H82*$I82,0)/SUM($I$73:$I$74)","v":0},null,{"$f":"IF(SUM(BJ$71:BJ$75)>0,$H82*$I82,0)/SUM($I$73:$I$74)","v":0},null,{"$f":"IF(SUM(BL$71:BL$75)>0,$H82*$I82,0)/SUM($I$73:$I$74)","v":0},null,{"$f":"IF(SUM(BN$71:BN$75)>0,$H82*$I82,0)/SUM($I$73:$I$74)","v":0},null,{"$f":"IF(SUM(BP$71:BP$75)>0,$H82*$I82,0)/SUM($I$73:$I$74)","v":0},null,{"$f":"IF(SUM(BR$71:BR$75)>0,$H82*$I82,0)/SUM($I$73:$I$74)","v":0},null,{"$f":"IF(SUM(BT$71:BT$75)>0,$H82*$I82,0)/SUM($I$73:$I$74)","v":0},null,{"$f":"IF(SUM(BV$71:BV$75)>0,$H82*$I82,0)/SUM($I$73:$I$74)","v":0},null,{"$f":"IF(SUM(BX$71:BX$75)>0,$H82*$I82,0)/SUM($I$73:$I$74)","v":0},null,{"$f":"IF(SUM(BZ$71:BZ$75)>0,$H82*$I82,0)/SUM($I$73:$I$74)","v":0},null,{"$f":"IF(SUM(CB$71:CB$75)>0,$H82*$I82,0)/SUM($I$73:$I$74)","v":0},null,{"$f":"IF(SUM(CD$71:CD$75)>0,$H82*$I82,0)/SUM($I$73:$I$74)","v":0},null,{"$f":"IF(SUM(CF$71:CF$75)>0,$H82*$I82,0)/SUM($I$73:$I$74)","v":0},null,{"$f":"IF(SUM(CH$71:CH$75)>0,$H82*$I82,0)/SUM($I$73:$I$74)","v":0},null,{"$f":"IF(SUM(CJ$71:CJ$75)>0,$H82*$I82,0)/SUM($I$73:$I$74)","v":0},null,{"$f":"IF(SUM(CL$71:CL$75)>0,$H82*$I82,0)/SUM($I$73:$I$74)","v":0},null,{"$f":"IF(SUM(CN$71:CN$75)>0,$H82*$I82,0)/SUM($I$73:$I$74)","v":0},null,{"$f":"IF(SUM(CP$71:CP$75)>0,$H82*$I82,0)/SUM($I$73:$I$74)","v":0},null,{"$f":"IF(SUM(CR$71:CR$75)>0,$H82*$I82,0)/SUM($I$73:$I$74)","v":0},null,{"$f":"IF(SUM(CT$71:CT$75)>0,$H82*$I82,0)/SUM($I$73:$I$74)","v":0},null,{"$f":"IF(SUM(CV$71:CV$75)>0,$H82*$I82,0)/SUM($I$73:$I$74)","v":0},null,{"$f":"IF(SUM(CX$71:CX$75)>0,$H82*$I82,0)/SUM($I$73:$I$74)","v":0},null,{"$f":"IF(SUM(CZ$71:CZ$75)>0,$H82*$I82,0)/SUM($I$73:$I$74)","v":0},null,{"$f":"IF(SUM(DB$71:DB$75)>0,$H82*$I82,0)/SUM($I$73:$I$74)","v":0},null,{"$f":"IF(SUM(DD$71:DD$75)>0,$H82*$I82,0)/SUM($I$73:$I$74)","v":0},null,{"$f":"IF(SUM(DF$71:DF$75)>0,$H82*$I82,0)/SUM($I$73:$I$74)","v":0},null,{"$f":"IF(SUM(DH$71:DH$75)>0,$H82*$I82,0)/SUM($I$73:$I$74)","v":0},null,{"$f":"IF(SUM(DJ$71:DJ$75)>0,$H82*$I82,0)/SUM($I$73:$I$74)","v":0},null,{"$f":"IF(SUM(DL$71:DL$75)>0,$H82*$I82,0)/SUM($I$73:$I$74)","v":0},null,{"$f":"IF(SUM(DN$71:DN$75)>0,$H82*$I82,0)/SUM($I$73:$I$74)","v":0},null,{"$f":"IF(SUM(DP$71:DP$75)>0,$H82*$I82,0)/SUM($I$73:$I$74)","v":0},null,{"$f":"IF(SUM(DR$71:DR$75)>0,$H82*$I82,0)/SUM($I$73:$I$74)","v":0},null,{"$f":"IF(SUM(DT$71:DT$75)>0,$H82*$I82,0)/SUM($I$73:$I$74)","v":0},null,{"$f":"IF(SUM(DV$71:DV$75)>0,$H82*$I82,0)/SUM($I$73:$I$74)","v":0},null,{"$f":"IF(SUM(DX$71:DX$75)>0,$H82*$I82,0)/SUM($I$73:$I$74)","v":0},null,{"$f":"IF(SUM(DZ$71:DZ$75)>0,$H82*$I82,0)/SUM($I$73:$I$74)","v":0},null,{"$f":"IF(SUM(EB$71:EB$75)>0,$H82*$I82,0)/SUM($I$73:$I$74)","v":0}]
[null,null,null,"Fiel em nylon na cor preta, medindo aproximadamente 1 metro de comprimento em sua extremidade maior e 70cm em sua extremidade menor, sendo todo trançado em sua parte superior",1,null,124,124,16.63,null,null,null,0,null,{"$f":"IF(SUM(N$71:N$75)>0,$H83*$I83,0)/SUM($I$73:$I$74)","v":0},null,{"$f":"IF(SUM(P$71:P$75)>0,$H83*$I83,0)/SUM($I$73:$I$74)","v":0},null,{"$f":"IF(SUM(R$71:R$75)>0,$H83*$I83,0)/SUM($I$73:$I$74)","v":0},null,{"$f":"IF(SUM(T$71:T$75)>0,$H83*$I83,0)/SUM($I$73:$I$74)","v":0},null,{"$f":"IF(SUM(V$71:V$75)>0,$H83*$I83,0)/SUM($I$73:$I$74)","v":0},null,{"$f":"IF(SUM(X$71:X$75)>0,$H83*$I83,0)/SUM($I$73:$I$74)","v":0},null,{"$f":"IF(SUM(Z$71:Z$75)>0,$H83*$I83,0)/SUM($I$73:$I$74)","v":0},null,{"$f":"IF(SUM(AB$71:AB$75)>0,$H83*$I83,0)/SUM($I$73:$I$74)","v":0},null,{"$f":"IF(SUM(AD$71:AD$75)>0,$H83*$I83,0)/SUM($I$73:$I$74)","v":0},null,{"$f":"IF(SUM(AF$71:AF$75)>0,$H83*$I83,0)/SUM($I$73:$I$74)","v":0},null,{"$f":"IF(SUM(AH$71:AH$75)>0,$H83*$I83,0)/SUM($I$73:$I$74)","v":32.220624999999998},null,{"$f":"IF(SUM(AJ$71:AJ$75)>0,$H83*$I83,0)/SUM($I$73:$I$74)","v":32.220624999999998},null,{"$f":"IF(SUM(AL$71:AL$75)>0,$H83*$I83,0)/SUM($I$73:$I$74)","v":0},null,{"$f":"IF(SUM(AN$71:AN$75)>0,$H83*$I83,0)/SUM($I$73:$I$74)","v":0},null,{"$f":"IF(SUM(AP$71:AP$75)>0,$H83*$I83,0)/SUM($I$73:$I$74)","v":0},null,{"$f":"IF(SUM(AR$71:AR$75)>0,$H83*$I83,0)/SUM($I$73:$I$74)","v":0},null,{"$f":"IF(SUM(AT$71:AT$75)>0,$H83*$I83,0)/SUM($I$73:$I$74)","v":0},null,{"$f":"IF(SUM(AV$71:AV$75)>0,$H83*$I83,0)/SUM($I$73:$I$74)","v":0},null,{"$f":"IF(SUM(AX$71:AX$75)>0,$H83*$I83,0)/SUM($I$73:$I$74)","v":0},null,{"$f":"IF(SUM(AZ$71:AZ$75)>0,$H83*$I83,0)/SUM($I$73:$I$74)","v":0},null,{"$f":"IF(SUM(BB$71:BB$75)>0,$H83*$I83,0)/SUM($I$73:$I$74)","v":0},null,{"$f":"IF(SUM(BD$71:BD$75)>0,$H83*$I83,0)/SUM($I$73:$I$74)","v":0},null,{"$f":"IF(SUM(BF$71:BF$75)>0,$H83*$I83,0)/SUM($I$73:$I$74)","v":0},null,{"$f":"IF(SUM(BH$71:BH$75)>0,$H83*$I83,0)/SUM($I$73:$I$74)","v":0},null,{"$f":"IF(SUM(BJ$71:BJ$75)>0,$H83*$I83,0)/SUM($I$73:$I$74)","v":0},null,{"$f":"IF(SUM(BL$71:BL$75)>0,$H83*$I83,0)/SUM($I$73:$I$74)","v":0},null,{"$f":"IF(SUM(BN$71:BN$75)>0,$H83*$I83,0)/SUM($I$73:$I$74)","v":0},null,{"$f":"IF(SUM(BP$71:BP$75)>0,$H83*$I83,0)/SUM($I$73:$I$74)","v":0},null,{"$f":"IF(SUM(BR$71:BR$75)>0,$H83*$I83,0)/SUM($I$73:$I$74)","v":0},null,{"$f":"IF(SUM(BT$71:BT$75)>0,$H83*$I83,0)/SUM($I$73:$I$74)","v":0},null,{"$f":"IF(SUM(BV$71:BV$75)>0,$H83*$I83,0)/SUM($I$73:$I$74)","v":0},null,{"$f":"IF(SUM(BX$71:BX$75)>0,$H83*$I83,0)/SUM($I$73:$I$74)","v":0},null,{"$f":"IF(SUM(BZ$71:BZ$75)>0,$H83*$I83,0)/SUM($I$73:$I$74)","v":0},null,{"$f":"IF(SUM(CB$71:CB$75)>0,$H83*$I83,0)/SUM($I$73:$I$74)","v":0},null,{"$f":"IF(SUM(CD$71:CD$75)>0,$H83*$I83,0)/SUM($I$73:$I$74)","v":0},null,{"$f":"IF(SUM(CF$71:CF$75)>0,$H83*$I83,0)/SUM($I$73:$I$74)","v":0},null,{"$f":"IF(SUM(CH$71:CH$75)>0,$H83*$I83,0)/SUM($I$73:$I$74)","v":0},null,{"$f":"IF(SUM(CJ$71:CJ$75)>0,$H83*$I83,0)/SUM($I$73:$I$74)","v":0},null,{"$f":"IF(SUM(CL$71:CL$75)>0,$H83*$I83,0)/SUM($I$73:$I$74)","v":0},null,{"$f":"IF(SUM(CN$71:CN$75)>0,$H83*$I83,0)/SUM($I$73:$I$74)","v":0},null,{"$f":"IF(SUM(CP$71:CP$75)>0,$H83*$I83,0)/SUM($I$73:$I$74)","v":0},null,{"$f":"IF(SUM(CR$71:CR$75)>0,$H83*$I83,0)/SUM($I$73:$I$74)","v":0},null,{"$f":"IF(SUM(CT$71:CT$75)>0,$H83*$I83,0)/SUM($I$73:$I$74)","v":0},null,{"$f":"IF(SUM(CV$71:CV$75)>0,$H83*$I83,0)/SUM($I$73:$I$74)","v":0},null,{"$f":"IF(SUM(CX$71:CX$75)>0,$H83*$I83,0)/SUM($I$73:$I$74)","v":0},null,{"$f":"IF(SUM(CZ$71:CZ$75)>0,$H83*$I83,0)/SUM($I$73:$I$74)","v":0},null,{"$f":"IF(SUM(DB$71:DB$75)>0,$H83*$I83,0)/SUM($I$73:$I$74)","v":0},null,{"$f":"IF(SUM(DD$71:DD$75)>0,$H83*$I83,0)/SUM($I$73:$I$74)","v":0},null,{"$f":"IF(SUM(DF$71:DF$75)>0,$H83*$I83,0)/SUM($I$73:$I$74)","v":0},null,{"$f":"IF(SUM(DH$71:DH$75)>0,$H83*$I83,0)/SUM($I$73:$I$74)","v":0},null,{"$f":"IF(SUM(DJ$71:DJ$75)>0,$H83*$I83,0)/SUM($I$73:$I$74)","v":0},null,{"$f":"IF(SUM(DL$71:DL$75)>0,$H83*$I83,0)/SUM($I$73:$I$74)","v":0},null,{"$f":"IF(SUM(DN$71:DN$75)>0,$H83*$I83,0)/SUM($I$73:$I$74)","v":0},null,{"$f":"IF(SUM(DP$71:DP$75)>0,$H83*$I83,0)/SUM($I$73:$I$74)","v":0},null,{"$f":"IF(SUM(DR$71:DR$75)>0,$H83*$I83,0)/SUM($I$73:$I$74)","v":0},null,{"$f":"IF(SUM(DT$71:DT$75)>0,$H83*$I83,0)/SUM($I$73:$I$74)","v":0},null,{"$f":"IF(SUM(DV$71:DV$75)>0,$H83*$I83,0)/SUM($I$73:$I$74)","v":0},null,{"$f":"IF(SUM(DX$71:DX$75)>0,$H83*$I83,0)/SUM($I$73:$I$74)","v":0},null,{"$f":"IF(SUM(DZ$71:DZ$75)>0,$H83*$I83,0)/SUM($I$73:$I$74)","v":0},null,{"$f":"IF(SUM(EB$71:EB$75)>0,$H83*$I83,0)/SUM($I$73:$I$74)","v":0}]
[null,null,null,"Bonés em tecido ripstop, na cor preta, com logomarca da empresa na parte frontal e bandeira nacional na parte posterior",4,null,124,496,27.23,null,null,null,0,null,{"$f":"IF(SUM(N$71:N$75)>0,$H84*$I84,0)/SUM($I$73:$I$74)","v":0},null,{"$f":"IF(SUM(P$71:P$75)>0,$H84*$I84,0)/SUM($I$73:$I$74)","v":0},null,{"$f":"IF(SUM(R$71:R$75)>0,$H84*$I84,0)/SUM($I$73:$I$74)","v":0},null,{"$f":"IF(SUM(T$71:T$75)>0,$H84*$I84,0)/SUM($I$73:$I$74)","v":0},null,{"$f":"IF(SUM(V$71:V$75)>0,$H84*$I84,0)/SUM($I$73:$I$74)","v":0},null,{"$f":"IF(SUM(X$71:X$75)>0,$H84*$I84,0)/SUM($I$73:$I$74)","v":0},null,{"$f":"IF(SUM(Z$71:Z$75)>0,$H84*$I84,0)/SUM($I$73:$I$74)","v":0},null,{"$f":"IF(SUM(AB$71:AB$75)>0,$H84*$I84,0)/SUM($I$73:$I$74)","v":0},null,{"$f":"IF(SUM(AD$71:AD$75)>0,$H84*$I84,0)/SUM($I$73:$I$74)","v":0},null,{"$f":"IF(SUM(AF$71:AF$75)>0,$H84*$I84,0)/SUM($I$73:$I$74)","v":0},null,{"$f":"IF(SUM(AH$71:AH$75)>0,$H84*$I84,0)/SUM($I$73:$I$74)","v":211.0325},null,{"$f":"IF(SUM(AJ$71:AJ$75)>0,$H84*$I84,0)/SUM($I$73:$I$74)","v":211.0325},null,{"$f":"IF(SUM(AL$71:AL$75)>0,$H84*$I84,0)/SUM($I$73:$I$74)","v":0},null,{"$f":"IF(SUM(AN$71:AN$75)>0,$H84*$I84,0)/SUM($I$73:$I$74)","v":0},null,{"$f":"IF(SUM(AP$71:AP$75)>0,$H84*$I84,0)/SUM($I$73:$I$74)","v":0},null,{"$f":"IF(SUM(AR$71:AR$75)>0,$H84*$I84,0)/SUM($I$73:$I$74)","v":0},null,{"$f":"IF(SUM(AT$71:AT$75)>0,$H84*$I84,0)/SUM($I$73:$I$74)","v":0},null,{"$f":"IF(SUM(AV$71:AV$75)>0,$H84*$I84,0)/SUM($I$73:$I$74)","v":0},null,{"$f":"IF(SUM(AX$71:AX$75)>0,$H84*$I84,0)/SUM($I$73:$I$74)","v":0},null,{"$f":"IF(SUM(AZ$71:AZ$75)>0,$H84*$I84,0)/SUM($I$73:$I$74)","v":0},null,{"$f":"IF(SUM(BB$71:BB$75)>0,$H84*$I84,0)/SUM($I$73:$I$74)","v":0},null,{"$f":"IF(SUM(BD$71:BD$75)>0,$H84*$I84,0)/SUM($I$73:$I$74)","v":0},null,{"$f":"IF(SUM(BF$71:BF$75)>0,$H84*$I84,0)/SUM($I$73:$I$74)","v":0},null,{"$f":"IF(SUM(BH$71:BH$75)>0,$H84*$I84,0)/SUM($I$73:$I$74)","v":0},null,{"$f":"IF(SUM(BJ$71:BJ$75)>0,$H84*$I84,0)/SUM($I$73:$I$74)","v":0},null,{"$f":"IF(SUM(BL$71:BL$75)>0,$H84*$I84,0)/SUM($I$73:$I$74)","v":0},null,{"$f":"IF(SUM(BN$71:BN$75)>0,$H84*$I84,0)/SUM($I$73:$I$74)","v":0},null,{"$f":"IF(SUM(BP$71:BP$75)>0,$H84*$I84,0)/SUM($I$73:$I$74)","v":0},null,{"$f":"IF(SUM(BR$71:BR$75)>0,$H84*$I84,0)/SUM($I$73:$I$74)","v":0},null,{"$f":"IF(SUM(BT$71:BT$75)>0,$H84*$I84,0)/SUM($I$73:$I$74)","v":0},null,{"$f":"IF(SUM(BV$71:BV$75)>0,$H84*$I84,0)/SUM($I$73:$I$74)","v":0},null,{"$f":"IF(SUM(BX$71:BX$75)>0,$H84*$I84,0)/SUM($I$73:$I$74)","v":0},null,{"$f":"IF(SUM(BZ$71:BZ$75)>0,$H84*$I84,0)/SUM($I$73:$I$74)","v":0},null,{"$f":"IF(SUM(CB$71:CB$75)>0,$H84*$I84,0)/SUM($I$73:$I$74)","v":0},null,{"$f":"IF(SUM(CD$71:CD$75)>0,$H84*$I84,0)/SUM($I$73:$I$74)","v":0},null,{"$f":"IF(SUM(CF$71:CF$75)>0,$H84*$I84,0)/SUM($I$73:$I$74)","v":0},null,{"$f":"IF(SUM(CH$71:CH$75)>0,$H84*$I84,0)/SUM($I$73:$I$74)","v":0},null,{"$f":"IF(SUM(CJ$71:CJ$75)>0,$H84*$I84,0)/SUM($I$73:$I$74)","v":0},null,{"$f":"IF(SUM(CL$71:CL$75)>0,$H84*$I84,0)/SUM($I$73:$I$74)","v":0},null,{"$f":"IF(SUM(CN$71:CN$75)>0,$H84*$I84,0)/SUM($I$73:$I$74)","v":0},null,{"$f":"IF(SUM(CP$71:CP$75)>0,$H84*$I84,0)/SUM($I$73:$I$74)","v":0},null,{"$f":"IF(SUM(CR$71:CR$75)>0,$H84*$I84,0)/SUM($I$73:$I$74)","v":0},null,{"$f":"IF(SUM(CT$71:CT$75)>0,$H84*$I84,0)/SUM($I$73:$I$74)","v":0},null,{"$f":"IF(SUM(CV$71:CV$75)>0,$H84*$I84,0)/SUM($I$73:$I$74)","v":0},null,{"$f":"IF(SUM(CX$71:CX$75)>0,$H84*$I84,0)/SUM($I$73:$I$74)","v":0},null,{"$f":"IF(SUM(CZ$71:CZ$75)>0,$H84*$I84,0)/SUM($I$73:$I$74)","v":0},null,{"$f":"IF(SUM(DB$71:DB$75)>0,$H84*$I84,0)/SUM($I$73:$I$74)","v":0},null,{"$f":"IF(SUM(DD$71:DD$75)>0,$H84*$I84,0)/SUM($I$73:$I$74)","v":0},null,{"$f":"IF(SUM(DF$71:DF$75)>0,$H84*$I84,0)/SUM($I$73:$I$74)","v":0},null,{"$f":"IF(SUM(DH$71:DH$75)>0,$H84*$I84,0)/SUM($I$73:$I$74)","v":0},null,{"$f":"IF(SUM(DJ$71:DJ$75)>0,$H84*$I84,0)/SUM($I$73:$I$74)","v":0},null,{"$f":"IF(SUM(DL$71:DL$75)>0,$H84*$I84,0)/SUM($I$73:$I$74)","v":0},null,{"$f":"IF(SUM(DN$71:DN$75)>0,$H84*$I84,0)/SUM($I$73:$I$74)","v":0},null,{"$f":"IF(SUM(DP$71:DP$75)>0,$H84*$I84,0)/SUM($I$73:$I$74)","v":0},null,{"$f":"IF(SUM(DR$71:DR$75)>0,$H84*$I84,0)/SUM($I$73:$I$74)","v":0},null,{"$f":"IF(SUM(DT$71:DT$75)>0,$H84*$I84,0)/SUM($I$73:$I$74)","v":0},null,{"$f":"IF(SUM(DV$71:DV$75)>0,$H84*$I84,0)/SUM($I$73:$I$74)","v":0},null,{"$f":"IF(SUM(DX$71:DX$75)>0,$H84*$I84,0)/SUM($I$73:$I$74)","v":0},null,{"$f":"IF(SUM(DZ$71:DZ$75)>0,$H84*$I84,0)/SUM($I$73:$I$74)","v":0},null,{"$f":"IF(SUM(EB$71:EB$75)>0,$H84*$I84,0)/SUM($I$73:$I$74)","v":0}]
[null,null,null,"Meias em algodão, cano alto, para coturno, na cor preta",4,null,124,496,7.88,null,null,null,0,null,{"$f":"IF(SUM(N$71:N$75)>0,$H85*$I85,0)/SUM($I$73:$I$74)","v":0},null,{"$f":"IF(SUM(P$71:P$75)>0,$H85*$I85,0)/SUM($I$73:$I$74)","v":0},null,{"$f":"IF(SUM(R$71:R$75)>0,$H85*$I85,0)/SUM($I$73:$I$74)","v":0},null,{"$f":"IF(SUM(T$71:T$75)>0,$H85*$I85,0)/SUM($I$73:$I$74)","v":0},null,{"$f":"IF(SUM(V$71:V$75)>0,$H85*$I85,0)/SUM($I$73:$I$74)","v":0},null,{"$f":"IF(SUM(X$71:X$75)>0,$H85*$I85,0)/SUM($I$73:$I$74)","v":0},null,{"$f":"IF(SUM(Z$71:Z$75)>0,$H85*$I85,0)/SUM($I$73:$I$74)","v":0},null,{"$f":"IF(SUM(AB$71:AB$75)>0,$H85*$I85,0)/SUM($I$73:$I$74)","v":0},null,{"$f":"IF(SUM(AD$71:AD$75)>0,$H85*$I85,0)/SUM($I$73:$I$74)","v":0},null,{"$f":"IF(SUM(AF$71:AF$75)>0,$H85*$I85,0)/SUM($I$73:$I$74)","v":0},null,{"$f":"IF(SUM(AH$71:AH$75)>0,$H85*$I85,0)/SUM($I$73:$I$74)","v":61.07},null,{"$f":"IF(SUM(AJ$71:AJ$75)>0,$H85*$I85,0)/SUM($I$73:$I$74)","v":61.07},null,{"$f":"IF(SUM(AL$71:AL$75)>0,$H85*$I85,0)/SUM($I$73:$I$74)","v":0},null,{"$f":"IF(SUM(AN$71:AN$75)>0,$H85*$I85,0)/SUM($I$73:$I$74)","v":0},null,{"$f":"IF(SUM(AP$71:AP$75)>0,$H85*$I85,0)/SUM($I$73:$I$74)","v":0},null,{"$f":"IF(SUM(AR$71:AR$75)>0,$H85*$I85,0)/SUM($I$73:$I$74)","v":0},null,{"$f":"IF(SUM(AT$71:AT$75)>0,$H85*$I85,0)/SUM($I$73:$I$74)","v":0},null,{"$f":"IF(SUM(AV$71:AV$75)>0,$H85*$I85,0)/SUM($I$73:$I$74)","v":0},null,{"$f":"IF(SUM(AX$71:AX$75)>0,$H85*$I85,0)/SUM($I$73:$I$74)","v":0},null,{"$f":"IF(SUM(AZ$71:AZ$75)>0,$H85*$I85,0)/SUM($I$73:$I$74)","v":0},null,{"$f":"IF(SUM(BB$71:BB$75)>0,$H85*$I85,0)/SUM($I$73:$I$74)","v":0},null,{"$f":"IF(SUM(BD$71:BD$75)>0,$H85*$I85,0)/SUM($I$73:$I$74)","v":0},null,{"$f":"IF(SUM(BF$71:BF$75)>0,$H85*$I85,0)/SUM($I$73:$I$74)","v":0},null,{"$f":"IF(SUM(BH$71:BH$75)>0,$H85*$I85,0)/SUM($I$73:$I$74)","v":0},null,{"$f":"IF(SUM(BJ$71:BJ$75)>0,$H85*$I85,0)/SUM($I$73:$I$74)","v":0},null,{"$f":"IF(SUM(BL$71:BL$75)>0,$H85*$I85,0)/SUM($I$73:$I$74)","v":0},null,{"$f":"IF(SUM(BN$71:BN$75)>0,$H85*$I85,0)/SUM($I$73:$I$74)","v":0},null,{"$f":"IF(SUM(BP$71:BP$75)>0,$H85*$I85,0)/SUM($I$73:$I$74)","v":0},null,{"$f":"IF(SUM(BR$71:BR$75)>0,$H85*$I85,0)/SUM($I$73:$I$74)","v":0},null,{"$f":"IF(SUM(BT$71:BT$75)>0,$H85*$I85,0)/SUM($I$73:$I$74)","v":0},null,{"$f":"IF(SUM(BV$71:BV$75)>0,$H85*$I85,0)/SUM($I$73:$I$74)","v":0},null,{"$f":"IF(SUM(BX$71:BX$75)>0,$H85*$I85,0)/SUM($I$73:$I$74)","v":0},null,{"$f":"IF(SUM(BZ$71:BZ$75)>0,$H85*$I85,0)/SUM($I$73:$I$74)","v":0},null,{"$f":"IF(SUM(CB$71:CB$75)>0,$H85*$I85,0)/SUM($I$73:$I$74)","v":0},null,{"$f":"IF(SUM(CD$71:CD$75)>0,$H85*$I85,0)/SUM($I$73:$I$74)","v":0},null,{"$f":"IF(SUM(CF$71:CF$75)>0,$H85*$I85,0)/SUM($I$73:$I$74)","v":0},null,{"$f":"IF(SUM(CH$71:CH$75)>0,$H85*$I85,0)/SUM($I$73:$I$74)","v":0},null,{"$f":"IF(SUM(CJ$71:CJ$75)>0,$H85*$I85,0)/SUM($I$73:$I$74)","v":0},null,{"$f":"IF(SUM(CL$71:CL$75)>0,$H85*$I85,0)/SUM($I$73:$I$74)","v":0},null,{"$f":"IF(SUM(CN$71:CN$75)>0,$H85*$I85,0)/SUM($I$73:$I$74)","v":0},null,{"$f":"IF(SUM(CP$71:CP$75)>0,$H85*$I85,0)/SUM($I$73:$I$74)","v":0},null,{"$f":"IF(SUM(CR$71:CR$75)>0,$H85*$I85,0)/SUM($I$73:$I$74)","v":0},null,{"$f":"IF(SUM(CT$71:CT$75)>0,$H85*$I85,0)/SUM($I$73:$I$74)","v":0},null,{"$f":"IF(SUM(CV$71:CV$75)>0,$H85*$I85,0)/SUM($I$73:$I$74)","v":0},null,{"$f":"IF(SUM(CX$71:CX$75)>0,$H85*$I85,0)/SUM($I$73:$I$74)","v":0},null,{"$f":"IF(SUM(CZ$71:CZ$75)>0,$H85*$I85,0)/SUM($I$73:$I$74)","v":0},null,{"$f":"IF(SUM(DB$71:DB$75)>0,$H85*$I85,0)/SUM($I$73:$I$74)","v":0},null,{"$f":"IF(SUM(DD$71:DD$75)>0,$H85*$I85,0)/SUM($I$73:$I$74)","v":0},null,{"$f":"IF(SUM(DF$71:DF$75)>0,$H85*$I85,0)/SUM($I$73:$I$74)","v":0},null,{"$f":"IF(SUM(DH$71:DH$75)>0,$H85*$I85,0)/SUM($I$73:$I$74)","v":0},null,{"$f":"IF(SUM(DJ$71:DJ$75)>0,$H85*$I85,0)/SUM($I$73:$I$74)","v":0},null,{"$f":"IF(SUM(DL$71:DL$75)>0,$H85*$I85,0)/SUM($I$73:$I$74)","v":0},null,{"$f":"IF(SUM(DN$71:DN$75)>0,$H85*$I85,0)/SUM($I$73:$I$74)","v":0},null,{"$f":"IF(SUM(DP$71:DP$75)>0,$H85*$I85,0)/SUM($I$73:$I$74)","v":0},null,{"$f":"IF(SUM(DR$71:DR$75)>0,$H85*$I85,0)/SUM($I$73:$I$74)","v":0},null,{"$f":"IF(SUM(DT$71:DT$75)>0,$H85*$I85,0)/SUM($I$73:$I$74)","v":0},null,{"$f":"IF(SUM(DV$71:DV$75)>0,$H85*$I85,0)/SUM($I$73:$I$74)","v":0},null,{"$f":"IF(SUM(DX$71:DX$75)>0,$H85*$I85,0)/SUM($I$73:$I$74)","v":0},null,{"$f":"IF(SUM(DZ$71:DZ$75)>0,$H85*$I85,0)/SUM($I$73:$I$74)","v":0},null,{"$f":"IF(SUM(EB$71:EB$75)>0,$H85*$I85,0)/SUM($I$73:$I$74)","v":0}]
[null,null,null,"Japona na cor preta, feita em ripstop (algodão 35% e poliéster 65%) e forro em tecido popeline com bolsos",1,null,124,124,321.63,null,null,null,0,null,{"$f":"IF(SUM(N$71:N$75)>0,$H86*$I86,0)/SUM($I$73:$I$74)","v":0},null,{"$f":"IF(SUM(P$71:P$75)>0,$H86*$I86,0)/SUM($I$73:$I$74)","v":0},null,{"$f":"IF(SUM(R$71:R$75)>0,$H86*$I86,0)/SUM($I$73:$I$74)","v":0},null,{"$f":"IF(SUM(T$71:T$75)>0,$H86*$I86,0)/SUM($I$73:$I$74)","v":0},null,{"$f":"IF(SUM(V$71:V$75)>0,$H86*$I86,0)/SUM($I$73:$I$74)","v":0},null,{"$f":"IF(SUM(X$71:X$75)>0,$H86*$I86,0)/SUM($I$73:$I$74)","v":0},null,{"$f":"IF(SUM(Z$71:Z$75)>0,$H86*$I86,0)/SUM($I$73:$I$74)","v":0},null,{"$f":"IF(SUM(AB$71:AB$75)>0,$H86*$I86,0)/SUM($I$73:$I$74)","v":0},null,{"$f":"IF(SUM(AD$71:AD$75)>0,$H86*$I86,0)/SUM($I$73:$I$74)","v":0},null,{"$f":"IF(SUM(AF$71:AF$75)>0,$H86*$I86,0)/SUM($I$73:$I$74)","v":0},null,{"$f":"IF(SUM(AH$71:AH$75)>0,$H86*$I86,0)/SUM($I$73:$I$74)","v":623.15812500000004},null,{"$f":"IF(SUM(AJ$71:AJ$75)>0,$H86*$I86,0)/SUM($I$73:$I$74)","v":623.15812500000004},null,{"$f":"IF(SUM(AL$71:AL$75)>0,$H86*$I86,0)/SUM($I$73:$I$74)","v":0},null,{"$f":"IF(SUM(AN$71:AN$75)>0,$H86*$I86,0)/SUM($I$73:$I$74)","v":0},null,{"$f":"IF(SUM(AP$71:AP$75)>0,$H86*$I86,0)/SUM($I$73:$I$74)","v":0},null,{"$f":"IF(SUM(AR$71:AR$75)>0,$H86*$I86,0)/SUM($I$73:$I$74)","v":0},null,{"$f":"IF(SUM(AT$71:AT$75)>0,$H86*$I86,0)/SUM($I$73:$I$74)","v":0},null,{"$f":"IF(SUM(AV$71:AV$75)>0,$H86*$I86,0)/SUM($I$73:$I$74)","v":0},null,{"$f":"IF(SUM(AX$71:AX$75)>0,$H86*$I86,0)/SUM($I$73:$I$74)","v":0},null,{"$f":"IF(SUM(AZ$71:AZ$75)>0,$H86*$I86,0)/SUM($I$73:$I$74)","v":0},null,{"$f":"IF(SUM(BB$71:BB$75)>0,$H86*$I86,0)/SUM($I$73:$I$74)","v":0},null,{"$f":"IF(SUM(BD$71:BD$75)>0,$H86*$I86,0)/SUM($I$73:$I$74)","v":0},null,{"$f":"IF(SUM(BF$71:BF$75)>0,$H86*$I86,0)/SUM($I$73:$I$74)","v":0},null,{"$f":"IF(SUM(BH$71:BH$75)>0,$H86*$I86,0)/SUM($I$73:$I$74)","v":0},null,{"$f":"IF(SUM(BJ$71:BJ$75)>0,$H86*$I86,0)/SUM($I$73:$I$74)","v":0},null,{"$f":"IF(SUM(BL$71:BL$75)>0,$H86*$I86,0)/SUM($I$73:$I$74)","v":0},null,{"$f":"IF(SUM(BN$71:BN$75)>0,$H86*$I86,0)/SUM($I$73:$I$74)","v":0},null,{"$f":"IF(SUM(BP$71:BP$75)>0,$H86*$I86,0)/SUM($I$73:$I$74)","v":0},null,{"$f":"IF(SUM(BR$71:BR$75)>0,$H86*$I86,0)/SUM($I$73:$I$74)","v":0},null,{"$f":"IF(SUM(BT$71:BT$75)>0,$H86*$I86,0)/SUM($I$73:$I$74)","v":0},null,{"$f":"IF(SUM(BV$71:BV$75)>0,$H86*$I86,0)/SUM($I$73:$I$74)","v":0},null,{"$f":"IF(SUM(BX$71:BX$75)>0,$H86*$I86,0)/SUM($I$73:$I$74)","v":0},null,{"$f":"IF(SUM(BZ$71:BZ$75)>0,$H86*$I86,0)/SUM($I$73:$I$74)","v":0},null,{"$f":"IF(SUM(CB$71:CB$75)>0,$H86*$I86,0)/SUM($I$73:$I$74)","v":0},null,{"$f":"IF(SUM(CD$71:CD$75)>0,$H86*$I86,0)/SUM($I$73:$I$74)","v":0},null,{"$f":"IF(SUM(CF$71:CF$75)>0,$H86*$I86,0)/SUM($I$73:$I$74)","v":0},null,{"$f":"IF(SUM(CH$71:CH$75)>0,$H86*$I86,0)/SUM($I$73:$I$74)","v":0},null,{"$f":"IF(SUM(CJ$71:CJ$75)>0,$H86*$I86,0)/SUM($I$73:$I$74)","v":0},null,{"$f":"IF(SUM(CL$71:CL$75)>0,$H86*$I86,0)/SUM($I$73:$I$74)","v":0},null,{"$f":"IF(SUM(CN$71:CN$75)>0,$H86*$I86,0)/SUM($I$73:$I$74)","v":0},null,{"$f":"IF(SUM(CP$71:CP$75)>0,$H86*$I86,0)/SUM($I$73:$I$74)","v":0},null,{"$f":"IF(SUM(CR$71:CR$75)>0,$H86*$I86,0)/SUM($I$73:$I$74)","v":0},null,{"$f":"IF(SUM(CT$71:CT$75)>0,$H86*$I86,0)/SUM($I$73:$I$74)","v":0},null,{"$f":"IF(SUM(CV$71:CV$75)>0,$H86*$I86,0)/SUM($I$73:$I$74)","v":0},null,{"$f":"IF(SUM(CX$71:CX$75)>0,$H86*$I86,0)/SUM($I$73:$I$74)","v":0},null,{"$f":"IF(SUM(CZ$71:CZ$75)>0,$H86*$I86,0)/SUM($I$73:$I$74)","v":0},null,{"$f":"IF(SUM(DB$71:DB$75)>0,$H86*$I86,0)/SUM($I$73:$I$74)","v":0},null,{"$f":"IF(SUM(DD$71:DD$75)>0,$H86*$I86,0)/SUM($I$73:$I$74)","v":0},null,{"$f":"IF(SUM(DF$71:DF$75)>0,$H86*$I86,0)/SUM($I$73:$I$74)","v":0},null,{"$f":"IF(SUM(DH$71:DH$75)>0,$H86*$I86,0)/SUM($I$73:$I$74)","v":0},null,{"$f":"IF(SUM(DJ$71:DJ$75)>0,$H86*$I86,0)/SUM($I$73:$I$74)","v":0},null,{"$f":"IF(SUM(DL$71:DL$75)>0,$H86*$I86,0)/SUM($I$73:$I$74)","v":0},null,{"$f":"IF(SUM(DN$71:DN$75)>0,$H86*$I86,0)/SUM($I$73:$I$74)","v":0},null,{"$f":"IF(SUM(DP$71:DP$75)>0,$H86*$I86,0)/SUM($I$73:$I$74)","v":0},null,{"$f":"IF(SUM(DR$71:DR$75)>0,$H86*$I86,0)/SUM($I$73:$I$74)","v":0},null,{"$f":"IF(SUM(DT$71:DT$75)>0,$H86*$I86,0)/SUM($I$73:$I$74)","v":0},null,{"$f":"IF(SUM(DV$71:DV$75)>0,$H86*$I86,0)/SUM($I$73:$I$74)","v":0},null,{"$f":"IF(SUM(DX$71:DX$75)>0,$H86*$I86,0)/SUM($I$73:$I$74)","v":0},null,{"$f":"IF(SUM(DZ$71:DZ$75)>0,$H86*$I86,0)/SUM($I$73:$I$74)","v":0},null,{"$f":"IF(SUM(EB$71:EB$75)>0,$H86*$I86,0)/SUM($I$73:$I$74)","v":0}]
[null,null,null,"capa de colete balístico com ajuste de altura e lagura através de presilhas na cor preta",1,null,124,124,285.33,null,null,null,0,null,{"$f":"IF(SUM(N$71:N$75)>0,$H87*$I87,0)/SUM($I$73:$I$74)","v":0},null,{"$f":"IF(SUM(P$71:P$75)>0,$H87*$I87,0)/SUM($I$73:$I$74)","v":0},null,{"$f":"IF(SUM(R$71:R$75)>0,$H87*$I87,0)/SUM($I$73:$I$74)","v":0},null,{"$f":"IF(SUM(T$71:T$75)>0,$H87*$I87,0)/SUM($I$73:$I$74)","v":0},null,{"$f":"IF(SUM(V$71:V$75)>0,$H87*$I87,0)/SUM($I$73:$I$74)","v":0},null,{"$f":"IF(SUM(X$71:X$75)>0,$H87*$I87,0)/SUM($I$73:$I$74)","v":0},null,{"$f":"IF(SUM(Z$71:Z$75)>0,$H87*$I87,0)/SUM($I$73:$I$74)","v":0},null,{"$f":"IF(SUM(AB$71:AB$75)>0,$H87*$I87,0)/SUM($I$73:$I$74)","v":0},null,{"$f":"IF(SUM(AD$71:AD$75)>0,$H87*$I87,0)/SUM($I$73:$I$74)","v":0},null,{"$f":"IF(SUM(AF$71:AF$75)>0,$H87*$I87,0)/SUM($I$73:$I$74)","v":0},null,{"$f":"IF(SUM(AH$71:AH$75)>0,$H87*$I87,0)/SUM($I$73:$I$74)","v":552.82687499999997},null,{"$f":"IF(SUM(AJ$71:AJ$75)>0,$H87*$I87,0)/SUM($I$73:$I$74)","v":552.82687499999997},null,{"$f":"IF(SUM(AL$71:AL$75)>0,$H87*$I87,0)/SUM($I$73:$I$74)","v":0},null,{"$f":"IF(SUM(AN$71:AN$75)>0,$H87*$I87,0)/SUM($I$73:$I$74)","v":0},null,{"$f":"IF(SUM(AP$71:AP$75)>0,$H87*$I87,0)/SUM($I$73:$I$74)","v":0},null,{"$f":"IF(SUM(AR$71:AR$75)>0,$H87*$I87,0)/SUM($I$73:$I$74)","v":0},null,{"$f":"IF(SUM(AT$71:AT$75)>0,$H87*$I87,0)/SUM($I$73:$I$74)","v":0},null,{"$f":"IF(SUM(AV$71:AV$75)>0,$H87*$I87,0)/SUM($I$73:$I$74)","v":0},null,{"$f":"IF(SUM(AX$71:AX$75)>0,$H87*$I87,0)/SUM($I$73:$I$74)","v":0},null,{"$f":"IF(SUM(AZ$71:AZ$75)>0,$H87*$I87,0)/SUM($I$73:$I$74)","v":0},null,{"$f":"IF(SUM(BB$71:BB$75)>0,$H87*$I87,0)/SUM($I$73:$I$74)","v":0},null,{"$f":"IF(SUM(BD$71:BD$75)>0,$H87*$I87,0)/SUM($I$73:$I$74)","v":0},null,{"$f":"IF(SUM(BF$71:BF$75)>0,$H87*$I87,0)/SUM($I$73:$I$74)","v":0},null,{"$f":"IF(SUM(BH$71:BH$75)>0,$H87*$I87,0)/SUM($I$73:$I$74)","v":0},null,{"$f":"IF(SUM(BJ$71:BJ$75)>0,$H87*$I87,0)/SUM($I$73:$I$74)","v":0},null,{"$f":"IF(SUM(BL$71:BL$75)>0,$H87*$I87,0)/SUM($I$73:$I$74)","v":0},null,{"$f":"IF(SUM(BN$71:BN$75)>0,$H87*$I87,0)/SUM($I$73:$I$74)","v":0},null,{"$f":"IF(SUM(BP$71:BP$75)>0,$H87*$I87,0)/SUM($I$73:$I$74)","v":0},null,{"$f":"IF(SUM(BR$71:BR$75)>0,$H87*$I87,0)/SUM($I$73:$I$74)","v":0},null,{"$f":"IF(SUM(BT$71:BT$75)>0,$H87*$I87,0)/SUM($I$73:$I$74)","v":0},null,{"$f":"IF(SUM(BV$71:BV$75)>0,$H87*$I87,0)/SUM($I$73:$I$74)","v":0},null,{"$f":"IF(SUM(BX$71:BX$75)>0,$H87*$I87,0)/SUM($I$73:$I$74)","v":0},null,{"$f":"IF(SUM(BZ$71:BZ$75)>0,$H87*$I87,0)/SUM($I$73:$I$74)","v":0},null,{"$f":"IF(SUM(CB$71:CB$75)>0,$H87*$I87,0)/SUM($I$73:$I$74)","v":0},null,{"$f":"IF(SUM(CD$71:CD$75)>0,$H87*$I87,0)/SUM($I$73:$I$74)","v":0},null,{"$f":"IF(SUM(CF$71:CF$75)>0,$H87*$I87,0)/SUM($I$73:$I$74)","v":0},null,{"$f":"IF(SUM(CH$71:CH$75)>0,$H87*$I87,0)/SUM($I$73:$I$74)","v":0},null,{"$f":"IF(SUM(CJ$71:CJ$75)>0,$H87*$I87,0)/SUM($I$73:$I$74)","v":0},null,{"$f":"IF(SUM(CL$71:CL$75)>0,$H87*$I87,0)/SUM($I$73:$I$74)","v":0},null,{"$f":"IF(SUM(CN$71:CN$75)>0,$H87*$I87,0)/SUM($I$73:$I$74)","v":0},null,{"$f":"IF(SUM(CP$71:CP$75)>0,$H87*$I87,0)/SUM($I$73:$I$74)","v":0},null,{"$f":"IF(SUM(CR$71:CR$75)>0,$H87*$I87,0)/SUM($I$73:$I$74)","v":0},null,{"$f":"IF(SUM(CT$71:CT$75)>0,$H87*$I87,0)/SUM($I$73:$I$74)","v":0},null,{"$f":"IF(SUM(CV$71:CV$75)>0,$H87*$I87,0)/SUM($I$73:$I$74)","v":0},null,{"$f":"IF(SUM(CX$71:CX$75)>0,$H87*$I87,0)/SUM($I$73:$I$74)","v":0},null,{"$f":"IF(SUM(CZ$71:CZ$75)>0,$H87*$I87,0)/SUM($I$73:$I$74)","v":0},null,{"$f":"IF(SUM(DB$71:DB$75)>0,$H87*$I87,0)/SUM($I$73:$I$74)","v":0},null,{"$f":"IF(SUM(DD$71:DD$75)>0,$H87*$I87,0)/SUM($I$73:$I$74)","v":0},null,{"$f":"IF(SUM(DF$71:DF$75)>0,$H87*$I87,0)/SUM($I$73:$I$74)","v":0},null,{"$f":"IF(SUM(DH$71:DH$75)>0,$H87*$I87,0)/SUM($I$73:$I$74)","v":0},null,{"$f":"IF(SUM(DJ$71:DJ$75)>0,$H87*$I87,0)/SUM($I$73:$I$74)","v":0},null,{"$f":"IF(SUM(DL$71:DL$75)>0,$H87*$I87,0)/SUM($I$73:$I$74)","v":0},null,{"$f":"IF(SUM(DN$71:DN$75)>0,$H87*$I87,0)/SUM($I$73:$I$74)","v":0},null,{"$f":"IF(SUM(DP$71:DP$75)>0,$H87*$I87,0)/SUM($I$73:$I$74)","v":0},null,{"$f":"IF(SUM(DR$71:DR$75)>0,$H87*$I87,0)/SUM($I$73:$I$74)","v":0},null,{"$f":"IF(SUM(DT$71:DT$75)>0,$H87*$I87,0)/SUM($I$73:$I$74)","v":0},null,{"$f":"IF(SUM(DV$71:DV$75)>0,$H87*$I87,0)/SUM($I$73:$I$74)","v":0},null,{"$f":"IF(SUM(DX$71:DX$75)>0,$H87*$I87,0)/SUM($I$73:$I$74)","v":0},null,{"$f":"IF(SUM(DZ$71:DZ$75)>0,$H87*$I87,0)/SUM($I$73:$I$74)","v":0},null,{"$f":"IF(SUM(EB$71:EB$75)>0,$H87*$I87,0)/SUM($I$73:$I$74)","v":0}]
[null,null,null,"cinto tático de nylon na cor preta, pai e filho, com coldre, porta cassetete, porta munição, porta algema e porta tonfa",1,null,124,124,234.97,null,null,null,0,null,{"$f":"IF(SUM(N$71:N$75)>0,$H88*$I88,0)/SUM($I$73:$I$74)","v":0},null,{"$f":"IF(SUM(P$71:P$75)>0,$H88*$I88,0)/SUM($I$73:$I$74)","v":0},null,{"$f":"IF(SUM(R$71:R$75)>0,$H88*$I88,0)/SUM($I$73:$I$74)","v":0},null,{"$f":"IF(SUM(T$71:T$75)>0,$H88*$I88,0)/SUM($I$73:$I$74)","v":0},null,{"$f":"IF(SUM(V$71:V$75)>0,$H88*$I88,0)/SUM($I$73:$I$74)","v":0},null,{"$f":"IF(SUM(X$71:X$75)>0,$H88*$I88,0)/SUM($I$73:$I$74)","v":0},null,{"$f":"IF(SUM(Z$71:Z$75)>0,$H88*$I88,0)/SUM($I$73:$I$74)","v":0},null,{"$f":"IF(SUM(AB$71:AB$75)>0,$H88*$I88,0)/SUM($I$73:$I$74)","v":0},null,{"$f":"IF(SUM(AD$71:AD$75)>0,$H88*$I88,0)/SUM($I$73:$I$74)","v":0},null,{"$f":"IF(SUM(AF$71:AF$75)>0,$H88*$I88,0)/SUM($I$73:$I$74)","v":0},null,{"$f":"IF(SUM(AH$71:AH$75)>0,$H88*$I88,0)/SUM($I$73:$I$74)","v":455.25437499999998},null,{"$f":"IF(SUM(AJ$71:AJ$75)>0,$H88*$I88,0)/SUM($I$73:$I$74)","v":455.25437499999998},null,{"$f":"IF(SUM(AL$71:AL$75)>0,$H88*$I88,0)/SUM($I$73:$I$74)","v":0},null,{"$f":"IF(SUM(AN$71:AN$75)>0,$H88*$I88,0)/SUM($I$73:$I$74)","v":0},null,{"$f":"IF(SUM(AP$71:AP$75)>0,$H88*$I88,0)/SUM($I$73:$I$74)","v":0},null,{"$f":"IF(SUM(AR$71:AR$75)>0,$H88*$I88,0)/SUM($I$73:$I$74)","v":0},null,{"$f":"IF(SUM(AT$71:AT$75)>0,$H88*$I88,0)/SUM($I$73:$I$74)","v":0},null,{"$f":"IF(SUM(AV$71:AV$75)>0,$H88*$I88,0)/SUM($I$73:$I$74)","v":0},null,{"$f":"IF(SUM(AX$71:AX$75)>0,$H88*$I88,0)/SUM($I$73:$I$74)","v":0},null,{"$f":"IF(SUM(AZ$71:AZ$75)>0,$H88*$I88,0)/SUM($I$73:$I$74)","v":0},null,{"$f":"IF(SUM(BB$71:BB$75)>0,$H88*$I88,0)/SUM($I$73:$I$74)","v":0},null,{"$f":"IF(SUM(BD$71:BD$75)>0,$H88*$I88,0)/SUM($I$73:$I$74)","v":0},null,{"$f":"IF(SUM(BF$71:BF$75)>0,$H88*$I88,0)/SUM($I$73:$I$74)","v":0},null,{"$f":"IF(SUM(BH$71:BH$75)>0,$H88*$I88,0)/SUM($I$73:$I$74)","v":0},null,{"$f":"IF(SUM(BJ$71:BJ$75)>0,$H88*$I88,0)/SUM($I$73:$I$74)","v":0},null,{"$f":"IF(SUM(BL$71:BL$75)>0,$H88*$I88,0)/SUM($I$73:$I$74)","v":0},null,{"$f":"IF(SUM(BN$71:BN$75)>0,$H88*$I88,0)/SUM($I$73:$I$74)","v":0},null,{"$f":"IF(SUM(BP$71:BP$75)>0,$H88*$I88,0)/SUM($I$73:$I$74)","v":0},null,{"$f":"IF(SUM(BR$71:BR$75)>0,$H88*$I88,0)/SUM($I$73:$I$74)","v":0},null,{"$f":"IF(SUM(BT$71:BT$75)>0,$H88*$I88,0)/SUM($I$73:$I$74)","v":0},null,{"$f":"IF(SUM(BV$71:BV$75)>0,$H88*$I88,0)/SUM($I$73:$I$74)","v":0},null,{"$f":"IF(SUM(BX$71:BX$75)>0,$H88*$I88,0)/SUM($I$73:$I$74)","v":0},null,{"$f":"IF(SUM(BZ$71:BZ$75)>0,$H88*$I88,0)/SUM($I$73:$I$74)","v":0},null,{"$f":"IF(SUM(CB$71:CB$75)>0,$H88*$I88,0)/SUM($I$73:$I$74)","v":0},null,{"$f":"IF(SUM(CD$71:CD$75)>0,$H88*$I88,0)/SUM($I$73:$I$74)","v":0},null,{"$f":"IF(SUM(CF$71:CF$75)>0,$H88*$I88,0)/SUM($I$73:$I$74)","v":0},null,{"$f":"IF(SUM(CH$71:CH$75)>0,$H88*$I88,0)/SUM($I$73:$I$74)","v":0},null,{"$f":"IF(SUM(CJ$71:CJ$75)>0,$H88*$I88,0)/SUM($I$73:$I$74)","v":0},null,{"$f":"IF(SUM(CL$71:CL$75)>0,$H88*$I88,0)/SUM($I$73:$I$74)","v":0},null,{"$f":"IF(SUM(CN$71:CN$75)>0,$H88*$I88,0)/SUM($I$73:$I$74)","v":0},null,{"$f":"IF(SUM(CP$71:CP$75)>0,$H88*$I88,0)/SUM($I$73:$I$74)","v":0},null,{"$f":"IF(SUM(CR$71:CR$75)>0,$H88*$I88,0)/SUM($I$73:$I$74)","v":0},null,{"$f":"IF(SUM(CT$71:CT$75)>0,$H88*$I88,0)/SUM($I$73:$I$74)","v":0},null,{"$f":"IF(SUM(CV$71:CV$75)>0,$H88*$I88,0)/SUM($I$73:$I$74)","v":0},null,{"$f":"IF(SUM(CX$71:CX$75)>0,$H88*$I88,0)/SUM($I$73:$I$74)","v":0},null,{"$f":"IF(SUM(CZ$71:CZ$75)>0,$H88*$I88,0)/SUM($I$73:$I$74)","v":0},null,{"$f":"IF(SUM(DB$71:DB$75)>0,$H88*$I88,0)/SUM($I$73:$I$74)","v":0},null,{"$f":"IF(SUM(DD$71:DD$75)>0,$H88*$I88,0)/SUM($I$73:$I$74)","v":0},null,{"$f":"IF(SUM(DF$71:DF$75)>0,$H88*$I88,0)/SUM($I$73:$I$74)","v":0},null,{"$f":"IF(SUM(DH$71:DH$75)>0,$H88*$I88,0)/SUM($I$73:$I$74)","v":0},null,{"$f":"IF(SUM(DJ$71:DJ$75)>0,$H88*$I88,0)/SUM($I$73:$I$74)","v":0},null,{"$f":"IF(SUM(DL$71:DL$75)>0,$H88*$I88,0)/SUM($I$73:$I$74)","v":0},null,{"$f":"IF(SUM(DN$71:DN$75)>0,$H88*$I88,0)/SUM($I$73:$I$74)","v":0},null,{"$f":"IF(SUM(DP$71:DP$75)>0,$H88*$I88,0)/SUM($I$73:$I$74)","v":0},null,{"$f":"IF(SUM(DR$71:DR$75)>0,$H88*$I88,0)/SUM($I$73:$I$74)","v":0},null,{"$f":"IF(SUM(DT$71:DT$75)>0,$H88*$I88,0)/SUM($I$73:$I$74)","v":0},null,{"$f":"IF(SUM(DV$71:DV$75)>0,$H88*$I88,0)/SUM($I$73:$I$74)","v":0},null,{"$f":"IF(SUM(DX$71:DX$75)>0,$H88*$I88,0)/SUM($I$73:$I$74)","v":0},null,{"$f":"IF(SUM(DZ$71:DZ$75)>0,$H88*$I88,0)/SUM($I$73:$I$74)","v":0},null,{"$f":"IF(SUM(EB$71:EB$75)>0,$H88*$I88,0)/SUM($I$73:$I$74)","v":0}]
[null,null,null,"capa de chuva longa com capuz, ½ canela, em pvc, costuras seladas, impermeável, com listras reflexivas",1,null,124,124,36.36,null,null,null,0,null,{"$f":"IF(SUM(N$71:N$75)>0,$H89*$I89,0)/SUM($I$73:$I$74)","v":0},null,{"$f":"IF(SUM(P$71:P$75)>0,$H89*$I89,0)/SUM($I$73:$I$74)","v":0},null,{"$f":"IF(SUM(R$71:R$75)>0,$H89*$I89,0)/SUM($I$73:$I$74)","v":0},null,{"$f":"IF(SUM(T$71:T$75)>0,$H89*$I89,0)/SUM($I$73:$I$74)","v":0},null,{"$f":"IF(SUM(V$71:V$75)>0,$H89*$I89,0)/SUM($I$73:$I$74)","v":0},null,{"$f":"IF(SUM(X$71:X$75)>0,$H89*$I89,0)/SUM($I$73:$I$74)","v":0},null,{"$f":"IF(SUM(Z$71:Z$75)>0,$H89*$I89,0)/SUM($I$73:$I$74)","v":0},null,{"$f":"IF(SUM(AB$71:AB$75)>0,$H89*$I89,0)/SUM($I$73:$I$74)","v":0},null,{"$f":"IF(SUM(AD$71:AD$75)>0,$H89*$I89,0)/SUM($I$73:$I$74)","v":0},null,{"$f":"IF(SUM(AF$71:AF$75)>0,$H89*$I89,0)/SUM($I$73:$I$74)","v":0},null,{"$f":"IF(SUM(AH$71:AH$75)>0,$H89*$I89,0)/SUM($I$73:$I$74)","v":70.447500000000005},null,{"$f":"IF(SUM(AJ$71:AJ$75)>0,$H89*$I89,0)/SUM($I$73:$I$74)","v":70.447500000000005},null,{"$f":"IF(SUM(AL$71:AL$75)>0,$H89*$I89,0)/SUM($I$73:$I$74)","v":0},null,{"$f":"IF(SUM(AN$71:AN$75)>0,$H89*$I89,0)/SUM($I$73:$I$74)","v":0},null,{"$f":"IF(SUM(AP$71:AP$75)>0,$H89*$I89,0)/SUM($I$73:$I$74)","v":0},null,{"$f":"IF(SUM(AR$71:AR$75)>0,$H89*$I89,0)/SUM($I$73:$I$74)","v":0},null,{"$f":"IF(SUM(AT$71:AT$75)>0,$H89*$I89,0)/SUM($I$73:$I$74)","v":0},null,{"$f":"IF(SUM(AV$71:AV$75)>0,$H89*$I89,0)/SUM($I$73:$I$74)","v":0},null,{"$f":"IF(SUM(AX$71:AX$75)>0,$H89*$I89,0)/SUM($I$73:$I$74)","v":0},null,{"$f":"IF(SUM(AZ$71:AZ$75)>0,$H89*$I89,0)/SUM($I$73:$I$74)","v":0},null,{"$f":"IF(SUM(BB$71:BB$75)>0,$H89*$I89,0)/SUM($I$73:$I$74)","v":0},null,{"$f":"IF(SUM(BD$71:BD$75)>0,$H89*$I89,0)/SUM($I$73:$I$74)","v":0},null,{"$f":"IF(SUM(BF$71:BF$75)>0,$H89*$I89,0)/SUM($I$73:$I$74)","v":0},null,{"$f":"IF(SUM(BH$71:BH$75)>0,$H89*$I89,0)/SUM($I$73:$I$74)","v":0},null,{"$f":"IF(SUM(BJ$71:BJ$75)>0,$H89*$I89,0)/SUM($I$73:$I$74)","v":0},null,{"$f":"IF(SUM(BL$71:BL$75)>0,$H89*$I89,0)/SUM($I$73:$I$74)","v":0},null,{"$f":"IF(SUM(BN$71:BN$75)>0,$H89*$I89,0)/SUM($I$73:$I$74)","v":0},null,{"$f":"IF(SUM(BP$71:BP$75)>0,$H89*$I89,0)/SUM($I$73:$I$74)","v":0},null,{"$f":"IF(SUM(BR$71:BR$75)>0,$H89*$I89,0)/SUM($I$73:$I$74)","v":0},null,{"$f":"IF(SUM(BT$71:BT$75)>0,$H89*$I89,0)/SUM($I$73:$I$74)","v":0},null,{"$f":"IF(SUM(BV$71:BV$75)>0,$H89*$I89,0)/SUM($I$73:$I$74)","v":0},null,{"$f":"IF(SUM(BX$71:BX$75)>0,$H89*$I89,0)/SUM($I$73:$I$74)","v":0},null,{"$f":"IF(SUM(BZ$71:BZ$75)>0,$H89*$I89,0)/SUM($I$73:$I$74)","v":0},null,{"$f":"IF(SUM(CB$71:CB$75)>0,$H89*$I89,0)/SUM($I$73:$I$74)","v":0},null,{"$f":"IF(SUM(CD$71:CD$75)>0,$H89*$I89,0)/SUM($I$73:$I$74)","v":0},null,{"$f":"IF(SUM(CF$71:CF$75)>0,$H89*$I89,0)/SUM($I$73:$I$74)","v":0},null,{"$f":"IF(SUM(CH$71:CH$75)>0,$H89*$I89,0)/SUM($I$73:$I$74)","v":0},null,{"$f":"IF(SUM(CJ$71:CJ$75)>0,$H89*$I89,0)/SUM($I$73:$I$74)","v":0},null,{"$f":"IF(SUM(CL$71:CL$75)>0,$H89*$I89,0)/SUM($I$73:$I$74)","v":0},null,{"$f":"IF(SUM(CN$71:CN$75)>0,$H89*$I89,0)/SUM($I$73:$I$74)","v":0},null,{"$f":"IF(SUM(CP$71:CP$75)>0,$H89*$I89,0)/SUM($I$73:$I$74)","v":0},null,{"$f":"IF(SUM(CR$71:CR$75)>0,$H89*$I89,0)/SUM($I$73:$I$74)","v":0},null,{"$f":"IF(SUM(CT$71:CT$75)>0,$H89*$I89,0)/SUM($I$73:$I$74)","v":0},null,{"$f":"IF(SUM(CV$71:CV$75)>0,$H89*$I89,0)/SUM($I$73:$I$74)","v":0},null,{"$f":"IF(SUM(CX$71:CX$75)>0,$H89*$I89,0)/SUM($I$73:$I$74)","v":0},null,{"$f":"IF(SUM(CZ$71:CZ$75)>0,$H89*$I89,0)/SUM($I$73:$I$74)","v":0},null,{"$f":"IF(SUM(DB$71:DB$75)>0,$H89*$I89,0)/SUM($I$73:$I$74)","v":0},null,{"$f":"IF(SUM(DD$71:DD$75)>0,$H89*$I89,0)/SUM($I$73:$I$74)","v":0},null,{"$f":"IF(SUM(DF$71:DF$75)>0,$H89*$I89,0)/SUM($I$73:$I$74)","v":0},null,{"$f":"IF(SUM(DH$71:DH$75)>0,$H89*$I89,0)/SUM($I$73:$I$74)","v":0},null,{"$f":"IF(SUM(DJ$71:DJ$75)>0,$H89*$I89,0)/SUM($I$73:$I$74)","v":0},null,{"$f":"IF(SUM(DL$71:DL$75)>0,$H89*$I89,0)/SUM($I$73:$I$74)","v":0},null,{"$f":"IF(SUM(DN$71:DN$75)>0,$H89*$I89,0)/SUM($I$73:$I$74)","v":0},null,{"$f":"IF(SUM(DP$71:DP$75)>0,$H89*$I89,0)/SUM($I$73:$I$74)","v":0},null,{"$f":"IF(SUM(DR$71:DR$75)>0,$H89*$I89,0)/SUM($I$73:$I$74)","v":0},null,{"$f":"IF(SUM(DT$71:DT$75)>0,$H89*$I89,0)/SUM($I$73:$I$74)","v":0},null,{"$f":"IF(SUM(DV$71:DV$75)>0,$H89*$I89,0)/SUM($I$73:$I$74)","v":0},null,{"$f":"IF(SUM(DX$71:DX$75)>0,$H89*$I89,0)/SUM($I$73:$I$74)","v":0},null,{"$f":"IF(SUM(DZ$71:DZ$75)>0,$H89*$I89,0)/SUM($I$73:$I$74)","v":0},null,{"$f":"IF(SUM(EB$71:EB$75)>0,$H89*$I89,0)/SUM($I$73:$I$74)","v":0}]

{"sheet":"EPI","index":23,"n_rows":45,"n_cols":129,"rows_kept":45,"cut":false,"hidden":true,"merged":[[2,1,2,3],[3,1,3,6]]}
[]
[]
[]
[null,"EQUIPAMENTOS DE PROTEÇÃO INDIVIDUAL - AQUISIÇÃO",null,null,null,null,null,null,null,1,null,{"$f":"J4+1","v":2},null,{"$f":"L4+1","v":3},null,{"$f":"N4+1","v":4},null,{"$f":"P4+1","v":5},null,{"$f":"R4+1","v":6},null,{"$f":"T4+1","v":7},null,{"$f":"V4+1","v":8},null,{"$f":"X4+1","v":9},null,{"$f":"Z4+1","v":10},null,{"$f":"AB4+1","v":11},null,{"$f":"AD4+1","v":12},null,{"$f":"AF4+1","v":13},null,{"$f":"AH4+1","v":14},null,{"$f":"AJ4+1","v":15},null,{"$f":"AL4+1","v":16},null,{"$f":"AN4+1","v":17},null,{"$f":"AP4+1","v":18},null,{"$f":"AR4+1","v":19},null,{"$f":"AT4+1","v":20},null,{"$f":"AV4+1","v":21},null,{"$f":"AX4+1","v":22},null,{"$f":"AZ4+1","v":23},null,{"$f":"BB4+1","v":24},null,{"$f":"BD4+1","v":25},null,{"$f":"BF4+1","v":26},null,{"$f":"BH4+1","v":27},null,{"$f":"BJ4+1","v":28},null,{"$f":"BL4+1","v":29},null,{"$f":"BN4+1","v":30},null,{"$f":"BP4+1","v":31},null,{"$f":"BR4+1","v":32},null,{"$f":"BT4+1","v":33},null,{"$f":"BV4+1","v":34},null,{"$f":"BX4+1","v":35},null,{"$f":"BZ4+1","v":36},null,{"$f":"CB4+1","v":37},null,{"$f":"CD4+1","v":38},null,{"$f":"CF4+1","v":39},null,{"$f":"CH4+1","v":40},null,{"$f":"CJ4+1","v":41},null,{"$f":"CL4+1","v":42},null,{"$f":"CN4+1","v":43},null,{"$f":"CP4+1","v":44},null,{"$f":"CR4+1","v":45},null,{"$f":"CT4+1","v":46},null,{"$f":"CV4+1","v":47},null,{"$f":"CX4+1","v":48},null,{"$f":"CZ4+1","v":49},null,{"$f":"DB4+1","v":50},null,{"$f":"DD4+1","v":51},null,{"$f":"DF4+1","v":52},null,{"$f":"DH4+1","v":53},null,{"$f":"DJ4+1","v":54},null,{"$f":"DL4+1","v":55},null,{"$f":"DN4+1","v":56},null,{"$f":"DP4+1","v":57},null,{"$f":"DR4+1","v":58},null,{"$f":"DT4+1","v":59},null,{"$f":"DV4+1","v":60}]
[]
[null,null,null,null,null,null,null,null,null,{"$f":"ROUND(SUM(K5:K82),2)","v":0},null,{"$f":"ROUND(SUM(M5:M82),2)","v":0},null,{"$f":"ROUND(SUM(O5:O82),2)","v":0},null,{"$f":"ROUND(SUM(Q5:Q82),2)","v":0},null,{"$f":"ROUND(SUM(S5:S82),2)","v":0},null,{"$f":"ROUND(SUM(U5:U82),2)","v":0},null,{"$f":"ROUND(SUM(W5:W82),2)","v":0},null,{"$f":"ROUND(SUM(Y5:Y82),2)","v":0},null,{"$f":"ROUND(SUM(AA5:AA82),2)","v":0},null,{"$f":"ROUND(SUM(AC5:AC82),2)","v":0},null,{"$f":"ROUND(SUM(AE5:AE82),2)","v":0},null,{"$f":"ROUND(SUM(AG5:AG82),2)","v":0},null,{"$f":"ROUND(SUM(AI5:AI82),2)","v":0},null,{"$f":"ROUND(SUM(AK5:AK82),2)","v":0},null,{"$f":"ROUND(SUM(AM5:AM82),2)","v":0},null,{"$f":"ROUND(SUM(AO5:AO82),2)","v":0},null,{"$f":"ROUND(SUM(AQ5:AQ82),2)","v":0},null,{"$f":"ROUND(SUM(AS5:AS82),2)","v":0},null,{"$f":"ROUND(SUM(AU5:AU82),2)","v":0},null,{"$f":"ROUND(SUM(AW5:AW82),2)","v":0},null,{"$f":"ROUND(SUM(AY5:AY82),2)","v":0},null,{"$f":"ROUND(SUM(BA5:BA82),2)","v":0},null,{"$f":"ROUND(SUM(BC5:BC82),2)","v":0},null,{"$f":"ROUND(SUM(BE5:BE82),2)","v":0},null,{"$f":"ROUND(SUM(BG5:BG82),2)","v":0},null,{"$f":"ROUND(SUM(BI5:BI82),2)","v":0},null,{"$f":"ROUND(SUM(BK5:BK82),2)","v":0},null,{"$f":"ROUND(SUM(BM5:BM82),2)","v":0},null,{"$f":"ROUND(SUM(BO5:BO82),2)","v":0},null,{"$f":"ROUND(SUM(BQ5:BQ82),2)","v":0},null,{"$f":"ROUND(SUM(BS5:BS82),2)","v":0},null,{"$f":"ROUND(SUM(BU5:BU82),2)","v":0},null,{"$f":"ROUND(SUM(BW5:BW82),2)","v":0},null,{"$f":"ROUND(SUM(BY5:BY82),2)","v":0},null,{"$f":"ROUND(SUM(CA5:CA82),2)","v":0},null,{"$f":"ROUND(SUM(CC5:CC82),2)","v":0},null,{"$f":"ROUND(SUM(CE5:CE82),2)","v":0},null,{"$f":"ROUND(SUM(CG5:CG82),2)","v":0},null,{"$f":"ROUND(SUM(CI5:CI82),2)","v":0},null,{"$f":"ROUND(SUM(CK5:CK82),2)","v":0},null,{"$f":"ROUND(SUM(CM5:CM82),2)","v":0},null,{"$f":"ROUND(SUM(CO5:CO82),2)","v":0},null,{"$f":"ROUND(SUM(CQ5:CQ82),2)","v":0},null,{"$f":"ROUND(SUM(CS5:CS82),2)","v":0},null,{"$f":"ROUND(SUM(CU5:CU82),2)","v":0},null,{"$f":"ROUND(SUM(CW5:CW82),2)","v":0},null,{"$f":"ROUND(SUM(CY5:CY82),2)","v":0},null,{"$f":"ROUND(SUM(DA5:DA82),2)","v":0},null,{"$f":"ROUND(SUM(DC5:DC82),2)","v":0},null,{"$f":"ROUND(SUM(DE5:DE82),2)","v":0},null,{"$f":"ROUND(SUM(DG5:DG82),2)","v":0},null,{"$f":"ROUND(SUM(DI5:DI82),2)","v":0},null,{"$f":"ROUND(SUM(DK5:DK82),2)","v":0},null,{"$f":"ROUND(SUM(DM5:DM82),2)","v":0},null,{"$f":"ROUND(SUM(DO5:DO82),2)","v":0},null,{"$f":"ROUND(SUM(DQ5:DQ82),2)","v":0},null,{"$f":"ROUND(SUM(DS5:DS82),2)","v":0},null,{"$f":"ROUND(SUM(DU5:DU82),2)","v":0},null,{"$f":"ROUND(SUM(DW5:DW82),2)","v":0},null,{"$f":"ROUND(SUM(DY5:DY82),2)","v":0}]
[null,null,"CATEGORIAS",null,null,null,"QUANTIDADE"]
[null,null,null,null,null,null,null,null,null,{"$f":"IF($C8=J$4,1,0)","v":0},null,{"$f":"IF($C8=L$4,1,0)","v":0},null,{"$f":"IF($C8=N$4,1,0)","v":0},null,{"$f":"IF($C8=P$4,1,0)","v":0},null,{"$f":"IF($C8=R$4,1,0)","v":0},null,{"$f":"IF($C8=T$4,1,0)","v":0},null,{"$f":"IF($C8=V$4,1,0)","v":0},null,{"$f":"IF($C8=X$4,1,0)","v":0},null,{"$f":"IF($C8=Z$4,1,0)","v":0},null,{"$f":"IF($C8=AB$4,1,0)","v":0},null,{"$f":"IF($C8=AD$4,1,0)","v":0},null,{"$f":"IF($C8=AF$4,1,0)","v":0},null,{"$f":"IF($C8=AH$4,1,0)","v":0},null,{"$f":"IF($C8=AJ$4,1,0)","v":0},null,{"$f":"IF($C8=AL$4,1,0)","v":0},null,{"$f":"IF($C8=AN$4,1,0)","v":0},null,{"$f":"IF($C8=AP$4,1,0)","v":0},null,{"$f":"IF($C8=AR$4,1,0)","v":0},null,{"$f":"IF($C8=AT$4,1,0)","v":0},null,{"$f":"IF($C8=AV$4,1,0)","v":0},null,{"$f":"IF($C8=AX$4,1,0)","v":0},null,{"$f":"IF($C8=AZ$4,1,0)","v":0},null,{"$f":"IF($C8=BB$4,1,0)","v":0},null,{"$f":"IF($C8=BD$4,1,0)","v":0},null,{"$f":"IF($C8=BF$4,1,0)","v":0},null,{"$f":"IF($C8=BH$4,1,0)","v":0},null,{"$f":"IF($C8=BJ$4,1,0)","v":0},null,{"$f":"IF($C8=BL$4,1,0)","v":0},null,{"$f":"IF($C8=BN$4,1,0)","v":0},null,{"$f":"IF($C8=BP$4,1,0)","v":0},null,{"$f":"IF($C8=BR$4,1,0)","v":0},null,{"$f":"IF($C8=BT$4,1,0)","v":0},null,{"$f":"IF($C8=BV$4,1,0)","v":0},null,{"$f":"IF($C8=BX$4,1,0)","v":0},null,{"$f":"IF($C8=BZ$4,1,0)","v":0},null,{"$f":"IF($C8=CB$4,1,0)","v":0},null,{"$f":"IF($C8=CD$4,1,0)","v":0},null,{"$f":"IF($C8=CF$4,1,0)","v":0},null,{"$f":"IF($C8=CH$4,1,0)","v":0},null,{"$f":"IF($C8=CJ$4,1,0)","v":0},null,{"$f":"IF($C8=CL$4,1,0)","v":0},null,{"$f":"IF($C8=CN$4,1,0)","v":0},null,{"$f":"IF($C8=CP$4,1,0)","v":0},null,{"$f":"IF($C8=CR$4,1,0)","v":0},null,{"$f":"IF($C8=CT$4,1,0)","v":0},null,{"$f":"IF($C8=CV$4,1,0)","v":0},null,{"$f":"IF($C8=CX$4,1,0)","v":0},null,{"$f":"IF($C8=CZ$4,1,0)","v":0},null,{"$f":"IF($C8=DB$4,1,0)","v":0},null,{"$f":"IF($C8=DD$4,1,0)","v":0},null,{"$f":"IF($C8=DF$4,1,0)","v":0},null,{"$f":"IF($C8=DH$4,1,0)","v":0},null,{"$f":"IF($C8=DJ$4,1,0)","v":0},null,{"$f":"IF($C8=DL$4,1,0)","v":0},null,{"$f":"IF($C8=DN$4,1,0)","v":0},null,{"$f":"IF($C8=DP$4,1,0)","v":0},null,{"$f":"IF($C8=DR$4,1,0)","v":0},null,{"$f":"IF($C8=DT$4,1,0)","v":0},null,{"$f":"IF($C8=DV$4,1,0)","v":0},null,{"$f":"IF($C8=DX$4,1,0)","v":0}]
[null,null,null,{"$f":"HLOOKUP($C9,'Dados Gerais'!$D$6:$BK$11,6)","v":{"$error":"#N/A"}},null,null,{"$f":"HLOOKUP($C9,'Dados Gerais'!$D$6:$BK$15,10)","v":{"$error":"#N/A"}},null,null,{"$f":"IF($C9=J$4,1,0)","v":0},null,0,null,0,null,0,null,0,null,0,null,0,null,0,null,0,null,0,null,0,null,0,null,0,null,0,null,0,null,0,null,0,null,0,null,0,null,0,null,0,null,0,null,0,null,0,null,0,null,0,null,0,null,0,null,0,null,0,null,0,null,0,null,0,null,0,null,0,null,0,null,0,null,0,null,0,null,0,null,0,null,0,null,0,null,0,null,0,null,0,null,0,null,0,null,0,null,0,null,0,null,0,null,0,null,0,null,0,null,0,null,0,null,0,null,0,null,0]
[null,null,null,{"$f":"HLOOKUP($C10,'Dados Gerais'!$D$6:$BK$11,6)","v":{"$error":"#N/A"}},null,null,{"$f":"HLOOKUP($C10,'Dados Gerais'!$D$6:$BK$15,10)","v":{"$error":"#N/A"}},null,null,{"$f":"IF($C10=J$4,1,0)","v":0},null,0,null,0,null,0,null,0,null,0,null,0,null,0,null,0,null,0,null,0,null,0,null,0,null,0,null,0,null,0,null,0,null,0,null,0,null,0,null,0,null,0,null,0,null,0,null,0,null,0,null,0,null,0,null,0,null,0,null,0,null,0,null,0,null,0,null,0,null,0,null,0,null,0,null,0,null,0,null,0,null,0,null,0,null,0,null,0,null,0,null,0,null,0,null,0,null,0,null,0,null,0,null,0,null,0,null,0,null,0,null,0,null,0,null,0,null,0]
[null,null,null,null,null,null,null,null,null,{"$f":"IF($C11=J$4,1,0)","v":0},null,0,null,0,null,0,null,0,null,0,null,0,null,0,null,0,null,0,null,0,null,0,null,0,null,0,null,0,null,0,null,0,null,0,null,0,null,0,null,0,null,0,null,0,null,0,null,0,null,0,null,0,null,0,null,0,null,0,null,0,null,0,null,0,null,0,null,0,null,0,null,0,null,0,null,0,null,0,null,0,null,0,null,0,null,0,null,0,null,0,null,0,null,0,null,0,null,0,null,0,null,0,null,0,null,0,null,0,null,0,null,0,null,0,null,0,null,0]
[]
[null,null,"ITEM","DESCRIÇÃO","QUANT ANUAL POR POSTO","UNIDADE","VALOR"]
[]
[null,null,null,null,null,null,null,null,null,null,{"$f":"IF(SUM(J$8:J$11)>0,$E15*$G15,0)","v":0},null,{"$f":"IF(SUM(L$8:L$11)>0,$E15*$G15,0)","v":0},null,{"$f":"IF(SUM(N$8:N$11)>0,$E15*$G15,0)","v":0},null,{"$f":"IF(SUM(P$8:P$11)>0,$E15*$G15,0)","v":0},null,{"$f":"IF(SUM(R$8:R$11)>0,$E15*$G15,0)","v":0},null,{"$f":"IF(SUM(T$8:T$11)>0,$E15*$G15,0)","v":0},null,{"$f":"IF(SUM(V$8:V$11)>0,$E15*$G15,0)","v":0},null,{"$f":"IF(SUM(X$8:X$11)>0,$E15*$G15,0)","v":0},null,{"$f":"IF(SUM(Z$8:Z$11)>0,$E15*$G15,0)","v":0},null,{"$f":"IF(SUM(AB$8:AB$11)>0,$E15*$G15,0)","v":0},null,{"$f":"IF(SUM(AD$8:AD$11)>0,$E15*$G15,0)","v":0},null,{"$f":"IF(SUM(AF$8:AF$11)>0,$E15*$G15,0)","v":0},null,{"$f":"IF(SUM(AH$8:AH$11)>0,$E15*$G15,0)","v":0},null,{"$f":"IF(SUM(AJ$8:AJ$11)>0,$E15*$G15,0)","v":0},null,{"$f":"IF(SUM(AL$8:AL$11)>0,$E15*$G15,0)","v":0},null,{"$f":"IF(SUM(AN$8:AN$11)>0,$E15*$G15,0)","v":0},null,{"$f":"IF(SUM(AP$8:AP$11)>0,$E15*$G15,0)","v":0},null,{"$f":"IF(SUM(AR$8:AR$11)>0,$E15*$G15,0)","v":0},null,{"$f":"IF(SUM(AT$8:AT$11)>0,$E15*$G15,0)","v":0},null,{"$f":"IF(SUM(AV$8:AV$11)>0,$E15*$G15,0)","v":0},null,{"$f":"IF(SUM(AX$8:AX$11)>0,$E15*$G15,0)","v":0},null,{"$f":"IF(SUM(AZ$8:AZ$11)>0,$E15*$G15,0)","v":0},null,{"$f":"IF(SUM(BB$8:BB$11)>0,$E15*$G15,0)","v":0},null,{"$f":"IF(SUM(BD$8:BD$11)>0,$E15*$G15,0)","v":0},null,{"$f":"IF(SUM(BF$8:BF$11)>0,$E15*$G15,0)","v":0},null,{"$f":"IF(SUM(BH$8:BH$11)>0,$E15*$G15,0)","v":0},null,{"$f":"IF(SUM(BJ$8:BJ$11)>0,$E15*$G15,0)","v":0},null,{"$f":"IF(SUM(BL$8:BL$11)>0,$E15*$G15,0)","v":0},null,{"$f":"IF(SUM(BN$8:BN$11)>0,$E15*$G15,0)","v":0},null,{"$f":"IF(SUM(BP$8:BP$11)>0,$E15*$G15,0)","v":0},null,{"$f":"IF(SUM(BR$8:BR$11)>0,$E15*$G15,0)","v":0},null,{"$f":"IF(SUM(BT$8:BT$11)>0,$E15*$G15,0)","v":0},null,{"$f":"IF(SUM(BV$8:BV$11)>0,$E15*$G15,0)","v":0},null,{"$f":"IF(SUM(BX$8:BX$11)>0,$E15*$G15,0)","v":0},null,{"$f":"IF(SUM(BZ$8:BZ$11)>0,$E15*$G15,0)","v":0},null,{"$f":"IF(SUM(CB$8:CB$11)>0,$E15*$G15,0)","v":0},null,{"$f":"IF(SUM(CD$8:CD$11)>0,$E15*$G15,0)","v":0},null,{"$f":"IF(SUM(CF$8:CF$11)>0,$E15*$G15,0)","v":0},null,{"$f":"IF(SUM(CH$8:CH$11)>0,$E15*$G15,0)","v":0},null,{"$f":"IF(SUM(CJ$8:CJ$11)>0,$E15*$G15,0)","v":0},null,{"$f":"IF(SUM(CL$8:CL$11)>0,$E15*$G15,0)","v":0},null,{"$f":"IF(SUM(CN$8:CN$11)>0,$E15*$G15,0)","v":0},null,{"$f":"IF(SUM(CP$8:CP$11)>0,$E15*$G15,0)","v":0},null,{"$f":"IF(SUM(CR$8:CR$11)>0,$E15*$G15,0)","v":0},null,{"$f":"IF(SUM(CT$8:CT$11)>0,$E15*$G15,0)","v":0},null,{"$f":"IF(SUM(CV$8:CV$11)>0,$E15*$G15,0)","v":0},null,{"$f":"IF(SUM(CX$8:CX$11)>0,$E15*$G15,0)","v":0},null,{"$f":"IF(SUM(CZ$8:CZ$11)>0,$E15*$G15,0)","v":0},null,{"$f":"IF(SUM(DB$8:DB$11)>0,$E15*$G15,0)","v":0},null,{"$f":"IF(SUM(DD$8:DD$11)>0,$E15*$G15,0)","v":0},null,{"$f":"IF(SUM(DF$8:DF$11)>0,$E15*$G15,0)","v":0},null,{"$f":"IF(SUM(DH$8:DH$11)>0,$E15*$G15,0)","v":0},null,{"$f":"IF(SUM(DJ$8:DJ$11)>0,$E15*$G15,0)","v":0},null,{"$f":"IF(SUM(DL$8:DL$11)>0,$E15*$G15,0)","v":0},null,{"$f":"IF(SUM(DN$8:DN$11)>0,$E15*$G15,0)","v":0},null,{"$f":"IF(SUM(DP$8:DP$11)>0,$E15*$G15,0)","v":0},null,{"$f":"IF(SUM(DR$8:DR$11)>0,$E15*$G15,0)","v":0},null,{"$f":"IF(SUM(DT$8:DT$11)>0,$E15*$G15,0)","v":0},null,{"$f":"IF(SUM(DV$8:DV$11)>0,$E15*$G15,0)","v":0},null,{"$f":"IF(SUM(DX$8:DX$11)>0,$E15*$G15,0)","v":0}]
[null,null,null,null,null,null,null,null,null,null,0,null,0,null,0,null,0,null,0,null,0,null,0,null,0,null,0,null,0,null,0,null,0,null,0,null,0,null,0,null,0,null,0,null,0,null,0,null,0,null,0,null,0,null,0,null,0,null,0,null,0,null,0,null,0,null,0,null,0,null,0,null,0,null,0,null,0,null,0,null,0,null,0,null,0,null,0,null,0,null,0,null,0,null,0,null,0,null,0,null,0,null,0,null,0,null,0,null,0,null,0,null,0,null,0,null,0,null,0,null,0,null,0,null,0,null,0,null,{"$f":"IF(SUM(DX$8:DX$11)>0,$E16*$G16,0)","v":0}]
[null,null,null,null,null,null,null,null,null,null,0,null,0,null,0,null,0,null,0,null,0,null,0,null,0,null,0,null,0,null,0,null,0,null,0,null,0,null,0,null,0,null,0,null,0,null,0,null,0,null,0,null,0,null,0,null,0,null,0,null,0,null,0,null,0,null,0,null,0,null,0,null,0,null,0,null,0,null,0,null,0,null,0,null,0,null,0,null,0,null,0,null,0,null,0,null,0,null,0,null,0,null,0,null,0,null,0,null,0,null,0,null,0,null,0,null,0,null,0,null,0,null,0,null,0,null,0,null,0]
[null,null,null,null,null,null,null,null,null,null,0,null,0,null,0,null,0,null,0,null,0,null,0,null,0,null,0,null,0,null,0,null,0,null,0,null,0,null,0,null,0,null,0,null,0,null,0,null,0,null,0,null,0,null,0,null,0,null,0,null,0,null,0,null,0,null,0,null,0,null,0,null,0,null,0,null,0,null,0,null,0,null,0,null,0,null,0,null,0,null,0,null,0,null,0,null,0,null,0,null,0,null,0,null,0,null,0,null,0,null,0,null,0,null,0,null,0,null,0,null,0,null,0,null,0,null,0,null,{"$f":"IF(SUM(DX$8:DX$11)>0,$E18*$G18,0)","v":0}]
[null,null,null,null,null,null,null,null,null,null,0,null,0,null,0,null,0,null,0,null,0,null,0,null,0,null,0,null,0,null,0,null,0,null,0,null,0,null,0,null,0,null,0,null,0,null,0,null,0,null,0,null,0,null,0,null,0,null,0,null,0,null,0,null,0,null,0,null,0,null,0,null,0,null,0,null,0,null,0,null,0,null,0,null,0,null,0,null,0,null,0,null,0,null,0,null,0,null,0,null,0,null,0,null,0,null,0,null,0,null,0,null,0,null,0,null,0,null,0,null,0,null,0,null,0,null,0,null,0]
[null,null,null,null,null,null,null,null,null,null,0,null,{"$f":"IF(SUM(L$8:L$11)>0,$E20*$G20,0)","v":0},null,{"$f":"IF(SUM(N$8:N$11)>0,$E20*$G20,0)","v":0},null,{"$f":"IF(SUM(P$8:P$11)>0,$E20*$G20,0)","v":0},null,{"$f":"IF(SUM(R$8:R$11)>0,$E20*$G20,0)","v":0},null,{"$f":"IF(SUM(T$8:T$11)>0,$E20*$G20,0)","v":0},null,{"$f":"IF(SUM(V$8:V$11)>0,$E20*$G20,0)","v":0},null,{"$f":"IF(SUM(X$8:X$11)>0,$E20*$G20,0)","v":0},null,{"$f":"IF(SUM(Z$8:Z$11)>0,$E20*$G20,0)","v":0},null,{"$f":"IF(SUM(AB$8:AB$11)>0,$E20*$G20,0)","v":0},null,{"$f":"IF(SUM(AD$8:AD$11)>0,$E20*$G20,0)","v":0},null,{"$f":"IF(SUM(AF$8:AF$11)>0,$E20*$G20,0)","v":0},null,{"$f":"IF(SUM(AH$8:AH$11)>0,$E20*$G20,0)","v":0},null,{"$f":"IF(SUM(AJ$8:AJ$11)>0,$E20*$G20,0)","v":0},null,{"$f":"IF(SUM(AL$8:AL$11)>0,$E20*$G20,0)","v":0},null,{"$f":"IF(SUM(AN$8:AN$11)>0,$E20*$G20,0)","v":0},null,{"$f":"IF(SUM(AP$8:AP$11)>0,$E20*$G20,0)","v":0},null,{"$f":"IF(SUM(AR$8:AR$11)>0,$E20*$G20,0)","v":0},null,{"$f":"IF(SUM(AT$8:AT$11)>0,$E20*$G20,0)","v":0},null,{"$f":"IF(SUM(AV$8:AV$11)>0,$E20*$G20,0)","v":0},null,{"$f":"IF(SUM(AX$8:AX$11)>0,$E20*$G20,0)","v":0},null,{"$f":"IF(SUM(AZ$8:AZ$11)>0,$E20*$G20,0)","v":0},null,{"$f":"IF(SUM(BB$8:BB$11)>0,$E20*$G20,0)","v":0},null,{"$f":"IF(SUM(BD$8:BD$11)>0,$E20*$G20,0)","v":0},null,{"$f":"IF(SUM(BF$8:BF$11)>0,$E20*$G20,0)","v":0},null,{"$f":"IF(SUM(BH$8:BH$11)>0,$E20*$G20,0)","v":0},null,{"$f":"IF(SUM(BJ$8:BJ$11)>0,$E20*$G20,0)","v":0},null,{"$f":"IF(SUM(BL$8:BL$11)>0,$E20*$G20,0)","v":0},null,{"$f":"IF(SUM(BN$8:BN$11)>0,$E20*$G20,0)","v":0},null,{"$f":"IF(SUM(BP$8:BP$11)>0,$E20*$G20,0)","v":0},null,{"$f":"IF(SUM(BR$8:BR$11)>0,$E20*$G20,0)","v":0},null,{"$f":"IF(SUM(BT$8:BT$11)>0,$E20*$G20,0)","v":0},null,{"$f":"IF(SUM(BV$8:BV$11)>0,$E20*$G20,0)","v":0},null,{"$f":"IF(SUM(BX$8:BX$11)>0,$E20*$G20,0)","v":0},null,{"$f":"IF(SUM(BZ$8:BZ$11)>0,$E20*$G20,0)","v":0},null,{"$f":"IF(SUM(CB$8:CB$11)>0,$E20*$G20,0)","v":0},null,{"$f":"IF(SUM(CD$8:CD$11)>0,$E20*$G20,0)","v":0},null,{"$f":"IF(SUM(CF$8:CF$11)>0,$E20*$G20,0)","v":0},null,{"$f":"IF(SUM(CH$8:CH$11)>0,$E20*$G20,0)","v":0},null,{"$f":"IF(SUM(CJ$8:CJ$11)>0,$E20*$G20,0)","v":0},null,{"$f":"IF(SUM(CL$8:CL$11)>0,$E20*$G20,0)","v":0},null,{"$f":"IF(SUM(CN$8:CN$11)>0,$E20*$G20,0)","v":0},null,{"$f":"IF(SUM(CP$8:CP$11)>0,$E20*$G20,0)","v":0},null,{"$f":"IF(SUM(CR$8:CR$11)>0,$E20*$G20,0)","v":0},null,{"$f":"IF(SUM(CT$8:CT$11)>0,$E20*$G20,0)","v":0},null,{"$f":"IF(SUM(CV$8:CV$11)>0,$E20*$G20,0)","v":0},null,{"$f":"IF(SUM(CX$8:CX$11)>0,$E20*$G20,0)","v":0},null,{"$f":"IF(SUM(CZ$8:CZ$11)>0,$E20*$G20,0)","v":0},null,{"$f":"IF(SUM(DB$8:DB$11)>0,$E20*$G20,0)","v":0},null,{"$f":"IF(SUM(DD$8:DD$11)>0,$E20*$G20,0)","v":0},null,{"$f":"IF(SUM(DF$8:DF$11)>0,$E20*$G20,0)","v":0},null,{"$f":"IF(SUM(DH$8:DH$11)>0,$E20*$G20,0)","v":0},null,{"$f":"IF(SUM(DJ$8:DJ$11)>0,$E20*$G20,0)","v":0},null,{"$f":"IF(SUM(DL$8:DL$11)>0,$E20*$G20,0)","v":0},null,{"$f":"IF(SUM(DN$8:DN$11)>0,$E20*$G20,0)","v":0},null,{"$f":"IF(SUM(DP$8:DP$11)>0,$E20*$G20,0)","v":0},null,{"$f":"IF(SUM(DR$8:DR$11)>0,$E20*$G20,0)","v":0},null,{"$f":"IF(SUM(DT$8:DT$11)>0,$E20*$G20,0)","v":0},null,{"$f":"IF(SUM(DV$8:DV$11)>0,$E20*$G20,0)","v":0},null,0]
[null,null,null,null,null,null,null,null,null,null,0,null,0,null,0,null,0,null,0,null,0,null,0,null,0,null,0,null,0,null,0,null,0,null,0,null,0,null,0,null,0,null,0,null,0,null,0,null,0,null,0,null,0,null,0,null,0,null,0,null,0,null,0,null,0,null,0,null,0,null,0,null,0,null,0,null,0,null,0,null,0,null,0,null,0,null,0,null,0,null,0,null,0,null,0,null,0,null,0,null,0,null,0,null,0,null,0,null,0,null,0,null,0,null,0,null,0,null,0,null,0,null,0,null,0,null,0,null,0]
[null,null,null,null,null,null,null,null,null,null,0,null,{"$f":"IF(SUM(L$8:L$11)>0,$E22*$G22,0)","v":0},null,{"$f":"IF(SUM(N$8:N$11)>0,$E22*$G22,0)","v":0},null,{"$f":"IF(SUM(P$8:P$11)>0,$E22*$G22,0)","v":0},null,{"$f":"IF(SUM(R$8:R$11)>0,$E22*$G22,0)","v":0},null,{"$f":"IF(SUM(T$8:T$11)>0,$E22*$G22,0)","v":0},null,{"$f":"IF(SUM(V$8:V$11)>0,$E22*$G22,0)","v":0},null,{"$f":"IF(SUM(X$8:X$11)>0,$E22*$G22,0)","v":0},null,{"$f":"IF(SUM(Z$8:Z$11)>0,$E22*$G22,0)","v":0},null,{"$f":"IF(SUM(AB$8:AB$11)>0,$E22*$G22,0)","v":0},null,{"$f":"IF(SUM(AD$8:AD$11)>0,$E22*$G22,0)","v":0},null,{"$f":"IF(SUM(AF$8:AF$11)>0,$E22*$G22,0)","v":0},null,{"$f":"IF(SUM(AH$8:AH$11)>0,$E22*$G22,0)","v":0},null,{"$f":"IF(SUM(AJ$8:AJ$11)>0,$E22*$G22,0)","v":0},null,{"$f":"IF(SUM(AL$8:AL$11)>0,$E22*$G22,0)","v":0},null,{"$f":"IF(SUM(AN$8:AN$11)>0,$E22*$G22,0)","v":0},null,{"$f":"IF(SUM(AP$8:AP$11)>0,$E22*$G22,0)","v":0},null,{"$f":"IF(SUM(AR$8:AR$11)>0,$E22*$G22,0)","v":0},null,{"$f":"IF(SUM(AT$8:AT$11)>0,$E22*$G22,0)","v":0},null,{"$f":"IF(SUM(AV$8:AV$11)>0,$E22*$G22,0)","v":0},null,{"$f":"IF(SUM(AX$8:AX$11)>0,$E22*$G22,0)","v":0},null,{"$f":"IF(SUM(AZ$8:AZ$11)>0,$E22*$G22,0)","v":0},null,{"$f":"IF(SUM(BB$8:BB$11)>0,$E22*$G22,0)","v":0},null,{"$f":"IF(SUM(BD$8:BD$11)>0,$E22*$G22,0)","v":0},null,{"$f":"IF(SUM(BF$8:BF$11)>0,$E22*$G22,0)","v":0},null,{"$f":"IF(SUM(BH$8:BH$11)>0,$E22*$G22,0)","v":0},null,{"$f":"IF(SUM(BJ$8:BJ$11)>0,$E22*$G22,0)","v":0},null,{"$f":"IF(SUM(BL$8:BL$11)>0,$E22*$G22,0)","v":0},null,{"$f":"IF(SUM(BN$8:BN$11)>0,$E22*$G22,0)","v":0},null,{"$f":"IF(SUM(BP$8:BP$11)>0,$E22*$G22,0)","v":0},null,{"$f":"IF(SUM(BR$8:BR$11)>0,$E22*$G22,0)","v":0},null,{"$f":"IF(SUM(BT$8:BT$11)>0,$E22*$G22,0)","v":0},null,{"$f":"IF(SUM(BV$8:BV$11)>0,$E22*$G22,0)","v":0},null,{"$f":"IF(SUM(BX$8:BX$11)>0,$E22*$G22,0)","v":0},null,{"$f":"IF(SUM(BZ$8:BZ$11)>0,$E22*$G22,0)","v":0},null,{"$f":"IF(SUM(CB$8:CB$11)>0,$E22*$G22,0)","v":0},null,{"$f":"IF(SUM(CD$8:CD$11)>0,$E22*$G22,0)","v":0},null,{"$f":"IF(SUM(CF$8:CF$11)>0,$E22*$G22,0)","v":0},null,{"$f":"IF(SUM(CH$8:CH$11)>0,$E22*$G22,0)","v":0},null,{"$f":"IF(SUM(CJ$8:CJ$11)>0,$E22*$G22,0)","v":0},null,{"$f":"IF(SUM(CL$8:CL$11)>0,$E22*$G22,0)","v":0},null,{"$f":"IF(SUM(CN$8:CN$11)>0,$E22*$G22,0)","v":0},null,{"$f":"IF(SUM(CP$8:CP$11)>0,$E22*$G22,0)","v":0},null,{"$f":"IF(SUM(CR$8:CR$11)>0,$E22*$G22,0)","v":0},null,{"$f":"IF(SUM(CT$8:CT$11)>0,$E22*$G22,0)","v":0},null,{"$f":"IF(SUM(CV$8:CV$11)>0,$E22*$G22,0)","v":0},null,{"$f":"IF(SUM(CX$8:CX$11)>0,$E22*$G22,0)","v":0},null,{"$f":"IF(SUM(CZ$8:CZ$11)>0,$E22*$G22,0)","v":0},null,{"$f":"IF(SUM(DB$8:DB$11)>0,$E22*$G22,0)","v":0},null,{"$f":"IF(SUM(DD$8:DD$11)>0,$E22*$G22,0)","v":0},null,{"$f":"IF(SUM(DF$8:DF$11)>0,$E22*$G22,0)","v":0},null,{"$f":"IF(SUM(DH$8:DH$11)>0,$E22*$G22,0)","v":0},null,{"$f":"IF(SUM(DJ$8:DJ$11)>0,$E22*$G22,0)","v":0},null,{"$f":"IF(SUM(DL$8:DL$11)>0,$E22*$G22,0)","v":0},null,{"$f":"IF(SUM(DN$8:DN$11)>0,$E22*$G22,0)","v":0},null,{"$f":"IF(SUM(DP$8:DP$11)>0,$E22*$G22,0)","v":0},null,{"$f":"IF(SUM(DR$8:DR$11)>0,$E22*$G22,0)","v":0},null,{"$f":"IF(SUM(DT$8:DT$11)>0,$E22*$G22,0)","v":0},null,{"$f":"IF(SUM(DV$8:DV$11)>0,$E22*$G22,0)","v":0},null,0]
[null,null,null,null,null,null,null,null,null,null,0,null,0,null,0,null,0,null,0,null,0,null,0,null,0,null,0,null,0,null,0,null,0,null,0,null,0,null,0,null,0,null,0,null,0,null,0,null,0,null,0,null,0,null,0,null,0,null,0,null,0,null,0,null,0,null,0,null,0,null,0,null,0,null,0,null,0,null,0,null,0,null,0,null,0,null,0,null,0,null,0,null,0,null,0,null,0,null,0,null,0,null,0,null,0,null,0,null,0,null,0,null,0,null,0,null,0,null,0,null,0,null,0,null,0,null,0,null,{"$f":"IF(SUM(DX$8:DX$11)>0,$E23*$G23,0)","v":0}]
[null,null,null,null,null,null,null,null,null,null,0,null,0,null,0,null,0,null,0,null,0,null,0,null,0,null,0,null,0,null,0,null,0,null,0,null,0,null,0,null,0,null,0,null,0,null,0,null,0,null,0,null,0,null,0,null,0,null,0,null,0,null,0,null,0,null,0,null,0,null,0,null,0,null,0,null,0,null,0,null,0,null,0,null,0,null,0,null,0,null,0,null,0,null,0,null,0,null,0,null,0,null,0,null,0,null,0,null,0,null,0,null,0,null,0,null,0,null,0,null,0,null,0,null,0,null,0,null,{"$f":"IF(SUM(DX$8:DX$11)>0,$E24*$G24,0)","v":0}]
[null,null,null,null,null,null,null,null,null,null,0,null,{"$f":"IF(SUM(L$8:L$11)>0,$E25*$G25,0)","v":0},null,{"$f":"IF(SUM(N$8:N$11)>0,$E25*$G25,0)","v":0},null,{"$f":"IF(SUM(P$8:P$11)>0,$E25*$G25,0)","v":0},null,{"$f":"IF(SUM(R$8:R$11)>0,$E25*$G25,0)","v":0},null,{"$f":"IF(SUM(T$8:T$11)>0,$E25*$G25,0)","v":0},null,{"$f":"IF(SUM(V$8:V$11)>0,$E25*$G25,0)","v":0},null,{"$f":"IF(SUM(X$8:X$11)>0,$E25*$G25,0)","v":0},null,{"$f":"IF(SUM(Z$8:Z$11)>0,$E25*$G25,0)","v":0},null,{"$f":"IF(SUM(AB$8:AB$11)>0,$E25*$G25,0)","v":0},null,{"$f":"IF(SUM(AD$8:AD$11)>0,$E25*$G25,0)","v":0},null,{"$f":"IF(SUM(AF$8:AF$11)>0,$E25*$G25,0)","v":0},null,{"$f":"IF(SUM(AH$8:AH$11)>0,$E25*$G25,0)","v":0},null,{"$f":"IF(SUM(AJ$8:AJ$11)>0,$E25*$G25,0)","v":0},null,{"$f":"IF(SUM(AL$8:AL$11)>0,$E25*$G25,0)","v":0},null,{"$f":"IF(SUM(AN$8:AN$11)>0,$E25*$G25,0)","v":0},null,{"$f":"IF(SUM(AP$8:AP$11)>0,$E25*$G25,0)","v":0},null,{"$f":"IF(SUM(AR$8:AR$11)>0,$E25*$G25,0)","v":0},null,{"$f":"IF(SUM(AT$8:AT$11)>0,$E25*$G25,0)","v":0},null,{"$f":"IF(SUM(AV$8:AV$11)>0,$E25*$G25,0)","v":0},null,{"$f":"IF(SUM(AX$8:AX$11)>0,$E25*$G25,0)","v":0},null,{"$f":"IF(SUM(AZ$8:AZ$11)>0,$E25*$G25,0)","v":0},null,{"$f":"IF(SUM(BB$8:BB$11)>0,$E25*$G25,0)","v":0},null,{"$f":"IF(SUM(BD$8:BD$11)>0,$E25*$G25,0)","v":0},null,{"$f":"IF(SUM(BF$8:BF$11)>0,$E25*$G25,0)","v":0},null,{"$f":"IF(SUM(BH$8:BH$11)>0,$E25*$G25,0)","v":0},null,{"$f":"IF(SUM(BJ$8:BJ$11)>0,$E25*$G25,0)","v":0},null,{"$f":"IF(SUM(BL$8:BL$11)>0,$E25*$G25,0)","v":0},null,{"$f":"IF(SUM(BN$8:BN$11)>0,$E25*$G25,0)","v":0},null,{"$f":"IF(SUM(BP$8:BP$11)>0,$E25*$G25,0)","v":0},null,{"$f":"IF(SUM(BR$8:BR$11)>0,$E25*$G25,0)","v":0},null,{"$f":"IF(SUM(BT$8:BT$11)>0,$E25*$G25,0)","v":0},null,{"$f":"IF(SUM(BV$8:BV$11)>0,$E25*$G25,0)","v":0},null,{"$f":"IF(SUM(BX$8:BX$11)>0,$E25*$G25,0)","v":0},null,{"$f":"IF(SUM(BZ$8:BZ$11)>0,$E25*$G25,0)","v":0},null,{"$f":"IF(SUM(CB$8:CB$11)>0,$E25*$G25,0)","v":0},null,{"$f":"IF(SUM(CD$8:CD$11)>0,$E25*$G25,0)","v":0},null,{"$f":"IF(SUM(CF$8:CF$11)>0,$E25*$G25,0)","v":0},null,{"$f":"IF(SUM(CH$8:CH$11)>0,$E25*$G25,0)","v":0},null,{"$f":"IF(SUM(CJ$8:CJ$11)>0,$E25*$G25,0)","v":0},null,{"$f":"IF(SUM(CL$8:CL$11)>0,$E25*$G25,0)","v":0},null,{"$f":"IF(SUM(CN$8:CN$11)>0,$E25*$G25,0)","v":0},null,{"$f":"IF(SUM(CP$8:CP$11)>0,$E25*$G25,0)","v":0},null,{"$f":"IF(SUM(CR$8:CR$11)>0,$E25*$G25,0)","v":0},null,{"$f":"IF(SUM(CT$8:CT$11)>0,$E25*$G25,0)","v":0},null,{"$f":"IF(SUM(CV$8:CV$11)>0,$E25*$G25,0)","v":0},null,{"$f":"IF(SUM(CX$8:CX$11)>0,$E25*$G25,0)","v":0},null,{"$f":"IF(SUM(CZ$8:CZ$11)>0,$E25*$G25,0)","v":0},null,{"$f":"IF(SUM(DB$8:DB$11)>0,$E25*$G25,0)","v":0},null,{"$f":"IF(SUM(DD$8:DD$11)>0,$E25*$G25,0)","v":0},null,{"$f":"IF(SUM(DF$8:DF$11)>0,$E25*$G25,0)","v":0},null,{"$f":"IF(SUM(DH$8:DH$11)>0,$E25*$G25,0)","v":0},null,{"$f":"IF(SUM(DJ$8:DJ$11)>0,$E25*$G25,0)","v":0},null,{"$f":"IF(SUM(DL$8:DL$11)>0,$E25*$G25,0)","v":0},null,{"$f":"IF(SUM(DN$8:DN$11)>0,$E25*$G25,0)","v":0},null,{"$f":"IF(SUM(DP$8:DP$11)>0,$E25*$G25,0)","v":0},null,{"$f":"IF(SUM(DR$8:DR$11)>0,$E25*$G25,0)","v":0},null,{"$f":"IF(SUM(DT$8:DT$11)>0,$E25*$G25,0)","v":0},null,{"$f":"IF(SUM(DV$8:DV$11)>0,$E25*$G25,0)","v":0},null,0]
[]
[null,null,"CATEGORIAS",null,null,null,"QUANTIDADE"]
[null,null,null,null,null,null,null,null,null,{"$f":"IF($C28=J$4,1,0)","v":0},null,{"$f":"IF($C28=L$4,1,0)","v":0},null,{"$f":"IF($C28=N$4,1,0)","v":0},null,{"$f":"IF($C28=P$4,1,0)","v":0},null,{"$f":"IF($C28=R$4,1,0)","v":0},null,{"$f":"IF($C28=T$4,1,0)","v":0},null,{"$f":"IF($C28=V$4,1,0)","v":0},null,{"$f":"IF($C28=X$4,1,0)","v":0},null,{"$f":"IF($C28=Z$4,1,0)","v":0},null,{"$f":"IF($C28=AB$4,1,0)","v":0},null,{"$f":"IF($C28=AD$4,1,0)","v":0},null,{"$f":"IF($C28=AF$4,1,0)","v":0},null,{"$f":"IF($C28=AH$4,1,0)","v":0},null,{"$f":"IF($C28=AJ$4,1,0)","v":0},null,{"$f":"IF($C28=AL$4,1,0)","v":0},null,{"$f":"IF($C28=AN$4,1,0)","v":0},null,{"$f":"IF($C28=AP$4,1,0)","v":0},null,{"$f":"IF($C28=AR$4,1,0)","v":0},null,{"$f":"IF($C28=AT$4,1,0)","v":0},null,{"$f":"IF($C28=AV$4,1,0)","v":0},null,{"$f":"IF($C28=AX$4,1,0)","v":0},null,{"$f":"IF($C28=AZ$4,1,0)","v":0},null,{"$f":"IF($C28=BB$4,1,0)","v":0},null,{"$f":"IF($C28=BD$4,1,0)","v":0},null,{"$f":"IF($C28=BF$4,1,0)","v":0},null,{"$f":"IF($C28=BH$4,1,0)","v":0},null,{"$f":"IF($C28=BJ$4,1,0)","v":0},null,{"$f":"IF($C28=BL$4,1,0)","v":0},null,{"$f":"IF($C28=BN$4,1,0)","v":0},null,{"$f":"IF($C28=BP$4,1,0)","v":0},null,{"$f":"IF($C28=BR$4,1,0)","v":0},null,{"$f":"IF($C28=BT$4,1,0)","v":0},null,{"$f":"IF($C28=BV$4,1,0)","v":0},null,{"$f":"IF($C28=BX$4,1,0)","v":0},null,{"$f":"IF($C28=BZ$4,1,0)","v":0},null,{"$f":"IF($C28=CB$4,1,0)","v":0},null,{"$f":"IF($C28=CD$4,1,0)","v":0},null,{"$f":"IF($C28=CF$4,1,0)","v":0},null,{"$f":"IF($C28=CH$4,1,0)","v":0},null,{"$f":"IF($C28=CJ$4,1,0)","v":0},null,{"$f":"IF($C28=CL$4,1,0)","v":0},null,{"$f":"IF($C28=CN$4,1,0)","v":0},null,{"$f":"IF($C28=CP$4,1,0)","v":0},null,{"$f":"IF($C28=CR$4,1,0)","v":0},null,{"$f":"IF($C28=CT$4,1,0)","v":0},null,{"$f":"IF($C28=CV$4,1,0)","v":0},null,{"$f":"IF($C28=CX$4,1,0)","v":0},null,{"$f":"IF($C28=CZ$4,1,0)","v":0},null,{"$f":"IF($C28=DB$4,1,0)","v":0},null,{"$f":"IF($C28=DD$4,1,0)","v":0},null,{"$f":"IF($C28=DF$4,1,0)","v":0},null,{"$f":"IF($C28=DH$4,1,0)","v":0},null,{"$f":"IF($C28=DJ$4,1,0)","v":0},null,{"$f":"IF($C28=DL$4,1,0)","v":0},null,{"$f":"IF($C28=DN$4,1,0)","v":0},null,{"$f":"IF($C28=DP$4,1,0)","v":0},null,{"$f":"IF($C28=DR$4,1,0)","v":0},null,{"$f":"IF($C28=DT$4,1,0)","v":0},null,{"$f":"IF($C28=DV$4,1,0)","v":0},null,{"$f":"IF($C28=DX$4,1,0)","v":0}]
[null,null,null,{"$f":"HLOOKUP($C29,'Dados Gerais'!$D$6:$BK$11,6)","v":{"$error":"#N/A"}},null,null,{"$f":"HLOOKUP($C29,'Dados Gerais'!$D$6:$BK$15,10)","v":{"$error":"#N/A"}},null,null,{"$f":"IF($C29=J$4,1,0)","v":0},null,0,null,0,null,0,null,0,null,0,null,0,null,0,null,0,null,0,null,0,null,0,null,0,null,0,null,0,null,0,null,0,null,0,null,0,null,0,null,0,null,0,null,0,null,0,null,0,null,0,null,0,null,0,null,0,null,0,null,0,null,0,null,0,null,0,null,0,null,0,null,0,null,0,null,0,null,0,null,0,null,0,null,0,null,0,null,0,null,0,null,0,null,0,null,0,null,0,null,0,null,0,null,0,null,0,null,0,null,0,null,0,null,0,null,0,null,0]
[null,null,null,{"$f":"HLOOKUP($C30,'Dados Gerais'!$D$6:$BK$11,6)","v":{"$error":"#N/A"}},null,null,{"$f":"HLOOKUP($C30,'Dados Gerais'!$D$6:$BK$15,10)","v":{"$error":"#N/A"}},null,null,{"$f":"IF($C30=J$4,1,0)","v":0},null,0,null,0,null,0,null,0,null,0,null,0,null,0,null,0,null,0,null,0,null,0,null,0,null,0,null,0,null,0,null,0,null,0,null,0,null,0,null,0,null,0,null,0,null,0,null,0,null,0,null,0,null,0,null,0,null,0,null,0,null,0,null,0,null,0,null,0,null,0,null,0,null,0,null,0,null,0,null,0,null,0,null,0,null,0,null,0,null,0,null,0,null,0,null,0,null,0,null,0,null,0,null,0,null,0,null,0,null,0,null,0,null,0,null,0,null,0]
[null,null,null,null,null,null,null,null,null,{"$f":"IF($C31=J$4,1,0)","v":0},null,0,null,0,null,0,null,0,null,0,null,0,null,0,null,0,null,0,null,0,null,0,null,0,null,0,null,0,null,0,null,0,null,0,null,0,null,0,null,0,null,0,null,0,null,0,null,0,null,0,null,0,null,0,null,0,null,0,null,0,null,0,null,0,null,0,null,0,null,0,null,0,null,0,null,0,null,0,null,0,null,0,null,0,null,0,null,0,null,0,null,0,null,0,null,0,null,0,null,0,null,0,null,0,null,0,null,0,null,0,null,0,null,0,null,0,null,0]
[]
[null,null,"ITEM","DESCRIÇÃO","QUANT ANUAL POR POSTO","UNIDADE","VALOR"]
[]
[null,null,null,null,null,null,null,null,null,null,{"$f":"IF(SUM(J$29:J$30)>0,$E35*$G35,0)","v":0},null,{"$f":"IF(SUM(L$29:L$30)>0,$E35*$G35,0)","v":0},null,{"$f":"IF(SUM($J$29:$J$30)>0,$E35*$G35,0)","v":0},null,{"$f":"IF(SUM($P$29:$P$30)>0,$E35*$G35,0)","v":0},null,{"$f":"IF(SUM($P$29:$P$30)>0,$E35*$G35,0)","v":0},null,{"$f":"IF(SUM($J$29:$J$30)>0,$E35*$G35,0)","v":0},null,{"$f":"IF(SUM(V$29:V$30)>0,$E35*$G35,0)","v":0},null,{"$f":"IF(SUM(X$29:X$30)>0,$E35*$G35,0)","v":0},null,{"$f":"IF(SUM(Z$29:Z$30)>0,$E35*$G35,0)","v":0},null,{"$f":"IF(SUM($J$29:$J$30)>0,$E35*$G35,0)","v":0},null,{"$f":"IF(SUM($J$29:$J$30)>0,$E35*$G35,0)","v":0},null,{"$f":"IF(SUM($J$29:$J$30)>0,$E35*$G35,0)","v":0},null,{"$f":"IF(SUM($J$29:$J$30)>0,$E35*$G35,0)","v":0},null,{"$f":"IF(SUM($J$29:$J$30)>0,$E35*$G35,0)","v":0},null,{"$f":"IF(SUM($J$29:$J$30)>0,$E35*$G35,0)","v":0},null,{"$f":"IF(SUM($J$29:$J$30)>0,$E35*$G35,0)","v":0},null,{"$f":"IF(SUM($J$29:$J$30)>0,$E35*$G35,0)","v":0},null,{"$f":"IF(SUM($J$29:$J$30)>0,$E35*$G35,0)","v":0},null,{"$f":"IF(SUM($J$29:$J$30)>0,$E35*$G35,0)","v":0},null,{"$f":"IF(SUM($J$29:$J$30)>0,$E35*$G35,0)","v":0},null,{"$f":"IF(SUM($J$29:$J$30)>0,$E35*$G35,0)","v":0},null,{"$f":"IF(SUM($J$29:$J$30)>0,$E35*$G35,0)","v":0},null,{"$f":"IF(SUM($J$29:$J$30)>0,$E35*$G35,0)","v":0},null,{"$f":"IF(SUM($J$29:$J$30)>0,$E35*$G35,0)","v":0},null,{"$f":"IF(SUM($J$29:$J$30)>0,$E35*$G35,0)","v":0},null,{"$f":"IF(SUM($J$29:$J$30)>0,$E35*$G35,0)","v":0},null,{"$f":"IF(SUM($J$29:$J$30)>0,$E35*$G35,0)","v":0},null,{"$f":"IF(SUM($J$29:$J$30)>0,$E35*$G35,0)","v":0},null,{"$f":"IF(SUM($J$29:$J$30)>0,$E35*$G35,0)","v":0},null,{"$f":"IF(SUM($J$29:$J$30)>0,$E35*$G35,0)","v":0},null,{"$f":"IF(SUM($J$29:$J$30)>0,$E35*$G35,0)","v":0},null,{"$f":"IF(SUM($J$29:$J$30)>0,$E35*$G35,0)","v":0},null,{"$f":"IF(SUM($J$29:$J$30)>0,$E35*$G35,0)","v":0},null,{"$f":"IF(SUM($J$29:$J$30)>0,$E35*$G35,0)","v":0},null,{"$f":"IF(SUM($J$29:$J$30)>0,$E35*$G35,0)","v":0},null,{"$f":"IF(SUM($J$29:$J$30)>0,$E35*$G35,0)","v":0},null,{"$f":"IF(SUM($J$29:$J$30)>0,$E35*$G35,0)","v":0},null,{"$f":"IF(SUM($J$29:$J$30)>0,$E35*$G35,0)","v":0},null,{"$f":"IF(SUM($J$29:$J$30)>0,$E35*$G35,0)","v":0},null,{"$f":"IF(SUM($J$29:$J$30)>0,$E35*$G35,0)","v":0},null,{"$f":"IF(SUM($J$29:$J$30)>0,$E35*$G35,0)","v":0},null,{"$f":"IF(SUM($J$29:$J$30)>0,$E35*$G35,0)","v":0},null,{"$f":"IF(SUM($J$29:$J$30)>0,$E35*$G35,0)","v":0},null,{"$f":"IF(SUM($J$29:$J$30)>0,$E35*$G35,0)","v":0},null,{"$f":"IF(SUM($J$29:$J$30)>0,$E35*$G35,0)","v":0},null,{"$f":"IF(SUM($J$29:$J$30)>0,$E35*$G35,0)","v":0},null,{"$f":"IF(SUM($J$29:$J$30)>0,$E35*$G35,0)","v":0},null,{"$f":"IF(SUM($J$29:$J$30)>0,$E35*$G35,0)","v":0},null,{"$f":"IF(SUM($J$29:$J$30)>0,$E35*$G35,0)","v":0},null,{"$f":"IF(SUM($J$29:$J$30)>0,$E35*$G35,0)","v":0},null,{"$f":"IF(SUM($J$29:$J$30)>0,$E35*$G35,0)","v":0},null,{"$f":"IF(SUM($J$29:$J$30)>0,$E35*$G35,0)","v":0},null,{"$f":"IF(SUM($J$29:$J$30)>0,$E35*$G35,0)","v":0},null,{"$f":"IF(SUM($J$29:$J$30)>0,$E35*$G35,0)","v":0},null,{"$f":"IF(SUM($J$29:$J$30)>0,$E35*$G35,0)","v":0},null,{"$f":"IF(SUM($J$29:$J$30)>0,$E35*$G35,0)","v":0},null,{"$f":"IF(SUM($J$29:$J$30)>0,$E35*$G35,0)","v":0},null,{"$f":"IF(SUM($J$29:$J$30)>0,$E35*$G35,0)","v":0},null,{"$f":"IF(SUM($J$29:$J$30)>0,$E35*$G35,0)","v":0},null,{"$f":"IF(SUM($J$29:$J$30)>0,$E35*$G35,0)","v":0}]
[null,null,null,null,null,null,null,null,null,null,{"$f":"IF(SUM(J$29:J$30)>0,$E36*$G36,0)","v":0},null,{"$f":"IF(SUM(L$29:L$30)>0,$E36*$G36,0)","v":0},null,{"$f":"IF(SUM($J$29:$J$30)>0,$E36*$G36,0)","v":0},null,{"$f":"IF(SUM($P$29:$P$30)>0,$E36*$G36,0)","v":0},null,0,null,{"$f":"IF(SUM($J$29:$J$30)>0,$E36*$G36,0)","v":0},null,{"$f":"IF(SUM(V$29:V$30)>0,$E36*$G36,0)","v":0},null,{"$f":"IF(SUM(X$29:X$30)>0,$E36*$G36,0)","v":0},null,{"$f":"IF(SUM(Z$29:Z$30)>0,$E36*$G36,0)","v":0},null,{"$f":"IF(SUM($J$29:$J$30)>0,$E36*$G36,0)","v":0},null,{"$f":"IF(SUM($J$29:$J$30)>0,$E36*$G36,0)","v":0},null,{"$f":"IF(SUM($J$29:$J$30)>0,$E36*$G36,0)","v":0},null,{"$f":"IF(SUM($J$29:$J$30)>0,$E36*$G36,0)","v":0},null,{"$f":"IF(SUM($J$29:$J$30)>0,$E36*$G36,0)","v":0},null,{"$f":"IF(SUM($J$29:$J$30)>0,$E36*$G36,0)","v":0},null,{"$f":"IF(SUM($J$29:$J$30)>0,$E36*$G36,0)","v":0},null,{"$f":"IF(SUM($J$29:$J$30)>0,$E36*$G36,0)","v":0},null,{"$f":"IF(SUM($J$29:$J$30)>0,$E36*$G36,0)","v":0},null,{"$f":"IF(SUM($J$29:$J$30)>0,$E36*$G36,0)","v":0},null,{"$f":"IF(SUM($J$29:$J$30)>0,$E36*$G36,0)","v":0},null,{"$f":"IF(SUM($J$29:$J$30)>0,$E36*$G36,0)","v":0},null,{"$f":"IF(SUM($J$29:$J$30)>0,$E36*$G36,0)","v":0},null,{"$f":"IF(SUM($J$29:$J$30)>0,$E36*$G36,0)","v":0},null,{"$f":"IF(SUM($J$29:$J$30)>0,$E36*$G36,0)","v":0},null,{"$f":"IF(SUM($J$29:$J$30)>0,$E36*$G36,0)","v":0},null,{"$f":"IF(SUM($J$29:$J$30)>0,$E36*$G36,0)","v":0},null,{"$f":"IF(SUM($J$29:$J$30)>0,$E36*$G36,0)","v":0},null,{"$f":"IF(SUM($J$29:$J$30)>0,$E36*$G36,0)","v":0},null,{"$f":"IF(SUM($J$29:$J$30)>0,$E36*$G36,0)","v":0},null,{"$f":"IF(SUM($J$29:$J$30)>0,$E36*$G36,0)","v":0},null,{"$f":"IF(SUM($J$29:$J$30)>0,$E36*$G36,0)","v":0},null,{"$f":"IF(SUM($J$29:$J$30)>0,$E36*$G36,0)","v":0},null,{"$f":"IF(SUM($J$29:$J$30)>0,$E36*$G36,0)","v":0},null,{"$f":"IF(SUM($J$29:$J$30)>0,$E36*$G36,0)","v":0},null,{"$f":"IF(SUM($J$29:$J$30)>0,$E36*$G36,0)","v":0},null,{"$f":"IF(SUM($J$29:$J$30)>0,$E36*$G36,0)","v":0},null,{"$f":"IF(SUM($J$29:$J$30)>0,$E36*$G36,0)","v":0},null,{"$f":"IF(SUM($J$29:$J$30)>0,$E36*$G36,0)","v":0},null,{"$f":"IF(SUM($J$29:$J$30)>0,$E36*$G36,0)","v":0},null,{"$f":"IF(SUM($J$29:$J$30)>0,$E36*$G36,0)","v":0},null,{"$f":"IF(SUM($J$29:$J$30)>0,$E36*$G36,0)","v":0},null,{"$f":"IF(SUM($J$29:$J$30)>0,$E36*$G36,0)","v":0},null,{"$f":"IF(SUM($J$29:$J$30)>0,$E36*$G36,0)","v":0},null,{"$f":"IF(SUM($J$29:$J$30)>0,$E36*$G36,0)","v":0},null,{"$f":"IF(SUM($J$29:$J$30)>0,$E36*$G36,0)","v":0},null,{"$f":"IF(SUM($J$29:$J$30)>0,$E36*$G36,0)","v":0},null,{"$f":"IF(SUM($J$29:$J$30)>0,$E36*$G36,0)","v":0},null,{"$f":"IF(SUM($J$29:$J$30)>0,$E36*$G36,0)","v":0},null,{"$f":"IF(SUM($J$29:$J$30)>0,$E36*$G36,0)","v":0},null,{"$f":"IF(SUM($J$29:$J$30)>0,$E36*$G36,0)","v":0},null,{"$f":"IF(SUM($J$29:$J$30)>0,$E36*$G36,0)","v":0},null,{"$f":"IF(SUM($J$29:$J$30)>0,$E36*$G36,0)","v":0},null,{"$f":"IF(SUM($J$29:$J$30)>0,$E36*$G36,0)","v":0},null,{"$f":"IF(SUM($J$29:$J$30)>0,$E36*$G36,0)","v":0},null,{"$f":"IF(SUM($J$29:$J$30)>0,$E36*$G36,0)","v":0},null,{"$f":"IF(SUM($J$29:$J$30)>0,$E36*$G36,0)","v":0},null,{"$f":"IF(SUM($J$29:$J$30)>0,$E36*$G36,0)","v":0},null,{"$f":"IF(SUM($J$29:$J$30)>0,$E36*$G36,0)","v":0},null,{"$f":"IF(SUM($J$29:$J$30)>0,$E36*$G36,0)","v":0},null,{"$f":"IF(SUM($J$29:$J$30)>0,$E36*$G36,0)","v":0}]
[null,null,null,null,null,null,null,null,null,null,{"$f":"IF(SUM(J$8:J$11)>0,$E37*$G37,0)","v":0},null,{"$f":"IF(SUM(L$29:L$30)>0,$E37*$G37,0)","v":0},null,{"$f":"IF(SUM($J$29:$J$30)>0,$E37*$G37,0)","v":0},null,0,null,0,null,{"$f":"IF(SUM($J$29:$J$30)>0,$E37*$G37,0)","v":0},null,{"$f":"IF(SUM(V$29:V$30)>0,$E37*$G37,0)","v":0},null,{"$f":"IF(SUM(X$8:X$11)>0,$E37*$G37,0)","v":0},null,{"$f":"IF(SUM(Z$8:Z$11)>0,$E37*$G37,0)","v":0},null,{"$f":"IF(SUM(AB$8:AB$11)>0,$E37*$G37,0)","v":0},null,{"$f":"IF(SUM(AD$8:AD$11)>0,$E37*$G37,0)","v":0},null,{"$f":"IF(SUM(AF$8:AF$11)>0,$E37*$G37,0)","v":0},null,{"$f":"IF(SUM(AH$8:AH$11)>0,$E37*$G37,0)","v":0},null,{"$f":"IF(SUM(AJ$8:AJ$11)>0,$E37*$G37,0)","v":0},null,{"$f":"IF(SUM(AL$8:AL$11)>0,$E37*$G37,0)","v":0},null,{"$f":"IF(SUM(AN$8:AN$11)>0,$E37*$G37,0)","v":0},null,{"$f":"IF(SUM(AP$8:AP$11)>0,$E37*$G37,0)","v":0},null,{"$f":"IF(SUM(AR$8:AR$11)>0,$E37*$G37,0)","v":0},null,{"$f":"IF(SUM(AT$8:AT$11)>0,$E37*$G37,0)","v":0},null,{"$f":"IF(SUM(AV$8:AV$11)>0,$E37*$G37,0)","v":0},null,{"$f":"IF(SUM(AX$8:AX$11)>0,$E37*$G37,0)","v":0},null,{"$f":"IF(SUM(AZ$8:AZ$11)>0,$E37*$G37,0)","v":0},null,{"$f":"IF(SUM(BB$8:BB$11)>0,$E37*$G37,0)","v":0},null,{"$f":"IF(SUM(BD$8:BD$11)>0,$E37*$G37,0)","v":0},null,{"$f":"IF(SUM(BF$8:BF$11)>0,$E37*$G37,0)","v":0},null,{"$f":"IF(SUM(BH$8:BH$11)>0,$E37*$G37,0)","v":0},null,{"$f":"IF(SUM(BJ$8:BJ$11)>0,$E37*$G37,0)","v":0},null,{"$f":"IF(SUM(BL$8:BL$11)>0,$E37*$G37,0)","v":0},null,{"$f":"IF(SUM(BN$8:BN$11)>0,$E37*$G37,0)","v":0},null,{"$f":"IF(SUM(BP$8:BP$11)>0,$E37*$G37,0)","v":0},null,{"$f":"IF(SUM(BR$8:BR$11)>0,$E37*$G37,0)","v":0},null,{"$f":"IF(SUM(BT$8:BT$11)>0,$E37*$G37,0)","v":0},null,{"$f":"IF(SUM(BV$8:BV$11)>0,$E37*$G37,0)","v":0},null,{"$f":"IF(SUM(BX$8:BX$11)>0,$E37*$G37,0)","v":0},null,{"$f":"IF(SUM(BZ$8:BZ$11)>0,$E37*$G37,0)","v":0},null,{"$f":"IF(SUM(CB$8:CB$11)>0,$E37*$G37,0)","v":0},null,{"$f":"IF(SUM(CD$8:CD$11)>0,$E37*$G37,0)","v":0},null,{"$f":"IF(SUM(CF$8:CF$11)>0,$E37*$G37,0)","v":0},null,{"$f":"IF(SUM(CH$8:CH$11)>0,$E37*$G37,0)","v":0},null,{"$f":"IF(SUM(CJ$8:CJ$11)>0,$E37*$G37,0)","v":0},null,{"$f":"IF(SUM(CL$8:CL$11)>0,$E37*$G37,0)","v":0},null,{"$f":"IF(SUM(CN$8:CN$11)>0,$E37*$G37,0)","v":0},null,{"$f":"IF(SUM(CP$8:CP$11)>0,$E37*$G37,0)","v":0},null,{"$f":"IF(SUM(CR$8:CR$11)>0,$E37*$G37,0)","v":0},null,{"$f":"IF(SUM(CT$8:CT$11)>0,$E37*$G37,0)","v":0},null,{"$f":"IF(SUM(CV$8:CV$11)>0,$E37*$G37,0)","v":0},null,{"$f":"IF(SUM(CX$8:CX$11)>0,$E37*$G37,0)","v":0},null,{"$f":"IF(SUM(CZ$8:CZ$11)>0,$E37*$G37,0)","v":0},null,{"$f":"IF(SUM(DB$8:DB$11)>0,$E37*$G37,0)","v":0},null,{"$f":"IF(SUM(DD$8:DD$11)>0,$E37*$G37,0)","v":0},null,{"$f":"IF(SUM(DF$8:DF$11)>0,$E37*$G37,0)","v":0},null,{"$f":"IF(SUM(DH$8:DH$11)>0,$E37*$G37,0)","v":0},null,{"$f":"IF(SUM(DJ$8:DJ$11)>0,$E37*$G37,0)","v":0},null,{"$f":"IF(SUM(DL$8:DL$11)>0,$E37*$G37,0)","v":0},null,{"$f":"IF(SUM(DN$8:DN$11)>0,$E37*$G37,0)","v":0},null,{"$f":"IF(SUM(DP$8:DP$11)>0,$E37*$G37,0)","v":0},null,{"$f":"IF(SUM(DR$8:DR$11)>0,$E37*$G37,0)","v":0},null,{"$f":"IF(SUM(DT$8:DT$11)>0,$E37*$G37,0)","v":0},null,{"$f":"IF(SUM(DV$8:DV$11)>0,$E37*$G37,0)","v":0},null,{"$f":"IF(SUM(DX$8:DX$11)>0,$E37*$G37,0)","v":0}]
[null,null,null,null,null,null,null,null,null,null,0,null,0,null,0,null,0,null,0,null,0,null,0,null,0,null,0,null,0,null,0,null,0,null,0,null,0,null,0,null,0,null,0,null,0,null,0,null,0,null,0,null,0,null,0,null,0,null,0,null,0,null,0,null,0,null,0,null,0,null,0,null,0,null,0,null,0,null,0,null,0,null,0,null,0,null,0,null,0,null,0,null,0,null,0,null,0,null,0,null,0,null,0,null,0,null,0,null,0,null,0,null,0,null,0,null,0,null,0,null,0,null,0,null,0,null,0,null,0]
[null,null,null,null,null,null,null,null,null,null,0,null,0,null,0,null,0,null,0,null,0,null,0,null,0,null,0,null,0,null,0,null,0,null,0,null,0,null,0,null,0,null,0,null,0,null,0,null,0,null,0,null,0,null,0,null,0,null,0,null,0,null,0,null,0,null,0,null,0,null,0,null,0,null,0,null,0,null,0,null,0,null,0,null,0,null,0,null,0,null,0,null,0,null,0,null,0,null,0,null,0,null,0,null,0,null,0,null,0,null,0,null,0,null,0,null,0,null,0,null,0,null,0,null,0,null,0,null,0]
[null,null,null,null,null,null,null,null,null,null,0,null,0,null,0,null,0,null,0,null,0,null,0,null,0,null,0,null,0,null,0,null,0,null,0,null,0,null,0,null,0,null,0,null,0,null,0,null,0,null,0,null,0,null,0,null,0,null,0,null,0,null,0,null,0,null,0,null,0,null,0,null,0,null,0,null,0,null,0,null,0,null,0,null,0,null,0,null,0,null,0,null,0,null,0,null,0,null,0,null,0,null,0,null,0,null,0,null,0,null,0,null,0,null,0,null,0,null,0,null,0,null,0,null,0,null,0,null,0]
[null,null,null,null,null,null,null,null,null,null,0,null,0,null,0,null,0,null,0,null,0,null,0,null,0,null,0,null,0,null,0,null,0,null,0,null,0,null,0,null,0,null,0,null,0,null,0,null,0,null,0,null,0,null,0,null,0,null,0,null,0,null,0,null,0,null,0,null,0,null,0,null,0,null,0,null,0,null,0,null,0,null,0,null,0,null,0,null,0,null,0,null,0,null,0,null,0,null,0,null,0,null,0,null,0,null,0,null,0,null,0,null,0,null,0,null,0,null,0,null,0,null,0,null,0,null,0,null,0]
[null,null,null,null,null,null,null,null,null,null,0,null,0,null,0,null,0,null,0,null,0,null,0,null,0,null,0,null,0,null,0,null,0,null,0,null,0,null,0,null,0,null,0,null,0,null,0,null,0,null,0,null,0,null,0,null,0,null,0,null,0,null,0,null,0,null,0,null,0,null,0,null,0,null,0,null,0,null,0,null,0,null,0,null,0,null,0,null,0,null,0,null,0,null,0,null,0,null,0,null,0,null,0,null,0,null,0,null,0,null,0,null,0,null,0,null,0,null,0,null,0,null,0,null,0,null,0,null,0]
[null,null,null,null,null,null,null,null,null,null,0,null,0,null,0,null,0,null,0,null,0,null,0,null,0,null,0,null,0,null,0,null,0,null,0,null,0,null,0,null,0,null,0,null,0,null,0,null,0,null,0,null,0,null,0,null,0,null,0,null,0,null,0,null,0,null,0,null,0,null,0,null,0,null,0,null,0,null,0,null,0,null,0,null,0,null,0,null,0,null,0,null,0,null,0,null,0,null,0,null,0,null,0,null,0,null,0,null,0,null,0,null,0,null,0,null,0,null,0,null,0,null,0,null,0,null,0,null,0]
[null,null,null,null,null,null,null,null,null,null,0,null,0,null,0,null,0,null,0,null,0,null,0,null,0,null,0,null,0,null,0,null,0,null,0,null,0,null,0,null,0,null,0,null,0,null,0,null,0,null,0,null,0,null,0,null,0,null,0,null,0,null,0,null,0,null,0,null,0,null,0,null,0,null,0,null,0,null,0,null,0,null,0,null,0,null,0,null,0,null,0,null,0,null,0,null,0,null,0,null,0,null,0,null,0,null,0,null,0,null,0,null,0,null,0,null,0,null,0,null,0,null,0,null,0,null,0,null,0]
[null,null,null,null,null,null,null,null,null,null,{"$f":"IF(SUM(J$29:J$30)>0,$E45*$G45,0)","v":0},null,0,null,0,null,0,null,0,null,0,null,0,null,{"$f":"IF(SUM(X$29:X$30)>0,$E45*$G45,0)","v":0},null,{"$f":"IF(SUM(Z$29:Z$30)>0,$E45*$G45,0)","v":0},null,{"$f":"IF(SUM($J$29:$J$30)>0,$E45*$G45,0)","v":0},null,{"$f":"IF(SUM($J$29:$J$30)>0,$E45*$G45,0)","v":0},null,{"$f":"IF(SUM($J$29:$J$30)>0,$E45*$G45,0)","v":0},null,{"$f":"IF(SUM($J$29:$J$30)>0,$E45*$G45,0)","v":0},null,{"$f":"IF(SUM($J$29:$J$30)>0,$E45*$G45,0)","v":0},null,{"$f":"IF(SUM($J$29:$J$30)>0,$E45*$G45,0)","v":0},null,{"$f":"IF(SUM($J$29:$J$30)>0,$E45*$G45,0)","v":0},null,{"$f":"IF(SUM($J$29:$J$30)>0,$E45*$G45,0)","v":0},null,{"$f":"IF(SUM($J$29:$J$30)>0,$E45*$G45,0)","v":0},null,{"$f":"IF(SUM($J$29:$J$30)>0,$E45*$G45,0)","v":0},null,{"$f":"IF(SUM($J$29:$J$30)>0,$E45*$G45,0)","v":0},null,{"$f":"IF(SUM($J$29:$J$30)>0,$E45*$G45,0)","v":0},null,{"$f":"IF(SUM($J$29:$J$30)>0,$E45*$G45,0)","v":0},null,{"$f":"IF(SUM($J$29:$J$30)>0,$E45*$G45,0)","v":0},null,{"$f":"IF(SUM($J$29:$J$30)>0,$E45*$G45,0)","v":0},null,{"$f":"IF(SUM($J$29:$J$30)>0,$E45*$G45,0)","v":0},null,{"$f":"IF(SUM($J$29:$J$30)>0,$E45*$G45,0)","v":0},null,{"$f":"IF(SUM($J$29:$J$30)>0,$E45*$G45,0)","v":0},null,{"$f":"IF(SUM($J$29:$J$30)>0,$E45*$G45,0)","v":0},null,{"$f":"IF(SUM($J$29:$J$30)>0,$E45*$G45,0)","v":0},null,{"$f":"IF(SUM($J$29:$J$30)>0,$E45*$G45,0)","v":0},null,{"$f":"IF(SUM($J$29:$J$30)>0,$E45*$G45,0)","v":0},null,{"$f":"IF(SUM($J$29:$J$30)>0,$E45*$G45,0)","v":0},null,{"$f":"IF(SUM($J$29:$J$30)>0,$E45*$G45,0)","v":0},null,{"$f":"IF(SUM($J$29:$J$30)>0,$E45*$G45,0)","v":0},null,{"$f":"IF(SUM($J$29:$J$30)>0,$E45*$G45,0)","v":0},null,{"$f":"IF(SUM($J$29:$J$30)>0,$E45*$G45,0)","v":0},null,{"$f":"IF(SUM($J$29:$J$30)>0,$E45*$G45,0)","v":0},null,{"$f":"IF(SUM($J$29:$J$30)>0,$E45*$G45,0)","v":0},null,{"$f":"IF(SUM($J$29:$J$30)>0,$E45*$G45,0)","v":0},null,{"$f":"IF(SUM($J$29:$J$30)>0,$E45*$G45,0)","v":0},null,{"$f":"IF(SUM($J$29:$J$30)>0,$E45*$G45,0)","v":0},null,{"$f":"IF(SUM($J$29:$J$30)>0,$E45*$G45,0)","v":0},null,{"$f":"IF(SUM($J$29:$J$30)>0,$E45*$G45,0)","v":0},null,{"$f":"IF(SUM($J$29:$J$30)>0,$E45*$G45,0)","v":0},null,{"$f":"IF(SUM($J$29:$J$30)>0,$E45*$G45,0)","v":0},null,{"$f":"IF(SUM($J$29:$J$30)>0,$E45*$G45,0)","v":0},null,{"$f":"IF(SUM($J$29:$J$30)>0,$E45*$G45,0)","v":0},null,{"$f":"IF(SUM($J$29:$J$30)>0,$E45*$G45,0)","v":0},null,{"$f":"IF(SUM($J$29:$J$30)>0,$E45*$G45,0)","v":0},null,{"$f":"IF(SUM($J$29:$J$30)>0,$E45*$G45,0)","v":0},null,{"$f":"IF(SUM($J$29:$J$30)>0,$E45*$G45,0)","v":0},null,{"$f":"IF(SUM($J$29:$J$30)>0,$E45*$G45,0)","v":0},null,{"$f":"IF(SUM($J$29:$J$30)>0,$E45*$G45,0)","v":0},null,{"$f":"IF(SUM($J$29:$J$30)>0,$E45*$G45,0)","v":0},null,{"$f":"IF(SUM($J$29:$J$30)>0,$E45*$G45,0)","v":0},null,{"$f":"IF(SUM($J$29:$J$30)>0,$E45*$G45,0)","v":0},null,{"$f":"IF(SUM($J$29:$J$30)>0,$E45*$G45,0)","v":0},null,{"$f":"IF(SUM($J$29:$J$30)>0,$E45*$G45,0)","v":0},null,{"$f":"IF(SUM($J$29:$J$30)>0,$E45*$G45,0)","v":0},null,{"$f":"IF(SUM($J$29:$J$30)>0,$E45*$G45,0)","v":0}]

{"sheet":"Equip Rel","index":24,"n_rows":112,"n_cols":136,"rows_kept":112,"cut":false,"hidden":true,"merged":[[1,1,1,3],[2,1,2,14]]}
[]
[]
[null,"EQUIPAMENTOS RELACIONADOS AO POSTO - PAGAMENTO DA DEPRECIAÇÃO / MANUTENÇÃO",null,null,null,null,null,null,null,null,null,null,null,null,null,null,1,null,{"$f":"Q3+1","v":2},null,{"$f":"S3+1","v":3},null,{"$f":"U3+1","v":4},null,{"$f":"W3+1","v":5},null,{"$f":"Y3+1","v":6},null,{"$f":"AA3+1","v":7},null,{"$f":"AC3+1","v":8},null,{"$f":"AE3+1","v":9},null,{"$f":"AG3+1","v":10},null,{"$f":"AI3+1","v":11},null,{"$f":"AK3+1","v":12},null,{"$f":"AM3+1","v":13},null,{"$f":"AO3+1","v":14},null,{"$f":"AQ3+1","v":15},null,{"$f":"AS3+1","v":16},null,{"$f":"AU3+1","v":17},null,{"$f":"AW3+1","v":18},null,{"$f":"AY3+1","v":19},null,{"$f":"BA3+1","v":20},null,{"$f":"BC3+1","v":21},null,{"$f":"BE3+1","v":22},null,{"$f":"BG3+1","v":23},null,{"$f":"BI3+1","v":24},null,{"$f":"BK3+1","v":25},null,{"$f":"BM3+1","v":26},null,{"$f":"BO3+1","v":27},null,{"$f":"BQ3+1","v":28},null,{"$f":"BS3+1","v":29},null,{"$f":"BU3+1","v":30},null,{"$f":"BW3+1","v":31},null,{"$f":"BY3+1","v":32},null,{"$f":"CA3+1","v":33},null,{"$f":"CC3+1","v":34},null,{"$f":"CE3+1","v":35},null,{"$f":"CG3+1","v":36},null,{"$f":"CI3+1","v":37},null,{"$f":"CK3+1","v":38},null,{"$f":"CM3+1","v":39},null,{"$f":"CO3+1","v":40},null,{"$f":"CQ3+1","v":41},null,{"$f":"CS3+1","v":42},null,{"$f":"CU3+1","v":43},null,{"$f":"CW3+1","v":44},null,{"$f":"CY3+1","v":45},null,{"$f":"DA3+1","v":46},null,{"$f":"DC3+1","v":47},null,{"$f":"DE3+1","v":48},null,{"$f":"DG3+1","v":49},null,{"$f":"DI3+1","v":50},null,{"$f":"DK3+1","v":51},null,{"$f":"DM3+1","v":52},null,{"$f":"DO3+1","v":53},null,{"$f":"DQ3+1","v":54},null,{"$f":"DS3+1","v":55},null,{"$f":"DU3+1","v":56},null,{"$f":"DW3+1","v":57},null,{"$f":"DY3+1","v":58},null,{"$f":"EA3+1","v":59},null,{"$f":"EC3+1","v":60}]
[]
[null,null,null,null,null,null,null,null,null,null,null,null,null,null,null,null,{"$f":"SUM(R4:R93)","v":0},null,{"$f":"SUM(T4:T93)","v":0},null,{"$f":"SUM(V4:V93)","v":0},null,{"$f":"SUM(X4:X93)","v":0},null,{"$f":"SUM(Z4:Z93)","v":0},null,{"$f":"SUM(AB4:AB93)","v":0},null,{"$f":"SUM(AD4:AD93)","v":0},null,{"$f":"SUM(AF4:AF93)","v":0},null,{"$f":"SUM(AH4:AH93)","v":0},null,{"$f":"SUM(AJ4:AJ93)","v":0},null,{"$f":"SUM(AL4:AL93)","v":0},null,{"$f":"SUM(AN4:AN93)","v":0},null,{"$f":"SUM(AP4:AP93)","v":0},null,{"$f":"SUM(AR4:AR93)","v":0},null,{"$f":"SUM(AT4:AT93)","v":0},null,{"$f":"SUM(AV4:AV93)","v":0},null,{"$f":"SUM(AX4:AX93)","v":0},null,{"$f":"SUM(AZ4:AZ93)","v":0},null,{"$f":"SUM(BB4:BB93)","v":0},null,{"$f":"SUM(BD4:BD93)","v":0},null,{"$f":"SUM(BF4:BF93)","v":0},null,{"$f":"SUM(BH4:BH93)","v":0},null,{"$f":"SUM(BJ4:BJ93)","v":0},null,{"$f":"SUM(BL4:BL93)","v":0},null,{"$f":"SUM(BN4:BN93)","v":0},null,{"$f":"SUM(BP4:BP93)","v":0},null,{"$f":"SUM(BR4:BR93)","v":0},null,{"$f":"SUM(BT4:BT93)","v":0},null,{"$f":"SUM(BV4:BV93)","v":0},null,{"$f":"SUM(BX4:BX93)","v":0},null,{"$f":"SUM(BZ4:BZ93)","v":0},null,{"$f":"SUM(CB4:CB93)","v":0},null,{"$f":"SUM(CD4:CD93)","v":0},null,{"$f":"SUM(CF4:CF93)","v":0},null,{"$f":"SUM(CH4:CH93)","v":0},null,{"$f":"SUM(CJ4:CJ93)","v":0},null,{"$f":"SUM(CL4:CL93)","v":0},null,{"$f":"SUM(CN4:CN93)","v":0},null,{"$f":"SUM(CP4:CP93)","v":0},null,{"$f":"SUM(CR4:CR93)","v":0},null,{"$f":"SUM(CT4:CT93)","v":0},null,{"$f":"SUM(CV4:CV93)","v":0},null,{"$f":"SUM(CX4:CX93)","v":0},null,{"$f":"SUM(CZ4:CZ93)","v":0},null,{"$f":"SUM(DB4:DB93)","v":0},null,{"$f":"SUM(DD4:DD93)","v":0},null,{"$f":"SUM(DF4:DF93)","v":0},null,{"$f":"SUM(DH4:DH93)","v":0},null,{"$f":"SUM(DJ4:DJ93)","v":0},null,{"$f":"SUM(DL4:DL93)","v":0},null,{"$f":"SUM(DN4:DN93)","v":0},null,{"$f":"SUM(DP4:DP93)","v":0},null,{"$f":"SUM(DR4:DR93)","v":0},null,{"$f":"SUM(DT4:DT93)","v":0},null,{"$f":"SUM(DV4:DV93)","v":0},null,{"$f":"SUM(DX4:DX93)","v":0},null,{"$f":"SUM(DZ4:DZ93)","v":0},null,{"$f":"SUM(EB4:EB93)","v":0},null,{"$f":"SUM(ED4:ED93)","v":0},null,{"$f":"SUM(EF4:EF93)","v":0}]
[null,null,"CATEGORIAS",null,"QUANTIDADE"]
[null,null,null,null,null,null,null,null,null,null,null,null,null,null,null,null,{"$f":"IF($C7=Q$3,1,0)","v":0},null,{"$f":"IF($C7=S$3,1,0)","v":0},null,{"$f":"IF($C7=U$3,1,0)","v":0},null,{"$f":"IF($C7=W$3,1,0)","v":0},null,{"$f":"IF($C7=Y$3,1,0)","v":0},null,{"$f":"IF($C7=AA$3,1,0)","v":0},null,{"$f":"IF($C7=AC$3,1,0)","v":0},null,{"$f":"IF($C7=AE$3,1,0)","v":0},null,{"$f":"IF($C7=AG$3,1,0)","v":0},null,{"$f":"IF($C7=AI$3,1,0)","v":0},null,{"$f":"IF($C7=AK$3,1,0)","v":0},null,{"$f":"IF($C7=AM$3,1,0)","v":0},null,{"$f":"IF($C7=AO$3,1,0)","v":0},null,{"$f":"IF($C7=AQ$3,1,0)","v":0},null,{"$f":"IF($C7=AS$3,1,0)","v":0},null,{"$f":"IF($C7=AU$3,1,0)","v":0},null,{"$f":"IF($C7=AW$3,1,0)","v":0},null,{"$f":"IF($C7=AY$3,1,0)","v":0},null,{"$f":"IF($C7=BA$3,1,0)","v":0},null,{"$f":"IF($C7=BC$3,1,0)","v":0},null,{"$f":"IF($C7=BE$3,1,0)","v":0},null,{"$f":"IF($C7=BG$3,1,0)","v":0},null,{"$f":"IF($C7=BI$3,1,0)","v":0},null,{"$f":"IF($C7=BK$3,1,0)","v":0},null,{"$f":"IF($C7=BM$3,1,0)","v":0},null,{"$f":"IF($C7=BO$3,1,0)","v":0},null,{"$f":"IF($C7=BQ$3,1,0)","v":0},null,{"$f":"IF($C7=BS$3,1,0)","v":0},null,{"$f":"IF($C7=BU$3,1,0)","v":0},null,{"$f":"IF($C7=BW$3,1,0)","v":0},null,{"$f":"IF($C7=BY$3,1,0)","v":0},null,{"$f":"IF($C7=CA$3,1,0)","v":0},null,{"$f":"IF($C7=CC$3,1,0)","v":0},null,{"$f":"IF($C7=CE$3,1,0)","v":0},null,{"$f":"IF($C7=CG$3,1,0)","v":0},null,{"$f":"IF($C7=CI$3,1,0)","v":0},null,{"$f":"IF($C7=CK$3,1,0)","v":0},null,{"$f":"IF($C7=CM$3,1,0)","v":0},null,{"$f":"IF($C7=CO$3,1,0)","v":0},null,{"$f":"IF($C7=CQ$3,1,0)","v":0},null,{"$f":"IF($C7=CS$3,1,0)","v":0},null,{"$f":"IF($C7=CU$3,1,0)","v":0},null,{"$f":"IF($C7=CW$3,1,0)","v":0},null,{"$f":"IF($C7=CY$3,1,0)","v":0},null,{"$f":"IF($C7=DA$3,1,0)","v":0},null,{"$f":"IF($C7=DC$3,1,0)","v":0},null,{"$f":"IF($C7=DE$3,1,0)","v":0},null,{"$f":"IF($C7=DG$3,1,0)","v":0},null,{"$f":"IF($C7=DI$3,1,0)","v":0},null,{"$f":"IF($C7=DK$3,1,0)","v":0},null,{"$f":"IF($C7=DM$3,1,0)","v":0},null,{"$f":"IF($C7=DO$3,1,0)","v":0},null,{"$f":"IF($C7=DQ$3,1,0)","v":0},null,{"$f":"IF($C7=DS$3,1,0)","v":0},null,{"$f":"IF($C7=DU$3,1,0)","v":0},null,{"$f":"IF($C7=DW$3,1,0)","v":0},null,{"$f":"IF($C7=DY$3,1,0)","v":0},null,{"$f":"IF($C7=EA$3,1,0)","v":0},null,{"$f":"IF($C7=EC$3,1,0)","v":0},null,{"$f":"IF($C7=EE$3,1,0)","v":0}]
[null,null,null,{"$f":"HLOOKUP($C8,'Dados Gerais'!$D$6:$BK$11,6)","v":{"$error":"#N/A"}},{"$f":"HLOOKUP($C8,'Dados Gerais'!$D$6:$BK$15,10)","v":{"$error":"#N/A"}},null,null,null,null,null,null,null,null,null,null,null,{"$f":"IF($C8=Q$3,1,0)","v":0},null,{"$f":"IF($C8=S$3,1,0)","v":0},null,{"$f":"IF($C8=U$3,1,0)","v":0},null,{"$f":"IF($C8=W$3,1,0)","v":0},null,{"$f":"IF($C8=Y$3,1,0)","v":0},null,{"$f":"IF($C8=AA$3,1,0)","v":0},null,{"$f":"IF($C8=AC$3,1,0)","v":0},null,{"$f":"IF($C8=AE$3,1,0)","v":0},null,{"$f":"IF($C8=AG$3,1,0)","v":0},null,{"$f":"IF($C8=AI$3,1,0)","v":0},null,{"$f":"IF($C8=AK$3,1,0)","v":0},null,{"$f":"IF($C8=AM$3,1,0)","v":0},null,{"$f":"IF($C8=AO$3,1,0)","v":0},null,{"$f":"IF($C8=AQ$3,1,0)","v":0},null,{"$f":"IF($C8=AS$3,1,0)","v":0},null,{"$f":"IF($C8=AU$3,1,0)","v":0},null,{"$f":"IF($C8=AW$3,1,0)","v":0},null,{"$f":"IF($C8=AY$3,1,0)","v":0},null,{"$f":"IF($C8=BA$3,1,0)","v":0},null,{"$f":"IF($C8=BC$3,1,0)","v":0},null,{"$f":"IF($C8=BE$3,1,0)","v":0},null,{"$f":"IF($C8=BG$3,1,0)","v":0},null,{"$f":"IF($C8=BI$3,1,0)","v":0},null,{"$f":"IF($C8=BK$3,1,0)","v":0},null,{"$f":"IF($C8=BM$3,1,0)","v":0},null,{"$f":"IF($C8=BO$3,1,0)","v":0},null,{"$f":"IF($C8=BQ$3,1,0)","v":0},null,{"$f":"IF($C8=BS$3,1,0)","v":0},null,{"$f":"IF($C8=BU$3,1,0)","v":0},null,{"$f":"IF($C8=BW$3,1,0)","v":0},null,{"$f":"IF($C8=BY$3,1,0)","v":0},null,{"$f":"IF($C8=CA$3,1,0)","v":0},null,{"$f":"IF($C8=CC$3,1,0)","v":0},null,{"$f":"IF($C8=CE$3,1,0)","v":0},null,{"$f":"IF($C8=CG$3,1,0)","v":0},null,{"$f":"IF($C8=CI$3,1,0)","v":0},null,{"$f":"IF($C8=CK$3,1,0)","v":0},null,{"$f":"IF($C8=CM$3,1,0)","v":0},null,{"$f":"IF($C8=CO$3,1,0)","v":0},null,{"$f":"IF($C8=CQ$3,1,0)","v":0},null,{"$f":"IF($C8=CS$3,1,0)","v":0},null,{"$f":"IF($C8=CU$3,1,0)","v":0},null,{"$f":"IF($C8=CW$3,1,0)","v":0},null,{"$f":"IF($C8=CY$3,1,0)","v":0},null,{"$f":"IF($C8=DA$3,1,0)","v":0},null,{"$f":"IF($C8=DC$3,1,0)","v":0},null,{"$f":"IF($C8=DE$3,1,0)","v":0},null,{"$f":"IF($C8=DG$3,1,0)","v":0},null,{"$f":"IF($C8=DI$3,1,0)","v":0},null,{"$f":"IF($C8=DK$3,1,0)","v":0},null,{"$f":"IF($C8=DM$3,1,0)","v":0},null,{"$f":"IF($C8=DO$3,1,0)","v":0},null,{"$f":"IF($C8=DQ$3,1,0)","v":0},null,{"$f":"IF($C8=DS$3,1,0)","v":0},null,{"$f":"IF($C8=DU$3,1,0)","v":0},null,{"$f":"IF($C8=DW$3,1,0)","v":0},null,{"$f":"IF($C8=DY$3,1,0)","v":0},null,{"$f":"IF($C8=EA$3,1,0)","v":0},null,{"$f":"IF($C8=EC$3,1,0)","v":0},null,{"$f":"IF($C8=EE$3,1,0)","v":0}]
[null,null,null,null,null,null,null,null,null,null,null,null,null,null,null,null,{"$f":"IF($C9=Q$3,1,0)","v":0},null,{"$f":"IF($C9=S$3,1,0)","v":0},null,{"$f":"IF($C9=U$3,1,0)","v":0},null,{"$f":"IF($C9=W$3,1,0)","v":0},null,{"$f":"IF($C9=Y$3,1,0)","v":0},null,{"$f":"IF($C9=AA$3,1,0)","v":0},null,{"$f":"IF($C9=AC$3,1,0)","v":0},null,{"$f":"IF($C9=AE$3,1,0)","v":0},null,{"$f":"IF($C9=AG$3,1,0)","v":0},null,{"$f":"IF($C9=AI$3,1,0)","v":0},null,{"$f":"IF($C9=AK$3,1,0)","v":0},null,{"$f":"IF($C9=AM$3,1,0)","v":0},null,{"$f":"IF($C9=AO$3,1,0)","v":0},null,{"$f":"IF($C9=AQ$3,1,0)","v":0},null,{"$f":"IF($C9=AS$3,1,0)","v":0},null,{"$f":"IF($C9=AU$3,1,0)","v":0},null,{"$f":"IF($C9=AW$3,1,0)","v":0},null,{"$f":"IF($C9=AY$3,1,0)","v":0},null,{"$f":"IF($C9=BA$3,1,0)","v":0},null,{"$f":"IF($C9=BC$3,1,0)","v":0},null,{"$f":"IF($C9=BE$3,1,0)","v":0},null,{"$f":"IF($C9=BG$3,1,0)","v":0},null,{"$f":"IF($C9=BI$3,1,0)","v":0},null,{"$f":"IF($C9=BK$3,1,0)","v":0},null,{"$f":"IF($C9=BM$3,1,0)","v":0},null,{"$f":"IF($C9=BO$3,1,0)","v":0},null,{"$f":"IF($C9=BQ$3,1,0)","v":0},null,{"$f":"IF($C9=BS$3,1,0)","v":0},null,{"$f":"IF($C9=BU$3,1,0)","v":0},null,{"$f":"IF($C9=BW$3,1,0)","v":0},null,{"$f":"IF($C9=BY$3,1,0)","v":0},null,{"$f":"IF($C9=CA$3,1,0)","v":0},null,{"$f":"IF($C9=CC$3,1,0)","v":0},null,{"$f":"IF($C9=CE$3,1,0)","v":0},null,{"$f":"IF($C9=CG$3,1,0)","v":0},null,{"$f":"IF($C9=CI$3,1,0)","v":0},null,{"$f":"IF($C9=CK$3,1,0)","v":0},null,{"$f":"IF($C9=CM$3,1,0)","v":0},null,{"$f":"IF($C9=CO$3,1,0)","v":0},null,{"$f":"IF($C9=CQ$3,1,0)","v":0},null,{"$f":"IF($C9=CS$3,1,0)","v":0},null,{"$f":"IF($C9=CU$3,1,0)","v":0},null,{"$f":"IF($C9=CW$3,1,0)","v":0},null,{"$f":"IF($C9=CY$3,1,0)","v":0},null,{"$f":"IF($C9=DA$3,1,0)","v":0},null,{"$f":"IF($C9=DC$3,1,0)","v":0},null,{"$f":"IF($C9=DE$3,1,0)","v":0},null,{"$f":"IF($C9=DG$3,1,0)","v":0},null,{"$f":"IF($C9=DI$3,1,0)","v":0},null,{"$f":"IF($C9=DK$3,1,0)","v":0},null,{"$f":"IF($C9=DM$3,1,0)","v":0},null,{"$f":"IF($C9=DO$3,1,0)","v":0},null,{"$f":"IF($C9=DQ$3,1,0)","v":0},null,{"$f":"IF($C9=DS$3,1,0)","v":0},null,{"$f":"IF($C9=DU$3,1,0)","v":0},null,{"$f":"IF($C9=DW$3,1,0)","v":0},null,{"$f":"IF($C9=DY$3,1,0)","v":0},null,{"$f":"IF($C9=EA$3,1,0)","v":0},null,{"$f":"IF($C9=EC$3,1,0)","v":0},null,{"$f":"IF($C9=EE$3,1,0)","v":0}]
[]
[null,null,"PAGAMENTO DA DEPRECIAÇÃO"]
[null,null,"ITEM","DESCRIÇÃO","QUANT ANUAL","CONTA SIAFI","VALOR DE AQ.","% RESIDUAL","VIDA ÚTIL","DEP. MENSAL","CUSTO TOTAL","BDI (%)","PREÇO TOTAL","FONTE","REFERÊNCIA"]
[]
[null,null,null,null,null,null,null,null,null,{"$f":"G14*(1-H14)/(I14*12)","v":{"$error":"#DIV/0!"}},{"$f":"J14*E14","v":{"$error":"#DIV/0!"}},{"$f":"BDI!$E$26","v":0.20399999999999999},{"$f":"ROUND(K14*(1+L14),2)","v":{"$error":"#DIV/0!"}},"COTAÇÃO"]
[null,null,null,null,null,null,null,null,null,{"$f":"G15*(1-H15)/(I15*12)","v":{"$error":"#DIV/0!"}},{"$f":"J15*E15","v":{"$error":"#DIV/0!"}},{"$f":"BDI!$E$26","v":0.20399999999999999},{"$f":"ROUND(K15*(1+L15),2)","v":{"$error":"#DIV/0!"}},"COTAÇÃO"]
[null,null,null,null,null,null,null,null,null,{"$f":"G16*(1-H16)/(I16*12)","v":{"$error":"#DIV/0!"}},{"$f":"J16*E16","v":{"$error":"#DIV/0!"}},{"$f":"BDI!$E$26","v":0.20399999999999999},{"$f":"ROUND(K16*(1+L16),2)","v":{"$error":"#DIV/0!"}},"COTAÇÃO"]
[null,null,null,null,null,null,null,null,null,{"$f":"G17*(1-H17)/(I17*12)","v":{"$error":"#DIV/0!"}},{"$f":"J17*E17","v":{"$error":"#DIV/0!"}},{"$f":"BDI!$E$26","v":0.20399999999999999},{"$f":"ROUND(K17*(1+L17),2)","v":{"$error":"#DIV/0!"}},"COTAÇÃO"]
[null,null,null,null,null,null,null,null,null,{"$f":"G18*(1-H18)/(I18*12)","v":{"$error":"#DIV/0!"}},{"$f":"J18*E18","v":{"$error":"#DIV/0!"}},{"$f":"BDI!$E$26","v":0.20399999999999999},{"$f":"ROUND(K18*(1+L18),2)","v":{"$error":"#DIV/0!"}},"COTAÇÃO"]
[]
[]
[null,null,"CATEGORIAS",null,"QUANTIDADE"]
[null,null,null,null,null,null,null,null,null,null,null,null,null,null,null,null,{"$f":"IF($C22=Q$3,1,0)","v":0},null,{"$f":"IF($C22=S$3,1,0)","v":0},null,{"$f":"IF($C22=U$3,1,0)","v":0},null,{"$f":"IF($C22=W$3,1,0)","v":0},null,{"$f":"IF($C22=Y$3,1,0)","v":0},null,{"$f":"IF($C22=AA$3,1,0)","v":0},null,{"$f":"IF($C22=AC$3,1,0)","v":0},null,{"$f":"IF($C22=AE$3,1,0)","v":0},null,{"$f":"IF($C22=AG$3,1,0)","v":0},null,{"$f":"IF($C22=AI$3,1,0)","v":0},null,{"$f":"IF($C22=AK$3,1,0)","v":0},null,{"$f":"IF($C22=AM$3,1,0)","v":0},null,{"$f":"IF($C22=AO$3,1,0)","v":0},null,{"$f":"IF($C22=AQ$3,1,0)","v":0},null,{"$f":"IF($C22=AS$3,1,0)","v":0},null,{"$f":"IF($C22=AU$3,1,0)","v":0},null,{"$f":"IF($C22=AW$3,1,0)","v":0},null,{"$f":"IF($C22=AY$3,1,0)","v":0},null,{"$f":"IF($C22=BA$3,1,0)","v":0},null,{"$f":"IF($C22=BC$3,1,0)","v":0},null,{"$f":"IF($C22=BE$3,1,0)","v":0},null,{"$f":"IF($C22=BG$3,1,0)","v":0},null,{"$f":"IF($C22=BI$3,1,0)","v":0},null,{"$f":"IF($C22=BK$3,1,0)","v":0},null,{"$f":"IF($C22=BM$3,1,0)","v":0},null,{"$f":"IF($C22=BO$3,1,0)","v":0},null,{"$f":"IF($C22=BQ$3,1,0)","v":0},null,{"$f":"IF($C22=BS$3,1,0)","v":0},null,{"$f":"IF($C22=BU$3,1,0)","v":0},null,{"$f":"IF($C22=BW$3,1,0)","v":0},null,{"$f":"IF($C22=BY$3,1,0)","v":0},null,{"$f":"IF($C22=CA$3,1,0)","v":0},null,{"$f":"IF($C22=CC$3,1,0)","v":0},null,{"$f":"IF($C22=CE$3,1,0)","v":0},null,{"$f":"IF($C22=CG$3,1,0)","v":0},null,{"$f":"IF($C22=CI$3,1,0)","v":0},null,{"$f":"IF($C22=CK$3,1,0)","v":0},null,{"$f":"IF($C22=CM$3,1,0)","v":0},null,{"$f":"IF($C22=CO$3,1,0)","v":0},null,{"$f":"IF($C22=CQ$3,1,0)","v":0},null,{"$f":"IF($C22=CS$3,1,0)","v":0},null,{"$f":"IF($C22=CU$3,1,0)","v":0},null,{"$f":"IF($C22=CW$3,1,0)","v":0},null,{"$f":"IF($C22=CY$3,1,0)","v":0},null,{"$f":"IF($C22=DA$3,1,0)","v":0},null,{"$f":"IF($C22=DC$3,1,0)","v":0},null,{"$f":"IF($C22=DE$3,1,0)","v":0},null,{"$f":"IF($C22=DG$3,1,0)","v":0},null,{"$f":"IF($C22=DI$3,1,0)","v":0},null,{"$f":"IF($C22=DK$3,1,0)","v":0},null,{"$f":"IF($C22=DM$3,1,0)","v":0},null,{"$f":"IF($C22=DO$3,1,0)","v":0},null,{"$f":"IF($C22=DQ$3,1,0)","v":0},null,{"$f":"IF($C22=DS$3,1,0)","v":0},null,{"$f":"IF($C22=DU$3,1,0)","v":0},null,{"$f":"IF($C22=DW$3,1,0)","v":0},null,{"$f":"IF($C22=DY$3,1,0)","v":0},null,{"$f":"IF($C22=EA$3,1,0)","v":0},null,{"$f":"IF($C22=EC$3,1,0)","v":0},null,{"$f":"IF($C22=EE$3,1,0)","v":0}]
[null,null,null,{"$f":"HLOOKUP($C23,'Dados Gerais'!$D$6:$BK$11,6)","v":{"$error":"#N/A"}},{"$f":"HLOOKUP($C23,'Dados Gerais'!$D$6:$BK$15,10)","v":{"$error":"#N/A"}},null,null,null,null,null,null,null,null,null,null,null,0,null,0,null,0,null,0,null,0,null,0,null,0,null,0,null,0,null,0,null,0,null,0,null,0,null,0,null,0,null,0,null,0,null,0,null,0,null,0,null,0,null,0,null,0,null,0,null,0,null,0,null,0,null,0,null,0,null,0,null,0,null,0,null,0,null,0,null,0,null,0,null,0,null,0,null,0,null,0,null,0,null,0,null,0,null,0,null,0,null,0,null,0,null,0,null,0,null,0,null,0,null,0,null,0,null,0,null,0,null,0,null,0,null,0,null,0,null,0]
[null,null,null,{"$f":"HLOOKUP($C24,'Dados Gerais'!$D$6:$BK$11,6)","v":{"$error":"#N/A"}},{"$f":"HLOOKUP($C24,'Dados Gerais'!$D$6:$BK$15,10)","v":{"$error":"#N/A"}},null,null,null,null,null,null,null,null,null,null,null,0,null,0,null,0,null,0,null,0,null,0,null,0,null,0,null,0,null,0,null,0,null,0,null,0,null,0,null,0,null,0,null,0,null,0,null,0,null,0,null,0,null,0,null,0,null,0,null,0,null,0,null,0,null,0,null,0,null,0,null,0,null,0,null,0,null,0,null,0,null,0,null,0,null,0,null,0,null,0,null,0,null,0,null,0,null,0,null,0,null,0,null,0,null,0,null,0,null,0,null,0,null,0,null,0,null,0,null,0,null,0,null,0,null,0,null,0,null,0]
[null,null,null,{"$f":"HLOOKUP($C25,'Dados Gerais'!$D$6:$BK$11,6)","v":{"$error":"#N/A"}},{"$f":"HLOOKUP($C25,'Dados Gerais'!$D$6:$BK$15,10)","v":{"$error":"#N/A"}},null,null,null,null,null,null,null,null,null,null,null,0,null,0,null,0,null,0,null,0,null,0,null,0,null,0,null,0,null,0,null,0,null,0,null,0,null,0,null,0,null,0,null,0,null,0,null,0,null,0,null,0,null,0,null,0,null,0,null,0,null,0,null,0,null,0,null,0,null,0,null,0,null,0,null,0,null,0,null,0,null,0,null,0,null,0,null,0,null,0,null,0,null,0,null,0,null,0,null,0,null,0,null,0,null,0,null,0,null,0,null,0,null,0,null,0,null,0,null,0,null,0,null,0,null,0,null,0,null,0]
[null,null,null,{"$f":"HLOOKUP($C26,'Dados Gerais'!$D$6:$BK$11,6)","v":{"$error":"#N/A"}},{"$f":"HLOOKUP($C26,'Dados Gerais'!$D$6:$BK$15,10)","v":{"$error":"#N/A"}},null,null,null,null,null,null,null,null,null,null,null,0,null,0,null,0,null,0,null,0,null,0,null,0,null,0,null,0,null,0,null,0,null,0,null,0,null,0,null,0,null,0,null,0,null,0,null,0,null,0,null,0,null,0,null,0,null,0,null,0,null,0,null,0,null,0,null,0,null,0,null,0,null,0,null,0,null,0,null,0,null,0,null,0,null,0,null,0,null,0,null,0,null,0,null,0,null,0,null,0,null,0,null,0,null,0,null,0,null,0,null,0,null,0,null,0,null,0,null,0,null,0,null,0,null,0,null,0,null,0]
[null,null,null,null,null,null,null,null,null,null,null,null,null,null,null,null,0,null,0,null,0,null,0,null,0,null,0,null,0,null,0,null,0,null,0,null,0,null,0,null,0,null,0,null,0,null,0,null,0,null,0,null,0,null,0,null,0,null,0,null,0,null,0,null,0,null,0,null,0,null,0,null,0,null,0,null,0,null,0,null,0,null,0,null,0,null,0,null,0,null,0,null,0,null,0,null,0,null,0,null,0,null,0,null,0,null,0,null,0,null,0,null,0,null,0,null,0,null,0,null,0,null,0,null,0,null,0,null,0,null,0,null,0,null,0]
[]
[null,null,"PAGAMENTO DA DEPRECIAÇÃO"]
[null,null,"ITEM","DESCRIÇÃO","QUANT ANUAL","CONTA SIAFI","VALOR DE AQ.","% RESIDUAL","VIDA ÚTIL","DEP. MENSAL","CUSTO TOTAL","BDI (%)","PREÇO TOTAL","FONTE","REFERÊNCIA"]
[]
[null,null,null,null,null,null,null,null,null,{"$f":"G32*(1-H32)/(I32*12)","v":{"$error":"#DIV/0!"}},{"$f":"J32*E32","v":{"$error":"#DIV/0!"}},{"$f":"BDI!$E$26","v":0.20399999999999999},{"$f":"ROUND(K32*(1+L32),2)","v":{"$error":"#DIV/0!"}},"COTAÇÃO"]
[null,null,null,null,null,null,null,null,null,{"$f":"G33*(1-H33)/(I33*12)","v":{"$error":"#DIV/0!"}},{"$f":"J33*E33","v":{"$error":"#DIV/0!"}},{"$f":"BDI!$E$26","v":0.20399999999999999},{"$f":"ROUND(K33*(1+L33),2)","v":{"$error":"#DIV/0!"}},"COTAÇÃO"]
[null,null,null,null,null,null,null,null,null,{"$f":"G34*(1-H34)/(I34*12)","v":{"$error":"#DIV/0!"}},{"$f":"J34*E34","v":{"$error":"#DIV/0!"}},{"$f":"BDI!$E$26","v":0.20399999999999999},{"$f":"ROUND(K34*(1+L34),2)","v":{"$error":"#DIV/0!"}},"COTAÇÃO"]
[null,null,null,null,null,null,null,null,null,{"$f":"G35*(1-H35)/(I35*12)","v":{"$error":"#DIV/0!"}},{"$f":"J35*E35","v":{"$error":"#DIV/0!"}},{"$f":"BDI!$E$26","v":0.20399999999999999},{"$f":"ROUND(K35*(1+L35),2)","v":{"$error":"#DIV/0!"}},"COTAÇÃO"]
[null,null,null,null,null,null,null,null,null,{"$f":"G36*(1-H36)/(I36*12)","v":{"$error":"#DIV/0!"}},{"$f":"J36*E36","v":{"$error":"#DIV/0!"}},{"$f":"BDI!$E$26","v":0.20399999999999999},{"$f":"ROUND(K36*(1+L36),2)","v":{"$error":"#DIV/0!"}},"COTAÇÃO"]
[]
[]
[null,null,"CATEGORIAS",null,"QUANTIDADE"]
[null,null,null,null,null,null,null,null,null,null,null,null,null,null,null,null,{"$f":"IF($C40=Q$3,1,0)","v":0},null,{"$f":"IF($C40=S$3,1,0)","v":0},null,{"$f":"IF($C40=U$3,1,0)","v":0},null,{"$f":"IF($C40=W$3,1,0)","v":0},null,{"$f":"IF($C40=Y$3,1,0)","v":0},null,{"$f":"IF($C40=AA$3,1,0)","v":0},null,{"$f":"IF($C40=AC$3,1,0)","v":0},null,{"$f":"IF($C40=AE$3,1,0)","v":0},null,{"$f":"IF($C40=AG$3,1,0)","v":0},null,{"$f":"IF($C40=AI$3,1,0)","v":0},null,{"$f":"IF($C40=AK$3,1,0)","v":0},null,{"$f":"IF($C40=AM$3,1,0)","v":0},null,{"$f":"IF($C40=AO$3,1,0)","v":0},null,{"$f":"IF($C40=AQ$3,1,0)","v":0},null,{"$f":"IF($C40=AS$3,1,0)","v":0},null,{"$f":"IF($C40=AU$3,1,0)","v":0},null,{"$f":"IF($C40=AW$3,1,0)","v":0},null,{"$f":"IF($C40=AY$3,1,0)","v":0},null,{"$f":"IF($C40=BA$3,1,0)","v":0},null,{"$f":"IF($C40=BC$3,1,0)","v":0},null,{"$f":"IF($C40=BE$3,1,0)","v":0},null,{"$f":"IF($C40=BG$3,1,0)","v":0},null,{"$f":"IF($C40=BI$3,1,0)","v":0},null,{"$f":"IF($C40=BK$3,1,0)","v":0},null,{"$f":"IF($C40=BM$3,1,0)","v":0},null,{"$f":"IF($C40=BO$3,1,0)","v":0},null,{"$f":"IF($C40=BQ$3,1,0)","v":0},null,{"$f":"IF($C40=BS$3,1,0)","v":0},null,{"$f":"IF($C40=BU$3,1,0)","v":0},null,{"$f":"IF($C40=BW$3,1,0)","v":0},null,{"$f":"IF($C40=BY$3,1,0)","v":0},null,{"$f":"IF($C40=CA$3,1,0)","v":0},null,{"$f":"IF($C40=CC$3,1,0)","v":0},null,{"$f":"IF($C40=CE$3,1,0)","v":0},null,{"$f":"IF($C40=CG$3,1,0)","v":0},null,{"$f":"IF($C40=CI$3,1,0)","v":0},null,{"$f":"IF($C40=CK$3,1,0)","v":0},null,{"$f":"IF($C40=CM$3,1,0)","v":0},null,{"$f":"IF($C40=CO$3,1,0)","v":0},null,{"$f":"IF($C40=CQ$3,1,0)","v":0},null,{"$f":"IF($C40=CS$3,1,0)","v":0},null,{"$f":"IF($C40=CU$3,1,0)","v":0},null,{"$f":"IF($C40=CW$3,1,0)","v":0},null,{"$f":"IF($C40=CY$3,1,0)","v":0},null,{"$f":"IF($C40=DA$3,1,0)","v":0},null,{"$f":"IF($C40=DC$3,1,0)","v":0},null,{"$f":"IF($C40=DE$3,1,0)","v":0},null,{"$f":"IF($C40=DG$3,1,0)","v":0},null,{"$f":"IF($C40=DI$3,1,0)","v":0},null,{"$f":"IF($C40=DK$3,1,0)","v":0},null,{"$f":"IF($C40=DM$3,1,0)","v":0},null,{"$f":"IF($C40=DO$3,1,0)","v":0},null,{"$f":"IF($C40=DQ$3,1,0)","v":0},null,{"$f":"IF($C40=DS$3,1,0)","v":0},null,{"$f":"IF($C40=DU$3,1,0)","v":0},null,{"$f":"IF($C40=DW$3,1,0)","v":0},null,{"$f":"IF($C40=DY$3,1,0)","v":0},null,{"$f":"IF($C40=EA$3,1,0)","v":0},null,{"$f":"IF($C40=EC$3,1,0)","v":0},null,{"$f":"IF($C40=EE$3,1,0)","v":0}]
[null,null,null,{"$f":"HLOOKUP($C41,'Dados Gerais'!$D$6:$BK$11,6)","v":{"$error":"#N/A"}},{"$f":"HLOOKUP($C41,'Dados Gerais'!$D$6:$BK$15,10)","v":{"$error":"#N/A"}},null,null,null,null,null,null,null,null,null,null,null,0,null,0,null,0,null,0,null,0,null,0,null,0,null,0,null,0,null,0,null,0,null,0,null,0,null,0,null,0,null,0,null,0,null,0,null,0,null,0,null,0,null,0,null,0,null,0,null,0,null,0,null,0,null,0,null,0,null,0,null,0,null,0,null,0,null,0,null,0,null,0,null,0,null,0,null,0,null,0,null,0,null,0,null,0,null,0,null,0,null,0,null,0,null,0,null,0,null,0,null,0,null,0,null,0,null,0,null,0,null,0,null,0,null,0,null,0,null,0]
[null,null,null,{"$f":"HLOOKUP($C42,'Dados Gerais'!$D$6:$BK$11,6)","v":{"$error":"#N/A"}},{"$f":"HLOOKUP($C42,'Dados Gerais'!$D$6:$BK$15,10)","v":{"$error":"#N/A"}},null,null,null,null,null,null,null,null,null,null,null,0,null,0,null,0,null,0,null,0,null,0,null,0,null,0,null,0,null,0,null,0,null,0,null,0,null,0,null,0,null,0,null,0,null,0,null,0,null,0,null,0,null,0,null,0,null,0,null,0,null,0,null,0,null,0,null,0,null,0,null,0,null,0,null,0,null,0,null,0,null,0,null,0,null,0,null,0,null,0,null,0,null,0,null,0,null,0,null,0,null,0,null,0,null,0,null,0,null,0,null,0,null,0,null,0,null,0,null,0,null,0,null,0,null,0,null,0,null,0]
[null,null,null,{"$f":"HLOOKUP($C43,'Dados Gerais'!$D$6:$BK$11,6)","v":{"$error":"#N/A"}},{"$f":"HLOOKUP($C43,'Dados Gerais'!$D$6:$BK$15,10)","v":{"$error":"#N/A"}},null,null,null,null,null,null,null,null,null,null,null,0,null,0,null,0,null,0,null,0,null,0,null,0,null,0,null,0,null,0,null,0,null,0,null,0,null,0,null,0,null,0,null,0,null,0,null,0,null,0,null,0,null,0,null,0,null,0,null,0,null,0,null,0,null,0,null,0,null,0,null,0,null,0,null,0,null,0,null,0,null,0,null,0,null,0,null,0,null,0,null,0,null,0,null,0,null,0,null,0,null,0,null,0,null,0,null,0,null,0,null,0,null,0,null,0,null,0,null,0,null,0,null,0,null,0,null,0,null,0]
[null,null,null,{"$f":"HLOOKUP($C44,'Dados Gerais'!$D$6:$BK$11,6)","v":{"$error":"#N/A"}},{"$f":"HLOOKUP($C44,'Dados Gerais'!$D$6:$BK$15,10)","v":{"$error":"#N/A"}},null,null,null,null,null,null,null,null,null,null,null,0,null,0,null,0,null,0,null,0,null,0,null,0,null,0,null,0,null,0,null,0,null,0,null,0,null,0,null,0,null,0,null,0,null,0,null,0,null,0,null,0,null,0,null,0,null,0,null,0,null,0,null,0,null,0,null,0,null,0,null,0,null,0,null,0,null,0,null,0,null,0,null,0,null,0,null,0,null,0,null,0,null,0,null,0,null,0,null,0,null,0,null,0,null,0,null,0,null,0,null,0,null,0,null,0,null,0,null,0,null,0,null,0,null,0,null,0,null,0]
[null,null,null,null,null,null,null,null,null,null,null,null,null,null,null,null,0,null,0,null,0,null,0,null,0,null,0,null,0,null,0,null,0,null,0,null,0,null,0,null,0,null,0,null,0,null,0,null,0,null,0,null,0,null,0,null,0,null,0,null,0,null,0,null,0,null,0,null,0,null,0,null,0,null,0,null,0,null,0,null,0,null,0,null,0,null,0,null,0,null,0,null,0,null,0,null,0,null,0,null,0,null,0,null,0,null,0,null,0,null,0,null,0,null,0,null,0,null,0,null,0,null,0,null,0,null,0,null,0,null,0,null,0,null,0]
[]
[null,null,"PAGAMENTO DA DEPRECIAÇÃO"]
[null,null,"ITEM","DESCRIÇÃO","QUANT ANUAL","CONTA SIAFI","VALOR DE AQ.","% RESIDUAL","VIDA ÚTIL","DEP. MENSAL","CUSTO TOTAL","BDI (%)","PREÇO TOTAL","FONTE","REFERÊNCIA"]
[]
[null,null,null,null,null,null,null,null,null,{"$f":"G50*(1-H50)/(I50*12)","v":{"$error":"#DIV/0!"}},{"$f":"J50*E50","v":{"$error":"#DIV/0!"}},{"$f":"BDI!$E$26","v":0.20399999999999999},{"$f":"ROUND(K50*(1+L50),2)","v":{"$error":"#DIV/0!"}},"COTAÇÃO"]
[null,null,null,null,null,null,null,null,null,{"$f":"G51*(1-H51)/(I51*12)","v":{"$error":"#DIV/0!"}},{"$f":"J51*E51","v":{"$error":"#DIV/0!"}},{"$f":"BDI!$E$26","v":0.20399999999999999},{"$f":"ROUND(K51*(1+L51),2)","v":{"$error":"#DIV/0!"}},"COTAÇÃO"]
[null,null,null,null,null,null,null,null,null,{"$f":"G52*(1-H52)/(I52*12)","v":{"$error":"#DIV/0!"}},{"$f":"J52*E52","v":{"$error":"#DIV/0!"}},{"$f":"BDI!$E$26","v":0.20399999999999999},{"$f":"ROUND(K52*(1+L52),2)","v":{"$error":"#DIV/0!"}},"COTAÇÃO"]
[null,null,null,null,null,null,null,null,null,{"$f":"G53*(1-H53)/(I53*12)","v":{"$error":"#DIV/0!"}},{"$f":"J53*E53","v":{"$error":"#DIV/0!"}},{"$f":"BDI!$E$26","v":0.20399999999999999},{"$f":"ROUND(K53*(1+L53),2)","v":{"$error":"#DIV/0!"}},"COTAÇÃO"]
[null,null,null,null,null,null,null,null,null,{"$f":"G54*(1-H54)/(I54*12)","v":{"$error":"#DIV/0!"}},{"$f":"J54*E54","v":{"$error":"#DIV/0!"}},{"$f":"BDI!$E$26","v":0.20399999999999999},{"$f":"ROUND(K54*(1+L54),2)","v":{"$error":"#DIV/0!"}},"COTAÇÃO"]
[]
[]
[null,null,"PAGAMENTO DA MANUTENÇÃO"]
[null,null,"ITEM","DESCRIÇÃO",null,null,null,"K (calculado)","MENSAL DEPR.","% MAN X DEP","MENSAL MAN.","BDI (%)","PREÇO TOTAL"]
[]
[null,null,null,null,null,null,null,{"$f":"H67","v":0.23950080000000007},{"$f":"(K14:K18)+(K32:K36)+(K50:K54)","v":{"$error":"#VALUE!"}},{"$f":"H60","v":0.23950080000000007},{"$f":"I60*H60","v":{"$error":"#VALUE!"}},{"$f":"L14","v":0.20399999999999999},{"$f":"ROUND(K60*(1+L60),2)","v":{"$error":"#VALUE!"}}]
[]
[null,null,null,null,"K1","K2","K3","K4"]
[null,null,null,null,1,1,0.8,0.8]
[null,null,null,null,"K5","K6","K7","K8"]
[null,null,null,null,1,0.6,0.5,1.1000000000000001]
[null,null,null,null,"K9","K10","K11","RESULTADO"]
[null,null,null,"* a descrição de cada coeficiente segue abaixo",0.9,0.9,1.4,{"$f":"E63*F63*G63*H63*E65*F65*G65*H65*E67*F67*G67","v":0.23950080000000007}]
[]
[]
[null,null,"MATERIAL DE CONSUMO ASSOCIADO"]
[null,null,"ITEM","DESCRIÇÃO",null,null,null,"QUANTID/ANO","UNIDADE","VALOR DE AQ.","MENSAL MAT","BDI (%)","PREÇO TOTAL"]
[]
[null,null,null,null,null,null,null,null,null,null,{"$f":"J73*H73/12","v":0},{"$f":"L60","v":0.20399999999999999},{"$f":"ROUND(K73*(1+L73),2)","v":0}]
[]
[]
[null,null,"MATERIAL DE CONSUMO ASSOCIADO"]
[null,null,"ITEM","DESCRIÇÃO",null,null,null,null,null,null,null,null,"PREÇO TOTAL"]
[]
[null,null,1,"Componente DEPRECIAÇÃO - POR POSTO",null,null,null,null,null,null,null,null,{"$f":"M14","v":{"$error":"#DIV/0!"}}]
[null,null,2,"Componente MANUTENÇÃO - POR POSTO",null,null,null,null,null,null,null,null,{"$f":"M60","v":{"$error":"#VALUE!"}}]
[null,null,3,"Componente MATERIAL DE CONSUMO ASSOCIADO - POR POSTO",null,null,null,null,null,null,null,null,{"$f":"M73","v":0}]
[]
[null,null,null,null,null,null,null,null,null,null,null,"SOMATÓRIO TOTAL MENSAL - POR POSTO",{"$f":"SUM(M78:M82)","v":{"$error":"#DIV/0!"}},null,null,null,null,{"$f":"IF(SUM(Q$7:Q$9)>0,$M83,0)","v":0},null,{"$f":"IF(SUM(S$7:S$9)>0,$M83,0)","v":0},null,{"$f":"IF(SUM(U$7:U$9)>0,$M83,0)","v":0},null,{"$f":"IF(SUM(W$7:W$9)>0,$M83,0)","v":0},null,{"$f":"IF(SUM(Y$7:Y$9)>0,$M83,0)","v":0},null,{"$f":"IF(SUM(AA$7:AA$9)>0,$M83,0)","v":0},null,{"$f":"IF(SUM(AC$7:AC$9)>0,$M83,0)","v":0},null,{"$f":"IF(SUM(AE$7:AE$9)>0,$M83,0)","v":0},null,{"$f":"IF(SUM(AG$7:AG$9)>0,$M83,0)","v":0},null,{"$f":"IF(SUM(AI$7:AI$9)>0,$M83,0)","v":0},null,{"$f":"IF(SUM(AK$7:AK$9)>0,$M83,0)","v":0},null,{"$f":"IF(SUM(AM$7:AM$9)>0,$M83,0)","v":0},null,{"$f":"IF(SUM(AO$7:AO$9)>0,$M83,0)","v":0},null,{"$f":"IF(SUM(AQ$7:AQ$9)>0,$M83,0)","v":0},null,{"$f":"IF(SUM(AS$7:AS$9)>0,$M83,0)","v":0},null,{"$f":"IF(SUM(AU$7:AU$9)>0,$M83,0)","v":0},null,{"$f":"IF(SUM(AW$7:AW$9)>0,$M83,0)","v":0},null,{"$f":"IF(SUM(AY$7:AY$9)>0,$M83,0)","v":0},null,{"$f":"IF(SUM(BA$7:BA$9)>0,$M83,0)","v":0},null,{"$f":"IF(SUM(BC$7:BC$9)>0,$M83,0)","v":0},null,{"$f":"IF(SUM(BE$7:BE$9)>0,$M83,0)","v":0},null,{"$f":"IF(SUM(BG$7:BG$9)>0,$M83,0)","v":0},null,{"$f":"IF(SUM(BI$7:BI$9)>0,$M83,0)","v":0},null,{"$f":"IF(SUM(BK$7:BK$9)>0,$M83,0)","v":0},null,{"$f":"IF(SUM(BM$7:BM$9)>0,$M83,0)","v":0},null,{"$f":"IF(SUM(BO$7:BO$9)>0,$M83,0)","v":0},null,{"$f":"IF(SUM(BQ$7:BQ$9)>0,$M83,0)","v":0},null,{"$f":"IF(SUM(BS$7:BS$9)>0,$M83,0)","v":0},null,{"$f":"IF(SUM(BU$7:BU$9)>0,$M83,0)","v":0},null,{"$f":"IF(SUM(BW$7:BW$9)>0,$M83,0)","v":0},null,{"$f":"IF(SUM(BY$7:BY$9)>0,$M83,0)","v":0},null,{"$f":"IF(SUM(CA$7:CA$9)>0,$M83,0)","v":0},null,{"$f":"IF(SUM(CC$7:CC$9)>0,$M83,0)","v":0},null,{"$f":"IF(SUM(CE$7:CE$9)>0,$M83,0)","v":0},null,{"$f":"IF(SUM(CG$7:CG$9)>0,$M83,0)","v":0},null,{"$f":"IF(SUM(CI$7:CI$9)>0,$M83,0)","v":0},null,{"$f":"IF(SUM(CK$7:CK$9)>0,$M83,0)","v":0},null,{"$f":"IF(SUM(CM$7:CM$9)>0,$M83,0)","v":0},null,{"$f":"IF(SUM(CO$7:CO$9)>0,$M83,0)","v":0},null,{"$f":"IF(SUM(CQ$7:CQ$9)>0,$M83,0)","v":0},null,{"$f":"IF(SUM(CS$7:CS$9)>0,$M83,0)","v":0},null,{"$f":"IF(SUM(CU$7:CU$9)>0,$M83,0)","v":0},null,{"$f":"IF(SUM(CW$7:CW$9)>0,$M83,0)","v":0},null,{"$f":"IF(SUM(CY$7:CY$9)>0,$M83,0)","v":0},null,{"$f":"IF(SUM(DA$7:DA$9)>0,$M83,0)","v":0},null,{"$f":"IF(SUM(DC$7:DC$9)>0,$M83,0)","v":0},null,{"$f":"IF(SUM(DE$7:DE$9)>0,$M83,0)","v":0},null,{"$f":"IF(SUM(DG$7:DG$9)>0,$M83,0)","v":0},null,{"$f":"IF(SUM(DI$7:DI$9)>0,$M83,0)","v":0},null,{"$f":"IF(SUM(DK$7:DK$9)>0,$M83,0)","v":0},null,{"$f":"IF(SUM(DM$7:DM$9)>0,$M83,0)","v":0},null,{"$f":"IF(SUM(DO$7:DO$9)>0,$M83,0)","v":0},null,{"$f":"IF(SUM(DQ$7:DQ$9)>0,$M83,0)","v":0},null,{"$f":"IF(SUM(DS$7:DS$9)>0,$M83,0)","v":0},null,{"$f":"IF(SUM(DU$7:DU$9)>0,$M83,0)","v":0},null,{"$f":"IF(SUM(DW$7:DW$9)>0,$M83,0)","v":0},null,{"$f":"IF(SUM(DY$7:DY$9)>0,$M83,0)","v":0},null,{"$f":"IF(SUM(EA$7:EA$9)>0,$M83,0)","v":0},null,{"$f":"IF(SUM(EC$7:EC$9)>0,$M83,0)","v":0},null,{"$f":"IF(SUM(EE$7:EE$9)>0,$M83,0)","v":0}]
[null,null,null,null,null,null,null,null,null,null,null,"SOMATÓRIO TOTAL ANUAL - POR POSTO",{"$f":"M83*12","v":{"$error":"#DIV/0!"}}]
[]
[]
[null,null,"MATERIAL DE CONSUMO ASSOCIADO"]
[null,null,"MEMÓRIA DE CÁLCULO DO COEFICIENTE DE CORRELAÇÃO MANUTENÇÃO X DEPRECIAÇÃO (K)"]
[]
[null,null,"JUSTIFICATIVAS",null,"TIPO","K1",null,"Condições de Trab","K4",null,"Tempo Vida (anos)","K6",null,"Temperatura","K8"]
[null,null,null,null,"Guindaste",0.5,null,"Em espera",0.4,null,1,0.6,null,"Muito quente (> 40º C)",1.3]
[null,null,"K1","Arbitrado 1","Caminhão-comum",0.8,null,"Leves",0.8,null,2,0.7,null,"Quente (30º a 40º C)",1.1000000000000001]
[null,null,"K2","Considerado o operador médio","Fora-de-estrada",1,null,"Médias",1,null,3,0.8,null,"Médio (10º a 30º C)",1]
[null,null,"K3","Consideradas ferramentas de primeira qualidade","Carregadeira",1,null,"Pesadas",1.4,null,4,0.9,null,"Frio (< 10º C)",1.2]
[null,null,"K4","Consições leves","Escavadeira",1.4,null,"Severas",2,null,5,1]
[null,null,"K5","Considerando manutenção normal","Motoescrêiper",1.1000000000000001,null,null,null,null,6,1,null,"Ritmo de Trabalho","K9"]
[null,null,"K6","Equipamentos novos","Trator de esteira",1.2,null,"Manutenção","K5",null,7,1,null,"Folgado",0.9]
[null,null,"K7","220h por mês, 252 dias por ano",null,null,null,"Excelente",0.6,null,8,1.2,null,"Médio ",1]
[null,null,"K8","Clima quente, acima de 30º C","Qualid do Operador","K2",null,"Boa",0.8,null,9,1.3,null,"Com pressa",1.5]
[null,null,"K9","Ritmo de trabalho usualmente folgado","Excelente",0.8,null,"Média",1,null,10,1.4]
[null,null,"K10","Considerado o operador médio","Boa",0.9,null,"Ruim ",1.5,null,11,2,null,"Conh do Serviço","K10"]
[null,null,"K11","Foi considerada a opção de aluguel a terceiros, ainda que a simulação seja dos custos do contratado, contudo a execução dos serviços é em local de terceiros","Média",1,null,"Inexistente",3,null,15,2,null,"Grande ",0.8]
[null,null,null,null,"Ruim",1.2,null,null,null,null,null,null,null,"Médio     ",0.9]
[null,null,null,null,"Péssima",2,null,"Horas de Uso ","K7",6000,1,null,null,"Pouco ",1]
[null,null,null,null,null,null,null,1000,0.5,8000,1.3]
[null,null,null,null,"Qualidade do Equip","K3",null,2000,0.5,10000,1.6,null,null,"Tipo do Serviço","K11"]
[null,null,null,null,"De primeira",0.8,null,3000,0.6,12000,1.9,null,null,"Mina ou Pedreira",0.8]
[null,null,null,null,"Média",1,null,4000,0.7,15000,2.2999999999999998,null,null,"Construção Geral",1]
[null,null,null,null,"Ruim",1.5,null,5000,0.9,20000,3,null,null,"Aluguel a Terceiros",1.4]
[]
[null,null,null,null,"Fonte: "]
[null,null,null,null,"MATTOS, Aldo Dórea. Como preparar orçamentos de obras. São Paulo: Pini, 2006. 281 p., il"]

{"sheet":"Não Rel - EPI","index":25,"n_rows":20,"n_cols":15,"rows_kept":20,"cut":false,"hidden":false,"merged":[[2,1,2,4],[3,1,3,11]]}
[]
[]
[]
[null,"EPIS NÃO RELACIONADOS DIRETAMENTE A UM POSTO DE TRABALHO - AQUISIÇÃO"]
[]
[]
[null,null,null,"ITEM","DESCRIÇÃO","QUANT ANUAL","UNIDADE","CUSTO UNITÁRIO","CUSTO ANUAL","BDI (%)","PREÇO TOTAL","FONTE"]
[]
[null,null,null,1,"Capa de chuva confeccionada em tecido de náilon emborrachado, com uma face em poliamida e a outra em PVC, emendas através de costuras impermeabilizadas, fechamento frontal, com capuz fixo ajustado por cadarços com regulador e ponteiras em PVC, punhos ajustados com elástico, com faixa reflexiva de elevado brilho",212,"und",178.37,{"$f":"H9*F9","v":37814.44},{"$f":"BDI!E26","v":0.20399999999999999},{"$f":"ROUND(I9*(1+J9),2)","v":45528.59},"COTAÇÃO\n(Média aritmética)"]
[null,null,null,2,"Protetor auricular tipo plug em silicone, lavável com proteção de 18 dB(A) de atenuação pelo método NRRsf. Marca 3M ou similar.",100,"und",9.74,{"$f":"H10*F10","v":974},{"$f":"J9","v":0.20399999999999999},{"$f":"ROUND(I10*(1+J10),2)","v":1172.7},"COTAÇÃO\n(Média aritmética)"]
[null,null,null,3,"Óculos de segurança constituídos de armação e visor confeccionados em uma única peça de policarbonato CINZA, anti-risco, apoio nasal de plástico maleável. Hastes emborrachadas. Ref.: 3M Virtua V4",112,"und",17.43,{"$f":"H11*F11","v":1952.1599999999999},{"$f":"J10","v":0.20399999999999999},{"$f":"ROUND(I11*(1+J11),2)","v":2350.4},"COTAÇÃO\n(Média aritmética)"]
[null,null,null,4,"Bombonas de bloqueador solar com fator de proteção solar no mínimo de 30 UV (FPS 30).",12,"litros",96.08,1152.96,0.20399999999999999,1388.16,"COTAÇÃO\n(Média aritmética)"]
[null,null,null,5,"Colete balístico, tipo social, confeccionado em material leve e flexível de 100% Aramida Nível II-A, para proteção de tórax, costas, abdômen, de forma que no mínimo toda a área vital acima da cintura e abaixo do pescoço fique protegida e que atenda aos requisitos da Norma NIJ Standard 0101.04. Ref.: Blintec ou similar",60,"und",1845,110700,0.20399999999999999,133282.79999999999,"COTAÇÃO\n(Média aritmética)"]
[null,null,null,null,null,null,null,null,null,null,null,"COTAÇÃO\n(Média aritmética)"]
[null,null,null,null,null,null,null,null,null,null,null,"COTAÇÃO\n(Média aritmética)"]
[null,null,null,null,null,null,null,null,null,null,null,"COTAÇÃO\n(Média aritmética)"]
[null,null,null,null,null,null,null,null,null,null,null,"COTAÇÃO\n(Média aritmética)"]
[]
[null,null,null,null,null,null,null,null,null,"SOMATÓRIO TOTAL MENSAL",{"$f":"K20/12","v":15310.220833333333}]
[null,null,null,null,null,null,null,null,null,"SOMATÓRIO TOTAL ANUAL",{"$f":"SUM(K8:K18)","v":183722.65},null,null,{"$f":"SUM($I$9:$I$17)","v":152593.56},"por ano sem bdi"]

{"sheet":"Não Rel - Equip","index":26,"n_rows":99,"n_cols":15,"rows_kept":99,"cut":false,"hidden":false,"merged":[[2,1,2,3],[3,1,3,14]]}
[]
[]
[]
[null,"EQUIPAMENTOS NÃO RELACIONADOS DIRETAMENTE A UM POSTO DE TRABALHO - PAGAMENTO DA DEPRECIAÇÃO / MANUTENÇÃO"]
[]
[]
[null,null,"PAGAMENTO DA DEPRECIAÇÃO"]
[null,null,"ITEM","DESCRIÇÃO","QUANT ANUAL","CONTA SIAFI","VALOR DE AQ.","% RESIDUAL","VIDA ÚTIL","DEP. MENSAL","CUSTO TOTAL","BDI (%)","PREÇO TOTAL","FONTE","REFERÊNCIA"]
[]
[null,null,1,"Arma de fogo, tipo revólver, calibre .38 SPL, 6 tiros, ref. modelo 82S, marca Taurus, ou similar",65,"12311.09.00",8807.39,0.15,20,{"$f":"G10*(1-H10)/(I10*12)","v":31.192839583333331},{"$f":"J10*E10","v":2027.5345729166665},{"$f":"BDI!$E$26","v":0.20399999999999999},{"$f":"ROUND(K10*(1+L10),2)","v":2441.15},"COTAÇÃO\n(Média aritmética)"]
[null,null,{"$f":"C10+1","v":2},"Munição para arma de fogo, calibre .38 SPL",780,"12311.09.00",11.8,0.15,20,4.1791666666666671E-2,{"$f":"J11*E11","v":32.597500000000004},{"$f":"BDI!$E$26","v":0.20399999999999999},39.25,"COTAÇÃO\n(Média aritmética)"]
[null,null,{"$f":"C11+1","v":3},"Colete balístico, tipo social, confeccionado em material leve e flexível de 100% Aramida Nível II-A, para proteção de tórax, costas, abdômen, de forma que no mínimo toda a área vital acima da cintura e abaixo do pescoço fique protegida e que atenda aos requisitos da Norma NIJ Standard 0101.04",65,"12311.09.00",1845,0.15,20,6.5343749999999998,424.734375,{"$f":"BDI!$E$26","v":0.20399999999999999},511.38,"COTAÇÃO\n(Média aritmética)"]
[null,null,4,"Cassetete, tipo tonfa",108,"12311.09.00",60.95,0.15,20,0.21586458333333336,23.313375000000004,{"$f":"BDI!$E$26","v":0.20399999999999999},28.07,"COTAÇÃO\n(Média aritmética)"]
[null,null,5,"Algema profissional, de pulso, com trava, ref. Handcuffs/Uzi Israel ou similar",108,"12311.09.00",164.93,0.15,20,0.58412708333333341,63.085725000000011,{"$f":"BDI!$E$26","v":0.20399999999999999},75.959999999999994,"COTAÇÃO\n(Média aritmética)"]
[null,null,6,"Serviço de radiocomunicação, do tipo Serviço Móvel Especializado – SME, com tecnologia digital, atendidos os requisitos da legislação de telecomunicações e demais recomendações da Agência Nacional de Telecomunicações – ANATEL, compreendendo Rádios transmissores com 12 canais ou superior, níveis de potência ajustáveis, mínimo de 25km de alcance na transmissão de um rádio para outro, Led de medição de bateria, bateria de níquel, carregador de baterias independente",70,"12311.01.02",2535.66,0.2,10,16.904399999999999,1183.308,{"$f":"BDI!$E$26","v":0.20399999999999999},1424.7,"COTAÇÃO\n(Média aritmética)"]
[null,null,7,"Lanterna recarregável, com o mínimo de 19 leds, com baterias/pilhas e carregadores",50,"12311.01.05",198.56,0.1,10,1.4892000000000001,74.460000000000008,{"$f":"BDI!$E$26","v":0.20399999999999999},89.65,"COTAÇÃO\n(Média aritmética)"]
[null,null,8,"Cofre com segredo mecânico (três combinações numéricas); Fechadura Multiponto com 02 chaves; Maçaneta; Internamente uma prateleira removível e uma gaveta formando três vãos; Construído em chapa de aço, caixão interno e externo, preenchido com concreto de dura resistência; Blindagem de concreto (50mm nas 4 faces). Porta 03 ferrolhos móveis (pinos) horizontais e 03 fixos, totalizando 06 ferrolhos; Quadro de ferro em toda a extensão da porta de 20 mm: Medidas externas Altura: 100.00 cm Largura: 45.50 cm Profundidade: 40.00 cm Medidas internas Altura: 81.00 cm Largura: 36.00 cm Profundidade: 32.00 cm",1,"12311.01.05",2056.34,0.1,10,15.422550000000001,15.422550000000001,{"$f":"BDI!$E$26","v":0.20399999999999999},18.57,"COTAÇÃO\n(Média aritmética)"]
[null,null,9,"Cofre de aço; Pintura a pó; Fechadura com chave; Botão de segredo mecânico; Com 3 combinações; Forração na base; Prateleira removível; Furos para fixação na parte traseira; Duas travas em aço; Medidas Externas: Altura: 25.50 cm, Largura: 40.00 cm, Profundidade: 20.00 cm; Medidas Internas: Altura: 25.00 cm, Largura: 39.00 cm, Profundidade: 18.00 cm ",20,"12311.01.05",403.01,0.1,10,3.0225750000000002,60.451500000000003,{"$f":"BDI!$E$26","v":0.20399999999999999},72.78,"COTAÇÃO\n(Média aritmética)"]
[]
[]
[]
[]
[]
[]
[]
[]
[]
[]
[]
[]
[]
[]
[]
[]
[]
[]
[]
[]
[]
[]
[]
[]
[]
[null,null,"PAGAMENTO DA MANUTENÇÃO"]
[null,null,"ITEM","DESCRIÇÃO",null,null,null,"K (calculado)","MENSAL DEPR.","% MAN X DEP","MENSAL MAN.","BDI (%)","PREÇO TOTAL"]
[]
[null,null,null,null,null,null,null,{"$f":"H54","v":0.38556000000000001},{"$f":"SUM(K10:K41)","v":3904.9075979166664},{"$f":"H47","v":0.38556000000000001},{"$f":"I47*H47","v":1505.57617345275},{"$f":"BDI!E26","v":0.20399999999999999},{"$f":"ROUND(K47*(1+L47),2)","v":1812.71}]
[]
[null,null,null,null,"K1","K2","K3","K4"]
[null,null,null,null,0.85,1,0.8,1]
[null,null,null,null,"K5","K6","K7","K8"]
[null,null,null,null,1,0.6,0.5,1]
[null,null,null,null,"K9","K10","K11","RESULTADO"]
[null,null,null,"* a descrição de cada coeficiente segue abaixo",1.5,0.9,1.4,{"$f":"E50*F50*G50*H50*E52*F52*G52*H52*E54*F54*G54","v":0.38556000000000001}]
[]
[]
[null,null,"MATERIAL DE CONSUMO ASSOCIADO"]
[null,null,"ITEM","DESCRIÇÃO",null,null,null,"QUANTID/ANO","UNIDADE","VALOR DE AQ.","MENSAL MAT","BDI (%)","PREÇO TOTAL"]
[]
[null,null,null,"Combustível para rondas (160 Km por dia; 15,3Km/litro)",null,null,null,{"$f":"(ROUND(365*160/15.3,2))","v":3816.99},"litros",6,{"$f":"J60*H60/12","v":1908.4949999999999},{"$f":"BDI!E26","v":0.20399999999999999},{"$f":"ROUND(K60*(1+L60),2)","v":2297.83}]
[]
[]
[null,null,"MATERIAL DE CONSUMO ASSOCIADO"]
[null,null,"ITEM","DESCRIÇÃO",null,null,null,null,null,null,null,null,"PREÇO TOTAL"]
[]
[null,null,1,"Componente DEPRECIAÇÃO",null,null,null,null,null,null,null,null,{"$f":"SUM(M10:M18)","v":4701.5099999999993}]
[null,null,2,"Componente MANUTENÇÃO",null,null,null,null,null,null,null,null,{"$f":"M47","v":1812.71}]
[null,null,3,"Componente MATERIAL DE CONSUMO ASSOCIADO",null,null,null,null,null,null,null,null,{"$f":"M60","v":2297.83}]
[]
[null,null,null,null,null,null,null,null,null,null,null,"SOMATÓRIO TOTAL MENSAL",{"$f":"SUM(M65:M69)","v":8812.0499999999993}]
[null,null,null,null,null,null,null,null,null,null,null,"SOMATÓRIO TOTAL ANUAL",{"$f":"M70*12","v":105744.59999999999}]
[]
[]
[null,null,"MATERIAL DE CONSUMO ASSOCIADO"]
[null,null,"MEMÓRIA DE CÁLCULO DO COEFICIENTE DE CORRELAÇÃO MANUTENÇÃO X DEPRECIAÇÃO (K)"]
[]
[null,null,"JUSTIFICATIVAS",null,"TIPO","K1",null,"Condições de Trab","K4",null,"Tempo Vida (anos)","K6",null,"Temperatura","K8"]
[null,null,null,null,"Guindaste",0.5,null,"Em espera",0.4,null,1,0.6,null,"Muito quente (> 40º C)",1.3]
[null,null,"K1","Considerado o valor médio de 0,85","Caminhão-comum",0.8,null,"Leves",0.8,null,2,0.7,null,"Quente (30º a 40º C)",1.1000000000000001]
[null,null,"K2","Considerado o operador médio","Fora-de-estrada",1,null,"Médias",1,null,3,0.8,null,"Médio (10º a 30º C)",1]
[null,null,"K3","Consideradas ferramentas de primeira qualidade","Carregadeira",1,null,"Pesadas",1.4,null,4,0.9,null,"Frio (< 10º C)",1.2]
[null,null,"K4","Há todo o tipo de trabalho, foi considerado o valor médio","Escavadeira",1.4,null,"Severas",2,null,5,1]
[null,null,"K5","Considerando manutenção normal","Motoescrêiper",1.1000000000000001,null,null,null,null,6,1,null,"Ritmo de Trabalho","K9"]
[null,null,"K6","Equipamentos novos","Trator de esteira",1.2,null,"Manutenção","K5",null,7,1,null,"Folgado",0.9]
[null,null,"K7","220h por mês, 252 dias por ano",null,null,null,"Excelente",0.6,null,8,1.2,null,"Médio ",1]
[null,null,"K8","Clima médio","Qualid do Operador","K2",null,"Boa",0.8,null,9,1.3,null,"Com pressa",1.5]
[null,null,"K9","Ritmo de trabalho usualmente com pressa","Excelente",0.8,null,"Média",1,null,10,1.4]
[null,null,"K10","Considerado o operador médio","Boa",0.9,null,"Ruim ",1.5,null,11,2,null,"Conh do Serviço","K10"]
[null,null,"K11","Foi considerada a opção de aluguel a terceiros, ainda que a simulação seja dos custos do contratado, contudo a execução dos serviços é em local de terceiros","Média",1,null,"Inexistente",3,null,15,2,null,"Grande ",0.8]
[null,null,null,null,"Ruim",1.2,null,null,null,null,null,null,null,"Médio     ",0.9]
[null,null,null,null,"Péssima",2,null,"Horas de Uso ","K7",6000,1,null,null,"Pouco ",1]
[null,null,null,null,null,null,null,1000,0.5,8000,1.3]
[null,null,null,null,"Qualidade do Equip","K3",null,2000,0.5,10000,1.6,null,null,"Tipo do Serviço","K11"]
[null,null,null,null,"De primeira",0.8,null,3000,0.6,12000,1.9,null,null,"Mina ou Pedreira",0.8]
[null,null,null,null,"Média",1,null,4000,0.7,15000,2.2999999999999998,null,null,"Construção Geral",1]
[null,null,null,null,"Ruim",1.5,null,5000,0.9,20000,3,null,null,"Aluguel a Terceiros",1.4]
[]
[null,null,null,null,"Fonte: "]
[null,null,null,null,"MATTOS, Aldo Dórea. Como preparar orçamentos de obras. São Paulo: Pini, 2006. 281 p., il"]

{"sheet":"Transporte","index":27,"n_rows":27,"n_cols":11,"rows_kept":27,"cut":false,"hidden":false,"merged":[[2,1,2,3],[3,1,3,10],[7,3,7,4],[9,3,9,4]]}
[]
[]
[]
[null,"TRANSPORTE PARA RONDAS"]
[]
[]
[null,"DISPONIBILIDADE DO BEM"]
[null,"ITEM","DESCRIÇÃO (MODELO DE REFERÊNCIA)","MÉTODO DE CÁLCULO",null,"CUSTO","QUANTIDADE","CUSTO TOTAL","BDI (%)","PREÇO TOTAL","FONTE"]
[]
[null,"V.01","Automóvel tipo popular, 1000 cilindradas, com até 03 anos de uso.","Aluguel mensal (inclui depreciação, manutenção (preventiva, preditiva e corretiva), assistência 24h e seguro)",null,2308,1,{"$f":"F10*G10","v":2308},{"$f":"BDI!E26","v":0.20399999999999999},{"$f":"ROUND(H10*(1+I10),2)","v":2778.83},"COTAÇÃO\n(Menor Valor das Cotações)"]
[]
[]
[null,null,"MATERIAL DE CONSUMO ASSOCIADO"]
[null,null,"DESCRIÇÃO",null,"QUANTIDE/MENSAL","UNIDADE","CUSTO UNIT","CUSTO TOTAL","BDI (%)","PREÇO TOTAL","FONTE"]
[]
[null,null,"Combustível para rondas (160 Km por dia; 15,3Km/litro)",null,{"$f":"(ROUND(30*160/15.3,2))","v":313.73},"litros",5.9,{"$f":"G16*E16/12","v":154.25058333333337},{"$f":"BDI!E26","v":0.20399999999999999},{"$f":"ROUND(H16*(1+I16),2)","v":185.72},"SITE BR"]
[]
[]
[]
[]
[null,null,"DESCRIÇÃO",null,null,null,null,null,null,"PREÇO TOTAL"]
[]
[null,null,"DISPONIBILIDADE DO BEM",null,null,null,null,null,null,{"$f":"J10","v":2778.83}]
[null,null,"CONSUMOS DA OPERAÇÃO",null,null,null,null,null,null,{"$f":"J16","v":185.72}]
[]
[null,null,null,null,null,null,null,null,"SOMATÓRIO TOTAL MENSAL",{"$f":"ROUND(SUM(J22:J25),2)","v":2964.55}]
[null,null,null,null,null,null,null,null,"SOMATÓRIO TOTAL ANUAL",{"$f":"ROUND(J26*12,2)","v":35574.6}]

{"sheet":"Não Rel - Mat Consumo","index":28,"n_rows":25,"n_cols":14,"rows_kept":25,"cut":false,"hidden":true,"merged":[[2,1,2,4],[3,1,3,13]]}
[]
[]
[]
[null,"MATERIAIS NÃO RELACIONADOS DIRETAMENTE A UM POSTO DE TRABALHO - AQUISIÇÃO SOB DEMANDA"]
[]
[]
[null,null,"ITEM","CÓDIGO","DESCRIÇÃO","MÉDIA CONSUMO MENSAL","QUANT ANUAL","UNIDADE","CUSTO UNITÁRIO","CUSTO TOTAL","BDI (%)","PREÇO TOTAL","FONTE","REFERÊNCIA"]
[]
[null,null,null,null,null,null,null,"Pacote",null,{"$f":"I9*G9","v":0},{"$f":"BDI!E26","v":0.20399999999999999},{"$f":"ROUND(J9*(1+K9),2)","v":0},"Cotação"]
[null,null,null,null,null,null,null,"Pacote",null,{"$f":"I10*G10","v":0},{"$f":"K9","v":0.20399999999999999},{"$f":"ROUND(J10*(1+K10),2)","v":0},"Cotação"]
[null,null,null,null,null,null,null,"Pacote",null,0,{"$f":"K10","v":0.20399999999999999},0,"Cotação"]
[null,null,null,null,null,null,null,"Pacote",null,0,0.20399999999999999,0,"Cotação"]
[null,null,null,null,null,null,null,"Pacote",null,0,0.20399999999999999,0,"Cotação"]
[null,null,null,null,null,null,null,"Unidade",null,0,0.20399999999999999,0,"Cotação"]
[null,null,null,null,null,null,null,"Unidade",null,0,0.20399999999999999,0,"Cotação"]
[null,null,null,null,null,null,null,"Unidade",null,0,0.20399999999999999,0,"Cotação"]
[null,null,null,null,null,null,null,"Frasco",null,0,0.20399999999999999,0,"Cotação"]
[null,null,null,null,null,null,null,"Frasco",null,0,0.20399999999999999,0,"Cotação"]
[null,null,null,null,null,null,null,"Litro",null,0,0.20399999999999999,0,"Cotação"]
[null,null,null,null,null,null,null,"Unidade",null,0,0.20399999999999999,0,"Cotação"]
[null,null,null,null,null,null,null,"Unidade",null,0,0.20399999999999999,0,"Cotação"]
[null,null,null,null,null,null,null,"Unidade",null,0,0.20399999999999999,0,"Cotação"]
[]
[null,null,null,null,null,null,null,null,null,null,"SOMATÓRIO TOTAL MENSAL",{"$f":"L25/12","v":0}]
[null,null,null,null,null,null,null,null,null,null,"SOMATÓRIO TOTAL ANUAL",{"$f":"SUM(L8:L23)","v":0}]

{"sheet":"SREP","index":29,"n_rows":75,"n_cols":15,"rows_kept":75,"cut":false,"hidden":true,"merged":[[2,1,2,3],[3,1,3,14]]}
[]
[]
[]
[null,"SISTEMA DE REGISTRO ELETRÔNICO DE PRESENÇA - SREP"]
[]
[]
[null,null,"PAGAMENTO DA DEPRECIAÇÃO"]
[null,null,"ITEM","DESCRIÇÃO","QUANT ANUAL","CONTA SIAFI","VALOR DE AQ.","% RESIDUAL","VIDA ÚTIL","DEP. MENSAL","CUSTO TOTAL","BDI (%)","PREÇO TOTAL","FONTE","REFERÊNCIA"]
[]
[null,null,1,"Equipamento de Registro Eletrônico de Ponto, de parede, com teclado externo e leitor biométrico, em conformidade com a Portaria 1.510/2009 do MT",0,"12311.01.24\n(máquinas e equip\neletrônicos)",1597,0.1,10,{"$f":"G10*(1-H10)/(I10*12)","v":11.977499999999999},{"$f":"J10*E10","v":0},{"$f":"BDI!E26","v":0.20399999999999999},{"$f":"ROUND(K10*(1+L10),2)","v":0},"COTAÇÃO"]
[]
[]
[null,null,"PAGAMENTO DA MANUTENÇÃO"]
[null,null,"ITEM","DESCRIÇÃO",null,null,null,"K (calculado)","MENSAL DEPR.","% MAN X DEP","MENSAL MAN.","BDI (%)","PREÇO TOTAL"]
[]
[null,null,2,"Todos os itens",null,null,null,{"$f":"H23","v":0.27215999999999996},{"$f":"K10","v":0},{"$f":"H16","v":0.27215999999999996},{"$f":"I16*H16","v":0},{"$f":"L10","v":0.20399999999999999},{"$f":"ROUND(K16*(1+L16),2)","v":0}]
[]
[null,null,null,null,"K1","K2","K3","K4"]
[null,null,null,null,0.5,1,0.8,1]
[null,null,null,null,"K5","K6","K7","K8"]
[null,null,null,null,1,0.6,0.6,1]
[null,null,null,null,"K9","K10","K11","RESULTADO"]
[null,null,null,"* a descrição de cada coeficiente segue abaixo",1.5,0.9,1.4,{"$f":"E19*F19*G19*H19*E21*F21*G21*H21*E23*F23*G23","v":0.27215999999999996}]
[]
[]
[null,null,"PAGAMENTO DO SOFTWARE"]
[null,null,"ITEM","DESCRIÇÃO",null,null,null,null,"QUANTIDADE","UNIDADE","UNIT. MENSAL","BDI (%)","PREÇO TOTAL"]
[]
[null,null,3,"Software Ponto Secullum 4 - manutenção e suporte técnico com backup - Web Nuvem - Mensalidade até 200 usuários",null,null,null,null,0,"Licença/mês",null,{"$f":"L35","v":0.20399999999999999},{"$f":"ROUND(I29*K29*(1+L29),2)","v":0},"COTAÇÃO"]
[]
[]
[null,null,"MATERIAL DE CONSUMO ASSOCIADO"]
[null,null,"ITEM","DESCRIÇÃO",null,null,null,"QUANTID/ANO","UNIDADE","VALOR DE AQ.","MENSAL MAT","BDI (%)","PREÇO TOTAL"]
[]
[null,null,4,"Bobina térmica específica para o registrador eletrônico de ponto, com papel termossensível, superfície de impressão externa ao rolo, durabilidade de impressão mínima de 5 anos e comprimento mínimo de 300m","* estimado um gasto anual de 16 bobinas",null,null,{"$f":"ROUNDUP(SUM(Remunerações!E26)*4*22*12*0.05/300,0)","v":49},"Bobina",null,{"$f":"J35*H35/12","v":0},{"$f":"L16","v":0.20399999999999999},{"$f":"ROUND(K35*(1+L35),2)","v":0},"COTAÇÃO"]
[]
[]
[null,null,"MATERIAL DE CONSUMO ASSOCIADO"]
[null,null,"ITEM","DESCRIÇÃO",null,null,null,null,null,null,null,null,"PREÇO TOTAL"]
[]
[null,null,1,"Componente DEPRECIAÇÃO",null,null,null,null,null,null,null,null,{"$f":"M10","v":0}]
[null,null,2,"Componente MANUTENÇÃO",null,null,null,null,null,null,null,null,{"$f":"M16","v":0}]
[null,null,3,"Componente SOFTWARE",null,null,null,null,null,null,null,null,{"$f":"M29","v":0}]
[null,null,4,"Componente MATERIAL DE CONSUMO ASSOCIADO",null,null,null,null,null,null,null,null,{"$f":"M35","v":0}]
[]
[null,null,null,null,null,null,null,null,null,null,null,"SOMATÓRIO TOTAL MENSAL",{"$f":"SUM(M40:M45)","v":0}]
[null,null,null,null,null,null,null,null,null,null,null,"SOMATÓRIO TOTAL ANUAL",{"$f":"M46*12","v":0}]
[]
[]
[null,null,"MATERIAL DE CONSUMO ASSOCIADO"]
[null,null,"MEMÓRIA DE CÁLCULO DO COEFICIENTE DE CORRELAÇÃO MANUTENÇÃO X DEPRECIAÇÃO (K)"]
[]
[null,null,"JUSTIFICATIVAS",null,"TIPO","K1",null,"Condições de Trab","K4",null,"Tempo Vida (anos)","K6",null,"Temperatura","K8"]
[null,null,null,null,"Guindaste",0.5,null,"Em espera",0.4,null,1,0.6,null,"Muito quente (> 40º C)",1.3]
[null,null,"K1","Considerado o valor mínimo de 0,5","Caminhão-comum",0.8,null,"Leves",0.8,null,2,0.7,null,"Quente (30º a 40º C)",1.1000000000000001]
[null,null,"K2","Considerado o operador médio","Fora-de-estrada",1,null,"Médias",1,null,3,0.8,null,"Médio (10º a 30º C)",1]
[null,null,"K3","Consideradas ferramentas de primeira qualidade","Carregadeira",1,null,"Pesadas",1.4,null,4,0.9,null,"Frio (< 10º C)",1.2]
[null,null,"K4","Foi considerado condições médias","Escavadeira",1.4,null,"Severas",2,null,5,1]
[null,null,"K5","Considerando manutenção normal","Motoescrêiper",1.1000000000000001,null,null,null,null,6,1,null,"Ritmo de Trabalho","K9"]
[null,null,"K6","Equipamentos novos","Trator de esteira",1.2,null,"Manutenção","K5",null,7,1,null,"Folgado",0.9]
[null,null,"K7","10h por dia, 252 dias por ano",null,null,null,"Excelente",0.6,null,8,1.2,null,"Médio ",1]
[null,null,"K8","Clima médio","Qualid do Operador","K2",null,"Boa",0.8,null,9,1.3,null,"Com pressa",1.5]
[null,null,"K9","Ritmo de trabalho usualmente com pressa","Excelente",0.8,null,"Média",1,null,10,1.4]
[null,null,"K10","Considerado o operador médio","Boa",0.9,null,"Ruim ",1.5,null,11,2,null,"Conh do Serviço","K10"]
[null,null,"K11","Foi considerada a opção de aluguel a terceiros, ainda que a simulação seja dos custos do contratado, contudo a execução dos serviços é em local de terceiros","Média",1,null,"Inexistente",3,null,15,2,null,"Grande ",0.8]
[null,null,null,null,"Ruim",1.2,null,null,null,null,null,null,null,"Médio     ",0.9]
[null,null,null,null,"Péssima",2,null,"Horas de Uso ","K7",6000,1,null,null,"Pouco ",1]
[null,null,null,null,null,null,null,1000,0.5,8000,1.3]
[null,null,null,null,"Qualidade do Equip","K3",null,2000,0.5,10000,1.6,null,null,"Tipo do Serviço","K11"]
[null,null,null,null,"De primeira",0.8,null,3000,0.6,12000,1.9,null,null,"Mina ou Pedreira",0.8]
[null,null,null,null,"Média",1,null,4000,0.7,15000,2.2999999999999998,null,null,"Construção Geral",1]
[null,null,null,null,"Ruim",1.5,null,5000,0.9,20000,3,null,null,"Aluguel a Terceiros",1.4]
[]
[null,null,null,null,"Fonte: "]
[null,null,null,null,"MATTOS, Aldo Dórea. Como preparar orçamentos de obras. São Paulo: Pini, 2006. 281 p., il"]

{"sheet":"Não Rel - Mat Cons Durável","index":30,"n_rows":38,"n_cols":15,"rows_kept":38,"cut":false,"hidden":true,"merged":[[2,1,2,4],[3,1,3,14]]}
[]
[]
[]
[null,"MATERIAIS DE CONSUMO PERMANENTE NÃO RELACIONADOS DIRETAMENTE A UM POSTO DE TRABALHO - AQUISIÇÃO SOB DEMANDA"]
[]
[]
[null,null,"ITEM","CÓDIGO","DESCRIÇÃO","ESTOQUE INICIAL","MÉDIA CONSUMO MENSAL","QTDE. ANUAL","UNIDADE","CUSTO UNITÁRIO","CUSTO TOTAL","BDI (%)","PREÇO TOTAL","FONTE","REFERÊNCIA"]
[]
[null,null,1,null,"Balde Plástico 12 Litros",null,8,166,"Unidade",null,{"$f":"J9*H9","v":0},{"$f":"BDI!E26","v":0.20399999999999999},{"$f":"ROUND(K9*(1+L9),2)","v":0},"Cotação"]
[null,null,2,null,"Balde plástico 20 litros",null,2,44,"Unidade",null,{"$f":"J10*H10","v":0},{"$f":"L9","v":0.20399999999999999},{"$f":"ROUND(K10*(1+L10),2)","v":0},"Cotação"]
[null,null,3,null,"Balde Plástico 60 Litros",null,1,16,"Unidade",null,0,{"$f":"L10","v":0.20399999999999999},0,"Cotação"]
[null,null,4,null,"Capa para chuva com capuz, cor amarela, longa, tamanho G",null,2,32,"Unidade",null,0,0.20399999999999999,0,"Cotação"]
[null,null,5,null,"Chapéu legionário (com proteção p/ nuca)",null,2,44,"Unidade",null,0,0.20399999999999999,0,"Cotação"]
[null,null,6,null,"Conjunto completo para limpeza de rodapé (cabo, suporte e fibra) (ref. Braslimpia ST 304 e FP262 ou similar)",null,0,8,"Unidade",null,0,0.20399999999999999,0,"Cotação"]
[null,null,7,null,"Conjunto completo para Mop pó, com amarração (cabo, armação e cabeleira) (ref. Mop seco Euro CJ 60E ou similar)",null,0,8,"Unidade",null,0,0.20399999999999999,0,"Cotação"]
[null,null,8,null,"Espátula de aço com cabo de madeira 4\" 101x185mm, cabo amarelo (ref. Max Ferramentas ou similar)",null,2,36,"Unidade",null,0,0.20399999999999999,0,"Cotação"]
[null,null,9,null,"Extensão elétrica com carretel 2 X 2,5mm² X 50,00 m – suporte com carretel injetado em polipropileno com diâmetro de 290mm com 3 tomadas universais",null,0,10,"Unidade",null,0,0.20399999999999999,0,"Cotação"]
[null,null,10,null,"Fita para isolamento de área zebrada amarelo e preta ultra resistente 7,6cm x 200m",null,0,10,"Unidade",null,0,0.20399999999999999,0,"Cotação"]
[null,null,11,null,"Macacão de segurança Tipo 6 (ref. SteelgenVicsa, Steelflex ou outro de desempenho e qualidade similar ou superior).",null,4,60,"Unidade",null,0,0.20399999999999999,0,"Cotação"]
[null,null,12,null,"Mangueira Top cristal Ø3/4”x 250m em PVC flexível, camada em poliester trançado, para pressões de 6 bar (ref. Tramontina Mult Johnson ou outro de desempenho e qualidade similar ou superior)",null,0,5,"Unidade",null,0,0.20399999999999999,0,"Cotação"]
[null,null,13,null,"Pá para lixo, plástica, com cabo longo 90 cm (ref. 15300 marca Tomki São Bernardo, Madetec Johnson ou outro de desempenho e qualidade similar ou superior)",null,2,44,"Unidade",null,0,0.20399999999999999,0,"Cotação"]
[null,null,14,null,"Placa de sinalização em vinil para piso molhado",null,0,40,"Unidade",null,0,0.20399999999999999,0,"Cotação"]
[null,null,15,null,"Pulverizador Costal Simétrico 20L (ref.Guarany, Vulcan,Vonder ou outro de desempenho e qualidade similar ou superior).",null,0,2,"Unidade",null,0,0.20399999999999999,0,"Cotação"]
[null,null,16,null,"Rodo P/ Pia de Banheiro manual anatômico – (ref. Guirado, Bettani ou Dalcim ou outro de desempenho e qualidade similar ou superior)",null,1,27,"Unidade",null,0,0.20399999999999999,0,"Cotação"]
[null,null,17,null,"Rodo de 40cm de madeira/plástico (borracha dupla) com cabo 1,50 m – marcas Tomki, Guirado, Bettani, Dalcim ou outro de desempenho e qualidade similar ou superior)",null,10,200,"Unidade",null,0,0.20399999999999999,0,"Cotação"]
[null,null,18,null,"Rodo de 60cm de madeira/plástico (borracha dupla) com cabo 1,50m (ref. Tomki, Guirado, Bettani, Dalcim ou outro de desempenho e qualidade similar ou superior)",null,8,131,"Unidade",null,0,0.20399999999999999,0,"Cotação"]
[null,null,19,null,"Rodo de 90cm de madeira/plástico (borracha dupla) com cabo 1,50m (ref. Tomki, Guirado, Bettani, Dalcim ou outro de desempenho e qualidade similar ou superior)",null,2,39,"Unidade",null,0,0.20399999999999999,0,"Cotação"]
[null,null,20,null,"Saco para aspirador doméstico pequeno descartável (ref. Eletrolux Silent Prof ou Leo da Soteco ou outro de desempenho e qualidade similar ou superior)",null,3,48,"Unidade",null,0,0.20399999999999999,0,"Cotação"]
[null,null,21,null,"Saco para aspirador industrial água e pó descartável (ref. Karcher A2104 ou Eletrolux GT 3000 Pro ou outro de desempenho e qualidade similar ou superior)",null,2,28,"Unidade",null,0,0.20399999999999999,0,"Cotação"]
[null,null,22,null,"Suporte para papel higiênico (ref. Santher ou outro de desempenho e qualidade similar ou superior)",null,2,369,"Unidade",null,0,0.20399999999999999,0,"Cotação"]
[null,null,23,null,"Suporte para papel toalha (ref. Santher ou outro de desempenho e qualidade similar ou superior)",null,2,409,"Unidade",null,0,0.20399999999999999,0,"Cotação"]
[null,null,24,null,"Suporte para saboneteira (ref. Santher ou outro de desempenho e qualidade similar ou superior)",null,2,254,"Unidade",null,0,0.20399999999999999,0,"Cotação"]
[null,null,25,null,"Vassoura de Pêlo 40cm nylon com cabo 1,50 m (ref. Tomki, Guirado, Bettani, Dalcim ou outro de desempenho e qualidade similar ou superior)",null,2,36,"Unidade",null,0,{"$f":"L31","v":0.20399999999999999},{"$f":"ROUND(K33*(1+L33),2)","v":0},"Cotação"]
[null,null,26,null,"Vassoura Piaçava nº 3 com cabo 1,50m (ref. Guirado, Bettani, Dalcim ou outro de desempenho e qualidade similar ou superior)",null,8,126,"Unidade",null,{"$f":"J34*H34","v":0},{"$f":"L31","v":0.20399999999999999},0,"Cotação"]
[null,null,27,null,"Vassoura para Vaso Sanitário com cabo de madeira (ref. Guirado, Bettani, Dalcim ou outro de desempenho e qualidade similar ou superior)",null,10,180,"Unidade",null,0,{"$f":"L32","v":0.20399999999999999},0,"Cotação"]
[]
[null,null,null,null,null,null,null,null,null,null,null,"SOMATÓRIO TOTAL MENSAL",{"$f":"M38/12","v":0}]
[null,null,null,null,null,null,null,null,null,null,null,"SOMATÓRIO TOTAL ANUAL",{"$f":"SUM(M8:M36)","v":0}]

{"sheet":"Não Rel - Serviços","index":31,"n_rows":11,"n_cols":13,"rows_kept":11,"cut":false,"hidden":true,"merged":[[1,1,1,4],[2,1,2,12]]}
[]
[]
[null,"SERVIÇOS NÃO RELACIONADOS DIRETAMENTE A UM POSTO DE TRABALHO - SOB DEMANDA"]
[]
[]
[null,null,"ITEM","CÓDIGO","DESCRIÇÃO","QUANT ANUAL","UNIDADE","CUSTO UNITÁRIO","CUSTO TOTAL","BDI (%)","PREÇO TOTAL","FONTE","REFERÊNCIA"]
[]
[null,null,1,null,"Serviços de desinsetização e desratização em uma área de 59.203 m²",null,"aplicações",8422.5,{"$f":"H8*F8","v":0},{"$f":"BDI!E26","v":0.20399999999999999},{"$f":"ROUND(I8*(1+J8),2)","v":0},"Cotação"]
[]
[null,null,null,null,null,null,null,null,null,"SOMATÓRIO TOTAL MENSAL",{"$f":"K11/12","v":0}]
[null,null,null,null,null,null,null,null,null,"SOMATÓRIO TOTAL ANUAL",{"$f":"SUM(K7:K9)","v":0}]

{"sheet":"Not. Demanda","index":32,"n_rows":51,"n_cols":8,"rows_kept":51,"cut":false,"hidden":true,"merged":[[1,1,1,3],[2,1,2,7]]}
[]
[]
[null,"ADICIONAL NOTURNO SOB DEMANDA"]
[]
[]
[null,null,"CATEGORIAS",null,null,null,"HORAS / MÊS","% NOTURNA"]
[]
[null,null,8,{"$f":"HLOOKUP($C8,'Dados Gerais'!$D$6:$BK$11,6)","v":"VIGILANTE MATUTINO \nPORTARIAS 1 \nEscala 40 horas semanais \n7h às 16h  \n2ª à 6ª feira"},null,null,null,0.22500000000000001]
[null,null,9,{"$f":"HLOOKUP($C9,'Dados Gerais'!$D$6:$BK$11,6)","v":"VIGILANTE VESPERTINO \nPORTARIAS 1 \nEscala 40 horas semanais \n13h às 22h \n2ª à 6ª feira"},null,null,null,0.22500000000000001]
[]
[]
[null,null,"AJUSTE DE HORAS FICTAS",null,"AJUSTE H.NOT","HORA NORMAL","H.FICTAS/MÊS","H.ÚTEIS/MÊS"]
[]
[null,null,8,{"$f":"HLOOKUP($C14,'Dados Gerais'!$D$6:$BK$11,6)","v":"VIGILANTE MATUTINO \nPORTARIAS 1 \nEscala 40 horas semanais \n7h às 16h  \n2ª à 6ª feira"},60,60,{"$f":"G8*(F14/E14)","v":0},{"$f":"HLOOKUP(C14,'Dados Gerais'!$D$6:$L$17,12,0)","v":200}]
[null,null,9,{"$f":"HLOOKUP($C15,'Dados Gerais'!$D$6:$BK$11,6)","v":"VIGILANTE VESPERTINO \nPORTARIAS 1 \nEscala 40 horas semanais \n13h às 22h \n2ª à 6ª feira"},60,60,{"$f":"G9*(F15/E15)","v":0},{"$f":"HLOOKUP(C15,'Dados Gerais'!$D$6:$L$17,12,0)","v":200}]
[]
[]
[null,null,"VALOR DO ADICIONAL NOTURNO",null,null,"SALÁRIO MÊS","VL.H.NORMAL","ADIC.H.FICTAS"]
[]
[null,null,8,{"$f":"HLOOKUP($C20,'Dados Gerais'!$D$6:$BK$11,6)","v":"VIGILANTE MATUTINO \nPORTARIAS 1 \nEscala 40 horas semanais \n7h às 16h  \n2ª à 6ª feira"},null,{"$f":"HLOOKUP(C20,'Dados Gerais'!$D$6:$L$13,8,0)","v":3423.03},{"$f":"F20/H14","v":17.11515},{"$f":"G20*(H8)","v":3.8509087499999999}]
[null,null,9,{"$f":"HLOOKUP($C21,'Dados Gerais'!$D$6:$BK$11,6)","v":"VIGILANTE VESPERTINO \nPORTARIAS 1 \nEscala 40 horas semanais \n13h às 22h \n2ª à 6ª feira"},null,{"$f":"HLOOKUP(C21,'Dados Gerais'!$D$6:$L$13,8,0)","v":3423.03},{"$f":"F21/H15","v":17.11515},{"$f":"G21*(H9)","v":3.8509087499999999}]
[]
[]
[null,null,"RESUMO DO ADICIONAL NOTURNO SOB DEMANDA"]
[null,null,"TOTAIS MENSAIS",null,null,null,"PREÇO MENSAL"]
[]
[null,null,8,{"$f":"HLOOKUP($C27,'Dados Gerais'!$D$6:$BK$11,6)","v":"VIGILANTE MATUTINO \nPORTARIAS 1 \nEscala 40 horas semanais \n7h às 16h  \n2ª à 6ª feira"},null,null,{"$f":"H20*G14","v":0}]
[null,null,9,{"$f":"HLOOKUP($C28,'Dados Gerais'!$D$6:$BK$11,6)","v":"VIGILANTE VESPERTINO \nPORTARIAS 1 \nEscala 40 horas semanais \n13h às 22h \n2ª à 6ª feira"},null,null,{"$f":"H21*G15","v":0}]
[]
[null,null,null,null,null,"SOMATÓRIO TOTAL MENSAL",{"$f":"SUM(G27:G29)","v":0}]
[null,null,null,null,null,"SOMATÓRIO TOTAL ANUAL",{"$f":"G30*12","v":0}]
[]
[]
[null,null,"ENCARGOS SOCIAIS E BDI SOBRE ADICIONAL NOTURNO SOB DEMANDA"]
[null,null,"TOTAIS MENSAIS",null,null,"PERCENTUAIS","PREÇO MENSAL"]
[]
[null,null,null,"ENCARGOS SOCIAIS",null,{"$f":"'Encargos Sociais'!$E$45","v":0.71279999999999999},{"$f":"F37*G30","v":0}]
[null,null,null,"BDI",null,{"$f":"BDI!$E$26","v":0.20399999999999999},{"$f":"F38*(G30+G37)","v":0}]
[]
[null,null,null,null,null,"SOMATÓRIO TOTAL MENSAL",{"$f":"SUM(G37:G39)","v":0}]
[null,null,null,null,null,"SOMATÓRIO TOTAL ANUAL",{"$f":"G40*12","v":0}]
[]
[]
[null,null,"VALOR TOTAL ADICIONAL NOTURNO SOB DEMANDA (COM ENCARGOS SOCIAIS E BDI INCLUSOS)"]
[null,null,"TOTAIS MENSAIS",null,null,"PERCENTUAIS","PREÇO MENSAL"]
[]
[null,null,null,"ENCARGOS SOCIAIS",null,{"$f":"'Encargos Sociais'!$E$45","v":0.71279999999999999},{"$f":"G27+G37","v":0}]
[null,null,null,"BDI",null,{"$f":"BDI!$E$26","v":0.20399999999999999},{"$f":"G28+G38","v":0}]
[]
[null,null,null,null,null,"SOMATÓRIO TOTAL MENSAL",{"$f":"SUM(G47:G49)","v":0}]
[null,null,null,null,null,"SOMATÓRIO TOTAL ANUAL",{"$f":"G50*12","v":0}]

{"sheet":"Mat Cons","index":33,"n_rows":28,"n_cols":128,"rows_kept":28,"cut":false,"hidden":true,"merged":[[9,1,9,3],[10,1,10,5]]}
[null,null,"CÂMARA DOS DEPUTADOS"]
[null,null,"DEPARTAMENTO TÉCNICO"]
[null,null,"Coordenação de Planejamento e Gestão"]
[]
[null,null,"Data:",{"$f":"'Dados Gerais'!#REF!","v":{"$error":"#REF!"}}]
[null,null,"Processo:",{"$f":"'Dados Gerais'!#REF!","v":{"$error":"#REF!"}}]
[null,null,"Objeto:",{"$f":"'Dados Gerais'!#REF!","v":{"$error":"#REF!"}}]
[]
[]
[]
[null,"MATERIAIS DE CONSUMO RELACIONADOS AO POSTO - AQUISIÇÃO",null,null,null,null,null,null,1,null,{"$f":"I11+1","v":2},null,{"$f":"K11+1","v":3},null,{"$f":"M11+1","v":4},null,{"$f":"O11+1","v":5},null,{"$f":"Q11+1","v":6},null,{"$f":"S11+1","v":7},null,{"$f":"U11+1","v":8},null,{"$f":"W11+1","v":9},null,{"$f":"Y11+1","v":10},null,{"$f":"AA11+1","v":11},null,{"$f":"AC11+1","v":12},null,{"$f":"AE11+1","v":13},null,{"$f":"AG11+1","v":14},null,{"$f":"AI11+1","v":15},null,{"$f":"AK11+1","v":16},null,{"$f":"AM11+1","v":17},null,{"$f":"AO11+1","v":18},null,{"$f":"AQ11+1","v":19},null,{"$f":"AS11+1","v":20},null,{"$f":"AU11+1","v":21},null,{"$f":"AW11+1","v":22},null,{"$f":"AY11+1","v":23},null,{"$f":"BA11+1","v":24},null,{"$f":"BC11+1","v":25},null,{"$f":"BE11+1","v":26},null,{"$f":"BG11+1","v":27},null,{"$f":"BI11+1","v":28},null,{"$f":"BK11+1","v":29},null,{"$f":"BM11+1","v":30},null,{"$f":"BO11+1","v":31},null,{"$f":"BQ11+1","v":32},null,{"$f":"BS11+1","v":33},null,{"$f":"BU11+1","v":34},null,{"$f":"BW11+1","v":35},null,{"$f":"BY11+1","v":36},null,{"$f":"CA11+1","v":37},null,{"$f":"CC11+1","v":38},null,{"$f":"CE11+1","v":39},null,{"$f":"CG11+1","v":40},null,{"$f":"CI11+1","v":41},null,{"$f":"CK11+1","v":42},null,{"$f":"CM11+1","v":43},null,{"$f":"CO11+1","v":44},null,{"$f":"CQ11+1","v":45},null,{"$f":"CS11+1","v":46},null,{"$f":"CU11+1","v":47},null,{"$f":"CW11+1","v":48},null,{"$f":"CY11+1","v":49},null,{"$f":"DA11+1","v":50},null,{"$f":"DC11+1","v":51},null,{"$f":"DE11+1","v":52},null,{"$f":"DG11+1","v":53},null,{"$f":"DI11+1","v":54},null,{"$f":"DK11+1","v":55},null,{"$f":"DM11+1","v":56},null,{"$f":"DO11+1","v":57},null,{"$f":"DQ11+1","v":58},null,{"$f":"DS11+1","v":59},null,{"$f":"DU11+1","v":60}]
[]
[null,null,null,null,null,null,null,null,{"$f":"ROUND(SUM(J12:J65),2)","v":0},null,{"$f":"ROUND(SUM(L12:L65),2)","v":0},null,{"$f":"ROUND(SUM(N12:N65),2)","v":0},null,{"$f":"ROUND(SUM(P12:P65),2)","v":0},null,{"$f":"ROUND(SUM(R12:R65),2)","v":0},null,{"$f":"ROUND(SUM(T12:T65),2)","v":0},null,{"$f":"ROUND(SUM(V12:V65),2)","v":0},null,{"$f":"ROUND(SUM(X12:X65),2)","v":0},null,{"$f":"ROUND(SUM(Z12:Z65),2)","v":0},null,{"$f":"ROUND(SUM(AB12:AB65),2)","v":0},null,{"$f":"ROUND(SUM(AD12:AD65),2)","v":0},null,{"$f":"ROUND(SUM(AF12:AF65),2)","v":0},null,{"$f":"ROUND(SUM(AH12:AH65),2)","v":0},null,{"$f":"ROUND(SUM(AJ12:AJ65),2)","v":0},null,{"$f":"ROUND(SUM(AL12:AL65),2)","v":0},null,{"$f":"ROUND(SUM(AN12:AN65),2)","v":0},null,{"$f":"ROUND(SUM(AP12:AP65),2)","v":0},null,{"$f":"ROUND(SUM(AR12:AR65),2)","v":0},null,{"$f":"ROUND(SUM(AT12:AT65),2)","v":0},null,{"$f":"ROUND(SUM(AV12:AV65),2)","v":0},null,{"$f":"ROUND(SUM(AX12:AX65),2)","v":0},null,{"$f":"ROUND(SUM(AZ12:AZ65),2)","v":0},null,{"$f":"ROUND(SUM(BB12:BB65),2)","v":0},null,{"$f":"ROUND(SUM(BD12:BD65),2)","v":0},null,{"$f":"ROUND(SUM(BF12:BF65),2)","v":0},null,{"$f":"ROUND(SUM(BH12:BH65),2)","v":0},null,{"$f":"ROUND(SUM(BJ12:BJ65),2)","v":0},null,{"$f":"ROUND(SUM(BL12:BL65),2)","v":0},null,{"$f":"ROUND(SUM(BN12:BN65),2)","v":0},null,{"$f":"ROUND(SUM(BP12:BP65),2)","v":0},null,{"$f":"ROUND(SUM(BR12:BR65),2)","v":0},null,{"$f":"ROUND(SUM(BT12:BT65),2)","v":0},null,{"$f":"ROUND(SUM(BV12:BV65),2)","v":0},null,{"$f":"ROUND(SUM(BX12:BX65),2)","v":0},null,{"$f":"ROUND(SUM(BZ12:BZ65),2)","v":0},null,{"$f":"ROUND(SUM(CB12:CB65),2)","v":0},null,{"$f":"ROUND(SUM(CD12:CD65),2)","v":0},null,{"$f":"ROUND(SUM(CF12:CF65),2)","v":0},null,{"$f":"ROUND(SUM(CH12:CH65),2)","v":0},null,{"$f":"ROUND(SUM(CJ12:CJ65),2)","v":0},null,{"$f":"ROUND(SUM(CL12:CL65),2)","v":0},null,{"$f":"ROUND(SUM(CN12:CN65),2)","v":0},null,{"$f":"ROUND(SUM(CP12:CP65),2)","v":0},null,{"$f":"ROUND(SUM(CR12:CR65),2)","v":0},null,{"$f":"ROUND(SUM(CT12:CT65),2)","v":0},null,{"$f":"ROUND(SUM(CV12:CV65),2)","v":0},null,{"$f":"ROUND(SUM(CX12:CX65),2)","v":0},null,{"$f":"ROUND(SUM(CZ12:CZ65),2)","v":0},null,{"$f":"ROUND(SUM(DB12:DB65),2)","v":0},null,{"$f":"ROUND(SUM(DD12:DD65),2)","v":0},null,{"$f":"ROUND(SUM(DF12:DF65),2)","v":0},null,{"$f":"ROUND(SUM(DH12:DH65),2)","v":0},null,{"$f":"ROUND(SUM(DJ12:DJ65),2)","v":0},null,{"$f":"ROUND(SUM(DL12:DL65),2)","v":0},null,{"$f":"ROUND(SUM(DN12:DN65),2)","v":0},null,{"$f":"ROUND(SUM(DP12:DP65),2)","v":0},null,{"$f":"ROUND(SUM(DR12:DR65),2)","v":0},null,{"$f":"ROUND(SUM(DT12:DT65),2)","v":0},null,{"$f":"ROUND(SUM(DV12:DV65),2)","v":0},null,{"$f":"ROUND(SUM(DX12:DX65),2)","v":0}]
[null,null,"CATEGORIAS",null,null,"QUANTIDADE"]
[null,null,null,null,null,null,null,null,{"$f":"IF($C15=I$11,1,0)","v":0}]
[null,null,null,null,null,null,null,null,0,null,{"$f":"IF($C16=K$11,1,0)","v":0},null,{"$f":"IF($C16=M$11,1,0)","v":0},null,{"$f":"IF($C16=O$11,1,0)","v":0},null,{"$f":"IF($C16=Q$11,1,0)","v":0},null,{"$f":"IF($C16=S$11,1,0)","v":0},null,{"$f":"IF($C16=U$11,1,0)","v":0},null,{"$f":"IF($C16=W$11,1,0)","v":0},null,{"$f":"IF($C16=Y$11,1,0)","v":0},null,{"$f":"IF($C16=AA$11,1,0)","v":0},null,{"$f":"IF($C16=AC$11,1,0)","v":0},null,{"$f":"IF($C16=AE$11,1,0)","v":0},null,{"$f":"IF($C16=AG$11,1,0)","v":0},null,{"$f":"IF($C16=AI$11,1,0)","v":0},null,{"$f":"IF($C16=AK$11,1,0)","v":0},null,{"$f":"IF($C16=AM$11,1,0)","v":0},null,{"$f":"IF($C16=AO$11,1,0)","v":0},null,{"$f":"IF($C16=AQ$11,1,0)","v":0},null,{"$f":"IF($C16=AS$11,1,0)","v":0},null,{"$f":"IF($C16=AU$11,1,0)","v":0},null,{"$f":"IF($C16=AW$11,1,0)","v":0},null,{"$f":"IF($C16=AY$11,1,0)","v":0},null,{"$f":"IF($C16=BA$11,1,0)","v":0},null,{"$f":"IF($C16=BC$11,1,0)","v":0},null,{"$f":"IF($C16=BE$11,1,0)","v":0},null,{"$f":"IF($C16=BG$11,1,0)","v":0},null,{"$f":"IF($C16=BI$11,1,0)","v":0},null,{"$f":"IF($C16=BK$11,1,0)","v":0},null,{"$f":"IF($C16=BM$11,1,0)","v":0},null,{"$f":"IF($C16=BO$11,1,0)","v":0},null,{"$f":"IF($C16=BQ$11,1,0)","v":0},null,{"$f":"IF($C16=BS$11,1,0)","v":0},null,{"$f":"IF($C16=BU$11,1,0)","v":0},null,{"$f":"IF($C16=BW$11,1,0)","v":0},null,{"$f":"IF($C16=BY$11,1,0)","v":0},null,{"$f":"IF($C16=CA$11,1,0)","v":0},null,{"$f":"IF($C16=CC$11,1,0)","v":0},null,{"$f":"IF($C16=CE$11,1,0)","v":0},null,{"$f":"IF($C16=CG$11,1,0)","v":0},null,{"$f":"IF($C16=CI$11,1,0)","v":0},null,{"$f":"IF($C16=CK$11,1,0)","v":0},null,{"$f":"IF($C16=CM$11,1,0)","v":0},null,{"$f":"IF($C16=CO$11,1,0)","v":0},null,{"$f":"IF($C16=CQ$11,1,0)","v":0},null,{"$f":"IF($C16=CS$11,1,0)","v":0},null,{"$f":"IF($C16=CU$11,1,0)","v":0},null,{"$f":"IF($C16=CW$11,1,0)","v":0},null,{"$f":"IF($C16=CY$11,1,0)","v":0},null,{"$f":"IF($C16=DA$11,1,0)","v":0},null,{"$f":"IF($C16=DC$11,1,0)","v":0},null,{"$f":"IF($C16=DE$11,1,0)","v":0},null,{"$f":"IF($C16=DG$11,1,0)","v":0},null,{"$f":"IF($C16=DI$11,1,0)","v":0},null,{"$f":"IF($C16=DK$11,1,0)","v":0},null,{"$f":"IF($C16=DM$11,1,0)","v":0},null,{"$f":"IF($C16=DO$11,1,0)","v":0},null,{"$f":"IF($C16=DQ$11,1,0)","v":0},null,{"$f":"IF($C16=DS$11,1,0)","v":0},null,{"$f":"IF($C16=DU$11,1,0)","v":0},null,{"$f":"IF($C16=DW$11,1,0)","v":0}]
[null,null,null,null,null,null,null,null,0,null,0,null,0,null,0,null,0,null,0,null,0,null,0,null,0,null,0,null,0,null,0,null,0,null,0,null,0,null,0,null,0,null,0,null,0,null,0,null,0,null,0,null,0,null,0,null,0,null,0,null,0,null,0,null,0,null,0,null,0,null,0,null,0,null,0,null,0,null,0,null,0,null,0,null,0,null,0,null,0,null,0,null,0,null,0,null,0,null,0,null,0,null,0,null,0,null,0,null,0,null,0,null,0,null,0,null,0,null,0,null,0,null,0,null,0,null,0]
[null,null,null,null,null,null,null,null,0,null,0,null,0,null,0,null,0,null,0,null,0,null,0,null,0,null,0,null,0,null,0,null,0,null,0,null,0,null,0,null,0,null,0,null,0,null,0,null,0,null,0,null,0,null,0,null,0,null,0,null,0,null,0,null,0,null,0,null,0,null,0,null,0,null,0,null,0,null,0,null,0,null,0,null,0,null,0,null,0,null,0,null,0,null,0,null,0,null,0,null,0,null,0,null,0,null,0,null,0,null,0,null,0,null,0,null,0,null,0,null,0,null,0,null,0,null,0]
[null,null,null,null,null,null,null,null,0,null,0,null,0,null,0,null,0,null,0,null,0,null,0,null,0,null,0,null,0,null,0,null,0,null,0,null,0,null,0,null,0,null,0,null,0,null,0,null,0,null,0,null,0,null,0,null,0,null,0,null,0,null,0,null,0,null,0,null,0,null,0,null,0,null,0,null,0,null,0,null,0,null,0,null,0,null,0,null,0,null,0,null,0,null,0,null,0,null,0,null,0,null,0,null,0,null,0,null,0,null,0,null,0,null,0,null,0,null,0,null,0,null,0,null,0,null,0]
[null,null,null,null,null,null,null,null,0,null,0,null,0,null,0,null,0,null,0,null,0,null,0,null,0,null,0,null,0,null,0,null,0,null,0,null,0,null,0,null,0,null,0,null,0,null,0,null,0,null,0,null,0,null,0,null,0,null,0,null,0,null,0,null,0,null,0,null,0,null,0,null,0,null,0,null,0,null,0,null,0,null,0,null,0,null,0,null,0,null,0,null,0,null,0,null,0,null,0,null,0,null,0,null,0,null,0,null,0,null,0,null,0,null,0,null,0,null,0,null,0,null,0,null,0,null,0]
[null,null,null,null,null,null,null,null,0,null,0,null,0,null,0,null,0,null,0,null,0,null,0,null,0,null,0,null,0,null,0,null,0,null,0,null,0,null,0,null,0,null,0,null,0,null,0,null,0,null,0,null,0,null,0,null,0,null,0,null,0,null,0,null,0,null,0,null,0,null,0,null,0,null,0,null,0,null,0,null,0,null,0,null,0,null,0,null,0,null,0,null,0,null,0,null,0,null,0,null,0,null,0,null,0,null,0,null,0,null,0,null,0,null,0,null,0,null,0,null,0,null,0,null,0,null,0]
[null,null,null,null,null,null,null,null,0]
[]
[null,null,"ITEM","DESCRIÇÃO","QUANT ANUAL","VALOR"]
[null,null,null,null,null,null,null,null,null,{"$f":"IF(SUM(I$15:I$22)>0,$E25*$F25,0)","v":0},null,{"$f":"IF(SUM(K$15:K$22)>0,$E25*$F25,0)","v":0},null,{"$f":"IF(SUM(M$15:M$22)>0,$E25*$F25,0)","v":0},null,{"$f":"IF(SUM(O$15:O$22)>0,$E25*$F25,0)","v":0},null,{"$f":"IF(SUM(Q$15:Q$22)>0,$E25*$F25,0)","v":0},null,{"$f":"IF(SUM(S$15:S$22)>0,$E25*$F25,0)","v":0},null,{"$f":"IF(SUM(U$15:U$22)>0,$E25*$F25,0)","v":0},null,{"$f":"IF(SUM(W$15:W$22)>0,$E25*$F25,0)","v":0},null,{"$f":"IF(SUM(Y$15:Y$22)>0,$E25*$F25,0)","v":0},null,{"$f":"IF(SUM(AA$15:AA$22)>0,$E25*$F25,0)","v":0},null,{"$f":"IF(SUM(AC$15:AC$22)>0,$E25*$F25,0)","v":0},null,{"$f":"IF(SUM(AE$15:AE$22)>0,$E25*$F25,0)","v":0},null,{"$f":"IF(SUM(AG$15:AG$22)>0,$E25*$F25,0)","v":0},null,{"$f":"IF(SUM(AI$15:AI$22)>0,$E25*$F25,0)","v":0},null,{"$f":"IF(SUM(AK$15:AK$22)>0,$E25*$F25,0)","v":0},null,{"$f":"IF(SUM(AM$15:AM$22)>0,$E25*$F25,0)","v":0},null,{"$f":"IF(SUM(AO$15:AO$22)>0,$E25*$F25,0)","v":0},null,{"$f":"IF(SUM(AQ$15:AQ$22)>0,$E25*$F25,0)","v":0},null,{"$f":"IF(SUM(AS$15:AS$22)>0,$E25*$F25,0)","v":0},null,{"$f":"IF(SUM(AU$15:AU$22)>0,$E25*$F25,0)","v":0},null,{"$f":"IF(SUM(AW$15:AW$22)>0,$E25*$F25,0)","v":0},null,{"$f":"IF(SUM(AY$15:AY$22)>0,$E25*$F25,0)","v":0},null,{"$f":"IF(SUM(BA$15:BA$22)>0,$E25*$F25,0)","v":0},null,{"$f":"IF(SUM(BC$15:BC$22)>0,$E25*$F25,0)","v":0},null,{"$f":"IF(SUM(BE$15:BE$22)>0,$E25*$F25,0)","v":0},null,{"$f":"IF(SUM(BG$15:BG$22)>0,$E25*$F25,0)","v":0},null,{"$f":"IF(SUM(BI$15:BI$22)>0,$E25*$F25,0)","v":0},null,{"$f":"IF(SUM(BK$15:BK$22)>0,$E25*$F25,0)","v":0},null,{"$f":"IF(SUM(BM$15:BM$22)>0,$E25*$F25,0)","v":0},null,{"$f":"IF(SUM(BO$15:BO$22)>0,$E25*$F25,0)","v":0},null,{"$f":"IF(SUM(BQ$15:BQ$22)>0,$E25*$F25,0)","v":0},null,{"$f":"IF(SUM(BS$15:BS$22)>0,$E25*$F25,0)","v":0},null,{"$f":"IF(SUM(BU$15:BU$22)>0,$E25*$F25,0)","v":0},null,{"$f":"IF(SUM(BW$15:BW$22)>0,$E25*$F25,0)","v":0},null,{"$f":"IF(SUM(BY$15:BY$22)>0,$E25*$F25,0)","v":0},null,{"$f":"IF(SUM(CA$15:CA$22)>0,$E25*$F25,0)","v":0},null,{"$f":"IF(SUM(CC$15:CC$22)>0,$E25*$F25,0)","v":0},null,{"$f":"IF(SUM(CE$15:CE$22)>0,$E25*$F25,0)","v":0},null,{"$f":"IF(SUM(CG$15:CG$22)>0,$E25*$F25,0)","v":0},null,{"$f":"IF(SUM(CI$15:CI$22)>0,$E25*$F25,0)","v":0},null,{"$f":"IF(SUM(CK$15:CK$22)>0,$E25*$F25,0)","v":0},null,{"$f":"IF(SUM(CM$15:CM$22)>0,$E25*$F25,0)","v":0},null,{"$f":"IF(SUM(CO$15:CO$22)>0,$E25*$F25,0)","v":0},null,{"$f":"IF(SUM(CQ$15:CQ$22)>0,$E25*$F25,0)","v":0},null,{"$f":"IF(SUM(CS$15:CS$22)>0,$E25*$F25,0)","v":0},null,{"$f":"IF(SUM(CU$15:CU$22)>0,$E25*$F25,0)","v":0},null,{"$f":"IF(SUM(CW$15:CW$22)>0,$E25*$F25,0)","v":0},null,{"$f":"IF(SUM(CY$15:CY$22)>0,$E25*$F25,0)","v":0},null,{"$f":"IF(SUM(DA$15:DA$22)>0,$E25*$F25,0)","v":0},null,{"$f":"IF(SUM(DC$15:DC$22)>0,$E25*$F25,0)","v":0},null,{"$f":"IF(SUM(DE$15:DE$22)>0,$E25*$F25,0)","v":0},null,{"$f":"IF(SUM(DG$15:DG$22)>0,$E25*$F25,0)","v":0},null,{"$f":"IF(SUM(DI$15:DI$22)>0,$E25*$F25,0)","v":0},null,{"$f":"IF(SUM(DK$15:DK$22)>0,$E25*$F25,0)","v":0},null,{"$f":"IF(SUM(DM$15:DM$22)>0,$E25*$F25,0)","v":0},null,{"$f":"IF(SUM(DO$15:DO$22)>0,$E25*$F25,0)","v":0},null,{"$f":"IF(SUM(DQ$15:DQ$22)>0,$E25*$F25,0)","v":0},null,{"$f":"IF(SUM(DS$15:DS$22)>0,$E25*$F25,0)","v":0},null,{"$f":"IF(SUM(DU$15:DU$22)>0,$E25*$F25,0)","v":0},null,{"$f":"IF(SUM(DW$15:DW$22)>0,$E25*$F25,0)","v":0}]
[null,null,null,null,null,null,null,null,null,{"$f":"IF(SUM(I$15:I$22)>0,$E26*$F26,0)","v":0},null,{"$f":"IF(SUM(K$15:K$22)>0,$E26*$F26,0)","v":0},null,{"$f":"IF(SUM(M$15:M$22)>0,$E26*$F26,0)","v":0},null,{"$f":"IF(SUM(O$15:O$22)>0,$E26*$F26,0)","v":0},null,{"$f":"IF(SUM(Q$15:Q$22)>0,$E26*$F26,0)","v":0},null,{"$f":"IF(SUM(S$15:S$22)>0,$E26*$F26,0)","v":0},null,{"$f":"IF(SUM(U$15:U$22)>0,$E26*$F26,0)","v":0},null,{"$f":"IF(SUM(W$15:W$22)>0,$E26*$F26,0)","v":0},null,{"$f":"IF(SUM(Y$15:Y$22)>0,$E26*$F26,0)","v":0},null,{"$f":"IF(SUM(AA$15:AA$22)>0,$E26*$F26,0)","v":0},null,{"$f":"IF(SUM(AC$15:AC$22)>0,$E26*$F26,0)","v":0},null,{"$f":"IF(SUM(AE$15:AE$22)>0,$E26*$F26,0)","v":0},null,{"$f":"IF(SUM(AG$15:AG$22)>0,$E26*$F26,0)","v":0},null,{"$f":"IF(SUM(AI$15:AI$22)>0,$E26*$F26,0)","v":0},null,{"$f":"IF(SUM(AK$15:AK$22)>0,$E26*$F26,0)","v":0},null,{"$f":"IF(SUM(AM$15:AM$22)>0,$E26*$F26,0)","v":0},null,{"$f":"IF(SUM(AO$15:AO$22)>0,$E26*$F26,0)","v":0},null,{"$f":"IF(SUM(AQ$15:AQ$22)>0,$E26*$F26,0)","v":0},null,{"$f":"IF(SUM(AS$15:AS$22)>0,$E26*$F26,0)","v":0},null,{"$f":"IF(SUM(AU$15:AU$22)>0,$E26*$F26,0)","v":0},null,{"$f":"IF(SUM(AW$15:AW$22)>0,$E26*$F26,0)","v":0},null,{"$f":"IF(SUM(AY$15:AY$22)>0,$E26*$F26,0)","v":0},null,{"$f":"IF(SUM(BA$15:BA$22)>0,$E26*$F26,0)","v":0},null,{"$f":"IF(SUM(BC$15:BC$22)>0,$E26*$F26,0)","v":0},null,{"$f":"IF(SUM(BE$15:BE$22)>0,$E26*$F26,0)","v":0},null,{"$f":"IF(SUM(BG$15:BG$22)>0,$E26*$F26,0)","v":0},null,{"$f":"IF(SUM(BI$15:BI$22)>0,$E26*$F26,0)","v":0},null,{"$f":"IF(SUM(BK$15:BK$22)>0,$E26*$F26,0)","v":0},null,{"$f":"IF(SUM(BM$15:BM$22)>0,$E26*$F26,0)","v":0},null,{"$f":"IF(SUM(BO$15:BO$22)>0,$E26*$F26,0)","v":0},null,{"$f":"IF(SUM(BQ$15:BQ$22)>0,$E26*$F26,0)","v":0},null,{"$f":"IF(SUM(BS$15:BS$22)>0,$E26*$F26,0)","v":0},null,{"$f":"IF(SUM(BU$15:BU$22)>0,$E26*$F26,0)","v":0},null,{"$f":"IF(SUM(BW$15:BW$22)>0,$E26*$F26,0)","v":0},null,{"$f":"IF(SUM(BY$15:BY$22)>0,$E26*$F26,0)","v":0},null,{"$f":"IF(SUM(CA$15:CA$22)>0,$E26*$F26,0)","v":0},null,{"$f":"IF(SUM(CC$15:CC$22)>0,$E26*$F26,0)","v":0},null,{"$f":"IF(SUM(CE$15:CE$22)>0,$E26*$F26,0)","v":0},null,{"$f":"IF(SUM(CG$15:CG$22)>0,$E26*$F26,0)","v":0},null,{"$f":"IF(SUM(CI$15:CI$22)>0,$E26*$F26,0)","v":0},null,{"$f":"IF(SUM(CK$15:CK$22)>0,$E26*$F26,0)","v":0},null,{"$f":"IF(SUM(CM$15:CM$22)>0,$E26*$F26,0)","v":0},null,{"$f":"IF(SUM(CO$15:CO$22)>0,$E26*$F26,0)","v":0},null,{"$f":"IF(SUM(CQ$15:CQ$22)>0,$E26*$F26,0)","v":0},null,{"$f":"IF(SUM(CS$15:CS$22)>0,$E26*$F26,0)","v":0},null,{"$f":"IF(SUM(CU$15:CU$22)>0,$E26*$F26,0)","v":0},null,{"$f":"IF(SUM(CW$15:CW$22)>0,$E26*$F26,0)","v":0},null,{"$f":"IF(SUM(CY$15:CY$22)>0,$E26*$F26,0)","v":0},null,{"$f":"IF(SUM(DA$15:DA$22)>0,$E26*$F26,0)","v":0},null,{"$f":"IF(SUM(DC$15:DC$22)>0,$E26*$F26,0)","v":0},null,{"$f":"IF(SUM(DE$15:DE$22)>0,$E26*$F26,0)","v":0},null,{"$f":"IF(SUM(DG$15:DG$22)>0,$E26*$F26,0)","v":0},null,{"$f":"IF(SUM(DI$15:DI$22)>0,$E26*$F26,0)","v":0},null,{"$f":"IF(SUM(DK$15:DK$22)>0,$E26*$F26,0)","v":0},null,{"$f":"IF(SUM(DM$15:DM$22)>0,$E26*$F26,0)","v":0},null,{"$f":"IF(SUM(DO$15:DO$22)>0,$E26*$F26,0)","v":0},null,{"$f":"IF(SUM(DQ$15:DQ$22)>0,$E26*$F26,0)","v":0},null,{"$f":"IF(SUM(DS$15:DS$22)>0,$E26*$F26,0)","v":0},null,{"$f":"IF(SUM(DU$15:DU$22)>0,$E26*$F26,0)","v":0},null,{"$f":"IF(SUM(DW$15:DW$22)>0,$E26*$F26,0)","v":0}]
[null,null,null,null,null,null,null,null,null,{"$f":"IF(SUM(I$15:I$22)>0,$E27*$F27,0)","v":0},null,{"$f":"IF(SUM(K$15:K$22)>0,$E27*$F27,0)","v":0},null,{"$f":"IF(SUM(M$15:M$22)>0,$E27*$F27,0)","v":0},null,{"$f":"IF(SUM(O$15:O$22)>0,$E27*$F27,0)","v":0},null,{"$f":"IF(SUM(Q$15:Q$22)>0,$E27*$F27,0)","v":0},null,{"$f":"IF(SUM(S$15:S$22)>0,$E27*$F27,0)","v":0},null,{"$f":"IF(SUM(U$15:U$22)>0,$E27*$F27,0)","v":0},null,{"$f":"IF(SUM(W$15:W$22)>0,$E27*$F27,0)","v":0},null,{"$f":"IF(SUM(Y$15:Y$22)>0,$E27*$F27,0)","v":0},null,{"$f":"IF(SUM(AA$15:AA$22)>0,$E27*$F27,0)","v":0},null,{"$f":"IF(SUM(AC$15:AC$22)>0,$E27*$F27,0)","v":0},null,{"$f":"IF(SUM(AE$15:AE$22)>0,$E27*$F27,0)","v":0},null,{"$f":"IF(SUM(AG$15:AG$22)>0,$E27*$F27,0)","v":0},null,{"$f":"IF(SUM(AI$15:AI$22)>0,$E27*$F27,0)","v":0},null,{"$f":"IF(SUM(AK$15:AK$22)>0,$E27*$F27,0)","v":0},null,{"$f":"IF(SUM(AM$15:AM$22)>0,$E27*$F27,0)","v":0},null,{"$f":"IF(SUM(AO$15:AO$22)>0,$E27*$F27,0)","v":0},null,{"$f":"IF(SUM(AQ$15:AQ$22)>0,$E27*$F27,0)","v":0},null,{"$f":"IF(SUM(AS$15:AS$22)>0,$E27*$F27,0)","v":0},null,{"$f":"IF(SUM(AU$15:AU$22)>0,$E27*$F27,0)","v":0},null,{"$f":"IF(SUM(AW$15:AW$22)>0,$E27*$F27,0)","v":0},null,{"$f":"IF(SUM(AY$15:AY$22)>0,$E27*$F27,0)","v":0},null,{"$f":"IF(SUM(BA$15:BA$22)>0,$E27*$F27,0)","v":0},null,{"$f":"IF(SUM(BC$15:BC$22)>0,$E27*$F27,0)","v":0},null,{"$f":"IF(SUM(BE$15:BE$22)>0,$E27*$F27,0)","v":0},null,{"$f":"IF(SUM(BG$15:BG$22)>0,$E27*$F27,0)","v":0},null,{"$f":"IF(SUM(BI$15:BI$22)>0,$E27*$F27,0)","v":0},null,{"$f":"IF(SUM(BK$15:BK$22)>0,$E27*$F27,0)","v":0},null,{"$f":"IF(SUM(BM$15:BM$22)>0,$E27*$F27,0)","v":0},null,{"$f":"IF(SUM(BO$15:BO$22)>0,$E27*$F27,0)","v":0},null,{"$f":"IF(SUM(BQ$15:BQ$22)>0,$E27*$F27,0)","v":0},null,{"$f":"IF(SUM(BS$15:BS$22)>0,$E27*$F27,0)","v":0},null,{"$f":"IF(SUM(BU$15:BU$22)>0,$E27*$F27,0)","v":0},null,{"$f":"IF(SUM(BW$15:BW$22)>0,$E27*$F27,0)","v":0},null,{"$f":"IF(SUM(BY$15:BY$22)>0,$E27*$F27,0)","v":0},null,{"$f":"IF(SUM(CA$15:CA$22)>0,$E27*$F27,0)","v":0},null,{"$f":"IF(SUM(CC$15:CC$22)>0,$E27*$F27,0)","v":0},null,{"$f":"IF(SUM(CE$15:CE$22)>0,$E27*$F27,0)","v":0},null,{"$f":"IF(SUM(CG$15:CG$22)>0,$E27*$F27,0)","v":0},null,{"$f":"IF(SUM(CI$15:CI$22)>0,$E27*$F27,0)","v":0},null,{"$f":"IF(SUM(CK$15:CK$22)>0,$E27*$F27,0)","v":0},null,{"$f":"IF(SUM(CM$15:CM$22)>0,$E27*$F27,0)","v":0},null,{"$f":"IF(SUM(CO$15:CO$22)>0,$E27*$F27,0)","v":0},null,{"$f":"IF(SUM(CQ$15:CQ$22)>0,$E27*$F27,0)","v":0},null,{"$f":"IF(SUM(CS$15:CS$22)>0,$E27*$F27,0)","v":0},null,{"$f":"IF(SUM(CU$15:CU$22)>0,$E27*$F27,0)","v":0},null,{"$f":"IF(SUM(CW$15:CW$22)>0,$E27*$F27,0)","v":0},null,{"$f":"IF(SUM(CY$15:CY$22)>0,$E27*$F27,0)","v":0},null,{"$f":"IF(SUM(DA$15:DA$22)>0,$E27*$F27,0)","v":0},null,{"$f":"IF(SUM(DC$15:DC$22)>0,$E27*$F27,0)","v":0},null,{"$f":"IF(SUM(DE$15:DE$22)>0,$E27*$F27,0)","v":0},null,{"$f":"IF(SUM(DG$15:DG$22)>0,$E27*$F27,0)","v":0},null,{"$f":"IF(SUM(DI$15:DI$22)>0,$E27*$F27,0)","v":0},null,{"$f":"IF(SUM(DK$15:DK$22)>0,$E27*$F27,0)","v":0},null,{"$f":"IF(SUM(DM$15:DM$22)>0,$E27*$F27,0)","v":0},null,{"$f":"IF(SUM(DO$15:DO$22)>0,$E27*$F27,0)","v":0},null,{"$f":"IF(SUM(DQ$15:DQ$22)>0,$E27*$F27,0)","v":0},null,{"$f":"IF(SUM(DS$15:DS$22)>0,$E27*$F27,0)","v":0},null,{"$f":"IF(SUM(DU$15:DU$22)>0,$E27*$F27,0)","v":0},null,{"$f":"IF(SUM(DW$15:DW$22)>0,$E27*$F27,0)","v":0}]
[null,null,null,null,null,null,null,null,null,{"$f":"IF(SUM(I$15:I$22)>0,$E28*$F28,0)","v":0},null,{"$f":"IF(SUM(K$15:K$22)>0,$E28*$F28,0)","v":0},null,{"$f":"IF(SUM(M$15:M$22)>0,$E28*$F28,0)","v":0},null,{"$f":"IF(SUM(O$15:O$22)>0,$E28*$F28,0)","v":0},null,{"$f":"IF(SUM(Q$15:Q$22)>0,$E28*$F28,0)","v":0},null,{"$f":"IF(SUM(S$15:S$22)>0,$E28*$F28,0)","v":0},null,{"$f":"IF(SUM(U$15:U$22)>0,$E28*$F28,0)","v":0},null,{"$f":"IF(SUM(W$15:W$22)>0,$E28*$F28,0)","v":0},null,{"$f":"IF(SUM(Y$15:Y$22)>0,$E28*$F28,0)","v":0},null,{"$f":"IF(SUM(AA$15:AA$22)>0,$E28*$F28,0)","v":0},null,{"$f":"IF(SUM(AC$15:AC$22)>0,$E28*$F28,0)","v":0},null,{"$f":"IF(SUM(AE$15:AE$22)>0,$E28*$F28,0)","v":0},null,{"$f":"IF(SUM(AG$15:AG$22)>0,$E28*$F28,0)","v":0},null,{"$f":"IF(SUM(AI$15:AI$22)>0,$E28*$F28,0)","v":0},null,{"$f":"IF(SUM(AK$15:AK$22)>0,$E28*$F28,0)","v":0},null,{"$f":"IF(SUM(AM$15:AM$22)>0,$E28*$F28,0)","v":0},null,{"$f":"IF(SUM(AO$15:AO$22)>0,$E28*$F28,0)","v":0},null,{"$f":"IF(SUM(AQ$15:AQ$22)>0,$E28*$F28,0)","v":0},null,{"$f":"IF(SUM(AS$15:AS$22)>0,$E28*$F28,0)","v":0},null,{"$f":"IF(SUM(AU$15:AU$22)>0,$E28*$F28,0)","v":0},null,{"$f":"IF(SUM(AW$15:AW$22)>0,$E28*$F28,0)","v":0},null,{"$f":"IF(SUM(AY$15:AY$22)>0,$E28*$F28,0)","v":0},null,{"$f":"IF(SUM(BA$15:BA$22)>0,$E28*$F28,0)","v":0},null,{"$f":"IF(SUM(BC$15:BC$22)>0,$E28*$F28,0)","v":0},null,{"$f":"IF(SUM(BE$15:BE$22)>0,$E28*$F28,0)","v":0},null,{"$f":"IF(SUM(BG$15:BG$22)>0,$E28*$F28,0)","v":0},null,{"$f":"IF(SUM(BI$15:BI$22)>0,$E28*$F28,0)","v":0},null,{"$f":"IF(SUM(BK$15:BK$22)>0,$E28*$F28,0)","v":0},null,{"$f":"IF(SUM(BM$15:BM$22)>0,$E28*$F28,0)","v":0},null,{"$f":"IF(SUM(BO$15:BO$22)>0,$E28*$F28,0)","v":0},null,{"$f":"IF(SUM(BQ$15:BQ$22)>0,$E28*$F28,0)","v":0},null,{"$f":"IF(SUM(BS$15:BS$22)>0,$E28*$F28,0)","v":0},null,{"$f":"IF(SUM(BU$15:BU$22)>0,$E28*$F28,0)","v":0},null,{"$f":"IF(SUM(BW$15:BW$22)>0,$E28*$F28,0)","v":0},null,{"$f":"IF(SUM(BY$15:BY$22)>0,$E28*$F28,0)","v":0},null,{"$f":"IF(SUM(CA$15:CA$22)>0,$E28*$F28,0)","v":0},null,{"$f":"IF(SUM(CC$15:CC$22)>0,$E28*$F28,0)","v":0},null,{"$f":"IF(SUM(CE$15:CE$22)>0,$E28*$F28,0)","v":0},null,{"$f":"IF(SUM(CG$15:CG$22)>0,$E28*$F28,0)","v":0},null,{"$f":"IF(SUM(CI$15:CI$22)>0,$E28*$F28,0)","v":0},null,{"$f":"IF(SUM(CK$15:CK$22)>0,$E28*$F28,0)","v":0},null,{"$f":"IF(SUM(CM$15:CM$22)>0,$E28*$F28,0)","v":0},null,{"$f":"IF(SUM(CO$15:CO$22)>0,$E28*$F28,0)","v":0},null,{"$f":"IF(SUM(CQ$15:CQ$22)>0,$E28*$F28,0)","v":0},null,{"$f":"IF(SUM(CS$15:CS$22)>0,$E28*$F28,0)","v":0},null,{"$f":"IF(SUM(CU$15:CU$22)>0,$E28*$F28,0)","v":0},null,{"$f":"IF(SUM(CW$15:CW$22)>0,$E28*$F28,0)","v":0},null,{"$f":"IF(SUM(CY$15:CY$22)>0,$E28*$F28,0)","v":0},null,{"$f":"IF(SUM(DA$15:DA$22)>0,$E28*$F28,0)","v":0},null,{"$f":"IF(SUM(DC$15:DC$22)>0,$E28*$F28,0)","v":0},null,{"$f":"IF(SUM(DE$15:DE$22)>0,$E28*$F28,0)","v":0},null,{"$f":"IF(SUM(DG$15:DG$22)>0,$E28*$F28,0)","v":0},null,{"$f":"IF(SUM(DI$15:DI$22)>0,$E28*$F28,0)","v":0},null,{"$f":"IF(SUM(DK$15:DK$22)>0,$E28*$F28,0)","v":0},null,{"$f":"IF(SUM(DM$15:DM$22)>0,$E28*$F28,0)","v":0},null,{"$f":"IF(SUM(DO$15:DO$22)>0,$E28*$F28,0)","v":0},null,{"$f":"IF(SUM(DQ$15:DQ$22)>0,$E28*$F28,0)","v":0},null,{"$f":"IF(SUM(DS$15:DS$22)>0,$E28*$F28,0)","v":0},null,{"$f":"IF(SUM(DU$15:DU$22)>0,$E28*$F28,0)","v":0},null,{"$f":"IF(SUM(DW$15:DW$22)>0,$E28*$F28,0)","v":0}]

{"sheet":"Mat Perm","index":34,"n_rows":113,"n_cols":136,"rows_kept":113,"cut":false,"hidden":true,"merged":[[9,1,9,3],[10,1,10,14]]}
[null,null,"CÂMARA DOS DEPUTADOS"]
[null,null,"DEPARTAMENTO TÉCNICO"]
[null,null,"Coordenação de Planejamento e Gestão"]
[]
[null,null,"Data:",{"$f":"'Dados Gerais'!#REF!","v":{"$error":"#REF!"}}]
[null,null,"Processo:",{"$f":"'Dados Gerais'!#REF!","v":{"$error":"#REF!"}}]
[null,null,"Objeto:",{"$f":"'Dados Gerais'!#REF!","v":{"$error":"#REF!"}}]
[]
[]
[]
[null,"MATERIAIS PERMANENTES RELACIONADOS AO POSTO - PAGAMENTO DA DEPRECIAÇÃO / MANUTENÇÃO",null,null,null,null,null,null,null,null,null,null,null,null,null,null,1,null,{"$f":"Q11+1","v":2},null,{"$f":"S11+1","v":3},null,{"$f":"U11+1","v":4},null,{"$f":"W11+1","v":5},null,{"$f":"Y11+1","v":6},null,{"$f":"AA11+1","v":7},null,{"$f":"AC11+1","v":8},null,{"$f":"AE11+1","v":9},null,{"$f":"AG11+1","v":10},null,{"$f":"AI11+1","v":11},null,{"$f":"AK11+1","v":12},null,{"$f":"AM11+1","v":13},null,{"$f":"AO11+1","v":14},null,{"$f":"AQ11+1","v":15},null,{"$f":"AS11+1","v":16},null,{"$f":"AU11+1","v":17},null,{"$f":"AW11+1","v":18},null,{"$f":"AY11+1","v":19},null,{"$f":"BA11+1","v":20},null,{"$f":"BC11+1","v":21},null,{"$f":"BE11+1","v":22},null,{"$f":"BG11+1","v":23},null,{"$f":"BI11+1","v":24},null,{"$f":"BK11+1","v":25},null,{"$f":"BM11+1","v":26},null,{"$f":"BO11+1","v":27},null,{"$f":"BQ11+1","v":28},null,{"$f":"BS11+1","v":29},null,{"$f":"BU11+1","v":30},null,{"$f":"BW11+1","v":31},null,{"$f":"BY11+1","v":32},null,{"$f":"CA11+1","v":33},null,{"$f":"CC11+1","v":34},null,{"$f":"CE11+1","v":35},null,{"$f":"CG11+1","v":36},null,{"$f":"CI11+1","v":37},null,{"$f":"CK11+1","v":38},null,{"$f":"CM11+1","v":39},null,{"$f":"CO11+1","v":40},null,{"$f":"CQ11+1","v":41},null,{"$f":"CS11+1","v":42},null,{"$f":"CU11+1","v":43},null,{"$f":"CW11+1","v":44},null,{"$f":"CY11+1","v":45},null,{"$f":"DA11+1","v":46},null,{"$f":"DC11+1","v":47},null,{"$f":"DE11+1","v":48},null,{"$f":"DG11+1","v":49},null,{"$f":"DI11+1","v":50},null,{"$f":"DK11+1","v":51},null,{"$f":"DM11+1","v":52},null,{"$f":"DO11+1","v":53},null,{"$f":"DQ11+1","v":54},null,{"$f":"DS11+1","v":55},null,{"$f":"DU11+1","v":56},null,{"$f":"DW11+1","v":57},null,{"$f":"DY11+1","v":58},null,{"$f":"EA11+1","v":59},null,{"$f":"EC11+1","v":60}]
[]
[null,null,null,null,null,null,null,null,null,null,null,null,null,null,null,null,{"$f":"SUM(R12:R94)","v":0},null,{"$f":"SUM(T12:T94)","v":0},null,{"$f":"SUM(V12:V94)","v":0},null,{"$f":"SUM(X12:X94)","v":0},null,{"$f":"SUM(Z12:Z94)","v":0},null,{"$f":"SUM(AB12:AB94)","v":0},null,{"$f":"SUM(AD12:AD94)","v":0},null,{"$f":"SUM(AF12:AF94)","v":0},null,{"$f":"SUM(AH12:AH94)","v":0},null,{"$f":"SUM(AJ12:AJ94)","v":0},null,{"$f":"SUM(AL12:AL94)","v":0},null,{"$f":"SUM(AN12:AN94)","v":0},null,{"$f":"SUM(AP12:AP94)","v":0},null,{"$f":"SUM(AR12:AR94)","v":0},null,{"$f":"SUM(AT12:AT94)","v":0},null,{"$f":"SUM(AV12:AV94)","v":0},null,{"$f":"SUM(AX12:AX94)","v":0},null,{"$f":"SUM(AZ12:AZ94)","v":0},null,{"$f":"SUM(BB12:BB94)","v":0},null,{"$f":"SUM(BD12:BD94)","v":0},null,{"$f":"SUM(BF12:BF94)","v":0},null,{"$f":"SUM(BH12:BH94)","v":0},null,{"$f":"SUM(BJ12:BJ94)","v":0},null,{"$f":"SUM(BL12:BL94)","v":0},null,{"$f":"SUM(BN12:BN94)","v":0},null,{"$f":"SUM(BP12:BP94)","v":0},null,{"$f":"SUM(BR12:BR94)","v":0},null,{"$f":"SUM(BT12:BT94)","v":0},null,{"$f":"SUM(BV12:BV94)","v":0},null,{"$f":"SUM(BX12:BX94)","v":0},null,{"$f":"SUM(BZ12:BZ94)","v":0},null,{"$f":"SUM(CB12:CB94)","v":0},null,{"$f":"SUM(CD12:CD94)","v":0},null,{"$f":"SUM(CF12:CF94)","v":0},null,{"$f":"SUM(CH12:CH94)","v":0},null,{"$f":"SUM(CJ12:CJ94)","v":0},null,{"$f":"SUM(CL12:CL94)","v":0},null,{"$f":"SUM(CN12:CN94)","v":0},null,{"$f":"SUM(CP12:CP94)","v":0},null,{"$f":"SUM(CR12:CR94)","v":0},null,{"$f":"SUM(CT12:CT94)","v":0},null,{"$f":"SUM(CV12:CV94)","v":0},null,{"$f":"SUM(CX12:CX94)","v":0},null,{"$f":"SUM(CZ12:CZ94)","v":0},null,{"$f":"SUM(DB12:DB94)","v":0},null,{"$f":"SUM(DD12:DD94)","v":0},null,{"$f":"SUM(DF12:DF94)","v":0},null,{"$f":"SUM(DH12:DH94)","v":0},null,{"$f":"SUM(DJ12:DJ94)","v":0},null,{"$f":"SUM(DL12:DL94)","v":0},null,{"$f":"SUM(DN12:DN94)","v":0},null,{"$f":"SUM(DP12:DP94)","v":0},null,{"$f":"SUM(DR12:DR94)","v":0},null,{"$f":"SUM(DT12:DT94)","v":0},null,{"$f":"SUM(DV12:DV94)","v":0},null,{"$f":"SUM(DX12:DX94)","v":0},null,{"$f":"SUM(DZ12:DZ94)","v":0},null,{"$f":"SUM(EB12:EB94)","v":0},null,{"$f":"SUM(ED12:ED94)","v":0},null,{"$f":"SUM(EF12:EF94)","v":0}]
[null,null,"CATEGORIAS",null,"QUANTIDADE"]
[null,null,null,null,null,null,null,null,null,null,null,null,null,null,null,null,{"$f":"IF($C15=Q$11,1,0)","v":0},null,{"$f":"IF($C15=S$11,1,0)","v":0},null,{"$f":"IF($C15=U$11,1,0)","v":0},null,{"$f":"IF($C15=W$11,1,0)","v":0},null,{"$f":"IF($C15=Y$11,1,0)","v":0},null,{"$f":"IF($C15=AA$11,1,0)","v":0},null,{"$f":"IF($C15=AC$11,1,0)","v":0},null,{"$f":"IF($C15=AE$11,1,0)","v":0},null,{"$f":"IF($C15=AG$11,1,0)","v":0},null,{"$f":"IF($C15=AI$11,1,0)","v":0},null,{"$f":"IF($C15=AK$11,1,0)","v":0},null,{"$f":"IF($C15=AM$11,1,0)","v":0},null,{"$f":"IF($C15=AO$11,1,0)","v":0},null,{"$f":"IF($C15=AQ$11,1,0)","v":0},null,{"$f":"IF($C15=AS$11,1,0)","v":0},null,{"$f":"IF($C15=AU$11,1,0)","v":0},null,{"$f":"IF($C15=AW$11,1,0)","v":0},null,{"$f":"IF($C15=AY$11,1,0)","v":0},null,{"$f":"IF($C15=BA$11,1,0)","v":0},null,{"$f":"IF($C15=BC$11,1,0)","v":0},null,{"$f":"IF($C15=BE$11,1,0)","v":0},null,{"$f":"IF($C15=BG$11,1,0)","v":0},null,{"$f":"IF($C15=BI$11,1,0)","v":0},null,{"$f":"IF($C15=BK$11,1,0)","v":0},null,{"$f":"IF($C15=BM$11,1,0)","v":0},null,{"$f":"IF($C15=BO$11,1,0)","v":0},null,{"$f":"IF($C15=BQ$11,1,0)","v":0},null,{"$f":"IF($C15=BS$11,1,0)","v":0},null,{"$f":"IF($C15=BU$11,1,0)","v":0},null,{"$f":"IF($C15=BW$11,1,0)","v":0},null,{"$f":"IF($C15=BY$11,1,0)","v":0},null,{"$f":"IF($C15=CA$11,1,0)","v":0},null,{"$f":"IF($C15=CC$11,1,0)","v":0},null,{"$f":"IF($C15=CE$11,1,0)","v":0},null,{"$f":"IF($C15=CG$11,1,0)","v":0},null,{"$f":"IF($C15=CI$11,1,0)","v":0},null,{"$f":"IF($C15=CK$11,1,0)","v":0},null,{"$f":"IF($C15=CM$11,1,0)","v":0},null,{"$f":"IF($C15=CO$11,1,0)","v":0},null,{"$f":"IF($C15=CQ$11,1,0)","v":0},null,{"$f":"IF($C15=CS$11,1,0)","v":0},null,{"$f":"IF($C15=CU$11,1,0)","v":0},null,{"$f":"IF($C15=CW$11,1,0)","v":0},null,{"$f":"IF($C15=CY$11,1,0)","v":0},null,{"$f":"IF($C15=DA$11,1,0)","v":0},null,{"$f":"IF($C15=DC$11,1,0)","v":0},null,{"$f":"IF($C15=DE$11,1,0)","v":0},null,{"$f":"IF($C15=DG$11,1,0)","v":0},null,{"$f":"IF($C15=DI$11,1,0)","v":0},null,{"$f":"IF($C15=DK$11,1,0)","v":0},null,{"$f":"IF($C15=DM$11,1,0)","v":0},null,{"$f":"IF($C15=DO$11,1,0)","v":0},null,{"$f":"IF($C15=DQ$11,1,0)","v":0},null,{"$f":"IF($C15=DS$11,1,0)","v":0},null,{"$f":"IF($C15=DU$11,1,0)","v":0},null,{"$f":"IF($C15=DW$11,1,0)","v":0},null,{"$f":"IF($C15=DY$11,1,0)","v":0},null,{"$f":"IF($C15=EA$11,1,0)","v":0},null,{"$f":"IF($C15=EC$11,1,0)","v":0},null,{"$f":"IF($C15=EE$11,1,0)","v":0}]
[null,null,null,{"$f":"HLOOKUP($C16,'Dados Gerais'!$D$6:$BK$11,6)","v":{"$error":"#N/A"}},{"$f":"HLOOKUP($C16,'Dados Gerais'!$D$6:$BK$15,10)","v":{"$error":"#N/A"}},null,null,null,null,null,null,null,null,null,null,null,0,null,0,null,0,null,0,null,0,null,0,null,0,null,0,null,0,null,0,null,0,null,0,null,0,null,0,null,0,null,0,null,0,null,0,null,0,null,0,null,0,null,0,null,0,null,0,null,0,null,0,null,0,null,0,null,0,null,0,null,0,null,0,null,0,null,0,null,0,null,0,null,0,null,0,null,0,null,0,null,0,null,0,null,0,null,0,null,0,null,0,null,0,null,0,null,0,null,0,null,0,null,0,null,0,null,0,null,0,null,0,null,0,null,0,null,0,null,0]
[null,null,null,{"$f":"HLOOKUP($C17,'Dados Gerais'!$D$6:$BK$11,6)","v":{"$error":"#N/A"}},{"$f":"HLOOKUP($C17,'Dados Gerais'!$D$6:$BK$15,10)","v":{"$error":"#N/A"}},null,null,null,null,null,null,null,null,null,null,null,0,null,0,null,0,null,0,null,0,null,0,null,0,null,0,null,0,null,0,null,0,null,0,null,0,null,0,null,0,null,0,null,0,null,0,null,0,null,0,null,0,null,0,null,0,null,0,null,0,null,0,null,0,null,0,null,0,null,0,null,0,null,0,null,0,null,0,null,0,null,0,null,0,null,0,null,0,null,0,null,0,null,0,null,0,null,0,null,0,null,0,null,0,null,0,null,0,null,0,null,0,null,0,null,0,null,0,null,0,null,0,null,0,null,0,null,0,null,0]
[null,null,null,{"$f":"HLOOKUP($C18,'Dados Gerais'!$D$6:$BK$11,6)","v":{"$error":"#N/A"}},{"$f":"HLOOKUP($C18,'Dados Gerais'!$D$6:$BK$15,10)","v":{"$error":"#N/A"}},null,null,null,null,null,null,null,null,null,null,null,0,null,0,null,0,null,0,null,0,null,0,null,0,null,0,null,0,null,0,null,0,null,0,null,0,null,0,null,0,null,0,null,0,null,0,null,0,null,0,null,0,null,0,null,0,null,0,null,0,null,0,null,0,null,0,null,0,null,0,null,0,null,0,null,0,null,0,null,0,null,0,null,0,null,0,null,0,null,0,null,0,null,0,null,0,null,0,null,0,null,0,null,0,null,0,null,0,null,0,null,0,null,0,null,0,null,0,null,0,null,0,null,0,null,0,null,0,null,0]
[null,null,null,{"$f":"HLOOKUP($C19,'Dados Gerais'!$D$6:$BK$11,6)","v":{"$error":"#N/A"}},{"$f":"HLOOKUP($C19,'Dados Gerais'!$D$6:$BK$15,10)","v":{"$error":"#N/A"}},null,null,null,null,null,null,null,null,null,null,null,0,null,0,null,0,null,0,null,0,null,0,null,0,null,0,null,0,null,0,null,0,null,0,null,0,null,0,null,0,null,0,null,0,null,0,null,0,null,0,null,0,null,0,null,0,null,0,null,0,null,0,null,0,null,0,null,0,null,0,null,0,null,0,null,0,null,0,null,0,null,0,null,0,null,0,null,0,null,0,null,0,null,0,null,0,null,0,null,0,null,0,null,0,null,0,null,0,null,0,null,0,null,0,null,0,null,0,null,0,null,0,null,0,null,0,null,0,null,0]
[null,null,null,{"$f":"HLOOKUP($C20,'Dados Gerais'!$D$6:$BK$11,6)","v":{"$error":"#N/A"}},{"$f":"HLOOKUP($C20,'Dados Gerais'!$D$6:$BK$15,10)","v":{"$error":"#N/A"}},null,null,null,null,null,null,null,null,null,null,null,0,null,0,null,0,null,0,null,0,null,0,null,0,null,0,null,0,null,0,null,0,null,0,null,0,null,0,null,0,null,0,null,0,null,0,null,0,null,0,null,0,null,0,null,0,null,0,null,0,null,0,null,0,null,0,null,0,null,0,null,0,null,0,null,0,null,0,null,0,null,0,null,0,null,0,null,0,null,0,null,0,null,0,null,0,null,0,null,0,null,0,null,0,null,0,null,0,null,0,null,0,null,0,null,0,null,0,null,0,null,0,null,0,null,0,null,0,null,0]
[null,null,null,{"$f":"HLOOKUP($C21,'Dados Gerais'!$D$6:$BK$11,6)","v":{"$error":"#N/A"}},{"$f":"HLOOKUP($C21,'Dados Gerais'!$D$6:$BK$15,10)","v":{"$error":"#N/A"}},null,null,null,null,null,null,null,null,null,null,null,0,null,0,null,0,null,0,null,0,null,0,null,0,null,0,null,0,null,0,null,0,null,0,null,0,null,0,null,0,null,0,null,0,null,0,null,0,null,0,null,0,null,0,null,0,null,0,null,0,null,0,null,0,null,0,null,0,null,0,null,0,null,0,null,0,null,0,null,0,null,0,null,0,null,0,null,0,null,0,null,0,null,0,null,0,null,0,null,0,null,0,null,0,null,0,null,0,null,0,null,0,null,0,null,0,null,0,null,0,null,0,null,0,null,0,null,0,null,0]
[null,null,null,null,null,null,null,null,null,null,null,null,null,null,null,null,0,null,0,null,0,null,0,null,0,null,0,null,0,null,0,null,0,null,0,null,0,null,0,null,0,null,0,null,0,null,0,null,0,null,0,null,0,null,0,null,0,null,0,null,0,null,0,null,0,null,0,null,0,null,0,null,0,null,0,null,0,null,0,null,0,null,0,null,0,null,0,null,0,null,0,null,0,null,0,null,0,null,0,null,0,null,0,null,0,null,0,null,0,null,0,null,0,null,0,null,0,null,0,null,0,null,0,null,0,null,0,null,0,null,0,null,0,null,0]
[]
[null,null,"PAGAMENTO DA DEPRECIAÇÃO"]
[null,null,"ITEM","DESCRIÇÃO","QUANT ANUAL","CONTA SIAFI","VALOR DE AQ.","% RESIDUAL","VIDA ÚTIL","DEP. MENSAL","CUSTO TOTAL","BDI (%)","PREÇO TOTAL","FONTE","REFERÊNCIA"]
[]
[null,null,null,null,null,"12311.01.09",89.34,0.1,10,{"$f":"G27*(1-H27)/(I27*12)","v":0.67005000000000003},{"$f":"J27*E27","v":0},{"$f":"BDI!$E$26","v":0.20399999999999999},{"$f":"ROUND(K27*(1+L27),2)","v":0},"COTAÇÃO"]
[null,null,null,null,null,"12311.01.09",39,0.1,10,{"$f":"G28*(1-H28)/(I28*12)","v":0.29250000000000004},{"$f":"J28*E28","v":0},{"$f":"BDI!$E$26","v":0.20399999999999999},{"$f":"ROUND(K28*(1+L28),2)","v":0},"COTAÇÃO"]
[null,null,null,null,null,"12311.01.09",22.08,0.1,10,0.1656,0,{"$f":"BDI!$E$26","v":0.20399999999999999},0,"COTAÇÃO"]
[null,null,null,null,null,"12311.01.09",8.02,0.1,10,6.0150000000000002E-2,0,{"$f":"BDI!$E$26","v":0.20399999999999999},0,"COTAÇÃO"]
[null,null,null,null,null,"12311.01.09",15.64,0.1,10,0.1173,0,{"$f":"BDI!$E$26","v":0.20399999999999999},0,"COTAÇÃO"]
[null,null,null,null,null,"12311.01.09",7.63,0.1,10,5.7224999999999998E-2,0,{"$f":"BDI!$E$26","v":0.20399999999999999},0,"COTAÇÃO"]
[null,null,null,null,null,"12311.01.09",21.48,0.1,10,0.16109999999999999,0,{"$f":"BDI!$E$26","v":0.20399999999999999},0,"COTAÇÃO"]
[null,null,null,null,null,"12311.01.09",7.87,0.1,10,5.9025000000000001E-2,0,{"$f":"BDI!$E$26","v":0.20399999999999999},0,"COTAÇÃO"]
[null,null,null,null,null,"12311.01.09",6.73,0.1,10,5.0475000000000006E-2,0,{"$f":"BDI!$E$26","v":0.20399999999999999},0,"COTAÇÃO"]
[null,null,null,null,null,"12311.01.09",15.35,0.1,10,0.11512499999999999,0,{"$f":"BDI!$E$26","v":0.20399999999999999},0,"COTAÇÃO"]
[null,null,null,null,null,"12311.01.09",12.86,0.1,10,9.6449999999999994E-2,0,{"$f":"BDI!$E$26","v":0.20399999999999999},0,"COTAÇÃO"]
[null,null,null,null,null,"12311.01.09",10.119999999999999,0.1,10,7.5899999999999995E-2,0,{"$f":"BDI!$E$26","v":0.20399999999999999},0,"COTAÇÃO"]
[null,null,null,null,null,"12311.01.09",61.31,0.1,10,0.45982500000000004,0,{"$f":"BDI!$E$26","v":0.20399999999999999},0,"COTAÇÃO"]
[null,null,null,null,null,"12311.01.09",40.409999999999997,0.1,10,0.30307499999999998,0,{"$f":"BDI!$E$26","v":0.20399999999999999},0,"COTAÇÃO"]
[null,null,null,null,null,"12311.01.09",120.53,0.1,10,0.90397500000000008,0,{"$f":"BDI!$E$26","v":0.20399999999999999},0,"COTAÇÃO"]
[null,null,null,null,null,"12311.01.09",31.48,0.1,10,0.2361,0,{"$f":"BDI!$E$26","v":0.20399999999999999},0,"COTAÇÃO"]
[null,null,null,null,null,"12311.01.09",191.93,0.1,10,1.4394750000000003,0,{"$f":"BDI!$E$26","v":0.20399999999999999},0,"COTAÇÃO"]
[null,null,null,null,null,"12311.01.09",92.78,0.1,10,0.69585000000000008,0,{"$f":"BDI!$E$26","v":0.20399999999999999},0,"COTAÇÃO"]
[null,null,null,null,null,"12311.01.09",36.01,0.1,10,0.27007500000000001,0,{"$f":"BDI!$E$26","v":0.20399999999999999},0,"COTAÇÃO"]
[null,null,null,null,null,"12311.01.09",16.579999999999998,0.1,10,0.12434999999999999,0,{"$f":"BDI!$E$26","v":0.20399999999999999},0,"COTAÇÃO"]
[null,null,null,null,null,"12311.01.09",57.93,0.1,10,0.434475,0,{"$f":"BDI!$E$26","v":0.20399999999999999},0,"COTAÇÃO"]
[null,null,null,null,null,"12311.01.09",47.81,0.1,10,0.35857500000000003,0,{"$f":"BDI!$E$26","v":0.20399999999999999},0,"COTAÇÃO"]
[null,null,null,null,null,"12311.01.09",31.18,0.1,10,0.23385,0,{"$f":"BDI!$E$26","v":0.20399999999999999},0,"COTAÇÃO"]
[null,null,null,null,null,"12311.01.09",23.95,0.1,10,0.17962500000000001,0,{"$f":"BDI!$E$26","v":0.20399999999999999},0,"COTAÇÃO"]
[null,null,null,null,null,"12311.01.09",35.04,0.1,10,0.26280000000000003,0,{"$f":"BDI!$E$26","v":0.20399999999999999},0,"COTAÇÃO"]
[null,null,null,null,null,"12311.01.09",200.31,0.1,10,1.5023249999999999,0,{"$f":"BDI!$E$26","v":0.20399999999999999},0,"COTAÇÃO"]
[null,null,null,null,null,"12311.01.09",79.59,0.1,10,0.59692500000000004,0,{"$f":"BDI!$E$26","v":0.20399999999999999},0,"COTAÇÃO"]
[null,null,null,null,null,"12311.01.09",227.75,0.1,10,1.7081249999999999,0,{"$f":"BDI!$E$26","v":0.20399999999999999},0,"COTAÇÃO"]
[null,null,null,null,null,"12311.01.09",127.59,0.1,10,0.95692500000000003,0,{"$f":"BDI!$E$26","v":0.20399999999999999},0,"COTAÇÃO"]
[]
[]
[null,null,"PAGAMENTO DA MANUTENÇÃO"]
[null,null,"ITEM","DESCRIÇÃO",null,null,null,"K (calculado)","MENSAL DEPR.","% MAN X DEP","MENSAL MAN.","BDI (%)","PREÇO TOTAL"]
[]
[null,null,null,null,null,null,null,{"$f":"H68","v":0.42411600000000005},{"$f":"SUM(M27:M55)","v":0},{"$f":"H61","v":0.42411600000000005},{"$f":"I61*H61","v":0},{"$f":"L27","v":0.20399999999999999},{"$f":"ROUND(K61*(1+L61),2)","v":0}]
[]
[null,null,null,null,"K1","K2","K3","K4"]
[null,null,null,null,0.85,1,0.8,1]
[null,null,null,null,"K5","K6","K7","K8"]
[null,null,null,null,1,0.6,0.5,1.1000000000000001]
[null,null,null,null,"K9","K10","K11","RESULTADO"]
[null,null,null,"* a descrição de cada coeficiente segue abaixo",1.5,0.9,1.4,{"$f":"E64*F64*G64*H64*E66*F66*G66*H66*E68*F68*G68","v":0.42411600000000005}]
[]
[]
[null,null,"MATERIAL DE CONSUMO ASSOCIADO"]
[null,null,"ITEM","DESCRIÇÃO",null,null,null,"QUANTID/ANO","UNIDADE","VALOR DE AQ.","MENSAL MAT","BDI (%)","PREÇO TOTAL"]
[]
[null,null,null,null,null,null,null,null,null,null,{"$f":"J74*H74/12","v":0},{"$f":"L61","v":0.20399999999999999},{"$f":"ROUND(K74*(1+L74),2)","v":0}]
[]
[]
[null,null,"MATERIAL DE CONSUMO ASSOCIADO"]
[null,null,"ITEM","DESCRIÇÃO",null,null,null,null,null,null,null,null,"PREÇO TOTAL"]
[]
[null,null,1,"Componente DEPRECIAÇÃO - POR POSTO",null,null,null,null,null,null,null,null,{"$f":"I61","v":0}]
[null,null,2,"Componente MANUTENÇÃO - POR POSTO",null,null,null,null,null,null,null,null,{"$f":"M61","v":0}]
[null,null,3,"Componente MATERIAL DE CONSUMO ASSOCIADO - POR POSTO",null,null,null,null,null,null,null,null,{"$f":"M74","v":0}]
[]
[null,null,null,null,null,null,null,null,null,null,null,"SOMATÓRIO TOTAL MENSAL - POR POSTO",{"$f":"SUM(M79:M83)","v":0},null,null,null,null,{"$f":"IF(SUM(Q$15:Q$22)>0,$M84,0)","v":0},null,{"$f":"IF(SUM(S$15:S$22)>0,$M84,0)","v":0},null,{"$f":"IF(SUM(U$15:U$22)>0,$M84,0)","v":0},null,{"$f":"IF(SUM(W$15:W$22)>0,$M84,0)","v":0},null,{"$f":"IF(SUM(Y$15:Y$22)>0,$M84,0)","v":0},null,{"$f":"IF(SUM(AA$15:AA$22)>0,$M84,0)","v":0},null,{"$f":"IF(SUM(AC$15:AC$22)>0,$M84,0)","v":0},null,{"$f":"IF(SUM(AE$15:AE$22)>0,$M84,0)","v":0},null,{"$f":"IF(SUM(AG$15:AG$22)>0,$M84,0)","v":0},null,{"$f":"IF(SUM(AI$15:AI$22)>0,$M84,0)","v":0},null,{"$f":"IF(SUM(AK$15:AK$22)>0,$M84,0)","v":0},null,{"$f":"IF(SUM(AM$15:AM$22)>0,$M84,0)","v":0},null,{"$f":"IF(SUM(AO$15:AO$22)>0,$M84,0)","v":0},null,{"$f":"IF(SUM(AQ$15:AQ$22)>0,$M84,0)","v":0},null,{"$f":"IF(SUM(AS$15:AS$22)>0,$M84,0)","v":0},null,{"$f":"IF(SUM(AU$15:AU$22)>0,$M84,0)","v":0},null,{"$f":"IF(SUM(AW$15:AW$22)>0,$M84,0)","v":0},null,{"$f":"IF(SUM(AY$15:AY$22)>0,$M84,0)","v":0},null,{"$f":"IF(SUM(BA$15:BA$22)>0,$M84,0)","v":0},null,{"$f":"IF(SUM(BC$15:BC$22)>0,$M84,0)","v":0},null,{"$f":"IF(SUM(BE$15:BE$22)>0,$M84,0)","v":0},null,{"$f":"IF(SUM(BG$15:BG$22)>0,$M84,0)","v":0},null,{"$f":"IF(SUM(BI$15:BI$22)>0,$M84,0)","v":0},null,{"$f":"IF(SUM(BK$15:BK$22)>0,$M84,0)","v":0},null,{"$f":"IF(SUM(BM$15:BM$22)>0,$M84,0)","v":0},null,{"$f":"IF(SUM(BO$15:BO$22)>0,$M84,0)","v":0},null,{"$f":"IF(SUM(BQ$15:BQ$22)>0,$M84,0)","v":0},null,{"$f":"IF(SUM(BS$15:BS$22)>0,$M84,0)","v":0},null,{"$f":"IF(SUM(BU$15:BU$22)>0,$M84,0)","v":0},null,{"$f":"IF(SUM(BW$15:BW$22)>0,$M84,0)","v":0},null,{"$f":"IF(SUM(BY$15:BY$22)>0,$M84,0)","v":0},null,{"$f":"IF(SUM(CA$15:CA$22)>0,$M84,0)","v":0},null,{"$f":"IF(SUM(CC$15:CC$22)>0,$M84,0)","v":0},null,{"$f":"IF(SUM(CE$15:CE$22)>0,$M84,0)","v":0},null,{"$f":"IF(SUM(CG$15:CG$22)>0,$M84,0)","v":0},null,{"$f":"IF(SUM(CI$15:CI$22)>0,$M84,0)","v":0},null,{"$f":"IF(SUM(CK$15:CK$22)>0,$M84,0)","v":0},null,{"$f":"IF(SUM(CM$15:CM$22)>0,$M84,0)","v":0},null,{"$f":"IF(SUM(CO$15:CO$22)>0,$M84,0)","v":0},null,{"$f":"IF(SUM(CQ$15:CQ$22)>0,$M84,0)","v":0},null,{"$f":"IF(SUM(CS$15:CS$22)>0,$M84,0)","v":0},null,{"$f":"IF(SUM(CU$15:CU$22)>0,$M84,0)","v":0},null,{"$f":"IF(SUM(CW$15:CW$22)>0,$M84,0)","v":0},null,{"$f":"IF(SUM(CY$15:CY$22)>0,$M84,0)","v":0},null,{"$f":"IF(SUM(DA$15:DA$22)>0,$M84,0)","v":0},null,{"$f":"IF(SUM(DC$15:DC$22)>0,$M84,0)","v":0},null,{"$f":"IF(SUM(DE$15:DE$22)>0,$M84,0)","v":0},null,{"$f":"IF(SUM(DG$15:DG$22)>0,$M84,0)","v":0},null,{"$f":"IF(SUM(DI$15:DI$22)>0,$M84,0)","v":0},null,{"$f":"IF(SUM(DK$15:DK$22)>0,$M84,0)","v":0},null,{"$f":"IF(SUM(DM$15:DM$22)>0,$M84,0)","v":0},null,{"$f":"IF(SUM(DO$15:DO$22)>0,$M84,0)","v":0},null,{"$f":"IF(SUM(DQ$15:DQ$22)>0,$M84,0)","v":0},null,{"$f":"IF(SUM(DS$15:DS$22)>0,$M84,0)","v":0},null,{"$f":"IF(SUM(DU$15:DU$22)>0,$M84,0)","v":0},null,{"$f":"IF(SUM(DW$15:DW$22)>0,$M84,0)","v":0},null,{"$f":"IF(SUM(DY$15:DY$22)>0,$M84,0)","v":0},null,{"$f":"IF(SUM(EA$15:EA$22)>0,$M84,0)","v":0},null,{"$f":"IF(SUM(EC$15:EC$22)>0,$M84,0)","v":0},null,{"$f":"IF(SUM(EE$15:EE$22)>0,$M84,0)","v":0}]
[null,null,null,null,null,null,null,null,null,null,null,"SOMATÓRIO TOTAL ANUAL - POR POSTO",{"$f":"M84*12","v":0}]
[]
[]
[null,null,"MATERIAL DE CONSUMO ASSOCIADO"]
[null,null,"MEMÓRIA DE CÁLCULO DO COEFICIENTE DE CORRELAÇÃO MANUTENÇÃO X DEPRECIAÇÃO (K)"]
[]
[null,null,"JUSTIFICATIVAS",null,"TIPO","K1",null,"Condições de Trab","K4",null,"Tempo Vida (anos)","K6",null,"Temperatura","K8"]
[null,null,null,null,"Guindaste",0.5,null,"Em espera",0.4,null,1,0.6,null,"Muito quente (> 40º C)",1.3]
[null,null,"K1","Considerado o valor médio de 0,85","Caminhão-comum",0.8,null,"Leves",0.8,null,2,0.7,null,"Quente (30º a 40º C)",1.1000000000000001]
[null,null,"K2","Considerado o operador médio","Fora-de-estrada",1,null,"Médias",1,null,3,0.8,null,"Médio (10º a 30º C)",1]
[null,null,"K3","Consideradas ferramentas de primeira qualidade","Carregadeira",1,null,"Pesadas",1.4,null,4,0.9,null,"Frio (< 10º C)",1.2]
[null,null,"K4","Há todo o tipo de trabalho, foi considerado o valor médio","Escavadeira",1.4,null,"Severas",2,null,5,1]
[null,null,"K5","Considerando manutenção normal","Motoescrêiper",1.1000000000000001,null,null,null,null,6,1,null,"Ritmo de Trabalho","K9"]
[null,null,"K6","Equipamentos novos","Trator de esteira",1.2,null,"Manutenção","K5",null,7,1,null,"Folgado",0.9]
[null,null,"K7","220h por mês, 252 dias por ano",null,null,null,"Excelente",0.6,null,8,1.2,null,"Médio ",1]
[null,null,"K8","Clima quente, acima de 30º C","Qualid do Operador","K2",null,"Boa",0.8,null,9,1.3,null,"Com pressa",1.5]
[null,null,"K9","Ritmo de trabalho usualmente com pressa","Excelente",0.8,null,"Média",1,null,10,1.4]
[null,null,"K10","Considerado o operador médio","Boa",0.9,null,"Ruim ",1.5,null,11,2,null,"Conh do Serviço","K10"]
[null,null,"K11","Foi considerada a opção de aluguel a terceiros, ainda que a simulação seja dos custos do contratado, contudo a execução dos serviços é em local de terceiros","Média",1,null,"Inexistente",3,null,15,2,null,"Grande ",0.8]
[null,null,null,null,"Ruim",1.2,null,null,null,null,null,null,null,"Médio     ",0.9]
[null,null,null,null,"Péssima",2,null,"Horas de Uso ","K7",6000,1,null,null,"Pouco ",1]
[null,null,null,null,null,null,null,1000,0.5,8000,1.3]
[null,null,null,null,"Qualidade do Equip","K3",null,2000,0.5,10000,1.6,null,null,"Tipo do Serviço","K11"]
[null,null,null,null,"De primeira",0.8,null,3000,0.6,12000,1.9,null,null,"Mina ou Pedreira",0.8]
[null,null,null,null,"Média",1,null,4000,0.7,15000,2.2999999999999998,null,null,"Construção Geral",1]
[null,null,null,null,"Ruim",1.5,null,5000,0.9,20000,3,null,null,"Aluguel a Terceiros",1.4]
[]
[null,null,null,null,"Fonte: "]
[null,null,null,null,"MATTOS, Aldo Dórea. Como preparar orçamentos de obras. São Paulo: Pini, 2006. 281 p., il"]